Workbook

Sheet bdd
B1: CRANE | C1: PMS | D1: VISCERAL | F1: CV | G1: BASSIN | H1: THORAX | I1: PMI | J1: AGE | K1: POSTE | L1: COMMOTION | M1: PRO OU AMMATEUR | N1: ANCIENNETE
B2: C0 | F2: D10 - L3 | G2: iliaque G | H2: K1 à droite | I2: Naviculaire G - tibia G - tête fibulaire D | J2: 26 | K2: ailier | L2: 1 sans perte de connaissance en 2019 | M2: Amateur | N2: 15 ans
B3: C0 - OM droite - SSB comprimée - Strain D - ATM à droite | C3: Gléno-humérale G | D3: Coupole G - Pilier G - IG - colon G - PE - Estomac | E3: =IF(COUNTIF(D3,"*ESTOMAC*")>0,1,"") -> 1 | F3: C1 - C3 - C4 -C7 - D3 - D4 - D7 - D9 - D10 - L1 - L3 | G3: Iliaque G - sacrum - coxo-fémorale G - psoas bilat - piriforme G | H3: K6 D et G - K3 G - K1 D - sternum | I3: Naviculaire G et D - Subtalaire D - talus D - tête fibulaire D
B4: estomac | C4: Gléno-humérale G | D4: BLEU | E4: =IF(COUNTIF(D4,"*ESTOMAC*")>0,1,"")
B5: bleu vert | C5: Gléno-humérale G | D5: Estomac | E5: =IF(COUNTIF(D5,"*ESTOMAC*")>0,1,"") -> 1
B6: bidule truc | C6: Gléno-humérale G | D6: BLEU | E6: =IF(COUNTIF(D6,"*ESTOMAC*")>0,1,"")
B7: estomac - bleu - vert | C7: truc | D7: TRUC BIDULE - ESTOMAC - bkey | E7: =IF(COUNTIF(D7,"*ESTOMAC*")>0,1,"") -> 1
B8: vert bleu | C8: bidule | D8: jambe - bras | E8: =IF(COUNTIF(D8,"*ESTOMAC*")>0,1,"")
B9: om droite | C9: bleu | D9: truc chose estomac | E9: =IF(COUNTIF(D9,"*ESTOMAC*")>0,1,"") -> 1
B10: ssb comprimée | C10: vert | D10: vert | E10: =IF(COUNTIF(D10,"*ESTOMAC*")>0,1,"")
E11: =IF(D11="","",IF(COUNTIF(bdd!D11,"Estomac"),0,1))
D12: =SUMPRODUCT((D1:D10="estomac")*(bdd!D1:D10=recap!A3)*1) -> 0

Sheet recap
B1: CRANE | C1: PMS | D1: VISCERAL | E1: CV | F1: BASSIN
A2: estomac | B2: {=SUMPRODUCT(ISNUMBER(SEARCH(CONCATENATE("*",$A2,"*"),bdd!B$2:B$10))*(1))} -> 2 | C2: {=SUMPRODUCT(ISNUMBER(SEARCH(CONCATENATE("*",$A2,"*"),bdd!C$2:C$10))*(1))} -> 0 | D2: {=SUMPRODUCT(ISNUMBER(SEARCH(CONCATENATE("*",$A2,"*"),bdd!D$2:D$10))*(1))} -> 4 | E2: {=SUMPRODUCT(ISNUMBER(SEARCH(CONCATENATE("*",$A2,"*"),bdd!F$2:F$10))*(1))} -> 0 | F2: {=SUMPRODUCT(ISNUMBER(SEARCH(CONCATENATE("*",$A2,"*"),bdd!G$2:G$10))*(1))} -> 0
A3: bleu | B3: {=SUMPRODUCT(ISNUMBER(SEARCH(CONCATENATE("*",$A3,"*"),bdd!B$2:B$10))*(1))} -> 3 | C3: {=SUMPRODUCT(ISNUMBER(SEARCH(CONCATENATE("*",$A3,"*"),bdd!C$2:C$10))*(1))} -> 1 | D3: {=SUMPRODUCT(ISNUMBER(SEARCH(CONCATENATE("*",$A3,"*"),bdd!D$2:D$10))*(1))} -> 2 | E3: {=SUMPRODUCT(ISNUMBER(SEARCH(CONCATENATE("*",$A3,"*"),bdd!F$2:F$10))*(1))} -> 0 | F3: {=SUMPRODUCT(ISNUMBER(SEARCH(CONCATENATE("*",$A3,"*"),bdd!G$2:G$10))*(1))} -> 0
A4: vert | B4: {=SUMPRODUCT(ISNUMBER(SEARCH(CONCATENATE("*",$A4,"*"),bdd!B$2:B$10))*(1))} -> 3 | C4: {=SUMPRODUCT(ISNUMBER(SEARCH(CONCATENATE("*",$A4,"*"),bdd!C$2:C$10))*(1))} -> 1 | D4: {=SUMPRODUCT(ISNUMBER(SEARCH(CONCATENATE("*",$A4,"*"),bdd!D$2:D$10))*(1))} -> 1 | E4: {=SUMPRODUCT(ISNUMBER(SEARCH(CONCATENATE("*",$A4,"*"),bdd!F$2:F$10))*(1))} -> 0 | F4: {=SUMPRODUCT(ISNUMBER(SEARCH(CONCATENATE("*",$A4,"*"),bdd!G$2:G$10))*(1))} -> 0
A5: chose | B5: {=SUMPRODUCT(ISNUMBER(SEARCH(CONCATENATE("*",$A5,"*"),bdd!B$2:B$10))*(1))} -> 0 | C5: {=SUMPRODUCT(ISNUMBER(SEARCH(CONCATENATE("*",$A5,"*"),bdd!C$2:C$10))*(1))} -> 0 | D5: {=SUMPRODUCT(ISNUMBER(SEARCH(CONCATENATE("*",$A5,"*"),bdd!D$2:D$10))*(1))} -> 1 | E5: {=SUMPRODUCT(ISNUMBER(SEARCH(CONCATENATE("*",$A5,"*"),bdd!F$2:F$10))*(1))} -> 0 | F5: {=SUMPRODUCT(ISNUMBER(SEARCH(CONCATENATE("*",$A5,"*"),bdd!G$2:G$10))*(1))} -> 0
A6: truc | B6: {=SUMPRODUCT(ISNUMBER(SEARCH(CONCATENATE("*",$A6,"*"),bdd!B$2:B$10))*(1))} -> 1 | C6: {=SUMPRODUCT(ISNUMBER(SEARCH(CONCATENATE("*",$A6,"*"),bdd!C$2:C$10))*(1))} -> 1 | D6: {=SUMPRODUCT(ISNUMBER(SEARCH(CONCATENATE("*",$A6,"*"),bdd!D$2:D$10))*(1))} -> 2 | E6: {=SUMPRODUCT(ISNUMBER(SEARCH(CONCATENATE("*",$A6,"*"),bdd!F$2:F$10))*(1))} -> 0 | F6: {=SUMPRODUCT(ISNUMBER(SEARCH(CONCATENATE("*",$A6,"*"),bdd!G$2:G$10))*(1))} -> 0
B13: =_xlfn.FORMULATEXT(B2) -> {=SOMMEPROD(ESTNUM(CHERCHE(CONCATENER("*";$A2;"*");bdd!B$2:B$10))*(1))}
B15: il faut faire CTRL+SHIFT+ENTER pour valider la fonction

Sheet Feuil3
