Workbook

Sheet Depart1
A1: 1
A2: 2
A3: 3
A4: 4
A5: 5
A6: 6
A7: 7
A8: 8
A9: 9
A10: 10

Sheet Depart2
A1: =Depart1!A1 -> 1
A2: =Depart1!A2 -> 2
A3: =Depart1!A3 -> 3
A4: =Depart1!A4 -> 4
A5: =Depart1!A5 -> 5
A6: =Depart1!A6 -> 6
A7: =Depart1!A7 -> 7
A8: =Depart1!A8 -> 8
A9: =Depart1!A9 -> 9
A10: =Depart1!A10 -> 10

Sheet Changement_Depart1
A1: 1
A2: 2
A3: 3
A4: 4
A5: 5
A6: 6
A7: 7
A8: 8
A9: 9
A11: 10

Sheet Résultat_Depart2
A1: =Changement_Depart1!A1 -> 1
A2: =Changement_Depart1!A2 -> 2
A3: =Changement_Depart1!A3 -> 3
A4: =Changement_Depart1!A4 -> 4
A5: =Changement_Depart1!A5 -> 5
A6: =Changement_Depart1!A6 -> 6
A7: =Changement_Depart1!A7 -> 7
A8: =Changement_Depart1!A8 -> 8
A9: =Changement_Depart1!A9 -> 9
A10: =Changement_Depart1!A11 -> 10

Sheet RésultatVoulu_Depart2
A1: =Changement_Depart1!A1 -> 1
A2: =Changement_Depart1!A2 -> 2
A3: =Changement_Depart1!A3 -> 3
A4: =Changement_Depart1!A4 -> 4
A5: =Changement_Depart1!A5 -> 5
A6: =Changement_Depart1!A6 -> 6
A7: =Changement_Depart1!A7 -> 7
A8: =Changement_Depart1!A8 -> 8
A9: =Changement_Depart1!A9 -> 9
A10: =Changement_Depart1!A10 -> 0
