Workbook

Sheet Introduction
A1: Auvergne Rhône Alpes | C1: Pays de la Loire
A2: DSCC 38 | C2: DSCC 44
A3: DSCC 42 | C3: DSCC 49
A4: DSCC 63 | C4: IDF Ouest
A5: DSCC 69 | C5: DSCC 78
A6: Bourgogne Franche-Comté | C6: DSCC 92
A7: DSCC 21 | C7: DSCC 95
A8: DSCC 25 | C8: Normandie
A9: Bretagne | C9: DSCC 14
A10: DSCC 35 | C10: DSCC 76
A11: DSCC 56 | C11: Nouvelle Aquitaine
A12: Centre Val de Loire | C12: DSCC 33
... A25: DSCC 91 | C25: DSCC 75
A26: DSCC 93
A27: DSCC 94

Sheet Auvergne Rhône Alpes
A1: N° | B1: Sujets de fiabilisation
C2: DSCC 38 | F2: DSCC 38 | I2: DSCC 38 | L2: DSCC 38 | O2: DSCC 38 | R2: DSCC 38 | U2: DSCC 38 | X2: DSCC 38 | AA2: DSCC 38 | AD2: DSCC 38 | AG2: DSCC 38 | AJ2: DSCC 38 | AN2: DSCC 42 | AQ2: DSCC 42 | AT2: DSCC 42 | AW2: DSCC 42 | AZ2: DSCC 42 | BC2: DSCC 42 | BF2: DSCC 42 | BI2: DSCC 42 | BL2: DSCC 42 | BO2: DSCC 42 | BR2: DSCC 42 | BU2: DSCC 42 | BX2: DSCC 42 | CA2: DSCC 42 | CE2: DSCC 63 | CH2: DSCC 63 | CK2: DSCC 63 | CN2: DSCC 63 | CQ2: DSCC 63 | CT2: DSCC 63 | CW2: DSCC 63 | CZ2: DSCC 63 | DC2: DSCC 63 | DF2: DSCC 63 | DI2: DSCC 63 | DL2: DSCC 63 | DP2: DSCC 69 | DS2: DSCC 69 | DV2: DSCC 69 | DY2: DSCC 69 | EB2: DSCC 69 | EE2: DSCC 69 | EH2: DSCC 69 | EK2: DSCC 69 | EN2: DSCC 69 | EQ2: DSCC 69 | ET2: DSCC 69 | EW2: DSCC 69 | EZ2: DSCC 69 | FC2: DSCC 69
C3: Suivi 1 | D3: 25/02 - Suivi 1 | E3: Indicateur | F3: Suivi 2 | G3: 19/03 - Suivi 2 | H3: Indicateur | I3: Suivi 3 | J3: 09/04 - Suivi 3 | K3: Indicateur | L3: Suivi 4 | M3: 03/05 - Suivi 4 | N3: Indicateur | O3: Suivi 5 | P3: 21/05 - Suivi 5 | Q3: Indicateur | R3: Suivi 6 | S3: 10/06 - Suivi 6 | T3: Indicateur | U3: Suivi 7 | V3: 25/06 - Suivi 7 | W3: Indicateur | X3: Suivi 8 | Y3: 16/07 - Suivi 8 | Z3: Indicateur | AA3: Suivi 9 | AB3: 06/08 - Suivi 9 | AC3: Indicateur | AD3: Suivi 10 | AE3: 29/08 - Suivi 10 | AF3: Indicateur | AG3: Suivi 11 | AH3: 17/09 - Suivi 11 | AI3: Indicateur | AJ3: Suivi 12 | AK3: 08/10 - Suivi 12 | AL3: Indicateur | AN3: Suivi 1 | AO3: 29/01 - Suivi 1 | AP3: Indicateur | AQ3: Suivi 2 | AR3: 19/02 - Suivi 2 | AS3: Indicateur | AT3: Suivi 3 | AU3: 12/03 - Suivi 3 | AV3: Indicateur | AW3: Suivi 4 | AX3: 02/04 - Suivi 4 | AY3: Indicateur | AZ3: Suivi 5 | BA3: 09/04 - Suivi 5 | BB3: Indicateur | BC3: Suivi 6 | BD3: 03/05 - Suivi 4 | BE3: Indicateur | BF3: Suivi 7 | BG3: 21/05 - Suivi 7 | BH3: Indicateur | BI3: Suivi 8 | BJ3: 10/06 - Suivi 8 | BK3: Indicateur | BL3: Suivi 9 | BM3: 25/06 - Suivi 9 | BN3: Indicateur | BO3: Suivi 10 | BP3: 16/07 - Suivi 10 | BQ3: Indicateur | BR3: Suivi 11 | BS3: 06/08 - Suivi 11 | BT3: Indicateur | BU3: Suivi 12 | BV3: 29/08 - Suivi 12 | BW3: Indicateur | BX3: Suivi 13 | BY3: 17/09 - Suivi 13 | BZ3: Indicateur | CA3: Suivi 14 | CB3: 08/10 - Suivi 14 | CC3: Indicateur | CE3: Suivi 1 | CF3: 25/02 - Suivi 1 | CG3: Indicateur | CH3: Suivi 2 | CI3: 19/03 - Suivi 2 | CJ3: Indicateur | CK3: Suivi 3 | CL3: 09/04 - Suivi 3 | CM3: Indicateur | CN3: Suivi 4 | CO3: 03/05 - Suivi 4 | CP3: Indicateur | CQ3: Suivi 5 | CR3: 21/05 - Suivi 5 | CS3: Indicateur | CT3: Suivi 6 | CU3: 10/06 - Suivi 6 | CV3: Indicateur | CW3: Suivi 7 | CX3: 25/06 - Suivi 7 | CY3: Indicateur | CZ3: Suivi 8 | DA3: 16/07 - Suivi 8 | DB3: Indicateur | DC3: Suivi 9 | DD3: 06/08 - Suivi 9 | DE3: Indicateur | DF3: Suivi 10 | DG3: 29/08 - Suivi 10 | DH3: Indicateur | DI3: Suivi 11 | DJ3: 17/09 - Suivi 11 | DK3: Indicateur | DL3: Suivi 12 | DM3: 08/10 - Suivi 12 | DN3: Indicateur | DP3: Suivi 1 | DQ3: 29/01 - Suivi 1 | DR3: Indicateur | DS3: Suivi 2 | DT3: 19/02 - Suivi 2 | DU3: Indicateur | DV3: Suivi 3 | DW3: 12/03 - Suivi 3 | DX3: Indicateur | DY3: Suivi 4 | DZ3: 02/04 - Suivi 4 | EA3: Indicateur | EB3: Suivi 5 | EC3: 09/04 - Suivi 5 | ED3: Indicateur | EE3: Suivi 6 | EF3: 03/05 - Suivi 4 | EG3: Indicateur | EH3: Suivi 7 | EI3: 21/05 - Suivi 7 | EJ3: Indicateur | EK3: Suivi 8 | EL3: 10/06 - Suivi 8 | EM3: Indicateur | EN3: Suivi 9 | EO3: 25/06 - Suivi 9 | EP3: Indicateur | EQ3: Suivi 10 | ER3: 16/07 - Suivi 10 | ES3: Indicateur | ET3: Suivi 11 | EU3: 06/08 - Suivi 11 | EV3: Indicateur | EW3: Suivi 12 | EX3: 29/08 - Suivi 12 | EY3: Indicateur | EZ3: Suivi 13 | FA3: 17/09 - Suivi 13 | FB3: Indicateur | FC3: Suivi 14 | FD3: 08/10 - Suivi 14 | FE3: Indicateur
A4: 1.1 | B4: Présence et/ou absence à tort (agents temps plein) | C4: 1254 | D4: =C4/C$19 -> 0.2846765 | E4: =D4*'Pondération des sujets'!$D3 -> 0.2846765 | F4: 1247 | G4: =F4/F$19 -> 0.28548535 | H4: =G4*'Pondération des sujets'!$D3 -> 0.28548535 | I4: 1260 | J4: =I4/I$19 -> 0.2907916 | K4: =J4*'Pondération des sujets'!$D3 -> 0.2907916 | L4: 1292 | M4: =L4/L$19 -> 0.29969845 | N4: =M4*'Pondération des sujets'!$D3 -> 0.29969845 | O4: 1371 | P4: =O4/O$19 -> 0.31772885 | Q4: =P4*'Pondération des sujets'!$D3 -> 0.31772885 | R4: 1276 | S4: =R4/R$19 -> 0.29571263 | T4: =S4*'Pondération des sujets'!$D3 -> 0.29571263 | U4: 1284 | V4: =U4/U$19 -> 0.29043203 | W4: =V4*'Pondération des sujets'!$D3 -> 0.29043203 | X4: 1264 | Y4: =X4/X$19 -> 0.28347163 | Z4: =Y4*'Pondération des sujets'!$D3 -> 0.28347163 | AA4: 1199 | AB4: =AA4/AA$19 -> 0.27010588 | AC4: =AB4*'Pondération des sujets'!$D3 -> 0.27010588 | AD4: 1112 | AE4: =AD4/AD$19 -> 0.24667258 | AF4: =AE4*'Pondération des sujets'!$D3 -> 0.24667258 | AG4: 1082 | AH4: =AG4/AG$19 -> 0.24759725 | AI4: =AH4*'Pondération des sujets'!$D3 -> 0.24759725 | AJ4: 1185 | AK4: =AJ4/AJ$19 -> 0.27430556 | AL4: =AK4*'Pondération des sujets'!$D3 -> 0.27430556 | AN4: 737 | AO4: =AN4/AN$19 -> 0.24339498 | AP4: =AO4*'Pondération des sujets'!$D3 -> 0.24339498 | AQ4: 744 | AR4: =AQ4/AQ$19 -> 0.24266145 | AS4: =AR4*'Pondération des sujets'!$D3 -> 0.24266145 | AT4: 575 | AU4: =AT4/AT$19 -> 0.18815445 | AV4: =AU4*'Pondération des sujets'!$D3 -> 0.18815445 | AW4: 579 | AX4: =AW4/AW$19 -> 0.18952537 | AY4: =AX4*'Pondération des sujets'!$D3 -> 0.18952537 | AZ4: 555 | BA4: =AZ4/AZ$19 -> 0.18119491 | BB4: =BA4*'Pondération des sujets'!$D3 -> 0.18119491 | BC4: 498 | BD4: =BC4/BC$19 -> 0.16381579 | BE4: =BD4*'Pondération des sujets'!$D3 -> 0.16381579 | BF4: 543 | BG4: =BF4/BF$19 -> 0.17879486 | BH4: =BG4*'Pondération des sujets'!$D3 -> 0.17879486 | BI4: 541 | BJ4: =BI4/BI$19 -> 0.17843008 | BK4: =BJ4*'Pondération des sujets'!$D3 -> 0.17843008 | BL4: 549 | BM4: =BL4/BL$19 -> 0.17790019 | BN4: =BM4*'Pondération des sujets'!$D3 -> 0.17790019 | BO4: 462 | BP4: =BO4/BO$19 -> 0.14784 | BQ4: =BP4*'Pondération des sujets'!$D3 -> 0.14784 | BR4: 427 | BS4: =BR4/BR$19 -> 0.13765313 | BT4: =BS4*'Pondération des sujets'!$D3 -> 0.13765313 | BU4: 430 | BV4: =BU4/BU$19 -> 0.13711735 | BW4: =BV4*'Pondération des sujets'!$D3 -> 0.13711735 | BX4: 500 | BY4: =BX4/BX$19 -> 0.16286645 | BZ4: =BY4*'Pondération des sujets'!$D3 -> 0.16286645 | CA4: 552 | CB4: =CA4/CA$19 -> 0.18351064 | CC4: =CB4*'Pondération des sujets'!$D3 -> 0.18351064 | CE4: 818 | CF4: =CE4/CE$19 -> 0.28452174 | CG4: =CF4*'Pondération des sujets'!$D3 -> 0.28452174 | CH4: 817 | CI4: =CH4/CH$19 -> 0.28397636 | CJ4: =CI4*'Pondération des sujets'!$D3 -> 0.28397636 | CK4: 827 | CL4: =CK4/CK$19 -> 0.28606019 | CM4: =CL4*'Pondération des sujets'!$D3 -> 0.28606019 | CN4: 778 | CO4: =CN4/CN$19 -> 0.26939058 | CP4: =CO4*'Pondération des sujets'!$D3 -> 0.26939058 | CQ4: 814 | CR4: =CQ4/CQ$19 -> 0.28392047 | CS4: =CR4*'Pondération des sujets'!$D3 -> 0.28392047 | CT4: 881 | CU4: =CT4/CT$19 -> 0.30654141 | CV4: =CU4*'Pondération des sujets'!$D3 -> 0.30654141 | CW4: 861 | CX4: =CW4/CW$19 -> 0.29355609 | CY4: =CX4*'Pondération des sujets'!$D3 -> 0.29355609 | CZ4: 835 | DA4: =CZ4/CZ$19 -> 0.28276329 | DB4: =DA4*'Pondération des sujets'!$D3 -> 0.28276329 | DC4: 864 | DD4: =DC4/DC$19 -> 0.29327902 | DE4: =DD4*'Pondération des sujets'!$D3 -> 0.29327902 | DF4: 812 | DG4: =DF4/DF$19 -> 0.27284946 | DH4: =DG4*'Pondération des sujets'!$D3 -> 0.27284946 | DI4: 811 | DJ4: =DI4/DI$19 -> 0.2813042 | DK4: =DJ4*'Pondération des sujets'!$D3 -> 0.2813042 | DL4: 905 | DM4: =DL4/DL$19 -> 0.32001414 | DN4: =DM4*'Pondération des sujets'!$D3 -> 0.32001414 | DP4: 552 | DQ4: =DP4/DP$19 -> 0.13855422 | DR4: =DQ4*'Pondération des sujets'!$D3 -> 0.13855422 | DS4: 624 | DT4: =DS4/DS$19 -> 0.15717884 | DU4: =DT4*'Pondération des sujets'!$D3 -> 0.15717884 | DV4: 579 | DW4: =DV4/DV$19 -> 0.14695431 | DX4: =DW4*'Pondération des sujets'!$D3 -> 0.14695431 | DY4: 611 | DZ4: =DY4/DY$19 -> 0.15626598 | EA4: =DZ4*'Pondération des sujets'!$D3 -> 0.15626598 | EB4: 617 | EC4: =EB4/EB$19 -> 0.15755873 | ED4: =EC4*'Pondération des sujets'!$D3 -> 0.15755873 | EE4: 562 | EF4: =EE4/EE$19 -> 0.14384438 | EG4: =EF4*'Pondération des sujets'!$D3 -> 0.14384438 | EH4: 578 | EI4: =EH4/EH$19 -> 0.14658889 | EJ4: =EI4*'Pondération des sujets'!$D3 -> 0.14658889 | EK4: 579 | EL4: =EK4/EK$19 -> 0.14766641 | EM4: =EL4*'Pondération des sujets'!$D3 -> 0.14766641 | EN4: 629 | EO4: =EN4/EN$19 -> 0.15744681 | EP4: =EO4*'Pondération des sujets'!$D3 -> 0.15744681 | EQ4: 575 | ER4: =EQ4/EQ$19 -> 0.14152104 | ES4: =ER4*'Pondération des sujets'!$D3 -> 0.14152104 | ET4: 561 | EU4: =ET4/ET$19 -> 0.13979566 | EV4: =EU4*'Pondération des sujets'!$D3 -> 0.13979566 | EW4: 523 | EX4: =EW4/EW$19 -> 0.1293274 | EY4: =EX4*'Pondération des sujets'!$D3 -> 0.1293274 | EZ4: 500 | FA4: =EZ4/EZ$19 -> 0.126968 | FB4: =FA4*'Pondération des sujets'!$D3 -> 0.126968 | FC4: 607 | FD4: =FC4/FC$19 -> 0.15544174 | FE4: =FD4*'Pondération des sujets'!$D3 -> 0.15544174
B5: XX Agents temps plein avec GAT et/ou GPT liées à une PA 79 | C5: 295 | D5: =C5/C$19 -> 0.066969353 | E5: =-D5*'Pondération des sujets'!$D$3 -> -0.066969353 | F5: 288 | G5: =F5/F$19 -> 0.065934066 | H5: =-G5*'Pondération des sujets'!$D$3 -> -0.065934066 | I5: 232 | J5: =I5/I$19 -> 0.05354258 | K5: =-J5*'Pondération des sujets'!$D$3 -> -0.05354258 | L5: 400 | M5: =L5/L$19 -> 0.092785897 | N5: =-M5*'Pondération des sujets'!$D$3 -> -0.092785897 | O5: 393 | P5: =O5/O$19 -> 0.091077636 | Q5: =-P5*'Pondération des sujets'!$D$3 -> -0.091077636 | R5: 348 | S5: =R5/R$19 -> 0.080648899 | T5: =-S5*'Pondération des sujets'!$D$3 -> -0.080648899 | U5: 337 | V5: =U5/U$19 -> 0.076227098 | W5: =-V5*'Pondération des sujets'!$D$3 -> -0.076227098 | X5: 372 | Y5: =X5/X$19 -> 0.083426777 | Z5: =-Y5*'Pondération des sujets'!$D$3 -> -0.083426777 | AA5: 362 | AB5: =AA5/AA$19 -> 0.081549899 | AC5: =-AB5*'Pondération des sujets'!$D$3 -> -0.081549899 | AD5: 330 | AE5: =AD5/AD$19 -> 0.073203194 | AF5: =-AE5*'Pondération des sujets'!$D$3 -> -0.073203194 | AG5: 314 | AH5: =AG5/AG$19 -> 0.071853547 | AI5: =-AH5*'Pondération des sujets'!$D$3 -> -0.071853547 | AJ5: 374 | AK5: =AJ5/AJ$19 -> 0.086574074 | AL5: =-AK5*'Pondération des sujets'!$D$3 -> -0.086574074 | AN5: 269 | AO5: =AN5/AN$19 -> 0.088837517 | AP5: =-AO5*'Pondération des sujets'!$D$3 -> -0.088837517 | AQ5: 310 | AR5: =AQ5/AQ$19 -> 0.10110894 | AS5: =-AR5*'Pondération des sujets'!$D$3 -> -0.10110894 | AT5: 273 | AU5: =AT5/AT$19 -> 0.089332461 | AV5: =-AU5*'Pondération des sujets'!$D$3 -> -0.089332461 | AW5: 307 | AX5: =AW5/AW$19 -> 0.100491 | AY5: =-AX5*'Pondération des sujets'!$D$3 -> -0.100491 | AZ5: 224 | BA5: =AZ5/AZ$19 -> 0.073130917 | BB5: =-BA5*'Pondération des sujets'!$D$3 -> -0.073130917 | BC5: 303 | BD5: =BC5/BC$19 -> 0.099671053 | BE5: =-BD5*'Pondération des sujets'!$D$3 -> -0.099671053 | BF5: 297 | BG5: =BF5/BF$19 -> 0.097793876 | BH5: =-BG5*'Pondération des sujets'!$D$3 -> -0.097793876 | BI5: 292 | BJ5: =BI5/BI$19 -> 0.096306069 | BK5: =-BJ5*'Pondération des sujets'!$D$3 -> -0.096306069 | BL5: 312 | BM5: =BL5/BL$19 -> 0.10110175 | BN5: =-BM5*'Pondération des sujets'!$D$3 -> -0.10110175 | BO5: 282 | BP5: =BO5/BO$19 -> 0.09024 | BQ5: =-BP5*'Pondération des sujets'!$D$3 -> -0.09024 | BR5: 271 | BS5: =BR5/BR$19 -> 0.087362992 | BT5: =-BS5*'Pondération des sujets'!$D$3 -> -0.087362992 | BU5: 272 | BV5: =BU5/BU$19 -> 0.086734694 | BW5: =-BV5*'Pondération des sujets'!$D$3 -> -0.086734694 | BX5: 309 | BY5: =BX5/BX$19 -> 0.10065147 | BZ5: =-BY5*'Pondération des sujets'!$D$3 -> -0.10065147 | CA5: 325 | CB5: =CA5/CA$19 -> 0.10804521 | CC5: =-CB5*'Pondération des sujets'!$D$3 -> -0.10804521 | CE5: 341 | CF5: =CE5/CE$19 -> 0.1186087 | CG5: =-CF5*'Pondération des sujets'!$D$3 -> -0.1186087 | CH5: 347 | CI5: =CH5/CH$19 -> 0.12061175 | CJ5: =-CI5*'Pondération des sujets'!$D$3 -> -0.12061175 | CK5: 264 | CL5: =CK5/CK$19 -> 0.091317883 | CM5: =-CL5*'Pondération des sujets'!$D$3 -> -0.091317883 | CN5: 388 | CO5: =CN5/CN$19 -> 0.13434903 | CP5: =-CO5*'Pondération des sujets'!$D$3 -> -0.13434903 | CQ5: 363 | CR5: =CQ5/CQ$19 -> 0.12661318 | CS5: =-CR5*'Pondération des sujets'!$D$3 -> -0.12661318 | CT5: 368 | CU5: =CT5/CT$19 -> 0.12804454 | CV5: =-CU5*'Pondération des sujets'!$D$3 -> -0.12804454 | CW5: 374 | CX5: =CW5/CW$19 -> 0.12751449 | CY5: =-CX5*'Pondération des sujets'!$D$3 -> -0.12751449 | CZ5: 356 | DA5: =CZ5/CZ$19 -> 0.12055537 | DB5: =-DA5*'Pondération des sujets'!$D$3 -> -0.12055537 | DC5: 349 | DD5: =DC5/DC$19 -> 0.11846572 | DE5: =-DD5*'Pondération des sujets'!$D$3 -> -0.11846572 | DF5: 352 | DG5: =DF5/DF$19 -> 0.11827957 | DH5: =-DG5*'Pondération des sujets'!$D$3 -> -0.11827957 | DI5: 302 | DJ5: =DI5/DI$19 -> 0.10475199 | DK5: =-DJ5*'Pondération des sujets'!$D$3 -> -0.10475199 | DL5: 358 | DM5: =DL5/DL$19 -> 0.12659123 | DN5: =-DM5*'Pondération des sujets'!$D$3 -> -0.12659123 | DP5: 87 | DQ5: =DP5/DP$19 -> 0.021837349 | DR5: =-DQ5*'Pondération des sujets'!$D$3 -> -0.021837349 | DS5: 106 | DT5: =DS5/DS$19 -> 0.026700252 | DU5: =-DT5*'Pondération des sujets'!$D$3 -> -0.026700252 | DV5: 162 | DW5: =DV5/DV$19 -> 0.041116751 | DX5: =-DW5*'Pondération des sujets'!$D$3 -> -0.041116751 | DY5: 203 | DZ5: =DY5/DY$19 -> 0.051918159 | EA5: =-DZ5*'Pondération des sujets'!$D$3 -> -0.051918159 | EB5: 186 | EC5: =EB5/EB$19 -> 0.047497446 | ED5: =-EC5*'Pondération des sujets'!$D$3 -> -0.047497446 | EE5: 263 | EF5: =EE5/EE$19 -> 0.067315076 | EG5: =-EF5*'Pondération des sujets'!$D$3 -> -0.067315076 | EH5: 208 | EI5: =EH5/EH$19 -> 0.052751712 | EJ5: =-EI5*'Pondération des sujets'!$D$3 -> -0.052751712 | EK5: 209 | EL5: =EK5/EK$19 -> 0.053302729 | EM5: =-EL5*'Pondération des sujets'!$D$3 -> -0.053302729 | EN5: 210 | EO5: =EN5/EN$19 -> 0.052565707 | EP5: =-EO5*'Pondération des sujets'!$D$3 -> -0.052565707 | EQ5: 220 | ER5: =EQ5/EQ$19 -> 0.054147182 | ES5: =-ER5*'Pondération des sujets'!$D$3 -> -0.054147182 | ET5: 195 | EU5: =ET5/ET$19 -> 0.048592076 | EV5: =-EU5*'Pondération des sujets'!$D$3 -> -0.048592076 | EW5: 190 | EX5: =EW5/EW$19 -> 0.046983185 | EY5: =-EX5*'Pondération des sujets'!$D$3 -> -0.046983185 | EZ5: 168 | FA5: =EZ5/EZ$19 -> 0.042661249 | FB5: =-FA5*'Pondération des sujets'!$D$3 -> -0.042661249 | FC5: 192 | FD5: =FC5/FC$19 -> 0.049167734 | FE5: =-FD5*'Pondération des sujets'!$D$3 -> -0.049167734
A6: 1.2 | B6: Présence et/ou absence à tort (agents temps partiel) | C6: 184 | D6: =C6/C$19 -> 0.041770715 | E6: =D6*'Pondération des sujets'!$D4 -> 0.041770715 | F6: 187 | G6: =F6/F$19 -> 0.042811355 | H6: =G6*'Pondération des sujets'!$D4 -> 0.042811355 | I6: 189 | J6: =I6/I$19 -> 0.04361874 | K6: =J6*'Pondération des sujets'!$D4 -> 0.04361874 | L6: 167 | M6: =L6/L$19 -> 0.038738112 | N6: =M6*'Pondération des sujets'!$D4 -> 0.038738112 | O6: 185 | P6: =O6/O$19 -> 0.042873696 | Q6: =P6*'Pondération des sujets'!$D4 -> 0.042873696 | R6: 164 | S6: =R6/R$19 -> 0.038006952 | T6: =S6*'Pondération des sujets'!$D4 -> 0.038006952 | U6: 167 | V6: =U6/U$19 -> 0.037774259 | W6: =V6*'Pondération des sujets'!$D4 -> 0.037774259 | X6: 158 | Y6: =X6/X$19 -> 0.035433954 | Z6: =Y6*'Pondération des sujets'!$D4 -> 0.035433954 | AA6: 140 | AB6: =AA6/AA$19 -> 0.031538635 | AC6: =AB6*'Pondération des sujets'!$D4 -> 0.031538635 | AD6: 133 | AE6: =AD6/AD$19 -> 0.029503106 | AF6: =AE6*'Pondération des sujets'!$D4 -> 0.029503106 | AG6: 153 | AH6: =AG6/AG$19 -> 0.035011442 | AI6: =AH6*'Pondération des sujets'!$D4 -> 0.035011442 | AJ6: 163 | AK6: =AJ6/AJ$19 -> 0.037731481 | AL6: =AK6*'Pondération des sujets'!$D4 -> 0.037731481 | AN6: 110 | AO6: =AN6/AN$19 -> 0.036327609 | AP6: =AO6*'Pondération des sujets'!$D4 -> 0.036327609 | AQ6: 107 | AR6: =AQ6/AQ$19 -> 0.034898891 | AS6: =AR6*'Pondération des sujets'!$D4 -> 0.034898891 | AT6: 76 | AU6: =AT6/AT$19 -> 0.02486911 | AV6: =AU6*'Pondération des sujets'!$D4 -> 0.02486911 | AW6: 71 | AX6: =AW6/AW$19 -> 0.023240589 | AY6: =AX6*'Pondération des sujets'!$D4 -> 0.023240589 | AZ6: 63 | BA6: =AZ6/AZ$19 -> 0.020568071 | BB6: =BA6*'Pondération des sujets'!$D4 -> 0.020568071 | BC6: 59 | BD6: =BC6/BC$19 -> 0.019407895 | BE6: =BD6*'Pondération des sujets'!$D4 -> 0.019407895 | BF6: 73 | BG6: =BF6/BF$19 -> 0.024036878 | BH6: =BG6*'Pondération des sujets'!$D4 -> 0.024036878 | BI6: 71 | BJ6: =BI6/BI$19 -> 0.023416887 | BK6: =BJ6*'Pondération des sujets'!$D4 -> 0.023416887 | BL6: 67 | BM6: =BL6/BL$19 -> 0.021710953 | BN6: =BM6*'Pondération des sujets'!$D4 -> 0.021710953 | BO6: 49 | BP6: =BO6/BO$19 -> 0.01568 | BQ6: =BP6*'Pondération des sujets'!$D4 -> 0.01568 | BR6: 44 | BS6: =BR6/BR$19 -> 0.014184397 | BT6: =BS6*'Pondération des sujets'!$D4 -> 0.014184397 | BU6: 48 | BV6: =BU6/BU$19 -> 0.015306122 | BW6: =BV6*'Pondération des sujets'!$D4 -> 0.015306122 | BX6: 50 | BY6: =BX6/BX$19 -> 0.016286645 | BZ6: =BY6*'Pondération des sujets'!$D4 -> 0.016286645 | CA6: 58 | CB6: =CA6/CA$19 -> 0.019281915 | CC6: =CB6*'Pondération des sujets'!$D4 -> 0.019281915 | CE6: 84 | CF6: =CE6/CE$19 -> 0.029217391 | CG6: =CF6*'Pondération des sujets'!$D4 -> 0.029217391 | CH6: 97 | CI6: =CH6/CH$19 -> 0.033715676 | CJ6: =CI6*'Pondération des sujets'!$D4 -> 0.033715676 | CK6: 97 | CL6: =CK6/CK$19 -> 0.033552404 | CM6: =CL6*'Pondération des sujets'!$D4 -> 0.033552404 | CN6: 92 | CO6: =CN6/CN$19 -> 0.031855956 | CP6: =CO6*'Pondération des sujets'!$D4 -> 0.031855956 | CQ6: 92 | CR6: =CQ6/CQ$19 -> 0.032089292 | CS6: =CR6*'Pondération des sujets'!$D4 -> 0.032089292 | CT6: 101 | CU6: =CT6/CT$19 -> 0.035142658 | CV6: =CU6*'Pondération des sujets'!$D4 -> 0.035142658 | CW6: 100 | CX6: =CW6/CW$19 -> 0.034094783 | CY6: =CX6*'Pondération des sujets'!$D4 -> 0.034094783 | CZ6: 90 | DA6: =CZ6/CZ$19 -> 0.030477481 | DB6: =DA6*'Pondération des sujets'!$D4 -> 0.030477481 | DC6: 95 | DD6: =DC6/DC$19 -> 0.032247115 | DE6: =DD6*'Pondération des sujets'!$D4 -> 0.032247115 | DF6: 75 | DG6: =DF6/DF$19 -> 0.025201613 | DH6: =DG6*'Pondération des sujets'!$D4 -> 0.025201613 | DI6: 78 | DJ6: =DI6/DI$19 -> 0.027055151 | DK6: =DJ6*'Pondération des sujets'!$D4 -> 0.027055151 | DL6: 73 | DM6: =DL6/DL$19 -> 0.025813296 | DN6: =DM6*'Pondération des sujets'!$D4 -> 0.025813296 | DP6: 97 | DQ6: =DP6/DP$19 -> 0.02434739 | DR6: =DQ6*'Pondération des sujets'!$D4 -> 0.02434739 | DS6: 106 | DT6: =DS6/DS$19 -> 0.026700252 | DU6: =DT6*'Pondération des sujets'!$D4 -> 0.026700252 | DV6: 97 | DW6: =DV6/DV$19 -> 0.024619289 | DX6: =DW6*'Pondération des sujets'!$D4 -> 0.024619289 | DY6: 94 | DZ6: =DY6/DY$19 -> 0.024040921 | EA6: =DZ6*'Pondération des sujets'!$D4 -> 0.024040921 | EB6: 113 | EC6: =EB6/EB$19 -> 0.028855975 | ED6: =EC6*'Pondération des sujets'!$D4 -> 0.028855975 | EE6: 91 | EF6: =EE6/EE$19 -> 0.023291528 | EG6: =EF6*'Pondération des sujets'!$D4 -> 0.023291528 | EH6: 96 | EI6: =EH6/EH$19 -> 0.024346944 | EJ6: =EI6*'Pondération des sujets'!$D4 -> 0.024346944 | EK6: 105 | EL6: =EK6/EK$19 -> 0.026778883 | EM6: =EL6*'Pondération des sujets'!$D4 -> 0.026778883 | EN6: 110 | EO6: =EN6/EN$19 -> 0.027534418 | EP6: =EO6*'Pondération des sujets'!$D4 -> 0.027534418 | EQ6: 90 | ER6: =EQ6/EQ$19 -> 0.02215112 | ES6: =ER6*'Pondération des sujets'!$D4 -> 0.02215112 | ET6: 86 | EU6: =ET6/ET$19 -> 0.021430351 | EV6: =EU6*'Pondération des sujets'!$D4 -> 0.021430351 | EW6: 76 | EX6: =EW6/EW$19 -> 0.018793274 | EY6: =EX6*'Pondération des sujets'!$D4 -> 0.018793274 | EZ6: 96 | FA6: =EZ6/EZ$19 -> 0.024377857 | FB6: =FA6*'Pondération des sujets'!$D4 -> 0.024377857 | FC6: 109 | FD6: =FC6/FC$19 -> 0.027912932 | FE6: =FD6*'Pondération des sujets'!$D4 -> 0.027912932
A7: 1.3 | B7: Présence et/ou absence à tort (agents quotité 0) | C7: 5 | D7: =C7/C19 -> 0.0011350738 | E7: =D7*'Pondération des sujets'!$D5 -> 0.0011350738 | F7: 14 | G7: =F7/F19 -> 0.0032051282 | H7: =G7*'Pondération des sujets'!$D5 -> 0.0032051282 | I7: 21 | J7: =I7/I19 -> 0.0048465267 | K7: =J7*'Pondération des sujets'!$D5 -> 0.0048465267 | L7: 34 | M7: =L7/L19 -> 0.0078868012 | N7: =M7*'Pondération des sujets'!$D5 -> 0.0078868012 | O7: 8 | P7: =O7/O19 -> 0.0018539977 | Q7: =P7*'Pondération des sujets'!$D5 -> 0.0018539977 | R7: 8 | S7: =R7/R19 -> 0.0018539977 | T7: =S7*'Pondération des sujets'!$D5 -> 0.0018539977 | U7: 7 | V7: =U7/U19 -> 0.0015833522 | W7: =V7*'Pondération des sujets'!$D5 -> 0.0015833522 | X7: 19 | Y7: =X7/X19 -> 0.0042610451 | Z7: =Y7*'Pondération des sujets'!$D5 -> 0.0042610451 | AA7: 33 | AB7: =AA7/AA19 -> 0.0074341068 | AC7: =AB7*'Pondération des sujets'!$D5 -> 0.0074341068 | AD7: 4 | AE7: =AD7/AD19 -> 0.00088731145 | AF7: =AE7*'Pondération des sujets'!$D5 -> 0.00088731145 | AG7: 16 | AH7: =AG7/AG19 -> 0.0036613272 | AI7: =AH7*'Pondération des sujets'!$D5 -> 0.0036613272 | AJ7: 43 | AK7: =AJ7/AJ19 -> 0.0099537037 | AL7: =AK7*'Pondération des sujets'!$D5 -> 0.0099537037 | AN7: 12 | AO7: =AN7/AN19 -> 0.0039630119 | AP7: =AO7*'Pondération des sujets'!$D5 -> 0.0039630119 | AQ7: 10 | AR7: =AQ7/AQ19 -> 0.0032615786 | AS7: =AR7*'Pondération des sujets'!$D5 -> 0.0032615786 | AT7: 4 | AU7: =AT7/AT19 -> 0.0013089005 | AV7: =AU7*'Pondération des sujets'!$D5 -> 0.0013089005 | AW7: 11 | AX7: =AW7/AW19 -> 0.0036006547 | AY7: =AX7*'Pondération des sujets'!$D5 -> 0.0036006547 | AZ7: 5 | BA7: =AZ7/AZ19 -> 0.0016323865 | BB7: =BA7*'Pondération des sujets'!$D5 -> 0.0016323865 | BC7: 12 | BD7: =BC7/BC19 -> 0.0039473684 | BE7: =BD7*'Pondération des sujets'!$D5 -> 0.0039473684 | BF7: 5 | BG7: =BF7/BF19 -> 0.0016463615 | BH7: =BG7*'Pondération des sujets'!$D5 -> 0.0016463615 | BI7: 0 | BJ7: =BI7/BI19 -> 0 | BK7: =BJ7*'Pondération des sujets'!$D5 -> 0 | BL7: 4 | BM7: =BL7/BL19 -> 0.0012961763 | BN7: =BM7*'Pondération des sujets'!$D5 -> 0.0012961763 | BO7: 4 | BP7: =BO7/BO19 -> 0.00128 | BQ7: =BP7*'Pondération des sujets'!$D5 -> 0.00128 | BR7: 11 | BS7: =BR7/BR19 -> 0.0035460993 | BT7: =BS7*'Pondération des sujets'!$D5 -> 0.0035460993 | BU7: 0 | BV7: =BU7/BU19 -> 0 | BW7: =BV7*'Pondération des sujets'!$D5 -> 0 | BX7: 6 | BY7: =BX7/BX19 -> 0.0019543974 | BZ7: =BY7*'Pondération des sujets'!$D5 -> 0.0019543974 | CA7: 12 | CB7: =CA7/CA19 -> 0.0039893617 | CC7: =CB7*'Pondération des sujets'!$D5 -> 0.0039893617 | CE7: 1 | CF7: =CE7/CE$19 -> 0.00034782609 | CG7: =CF7*'Pondération des sujets'!$D5 -> 0.00034782609 | CH7: 10 | CI7: =CH7/CH$19 -> 0.0034758429 | CJ7: =CI7*'Pondération des sujets'!$D5 -> 0.0034758429 | CK7: 9 | CL7: =CK7/CK$19 -> 0.0031131097 | CM7: =CL7*'Pondération des sujets'!$D5 -> 0.0031131097 | CN7: 23 | CO7: =CN7/CN$19 -> 0.0079639889 | CP7: =CO7*'Pondération des sujets'!$D5 -> 0.0079639889 | CQ7: 15 | CR7: =CQ7/CQ$19 -> 0.0052319498 | CS7: =CR7*'Pondération des sujets'!$D5 -> 0.0052319498 | CT7: 2 | CU7: =CT7/CT$19 -> 0.00069589422 | CV7: =CU7*'Pondération des sujets'!$D5 -> 0.00069589422 | CW7: 7 | CX7: =CW7/CW$19 -> 0.0023866348 | CY7: =CX7*'Pondération des sujets'!$D5 -> 0.0023866348 | CZ7: 12 | DA7: =CZ7/CZ$19 -> 0.0040636641 | DB7: =DA7*'Pondération des sujets'!$D5 -> 0.0040636641 | DC7: 20 | DD7: =DC7/DC$19 -> 0.0067888663 | DE7: =DD7*'Pondération des sujets'!$D5 -> 0.0067888663 | DF7: 2 | DG7: =DF7/DF$19 -> 0.00067204301 | DH7: =DG7*'Pondération des sujets'!$D5 -> 0.00067204301 | DI7: 13 | DJ7: =DI7/DI$19 -> 0.0045091918 | DK7: =DJ7*'Pondération des sujets'!$D5 -> 0.0045091918 | DL7: 26 | DM7: =DL7/DL$19 -> 0.0091937765 | DN7: =DM7*'Pondération des sujets'!$D5 -> 0.0091937765 | DP7: 5 | DQ7: =DP7/DP19 -> 0.0012550201 | DR7: =DQ7*'Pondération des sujets'!$D5 -> 0.0012550201 | DS7: 6 | DT7: =DS7/DS19 -> 0.001511335 | DU7: =DT7*'Pondération des sujets'!$D5 -> 0.001511335 | DV7: 7 | DW7: =DV7/DV19 -> 0.0017766497 | DX7: =DW7*'Pondération des sujets'!$D5 -> 0.0017766497 | DY7: 10 | DZ7: =DY7/DY19 -> 0.0025575448 | EA7: =DZ7*'Pondération des sujets'!$D5 -> 0.0025575448 | EB7: 7 | EC7: =EB7/EB19 -> 0.0017875383 | ED7: =EC7*'Pondération des sujets'!$D5 -> 0.0017875383 | EE7: 17 | EF7: =EE7/EE19 -> 0.0043511646 | EG7: =EF7*'Pondération des sujets'!$D5 -> 0.0043511646 | EH7: 9 | EI7: =EH7/EH19 -> 0.002282526 | EJ7: =EI7*'Pondération des sujets'!$D5 -> 0.002282526 | EK7: 0 | EL7: =EK7/EK19 -> 0 | EM7: =EL7*'Pondération des sujets'!$D5 -> 0 | EN7: 9 | EO7: =EN7/EN19 -> 0.002252816 | EP7: =EO7*'Pondération des sujets'!$D5 -> 0.002252816 | EQ7: 3 | ER7: =EQ7/EQ19 -> 0.00073837066 | ES7: =ER7*'Pondération des sujets'!$D5 -> 0.00073837066 | ET7: 20 | EU7: =ET7/ET19 -> 0.0049838026 | EV7: =EU7*'Pondération des sujets'!$D5 -> 0.0049838026 | EW7: 0 | EX7: =EW7/EW19 -> 0 | EY7: =EX7*'Pondération des sujets'!$D5 -> 0 | EZ7: 6 | FA7: =EZ7/EZ19 -> 0.001523616 | FB7: =FA7*'Pondération des sujets'!$D5 -> 0.001523616 | FC7: 12 | FD7: =FC7/FC19 -> 0.0030729834 | FE7: =FD7*'Pondération des sujets'!$D5 -> 0.0030729834
A8: 1.4 | B8: Présence et/ou absence à tort (journées entières) | C8: 284 | D8: =C8/C$19 -> 0.064472191 | E8: =D8*'Pondération des sujets'!$D6 -> 0.064472191 | F8: 408 | G8: =F8/F$19 -> 0.093406593 | H8: =G8*'Pondération des sujets'!$D6 -> 0.093406593 | I8: 501 | J8: =I8/I$19 -> 0.11562428 | K8: =J8*'Pondération des sujets'!$D6 -> 0.11562428 | L8: 346 | M8: =L8/L$19 -> 0.080259801 | N8: =M8*'Pondération des sujets'!$D6 -> 0.080259801 | O8: 368 | P8: =O8/O$19 -> 0.085283893 | Q8: =P8*'Pondération des sujets'!$D6 -> 0.085283893 | R8: 300 | S8: =R8/R$19 -> 0.069524913 | T8: =S8*'Pondération des sujets'!$D6 -> 0.069524913 | U8: 310 | V8: =U8/U$19 -> 0.070119882 | W8: =V8*'Pondération des sujets'!$D6 -> 0.070119882 | X8: 313 | Y8: =X8/X$19 -> 0.070195111 | Z8: =Y8*'Pondération des sujets'!$D6 -> 0.070195111 | AA8: 299 | AB8: =AA8/AA$19 -> 0.067357513 | AC8: =AB8*'Pondération des sujets'!$D6 -> 0.067357513 | AD8: 319 | AE8: =AD8/AD$19 -> 0.070763088 | AF8: =AE8*'Pondération des sujets'!$D6 -> 0.070763088 | AG8: 401 | AH8: =AG8/AG$19 -> 0.091762014 | AI8: =AH8*'Pondération des sujets'!$D6 -> 0.091762014 | AJ8: 413 | AK8: =AJ8/AJ$19 -> 0.095601852 | AL8: =AK8*'Pondération des sujets'!$D6 -> 0.095601852 | AN8: 173 | AO8: =AN8/AN$19 -> 0.057133421 | AP8: =AO8*'Pondération des sujets'!$D6 -> 0.057133421 | AQ8: 141 | AR8: =AQ8/AQ$19 -> 0.045988258 | AS8: =AR8*'Pondération des sujets'!$D6 -> 0.045988258 | AT8: 86 | AU8: =AT8/AT$19 -> 0.028141361 | AV8: =AU8*'Pondération des sujets'!$D6 -> 0.028141361 | AW8: 185 | AX8: =AW8/AW$19 -> 0.060556465 | AY8: =AX8*'Pondération des sujets'!$D6 -> 0.060556465 | AZ8: 268 | BA8: =AZ8/AZ$19 -> 0.087495919 | BB8: =BA8*'Pondération des sujets'!$D6 -> 0.087495919 | BC8: 117 | BD8: =BC8/BC$19 -> 0.038486842 | BE8: =BD8*'Pondération des sujets'!$D6 -> 0.038486842 | BF8: 146 | BG8: =BF8/BF$19 -> 0.048073757 | BH8: =BG8*'Pondération des sujets'!$D6 -> 0.048073757 | BI8: 127 | BJ8: =BI8/BI$19 -> 0.041886544 | BK8: =BJ8*'Pondération des sujets'!$D6 -> 0.041886544 | BL8: 130 | BM8: =BL8/BL$19 -> 0.042125729 | BN8: =BM8*'Pondération des sujets'!$D6 -> 0.042125729 | BO8: 129 | BP8: =BO8/BO$19 -> 0.04128 | BQ8: =BP8*'Pondération des sujets'!$D6 -> 0.04128 | BR8: 164 | BS8: =BR8/BR$19 -> 0.052869117 | BT8: =BS8*'Pondération des sujets'!$D6 -> 0.052869117 | BU8: 200 | BV8: =BU8/BU$19 -> 0.06377551 | BW8: =BV8*'Pondération des sujets'!$D6 -> 0.06377551 | BX8: 185 | BY8: =BX8/BX$19 -> 0.060260586 | BZ8: =BY8*'Pondération des sujets'!$D6 -> 0.060260586 | CA8: 154 | CB8: =CA8/CA$19 -> 0.051196809 | CC8: =CB8*'Pondération des sujets'!$D6 -> 0.051196809 | CE8: 118 | CF8: =CE8/CE$19 -> 0.041043478 | CG8: =CF8*'Pondération des sujets'!$D6 -> 0.041043478 | CH8: 200 | CI8: =CH8/CH$19 -> 0.069516858 | CJ8: =CI8*'Pondération des sujets'!$D6 -> 0.069516858 | CK8: 284 | CL8: =CK8/CK$19 -> 0.098235905 | CM8: =CL8*'Pondération des sujets'!$D6 -> 0.098235905 | CN8: 161 | CO8: =CN8/CN$19 -> 0.055747922 | CP8: =CO8*'Pondération des sujets'!$D6 -> 0.055747922 | CQ8: 182 | CR8: =CQ8/CQ$19 -> 0.063480991 | CS8: =CR8*'Pondération des sujets'!$D6 -> 0.063480991 | CT8: 193 | CU8: =CT8/CT$19 -> 0.067153793 | CV8: =CU8*'Pondération des sujets'!$D6 -> 0.067153793 | CW8: 191 | CX8: =CW8/CW$19 -> 0.065121036 | CY8: =CX8*'Pondération des sujets'!$D6 -> 0.065121036 | CZ8: 244 | DA8: =CZ8/CZ$19 -> 0.082627836 | DB8: =DA8*'Pondération des sujets'!$D6 -> 0.082627836 | DC8: 230 | DD8: =DC8/DC$19 -> 0.078071962 | DE8: =DD8*'Pondération des sujets'!$D6 -> 0.078071962 | DF8: 244 | DG8: =DF8/DF$19 -> 0.081989247 | DH8: =DG8*'Pondération des sujets'!$D6 -> 0.081989247 | DI8: 265 | DJ8: =DI8/DI$19 -> 0.091918141 | DK8: =DJ8*'Pondération des sujets'!$D6 -> 0.091918141 | DL8: 228 | DM8: =DL8/DL$19 -> 0.080622348 | DN8: =DM8*'Pondération des sujets'!$D6 -> 0.080622348 | DP8: 234 | DQ8: =DP8/DP$19 -> 0.05873494 | DR8: =DQ8*'Pondération des sujets'!$D6 -> 0.05873494 | DS8: 262 | DT8: =DS8/DS$19 -> 0.065994962 | DU8: =DT8*'Pondération des sujets'!$D6 -> 0.065994962 | DV8: 253 | DW8: =DV8/DV$19 -> 0.064213198 | DX8: =DW8*'Pondération des sujets'!$D6 -> 0.064213198 | DY8: 453 | DZ8: =DY8/DY$19 -> 0.11585678 | EA8: =DZ8*'Pondération des sujets'!$D6 -> 0.11585678 | EB8: 576 | EC8: =EB8/EB$19 -> 0.14708887 | ED8: =EC8*'Pondération des sujets'!$D6 -> 0.14708887 | EE8: 301 | EF8: =EE8/EE$19 -> 0.077041208 | EG8: =EF8*'Pondération des sujets'!$D6 -> 0.077041208 | EH8: 324 | EI8: =EH8/EH$19 -> 0.082170936 | EJ8: =EI8*'Pondération des sujets'!$D6 -> 0.082170936 | EK8: 320 | EL8: =EK8/EK$19 -> 0.081611834 | EM8: =EL8*'Pondération des sujets'!$D6 -> 0.081611834 | EN8: 355 | EO8: =EN8/EN$19 -> 0.088861076 | EP8: =EO8*'Pondération des sujets'!$D6 -> 0.088861076 | EQ8: 367 | ER8: =EQ8/EQ$19 -> 0.090327344 | ES8: =ER8*'Pondération des sujets'!$D6 -> 0.090327344 | ET8: 308 | EU8: =ET8/ET$19 -> 0.076750561 | EV8: =EU8*'Pondération des sujets'!$D6 -> 0.076750561 | EW8: 346 | EX8: =EW8/EW$19 -> 0.085558853 | EY8: =EX8*'Pondération des sujets'!$D6 -> 0.085558853 | EZ8: 421 | FA8: =EZ8/EZ$19 -> 0.10690706 | FB8: =FA8*'Pondération des sujets'!$D6 -> 0.10690706 | FC8: 367 | FD8: =FC8/FC$19 -> 0.093982074 | FE8: =FD8*'Pondération des sujets'!$D6 -> 0.093982074
A9: 3 | B9: Agents sans affectation théorique (pas de PA théorique) | C9: 351 | D9: =C9/C$19 -> 0.079682179 | E9: =D9*'Pondération des sujets'!$D8 -> 0.079682179 | F9: 160 | G9: =F9/F$19 -> 0.036630037 | H9: =G9*'Pondération des sujets'!$D8 -> 0.036630037 | I9: 106 | J9: =I9/I$19 -> 0.02446342 | K9: =J9*'Pondération des sujets'!$D8 -> 0.02446342 | L9: 398 | M9: =L9/L$19 -> 0.092321967 | N9: =M9*'Pondération des sujets'!$D8 -> 0.092321967 | O9: 363 | P9: =O9/O$19 -> 0.084125145 | Q9: =P9*'Pondération des sujets'!$D8 -> 0.084125145 | R9: 468 | S9: =R9/R$19 -> 0.10845886 | T9: =S9*'Pondération des sujets'!$D8 -> 0.10845886 | U9: 536 | V9: =U9/U$19 -> 0.12123954 | W9: =V9*'Pondération des sujets'!$D8 -> 0.12123954 | X9: 601 | Y9: =X9/X$19 -> 0.13478358 | Z9: =Y9*'Pondération des sujets'!$D8 -> 0.13478358 | AA9: 585 | AB9: =AA9/AA$19 -> 0.13178644 | AC9: =AB9*'Pondération des sujets'!$D8 -> 0.13178644 | AD9: 533 | AE9: =AD9/AD$19 -> 0.11823425 | AF9: =AE9*'Pondération des sujets'!$D8 -> 0.11823425 | AG9: 616 | AH9: =AG9/AG$19 -> 0.1409611 | AI9: =AH9*'Pondération des sujets'!$D8 -> 0.1409611 | AJ9: 553 | AK9: =AJ9/AJ$19 -> 0.12800926 | AL9: =AK9*'Pondération des sujets'!$D8 -> 0.12800926 | AN9: 409 | AO9: =AN9/AN$19 -> 0.13507266 | AP9: =AO9*'Pondération des sujets'!$D8 -> 0.13507266 | AQ9: 321 | AR9: =AQ9/AQ$19 -> 0.10469667 | AS9: =AR9*'Pondération des sujets'!$D8 -> 0.10469667 | AT9: 331 | AU9: =AT9/AT$19 -> 0.10831152 | AV9: =AU9*'Pondération des sujets'!$D8 -> 0.10831152 | AW9: 255 | AX9: =AW9/AW$19 -> 0.083469722 | AY9: =AX9*'Pondération des sujets'!$D8 -> 0.083469722 | AZ9: 70 | BA9: =AZ9/AZ$19 -> 0.022853412 | BB9: =BA9*'Pondération des sujets'!$D8 -> 0.022853412 | BC9: 355 | BD9: =BC9/BC$19 -> 0.11677632 | BE9: =BD9*'Pondération des sujets'!$D8 -> 0.11677632 | BF9: 318 | BG9: =BF9/BF$19 -> 0.10470859 | BH9: =BG9*'Pondération des sujets'!$D8 -> 0.10470859 | BI9: 332 | BJ9: =BI9/BI$19 -> 0.10949868 | BK9: =BJ9*'Pondération des sujets'!$D8 -> 0.10949868 | BL9: 343 | BM9: =BL9/BL$19 -> 0.11114712 | BN9: =BM9*'Pondération des sujets'!$D8 -> 0.11114712 | BO9: 391 | BP9: =BO9/BO$19 -> 0.12512 | BQ9: =BP9*'Pondération des sujets'!$D8 -> 0.12512 | BR9: 401 | BS9: =BR9/BR$19 -> 0.12927144 | BT9: =BS9*'Pondération des sujets'!$D8 -> 0.12927144 | BU9: 385 | BV9: =BU9/BU$19 -> 0.12276786 | BW9: =BV9*'Pondération des sujets'!$D8 -> 0.12276786 | BX9: 377 | BY9: =BX9/BX$19 -> 0.1228013 | BZ9: =BY9*'Pondération des sujets'!$D8 -> 0.1228013 | CA9: 346 | CB9: =CA9/CA$19 -> 0.1150266 | CC9: =CB9*'Pondération des sujets'!$D8 -> 0.1150266 | CE9: 252 | CF9: =CE9/CE$19 -> 0.087652174 | CG9: =CF9*'Pondération des sujets'!$D8 -> 0.087652174 | CH9: 213 | CI9: =CH9/CH$19 -> 0.074035454 | CJ9: =CI9*'Pondération des sujets'!$D8 -> 0.074035454 | CK9: 68 | CL9: =CK9/CK$19 -> 0.023521273 | CM9: =CL9*'Pondération des sujets'!$D8 -> 0.023521273 | CN9: 297 | CO9: =CN9/CN$19 -> 0.10283934 | CP9: =CO9*'Pondération des sujets'!$D8 -> 0.10283934 | CQ9: 279 | CR9: =CQ9/CQ$19 -> 0.097314266 | CS9: =CR9*'Pondération des sujets'!$D8 -> 0.097314266 | CT9: 370 | CU9: =CT9/CT$19 -> 0.12874043 | CV9: =CU9*'Pondération des sujets'!$D8 -> 0.12874043 | CW9: 390 | CX9: =CW9/CW$19 -> 0.13296966 | CY9: =CX9*'Pondération des sujets'!$D8 -> 0.13296966 | CZ9: 357 | DA9: =CZ9/CZ$19 -> 0.12089401 | DB9: =DA9*'Pondération des sujets'!$D8 -> 0.12089401 | DC9: 318 | DD9: =DC9/DC$19 -> 0.10794297 | DE9: =DD9*'Pondération des sujets'!$D8 -> 0.10794297 | DF9: 339 | DG9: =DF9/DF$19 -> 0.11391129 | DH9: =DG9*'Pondération des sujets'!$D8 -> 0.11391129 | DI9: 305 | DJ9: =DI9/DI$19 -> 0.10579258 | DK9: =DJ9*'Pondération des sujets'!$D8 -> 0.10579258 | DL9: 288 | DM9: =DL9/DL$19 -> 0.10183876 | DN9: =DM9*'Pondération des sujets'!$D8 -> 0.10183876 | DP9: 1445 | DQ9: =DP9/DP$19 -> 0.3627008 | DR9: =DQ9*'Pondération des sujets'!$D8 -> 0.3627008 | DS9: 889 | DT9: =DS9/DS$19 -> 0.22392947 | DU9: =DT9*'Pondération des sujets'!$D8 -> 0.22392947 | DV9: 348 | DW9: =DV9/DV$19 -> 0.088324873 | DX9: =DW9*'Pondération des sujets'!$D8 -> 0.088324873 | DY9: 153 | DZ9: =DY9/DY$19 -> 0.039130435 | EA9: =DZ9*'Pondération des sujets'!$D8 -> 0.039130435 | EB9: 22 | EC9: =EB9/EB$19 -> 0.0056179775 | ED9: =EC9*'Pondération des sujets'!$D8 -> 0.0056179775 | EE9: 324 | EF9: =EE9/EE$19 -> 0.082928078 | EG9: =EF9*'Pondération des sujets'!$D8 -> 0.082928078 | EH9: 378 | EI9: =EH9/EH$19 -> 0.095866092 | EJ9: =EI9*'Pondération des sujets'!$D8 -> 0.095866092 | EK9: 420 | EL9: =EK9/EK$19 -> 0.10711553 | EM9: =EL9*'Pondération des sujets'!$D8 -> 0.10711553 | EN9: 454 | EO9: =EN9/EN$19 -> 0.11364205 | EP9: =EO9*'Pondération des sujets'!$D8 -> 0.11364205 | EQ9: 491 | ER9: =EQ9/EQ$19 -> 0.12084667 | ES9: =ER9*'Pondération des sujets'!$D8 -> 0.12084667 | ET9: 444 | EU9: =ET9/ET$19 -> 0.11064042 | EV9: =EU9*'Pondération des sujets'!$D8 -> 0.11064042 | EW9: 441 | EX9: =EW9/EW$19 -> 0.10905045 | EY9: =EX9*'Pondération des sujets'!$D8 -> 0.10905045 | EZ9: 492 | FA9: =EZ9/EZ$19 -> 0.12493652 | FB9: =FA9*'Pondération des sujets'!$D8 -> 0.12493652 | FC9: 485 | FD9: =FC9/FC$19 -> 0.12419974 | FE9: =FD9*'Pondération des sujets'!$D8 -> 0.12419974
A10: 5 | B10: Agents affectés à une PA MRP ou Cycleur ayant une DHT moyenne hebdomadaire de 35h (sans description des repos de cycle dans la PA) | C10: 9 | D10: =C10/C$19 -> 0.0020431328 | E10: =D10*'Pondération des sujets'!$D10 -> 0.0020431328 | F10: 9 | G10: =F10/F$19 -> 0.0020604396 | H10: =G10*'Pondération des sujets'!$D10 -> 0.0020604396 | I10: 11 | J10: =I10/I$19 -> 0.0025386568 | K10: =J10*'Pondération des sujets'!$D10 -> 0.0025386568 | L10: 10 | M10: =L10/L$19 -> 0.0023196474 | N10: =M10*'Pondération des sujets'!$D10 -> 0.0023196474 | O10: 9 | P10: =O10/O$19 -> 0.0020857474 | Q10: =P10*'Pondération des sujets'!$D10 -> 0.0020857474 | R10: 7 | S10: =R10/R$19 -> 0.001622248 | T10: =S10*'Pondération des sujets'!$D10 -> 0.001622248 | U10: 11 | V10: =U10/U$19 -> 0.0024881249 | W10: =V10*'Pondération des sujets'!$D10 -> 0.0024881249 | X10: 9 | Y10: =X10/X$19 -> 0.0020183898 | Z10: =Y10*'Pondération des sujets'!$D10 -> 0.0020183898 | AA10: 9 | AB10: =AA10/AA$19 -> 0.0020274837 | AC10: =AB10*'Pondération des sujets'!$D10 -> 0.0020274837 | AD10: 8 | AE10: =AD10/AD$19 -> 0.0017746229 | AF10: =AE10*'Pondération des sujets'!$D10 -> 0.0017746229 | AG10: 6 | AH10: =AG10/AG$19 -> 0.0013729977 | AI10: =AH10*'Pondération des sujets'!$D10 -> 0.0013729977 | AJ10: 7 | AK10: =AJ10/AJ$19 -> 0.0016203704 | AL10: =AK10*'Pondération des sujets'!$D10 -> 0.0016203704 | AN10: 45 | AO10: =AN10/AN$19 -> 0.014861295 | AP10: =AO10*'Pondération des sujets'!$D10 -> 0.014861295 | AQ10: 39 | AR10: =AQ10/AQ$19 -> 0.012720157 | AS10: =AR10*'Pondération des sujets'!$D10 -> 0.012720157 | AT10: 29 | AU10: =AT10/AT$19 -> 0.0094895288 | AV10: =AU10*'Pondération des sujets'!$D10 -> 0.0094895288 | AW10: 27 | AX10: =AW10/AW$19 -> 0.0088379705 | AY10: =AX10*'Pondération des sujets'!$D10 -> 0.0088379705 | AZ10: 28 | BA10: =AZ10/AZ$19 -> 0.0091413647 | BB10: =BA10*'Pondération des sujets'!$D10 -> 0.0091413647 | BC10: 31 | BD10: =BC10/BC$19 -> 0.010197368 | BE10: =BD10*'Pondération des sujets'!$D10 -> 0.010197368 | BF10: 33 | BG10: =BF10/BF$19 -> 0.010865986 | BH10: =BG10*'Pondération des sujets'!$D10 -> 0.010865986 | BI10: 35 | BJ10: =BI10/BI$19 -> 0.011543536 | BK10: =BJ10*'Pondération des sujets'!$D10 -> 0.011543536 | BL10: 34 | BM10: =BL10/BL$19 -> 0.011017498 | BN10: =BM10*'Pondération des sujets'!$D10 -> 0.011017498 | BO10: 37 | BP10: =BO10/BO$19 -> 0.01184 | BQ10: =BP10*'Pondération des sujets'!$D10 -> 0.01184 | BR10: 35 | BS10: =BR10/BR$19 -> 0.011283043 | BT10: =BS10*'Pondération des sujets'!$D10 -> 0.011283043 | BU10: 32 | BV10: =BU10/BU$19 -> 0.010204082 | BW10: =BV10*'Pondération des sujets'!$D10 -> 0.010204082 | BX10: 27 | BY10: =BX10/BX$19 -> 0.0087947883 | BZ10: =BY10*'Pondération des sujets'!$D10 -> 0.0087947883 | CA10: 27 | CB10: =CA10/CA$19 -> 0.0089760638 | CC10: =CB10*'Pondération des sujets'!$D10 -> 0.0089760638 | CE10: 12 | CF10: =CE10/CE$19 -> 0.004173913 | CG10: =CF10*'Pondération des sujets'!$D10 -> 0.004173913 | CH10: 10 | CI10: =CH10/CH$19 -> 0.0034758429 | CJ10: =CI10*'Pondération des sujets'!$D10 -> 0.0034758429 | CK10: 7 | CL10: =CK10/CK$19 -> 0.0024213075 | CM10: =CL10*'Pondération des sujets'!$D10 -> 0.0024213075 | CN10: 7 | CO10: =CN10/CN$19 -> 0.0024238227 | CP10: =CO10*'Pondération des sujets'!$D10 -> 0.0024238227 | CQ10: 6 | CR10: =CQ10/CQ$19 -> 0.0020927799 | CS10: =CR10*'Pondération des sujets'!$D10 -> 0.0020927799 | CT10: 6 | CU10: =CT10/CT$19 -> 0.0020876827 | CV10: =CU10*'Pondération des sujets'!$D10 -> 0.0020876827 | CW10: 6 | CX10: =CW10/CW$19 -> 0.002045687 | CY10: =CX10*'Pondération des sujets'!$D10 -> 0.002045687 | CZ10: 6 | DA10: =CZ10/CZ$19 -> 0.002031832 | DB10: =DA10*'Pondération des sujets'!$D10 -> 0.002031832 | DC10: 6 | DD10: =DC10/DC$19 -> 0.0020366599 | DE10: =DD10*'Pondération des sujets'!$D10 -> 0.0020366599 | DF10: 5 | DG10: =DF10/DF$19 -> 0.0016801075 | DH10: =DG10*'Pondération des sujets'!$D10 -> 0.0016801075 | DI10: 5 | DJ10: =DI10/DI$19 -> 0.0017343045 | DK10: =DJ10*'Pondération des sujets'!$D10 -> 0.0017343045 | DL10: 5 | DM10: =DL10/DL$19 -> 0.0017680339 | DN10: =DM10*'Pondération des sujets'!$D10 -> 0.0017680339 | DP10: 43 | DQ10: =DP10/DP$19 -> 0.010793173 | DR10: =DQ10*'Pondération des sujets'!$D10 -> 0.010793173 | DS10: 43 | DT10: =DS10/DS$19 -> 0.010831234 | DU10: =DT10*'Pondération des sujets'!$D10 -> 0.010831234 | DV10: 38 | DW10: =DV10/DV$19 -> 0.0096446701 | DX10: =DW10*'Pondération des sujets'!$D10 -> 0.0096446701 | DY10: 42 | DZ10: =DY10/DY$19 -> 0.010741688 | EA10: =DZ10*'Pondération des sujets'!$D10 -> 0.010741688 | EB10: 43 | EC10: =EB10/EB$19 -> 0.010980592 | ED10: =EC10*'Pondération des sujets'!$D10 -> 0.010980592 | EE10: 38 | EF10: =EE10/EE$19 -> 0.0097261326 | EG10: =EF10*'Pondération des sujets'!$D10 -> 0.0097261326 | EH10: 39 | EI10: =EH10/EH$19 -> 0.009890946 | EJ10: =EI10*'Pondération des sujets'!$D10 -> 0.009890946 | EK10: 29 | EL10: =EK10/EK$19 -> 0.0073960724 | EM10: =EL10*'Pondération des sujets'!$D10 -> 0.0073960724 | EN10: 21 | EO10: =EN10/EN$19 -> 0.0052565707 | EP10: =EO10*'Pondération des sujets'!$D10 -> 0.0052565707 | EQ10: 20 | ER10: =EQ10/EQ$19 -> 0.0049224711 | ES10: =ER10*'Pondération des sujets'!$D10 -> 0.0049224711 | ET10: 10 | EU10: =ET10/ET$19 -> 0.0024919013 | EV10: =EU10*'Pondération des sujets'!$D10 -> 0.0024919013 | EW10: 10 | EX10: =EW10/EW$19 -> 0.0024727992 | EY10: =EX10*'Pondération des sujets'!$D10 -> 0.0024727992 | EZ10: 13 | FA10: =EZ10/EZ$19 -> 0.0033011681 | FB10: =FA10*'Pondération des sujets'!$D10 -> 0.0033011681 | FC10: 13 | FD10: =FC10/FC$19 -> 0.0033290653 | FE10: =FD10*'Pondération des sujets'!$D10 -> 0.0033290653
A11: 8bis.1 | B11: Agents sortis de BSCC mais toujours affectés à une PA théorique | C11: 6 | D11: =C11/C$19 -> 0.0013620885 | E11: =D11*'Pondération des sujets'!$D16 -> 0.0013620885 | F11: 4 | G11: =F11/F$19 -> 0.00091575092 | H11: =G11*'Pondération des sujets'!$D16 -> 0.00091575092 | I11: 1 | J11: =I11/I$19 -> 0.00023078698 | K11: =J11*'Pondération des sujets'!$D16 -> 0.00023078698 | L11: 1 | M11: =L11/L$19 -> 0.00023196474 | N11: =M11*'Pondération des sujets'!$D16 -> 0.00023196474 | O11: 1 | P11: =O11/O$19 -> 0.00023174971 | Q11: =P11*'Pondération des sujets'!$D16 -> 0.00023174971 | R11: 1 | S11: =R11/R$19 -> 0.00023174971 | T11: =S11*'Pondération des sujets'!$D16 -> 0.00023174971 | U11: 4 | V11: =U11/U$19 -> 0.00090477268 | W11: =V11*'Pondération des sujets'!$D16 -> 0.00090477268 | X11: 4 | Y11: =X11/X$19 -> 0.00089706212 | Z11: =Y11*'Pondération des sujets'!$D16 -> 0.00089706212 | AA11: 4 | AB11: =AA11/AA$19 -> 0.00090110385 | AC11: =AB11*'Pondération des sujets'!$D16 -> 0.00090110385 | AD11: 4 | AE11: =AD11/AD$19 -> 0.00088731145 | AF11: =AE11*'Pondération des sujets'!$D16 -> 0.00088731145 | AG11: 5 | AH11: =AG11/AG$19 -> 0.0011441648 | AI11: =AH11*'Pondération des sujets'!$D16 -> 0.0011441648 | AJ11: 6 | AK11: =AJ11/AJ$19 -> 0.0013888889 | AL11: =AK11*'Pondération des sujets'!$D16 -> 0.0013888889 | AN11: 1 | AO11: =AN11/AN$19 -> 0.00033025099 | AP11: =AO11*'Pondération des sujets'!$D16 -> 0.00033025099 | AQ11: 1 | AR11: =AQ11/AQ$19 -> 0.00032615786 | AS11: =AR11*'Pondération des sujets'!$D16 -> 0.00032615786 | AT11: 2 | AU11: =AT11/AT$19 -> 0.00065445026 | AV11: =AU11*'Pondération des sujets'!$D16 -> 0.00065445026 | AW11: 2 | AX11: =AW11/AW$19 -> 0.00065466448 | AY11: =AX11*'Pondération des sujets'!$D16 -> 0.00065466448 | AZ11: 1 | BA11: =AZ11/AZ$19 -> 0.00032647731 | BB11: =BA11*'Pondération des sujets'!$D16 -> 0.00032647731 | BC11: 1 | BD11: =BC11/BC$19 -> 0.00032894737 | BE11: =BD11*'Pondération des sujets'!$D16 -> 0.00032894737 | BF11: 0 | BG11: =BF11/BF$19 -> 0 | BH11: =BG11*'Pondération des sujets'!$D16 -> 0 | BI11: 0 | BJ11: =BI11/BI$19 -> 0 | BK11: =BJ11*'Pondération des sujets'!$D16 -> 0 | BL11: 0 | BM11: =BL11/BL$19 -> 0 | BN11: =BM11*'Pondération des sujets'!$D16 -> 0 | BO11: 0 | BP11: =BO11/BO$19 -> 0 | BQ11: =BP11*'Pondération des sujets'!$D16 -> 0 | BR11: 1 | BS11: =BR11/BR$19 -> 0.00032237266 | BT11: =BS11*'Pondération des sujets'!$D16 -> 0.00032237266 | BU11: 1 | BV11: =BU11/BU$19 -> 0.00031887755 | BW11: =BV11*'Pondération des sujets'!$D16 -> 0.00031887755 | BX11: 2 | BY11: =BX11/BX$19 -> 0.0006514658 | BZ11: =BY11*'Pondération des sujets'!$D16 -> 0.0006514658 | CA11: 2 | CB11: =CA11/CA$19 -> 0.00066489362 | CC11: =CB11*'Pondération des sujets'!$D16 -> 0.00066489362 | CE11: 0 | CF11: =CE11/CE$19 -> 0 | CG11: =CF11*'Pondération des sujets'!$D16 -> 0 | CH11: 0 | CI11: =CH11/CH$19 -> 0 | CJ11: =CI11*'Pondération des sujets'!$D16 -> 0 | CK11: 2 | CL11: =CK11/CK$19 -> 0.00069180214 | CM11: =CL11*'Pondération des sujets'!$D16 -> 0.00069180214 | CN11: 1 | CO11: =CN11/CN$19 -> 0.00034626039 | CP11: =CO11*'Pondération des sujets'!$D16 -> 0.00034626039 | CQ11: 1 | CR11: =CQ11/CQ$19 -> 0.00034879665 | CS11: =CR11*'Pondération des sujets'!$D16 -> 0.00034879665 | CT11: 0 | CU11: =CT11/CT$19 -> 0 | CV11: =CU11*'Pondération des sujets'!$D16 -> 0 | CW11: 0 | CX11: =CW11/CW$19 -> 0 | CY11: =CX11*'Pondération des sujets'!$D16 -> 0 | CZ11: 0 | DA11: =CZ11/CZ$19 -> 0 | DB11: =DA11*'Pondération des sujets'!$D16 -> 0 | DC11: 0 | DD11: =DC11/DC$19 -> 0 | DE11: =DD11*'Pondération des sujets'!$D16 -> 0 | DF11: 0 | DG11: =DF11/DF$19 -> 0 | DH11: =DG11*'Pondération des sujets'!$D16 -> 0 | DI11: 2 | DJ11: =DI11/DI$19 -> 0.00069372182 | DK11: =DJ11*'Pondération des sujets'!$D16 -> 0.00069372182 | DL11: 3 | DM11: =DL11/DL$19 -> 0.0010608204 | DN11: =DM11*'Pondération des sujets'!$D16 -> 0.0010608204 | DP11: 1 | DQ11: =DP11/DP$19 -> 0.00025100402 | DR11: =DQ11*'Pondération des sujets'!$D16 -> 0.00025100402 | DS11: 2 | DT11: =DS11/DS$19 -> 0.00050377834 | DU11: =DT11*'Pondération des sujets'!$D16 -> 0.00050377834 | DV11: 1 | DW11: =DV11/DV$19 -> 0.00025380711 | DX11: =DW11*'Pondération des sujets'!$D16 -> 0.00025380711 | DY11: 2 | DZ11: =DY11/DY$19 -> 0.00051150895 | EA11: =DZ11*'Pondération des sujets'!$D16 -> 0.00051150895 | EB11: 0 | EC11: =EB11/EB$19 -> 0 | ED11: =EC11*'Pondération des sujets'!$D16 -> 0 | EE11: 1 | EF11: =EE11/EE$19 -> 0.00025595086 | EG11: =EF11*'Pondération des sujets'!$D16 -> 0.00025595086 | EH11: 2 | EI11: =EH11/EH$19 -> 0.000507228 | EJ11: =EI11*'Pondération des sujets'!$D16 -> 0.000507228 | EK11: 2 | EL11: =EK11/EK$19 -> 0.00051007396 | EM11: =EL11*'Pondération des sujets'!$D16 -> 0.00051007396 | EN11: 2 | EO11: =EN11/EN$19 -> 0.00050062578 | EP11: =EO11*'Pondération des sujets'!$D16 -> 0.00050062578 | EQ11: 4 | ER11: =EQ11/EQ$19 -> 0.00098449422 | ES11: =ER11*'Pondération des sujets'!$D16 -> 0.00098449422 | ET11: 5 | EU11: =ET11/ET$19 -> 0.0012459507 | EV11: =EU11*'Pondération des sujets'!$D16 -> 0.0012459507 | EW11: 5 | EX11: =EW11/EW$19 -> 0.0012363996 | EY11: =EX11*'Pondération des sujets'!$D16 -> 0.0012363996 | EZ11: 7 | FA11: =EZ11/EZ$19 -> 0.0017775521 | FB11: =FA11*'Pondération des sujets'!$D16 -> 0.0017775521 | FC11: 8 | FD11: =FC11/FC$19 -> 0.0020486556 | FE11: =FD11*'Pondération des sujets'!$D16 -> 0.0020486556
A12: 8bis.2 | B12: Agents sortis de BSCC mais toujours affectés à une PA exceptionnelle | C12: 0 | D12: =C12/C$19 -> 0 | E12: =D12*'Pondération des sujets'!$D17 -> 0 | F12: 0 | G12: =F12/F$19 -> 0 | H12: =G12*'Pondération des sujets'!$D17 -> 0 | I12: 0 | J12: =I12/I$19 -> 0 | K12: =J12*'Pondération des sujets'!$D17 -> 0 | L12: 0 | M12: =L12/L$19 -> 0 | N12: =M12*'Pondération des sujets'!$D17 -> 0 | O12: 0 | P12: =O12/O$19 -> 0 | Q12: =P12*'Pondération des sujets'!$D17 -> 0 | R12: 0 | S12: =R12/R$19 -> 0 | T12: =S12*'Pondération des sujets'!$D17 -> 0 | U12: 0 | V12: =U12/U$19 -> 0 | W12: =V12*'Pondération des sujets'!$D17 -> 0 | X12: 0 | Y12: =X12/X$19 -> 0 | Z12: =Y12*'Pondération des sujets'!$D17 -> 0 | AA12: 0 | AB12: =AA12/AA$19 -> 0 | AC12: =AB12*'Pondération des sujets'!$D17 -> 0 | AD12: 0 | AE12: =AD12/AD$19 -> 0 | AF12: =AE12*'Pondération des sujets'!$D17 -> 0 | AG12: 0 | AH12: =AG12/AG$19 -> 0 | AI12: =AH12*'Pondération des sujets'!$D17 -> 0 | AJ12: 0 | AK12: =AJ12/AJ$19 -> 0 | AL12: =AK12*'Pondération des sujets'!$D17 -> 0 | AN12: 0 | AO12: =AN12/AN$19 -> 0 | AP12: =AO12*'Pondération des sujets'!$D17 -> 0 | AQ12: 1 | AR12: =AQ12/AQ$19 -> 0.00032615786 | AS12: =AR12*'Pondération des sujets'!$D17 -> 0.00032615786 | AT12: 1 | AU12: =AT12/AT$19 -> 0.00032722513 | AV12: =AU12*'Pondération des sujets'!$D17 -> 0.00032722513 | AW12: 1 | AX12: =AW12/AW$19 -> 0.00032733224 | AY12: =AX12*'Pondération des sujets'!$D17 -> 0.00032733224 | AZ12: 0 | BA12: =AZ12/AZ$19 -> 0 | BB12: =BA12*'Pondération des sujets'!$D17 -> 0 | BC12: 0 | BD12: =BC12/BC$19 -> 0 | BE12: =BD12*'Pondération des sujets'!$D17 -> 0 | BF12: 0 | BG12: =BF12/BF$19 -> 0 | BH12: =BG12*'Pondération des sujets'!$D17 -> 0 | BI12: 0 | BJ12: =BI12/BI$19 -> 0 | BK12: =BJ12*'Pondération des sujets'!$D17 -> 0 | BL12: 0 | BM12: =BL12/BL$19 -> 0 | BN12: =BM12*'Pondération des sujets'!$D17 -> 0 | BO12: 0 | BP12: =BO12/BO$19 -> 0 | BQ12: =BP12*'Pondération des sujets'!$D17 -> 0 | BR12: 0 | BS12: =BR12/BR$19 -> 0 | BT12: =BS12*'Pondération des sujets'!$D17 -> 0 | BU12: 0 | BV12: =BU12/BU$19 -> 0 | BW12: =BV12*'Pondération des sujets'!$D17 -> 0 | BX12: 0 | BY12: =BX12/BX$19 -> 0 | BZ12: =BY12*'Pondération des sujets'!$D17 -> 0 | CA12: 0 | CB12: =CA12/CA$19 -> 0 | CC12: =CB12*'Pondération des sujets'!$D17 -> 0 | CE12: 0 | CF12: =CE12/CE$19 -> 0 | CG12: =CF12*'Pondération des sujets'!$D17 -> 0 | CH12: 0 | CI12: =CH12/CH$19 -> 0 | CJ12: =CI12*'Pondération des sujets'!$D17 -> 0 | CK12: 0 | CL12: =CK12/CK$19 -> 0 | CM12: =CL12*'Pondération des sujets'!$D17 -> 0 | CN12: 0 | CO12: =CN12/CN$19 -> 0 | CP12: =CO12*'Pondération des sujets'!$D17 -> 0 | CQ12: 0 | CR12: =CQ12/CQ$19 -> 0 | CS12: =CR12*'Pondération des sujets'!$D17 -> 0 | CT12: 0 | CU12: =CT12/CT$19 -> 0 | CV12: =CU12*'Pondération des sujets'!$D17 -> 0 | CW12: 0 | CX12: =CW12/CW$19 -> 0 | CY12: =CX12*'Pondération des sujets'!$D17 -> 0 | CZ12: 0 | DA12: =CZ12/CZ$19 -> 0 | DB12: =DA12*'Pondération des sujets'!$D17 -> 0 | DC12: 0 | DD12: =DC12/DC$19 -> 0 | DE12: =DD12*'Pondération des sujets'!$D17 -> 0 | DF12: 0 | DG12: =DF12/DF$19 -> 0 | DH12: =DG12*'Pondération des sujets'!$D17 -> 0 | DI12: 1 | DJ12: =DI12/DI$19 -> 0.00034686091 | DK12: =DJ12*'Pondération des sujets'!$D17 -> 0.00034686091 | DL12: 1 | DM12: =DL12/DL$19 -> 0.00035360679 | DN12: =DM12*'Pondération des sujets'!$D17 -> 0.00035360679 | DP12: 0 | DQ12: =DP12/DP$19 -> 0 | DR12: =DQ12*'Pondération des sujets'!$D17 -> 0 | DS12: 0 | DT12: =DS12/DS$19 -> 0 | DU12: =DT12*'Pondération des sujets'!$D17 -> 0 | DV12: 0 | DW12: =DV12/DV$19 -> 0 | DX12: =DW12*'Pondération des sujets'!$D17 -> 0 | DY12: 0 | DZ12: =DY12/DY$19 -> 0 | EA12: =DZ12*'Pondération des sujets'!$D17 -> 0 | EB12: 0 | EC12: =EB12/EB$19 -> 0 | ED12: =EC12*'Pondération des sujets'!$D17 -> 0 | EE12: 0 | EF12: =EE12/EE$19 -> 0 | EG12: =EF12*'Pondération des sujets'!$D17 -> 0 | EH12: 0 | EI12: =EH12/EH$19 -> 0 | EJ12: =EI12*'Pondération des sujets'!$D17 -> 0 | EK12: 0 | EL12: =EK12/EK$19 -> 0 | EM12: =EL12*'Pondération des sujets'!$D17 -> 0 | EN12: 0 | EO12: =EN12/EN$19 -> 0 | EP12: =EO12*'Pondération des sujets'!$D17 -> 0 | EQ12: 0 | ER12: =EQ12/EQ$19 -> 0 | ES12: =ER12*'Pondération des sujets'!$D17 -> 0 | ET12: 0 | EU12: =ET12/ET$19 -> 0 | EV12: =EU12*'Pondération des sujets'!$D17 -> 0 | EW12: 0 | EX12: =EW12/EW$19 -> 0 | EY12: =EX12*'Pondération des sujets'!$D17 -> 0 | EZ12: 1 | FA12: =EZ12/EZ$19 -> 0.00025393601 | FB12: =FA12*'Pondération des sujets'!$D17 -> 0.00025393601 | FC12: 1 | FD12: =FC12/FC$19 -> 0.00025608195 | FE12: =FD12*'Pondération des sujets'!$D17 -> 0.00025608195
A13: 8ter | B13: PA avec plage horaire erronée | C13: 0 | D13: =C13/C$21 -> 0 | E13: =D13*'Pondération des sujets'!$D12 -> 0 | F13: 0 | G13: =F13/F$21 -> 0 | H13: =G13*'Pondération des sujets'!$D12 -> 0 | I13: 0 | J13: =I13/I$21 -> 0 | K13: =J13*'Pondération des sujets'!$D12 -> 0 | L13: 0 | M13: =L13/L$21 -> 0 | N13: =M13*'Pondération des sujets'!$D12 -> 0 | O13: 0 | P13: =O13/O$21 -> 0 | Q13: =P13*'Pondération des sujets'!$D12 -> 0 | R13: 0 | S13: =R13/R$21 -> 0 | T13: =S13*'Pondération des sujets'!$D12 -> 0 | U13: 0 | V13: =U13/U$21 -> 0 | W13: =V13*'Pondération des sujets'!$D12 -> 0 | X13: 0 | Y13: =X13/X$21 -> 0 | Z13: =Y13*'Pondération des sujets'!$D12 -> 0 | AA13: 0 | AB13: =AA13/AA$21 -> 0 | AC13: =AB13*'Pondération des sujets'!$D12 -> 0 | AD13: 0 | AE13: =AD13/AD$21 -> 0 | AF13: =AE13*'Pondération des sujets'!$D12 -> 0 | AG13: 0 | AH13: =AG13/AG$21 -> 0 | AI13: =AH13*'Pondération des sujets'!$D12 -> 0 | AJ13: 0 | AK13: =AJ13/AJ$21 -> 0 | AL13: =AK13*'Pondération des sujets'!$D12 -> 0 | AN13: 0 | AO13: =AN13/AN$21 -> 0 | AP13: =AO13*'Pondération des sujets'!$D12 -> 0 | AQ13: 0 | AR13: =AQ13/AQ$21 -> 0 | AS13: =AR13*'Pondération des sujets'!$D12 -> 0 | AT13: 0 | AU13: =AT13/AT$21 -> 0 | AV13: =AU13*'Pondération des sujets'!$D12 -> 0 | AW13: 0 | AX13: =AW13/AW$21 -> 0 | AY13: =AX13*'Pondération des sujets'!$D12 -> 0 | AZ13: 0 | BA13: =AZ13/AZ$21 -> 0 | BB13: =BA13*'Pondération des sujets'!$D12 -> 0 | BC13: 0 | BD13: =BC13/BC$21 -> 0 | BE13: =BD13*'Pondération des sujets'!$D12 -> 0 | BF13: 0 | BG13: =BF13/BF$21 -> 0 | BH13: =BG13*'Pondération des sujets'!$D12 -> 0 | BI13: 0 | BJ13: =BI13/BI$21 -> 0 | BK13: =BJ13*'Pondération des sujets'!$D12 -> 0 | BL13: 0 | BM13: =BL13/BL$21 -> 0 | BN13: =BM13*'Pondération des sujets'!$D12 -> 0 | BO13: 0 | BP13: =BO13/BO$21 -> 0 | BQ13: =BP13*'Pondération des sujets'!$D12 -> 0 | BR13: 0 | BS13: =BR13/BR$21 -> 0 | BT13: =BS13*'Pondération des sujets'!$D12 -> 0 | BU13: 0 | BV13: =BU13/BU$21 -> 0 | BW13: =BV13*'Pondération des sujets'!$D12 -> 0 | BX13: 0 | BY13: =BX13/BX$21 -> 0 | BZ13: =BY13*'Pondération des sujets'!$D12 -> 0 | CA13: 0 | CB13: =CA13/CA$21 -> 0 | CC13: =CB13*'Pondération des sujets'!$D12 -> 0 | CE13: 0 | CF13: =CE13/CE$21 -> 0 | CG13: =CF13*'Pondération des sujets'!$D12 -> 0 | CH13: 0 | CI13: =CH13/CH$21 -> 0 | CJ13: =CI13*'Pondération des sujets'!$D12 -> 0 | CK13: 0 | CL13: =CK13/CK$21 -> 0 | CM13: =CL13*'Pondération des sujets'!$D12 -> 0 | CN13: 0 | CO13: =CN13/CN$21 -> 0 | CP13: =CO13*'Pondération des sujets'!$D12 -> 0 | CQ13: 0 | CR13: =CQ13/CQ$21 -> 0 | CS13: =CR13*'Pondération des sujets'!$D12 -> 0 | CT13: 0 | CU13: =CT13/CT$21 -> 0 | CV13: =CU13*'Pondération des sujets'!$D12 -> 0 | CW13: 0 | CX13: =CW13/CW$21 -> 0 | CY13: =CX13*'Pondération des sujets'!$D12 -> 0 | CZ13: 0 | DA13: =CZ13/CZ$21 -> 0 | DB13: =DA13*'Pondération des sujets'!$D12 -> 0 | DC13: 0 | DD13: =DC13/DC$21 -> 0 | DE13: =DD13*'Pondération des sujets'!$D12 -> 0 | DF13: 0 | DG13: =DF13/DF$21 -> 0 | DH13: =DG13*'Pondération des sujets'!$D12 -> 0 | DI13: 0 | DJ13: =DI13/DI$21 -> 0 | DK13: =DJ13*'Pondération des sujets'!$D12 -> 0 | DL13: 0 | DM13: =DL13/DL$21 -> 0 | DN13: =DM13*'Pondération des sujets'!$D12 -> 0 | DP13: 0 | DQ13: =DP13/DP$21 -> 0 | DR13: =DQ13*'Pondération des sujets'!$D12 -> 0 | DS13: 0 | DT13: =DS13/DS$21 -> 0 | DU13: =DT13*'Pondération des sujets'!$D12 -> 0 | DV13: 0 | DW13: =DV13/DV$21 -> 0 | DX13: =DW13*'Pondération des sujets'!$D12 -> 0 | DY13: 0 | DZ13: =DY13/DY$21 -> 0 | EA13: =DZ13*'Pondération des sujets'!$D12 -> 0 | EB13: 0 | EC13: =EB13/EB$21 -> 0 | ED13: =EC13*'Pondération des sujets'!$D12 -> 0 | EE13: 0 | EF13: =EE13/EE$21 -> 0 | EG13: =EF13*'Pondération des sujets'!$D12 -> 0 | EH13: 0 | EI13: =EH13/EH$21 -> 0 | EJ13: =EI13*'Pondération des sujets'!$D12 -> 0 | EK13: 0 | EL13: =EK13/EK$21 -> 0 | EM13: =EL13*'Pondération des sujets'!$D12 -> 0 | EN13: 0 | EO13: =EN13/EN$21 -> 0 | EP13: =EO13*'Pondération des sujets'!$D12 -> 0 | EQ13: 0 | ER13: =EQ13/EQ$21 -> 0 | ES13: =ER13*'Pondération des sujets'!$D12 -> 0 | ET13: 0 | EU13: =ET13/ET$21 -> 0 | EV13: =EU13*'Pondération des sujets'!$D12 -> 0 | EW13: 0 | EX13: =EW13/EW$21 -> 0 | EY13: =EX13*'Pondération des sujets'!$D12 -> 0 | EZ13: 0 | FA13: =EZ13/EZ$21 -> 0 | FB13: =FA13*'Pondération des sujets'!$D12 -> 0 | FC13: 0 | FD13: =FC13/FC$21 -> 0 | FE13: =FD13*'Pondération des sujets'!$D12 -> 0
A14: CALCUL INDICATEUR | B14: XX TOTAL | E14: =SUM(E4:E12) -> 0.40817253 | H14: =SUM(H4:H12) -> 0.39858059 | K14: =SUM(K4:K12) -> 0.42857143 | N14: =SUM(N4:N12) -> 0.42867084 | Q14: =SUM(Q4:Q12) -> 0.44310545 | T14: =SUM(T4:T12) -> 0.43476246 | W14: =SUM(W4:W12) -> 0.44831486 | Z14: =SUM(Z4:Z12) -> 0.447634 | AC14: =SUM(AC4:AC12) -> 0.42960126 | AF14: =SUM(AF4:AF12) -> 0.39551908 | AI14: =SUM(AI4:AI12) -> 0.44965675 | AL14: =SUM(AL4:AL12) -> 0.46203704 | AP14: =SUM(AP4:AP12) -> 0.40224571 | AS14: =SUM(AS4:AS12) -> 0.34377038 | AV14: =SUM(AV4:AV12) -> 0.27192408 | AY14: =SUM(AY4:AY12) -> 0.26972177 | BB14: =SUM(BB4:BB12) -> 0.25008162 | BE14: =SUM(BE4:BE12) -> 0.25328947 | BH14: =SUM(BH4:BH12) -> 0.27033257 | BK14: =SUM(BK4:BK12) -> 0.26846966 | BN14: =SUM(BN4:BN12) -> 0.26409592 | BQ14: =SUM(BQ4:BQ12) -> 0.2528 | BT14: =SUM(BT4:BT12) -> 0.2617666 | BW14: =SUM(BW4:BW12) -> 0.2627551 | BZ14: =SUM(BZ4:BZ12) -> 0.27296417 | CC14: =SUM(CC4:CC12) -> 0.27460106 | CG14: =SUM(CG4:CG12) -> 0.32834783 | CJ14: =SUM(CJ4:CJ12) -> 0.34758429 | CM14: =SUM(CM4:CM12) -> 0.3562781 | CP14: =SUM(CP4:CP12) -> 0.33621884 | CS14: =SUM(CS4:CS12) -> 0.35786536 | CV14: =SUM(CV4:CV12) -> 0.41231733 | CY14: =SUM(CY4:CY12) -> 0.40265939 | DB14: =SUM(DB4:DB12) -> 0.40230274 | DE14: =SUM(DE4:DE12) -> 0.40190088 | DH14: =SUM(DH4:DH12) -> 0.37802419 | DK14: =SUM(DK4:DK12) -> 0.40860215 | DN14: =SUM(DN4:DN12) -> 0.41407355 | DR14: =SUM(DR4:DR12) -> 0.5747992 | DU14: =SUM(DU4:DU12) -> 0.45994962 | DX14: =SUM(DX4:DX12) -> 0.29467005 | EA14: =SUM(EA4:EA12) -> 0.2971867 | ED14: =SUM(ED4:ED12) -> 0.30439224 | EG14: =SUM(EG4:EG12) -> 0.27412337 | EJ14: =SUM(EJ4:EJ12) -> 0.30890185 | EM14: =SUM(EM4:EM12) -> 0.31777608 | EP14: =SUM(EP4:EP12) -> 0.34292866 | ES14: =SUM(ES4:ES12) -> 0.32734433 | EV14: =SUM(EV4:EV12) -> 0.30874657 | EY14: =SUM(EY4:EY12) -> 0.29945598 | FB14: =SUM(FB4:FB12) -> 0.34738446 | FE14: =SUM(FE4:FE12) -> 0.36107554
C16: DSCC 38 | F16: DSCC 38 | I16: DSCC 38 | L16: DSCC 38 | O16: DSCC 38 | R16: DSCC 38 | U16: DSCC 38 | X16: DSCC 38 | AA16: DSCC 38 | AD16: DSCC 38 | AG16: DSCC 38 | AJ16: DSCC 38 | AN16: DSCC 42 | AQ16: DSCC 42 | AT16: DSCC 42 | AW16: DSCC 42 | AZ16: DSCC 42 | BC16: DSCC 42 | BF16: DSCC 42 | BI16: DSCC 42 | BL16: DSCC 42 | BO16: DSCC 42 | BR16: DSCC 42 | BU16: DSCC 42 | BX16: DSCC 42 | CA16: DSCC 42 | CE16: DSCC 63 | CH16: DSCC 63 | CK16: DSCC 63 | CN16: DSCC 63 | CQ16: DSCC 63 | CT16: DSCC 63 | CW16: DSCC 63 | CZ16: DSCC 63 | DC16: DSCC 63 | DF16: DSCC 63 | DI16: DSCC 63 | DL16: DSCC 63 | DP16: DSCC 69 | DS16: DSCC 69 | DV16: DSCC 69 | DY16: DSCC 69 | EB16: DSCC 69 | EE16: DSCC 69 | EH16: DSCC 69 | EK16: DSCC 69 | EN16: DSCC 69 | EQ16: DSCC 69 | ET16: DSCC 69 | EW16: DSCC 69 | EZ16: DSCC 69 | FC16: DSCC 69
C17: Suivi 1 | F17: Suivi 2 | I17: Suivi 3 | L17: Suivi 4 | O17: Suivi 5 | R17: Suivi 6 | U17: Suivi 7 | X17: Suivi 8 | AA17: Suivi 9 | AD17: Suivi 10 | AG17: Suivi 11 | AJ17: Suivi 12 | AN17: Suivi 1 | AQ17: Suivi 2 | AT17: Suivi 3 | AW17: Suivi 4 | AZ17: Suivi 5 | BC17: Suivi 4 | BF17: Suivi 7 | BI17: Suivi 8 | BL17: Suivi 9 | BO17: Suivi 10 | BR17: Suivi 11 | BU17: Suivi 12 | BX17: Suivi 13 | CA17: Suivi 14 | CE17: Suivi 1 | CH17: Suivi 2 | CK17: Suivi 3 | CN17: Suivi 4 | CQ17: Suivi 5 | CT17: Suivi 6 | CW17: Suivi 7 | CZ17: Suivi 8 | DC17: Suivi 9 | DF17: Suivi 10 | DI17: Suivi 11 | DL17: Suivi 12 | DP17: Suivi 1 | DS17: Suivi 2 | DV17: Suivi 3 | DY17: Suivi 4 | EB17: Suivi 5 | EE17: Suivi 4 | EH17: Suivi 7 | EK17: Suivi 8 | EN17: Suivi 9 | EQ17: Suivi 10 | ET17: Suivi 11 | EW17: Suivi 12 | EZ17: Suivi 13 | FC17: Suivi 14
C18: Effectif total | F18: Effectif total | I18: Effectif total | L18: Effectif total | O18: Effectif total | R18: Effectif total | U18: Effectif total | X18: Effectif total | AA18: Effectif total | AD18: Effectif total | AG18: Effectif total | AJ18: Effectif total | AN18: Effectif total | AQ18: Effectif total | AT18: Effectif total | AW18: Effectif total | AZ18: Effectif total | BC18: Effectif total | BF18: Effectif total | BI18: Effectif total | BL18: Effectif total | BO18: Effectif total | BR18: Effectif total | BU18: Effectif total | BX18: Effectif total | CA18: Effectif total | CE18: Effectif total | CH18: Effectif total | CK18: Effectif total | CN18: Effectif total | CQ18: Effectif total | CT18: Effectif total | CW18: Effectif total | CZ18: Effectif total | DC18: Effectif total | DF18: Effectif total | DI18: Effectif total | DL18: Effectif total | DP18: Effectif total | DS18: Effectif total | DV18: Effectif total | DY18: Effectif total | EB18: Effectif total | EE18: Effectif total | EH18: Effectif total | EK18: Effectif total | EN18: Effectif total | EQ18: Effectif total | ET18: Effectif total | EW18: Effectif total | EZ18: Effectif total | FC18: Effectif total
C19: 4405 | F19: 4368 | I19: 4333 | L19: 4311 | O19: 4315 | R19: 4315 | U19: 4421 | X19: 4459 | AA19: 4439 | AD19: 4508 | AG19: 4370 | AJ19: 4320 | AN19: 3028 | AQ19: 3066 | AT19: 3056 | AW19: 3055 | AZ19: 3063 | BC19: 3040 | BF19: 3037 | BI19: 3032 | BL19: 3086 | BO19: 3125 | BR19: 3102 | BU19: 3136 | BX19: 3070 | CA19: 3008 | CE19: 2875 | CH19: 2877 | CK19: 2891 | CN19: 2888 | CQ19: 2867 | CT19: 2874 | CW19: 2933 | CZ19: 2953 | DC19: 2946 | DF19: 2976 | DI19: 2883 | DL19: 2828 | DP19: 3984 | DS19: 3970 | DV19: 3940 | DY19: 3910 | EB19: 3916 | EE19: 3907 | EH19: 3943 | EK19: 3921 | EN19: 3995 | EQ19: 4063 | ET19: 4013 | EW19: 4044 | EZ19: 3938 | FC19: 3905
C20: Nb total de PA | F20: Nb total de PA | I20: Nb total de PA | L20: Nb total de PA | O20: Nb total de PA | R20: Nb total de PA | U20: Nb total de PA | X20: Nb total de PA | AA20: Nb total de PA | AD20: Nb total de PA | AG20: Nb total de PA | AJ20: Nb total de PA | AN20: Nombre total de PA | AQ20: Nombre total de PA | AT20: Nombre total de PA | AW20: Nombre total de PA | AZ20: Nombre total de PA | BC20: Nombre total de PA | BF20: Nombre total de PA | BI20: Nombre total de PA | BL20: Nombre total de PA | BO20: Nombre total de PA | BR20: Nombre total de PA | BU20: Nombre total de PA | BX20: Nombre total de PA | CA20: Nombre total de PA | CE20: Nombre total de PA | CH20: Nombre total de PA | CK20: Nombre total de PA | CN20: Nombre total de PA | CQ20: Nombre total de PA | CT20: Nombre total de PA | CW20: Nombre total de PA | CZ20: Nombre total de PA | DC20: Nombre total de PA | DF20: Nombre total de PA | DI20: Nombre total de PA | DL20: Nombre total de PA | DP20: Nombre total de PA | DS20: Nombre total de PA | DV20: Nombre total de PA | DY20: Nombre total de PA | EB20: Nombre total de PA | EE20: Nombre total de PA | EH20: Nombre total de PA | EK20: Nombre total de PA | EN20: Nombre total de PA | EQ20: Nombre total de PA | ET20: Nombre total de PA | EW20: Nombre total de PA | EZ20: Nombre total de PA | FC20: Nombre total de PA
C21: 4771 | F21: 4684 | I21: 4673 | L21: 4616 | O21: 4615 | R21: 4694 | U21: 4897 | X21: 4753 | AA21: 4576 | AD21: 4609 | AG21: 4523 | AJ21: 4572 | AN21: 3811 | AQ21: 3803 | AT21: 3864 | AW21: 3885 | AZ21: 3888 | BC21: 3923 | BF21: 3948 | BI21: 3934 | BL21: 3902 | BO21: 3899 | BR21: 3916 | BU21: 3909 | BX21: 3934 | CA21: 3928 | CE21: 3705 | CH21: 3767 | CK21: 3770 | CN21: 3787 | CQ21: 3816 | CT21: 3674 | CW21: 3781 | CZ21: 3789 | DC21: 3733 | DF21: 3738 | DI21: 3755 | DL21: 3734 | DP21: 4339 | DS21: 4505 | DV21: 4672 | DY21: 4762 | EB21: 4788 | EE21: 4799 | EH21: 4810 | EK21: 4847 | EN21: 4817 | EQ21: 4791 | ET21: 4996 | EW21: 4972 | EZ21: 5147 | FC21: 4915

Sheet Bourgogne Franche-Comté
A1: N° | B1: Sujets de fiabilisation
C2: DSCC 21 | F2: DSCC 21 | I2: DSCC 21 | L2: DSCC 21 | O2: DSCC 21 | R2: DSCC 21 | U2: DSCC 21 | X2: DSCC 21 | AA2: DSCC 21 | AD2: DSCC 21 | AG2: DSCC 21 | AJ2: DSCC 21 | AN2: DSCC 25 | AQ2: DSCC 25 | AT2: DSCC 25 | AW2: DSCC 25 | AZ2: DSCC 25 | BC2: DSCC 25 | BF2: DSCC 25 | BI2: DSCC 25 | BL2: DSCC 25 | BO2: DSCC 25 | BR2: DSCC 25 | BU2: DSCC 25 | BX2: DSCC 25 | CA2: DSCC 25
C3: Suivi 1 | D3: 25/02 - Suivi 1 | E3: Indicateur | F3: Suivi 2 | G3: 19/03 - Suivi 2 | H3: Indicateur | I3: Suivi 3 | J3: 09/04 - Suivi 3 | K3: Indicateur | L3: Suivi 4 | M3: 03/05 - Suivi 4 | N3: Indicateur | O3: Suivi 5 | P3: 21/05 - Suivi 5 | Q3: Indicateur | R3: Suivi 6 | S3: 10/06 - Suivi 6 | T3: Indicateur | U3: Suivi 7 | V3: 25/06 - Suivi 7 | W3: Indicateur | X3: Suivi 8 | Y3: 16/07 - Suivi 8 | Z3: Indicateur | AA3: Suivi 9 | AB3: 06/08 - Suivi 9 | AC3: Indicateur | AD3: Suivi 10 | AE3: 29/08 - Suivi 10 | AF3: Indicateur | AG3: Suivi 11 | AH3: 17/09 - Suivi 11 | AI3: Indicateur | AJ3: Suivi 12 | AK3: 08/10 - Suivi 12 | AL3: Indicateur | AN3: Suivi 1 | AO3: 08/01 - Suivi 1 | AP3: Indicateur | AQ3: Suivi 2 | AR3: 05/02 - Suivi 2 | AS3: Indicateur | AT3: Suivi 3 | AU3: 25/02 - Suivi 3 | AV3: Indicateur | AW3: Suivi 4 | AX3: 19/03 - Suivi 4 | AY3: Indicateur | AZ3: Suivi 5 | BA3: 09/04 - Suivi 5 | BB3: Indicateur | BC3: Suivi 6 | BD3: 03/05 - Suivi 4 | BE3: Indicateur | BF3: Suivi 7 | BG3: 21/05 - Suivi 7 | BH3: Indicateur | BI3: Suivi 8 | BJ3: 10/06 - Suivi 8 | BK3: Indicateur | BL3: Suivi 9 | BM3: 25/06 - Suivi 9 | BN3: Indicateur | BO3: Suivi 10 | BP3: 16/07 - Suivi 10 | BQ3: Indicateur | BR3: Suivi 11 | BS3: 06/08 - Suivi 11 | BT3: Indicateur | BU3: Suivi 12 | BV3: 29/08 - Suivi 12 | BW3: Indicateur | BX3: Suivi 13 | BY3: 17/09 - Suivi 13 | BZ3: Indicateur | CA3: Suivi 14 | CB3: 08/10 - Suivi 14 | CC3: Indicateur
A4: 1.1 | B4: Présence et/ou absence à tort (agents temps plein) | C4: 600 | D4: =C4/C$19 -> 0.18248175 | E4: =D4*'Pondération des sujets'!$D3 -> 0.18248175 | F4: 569 | G4: =F4/F$19 -> 0.1755631 | H4: =G4*'Pondération des sujets'!$D3 -> 0.1755631 | I4: 637 | J4: =I4/I$19 -> 0.19666564 | K4: =J4*'Pondération des sujets'!$D3 -> 0.19666564 | L4: 539 | M4: =L4/L$19 -> 0.16806985 | N4: =M4*'Pondération des sujets'!$D3 -> 0.16806985 | O4: 581 | P4: =O4/O$19 -> 0.1806592 | Q4: =P4*'Pondération des sujets'!$D3 -> 0.1806592 | R4: 488 | S4: =R4/R$19 -> 0.15188298 | T4: =S4*'Pondération des sujets'!$D3 -> 0.15188298 | U4: 488 | V4: =U4/U$19 -> 0.14983113 | W4: =V4*'Pondération des sujets'!$D3 -> 0.14983113 | X4: 473 | Y4: =X4/X$19 -> 0.14420732 | Z4: =Y4*'Pondération des sujets'!$D3 -> 0.14420732 | AA4: 451 | AB4: =AA4/AA$19 -> 0.13796268 | AC4: =AB4*'Pondération des sujets'!$D3 -> 0.13796268 | AD4: 461 | AE4: =AD4/AD$19 -> 0.13973931 | AF4: =AE4*'Pondération des sujets'!$D3 -> 0.13973931 | AG4: 473 | AH4: =AG4/AG$19 -> 0.14630374 | AI4: =AH4*'Pondération des sujets'!$D3 -> 0.14630374 | AJ4: 530 | AK4: =AJ4/AJ$19 -> 0.16777461 | AL4: =AK4*'Pondération des sujets'!$D3 -> 0.16777461 | AN4: 498 | AO4: =AN4/AN$19 -> 0.23012939 | AP4: =AO4*'Pondération des sujets'!$D3 -> 0.23012939 | AQ4: 494 | AR4: =AQ4/AQ$19 -> 0.22723091 | AS4: =AR4*'Pondération des sujets'!$D3 -> 0.22723091 | AT4: 460 | AU4: =AT4/AT$19 -> 0.20937642 | AV4: =AU4*'Pondération des sujets'!$D3 -> 0.20937642 | AW4: 397 | AX4: =AW4/AW$19 -> 0.18211009 | AY4: =AX4*'Pondération des sujets'!$D3 -> 0.18211009 | AZ4: 365 | BA4: =AZ4/AZ$19 -> 0.16606005 | BB4: =BA4*'Pondération des sujets'!$D3 -> 0.16606005 | BC4: 378 | BD4: =BC4/BC$19 -> 0.17236662 | BE4: =BD4*'Pondération des sujets'!$D3 -> 0.17236662 | BF4: 392 | BG4: =BF4/BF$19 -> 0.17818182 | BH4: =BG4*'Pondération des sujets'!$D3 -> 0.17818182 | BI4: 347 | BJ4: =BI4/BI$19 -> 0.15665914 | BK4: =BJ4*'Pondération des sujets'!$D3 -> 0.15665914 | BL4: 459 | BM4: =BL4/BL$19 -> 0.20300752 | BN4: =BM4*'Pondération des sujets'!$D3 -> 0.20300752 | BO4: 398 | BP4: =BO4/BO$19 -> 0.17379913 | BQ4: =BP4*'Pondération des sujets'!$D3 -> 0.17379913 | BR4: 379 | BS4: =BR4/BR$19 -> 0.16822015 | BT4: =BS4*'Pondération des sujets'!$D3 -> 0.16822015 | BU4: 386 | BV4: =BU4/BU$19 -> 0.16724437 | BW4: =BV4*'Pondération des sujets'!$D3 -> 0.16724437 | BX4: 375 | BY4: =BX4/BX$19 -> 0.16748548 | BZ4: =BY4*'Pondération des sujets'!$D3 -> 0.16748548 | CA4: 404 | CB4: =CA4/CA$19 -> 0.18472794 | CC4: =CB4*'Pondération des sujets'!$D3 -> 0.18472794
B5: XX Agents temps plein avec GAT et/ou GPT liées à une PA 79 | C5: 200 | D5: =C5/C$19 -> 0.060827251 | E5: =-D5*'Pondération des sujets'!$D$3 -> -0.060827251 | F5: 153 | G5: =F5/F$19 -> 0.047207652 | H5: =-G5*'Pondération des sujets'!$D$3 -> -0.047207652 | I5: 153 | J5: =I5/I$19 -> 0.047236801 | K5: =-J5*'Pondération des sujets'!$D$3 -> -0.047236801 | L5: 215 | M5: =L5/L$19 -> 0.067040848 | N5: =-M5*'Pondération des sujets'!$D$3 -> -0.067040848 | O5: 197 | P5: =O5/O$19 -> 0.061256219 | Q5: =-P5*'Pondération des sujets'!$D$3 -> -0.061256219 | R5: 171 | S5: =R5/R$19 -> 0.053221289 | T5: =-S5*'Pondération des sujets'!$D$3 -> -0.053221289 | U5: 190 | V5: =U5/U$19 -> 0.058335892 | W5: =-V5*'Pondération des sujets'!$D$3 -> -0.058335892 | X5: 189 | Y5: =X5/X$19 -> 0.057621951 | Z5: =-Y5*'Pondération des sujets'!$D$3 -> -0.057621951 | AA5: 207 | AB5: =AA5/AA$19 -> 0.063322117 | AC5: =-AB5*'Pondération des sujets'!$D$3 -> -0.063322117 | AD5: 194 | AE5: =AD5/AD$19 -> 0.058805699 | AF5: =-AE5*'Pondération des sujets'!$D$3 -> -0.058805699 | AG5: 188 | AH5: =AG5/AG$19 -> 0.058150325 | AI5: =-AH5*'Pondération des sujets'!$D$3 -> -0.058150325 | AJ5: 167 | AK5: =AJ5/AJ$19 -> 0.052864831 | AL5: =-AK5*'Pondération des sujets'!$D$3 -> -0.052864831 | AN5: 130 | AO5: =AN5/AN$19 -> 0.060073937 | AP5: =-AO5*'Pondération des sujets'!$D$3 -> -0.060073937 | AQ5: 206 | AR5: =AQ5/AQ$19 -> 0.09475621 | AS5: =-AR5*'Pondération des sujets'!$D$3 -> -0.09475621 | AT5: 232 | AU5: =AT5/AT$19 -> 0.10559854 | AV5: =-AU5*'Pondération des sujets'!$D$3 -> -0.10559854 | AW5: 188 | AX5: =AW5/AW$19 -> 0.086238532 | AY5: =-AX5*'Pondération des sujets'!$D$3 -> -0.086238532 | AZ5: 121 | BA5: =AZ5/AZ$19 -> 0.055050045 | BB5: =-BA5*'Pondération des sujets'!$D$3 -> -0.055050045 | BC5: 218 | BD5: =BC5/BC$19 -> 0.099407205 | BE5: =-BD5*'Pondération des sujets'!$D$3 -> -0.099407205 | BF5: 197 | BG5: =BF5/BF$19 -> 0.089545455 | BH5: =-BG5*'Pondération des sujets'!$D$3 -> -0.089545455 | BI5: 142 | BJ5: =BI5/BI$19 -> 0.064108352 | BK5: =-BJ5*'Pondération des sujets'!$D$3 -> -0.064108352 | BL5: 179 | BM5: =BL5/BL$19 -> 0.07916851 | BN5: =-BM5*'Pondération des sujets'!$D$3 -> -0.07916851 | BO5: 177 | BP5: =BO5/BO$19 -> 0.077292576 | BQ5: =-BP5*'Pondération des sujets'!$D$3 -> -0.077292576 | BR5: 179 | BS5: =BR5/BR$19 -> 0.079449623 | BT5: =-BS5*'Pondération des sujets'!$D$3 -> -0.079449623 | BU5: 175 | BV5: =BU5/BU$19 -> 0.075823224 | BW5: =-BV5*'Pondération des sujets'!$D$3 -> -0.075823224 | BX5: 176 | BY5: =BX5/BX$19 -> 0.078606521 | BZ5: =-BY5*'Pondération des sujets'!$D$3 -> -0.078606521 | CA5: 173 | CB5: =CA5/CA$19 -> 0.079103795 | CC5: =-CB5*'Pondération des sujets'!$D$3 -> -0.079103795
A6: 1.2 | B6: Présence et/ou absence à tort (agents temps partiel) | C6: 65 | D6: =C6/C$19 -> 0.019768856 | E6: =D6*'Pondération des sujets'!$D4 -> 0.019768856 | F6: 61 | G6: =F6/F$19 -> 0.018821351 | H6: =G6*'Pondération des sujets'!$D4 -> 0.018821351 | I6: 72 | J6: =I6/I$19 -> 0.022229083 | K6: =J6*'Pondération des sujets'!$D4 -> 0.022229083 | L6: 56 | M6: =L6/L$19 -> 0.017461802 | N6: =M6*'Pondération des sujets'!$D4 -> 0.017461802 | O6: 70 | P6: =O6/O$19 -> 0.021766169 | Q6: =P6*'Pondération des sujets'!$D4 -> 0.021766169 | R6: 64 | S6: =R6/R$19 -> 0.019919079 | T6: =S6*'Pondération des sujets'!$D4 -> 0.019919079 | U6: 56 | V6: =U6/U$19 -> 0.017193737 | W6: =V6*'Pondération des sujets'!$D4 -> 0.017193737 | X6: 51 | Y6: =X6/X$19 -> 0.01554878 | Z6: =Y6*'Pondération des sujets'!$D4 -> 0.01554878 | AA6: 46 | AB6: =AA6/AA$19 -> 0.014071582 | AC6: =AB6*'Pondération des sujets'!$D4 -> 0.014071582 | AD6: 47 | AE6: =AD6/AD$19 -> 0.014246741 | AF6: =AE6*'Pondération des sujets'!$D4 -> 0.014246741 | AG6: 44 | AH6: =AG6/AG$19 -> 0.01360965 | AI6: =AH6*'Pondération des sujets'!$D4 -> 0.01360965 | AJ6: 44 | AK6: =AJ6/AJ$19 -> 0.013928458 | AL6: =AK6*'Pondération des sujets'!$D4 -> 0.013928458 | AN6: 72 | AO6: =AN6/AN$19 -> 0.033271719 | AP6: =AO6*'Pondération des sujets'!$D4 -> 0.033271719 | AQ6: 69 | AR6: =AQ6/AQ$19 -> 0.03173873 | AS6: =AR6*'Pondération des sujets'!$D4 -> 0.03173873 | AT6: 55 | AU6: =AT6/AT$19 -> 0.025034137 | AV6: =AU6*'Pondération des sujets'!$D4 -> 0.025034137 | AW6: 57 | AX6: =AW6/AW$19 -> 0.026146789 | AY6: =AX6*'Pondération des sujets'!$D4 -> 0.026146789 | AZ6: 60 | BA6: =AZ6/AZ$19 -> 0.027297543 | BB6: =BA6*'Pondération des sujets'!$D4 -> 0.027297543 | BC6: 52 | BD6: =BC6/BC$19 -> 0.02371181 | BE6: =BD6*'Pondération des sujets'!$D4 -> 0.02371181 | BF6: 65 | BG6: =BF6/BF$19 -> 0.029545455 | BH6: =BG6*'Pondération des sujets'!$D4 -> 0.029545455 | BI6: 59 | BJ6: =BI6/BI$19 -> 0.026636569 | BK6: =BJ6*'Pondération des sujets'!$D4 -> 0.026636569 | BL6: 72 | BM6: =BL6/BL$19 -> 0.031844317 | BN6: =BM6*'Pondération des sujets'!$D4 -> 0.031844317 | BO6: 54 | BP6: =BO6/BO$19 -> 0.023580786 | BQ6: =BP6*'Pondération des sujets'!$D4 -> 0.023580786 | BR6: 56 | BS6: =BR6/BR$19 -> 0.024855748 | BT6: =BS6*'Pondération des sujets'!$D4 -> 0.024855748 | BU6: 47 | BV6: =BU6/BU$19 -> 0.020363951 | BW6: =BV6*'Pondération des sujets'!$D4 -> 0.020363951 | BX6: 55 | BY6: =BX6/BX$19 -> 0.024564538 | BZ6: =BY6*'Pondération des sujets'!$D4 -> 0.024564538 | CA6: 60 | CB6: =CA6/CA$19 -> 0.027434842 | CC6: =CB6*'Pondération des sujets'!$D4 -> 0.027434842
A7: 1.3 | B7: Présence et/ou absence à tort (agents quotité 0) | C7: 0 | D7: =C7/C19 -> 0 | E7: =D7*'Pondération des sujets'!$D5 -> 0 | F7: 7 | G7: =F7/F19 -> 0.0021598272 | H7: =G7*'Pondération des sujets'!$D5 -> 0.0021598272 | I7: 15 | J7: =I7/I19 -> 0.004631059 | K7: =J7*'Pondération des sujets'!$D5 -> 0.004631059 | L7: 24 | M7: =L7/L19 -> 0.0074836296 | N7: =M7*'Pondération des sujets'!$D5 -> 0.0074836296 | O7: 4 | P7: =O7/O19 -> 0.0012437811 | Q7: =P7*'Pondération des sujets'!$D5 -> 0.0012437811 | R7: 0 | S7: =R7/R19 -> 0 | T7: =S7*'Pondération des sujets'!$D5 -> 0 | U7: 5 | V7: =U7/U19 -> 0.0015351551 | W7: =V7*'Pondération des sujets'!$D5 -> 0.0015351551 | X7: 6 | Y7: =X7/X19 -> 0.0018292683 | Z7: =Y7*'Pondération des sujets'!$D5 -> 0.0018292683 | AA7: 8 | AB7: =AA7/AA19 -> 0.0024472316 | AC7: =AB7*'Pondération des sujets'!$D5 -> 0.0024472316 | AD7: 3 | AE7: =AD7/AD19 -> 0.00090936647 | AF7: =AE7*'Pondération des sujets'!$D5 -> 0.00090936647 | AG7: 10 | AH7: =AG7/AG19 -> 0.0030931024 | AI7: =AH7*'Pondération des sujets'!$D5 -> 0.0030931024 | AJ7: 9 | AK7: =AJ7/AJ19 -> 0.0028490028 | AL7: =AK7*'Pondération des sujets'!$D5 -> 0.0028490028 | AN7: 42 | AO7: =AN7/AN19 -> 0.019408503 | AP7: =AO7*'Pondération des sujets'!$D5 -> 0.019408503 | AQ7: 12 | AR7: =AQ7/AQ19 -> 0.0055197792 | AS7: =AR7*'Pondération des sujets'!$D5 -> 0.0055197792 | AT7: 0 | AU7: =AT7/AT19 -> 0 | AV7: =AU7*'Pondération des sujets'!$D5 -> 0 | AW7: 10 | AX7: =AW7/AW19 -> 0.004587156 | AY7: =AX7*'Pondération des sujets'!$D5 -> 0.004587156 | AZ7: 7 | BA7: =AZ7/AZ19 -> 0.0031847134 | BB7: =BA7*'Pondération des sujets'!$D5 -> 0.0031847134 | BC7: 20 | BD7: =BC7/BC19 -> 0.009119927 | BE7: =BD7*'Pondération des sujets'!$D5 -> 0.009119927 | BF7: 5 | BG7: =BF7/BF19 -> 0.0022727273 | BH7: =BG7*'Pondération des sujets'!$D5 -> 0.0022727273 | BI7: 0 | BJ7: =BI7/BI19 -> 0 | BK7: =BJ7*'Pondération des sujets'!$D5 -> 0 | BL7: 6 | BM7: =BL7/BL19 -> 0.0026536931 | BN7: =BM7*'Pondération des sujets'!$D5 -> 0.0026536931 | BO7: 8 | BP7: =BO7/BO19 -> 0.0034934498 | BQ7: =BP7*'Pondération des sujets'!$D5 -> 0.0034934498 | BR7: 19 | BS7: =BR7/BR19 -> 0.0084332002 | BT7: =BS7*'Pondération des sujets'!$D5 -> 0.0084332002 | BU7: 0 | BV7: =BU7/BU19 -> 0 | BW7: =BV7*'Pondération des sujets'!$D5 -> 0 | BX7: 7 | BY7: =BX7/BX19 -> 0.0031263957 | BZ7: =BY7*'Pondération des sujets'!$D5 -> 0.0031263957 | CA7: 5 | CB7: =CA7/CA19 -> 0.0022862369 | CC7: =CB7*'Pondération des sujets'!$D5 -> 0.0022862369
A8: 1.4 | B8: Présence et/ou absence à tort (journées entières) | C8: 131 | D8: =C8/C$19 -> 0.039841849 | E8: =D8*'Pondération des sujets'!$D6 -> 0.039841849 | F8: 188 | G8: =F8/F$19 -> 0.058006788 | H8: =G8*'Pondération des sujets'!$D6 -> 0.058006788 | I8: 321 | J8: =I8/I$19 -> 0.099104662 | K8: =J8*'Pondération des sujets'!$D6 -> 0.099104662 | L8: 128 | M8: =L8/L$19 -> 0.039912691 | N8: =M8*'Pondération des sujets'!$D6 -> 0.039912691 | O8: 137 | P8: =O8/O$19 -> 0.042599502 | Q8: =P8*'Pondération des sujets'!$D6 -> 0.042599502 | R8: 133 | S8: =R8/R$19 -> 0.041394336 | T8: =S8*'Pondération des sujets'!$D6 -> 0.041394336 | U8: 154 | V8: =U8/U$19 -> 0.047282776 | W8: =V8*'Pondération des sujets'!$D6 -> 0.047282776 | X8: 178 | Y8: =X8/X$19 -> 0.054268293 | Z8: =Y8*'Pondération des sujets'!$D6 -> 0.054268293 | AA8: 159 | AB8: =AA8/AA$19 -> 0.048638727 | AC8: =AB8*'Pondération des sujets'!$D6 -> 0.048638727 | AD8: 197 | AE8: =AD8/AD$19 -> 0.059715065 | AF8: =AE8*'Pondération des sujets'!$D6 -> 0.059715065 | AG8: 207 | AH8: =AG8/AG$19 -> 0.064027219 | AI8: =AH8*'Pondération des sujets'!$D6 -> 0.064027219 | AJ8: 154 | AK8: =AJ8/AJ$19 -> 0.048749604 | AL8: =AK8*'Pondération des sujets'!$D6 -> 0.048749604 | AN8: 168 | AO8: =AN8/AN$19 -> 0.077634011 | AP8: =AO8*'Pondération des sujets'!$D6 -> 0.077634011 | AQ8: 136 | AR8: =AQ8/AQ$19 -> 0.062557498 | AS8: =AR8*'Pondération des sujets'!$D6 -> 0.062557498 | AT8: 120 | AU8: =AT8/AT$19 -> 0.054619936 | AV8: =AU8*'Pondération des sujets'!$D6 -> 0.054619936 | AW8: 185 | AX8: =AW8/AW$19 -> 0.084862385 | AY8: =AX8*'Pondération des sujets'!$D6 -> 0.084862385 | AZ8: 271 | BA8: =AZ8/AZ$19 -> 0.1232939 | BB8: =BA8*'Pondération des sujets'!$D6 -> 0.1232939 | BC8: 131 | BD8: =BC8/BC$19 -> 0.059735522 | BE8: =BD8*'Pondération des sujets'!$D6 -> 0.059735522 | BF8: 171 | BG8: =BF8/BF$19 -> 0.077727273 | BH8: =BG8*'Pondération des sujets'!$D6 -> 0.077727273 | BI8: 132 | BJ8: =BI8/BI$19 -> 0.059593679 | BK8: =BJ8*'Pondération des sujets'!$D6 -> 0.059593679 | BL8: 135 | BM8: =BL8/BL$19 -> 0.059708094 | BN8: =BM8*'Pondération des sujets'!$D6 -> 0.059708094 | BO8: 135 | BP8: =BO8/BO$19 -> 0.058951965 | BQ8: =BP8*'Pondération des sujets'!$D6 -> 0.058951965 | BR8: 172 | BS8: =BR8/BR$19 -> 0.076342654 | BT8: =BS8*'Pondération des sujets'!$D6 -> 0.076342654 | BU8: 198 | BV8: =BU8/BU$19 -> 0.085788562 | BW8: =BV8*'Pondération des sujets'!$D6 -> 0.085788562 | BX8: 237 | BY8: =BX8/BX$19 -> 0.10585083 | BZ8: =BY8*'Pondération des sujets'!$D6 -> 0.10585083 | CA8: 213 | CB8: =CA8/CA$19 -> 0.09739369 | CC8: =CB8*'Pondération des sujets'!$D6 -> 0.09739369
A9: 3 | B9: Agents sans affectation théorique (pas de PA théorique) | C9: 250 | D9: =C9/C$19 -> 0.076034063 | E9: =D9*'Pondération des sujets'!$D8 -> 0.076034063 | F9: 180 | G9: =F9/F$19 -> 0.055538414 | H9: =G9*'Pondération des sujets'!$D8 -> 0.055538414 | I9: 70 | J9: =I9/I$19 -> 0.021611609 | K9: =J9*'Pondération des sujets'!$D8 -> 0.021611609 | L9: 324 | M9: =L9/L$19 -> 0.101029 | N9: =M9*'Pondération des sujets'!$D8 -> 0.101029 | O9: 293 | P9: =O9/O$19 -> 0.091106965 | Q9: =P9*'Pondération des sujets'!$D8 -> 0.091106965 | R9: 316 | S9: =R9/R$19 -> 0.098350451 | T9: =S9*'Pondération des sujets'!$D8 -> 0.098350451 | U9: 317 | V9: =U9/U$19 -> 0.09732883 | W9: =V9*'Pondération des sujets'!$D8 -> 0.09732883 | X9: 340 | Y9: =X9/X$19 -> 0.10365854 | Z9: =Y9*'Pondération des sujets'!$D8 -> 0.10365854 | AA9: 355 | AB9: =AA9/AA$19 -> 0.1085959 | AC9: =AB9*'Pondération des sujets'!$D8 -> 0.1085959 | AD9: 382 | AE9: =AD9/AD$19 -> 0.11579266 | AF9: =AE9*'Pondération des sujets'!$D8 -> 0.11579266 | AG9: 486 | AH9: =AG9/AG$19 -> 0.15032478 | AI9: =AH9*'Pondération des sujets'!$D8 -> 0.15032478 | AJ9: 389 | AK9: =AJ9/AJ$19 -> 0.12314023 | AL9: =AK9*'Pondération des sujets'!$D8 -> 0.12314023 | AN9: 257 | AO9: =AN9/AN$19 -> 0.11876155 | AP9: =AO9*'Pondération des sujets'!$D8 -> 0.11876155 | AQ9: 228 | AR9: =AQ9/AQ$19 -> 0.1048758 | AS9: =AR9*'Pondération des sujets'!$D8 -> 0.1048758 | AT9: 159 | AU9: =AT9/AT$19 -> 0.072371416 | AV9: =AU9*'Pondération des sujets'!$D8 -> 0.072371416 | AW9: 113 | AX9: =AW9/AW$19 -> 0.051834862 | AY9: =AX9*'Pondération des sujets'!$D8 -> 0.051834862 | AZ9: 62 | BA9: =AZ9/AZ$19 -> 0.028207461 | BB9: =BA9*'Pondération des sujets'!$D8 -> 0.028207461 | BC9: 272 | BD9: =BC9/BC$19 -> 0.12403101 | BE9: =BD9*'Pondération des sujets'!$D8 -> 0.12403101 | BF9: 238 | BG9: =BF9/BF$19 -> 0.10818182 | BH9: =BG9*'Pondération des sujets'!$D8 -> 0.10818182 | BI9: 228 | BJ9: =BI9/BI$19 -> 0.10293454 | BK9: =BJ9*'Pondération des sujets'!$D8 -> 0.10293454 | BL9: 256 | BM9: =BL9/BL$19 -> 0.11322424 | BN9: =BM9*'Pondération des sujets'!$D8 -> 0.11322424 | BO9: 298 | BP9: =BO9/BO$19 -> 0.130131 | BQ9: =BP9*'Pondération des sujets'!$D8 -> 0.130131 | BR9: 306 | BS9: =BR9/BR$19 -> 0.13581891 | BT9: =BS9*'Pondération des sujets'!$D8 -> 0.13581891 | BU9: 281 | BV9: =BU9/BU$19 -> 0.12175043 | BW9: =BV9*'Pondération des sujets'!$D8 -> 0.12175043 | BX9: 272 | BY9: =BX9/BX$19 -> 0.1214828 | BZ9: =BY9*'Pondération des sujets'!$D8 -> 0.1214828 | CA9: 265 | CB9: =CA9/CA$19 -> 0.12117055 | CC9: =CB9*'Pondération des sujets'!$D8 -> 0.12117055
A10: 5 | B10: Agents affectés à une PA MRP ou Cycleur ayant une DHT moyenne hebdomadaire de 35h (sans description des repos de cycle dans la PA) | C10: 66 | D10: =C10/C$19 -> 0.020072993 | E10: =D10*'Pondération des sujets'!$D10 -> 0.020072993 | F10: 58 | G10: =F10/F$19 -> 0.017895711 | H10: =G10*'Pondération des sujets'!$D10 -> 0.017895711 | I10: 63 | J10: =I10/I$19 -> 0.019450448 | K10: =J10*'Pondération des sujets'!$D10 -> 0.019450448 | L10: 57 | M10: =L10/L$19 -> 0.01777362 | N10: =M10*'Pondération des sujets'!$D10 -> 0.01777362 | O10: 57 | P10: =O10/O$19 -> 0.017723881 | Q10: =P10*'Pondération des sujets'!$D10 -> 0.017723881 | R10: 56 | S10: =R10/R$19 -> 0.017429194 | T10: =S10*'Pondération des sujets'!$D10 -> 0.017429194 | U10: 58 | V10: =U10/U$19 -> 0.017807799 | W10: =V10*'Pondération des sujets'!$D10 -> 0.017807799 | X10: 85 | Y10: =X10/X$19 -> 0.025914634 | Z10: =Y10*'Pondération des sujets'!$D10 -> 0.025914634 | AA10: 54 | AB10: =AA10/AA$19 -> 0.016518813 | AC10: =AB10*'Pondération des sujets'!$D10 -> 0.016518813 | AD10: 16 | AE10: =AD10/AD$19 -> 0.0048499545 | AF10: =AE10*'Pondération des sujets'!$D10 -> 0.0048499545 | AG10: 16 | AH10: =AG10/AG$19 -> 0.0049489638 | AI10: =AH10*'Pondération des sujets'!$D10 -> 0.0049489638 | AJ10: 15 | AK10: =AJ10/AJ$19 -> 0.0047483381 | AL10: =AK10*'Pondération des sujets'!$D10 -> 0.0047483381 | AN10: 46 | AO10: =AN10/AN$19 -> 0.021256932 | AP10: =AO10*'Pondération des sujets'!$D10 -> 0.021256932 | AQ10: 46 | AR10: =AQ10/AQ$19 -> 0.021159154 | AS10: =AR10*'Pondération des sujets'!$D10 -> 0.021159154 | AT10: 44 | AU10: =AT10/AT$19 -> 0.02002731 | AV10: =AU10*'Pondération des sujets'!$D10 -> 0.02002731 | AW10: 44 | AX10: =AW10/AW$19 -> 0.020183486 | AY10: =AX10*'Pondération des sujets'!$D10 -> 0.020183486 | AZ10: 43 | BA10: =AZ10/AZ$19 -> 0.019563239 | BB10: =BA10*'Pondération des sujets'!$D10 -> 0.019563239 | BC10: 43 | BD10: =BC10/BC$19 -> 0.019607843 | BE10: =BD10*'Pondération des sujets'!$D10 -> 0.019607843 | BF10: 39 | BG10: =BF10/BF$19 -> 0.017727273 | BH10: =BG10*'Pondération des sujets'!$D10 -> 0.017727273 | BI10: 40 | BJ10: =BI10/BI$19 -> 0.018058691 | BK10: =BJ10*'Pondération des sujets'!$D10 -> 0.018058691 | BL10: 43 | BM10: =BL10/BL$19 -> 0.019018134 | BN10: =BM10*'Pondération des sujets'!$D10 -> 0.019018134 | BO10: 40 | BP10: =BO10/BO$19 -> 0.017467249 | BQ10: =BP10*'Pondération des sujets'!$D10 -> 0.017467249 | BR10: 41 | BS10: =BR10/BR$19 -> 0.018197958 | BT10: =BS10*'Pondération des sujets'!$D10 -> 0.018197958 | BU10: 40 | BV10: =BU10/BU$19 -> 0.017331023 | BW10: =BV10*'Pondération des sujets'!$D10 -> 0.017331023 | BX10: 39 | BY10: =BX10/BX$19 -> 0.01741849 | BZ10: =BY10*'Pondération des sujets'!$D10 -> 0.01741849 | CA10: 30 | CB10: =CA10/CA$19 -> 0.013717421 | CC10: =CB10*'Pondération des sujets'!$D10 -> 0.013717421
A11: 8bis.1 | B11: Agents sortis de BSCC mais toujours affectés à une PA théorique | C11: 1 | D11: =C11/C$19 -> 0.00030413625 | E11: =D11*'Pondération des sujets'!$D16 -> 0.00030413625 | F11: 2 | G11: =F11/F$19 -> 0.00061709349 | H11: =G11*'Pondération des sujets'!$D16 -> 0.00061709349 | I11: 2 | J11: =I11/I$19 -> 0.00061747453 | K11: =J11*'Pondération des sujets'!$D16 -> 0.00061747453 | L11: 2 | M11: =L11/L$19 -> 0.0006236358 | N11: =M11*'Pondération des sujets'!$D16 -> 0.0006236358 | O11: 2 | P11: =O11/O$19 -> 0.00062189055 | Q11: =P11*'Pondération des sujets'!$D16 -> 0.00062189055 | R11: 2 | S11: =R11/R$19 -> 0.00062247121 | T11: =S11*'Pondération des sujets'!$D16 -> 0.00062247121 | U11: 2 | V11: =U11/U$19 -> 0.00061406202 | W11: =V11*'Pondération des sujets'!$D16 -> 0.00061406202 | X11: 0 | Y11: =X11/X$19 -> 0 | Z11: =Y11*'Pondération des sujets'!$D16 -> 0 | AA11: 0 | AB11: =AA11/AA$19 -> 0 | AC11: =AB11*'Pondération des sujets'!$D16 -> 0 | AD11: 0 | AE11: =AD11/AD$19 -> 0 | AF11: =AE11*'Pondération des sujets'!$D16 -> 0 | AG11: 0 | AH11: =AG11/AG$19 -> 0 | AI11: =AH11*'Pondération des sujets'!$D16 -> 0 | AJ11: 1 | AK11: =AJ11/AJ$19 -> 0.00031655587 | AL11: =AK11*'Pondération des sujets'!$D16 -> 0.00031655587 | AN11: 1 | AO11: =AN11/AN$19 -> 0.00046210721 | AP11: =AO11*'Pondération des sujets'!$D16 -> 0.00046210721 | AQ11: 1 | AR11: =AQ11/AQ$19 -> 0.0004599816 | AS11: =AR11*'Pondération des sujets'!$D16 -> 0.0004599816 | AT11: 1 | AU11: =AT11/AT$19 -> 0.00045516614 | AV11: =AU11*'Pondération des sujets'!$D16 -> 0.00045516614 | AW11: 1 | AX11: =AW11/AW$19 -> 0.0004587156 | AY11: =AX11*'Pondération des sujets'!$D16 -> 0.0004587156 | AZ11: 1 | BA11: =AZ11/AZ$19 -> 0.00045495905 | BB11: =BA11*'Pondération des sujets'!$D16 -> 0.00045495905 | BC11: 0 | BD11: =BC11/BC$19 -> 0 | BE11: =BD11*'Pondération des sujets'!$D16 -> 0 | BF11: 1 | BG11: =BF11/BF$19 -> 0.00045454545 | BH11: =BG11*'Pondération des sujets'!$D16 -> 0.00045454545 | BI11: 1 | BJ11: =BI11/BI$19 -> 0.00045146727 | BK11: =BJ11*'Pondération des sujets'!$D16 -> 0.00045146727 | BL11: 1 | BM11: =BL11/BL$19 -> 0.00044228218 | BN11: =BM11*'Pondération des sujets'!$D16 -> 0.00044228218 | BO11: 1 | BP11: =BO11/BO$19 -> 0.00043668122 | BQ11: =BP11*'Pondération des sujets'!$D16 -> 0.00043668122 | BR11: 1 | BS11: =BR11/BR$19 -> 0.00044385264 | BT11: =BS11*'Pondération des sujets'!$D16 -> 0.00044385264 | BU11: 2 | BV11: =BU11/BU$19 -> 0.00086655113 | BW11: =BV11*'Pondération des sujets'!$D16 -> 0.00086655113 | BX11: 2 | BY11: =BX11/BX$19 -> 0.00089325592 | BZ11: =BY11*'Pondération des sujets'!$D16 -> 0.00089325592 | CA11: 0 | CB11: =CA11/CA$19 -> 0 | CC11: =CB11*'Pondération des sujets'!$D16 -> 0
A12: 8bis.2 | B12: Agents sortis de BSCC mais toujours affectés à une PA exceptionnelle | C12: 0 | D12: =C12/C$19 -> 0 | E12: =D12*'Pondération des sujets'!$D17 -> 0 | F12: 0 | G12: =F12/F$19 -> 0 | H12: =G12*'Pondération des sujets'!$D17 -> 0 | I12: 0 | J12: =I12/I$19 -> 0 | K12: =J12*'Pondération des sujets'!$D17 -> 0 | L12: 0 | M12: =L12/L$19 -> 0 | N12: =M12*'Pondération des sujets'!$D17 -> 0 | O12: 0 | P12: =O12/O$19 -> 0 | Q12: =P12*'Pondération des sujets'!$D17 -> 0 | R12: 0 | S12: =R12/R$19 -> 0 | T12: =S12*'Pondération des sujets'!$D17 -> 0 | U12: 0 | V12: =U12/U$19 -> 0 | W12: =V12*'Pondération des sujets'!$D17 -> 0 | X12: 0 | Y12: =X12/X$19 -> 0 | Z12: =Y12*'Pondération des sujets'!$D17 -> 0 | AA12: 0 | AB12: =AA12/AA$19 -> 0 | AC12: =AB12*'Pondération des sujets'!$D17 -> 0 | AD12: 0 | AE12: =AD12/AD$19 -> 0 | AF12: =AE12*'Pondération des sujets'!$D17 -> 0 | AG12: 0 | AH12: =AG12/AG$19 -> 0 | AI12: =AH12*'Pondération des sujets'!$D17 -> 0 | AJ12: 0 | AK12: =AJ12/AJ$19 -> 0 | AL12: =AK12*'Pondération des sujets'!$D17 -> 0 | AN12: 0 | AO12: =AN12/AN$19 -> 0 | AP12: =AO12*'Pondération des sujets'!$D17 -> 0 | AQ12: 0 | AR12: =AQ12/AQ$19 -> 0 | AS12: =AR12*'Pondération des sujets'!$D17 -> 0 | AT12: 0 | AU12: =AT12/AT$19 -> 0 | AV12: =AU12*'Pondération des sujets'!$D17 -> 0 | AW12: 0 | AX12: =AW12/AW$19 -> 0 | AY12: =AX12*'Pondération des sujets'!$D17 -> 0 | AZ12: 0 | BA12: =AZ12/AZ$19 -> 0 | BB12: =BA12*'Pondération des sujets'!$D17 -> 0 | BC12: 0 | BD12: =BC12/BC$19 -> 0 | BE12: =BD12*'Pondération des sujets'!$D17 -> 0 | BF12: 0 | BG12: =BF12/BF$19 -> 0 | BH12: =BG12*'Pondération des sujets'!$D17 -> 0 | BI12: 0 | BJ12: =BI12/BI$19 -> 0 | BK12: =BJ12*'Pondération des sujets'!$D17 -> 0 | BL12: 0 | BM12: =BL12/BL$19 -> 0 | BN12: =BM12*'Pondération des sujets'!$D17 -> 0 | BO12: 0 | BP12: =BO12/BO$19 -> 0 | BQ12: =BP12*'Pondération des sujets'!$D17 -> 0 | BR12: 0 | BS12: =BR12/BR$19 -> 0 | BT12: =BS12*'Pondération des sujets'!$D17 -> 0 | BU12: 0 | BV12: =BU12/BU$19 -> 0 | BW12: =BV12*'Pondération des sujets'!$D17 -> 0 | BX12: 1 | BY12: =BX12/BX$19 -> 0.00044662796 | BZ12: =BY12*'Pondération des sujets'!$D17 -> 0.00044662796 | CA12: 0 | CB12: =CA12/CA$19 -> 0 | CC12: =CB12*'Pondération des sujets'!$D17 -> 0
A13: 8ter | B13: PA avec plage horaire erronée | C13: 0 | D13: =C13/C$21 -> 0 | E13: =D13*'Pondération des sujets'!$D12 -> 0 | F13: 0 | G13: =F13/F$21 -> 0 | H13: =G13*'Pondération des sujets'!$D12 -> 0 | I13: 0 | J13: =I13/I$21 -> 0 | K13: =J13*'Pondération des sujets'!$D12 -> 0 | L13: 0 | M13: =L13/L$21 -> 0 | N13: =M13*'Pondération des sujets'!$D12 -> 0 | O13: 0 | P13: =O13/O$21 -> 0 | Q13: =P13*'Pondération des sujets'!$D12 -> 0 | R13: 0 | S13: =R13/R$21 -> 0 | T13: =S13*'Pondération des sujets'!$D12 -> 0 | U13: 0 | V13: =U13/U$21 -> 0 | W13: =V13*'Pondération des sujets'!$D12 -> 0 | X13: 0 | Y13: =X13/X$21 -> 0 | Z13: =Y13*'Pondération des sujets'!$D12 -> 0 | AA13: 0 | AB13: =AA13/AA$21 -> 0 | AC13: =AB13*'Pondération des sujets'!$D12 -> 0 | AD13: 0 | AE13: =AD13/AD$21 -> 0 | AF13: =AE13*'Pondération des sujets'!$D12 -> 0 | AG13: 0 | AH13: =AG13/AG$21 -> 0 | AI13: =AH13*'Pondération des sujets'!$D12 -> 0 | AJ13: 0 | AK13: =AJ13/AJ$21 -> 0 | AL13: =AK13*'Pondération des sujets'!$D12 -> 0 | AN13: 0 | AO13: =AN13/AN$21 -> 0 | AP13: =AO13*'Pondération des sujets'!$D12 -> 0 | AQ13: 0 | AR13: =AQ13/AQ$21 -> 0 | AS13: =AR13*'Pondération des sujets'!$D12 -> 0 | AT13: 0 | AU13: =AT13/AT$21 -> 0 | AV13: =AU13*'Pondération des sujets'!$D12 -> 0 | AW13: 0 | AX13: =AW13/AW$21 -> 0 | AY13: =AX13*'Pondération des sujets'!$D12 -> 0 | AZ13: 0 | BA13: =AZ13/AZ$21 -> 0 | BB13: =BA13*'Pondération des sujets'!$D12 -> 0 | BC13: 0 | BD13: =BC13/BC$21 -> 0 | BE13: =BD13*'Pondération des sujets'!$D12 -> 0 | BF13: 0 | BG13: =BF13/BF$21 -> 0 | BH13: =BG13*'Pondération des sujets'!$D12 -> 0 | BI13: 0 | BJ13: =BI13/BI$21 -> 0 | BK13: =BJ13*'Pondération des sujets'!$D12 -> 0 | BL13: 0 | BM13: =BL13/BL$21 -> 0 | BN13: =BM13*'Pondération des sujets'!$D12 -> 0 | BO13: 0 | BP13: =BO13/BO$21 -> 0 | BQ13: =BP13*'Pondération des sujets'!$D12 -> 0 | BR13: 0 | BS13: =BR13/BR$21 -> 0 | BT13: =BS13*'Pondération des sujets'!$D12 -> 0 | BU13: 0 | BV13: =BU13/BU$21 -> 0 | BW13: =BV13*'Pondération des sujets'!$D12 -> 0 | BX13: 0 | BY13: =BX13/BX$21 -> 0 | BZ13: =BY13*'Pondération des sujets'!$D12 -> 0 | CA13: 0 | CB13: =CA13/CA$21 -> 0 | CC13: =CB13*'Pondération des sujets'!$D12 -> 0
A14: CALCUL INDICATEUR | B14: XX TOTAL | E14: =SUM(E4:E12) -> 0.2776764 | H14: =SUM(H4:H12) -> 0.28139463 | K14: =SUM(K4:K12) -> 0.31707317 | N14: =SUM(N4:N12) -> 0.28531338 | Q14: =SUM(Q4:Q12) -> 0.29446517 | T14: =SUM(T4:T12) -> 0.27637722 | W14: =SUM(W4:W12) -> 0.2732576 | Z14: =SUM(Z4:Z12) -> 0.28780488 | AC14: =SUM(AC4:AC12) -> 0.26491282 | AF14: =SUM(AF4:AF12) -> 0.27644741 | AI14: =SUM(AI4:AI12) -> 0.32415713 | AL14: =SUM(AL4:AL12) -> 0.30864198 | AP14: =SUM(AP4:AP12) -> 0.44085028 | AS14: =SUM(AS4:AS12) -> 0.35878565 | AV14: =SUM(AV4:AV12) -> 0.27628584 | AY14: =SUM(AY4:AY12) -> 0.28394495 | BB14: =SUM(BB4:BB12) -> 0.31301183 | BE14: =SUM(BE4:BE12) -> 0.30916553 | BH14: =SUM(BH4:BH12) -> 0.32454545 | BK14: =SUM(BK4:BK12) -> 0.30022573 | BN14: =SUM(BN4:BN12) -> 0.35072977 | BQ14: =SUM(BQ4:BQ12) -> 0.33056769 | BT14: =SUM(BT4:BT12) -> 0.35286285 | BW14: =SUM(BW4:BW12) -> 0.33752166 | BZ14: =SUM(BZ4:BZ12) -> 0.3626619 | CC14: =SUM(CC4:CC12) -> 0.36762689
C16: DSCC 21 | F16: DSCC 21 | I16: DSCC 21 | L16: DSCC 21 | O16: DSCC 21 | R16: DSCC 21 | U16: DSCC 21 | X16: DSCC 21 | AA16: DSCC 21 | AD16: DSCC 21 | AG16: DSCC 21 | AJ16: DSCC 21 | AN16: DSCC 25 | AQ16: DSCC 25 | AT16: DSCC 25 | AW16: DSCC 25 | AZ16: DSCC 25 | BC16: DSCC 25 | BF16: DSCC 25 | BI16: DSCC 25 | BL16: DSCC 25 | BO16: DSCC 25 | BR16: DSCC 25 | BU16: DSCC 25 | BX16: DSCC 25 | CA16: DSCC 25
C17: Suivi 1 | F17: Suivi 2 | I17: Suivi 3 | L17: Suivi 4 | O17: Suivi 5 | R17: Suivi 6 | U17: Suivi 7 | X17: Suivi 8 | AA17: Suivi 9 | AD17: Suivi 10 | AG17: Suivi 11 | AJ17: Suivi 12 | AN17: Suivi 1 | AQ17: Suivi 2 | AT17: Suivi 3 | AW17: Suivi 4 | AZ17: Suivi 5 | BC17: Suivi 4 | BF17: Suivi 7 | BI17: Suivi 8 | BL17: Suivi 9 | BO17: Suivi 10 | BR17: Suivi 11 | BU17: Suivi 12 | BX17: Suivi 13 | CA17: Suivi 14
C18: Effectif total | F18: Effectif total | I18: Effectif total | L18: Effectif total | O18: Effectif total | R18: Effectif total | U18: Effectif total | X18: Effectif total | AA18: Effectif total | AD18: Effectif total | AG18: Effectif total | AJ18: Effectif total | AN18: Effectif total | AQ18: Effectif total | AT18: Effectif total | AW18: Effectif total | AZ18: Effectif total | BC18: Effectif total | BF18: Effectif total | BI18: Effectif total | BL18: Effectif total | BO18: Effectif total | BR18: Effectif total | BU18: Effectif total | BX18: Effectif total | CA18: Effectif total
C19: 3288 | F19: 3241 | I19: 3239 | L19: 3207 | O19: 3216 | R19: 3213 | U19: 3257 | X19: 3280 | AA19: 3269 | AD19: 3299 | AG19: 3233 | AJ19: 3159 | AN19: 2164 | AQ19: 2174 | AT19: 2197 | AW19: 2180 | AZ19: 2198 | BC19: 2193 | BF19: 2200 | BI19: 2215 | BL19: 2261 | BO19: 2290 | BR19: 2253 | BU19: 2308 | BX19: 2239 | CA19: 2187
C20: Nb total de PA | F20: Nb total de PA | I20: Nb total de PA | L20: Nb total de PA | O20: Nb total de PA | R20: Nb total de PA | U20: Nb total de PA | X20: Nb total de PA | AA20: Nb total de PA | AD20: Nb total de PA | AG20: Nb total de PA | AJ20: Nb total de PA | AN20: Nombre total de PA | AQ20: Nombre total de PA | AT20: Nombre total de PA | AW20: Nombre total de PA | AZ20: Nombre total de PA | BC20: Nombre total de PA | BF20: Nombre total de PA | BI20: Nombre total de PA | BL20: Nombre total de PA | BO20: Nombre total de PA | BR20: Nombre total de PA | BU20: Nombre total de PA | BX20: Nombre total de PA | CA20: Nombre total de PA
C21: 3802 | F21: 3787 | I21: 3789 | L21: 3790 | O21: 3790 | R21: 3797 | U21: 3785 | X21: 3698 | AA21: 3690 | AD21: 3736 | AG21: 3657 | AJ21: 3722 | AN21: 2490 | AQ21: 2566 | AT21: 2549 | AW21: 2596 | AZ21: 2602 | BC21: 2597 | BF21: 2604 | BI21: 2617 | BL21: 2533 | BO21: 2662 | BR21: 2648 | BU21: 2660 | BX21: 2688 | CA21: 2554

Sheet Bretagne
A1: N° | B1: Sujets de fiabilisation
C2: DSCC 35 | F2: DSCC 35 | I2: DSCC 35 | L2: DSCC 35 | O2: DSCC 35 | R2: DSCC 35 | U2: DSCC 35 | X2: DSCC 35 | AA2: DSCC 35 | AD2: DSCC 35 | AG2: DSCC 35 | AJ2: DSCC 35 | AM2: DSCC 35 | AP2: DSCC 35 | AT2: DSCC 56 | AW2: DSCC 56 | AZ2: DSCC 56 | BC2: DSCC 56 | BF2: DSCC 56 | BI2: DSCC 56 | BL2: DSCC 56 | BO2: DSCC 56 | BR2: DSCC 56 | BU2: DSCC 56 | BX2: DSCC 56 | CA2: DSCC 56
C3: Suivi 1 | D3: 14/01 - Suivi 1 | E3: Indicateur | F3: Suivi 2 | G3: 05/02 - Suivi 2 | H3: Indicateur | I3: Suivi 3 | J3: 19/02 - Suivi 3 | K3: Indicateur | L3: Suivi 4 | M3: 19/03 - Suivi 4 | N3: Indicateur | O3: Suivi 5 | P3: 02/04 - Suivi 5 | Q3: Indicateur | R3: Suivi 6 | S3: 16/04 - Suivi 5 | T3: Indicateur | U3: Suivi 7 | V3: 14/05 - Suivi 7 | W3: Indicateur | X3: Suivi 8 | Y3: 03/06 - Suivi 8 | Z3: Indicateur | AA3: Suivi 9 | AB3: 25/06 - Suivi 9 | AC3: Indicateur | AD3: Suivi 10 | AE3: 16/07 - Suivi 10 | AF3: Indicateur | AG3: Suivi 11 | AH3: 06/08 - Suivi 11 | AI3: Indicateur | AJ3: Suivi 12 | AK3: 29/08 - Suivi 12 | AL3: Indicateur | AM3: Suivi 13 | AN3: 17/09 - Suivi 13 | AO3: Indicateur | AP3: Suivi 14 | AQ3: 08/10 - Suivi 14 | AR3: Indicateur | AT3: Suivi 1 | AU3: 12/02 - Suivi 1 | AV3: Indicateur | AW3: Suivi 2 | AX3: 12/03 - Suivi 2 | AY3: Indicateur | AZ3: Suivi 3 | BA3: 09/04 - Suivi 3 | BB3: Indicateur | BC3: Suivi 4 | BD3: 03/05 - Suivi 4 | BE3: Indicateur | BF3: Suivi 5 | BG3: 14/05 - Suivi 5 | BH3: Indicateur | BI3: Suivi 6 | BJ3: 03/06 - Suivi 6 | BK3: Indicateur | BL3: Suivi 7 | BM3: 25/06 - Suivi 7 | BN3: Indicateur | BO3: Suivi 8 | BP3: 16/07 - Suivi 8 | BQ3: Indicateur | BR3: Suivi 9 | BS3: 06/08 - Suivi 9 | BT3: Indicateur | BU3: Suivi 10 | BV3: 29/08 - Suivi 10 | BW3: Indicateur | BX3: Suivi 11 | BY3: 17/09 - Suivi 11 | BZ3: Indicateur | CA3: Suivi 12 | CB3: 08/10 - Suivi 12 | CC3: Indicateur
A4: 1.1 | B4: Présence et/ou absence à tort (agents temps plein) | C4: 415 | D4: =C4/C$19 -> 0.14359862 | E4: =D4*'Pondération des sujets'!$D3 -> 0.14359862 | F4: 482 | G4: =F4/F$19 -> 0.16678201 | H4: =G4*'Pondération des sujets'!$D3 -> 0.16678201 | I4: 483 | J4: =I4/I$19 -> 0.16620785 | K4: =J4*'Pondération des sujets'!$D3 -> 0.16620785 | L4: 467 | M4: =L4/L$19 -> 0.16131261 | N4: =M4*'Pondération des sujets'!$D3 -> 0.16131261 | O4: 497 | P4: =O4/O$19 -> 0.17353352 | Q4: =P4*'Pondération des sujets'!$D3 -> 0.17353352 | R4: 473 | S4: =R4/R$19 -> 0.16304723 | T4: =S4*'Pondération des sujets'!$D3 -> 0.16304723 | U4: 388 | V4: =U4/U$19 -> 0.13580679 | W4: =V4*'Pondération des sujets'!$D3 -> 0.13580679 | X4: 385 | Y4: =X4/X$19 -> 0.13585039 | Z4: =Y4*'Pondération des sujets'!$D3 -> 0.13585039 | AA4: 395 | AB4: =AA4/AA$19 -> 0.13385293 | AC4: =AB4*'Pondération des sujets'!$D3 -> 0.13385293 | AD4: 387 | AE4: =AD4/AD$19 -> 0.12917223 | AF4: =AE4*'Pondération des sujets'!$D3 -> 0.12917223 | AG4: 434 | AH4: =AG4/AG$19 -> 0.14691943 | AI4: =AH4*'Pondération des sujets'!$D3 -> 0.14691943 | AJ4: 365 | AK4: =AJ4/AJ$19 -> 0.12281292 | AL4: =AK4*'Pondération des sujets'!$D3 -> 0.12281292 | AM4: 319 | AN4: =AM4/AM$19 -> 0.11072544 | AO4: =AN4*'Pondération des sujets'!$D3 -> 0.11072544 | AP4: 358 | AQ4: =AP4/AP$19 -> 0.12767475 | AR4: =AQ4*'Pondération des sujets'!$D3 -> 0.12767475 | AT4: 817 | AU4: =AT4/AT$19 -> 0.27416107 | AV4: =AU4*'Pondération des sujets'!$D3 -> 0.27416107 | AW4: 646 | AX4: =AW4/AW$19 -> 0.21758168 | AY4: =AX4*'Pondération des sujets'!$D3 -> 0.21758168 | AZ4: 590 | BA4: =AZ4/AZ$19 -> 0.19653564 | BB4: =BA4*'Pondération des sujets'!$D3 -> 0.19653564 | BC4: 525 | BD4: =BC4/BC$19 -> 0.17814727 | BE4: =BD4*'Pondération des sujets'!$D3 -> 0.17814727 | BF4: 501 | BG4: =BF4/BF$19 -> 0.1715166 | BH4: =BG4*'Pondération des sujets'!$D3 -> 0.1715166 | BI4: 446 | BJ4: =BI4/BI$19 -> 0.15523843 | BK4: =BJ4*'Pondération des sujets'!$D3 -> 0.15523843 | BL4: 437 | BM4: =BL4/BL$19 -> 0.14773496 | BN4: =BM4*'Pondération des sujets'!$D3 -> 0.14773496 | BO4: 461 | BP4: =BO4/BO$19 -> 0.15449062 | BQ4: =BP4*'Pondération des sujets'!$D3 -> 0.15449062 | BR4: 428 | BS4: =BR4/BR$19 -> 0.14415628 | BT4: =BS4*'Pondération des sujets'!$D3 -> 0.14415628 | BU4: 422 | BV4: =BU4/BU$19 -> 0.14218329 | BW4: =BV4*'Pondération des sujets'!$D3 -> 0.14218329 | BX4: 407 | BY4: =BX4/BX$19 -> 0.1391453 | BZ4: =BY4*'Pondération des sujets'!$D3 -> 0.1391453 | CA4: 412 | CB4: =CA4/CA$19 -> 0.15570673 | CC4: =CB4*'Pondération des sujets'!$D3 -> 0.15570673
B5: XX Agents temps plein avec GAT et/ou GPT liées à une PA 79 | C5: 97 | D5: =C5/C$19 -> 0.033564014 | E5: =-D5*'Pondération des sujets'!$D$3 -> -0.033564014 | F5: 227 | G5: =F5/F$19 -> 0.078546713 | H5: =-G5*'Pondération des sujets'!$D$3 -> -0.078546713 | I5: 270 | J5: =I5/I$19 -> 0.092911218 | K5: =-J5*'Pondération des sujets'!$D$3 -> -0.092911218 | L5: 244 | M5: =L5/L$19 -> 0.084283247 | N5: =-M5*'Pondération des sujets'!$D$3 -> -0.084283247 | O5: 298 | P5: =O5/O$19 -> 0.10405028 | Q5: =-P5*'Pondération des sujets'!$D$3 -> -0.10405028 | R5: 280 | S5: =R5/R$19 -> 0.096518442 | T5: =-S5*'Pondération des sujets'!$D$3 -> -0.096518442 | U5: 246 | V5: =U5/U$19 -> 0.086104305 | W5: =-V5*'Pondération des sujets'!$D$3 -> -0.086104305 | X5: 272 | Y5: =X5/X$19 -> 0.095977417 | Z5: =-Y5*'Pondération des sujets'!$D$3 -> -0.095977417 | AA5: 220 | AB5: =AA5/AA$19 -> 0.074551 | AC5: =-AB5*'Pondération des sujets'!$D$3 -> -0.074551 | AD5: 217 | AE5: =AD5/AD$19 -> 0.072429907 | AF5: =-AE5*'Pondération des sujets'!$D$3 -> -0.072429907 | AG5: 286 | AH5: =AG5/AG$19 -> 0.096817874 | AI5: =-AH5*'Pondération des sujets'!$D$3 -> -0.096817874 | AJ5: 226 | AK5: =AJ5/AJ$19 -> 0.076043069 | AL5: =-AK5*'Pondération des sujets'!$D$3 -> -0.076043069 | AM5: 187 | AN5: =AM5/AM$19 -> 0.064908018 | AO5: =-AN5*'Pondération des sujets'!$D$3 -> -0.064908018 | AP5: 232 | AQ5: =AP5/AP$19 -> 0.082738944 | AR5: =-AQ5*'Pondération des sujets'!$D$3 -> -0.082738944 | AT5: 99 | AU5: =AT5/AT19 -> 0.033221477 | AV5: =-AU5*'Pondération des sujets'!$D$3 -> -0.033221477 | AW5: 166 | AX5: =AW5/AW19 -> 0.055911081 | AY5: =-AX5*'Pondération des sujets'!$D$3 -> -0.055911081 | AZ5: 150 | BA5: =AZ5/AZ19 -> 0.049966689 | BB5: =-BA5*'Pondération des sujets'!$D$3 -> -0.049966689 | BC5: 250 | BD5: =BC5/BC19 -> 0.084832033 | BE5: =-BD5*'Pondération des sujets'!$D$3 -> -0.084832033 | BF5: 202 | BG5: =BF5/BF19 -> 0.069154399 | BH5: =-BG5*'Pondération des sujets'!$D$3 -> -0.069154399 | BI5: 228 | BJ5: =BI5/BI19 -> 0.079359554 | BK5: =-BJ5*'Pondération des sujets'!$D$3 -> -0.079359554 | BL5: 190 | BM5: =BL5/BL19 -> 0.06423259 | BN5: =-BM5*'Pondération des sujets'!$D$3 -> -0.06423259 | BO5: 201 | BP5: =BO5/BO19 -> 0.067359249 | BQ5: =-BP5*'Pondération des sujets'!$D$3 -> -0.067359249 | BR5: 203 | BS5: =BR5/BR19 -> 0.06837319 | BT5: =-BS5*'Pondération des sujets'!$D$3 -> -0.06837319 | BU5: 205 | BV5: =BU5/BU19 -> 0.069070081 | BW5: =-BV5*'Pondération des sujets'!$D$3 -> -0.069070081 | BX5: 194 | BY5: =BX5/BX19 -> 0.066324786 | BZ5: =-BY5*'Pondération des sujets'!$D$3 -> -0.066324786 | CA5: 177 | CB5: =CA5/CA19 -> 0.066893424 | CC5: =-CB5*'Pondération des sujets'!$D$3 -> -0.066893424
A6: 1.2 | B6: Présence et/ou absence à tort (agents temps partiel) | C6: 69 | D6: =C6/C$19 -> 0.023875433 | E6: =D6*'Pondération des sujets'!$D4 -> 0.023875433 | F6: 76 | G6: =F6/F$19 -> 0.026297578 | H6: =G6*'Pondération des sujets'!$D4 -> 0.026297578 | I6: 62 | J6: =I6/I$19 -> 0.021335169 | K6: =J6*'Pondération des sujets'!$D4 -> 0.021335169 | L6: 62 | M6: =L6/L$19 -> 0.021416235 | N6: =M6*'Pondération des sujets'!$D4 -> 0.021416235 | O6: 71 | P6: =O6/O$19 -> 0.024790503 | Q6: =P6*'Pondération des sujets'!$D4 -> 0.024790503 | R6: 61 | S6: =R6/R$19 -> 0.021027232 | T6: =S6*'Pondération des sujets'!$D4 -> 0.021027232 | U6: 66 | V6: =U6/U$19 -> 0.023101155 | W6: =V6*'Pondération des sujets'!$D4 -> 0.023101155 | X6: 60 | Y6: =X6/X$19 -> 0.021171489 | Z6: =Y6*'Pondération des sujets'!$D4 -> 0.021171489 | AA6: 54 | AB6: =AA6/AA$19 -> 0.018298882 | AC6: =AB6*'Pondération des sujets'!$D4 -> 0.018298882 | AD6: 47 | AE6: =AD6/AD$19 -> 0.015687583 | AF6: =AE6*'Pondération des sujets'!$D4 -> 0.015687583 | AG6: 48 | AH6: =AG6/AG$19 -> 0.016249154 | AI6: =AH6*'Pondération des sujets'!$D4 -> 0.016249154 | AJ6: 36 | AK6: =AJ6/AJ$19 -> 0.012113055 | AL6: =AK6*'Pondération des sujets'!$D4 -> 0.012113055 | AM6: 51 | AN6: =AM6/AM$19 -> 0.017702187 | AO6: =AN6*'Pondération des sujets'!$D4 -> 0.017702187 | AP6: 51 | AQ6: =AP6/AP$19 -> 0.018188302 | AR6: =AQ6*'Pondération des sujets'!$D4 -> 0.018188302 | AT6: 120 | AU6: =AT6/AT$19 -> 0.040268456 | AV6: =AU6*'Pondération des sujets'!$D4 -> 0.040268456 | AW6: 69 | AX6: =AW6/AW$19 -> 0.023240148 | AY6: =AX6*'Pondération des sujets'!$D4 -> 0.023240148 | AZ6: 69 | BA6: =AZ6/AZ$19 -> 0.022984677 | BB6: =BA6*'Pondération des sujets'!$D4 -> 0.022984677 | BC6: 52 | BD6: =BC6/BC$19 -> 0.017645063 | BE6: =BD6*'Pondération des sujets'!$D4 -> 0.017645063 | BF6: 64 | BG6: =BF6/BF$19 -> 0.021910305 | BH6: =BG6*'Pondération des sujets'!$D4 -> 0.021910305 | BI6: 57 | BJ6: =BI6/BI$19 -> 0.019839889 | BK6: =BJ6*'Pondération des sujets'!$D4 -> 0.019839889 | BL6: 58 | BM6: =BL6/BL$19 -> 0.019607843 | BN6: =BM6*'Pondération des sujets'!$D4 -> 0.019607843 | BO6: 49 | BP6: =BO6/BO$19 -> 0.016420912 | BQ6: =BP6*'Pondération des sujets'!$D4 -> 0.016420912 | BR6: 54 | BS6: =BR6/BR$19 -> 0.018187942 | BT6: =BS6*'Pondération des sujets'!$D4 -> 0.018187942 | BU6: 54 | BV6: =BU6/BU$19 -> 0.01819407 | BW6: =BV6*'Pondération des sujets'!$D4 -> 0.01819407 | BX6: 58 | BY6: =BX6/BX$19 -> 0.01982906 | BZ6: =BY6*'Pondération des sujets'!$D4 -> 0.01982906 | CA6: 51 | CB6: =CA6/CA$19 -> 0.019274376 | CC6: =CB6*'Pondération des sujets'!$D4 -> 0.019274376
A7: 1.3 | B7: Présence et/ou absence à tort (agents quotité 0) | C7: 2 | D7: =C7/C19 -> 0.00069204152 | E7: =D7*'Pondération des sujets'!$D5 -> 0.00069204152 | F7: 9 | G7: =F7/F19 -> 0.0031141869 | H7: =G7*'Pondération des sujets'!$D5 -> 0.0031141869 | I7: 13 | J7: =I7/I19 -> 0.0044735031 | K7: =J7*'Pondération des sujets'!$D5 -> 0.0044735031 | L7: 11 | M7: =L7/L19 -> 0.0037996546 | N7: =M7*'Pondération des sujets'!$D5 -> 0.0037996546 | O7: 32 | P7: =O7/O19 -> 0.011173184 | Q7: =P7*'Pondération des sujets'!$D5 -> 0.011173184 | R7: 19 | S7: =R7/R19 -> 0.0065494657 | T7: =S7*'Pondération des sujets'!$D5 -> 0.0065494657 | U7: 10 | V7: =U7/U19 -> 0.003500175 | W7: =V7*'Pondération des sujets'!$D5 -> 0.003500175 | X7: 6 | Y7: =X7/X19 -> 0.0021171489 | Z7: =Y7*'Pondération des sujets'!$D5 -> 0.0021171489 | AA7: 6 | AB7: =AA7/AA19 -> 0.0020332091 | AC7: =AB7*'Pondération des sujets'!$D5 -> 0.0020332091 | AD7: 8 | AE7: =AD7/AD19 -> 0.002670227 | AF7: =AE7*'Pondération des sujets'!$D5 -> 0.002670227 | AG7: 13 | AH7: =AG7/AG19 -> 0.0044008125 | AI7: =AH7*'Pondération des sujets'!$D5 -> 0.0044008125 | AJ7: 2 | AK7: =AJ7/AJ19 -> 0.00067294751 | AL7: =AK7*'Pondération des sujets'!$D5 -> 0.00067294751 | AM7: 6 | AN7: =AM7/AM19 -> 0.0020826102 | AO7: =AN7*'Pondération des sujets'!$D5 -> 0.0020826102 | AP7: 15 | AQ7: =AP7/AP19 -> 0.0053495007 | AR7: =AQ7*'Pondération des sujets'!$D5 -> 0.0053495007 | AT7: 5 | AU7: =AT7/AT$19 -> 0.0016778523 | AV7: =AU7*'Pondération des sujets'!$D5 -> 0.0016778523 | AW7: 5 | AX7: =AW7/AW$19 -> 0.0016840687 | AY7: =AX7*'Pondération des sujets'!$D5 -> 0.0016840687 | AZ7: 9 | BA7: =AZ7/AZ$19 -> 0.0029980013 | BB7: =BA7*'Pondération des sujets'!$D5 -> 0.0029980013 | BC7: 32 | BD7: =BC7/BC$19 -> 0.0108585 | BE7: =BD7*'Pondération des sujets'!$D5 -> 0.0108585 | BF7: 20 | BG7: =BF7/BF$19 -> 0.0068469702 | BH7: =BG7*'Pondération des sujets'!$D5 -> 0.0068469702 | BI7: 1 | BJ7: =BI7/BI$19 -> 0.00034806822 | BK7: =BJ7*'Pondération des sujets'!$D5 -> 0.00034806822 | BL7: 3 | BM7: =BL7/BL$19 -> 0.0010141988 | BN7: =BM7*'Pondération des sujets'!$D5 -> 0.0010141988 | BO7: 2 | BP7: =BO7/BO$19 -> 0.00067024129 | BQ7: =BP7*'Pondération des sujets'!$D5 -> 0.00067024129 | BR7: 6 | BS7: =BR7/BR$19 -> 0.0020208825 | BT7: =BS7*'Pondération des sujets'!$D5 -> 0.0020208825 | BU7: 1 | BV7: =BU7/BU$19 -> 0.00033692722 | BW7: =BV7*'Pondération des sujets'!$D5 -> 0.00033692722 | BX7: 1 | BY7: =BX7/BX$19 -> 0.00034188034 | BZ7: =BY7*'Pondération des sujets'!$D5 -> 0.00034188034 | CA7: 7 | CB7: =CA7/CA$19 -> 0.0026455026 | CC7: =CB7*'Pondération des sujets'!$D5 -> 0.0026455026
A8: 1.4 | B8: Présence et/ou absence à tort (journées entières) | C8: 158 | D8: =C8/C$19 -> 0.05467128 | E8: =D8*'Pondération des sujets'!$D6 -> 0.05467128 | F8: 126 | G8: =F8/F$19 -> 0.043598616 | H8: =G8*'Pondération des sujets'!$D6 -> 0.043598616 | I8: 96 | J8: =I8/I$19 -> 0.0330351 | K8: =J8*'Pondération des sujets'!$D6 -> 0.0330351 | L8: 133 | M8: =L8/L$19 -> 0.045941278 | N8: =M8*'Pondération des sujets'!$D6 -> 0.045941278 | O8: 141 | P8: =O8/O$19 -> 0.049231844 | Q8: =P8*'Pondération des sujets'!$D6 -> 0.049231844 | R8: 205 | S8: =R8/R$19 -> 0.070665288 | T8: =S8*'Pondération des sujets'!$D6 -> 0.070665288 | U8: 101 | V8: =U8/U$19 -> 0.035351768 | W8: =V8*'Pondération des sujets'!$D6 -> 0.035351768 | X8: 91 | Y8: =X8/X$19 -> 0.032110092 | Z8: =Y8*'Pondération des sujets'!$D6 -> 0.032110092 | AA8: 91 | AB8: =AA8/AA$19 -> 0.030837004 | AC8: =AB8*'Pondération des sujets'!$D6 -> 0.030837004 | AD8: 99 | AE8: =AD8/AD$19 -> 0.033044059 | AF8: =AE8*'Pondération des sujets'!$D6 -> 0.033044059 | AG8: 94 | AH8: =AG8/AG$19 -> 0.031821259 | AI8: =AH8*'Pondération des sujets'!$D6 -> 0.031821259 | AJ8: 91 | AK8: =AJ8/AJ$19 -> 0.030619112 | AL8: =AK8*'Pondération des sujets'!$D6 -> 0.030619112 | AM8: 115 | AN8: =AM8/AM$19 -> 0.039916696 | AO8: =AN8*'Pondération des sujets'!$D6 -> 0.039916696 | AP8: 109 | AQ8: =AP8/AP$19 -> 0.038873039 | AR8: =AQ8*'Pondération des sujets'!$D6 -> 0.038873039 | AT8: 141 | AU8: =AT8/AT$19 -> 0.047315436 | AV8: =AU8*'Pondération des sujets'!$D6 -> 0.047315436 | AW8: 135 | AX8: =AW8/AW$19 -> 0.045469855 | AY8: =AX8*'Pondération des sujets'!$D6 -> 0.045469855 | AZ8: 295 | BA8: =AZ8/AZ$19 -> 0.098267821 | BB8: =BA8*'Pondération des sujets'!$D6 -> 0.098267821 | BC8: 129 | BD8: =BC8/BC$19 -> 0.043773329 | BE8: =BD8*'Pondération des sujets'!$D6 -> 0.043773329 | BF8: 149 | BG8: =BF8/BF$19 -> 0.051009928 | BH8: =BG8*'Pondération des sujets'!$D6 -> 0.051009928 | BI8: 123 | BJ8: =BI8/BI$19 -> 0.042812391 | BK8: =BJ8*'Pondération des sujets'!$D6 -> 0.042812391 | BL8: 115 | BM8: =BL8/BL$19 -> 0.03887762 | BN8: =BM8*'Pondération des sujets'!$D6 -> 0.03887762 | BO8: 101 | BP8: =BO8/BO$19 -> 0.033847185 | BQ8: =BP8*'Pondération des sujets'!$D6 -> 0.033847185 | BR8: 120 | BS8: =BR8/BR$19 -> 0.040417649 | BT8: =BS8*'Pondération des sujets'!$D6 -> 0.040417649 | BU8: 148 | BV8: =BU8/BU$19 -> 0.049865229 | BW8: =BV8*'Pondération des sujets'!$D6 -> 0.049865229 | BX8: 174 | BY8: =BX8/BX$19 -> 0.059487179 | BZ8: =BY8*'Pondération des sujets'!$D6 -> 0.059487179 | CA8: 131 | CB8: =CA8/CA$19 -> 0.049508692 | CC8: =CB8*'Pondération des sujets'!$D6 -> 0.049508692
A9: 3 | B9: Agents sans affectation théorique (pas de PA théorique) | C9: 373 | D9: =C9/C$19 -> 0.12906574 | E9: =D9*'Pondération des sujets'!$D8 -> 0.12906574 | F9: 333 | G9: =F9/F$19 -> 0.11522491 | H9: =G9*'Pondération des sujets'!$D8 -> 0.11522491 | I9: 209 | J9: =I9/I$19 -> 0.071920165 | K9: =J9*'Pondération des sujets'!$D8 -> 0.071920165 | L9: 191 | M9: =L9/L$19 -> 0.06597582 | N9: =M9*'Pondération des sujets'!$D8 -> 0.06597582 | O9: 194 | P9: =O9/O$19 -> 0.06773743 | Q9: =P9*'Pondération des sujets'!$D8 -> 0.06773743 | R9: 33 | S9: =R9/R$19 -> 0.011375388 | T9: =S9*'Pondération des sujets'!$D8 -> 0.011375388 | U9: 256 | V9: =U9/U$19 -> 0.08960448 | W9: =V9*'Pondération des sujets'!$D8 -> 0.08960448 | X9: 409 | Y9: =X9/X$19 -> 0.14431898 | Z9: =Y9*'Pondération des sujets'!$D8 -> 0.14431898 | AA9: 300 | AB9: =AA9/AA$19 -> 0.10166045 | AC9: =AB9*'Pondération des sujets'!$D8 -> 0.10166045 | AD9: 320 | AE9: =AD9/AD$19 -> 0.10680908 | AF9: =AE9*'Pondération des sujets'!$D8 -> 0.10680908 | AG9: 287 | AH9: =AG9/AG$19 -> 0.097156398 | AI9: =AH9*'Pondération des sujets'!$D8 -> 0.097156398 | AJ9: 273 | AK9: =AJ9/AJ$19 -> 0.091857335 | AL9: =AK9*'Pondération des sujets'!$D8 -> 0.091857335 | AM9: 304 | AN9: =AM9/AM$19 -> 0.10551892 | AO9: =AN9*'Pondération des sujets'!$D8 -> 0.10551892 | AP9: 271 | AQ9: =AP9/AP$19 -> 0.096647646 | AR9: =AQ9*'Pondération des sujets'!$D8 -> 0.096647646 | AT9: 422 | AU9: =AT9/AT$19 -> 0.14161074 | AV9: =AU9*'Pondération des sujets'!$D8 -> 0.14161074 | AW9: 332 | AX9: =AW9/AW$19 -> 0.11182216 | AY9: =AX9*'Pondération des sujets'!$D8 -> 0.11182216 | AZ9: 56 | BA9: =AZ9/AZ$19 -> 0.018654231 | BB9: =BA9*'Pondération des sujets'!$D8 -> 0.018654231 | BC9: 108 | BD9: =BC9/BC$19 -> 0.036647438 | BE9: =BD9*'Pondération des sujets'!$D8 -> 0.036647438 | BF9: 92 | BG9: =BF9/BF$19 -> 0.031496063 | BH9: =BG9*'Pondération des sujets'!$D8 -> 0.031496063 | BI9: 73 | BJ9: =BI9/BI$19 -> 0.02540898 | BK9: =BJ9*'Pondération des sujets'!$D8 -> 0.02540898 | BL9: 116 | BM9: =BL9/BL$19 -> 0.039215686 | BN9: =BM9*'Pondération des sujets'!$D8 -> 0.039215686 | BO9: 143 | BP9: =BO9/BO$19 -> 0.047922252 | BQ9: =BP9*'Pondération des sujets'!$D8 -> 0.047922252 | BR9: 183 | BS9: =BR9/BR$19 -> 0.061636915 | BT9: =BS9*'Pondération des sujets'!$D8 -> 0.061636915 | BU9: 127 | BV9: =BU9/BU$19 -> 0.042789757 | BW9: =BV9*'Pondération des sujets'!$D8 -> 0.042789757 | BX9: 152 | BY9: =BX9/BX$19 -> 0.051965812 | BZ9: =BY9*'Pondération des sujets'!$D8 -> 0.051965812 | CA9: 283 | CB9: =CA9/CA$19 -> 0.10695389 | CC9: =CB9*'Pondération des sujets'!$D8 -> 0.10695389
A10: 5 | B10: Agents affectés à une PA MRP ou Cycleur ayant une DHT moyenne hebdomadaire de 35h (sans description des repos de cycle dans la PA) | C10: 0 | D10: =C10/C$19 -> 0 | E10: =D10*'Pondération des sujets'!$D10 -> 0 | F10: 0 | G10: =F10/F$19 -> 0 | H10: =G10*'Pondération des sujets'!$D10 -> 0 | I10: 3 | J10: =I10/I$19 -> 0.0010323469 | K10: =J10*'Pondération des sujets'!$D10 -> 0.0010323469 | L10: 0 | M10: =L10/L$19 -> 0 | N10: =M10*'Pondération des sujets'!$D10 -> 0 | O10: 0 | P10: =O10/O$19 -> 0 | Q10: =P10*'Pondération des sujets'!$D10 -> 0 | R10: 0 | S10: =R10/R$19 -> 0 | T10: =S10*'Pondération des sujets'!$D10 -> 0 | U10: 0 | V10: =U10/U$19 -> 0 | W10: =V10*'Pondération des sujets'!$D10 -> 0 | X10: 1 | Y10: =X10/X$19 -> 0.00035285815 | Z10: =Y10*'Pondération des sujets'!$D10 -> 0.00035285815 | AA10: 0 | AB10: =AA10/AA$19 -> 0 | AC10: =AB10*'Pondération des sujets'!$D10 -> 0 | AD10: 1 | AE10: =AD10/AD$19 -> 0.00033377837 | AF10: =AE10*'Pondération des sujets'!$D10 -> 0.00033377837 | AG10: 12 | AH10: =AG10/AG$19 -> 0.0040622884 | AI10: =AH10*'Pondération des sujets'!$D10 -> 0.0040622884 | AJ10: 0 | AK10: =AJ10/AJ$19 -> 0 | AL10: =AK10*'Pondération des sujets'!$D10 -> 0 | AM10: 0 | AN10: =AM10/AM$19 -> 0 | AO10: =AN10*'Pondération des sujets'!$D10 -> 0 | AP10: 0 | AQ10: =AP10/AP$19 -> 0 | AR10: =AQ10*'Pondération des sujets'!$D10 -> 0 | AT10: 1 | AU10: =AT10/AT$19 -> 0.00033557047 | AV10: =AU10*'Pondération des sujets'!$D10 -> 0.00033557047 | AW10: 3 | AX10: =AW10/AW$19 -> 0.0010104412 | AY10: =AX10*'Pondération des sujets'!$D10 -> 0.0010104412 | AZ10: 2 | BA10: =AZ10/AZ$19 -> 0.00066622252 | BB10: =BA10*'Pondération des sujets'!$D10 -> 0.00066622252 | BC10: 3 | BD10: =BC10/BC$19 -> 0.0010179844 | BE10: =BD10*'Pondération des sujets'!$D10 -> 0.0010179844 | BF10: 2 | BG10: =BF10/BF$19 -> 0.00068469702 | BH10: =BG10*'Pondération des sujets'!$D10 -> 0.00068469702 | BI10: 2 | BJ10: =BI10/BI$19 -> 0.00069613644 | BK10: =BJ10*'Pondération des sujets'!$D10 -> 0.00069613644 | BL10: 2 | BM10: =BL10/BL$19 -> 0.00067613252 | BN10: =BM10*'Pondération des sujets'!$D10 -> 0.00067613252 | BO10: 2 | BP10: =BO10/BO$19 -> 0.00067024129 | BQ10: =BP10*'Pondération des sujets'!$D10 -> 0.00067024129 | BR10: 35 | BS10: =BR10/BR$19 -> 0.011788481 | BT10: =BS10*'Pondération des sujets'!$D10 -> 0.011788481 | BU10: 1 | BV10: =BU10/BU$19 -> 0.00033692722 | BW10: =BV10*'Pondération des sujets'!$D10 -> 0.00033692722 | BX10: 2 | BY10: =BX10/BX$19 -> 0.00068376068 | BZ10: =BY10*'Pondération des sujets'!$D10 -> 0.00068376068 | CA10: 1 | CB10: =CA10/CA$19 -> 0.00037792895 | CC10: =CB10*'Pondération des sujets'!$D10 -> 0.00037792895
A11: 8bis.1 | B11: Agents sortis de BSCC mais toujours affectés à une PA théorique | C11: 3 | D11: =C11/C$19 -> 0.0010380623 | E11: =D11*'Pondération des sujets'!$D16 -> 0.0010380623 | F11: 2 | G11: =F11/F$19 -> 0.00069204152 | H11: =G11*'Pondération des sujets'!$D16 -> 0.00069204152 | I11: 1 | J11: =I11/I$19 -> 0.00034411562 | K11: =J11*'Pondération des sujets'!$D16 -> 0.00034411562 | L11: 2 | M11: =L11/L$19 -> 0.00069084629 | N11: =M11*'Pondération des sujets'!$D16 -> 0.00069084629 | O11: 3 | P11: =O11/O$19 -> 0.001047486 | Q11: =P11*'Pondération des sujets'!$D16 -> 0.001047486 | R11: 2 | S11: =R11/R$19 -> 0.00068941744 | T11: =S11*'Pondération des sujets'!$D16 -> 0.00068941744 | U11: 2 | V11: =U11/U$19 -> 0.000700035 | W11: =V11*'Pondération des sujets'!$D16 -> 0.000700035 | X11: 0 | Y11: =X11/X$19 -> 0 | Z11: =Y11*'Pondération des sujets'!$D16 -> 0 | AA11: 0 | AB11: =AA11/AA$19 -> 0 | AC11: =AB11*'Pondération des sujets'!$D16 -> 0 | AD11: 0 | AE11: =AD11/AD$19 -> 0 | AF11: =AE11*'Pondération des sujets'!$D16 -> 0 | AG11: 0 | AH11: =AG11/AG$19 -> 0 | AI11: =AH11*'Pondération des sujets'!$D16 -> 0 | AJ11: 0 | AK11: =AJ11/AJ$19 -> 0 | AL11: =AK11*'Pondération des sujets'!$D16 -> 0 | AM11: 1 | AN11: =AM11/AM$19 -> 0.0003471017 | AO11: =AN11*'Pondération des sujets'!$D16 -> 0.0003471017 | AP11: 2 | AQ11: =AP11/AP$19 -> 0.00071326676 | AR11: =AQ11*'Pondération des sujets'!$D16 -> 0.00071326676 | AT11: 0 | AU11: =AT11/AT$19 -> 0 | AV11: =AU11*'Pondération des sujets'!$D16 -> 0 | AW11: 0 | AX11: =AW11/AW$19 -> 0 | AY11: =AX11*'Pondération des sujets'!$D16 -> 0 | AZ11: 0 | BA11: =AZ11/AZ$19 -> 0 | BB11: =BA11*'Pondération des sujets'!$D16 -> 0 | BC11: 0 | BD11: =BC11/BC$19 -> 0 | BE11: =BD11*'Pondération des sujets'!$D16 -> 0 | BF11: 0 | BG11: =BF11/BF$19 -> 0 | BH11: =BG11*'Pondération des sujets'!$D16 -> 0 | BI11: 1 | BJ11: =BI11/BI$19 -> 0.00034806822 | BK11: =BJ11*'Pondération des sujets'!$D16 -> 0.00034806822 | BL11: 1 | BM11: =BL11/BL$19 -> 0.00033806626 | BN11: =BM11*'Pondération des sujets'!$D16 -> 0.00033806626 | BO11: 0 | BP11: =BO11/BO$19 -> 0 | BQ11: =BP11*'Pondération des sujets'!$D16 -> 0 | BR11: 0 | BS11: =BR11/BR$19 -> 0 | BT11: =BS11*'Pondération des sujets'!$D16 -> 0 | BU11: 0 | BV11: =BU11/BU$19 -> 0 | BW11: =BV11*'Pondération des sujets'!$D16 -> 0 | BX11: 0 | BY11: =BX11/BX$19 -> 0 | BZ11: =BY11*'Pondération des sujets'!$D16 -> 0 | CA11: 1 | CB11: =CA11/CA$19 -> 0.00037792895 | CC11: =CB11*'Pondération des sujets'!$D16 -> 0.00037792895
A12: 8bis.2 | B12: Agents sortis de BSCC mais toujours affectés à une PA exceptionnelle | C12: 0 | D12: =C12/C$19 -> 0 | E12: =D12*'Pondération des sujets'!$D17 -> 0 | F12: 0 | G12: =F12/F$19 -> 0 | H12: =G12*'Pondération des sujets'!$D17 -> 0 | I12: 0 | J12: =I12/I$19 -> 0 | K12: =J12*'Pondération des sujets'!$D17 -> 0 | L12: 0 | M12: =L12/L$19 -> 0 | N12: =M12*'Pondération des sujets'!$D17 -> 0 | O12: 0 | P12: =O12/O$19 -> 0 | Q12: =P12*'Pondération des sujets'!$D17 -> 0 | R12: 0 | S12: =R12/R$19 -> 0 | T12: =S12*'Pondération des sujets'!$D17 -> 0 | U12: 0 | V12: =U12/U$19 -> 0 | W12: =V12*'Pondération des sujets'!$D17 -> 0 | X12: 0 | Y12: =X12/X$19 -> 0 | Z12: =Y12*'Pondération des sujets'!$D17 -> 0 | AA12: 0 | AB12: =AA12/AA$19 -> 0 | AC12: =AB12*'Pondération des sujets'!$D17 -> 0 | AD12: 0 | AE12: =AD12/AD$19 -> 0 | AF12: =AE12*'Pondération des sujets'!$D17 -> 0 | AG12: 0 | AH12: =AG12/AG$19 -> 0 | AI12: =AH12*'Pondération des sujets'!$D17 -> 0 | AJ12: 0 | AK12: =AJ12/AJ$19 -> 0 | AL12: =AK12*'Pondération des sujets'!$D17 -> 0 | AM12: 0 | AN12: =AM12/AM$19 -> 0 | AO12: =AN12*'Pondération des sujets'!$D17 -> 0 | AP12: 0 | AQ12: =AP12/AP$19 -> 0 | AR12: =AQ12*'Pondération des sujets'!$D17 -> 0 | AT12: 0 | AU12: =AT12/AT$19 -> 0 | AV12: =AU12*'Pondération des sujets'!$D17 -> 0 | AW12: 0 | AX12: =AW12/AW$19 -> 0 | AY12: =AX12*'Pondération des sujets'!$D17 -> 0 | AZ12: 0 | BA12: =AZ12/AZ$19 -> 0 | BB12: =BA12*'Pondération des sujets'!$D17 -> 0 | BC12: 0 | BD12: =BC12/BC$19 -> 0 | BE12: =BD12*'Pondération des sujets'!$D17 -> 0 | BF12: 0 | BG12: =BF12/BF$19 -> 0 | BH12: =BG12*'Pondération des sujets'!$D17 -> 0 | BI12: 1 | BJ12: =BI12/BI$19 -> 0.00034806822 | BK12: =BJ12*'Pondération des sujets'!$D17 -> 0.00034806822 | BL12: 1 | BM12: =BL12/BL$19 -> 0.00033806626 | BN12: =BM12*'Pondération des sujets'!$D17 -> 0.00033806626 | BO12: 0 | BP12: =BO12/BO$19 -> 0 | BQ12: =BP12*'Pondération des sujets'!$D17 -> 0 | BR12: 0 | BS12: =BR12/BR$19 -> 0 | BT12: =BS12*'Pondération des sujets'!$D17 -> 0 | BU12: 0 | BV12: =BU12/BU$19 -> 0 | BW12: =BV12*'Pondération des sujets'!$D17 -> 0 | BX12: 0 | BY12: =BX12/BX$19 -> 0 | BZ12: =BY12*'Pondération des sujets'!$D17 -> 0 | CA12: 0 | CB12: =CA12/CA$19 -> 0 | CC12: =CB12*'Pondération des sujets'!$D17 -> 0
A13: 8ter | B13: PA avec plage horaire erronée | C13: 0 | D13: =C13/C$21 -> 0 | F13: 0 | G13: =F13/F$21 -> 0 | I13: 0 | J13: =I13/I$21 -> 0 | L13: 0 | M13: =L13/L$21 -> 0 | O13: 0 | P13: =O13/O$21 -> 0 | R13: 0 | S13: =R13/R$21 -> 0 | U13: 0 | V13: =U13/U$21 -> 0 | X13: 0 | Y13: =X13/X$21 -> 0 | AA13: 0 | AB13: =AA13/AA$21 -> 0 | AD13: 0 | AE13: =AD13/AD$21 -> 0 | AG13: 0 | AH13: =AG13/AG$21 -> 0 | AJ13: 0 | AK13: =AJ13/AJ$21 -> 0 | AM13: 0 | AN13: =AM13/AM$21 -> 0 | AP13: 0 | AQ13: =AP13/AP$21 -> 0 | AT13: 1 | AU13: =AT13/AT$19 -> 0.00033557047 | AW13: 1 | AX13: =AW13/AW$19 -> 0.00033681374 | AZ13: 0 | BA13: =AZ13/AZ$19 -> 0 | BC13: 0 | BD13: =BC13/BC$19 -> 0 | BF13: 0 | BG13: =BF13/BF$19 -> 0 | BI13: 0 | BJ13: =BI13/BI$19 -> 0 | BL13: 0 | BM13: =BL13/BL$19 -> 0 | BO13: 0 | BP13: =BO13/BO$19 -> 0 | BR13: 0 | BS13: =BR13/BR$19 -> 0 | BU13: 0 | BV13: =BU13/BU$19 -> 0 | BX13: 0 | BY13: =BX13/BX$19 -> 0 | CA13: 0 | CB13: =CA13/CA$19 -> 0
A14: CALCUL INDICATEUR | B14: XX TOTAL | E14: =SUM(E4:E12) -> 0.31937716 | H14: =SUM(H4:H12) -> 0.27716263 | K14: =SUM(K4:K12) -> 0.20543703 | N14: =SUM(N4:N12) -> 0.2148532 | Q14: =SUM(Q4:Q12) -> 0.22346369 | T14: =SUM(T4:T12) -> 0.17683557 | W14: =SUM(W4:W12) -> 0.2019601 | Z14: =SUM(Z4:Z12) -> 0.23994354 | AC14: =SUM(AC4:AC12) -> 0.21213148 | AF14: =SUM(AF4:AF12) -> 0.21528705 | AI14: =SUM(AI4:AI12) -> 0.20379147 | AL14: =SUM(AL4:AL12) -> 0.1820323 | AO14: =SUM(AO4:AO12) -> 0.21138494 | AR14: =SUM(AR4:AR12) -> 0.20470756 | AV14: =SUM(AV4:AV12) -> 0.47214765 | AY14: =SUM(AY4:AY12) -> 0.34489727 | BB14: =SUM(BB4:BB12) -> 0.29013991 | BE14: =SUM(BE4:BE12) -> 0.20325755 | BH14: =SUM(BH4:BH12) -> 0.21431017 | BK14: =SUM(BK4:BK12) -> 0.16568047 | BN14: =SUM(BN4:BN12) -> 0.18356998 | BQ14: =SUM(BQ4:BQ12) -> 0.1866622 | BT14: =SUM(BT4:BT12) -> 0.20983496 | BW14: =SUM(BW4:BW12) -> 0.18463612 | BZ14: =SUM(BZ4:BZ12) -> 0.20512821 | CC14: =SUM(CC4:CC12) -> 0.26795163
C16: DSCC 35 | F16: DSCC 35 | I16: DSCC 35 | L16: DSCC 35 | O16: DSCC 35 | R16: DSCC 35 | U16: DSCC 35 | X16: DSCC 35 | AA16: DSCC 35 | AD16: DSCC 35 | AG16: DSCC 35 | AJ16: DSCC 35 | AM16: DSCC 35 | AP16: DSCC 35 | AT16: DSCC 56 | AW16: DSCC 56 | AZ16: DSCC 56 | BC16: DSCC 56 | BF16: DSCC 56 | BI16: DSCC 56 | BL16: DSCC 56 | BO16: DSCC 56 | BR16: DSCC 56 | BU16: DSCC 56 | BX16: DSCC 56 | CA16: DSCC 56
C17: Suivi 1 | F17: Suivi 2 | I17: Suivi 3 | L17: Suivi 4 | O17: Suivi 5 | R17: Suivi 5 | U17: Suivi 7 | X17: Suivi 8 | AA17: Suivi 9 | AD17: Suivi 10 | AG17: Suivi 11 | AJ17: Suivi 12 | AM17: Suivi 13 | AP17: Suivi 14 | AT17: Suivi 1 | AW17: Suivi 2 | AZ17: Suivi 3 | BC17: Suivi 4 | BF17: Suivi 5 | BI17: Suivi 6 | BL17: Suivi 7 | BO17: Suivi 8 | BR17: Suivi 9 | BU17: Suivi 10 | BX17: Suivi 11 | CA17: Suivi 12
C18: Effectif total | F18: Effectif total | I18: Effectif total | L18: Effectif total | O18: Effectif total | R18: Effectif total | U18: Effectif total | X18: Effectif total | AA18: Effectif total | AD18: Effectif total | AG18: Effectif total | AJ18: Effectif total | AM18: Effectif total | AP18: Effectif total | AT18: Effectif total | AW18: Effectif total | AZ18: Effectif total | BC18: Effectif total | BF18: Effectif total | BI18: Effectif total | BL18: Effectif total | BO18: Effectif total | BR18: Effectif total | BU18: Effectif total | BX18: Effectif total | CA18: Effectif total
C19: 2890 | F19: 2890 | I19: 2906 | L19: 2895 | O19: 2864 | R19: 2901 | U19: 2857 | X19: 2834 | AA19: 2951 | AD19: 2996 | AG19: 2954 | AJ19: 2972 | AM19: 2881 | AP19: 2804 | AT19: 2980 | AW19: 2969 | AZ19: 3002 | BC19: 2947 | BF19: 2921 | BI19: 2873 | BL19: 2958 | BO19: 2984 | BR19: 2969 | BU19: 2968 | BX19: 2925 | CA19: 2646
C20: Nombre total de PA | F20: Nombre total de PA | I20: Nombre total de PA | L20: Nombre total de PA | O20: Nombre total de PA | R20: Nombre total de PA | U20: Nombre total de PA | X20: Nombre total de PA | AA20: Nombre total de PA | AD20: Nombre total de PA | AG20: Nombre total de PA | AJ20: Nombre total de PA | AM20: Nombre total de PA | AP20: Nombre total de PA | AT20: Nombre total de PA | AW20: Nombre total de PA | AZ20: Nombre total de PA | BC20: Nombre total de PA | BF20: Nombre total de PA | BI20: Nombre total de PA | BL20: Nombre total de PA | BO20: Nombre total de PA | BR20: Nombre total de PA | BU20: Nombre total de PA | BX20: Nombre total de PA | CA20: Nombre total de PA
C21: 2664 | F21: 2626 | I21: 2663 | L21: 2664 | O21: 2642 | R21: 2616 | U21: 2614 | X21: 2628 | AA21: 2759 | AD21: 2640 | AG21: 2648 | AJ21: 2643 | AM21: 2630 | AP21: 2639 | AT21: 3044 | AW21: 3128 | AZ21: 3169 | BC21: 3205 | BF21: 3167 | BI21: 3166 | BL21: 3176 | BO21: 3133 | BR21: 3108 | BU21: 3122 | BX21: 3119 | CA21: 3102

Sheet Centre Val de Loire
A1: N° | B1: Sujets de fiabilisation
C2: DSCC 37 | F2: DSCC 37 | I2: DSCC 37 | L2: DSCC 37 | O2: DSCC 37 | R2: DSCC 37 | U2: DSCC 37 | X2: DSCC 37 | AA2: DSCC 37 | AD2: DSCC 37 | AG2: DSCC 37 | AJ2: DSCC 37 | AN2: DSCC 45 | AQ2: DSCC 45 | AT2: DSCC 45 | AW2: DSCC 45 | AZ2: DSCC 45 | BC2: DSCC 45 | BF2: DSCC 45 | BI2: DSCC 45 | BL2: DSCC 45 | BO2: DSCC 45 | BR2: DSCC 45 | BU2: DSCC 45
C3: Suivi 1 | D3: 19/02 - Suivi 1 | E3: Indicateur | F3: Suivi 2 | G3: 12/03 - Suivi 2 | H3: Indicateur | I3: Suivi 3 | J3: 02/04 - Suivi 3 | K3: Indicateur | L3: Suivi 4 | M3: 16/04 - Suivi 4 | N3: Indicateur | O3: Suivi 5 | P3: 14/05 - Suivi 5 | Q3: Indicateur | R3: Suivi 6 | S3: 03/06 - Suivi 6 | T3: Indicateur | U3: Suivi 7 | V3: 25/06 - Suivi 7 | W3: Indicateur | X3: Suivi 8 | Y3: 16/07 - Suivi 8 | Z3: Indicateur | AA3: Suivi 9 | AB3: 06/08 - Suivi 9 | AC3: Indicateur | AD3: Suivi 10 | AE3: 29/08 - Suivi 10 | AF3: Indicateur | AG3: Suivi 11 | AH3: 17/09 - Suivi 11 | AI3: Indicateur | AJ3: Suivi 12 | AK3: 08/10 - Suivi 12 | AL3: Indicateur | AN3: Suivi 1 | AO3: 19/02 - Suivi 1 | AP3: Indicateur | AQ3: Suivi 2 | AR3: 12/03 - Suivi 2 | AS3: Indicateur | AT3: Suivi 3 | AU3: 02/04 - Suivi 3 | AV3: Indicateur | AW3: Suivi 4 | AX3: 16/04 - Suivi 4 | AY3: Indicateur | AZ3: Suivi 5 | BA3: 14/05 - Suivi 5 | BB3: Indicateur | BC3: Suivi 6 | BD3: 03/06 - Suivi 6 | BE3: Indicateur | BF3: Suivi 7 | BG3: 25/06 - Suivi 7 | BH3: Indicateur | BI3: Suivi 8 | BJ3: 16/07 - Suivi 8 | BK3: Indicateur | BL3: Suivi 9 | BM3: 06/08 - Suivi 9 | BN3: Indicateur | BO3: Suivi 10 | BP3: 29/08 - Suivi 10 | BQ3: Indicateur | BR3: Suivi 11 | BS3: 17/09 - Suivi 11 | BT3: Indicateur | BU3: Suivi 12 | BV3: 08/10 - Suivi 12 | BW3: Indicateur
A4: 1.1 | B4: Présence et/ou absence à tort (agents temps plein) | C4: 298 | D4: =C4/C$19 -> 0.13393258 | E4: =D4*'Pondération des sujets'!$D3 -> 0.13393258 | F4: 283 | G4: =F4/F$19 -> 0.12713387 | H4: =G4*'Pondération des sujets'!$D3 -> 0.12713387 | I4: 350 | J4: =I4/I$19 -> 0.15765766 | K4: =J4*'Pondération des sujets'!$D3 -> 0.15765766 | L4: 329 | M4: =L4/L$19 -> 0.1484657 | N4: =M4*'Pondération des sujets'!$D3 -> 0.1484657 | O4: 405 | P4: =O4/O$19 -> 0.18552451 | Q4: =P4*'Pondération des sujets'!$D3 -> 0.18552451 | R4: 401 | S4: =R4/R$19 -> 0.18651163 | T4: =S4*'Pondération des sujets'!$D3 -> 0.18651163 | U4: 446 | V4: =U4/U$19 -> 0.19232428 | W4: =V4*'Pondération des sujets'!$D3 -> 0.19232428 | X4: 437 | Y4: =X4/X$19 -> 0.18691189 | Z4: =Y4*'Pondération des sujets'!$D3 -> 0.18691189 | AA4: 457 | AB4: =AA4/AA$19 -> 0.2 | AC4: =AB4*'Pondération des sujets'!$D3 -> 0.2 | AD4: 396 | AE4: =AD4/AD$19 -> 0.17046922 | AF4: =AE4*'Pondération des sujets'!$D3 -> 0.17046922 | AG4: 389 | AH4: =AG4/AG$19 -> 0.17491007 | AI4: =AH4*'Pondération des sujets'!$D3 -> 0.17491007 | AJ4: 392 | AK4: =AJ4/AJ$19 -> 0.18006431 | AL4: =AK4*'Pondération des sujets'!$D3 -> 0.18006431 | AN4: 595 | AO4: =AN4/AN$19 -> 0.24246129 | AP4: =AO4*'Pondération des sujets'!$D3 -> 0.24246129 | AQ4: 601 | AR4: =AQ4/AQ$19 -> 0.24580777 | AS4: =AR4*'Pondération des sujets'!$D3 -> 0.24580777 | AT4: 584 | AU4: =AT4/AT$19 -> 0.23817292 | AV4: =AU4*'Pondération des sujets'!$D3 -> 0.23817292 | AW4: 534 | AX4: =AW4/AW$19 -> 0.21672078 | AY4: =AX4*'Pondération des sujets'!$D3 -> 0.21672078 | AZ4: 590 | BA4: =AZ4/AZ$19 -> 0.24259868 | BB4: =BA4*'Pondération des sujets'!$D3 -> 0.24259868 | BC4: 613 | BD4: =BC4/BC$19 -> 0.25205592 | BE4: =BD4*'Pondération des sujets'!$D3 -> 0.25205592 | BF4: 542 | BG4: =BF4/BF$19 -> 0.2168 | BH4: =BG4*'Pondération des sujets'!$D3 -> 0.2168 | BI4: 508 | BJ4: =BI4/BI$19 -> 0.19968553 | BK4: =BJ4*'Pondération des sujets'!$D3 -> 0.19968553 | BL4: 541 | BM4: =BL4/BL$19 -> 0.21744373 | BN4: =BM4*'Pondération des sujets'!$D3 -> 0.21744373 | BO4: 488 | BP4: =BO4/BO$19 -> 0.19137255 | BQ4: =BP4*'Pondération des sujets'!$D3 -> 0.19137255 | BR4: 488 | BS4: =BR4/BR$19 -> 0.19934641 | BT4: =BS4*'Pondération des sujets'!$D3 -> 0.19934641 | BU4: 526 | BV4: =BU4/BU$19 -> 0.22054507 | BW4: =BV4*'Pondération des sujets'!$D3 -> 0.22054507
B5: XX Agents temps plein avec GAT et/ou GPT liées à une PA 79 | C5: 97 | D5: =C5/C$19 -> 0.043595506 | E5: =-D5*'Pondération des sujets'!$D$3 -> -0.043595506 | F5: 66 | G5: =F5/F$19 -> 0.029649596 | H5: =-G5*'Pondération des sujets'!$D$3 -> -0.029649596 | I5: 102 | J5: =I5/I$19 -> 0.045945946 | K5: =-J5*'Pondération des sujets'!$D$3 -> -0.045945946 | L5: 78 | M5: =L5/L$19 -> 0.035198556 | N5: =-M5*'Pondération des sujets'!$D$3 -> -0.035198556 | O5: 92 | P5: =O5/O$19 -> 0.042143839 | Q5: =-P5*'Pondération des sujets'!$D$3 -> -0.042143839 | R5: 142 | S5: =R5/R$19 -> 0.066046512 | T5: =-S5*'Pondération des sujets'!$D$3 -> -0.066046512 | U5: 123 | V5: =U5/U$19 -> 0.053040103 | W5: =-V5*'Pondération des sujets'!$D$3 -> -0.053040103 | X5: 126 | Y5: =X5/X$19 -> 0.053892216 | Z5: =-Y5*'Pondération des sujets'!$D$3 -> -0.053892216 | AA5: 141 | AB5: =AA5/AA$19 -> 0.061706783 | AC5: =-AB5*'Pondération des sujets'!$D$3 -> -0.061706783 | AD5: 124 | AE5: =AD5/AD$19 -> 0.053379251 | AF5: =-AE5*'Pondération des sujets'!$D$3 -> -0.053379251 | AG5: 117 | AH5: =AG5/AG$19 -> 0.052607914 | AI5: =-AH5*'Pondération des sujets'!$D$3 -> -0.052607914 | AJ5: 151 | AK5: =AJ5/AJ$19 -> 0.069361507 | AL5: =-AK5*'Pondération des sujets'!$D$3 -> -0.069361507 | AN5: 164 | AO5: =AN5/AN$19 -> 0.066829666 | AP5: =-AO5*'Pondération des sujets'!$D$3 -> -0.066829666 | AQ5: 139 | AR5: =AQ5/AQ$19 -> 0.056850716 | AS5: =-AR5*'Pondération des sujets'!$D$3 -> -0.056850716 | AT5: 192 | AU5: =AT5/AT$19 -> 0.078303426 | AV5: =-AU5*'Pondération des sujets'!$D$3 -> -0.078303426 | AW5: 182 | AX5: =AW5/AW$19 -> 0.073863636 | AY5: =-AX5*'Pondération des sujets'!$D$3 -> -0.073863636 | AZ5: 187 | BA5: =AZ5/AZ$19 -> 0.076891447 | BB5: =-BA5*'Pondération des sujets'!$D$3 -> -0.076891447 | BC5: 218 | BD5: =BC5/BC$19 -> 0.089638158 | BE5: =-BD5*'Pondération des sujets'!$D$3 -> -0.089638158 | BF5: 180 | BG5: =BF5/BF$19 -> 0.072 | BH5: =-BG5*'Pondération des sujets'!$D$3 -> -0.072 | BI5: 190 | BJ5: =BI5/BI$19 -> 0.074685535 | BK5: =-BJ5*'Pondération des sujets'!$D$3 -> -0.074685535 | BL5: 206 | BM5: =BL5/BL$19 -> 0.082797428 | BN5: =-BM5*'Pondération des sujets'!$D$3 -> -0.082797428 | BO5: 152 | BP5: =BO5/BO$19 -> 0.059607843 | BQ5: =-BP5*'Pondération des sujets'!$D$3 -> -0.059607843 | BR5: 186 | BS5: =BR5/BR$19 -> 0.075980392 | BT5: =-BS5*'Pondération des sujets'!$D$3 -> -0.075980392 | BU5: 168 | BV5: =BU5/BU$19 -> 0.070440252 | BW5: =-BV5*'Pondération des sujets'!$D$3 -> -0.070440252
A6: 1.2 | B6: Présence et/ou absence à tort (agents temps partiel) | C6: 34 | D6: =C6/C$19 -> 0.015280899 | E6: =D6*'Pondération des sujets'!$D4 -> 0.015280899 | F6: 27 | G6: =F6/F$19 -> 0.01212938 | H6: =G6*'Pondération des sujets'!$D4 -> 0.01212938 | I6: 29 | J6: =I6/I$19 -> 0.013063063 | K6: =J6*'Pondération des sujets'!$D4 -> 0.013063063 | L6: 29 | M6: =L6/L$19 -> 0.013086643 | N6: =M6*'Pondération des sujets'!$D4 -> 0.013086643 | O6: 39 | P6: =O6/O$19 -> 0.017865323 | Q6: =P6*'Pondération des sujets'!$D4 -> 0.017865323 | R6: 39 | S6: =R6/R$19 -> 0.018139535 | T6: =S6*'Pondération des sujets'!$D4 -> 0.018139535 | U6: 45 | V6: =U6/U$19 -> 0.019404916 | W6: =V6*'Pondération des sujets'!$D4 -> 0.019404916 | X6: 39 | Y6: =X6/X$19 -> 0.016680924 | Z6: =Y6*'Pondération des sujets'!$D4 -> 0.016680924 | AA6: 36 | AB6: =AA6/AA$19 -> 0.015754923 | AC6: =AB6*'Pondération des sujets'!$D4 -> 0.015754923 | AD6: 28 | AE6: =AD6/AD$19 -> 0.012053379 | AF6: =AE6*'Pondération des sujets'!$D4 -> 0.012053379 | AG6: 33 | AH6: =AG6/AG$19 -> 0.014838129 | AI6: =AH6*'Pondération des sujets'!$D4 -> 0.014838129 | AJ6: 35 | AK6: =AJ6/AJ$19 -> 0.01607717 | AL6: =AK6*'Pondération des sujets'!$D4 -> 0.01607717 | AN6: 45 | AO6: =AN6/AN$19 -> 0.018337408 | AP6: =AO6*'Pondération des sujets'!$D4 -> 0.018337408 | AQ6: 48 | AR6: =AQ6/AQ$19 -> 0.019631902 | AS6: =AR6*'Pondération des sujets'!$D4 -> 0.019631902 | AT6: 48 | AU6: =AT6/AT$19 -> 0.019575856 | AV6: =AU6*'Pondération des sujets'!$D4 -> 0.019575856 | AW6: 41 | AX6: =AW6/AW$19 -> 0.01663961 | AY6: =AX6*'Pondération des sujets'!$D4 -> 0.01663961 | AZ6: 46 | BA6: =AZ6/AZ$19 -> 0.018914474 | BB6: =BA6*'Pondération des sujets'!$D4 -> 0.018914474 | BC6: 43 | BD6: =BC6/BC$19 -> 0.017680921 | BE6: =BD6*'Pondération des sujets'!$D4 -> 0.017680921 | BF6: 41 | BG6: =BF6/BF$19 -> 0.0164 | BH6: =BG6*'Pondération des sujets'!$D4 -> 0.0164 | BI6: 41 | BJ6: =BI6/BI$19 -> 0.016116352 | BK6: =BJ6*'Pondération des sujets'!$D4 -> 0.016116352 | BL6: 37 | BM6: =BL6/BL$19 -> 0.014871383 | BN6: =BM6*'Pondération des sujets'!$D4 -> 0.014871383 | BO6: 28 | BP6: =BO6/BO$19 -> 0.010980392 | BQ6: =BP6*'Pondération des sujets'!$D4 -> 0.010980392 | BR6: 42 | BS6: =BR6/BR$19 -> 0.017156863 | BT6: =BS6*'Pondération des sujets'!$D4 -> 0.017156863 | BU6: 37 | BV6: =BU6/BU$19 -> 0.015513627 | BW6: =BV6*'Pondération des sujets'!$D4 -> 0.015513627
A7: 1.3 | B7: Présence et/ou absence à tort (agents quotité 0) | C7: 1 | D7: =C7/C19 -> 0.0004494382 | E7: =D7*'Pondération des sujets'!$D5 -> 0.0004494382 | F7: 0 | G7: =F7/F19 -> 0 | H7: =G7*'Pondération des sujets'!$D5 -> 0 | I7: 12 | J7: =I7/I19 -> 0.0054054054 | K7: =J7*'Pondération des sujets'!$D5 -> 0.0054054054 | L7: 11 | M7: =L7/L19 -> 0.0049638989 | N7: =M7*'Pondération des sujets'!$D5 -> 0.0049638989 | O7: 0 | P7: =O7/O19 -> 0 | Q7: =P7*'Pondération des sujets'!$D5 -> 0 | R7: 7 | S7: =R7/R19 -> 0.003255814 | T7: =S7*'Pondération des sujets'!$D5 -> 0.003255814 | U7: 5 | V7: =U7/U19 -> 0.0021561018 | W7: =V7*'Pondération des sujets'!$D5 -> 0.0021561018 | X7: 11 | Y7: =X7/X19 -> 0.004704876 | Z7: =Y7*'Pondération des sujets'!$D5 -> 0.004704876 | AA7: 16 | AB7: =AA7/AA19 -> 0.0070021882 | AC7: =AB7*'Pondération des sujets'!$D5 -> 0.0070021882 | AD7: 0 | AE7: =AD7/AD19 -> 0 | AF7: =AE7*'Pondération des sujets'!$D5 -> 0 | AG7: 8 | AH7: =AG7/AG19 -> 0.0035971223 | AI7: =AH7*'Pondération des sujets'!$D5 -> 0.0035971223 | AJ7: 10 | AK7: =AJ7/AJ19 -> 0.0045934773 | AL7: =AK7*'Pondération des sujets'!$D5 -> 0.0045934773 | AN7: 3 | AO7: =AN7/AN19 -> 0.0012224939 | AP7: =AO7*'Pondération des sujets'!$D5 -> 0.0012224939 | AQ7: 7 | AR7: =AQ7/AQ19 -> 0.0028629857 | AS7: =AR7*'Pondération des sujets'!$D5 -> 0.0028629857 | AT7: 11 | AU7: =AT7/AT19 -> 0.0044861338 | AV7: =AU7*'Pondération des sujets'!$D5 -> 0.0044861338 | AW7: 12 | AX7: =AW7/AW19 -> 0.0048701299 | AY7: =AX7*'Pondération des sujets'!$D5 -> 0.0048701299 | AZ7: 12 | BA7: =AZ7/AZ19 -> 0.0049342105 | BB7: =BA7*'Pondération des sujets'!$D5 -> 0.0049342105 | BC7: 5 | BD7: =BC7/BC19 -> 0.0020559211 | BE7: =BD7*'Pondération des sujets'!$D5 -> 0.0020559211 | BF7: 4 | BG7: =BF7/BF19 -> 0.0016 | BH7: =BG7*'Pondération des sujets'!$D5 -> 0.0016 | BI7: 6 | BJ7: =BI7/BI19 -> 0.0023584906 | BK7: =BJ7*'Pondération des sujets'!$D5 -> 0.0023584906 | BL7: 16 | BM7: =BL7/BL19 -> 0.0064308682 | BN7: =BM7*'Pondération des sujets'!$D5 -> 0.0064308682 | BO7: 0 | BP7: =BO7/BO19 -> 0 | BQ7: =BP7*'Pondération des sujets'!$D5 -> 0 | BR7: 10 | BS7: =BR7/BR19 -> 0.0040849673 | BT7: =BS7*'Pondération des sujets'!$D5 -> 0.0040849673 | BU7: 11 | BV7: =BU7/BU19 -> 0.0046121593 | BW7: =BV7*'Pondération des sujets'!$D5 -> 0.0046121593
A8: 1.4 | B8: Présence et/ou absence à tort (journées entières) | C8: 134 | D8: =C8/C$19 -> 0.060224719 | E8: =D8*'Pondération des sujets'!$D6 -> 0.060224719 | F8: 142 | G8: =F8/F$19 -> 0.063791554 | H8: =G8*'Pondération des sujets'!$D6 -> 0.063791554 | I8: 328 | J8: =I8/I$19 -> 0.14774775 | K8: =J8*'Pondération des sujets'!$D6 -> 0.14774775 | L8: 487 | M8: =L8/L$19 -> 0.21976534 | N8: =M8*'Pondération des sujets'!$D6 -> 0.21976534 | O8: 322 | P8: =O8/O$19 -> 0.14750344 | Q8: =P8*'Pondération des sujets'!$D6 -> 0.14750344 | R8: 250 | S8: =R8/R$19 -> 0.11627907 | T8: =S8*'Pondération des sujets'!$D6 -> 0.11627907 | U8: 244 | V8: =U8/U$19 -> 0.10521777 | W8: =V8*'Pondération des sujets'!$D6 -> 0.10521777 | X8: 259 | Y8: =X8/X$19 -> 0.11077844 | Z8: =Y8*'Pondération des sujets'!$D6 -> 0.11077844 | AA8: 242 | AB8: =AA8/AA$19 -> 0.1059081 | AC8: =AB8*'Pondération des sujets'!$D6 -> 0.1059081 | AD8: 274 | AE8: =AD8/AD$19 -> 0.11795093 | AF8: =AE8*'Pondération des sujets'!$D6 -> 0.11795093 | AG8: 305 | AH8: =AG8/AG$19 -> 0.13714029 | AI8: =AH8*'Pondération des sujets'!$D6 -> 0.13714029 | AJ8: 220 | AK8: =AJ8/AJ$19 -> 0.1010565 | AL8: =AK8*'Pondération des sujets'!$D6 -> 0.1010565 | AN8: 119 | AO8: =AN8/AN$19 -> 0.048492258 | AP8: =AO8*'Pondération des sujets'!$D6 -> 0.048492258 | AQ8: 116 | AR8: =AQ8/AQ$19 -> 0.047443763 | AS8: =AR8*'Pondération des sujets'!$D6 -> 0.047443763 | AT8: 185 | AU8: =AT8/AT$19 -> 0.075448613 | AV8: =AU8*'Pondération des sujets'!$D6 -> 0.075448613 | AW8: 236 | AX8: =AW8/AW$19 -> 0.095779221 | AY8: =AX8*'Pondération des sujets'!$D6 -> 0.095779221 | AZ8: 154 | BA8: =AZ8/AZ$19 -> 0.063322368 | BB8: =BA8*'Pondération des sujets'!$D6 -> 0.063322368 | BC8: 136 | BD8: =BC8/BC$19 -> 0.055921053 | BE8: =BD8*'Pondération des sujets'!$D6 -> 0.055921053 | BF8: 129 | BG8: =BF8/BF$19 -> 0.0516 | BH8: =BG8*'Pondération des sujets'!$D6 -> 0.0516 | BI8: 169 | BJ8: =BI8/BI$19 -> 0.066430818 | BK8: =BJ8*'Pondération des sujets'!$D6 -> 0.066430818 | BL8: 173 | BM8: =BL8/BL$19 -> 0.069533762 | BN8: =BM8*'Pondération des sujets'!$D6 -> 0.069533762 | BO8: 197 | BP8: =BO8/BO$19 -> 0.077254902 | BQ8: =BP8*'Pondération des sujets'!$D6 -> 0.077254902 | BR8: 212 | BS8: =BR8/BR$19 -> 0.086601307 | BT8: =BS8*'Pondération des sujets'!$D6 -> 0.086601307 | BU8: 163 | BV8: =BU8/BU$19 -> 0.068343816 | BW8: =BV8*'Pondération des sujets'!$D6 -> 0.068343816
A9: 3 | B9: Agents sans affectation théorique (pas de PA théorique) | C9: 229 | D9: =C9/C$19 -> 0.10292135 | E9: =D9*'Pondération des sujets'!$D8 -> 0.10292135 | F9: 280 | G9: =F9/F$19 -> 0.12578616 | H9: =G9*'Pondération des sujets'!$D8 -> 0.12578616 | I9: 212 | J9: =I9/I$19 -> 0.095495495 | K9: =J9*'Pondération des sujets'!$D8 -> 0.095495495 | L9: 48 | M9: =L9/L$19 -> 0.02166065 | N9: =M9*'Pondération des sujets'!$D8 -> 0.02166065 | O9: 214 | P9: =O9/O$19 -> 0.098030234 | Q9: =P9*'Pondération des sujets'!$D8 -> 0.098030234 | R9: 200 | S9: =R9/R$19 -> 0.093023256 | T9: =S9*'Pondération des sujets'!$D8 -> 0.093023256 | U9: 305 | V9: =U9/U$19 -> 0.13152221 | W9: =V9*'Pondération des sujets'!$D8 -> 0.13152221 | X9: 280 | Y9: =X9/X$19 -> 0.11976048 | Z9: =Y9*'Pondération des sujets'!$D8 -> 0.11976048 | AA9: 286 | AB9: =AA9/AA$19 -> 0.12516411 | AC9: =AB9*'Pondération des sujets'!$D8 -> 0.12516411 | AD9: 307 | AE9: =AD9/AD$19 -> 0.13215669 | AF9: =AE9*'Pondération des sujets'!$D8 -> 0.13215669 | AG9: 206 | AH9: =AG9/AG$19 -> 0.092625899 | AI9: =AH9*'Pondération des sujets'!$D8 -> 0.092625899 | AJ9: 199 | AK9: =AJ9/AJ$19 -> 0.091410198 | AL9: =AK9*'Pondération des sujets'!$D8 -> 0.091410198 | AN9: 170 | AO9: =AN9/AN$19 -> 0.069274654 | AP9: =AO9*'Pondération des sujets'!$D8 -> 0.069274654 | AQ9: 193 | AR9: =AQ9/AQ$19 -> 0.078936605 | AS9: =AR9*'Pondération des sujets'!$D8 -> 0.078936605 | AT9: 153 | AU9: =AT9/AT$19 -> 0.062398042 | AV9: =AU9*'Pondération des sujets'!$D8 -> 0.062398042 | AW9: 34 | AX9: =AW9/AW$19 -> 0.013798701 | AY9: =AX9*'Pondération des sujets'!$D8 -> 0.013798701 | AZ9: 215 | BA9: =AZ9/AZ$19 -> 0.088404605 | BB9: =BA9*'Pondération des sujets'!$D8 -> 0.088404605 | BC9: 237 | BD9: =BC9/BC$19 -> 0.097450658 | BE9: =BD9*'Pondération des sujets'!$D8 -> 0.097450658 | BF9: 300 | BG9: =BF9/BF$19 -> 0.12 | BH9: =BG9*'Pondération des sujets'!$D8 -> 0.12 | BI9: 275 | BJ9: =BI9/BI$19 -> 0.10809748 | BK9: =BJ9*'Pondération des sujets'!$D8 -> 0.10809748 | BL9: 291 | BM9: =BL9/BL$19 -> 0.11696141 | BN9: =BM9*'Pondération des sujets'!$D8 -> 0.11696141 | BO9: 283 | BP9: =BO9/BO$19 -> 0.11098039 | BQ9: =BP9*'Pondération des sujets'!$D8 -> 0.11098039 | BR9: 234 | BS9: =BR9/BR$19 -> 0.095588235 | BT9: =BS9*'Pondération des sujets'!$D8 -> 0.095588235 | BU9: 323 | BV9: =BU9/BU$19 -> 0.13542977 | BW9: =BV9*'Pondération des sujets'!$D8 -> 0.13542977
A10: 5 | B10: Agents affectés à une PA MRP ou Cycleur ayant une DHT moyenne hebdomadaire de 35h (sans description des repos de cycle dans la PA) | C10: 1 | D10: =C10/C$19 -> 0.0004494382 | E10: =D10*'Pondération des sujets'!$D10 -> 0.0004494382 | F10: 1 | G10: =F10/F$19 -> 0.0004492363 | H10: =G10*'Pondération des sujets'!$D10 -> 0.0004492363 | I10: 0 | J10: =I10/I$19 -> 0 | K10: =J10*'Pondération des sujets'!$D10 -> 0 | L10: 0 | M10: =L10/L$19 -> 0 | N10: =M10*'Pondération des sujets'!$D10 -> 0 | O10: 0 | P10: =O10/O$19 -> 0 | Q10: =P10*'Pondération des sujets'!$D10 -> 0 | R10: 0 | S10: =R10/R$19 -> 0 | T10: =S10*'Pondération des sujets'!$D10 -> 0 | U10: 0 | V10: =U10/U$19 -> 0 | W10: =V10*'Pondération des sujets'!$D10 -> 0 | X10: 0 | Y10: =X10/X$19 -> 0 | Z10: =Y10*'Pondération des sujets'!$D10 -> 0 | AA10: 0 | AB10: =AA10/AA$19 -> 0 | AC10: =AB10*'Pondération des sujets'!$D10 -> 0 | AD10: 0 | AE10: =AD10/AD$19 -> 0 | AF10: =AE10*'Pondération des sujets'!$D10 -> 0 | AG10: 0 | AH10: =AG10/AG$19 -> 0 | AI10: =AH10*'Pondération des sujets'!$D10 -> 0 | AJ10: 0 | AK10: =AJ10/AJ$19 -> 0 | AL10: =AK10*'Pondération des sujets'!$D10 -> 0 | AN10: 14 | AO10: =AN10/AN$19 -> 0.0057049715 | AP10: =AO10*'Pondération des sujets'!$D10 -> 0.0057049715 | AQ10: 13 | AR10: =AQ10/AQ$19 -> 0.0053169734 | AS10: =AR10*'Pondération des sujets'!$D10 -> 0.0053169734 | AT10: 12 | AU10: =AT10/AT$19 -> 0.0048939641 | AV10: =AU10*'Pondération des sujets'!$D10 -> 0.0048939641 | AW10: 12 | AX10: =AW10/AW$19 -> 0.0048701299 | AY10: =AX10*'Pondération des sujets'!$D10 -> 0.0048701299 | AZ10: 12 | BA10: =AZ10/AZ$19 -> 0.0049342105 | BB10: =BA10*'Pondération des sujets'!$D10 -> 0.0049342105 | BC10: 12 | BD10: =BC10/BC$19 -> 0.0049342105 | BE10: =BD10*'Pondération des sujets'!$D10 -> 0.0049342105 | BF10: 12 | BG10: =BF10/BF$19 -> 0.0048 | BH10: =BG10*'Pondération des sujets'!$D10 -> 0.0048 | BI10: 12 | BJ10: =BI10/BI$19 -> 0.0047169811 | BK10: =BJ10*'Pondération des sujets'!$D10 -> 0.0047169811 | BL10: 7 | BM10: =BL10/BL$19 -> 0.0028135048 | BN10: =BM10*'Pondération des sujets'!$D10 -> 0.0028135048 | BO10: 8 | BP10: =BO10/BO$19 -> 0.0031372549 | BQ10: =BP10*'Pondération des sujets'!$D10 -> 0.0031372549 | BR10: 13 | BS10: =BR10/BR$19 -> 0.0053104575 | BT10: =BS10*'Pondération des sujets'!$D10 -> 0.0053104575 | BU10: 10 | BV10: =BU10/BU$19 -> 0.0041928721 | BW10: =BV10*'Pondération des sujets'!$D10 -> 0.0041928721
A11: 8bis.1 | B11: Agents sortis de BSCC mais toujours affectés à une PA théorique | C11: 1 | D11: =C11/C$19 -> 0.0004494382 | E11: =D11*'Pondération des sujets'!$D16 -> 0.0004494382 | F11: 3 | G11: =F11/F$19 -> 0.0013477089 | H11: =G11*'Pondération des sujets'!$D16 -> 0.0013477089 | I11: 3 | J11: =I11/I$19 -> 0.0013513514 | K11: =J11*'Pondération des sujets'!$D16 -> 0.0013513514 | L11: 2 | M11: =L11/L$19 -> 0.00090252708 | N11: =M11*'Pondération des sujets'!$D16 -> 0.00090252708 | O11: 1 | P11: =O11/O$19 -> 0.0004580852 | Q11: =P11*'Pondération des sujets'!$D16 -> 0.0004580852 | R11: 1 | S11: =R11/R$19 -> 0.00046511628 | T11: =S11*'Pondération des sujets'!$D16 -> 0.00046511628 | U11: 1 | V11: =U11/U$19 -> 0.00043122035 | W11: =V11*'Pondération des sujets'!$D16 -> 0.00043122035 | X11: 1 | Y11: =X11/X$19 -> 0.000427716 | Z11: =Y11*'Pondération des sujets'!$D16 -> 0.000427716 | AA11: 2 | AB11: =AA11/AA$19 -> 0.00087527352 | AC11: =AB11*'Pondération des sujets'!$D16 -> 0.00087527352 | AD11: 1 | AE11: =AD11/AD$19 -> 0.00043047783 | AF11: =AE11*'Pondération des sujets'!$D16 -> 0.00043047783 | AG11: 1 | AH11: =AG11/AG$19 -> 0.00044964029 | AI11: =AH11*'Pondération des sujets'!$D16 -> 0.00044964029 | AJ11: 1 | AK11: =AJ11/AJ$19 -> 0.00045934773 | AL11: =AK11*'Pondération des sujets'!$D16 -> 0.00045934773 | AN11: 0 | AO11: =AN11/AN$19 -> 0 | AP11: =AO11*'Pondération des sujets'!$D16 -> 0 | AQ11: 1 | AR11: =AQ11/AQ$19 -> 0.00040899796 | AS11: =AR11*'Pondération des sujets'!$D16 -> 0.00040899796 | AT11: 2 | AU11: =AT11/AT$19 -> 0.00081566069 | AV11: =AU11*'Pondération des sujets'!$D16 -> 0.00081566069 | AW11: 1 | AX11: =AW11/AW$19 -> 0.00040584416 | AY11: =AX11*'Pondération des sujets'!$D16 -> 0.00040584416 | AZ11: 1 | BA11: =AZ11/AZ$19 -> 0.00041118421 | BB11: =BA11*'Pondération des sujets'!$D16 -> 0.00041118421 | BC11: 1 | BD11: =BC11/BC$19 -> 0.00041118421 | BE11: =BD11*'Pondération des sujets'!$D16 -> 0.00041118421 | BF11: 1 | BG11: =BF11/BF$19 -> 0.0004 | BH11: =BG11*'Pondération des sujets'!$D16 -> 0.0004 | BI11: 1 | BJ11: =BI11/BI$19 -> 0.00039308176 | BK11: =BJ11*'Pondération des sujets'!$D16 -> 0.00039308176 | BL11: 2 | BM11: =BL11/BL$19 -> 0.00080385852 | BN11: =BM11*'Pondération des sujets'!$D16 -> 0.00080385852 | BO11: 2 | BP11: =BO11/BO$19 -> 0.00078431373 | BQ11: =BP11*'Pondération des sujets'!$D16 -> 0.00078431373 | BR11: 3 | BS11: =BR11/BR$19 -> 0.0012254902 | BT11: =BS11*'Pondération des sujets'!$D16 -> 0.0012254902 | BU11: 3 | BV11: =BU11/BU$19 -> 0.0012578616 | BW11: =BV11*'Pondération des sujets'!$D16 -> 0.0012578616
A12: 8bis.2 | B12: Agents sortis de BSCC mais toujours affectés à une PA exceptionnelle | C12: 0 | D12: =C12/C$19 -> 0 | E12: =D12*'Pondération des sujets'!$D17 -> 0 | F12: 0 | G12: =F12/F$19 -> 0 | H12: =G12*'Pondération des sujets'!$D17 -> 0 | I12: 0 | J12: =I12/I$19 -> 0 | K12: =J12*'Pondération des sujets'!$D17 -> 0 | L12: 0 | M12: =L12/L$19 -> 0 | N12: =M12*'Pondération des sujets'!$D17 -> 0 | O12: 0 | P12: =O12/O$19 -> 0 | Q12: =P12*'Pondération des sujets'!$D17 -> 0 | R12: 0 | S12: =R12/R$19 -> 0 | T12: =S12*'Pondération des sujets'!$D17 -> 0 | U12: 0 | V12: =U12/U$19 -> 0 | W12: =V12*'Pondération des sujets'!$D17 -> 0 | X12: 0 | Y12: =X12/X$19 -> 0 | Z12: =Y12*'Pondération des sujets'!$D17 -> 0 | AA12: 0 | AB12: =AA12/AA$19 -> 0 | AC12: =AB12*'Pondération des sujets'!$D17 -> 0 | AD12: 0 | AE12: =AD12/AD$19 -> 0 | AF12: =AE12*'Pondération des sujets'!$D17 -> 0 | AG12: 0 | AH12: =AG12/AG$19 -> 0 | AI12: =AH12*'Pondération des sujets'!$D17 -> 0 | AJ12: 0 | AK12: =AJ12/AJ$19 -> 0 | AL12: =AK12*'Pondération des sujets'!$D17 -> 0 | AN12: 0 | AO12: =AN12/AN$19 -> 0 | AP12: =AO12*'Pondération des sujets'!$D17 -> 0 | AQ12: 0 | AR12: =AQ12/AQ$19 -> 0 | AS12: =AR12*'Pondération des sujets'!$D17 -> 0 | AT12: 0 | AU12: =AT12/AT$19 -> 0 | AV12: =AU12*'Pondération des sujets'!$D17 -> 0 | AW12: 0 | AX12: =AW12/AW$19 -> 0 | AY12: =AX12*'Pondération des sujets'!$D17 -> 0 | AZ12: 0 | BA12: =AZ12/AZ$19 -> 0 | BB12: =BA12*'Pondération des sujets'!$D17 -> 0 | BC12: 0 | BD12: =BC12/BC$19 -> 0 | BE12: =BD12*'Pondération des sujets'!$D17 -> 0 | BF12: 0 | BG12: =BF12/BF$19 -> 0 | BH12: =BG12*'Pondération des sujets'!$D17 -> 0 | BI12: 0 | BJ12: =BI12/BI$19 -> 0 | BK12: =BJ12*'Pondération des sujets'!$D17 -> 0 | BL12: 0 | BM12: =BL12/BL$19 -> 0 | BN12: =BM12*'Pondération des sujets'!$D17 -> 0 | BO12: 0 | BP12: =BO12/BO$19 -> 0 | BQ12: =BP12*'Pondération des sujets'!$D17 -> 0 | BR12: 0 | BS12: =BR12/BR$19 -> 0 | BT12: =BS12*'Pondération des sujets'!$D17 -> 0 | BU12: 0 | BV12: =BU12/BU$19 -> 0 | BW12: =BV12*'Pondération des sujets'!$D17 -> 0
A13: 8ter | B13: PA avec plage horaire erronée | C13: 12 | D13: =C13/C$21 -> 0.0044826298 | F13: 12 | G13: =F13/F$21 -> 0.0044101433 | I13: 12 | J13: =I13/I$21 -> 0.0044085231 | L13: 0 | M13: =L13/L$21 -> 0 | O13: 0 | P13: =O13/O$21 -> 0 | R13: 0 | S13: =R13/R$21 -> 0 | U13: 0 | V13: =U13/U$21 -> 0 | X13: 0 | Y13: =X13/X$21 -> 0 | AA13: 0 | AB13: =AA13/AA$21 -> 0 | AD13: 0 | AE13: =AD13/AD$21 -> 0 | AG13: 0 | AH13: =AG13/AG$21 -> 0 | AJ13: 0 | AK13: =AJ13/AJ$21 -> 0 | AN13: 0 | AO13: =AN13/AN$21 -> 0 | AQ13: 0 | AR13: =AQ13/AQ$21 -> 0 | AT13: 0 | AU13: =AT13/AT$21 -> 0 | AW13: 0 | AX13: =AW13/AW$21 -> 0 | AZ13: 0 | BA13: =AZ13/AZ$21 -> 0 | BC13: 0 | BD13: =BC13/BC$21 -> 0 | BF13: 0 | BG13: =BF13/BF$21 -> 0 | BI13: 0 | BJ13: =BI13/BI$21 -> 0 | BL13: 0 | BM13: =BL13/BL$21 -> 0 | BO13: 0 | BP13: =BO13/BO$21 -> 0 | BR13: 0 | BS13: =BR13/BR$21 -> 0 | BU13: 0 | BV13: =BU13/BU$21 -> 0
A14: CALCUL INDICATEUR | B14: XX TOTAL | E14: =SUM(E4:E12) -> 0.27011236 | H14: =SUM(H4:H12) -> 0.30098832 | K14: =SUM(K4:K12) -> 0.37477477 | N14: =SUM(N4:N12) -> 0.37364621 | Q14: =SUM(Q4:Q12) -> 0.40723775 | T14: =SUM(T4:T12) -> 0.35162791 | W14: =SUM(W4:W12) -> 0.39801639 | Z14: =SUM(Z4:Z12) -> 0.38537211 | AC14: =SUM(AC4:AC12) -> 0.39299781 | AF14: =SUM(AF4:AF12) -> 0.37968145 | AI14: =SUM(AI4:AI12) -> 0.37095324 | AL14: =SUM(AL4:AL12) -> 0.32429949 | AP14: =SUM(AP4:AP12) -> 0.31866341 | AS14: =SUM(AS4:AS12) -> 0.34355828 | AV14: =SUM(AV4:AV12) -> 0.32748777 | AY14: =SUM(AY4:AY12) -> 0.27922078 | BB14: =SUM(BB4:BB12) -> 0.34662829 | BE14: =SUM(BE4:BE12) -> 0.34087171 | BH14: =SUM(BH4:BH12) -> 0.3396 | BK14: =SUM(BK4:BK12) -> 0.32311321 | BN14: =SUM(BN4:BN12) -> 0.34606109 | BQ14: =SUM(BQ4:BQ12) -> 0.33490196 | BT14: =SUM(BT4:BT12) -> 0.33333333 | BW14: =SUM(BW4:BW12) -> 0.37945493
C16: DSCC 37 | F16: DSCC 37 | I16: DSCC 37 | L16: DSCC 37 | O16: DSCC 37 | R16: DSCC 37 | U16: DSCC 37 | X16: DSCC 37 | AA16: DSCC 37 | AD16: DSCC 37 | AG16: DSCC 37 | AJ16: DSCC 37 | AN16: DSCC 45 | AQ16: DSCC 45 | AT16: DSCC 45 | AW16: DSCC 45 | AZ16: DSCC 45 | BC16: DSCC 45 | BF16: DSCC 45 | BI16: DSCC 45 | BL16: DSCC 45 | BO16: DSCC 45 | BR16: DSCC 45 | BU16: DSCC 45
C17: Suivi 1 | F17: Suivi 2 | I17: Suivi 3 | L17: Suivi 4 | O17: Suivi 5 | R17: Suivi 6 | U17: Suivi 7 | X17: Suivi 8 | AA17: Suivi 9 | AD17: Suivi 10 | AG17: Suivi 11 | AJ17: Suivi 12 | AN17: Suivi 1 | AQ17: Suivi 2 | AT17: Suivi 3 | AW17: Suivi 4 | AZ17: Suivi 5 | BC17: Suivi 6 | BF17: Suivi 7 | BI17: Suivi 8 | BL17: Suivi 9 | BO17: Suivi 10 | BR17: Suivi 11 | BU17: Suivi 12
C18: Effectif total | F18: Effectif total | I18: Effectif total | L18: Effectif total | O18: Effectif total | R18: Effectif total | U18: Effectif total | X18: Effectif total | AA18: Effectif total | AD18: Effectif total | AG18: Effectif total | AJ18: Effectif total | AN18: Effectif total | AQ18: Effectif total | AT18: Effectif total | AW18: Effectif total | AZ18: Effectif total | BC18: Effectif total | BF18: Effectif total | BI18: Effectif total | BL18: Effectif total | BO18: Effectif total | BR18: Effectif total | BU18: Effectif total
C19: 2225 | F19: 2226 | I19: 2220 | L19: 2216 | O19: 2183 | R19: 2150 | U19: 2319 | X19: 2338 | AA19: 2285 | AD19: 2323 | AG19: 2224 | AJ19: 2177 | AN19: 2454 | AQ19: 2445 | AT19: 2452 | AW19: 2464 | AZ19: 2432 | BC19: 2432 | BF19: 2500 | BI19: 2544 | BL19: 2488 | BO19: 2550 | BR19: 2448 | BU19: 2385
C20: Nombre total de PA | F20: Nombre total de PA | I20: Nombre total de PA | L20: Nombre total de PA | O20: Nombre total de PA | R20: Nombre total de PA | U20: Nombre total de PA | X20: Nombre total de PA | AA20: Nombre total de PA | AD20: Nombre total de PA | AG20: Nombre total de PA | AJ20: Nombre total de PA | AN20: Nb total de PA | AQ20: Nb total de PA | AT20: Nb total de PA | AW20: Nb total de PA | AZ20: Nb total de PA | BC20: Nb total de PA | BF20: Nb total de PA | BI20: Nb total de PA | BL20: Nb total de PA | BO20: Nb total de PA | BR20: Nb total de PA | BU20: Nb total de PA
C21: 2677 | F21: 2721 | I21: 2722 | L21: 2771 | O21: 2767 | R21: 2770 | U21: 2755 | X21: 2833 | AA21: 2851 | AD21: 2775 | AG21: 2819 | AJ21: 2858 | AN21: 3060 | AQ21: 3064 | AT21: 3074 | AW21: 3105 | AZ21: 3079 | BC21: 3062 | BF21: 2955 | BI21: 2935 | BL21: 2947 | BO21: 2933 | BR21: 2934 | BU21: 2805

Sheet Grand Est
A1: N° | B1: Sujets de fiabilisation
C2: DSCC 51 | F2: DSCC 51 | I2: DSCC 51 | L2: DSCC 51 | O2: DSCC 51 | R2: DSCC 51 | U2: DSCC 51 | X2: DSCC 51 | AA2: DSCC 51 | AD2: DSCC 51 | AG2: DSCC 51 | AJ2: DSCC 51 | AN2: DSCC 54 | AQ2: DSCC 54 | AT2: DSCC 54 | AW2: DSCC 54 | AZ2: DSCC 54 | BC2: DSCC 54 | BF2: DSCC 54 | BI2: DSCC 54 | BL2: DSCC 54 | BO2: DSCC 54 | BR2: DSCC 54 | BU2: DSCC 54 | BY2: DSCC 67 | CB2: DSCC 67 | CE2: DSCC 67 | CH2: DSCC 67 | CK2: DSCC 67 | CN2: DSCC 67 | CQ2: DSCC 67 | CT2: DSCC 67 | CW2: DSCC 67 | CZ2: DSCC 67 | DC2: DSCC 67 | DF2: DSCC 67
C3: Suivi 1 | D3: 25/02 - Suivi 1 | E3: Indicateur | F3: Suivi 2 | G3: 19/03 - Suivi 2 | H3: Indicateur | I3: Suivi 3 | J3: 09/04 - Suivi 3 | K3: Indicateur | L3: Suivi 4 | M3: 03/05 - Suivi 4 | N3: Indicateur | O3: Suivi 5 | P3: 21/05 - Suivi 5 | Q3: Indicateur | R3: Suivi 6 | S3: 10/06 - Suivi 6 | T3: Indicateur | U3: Suivi 7 | V3: 25/06 - Suivi 7 | W3: Indicateur | X3: Suivi 8 | Y3: 16/07 - Suivi 8 | Z3: Indicateur | AA3: Suivi 9 | AB3: 06/08 - Suivi 9 | AC3: Indicateur | AD3: Suivi 10 | AE3: 29/08 - Suivi 10 | AF3: Indicateur | AG3: Suivi 11 | AH3: 17/09 - Suivi 11 | AI3: Indicateur | AJ3: Suivi 12 | AK3: 08/10 - Suivi 12 | AL3: Indicateur | AN3: Suivi 1 | AO3: 25/02 - Suivi 1 | AP3: Indicateur | AQ3: Suivi 2 | AR3: 19/03 - Suivi 2 | AS3: Indicateur | AT3: Suivi 3 | AU3: 09/04 - Suivi 3 | AV3: Indicateur | AW3: Suivi 4 | AX3: 03/05 - Suivi 4 | AY3: Indicateur | AZ3: Suivi 5 | BA3: 21/05 - Suivi 5 | BB3: Indicateur | BC3: Suivi 6 | BD3: 10/06 - Suivi 6 | BE3: Indicateur | BF3: Suivi 7 | BG3: 25/06 - Suivi 7 | BH3: Indicateur | BI3: Suivi 8 | BJ3: 16/07 - Suivi 8 | BK3: Indicateur | BL3: Suivi 9 | BM3: 06/08 - Suivi 9 | BN3: Indicateur | BO3: Suivi 10 | BP3: 29/08 - Suivi 10 | BQ3: Indicateur | BR3: Suivi 11 | BS3: 17/09 - Suivi 11 | BT3: Indicateur | BU3: Suivi 12 | BV3: 08/10 - Suivi 12 | BW3: Indicateur | BY3: Suivi 1 | BZ3: 25/02 - Suivi 1 | CA3: Indicateur | CB3: Suivi 2 | CC3: 19/03 - Suivi 2 | CD3: Indicateur | CE3: Suivi 3 | CF3: 09/04 - Suivi 3 | CG3: Indicateur | CH3: Suivi 4 | CI3: 03/05 - Suivi 4 | CJ3: Indicateur | CK3: Suivi 5 | CL3: 21/05 - Suivi 5 | CM3: Indicateur | CN3: Suivi 6 | CO3: 10/06 - Suivi 6 | CP3: Indicateur | CQ3: Suivi 7 | CR3: 25/06 - Suivi 7 | CS3: Indicateur | CT3: Suivi 8 | CU3: 16/07 - Suivi 8 | CV3: Indicateur | CW3: Suivi 9 | CX3: 06/08 - Suivi 9 | CY3: Indicateur | CZ3: Suivi 10 | DA3: 29/08 - Suivi 10 | DB3: Indicateur | DC3: Suivi 11 | DD3: 17/09 - Suivi 11 | DE3: Indicateur | DF3: Suivi 12 | DG3: 08/10 - Suivi 12 | DH3: Indicateur
A4: 1.1 | B4: Présence et/ou absence à tort (agents temps plein) | C4: 701 | D4: =C4/C$19 -> 0.27828503 | E4: =D4*'Pondération des sujets'!$D3 -> 0.27828503 | F4: 709 | G4: =F4/F$19 -> 0.28394073 | H4: =G4*'Pondération des sujets'!$D3 -> 0.28394073 | I4: 747 | J4: =I4/I$19 -> 0.29749104 | K4: =J4*'Pondération des sujets'!$D3 -> 0.29749104 | L4: 716 | M4: =L4/L$19 -> 0.2845787 | N4: =M4*'Pondération des sujets'!$D3 -> 0.2845787 | O4: 781 | P4: =O4/O$19 -> 0.30906213 | Q4: =P4*'Pondération des sujets'!$D3 -> 0.30906213 | R4: 721 | S4: =R4/R$19 -> 0.28622469 | T4: =S4*'Pondération des sujets'!$D3 -> 0.28622469 | U4: 689 | V4: =U4/U$19 -> 0.27051433 | W4: =V4*'Pondération des sujets'!$D3 -> 0.27051433 | X4: 650 | Y4: =X4/X$19 -> 0.25732383 | Z4: =Y4*'Pondération des sujets'!$D3 -> 0.25732383 | AA4: 621 | AB4: =AA4/AA$19 -> 0.24642857 | AC4: =AB4*'Pondération des sujets'!$D3 -> 0.24642857 | AD4: 624 | AE4: =AD4/AD$19 -> 0.24752083 | AF4: =AE4*'Pondération des sujets'!$D3 -> 0.24752083 | AG4: 618 | AH4: =AG4/AG$19 -> 0.24989891 | AI4: =AH4*'Pondération des sujets'!$D3 -> 0.24989891 | AJ4: 663 | AK4: =AJ4/AJ$19 -> 0.27028129 | AL4: =AK4*'Pondération des sujets'!$D3 -> 0.27028129 | AN4: 779 | AO4: =AN4/AN$19 -> 0.22999705 | AP4: =AO4*'Pondération des sujets'!$D3 -> 0.22999705 | AQ4: 779 | AR4: =AQ4/AQ$19 -> 0.2310887 | AS4: =AR4*'Pondération des sujets'!$D3 -> 0.2310887 | AT4: 787 | AU4: =AT4/AT$19 -> 0.23229044 | AV4: =AU4*'Pondération des sujets'!$D3 -> 0.23229044 | AW4: 663 | AX4: =AW4/AW$19 -> 0.19814704 | AY4: =AX4*'Pondération des sujets'!$D3 -> 0.19814704 | AZ4: 760 | BA4: =AZ4/AZ$19 -> 0.2237927 | BB4: =BA4*'Pondération des sujets'!$D3 -> 0.2237927 | BC4: 788 | BD4: =BC4/BC$19 -> 0.23348148 | BE4: =BD4*'Pondération des sujets'!$D3 -> 0.23348148 | BF4: 686 | BG4: =BF4/BF$19 -> 0.2005848 | BH4: =BG4*'Pondération des sujets'!$D3 -> 0.2005848 | BI4: 654 | BJ4: =BI4/BI$19 -> 0.19100467 | BK4: =BJ4*'Pondération des sujets'!$D3 -> 0.19100467 | BL4: 625 | BM4: =BL4/BL$19 -> 0.18280199 | BN4: =BM4*'Pondération des sujets'!$D3 -> 0.18280199 | BO4: 616 | BP4: =BO4/BO$19 -> 0.18011696 | BQ4: =BP4*'Pondération des sujets'!$D3 -> 0.18011696 | BR4: 625 | BS4: =BR4/BR$19 -> 0.18656716 | BT4: =BS4*'Pondération des sujets'!$D3 -> 0.18656716 | BU4: 678 | BV4: =BU4/BU$19 -> 0.2045866 | BW4: =BV4*'Pondération des sujets'!$D3 -> 0.2045866 | BY4: 660 | BZ4: =BY4/BY$19 -> 0.23895728 | CA4: =BZ4*'Pondération des sujets'!$D3 -> 0.23895728 | CB4: 596 | CC4: =CB4/CB$19 -> 0.21547361 | CD4: =CC4*'Pondération des sujets'!$D3 -> 0.21547361 | CE4: 587 | CF4: =CE4/CE$19 -> 0.21229656 | CG4: =CF4*'Pondération des sujets'!$D3 -> 0.21229656 | CH4: 430 | CI4: =CH4/CH$19 -> 0.15517864 | CJ4: =CI4*'Pondération des sujets'!$D3 -> 0.15517864 | CK4: 558 | CL4: =CK4/CK$19 -> 0.19971367 | CM4: =CL4*'Pondération des sujets'!$D3 -> 0.19971367 | CN4: 516 | CO4: =CN4/CN$19 -> 0.18514532 | CP4: =CO4*'Pondération des sujets'!$D3 -> 0.18514532 | CQ4: 515 | CR4: =CQ4/CQ$19 -> 0.18333927 | CS4: =CR4*'Pondération des sujets'!$D3 -> 0.18333927 | CT4: 541 | CU4: =CT4/CT$19 -> 0.19082892 | CV4: =CU4*'Pondération des sujets'!$D3 -> 0.19082892 | CW4: 524 | CX4: =CW4/CW$19 -> 0.18774633 | CY4: =CX4*'Pondération des sujets'!$D3 -> 0.18774633 | CZ4: 490 | DA4: =CZ4/CZ$19 -> 0.1726568 | DB4: =DA4*'Pondération des sujets'!$D3 -> 0.1726568 | DC4: 483 | DD4: =DC4/DC$19 -> 0.17280859 | DE4: =DD4*'Pondération des sujets'!$D3 -> 0.17280859 | DF4: 504 | DG4: =DF4/DF$19 -> 0.18201517 | DH4: =DG4*'Pondération des sujets'!$D3 -> 0.18201517
B5: XX Agents temps plein avec GAT et/ou GPT liées à une PA 79 | C5: 273 | D5: =C5/C$19 -> 0.10837634 | E5: =-D5*'Pondération des sujets'!$D$3 -> -0.10837634 | F5: 284 | G5: =F5/F$19 -> 0.11373648 | H5: =-G5*'Pondération des sujets'!$D$3 -> -0.11373648 | I5: 234 | J5: =I5/I$19 -> 0.093189964 | K5: =-J5*'Pondération des sujets'!$D$3 -> -0.093189964 | L5: 305 | M5: =L5/L$19 -> 0.12122417 | N5: =-M5*'Pondération des sujets'!$D$3 -> -0.12122417 | O5: 312 | P5: =O5/O$19 -> 0.12346656 | Q5: =-P5*'Pondération des sujets'!$D$3 -> -0.12346656 | R5: 323 | S5: =R5/R$19 -> 0.12822549 | T5: =-S5*'Pondération des sujets'!$D$3 -> -0.12822549 | U5: 312 | V5: =U5/U$19 -> 0.12249706 | W5: =-V5*'Pondération des sujets'!$D$3 -> -0.12249706 | X5: 326 | Y5: =X5/X$19 -> 0.1290578 | Z5: =-Y5*'Pondération des sujets'!$D$3 -> -0.1290578 | AA5: 311 | AB5: =AA5/AA$19 -> 0.1234127 | AC5: =-AB5*'Pondération des sujets'!$D$3 -> -0.1234127 | AD5: 320 | AE5: =AD5/AD$19 -> 0.12693376 | AF5: =-AE5*'Pondération des sujets'!$D$3 -> -0.12693376 | AG5: 304 | AH5: =AG5/AG$19 -> 0.12292762 | AI5: =-AH5*'Pondération des sujets'!$D$3 -> -0.12292762 | AJ5: 319 | AK5: =AJ5/AJ$19 -> 0.13004484 | AL5: =-AK5*'Pondération des sujets'!$D$3 -> -0.13004484 | AN5: 343 | AO5: =AN5/AN$19 -> 0.10126956 | AP5: =-AO5*'Pondération des sujets'!$D$3 -> -0.10126956 | AQ5: 371 | AR5: =AQ5/AQ$19 -> 0.11005636 | AS5: =-AR5*'Pondération des sujets'!$D$3 -> -0.11005636 | AT5: 278 | AU5: =AT5/AT$19 -> 0.082054309 | AV5: =-AU5*'Pondération des sujets'!$D$3 -> -0.082054309 | AW5: 358 | AX5: =AW5/AW$19 -> 0.10699342 | AY5: =-AX5*'Pondération des sujets'!$D$3 -> -0.10699342 | AZ5: 335 | BA5: =AZ5/AZ$19 -> 0.098645465 | BB5: =-BA5*'Pondération des sujets'!$D$3 -> -0.098645465 | BC5: 373 | BD5: =BC5/BC$19 -> 0.11051852 | BE5: =-BD5*'Pondération des sujets'!$D$3 -> -0.11051852 | BF5: 356 | BG5: =BF5/BF$19 -> 0.10409357 | BH5: =-BG5*'Pondération des sujets'!$D$3 -> -0.10409357 | BI5: 348 | BJ5: =BI5/BI$19 -> 0.10163551 | BK5: =-BJ5*'Pondération des sujets'!$D$3 -> -0.10163551 | BL5: 367 | BM5: =BL5/BL$19 -> 0.10734133 | BN5: =-BM5*'Pondération des sujets'!$D$3 -> -0.10734133 | BO5: 329 | BP5: =BO5/BO$19 -> 0.09619883 | BQ5: =-BP5*'Pondération des sujets'!$D$3 -> -0.09619883 | BR5: 334 | BS5: =BR5/BR$19 -> 0.099701493 | BT5: =-BS5*'Pondération des sujets'!$D$3 -> -0.099701493 | BU5: 363 | BV5: =BU5/BU$19 -> 0.1095353 | BW5: =-BV5*'Pondération des sujets'!$D$3 -> -0.1095353 | BY5: 136 | BZ5: =BY5/BY$19 -> 0.049239681 | CA5: =-BZ5*'Pondération des sujets'!$D$3 -> -0.049239681 | CB5: 136 | CC5: =CB5/CB$19 -> 0.049168474 | CD5: =-CC5*'Pondération des sujets'!$D$3 -> -0.049168474 | CE5: 84 | CF5: =CE5/CE$19 -> 0.030379747 | CG5: =-CF5*'Pondération des sujets'!$D$3 -> -0.030379747 | CH5: 113 | CI5: =CH5/CH$19 -> 0.040779502 | CJ5: =-CI5*'Pondération des sujets'!$D$3 -> -0.040779502 | CK5: 110 | CL5: =CK5/CK$19 -> 0.039370079 | CM5: =-CL5*'Pondération des sujets'!$D$3 -> -0.039370079 | CN5: 110 | CO5: =CN5/CN$19 -> 0.039468963 | CP5: =-CO5*'Pondération des sujets'!$D$3 -> -0.039468963 | CQ5: 118 | CR5: =CQ5/CQ$19 -> 0.042007832 | CS5: =-CR5*'Pondération des sujets'!$D$3 -> -0.042007832 | CT5: 115 | CU5: =CT5/CT$19 -> 0.040564374 | CV5: =-CU5*'Pondération des sujets'!$D$3 -> -0.040564374 | CW5: 144 | CX5: =CW5/CW$19 -> 0.051594411 | CY5: =-CX5*'Pondération des sujets'!$D$3 -> -0.051594411 | CZ5: 138 | DA5: =CZ5/CZ$19 -> 0.048625793 | DB5: =-DA5*'Pondération des sujets'!$D$3 -> -0.048625793 | DC5: 155 | DD5: =DC5/DC$19 -> 0.055456172 | DE5: =-DD5*'Pondération des sujets'!$D$3 -> -0.055456172 | DF5: 156 | DG5: =DF5/DF$19 -> 0.056338028 | DH5: =-DG5*'Pondération des sujets'!$D$3 -> -0.056338028
A6: 1.2 | B6: Présence et/ou absence à tort (agents temps partiel) | C6: 48 | D6: =C6/C$19 -> 0.019055181 | E6: =D6*'Pondération des sujets'!$D4 -> 0.019055181 | F6: 65 | G6: =F6/F$19 -> 0.026031237 | H6: =G6*'Pondération des sujets'!$D4 -> 0.026031237 | I6: 60 | J6: =I6/I$19 -> 0.023894863 | K6: =J6*'Pondération des sujets'!$D4 -> 0.023894863 | L6: 58 | M6: =L6/L$19 -> 0.023052464 | N6: =M6*'Pondération des sujets'!$D4 -> 0.023052464 | O6: 66 | P6: =O6/O$19 -> 0.026117926 | Q6: =P6*'Pondération des sujets'!$D4 -> 0.026117926 | R6: 63 | S6: =R6/R$19 -> 0.025009925 | T6: =S6*'Pondération des sujets'!$D4 -> 0.025009925 | U6: 61 | V6: =U6/U$19 -> 0.023949745 | W6: =V6*'Pondération des sujets'!$D4 -> 0.023949745 | X6: 54 | Y6: =X6/X$19 -> 0.021377672 | Z6: =Y6*'Pondération des sujets'!$D4 -> 0.021377672 | AA6: 53 | AB6: =AA6/AA$19 -> 0.021031746 | AC6: =AB6*'Pondération des sujets'!$D4 -> 0.021031746 | AD6: 51 | AE6: =AD6/AD$19 -> 0.020230067 | AF6: =AE6*'Pondération des sujets'!$D4 -> 0.020230067 | AG6: 44 | AH6: =AG6/AG$19 -> 0.017792155 | AI6: =AH6*'Pondération des sujets'!$D4 -> 0.017792155 | AJ6: 37 | AK6: =AJ6/AJ$19 -> 0.015083571 | AL6: =AK6*'Pondération des sujets'!$D4 -> 0.015083571 | AN6: 79 | AO6: =AN6/AN$19 -> 0.023324476 | AP6: =AO6*'Pondération des sujets'!$D4 -> 0.023324476 | AQ6: 81 | AR6: =AQ6/AQ$19 -> 0.024028478 | AS6: =AR6*'Pondération des sujets'!$D4 -> 0.024028478 | AT6: 81 | AU6: =AT6/AT$19 -> 0.02390791 | AV6: =AU6*'Pondération des sujets'!$D4 -> 0.02390791 | AW6: 83 | AX6: =AW6/AW$19 -> 0.024805738 | AY6: =AX6*'Pondération des sujets'!$D4 -> 0.024805738 | AZ6: 77 | BA6: =AZ6/AZ$19 -> 0.022673734 | BB6: =BA6*'Pondération des sujets'!$D4 -> 0.022673734 | BC6: 87 | BD6: =BC6/BC$19 -> 0.025777778 | BE6: =BD6*'Pondération des sujets'!$D4 -> 0.025777778 | BF6: 75 | BG6: =BF6/BF$19 -> 0.021929825 | BH6: =BG6*'Pondération des sujets'!$D4 -> 0.021929825 | BI6: 68 | BJ6: =BI6/BI$19 -> 0.019859813 | BK6: =BJ6*'Pondération des sujets'!$D4 -> 0.019859813 | BL6: 66 | BM6: =BL6/BL$19 -> 0.01930389 | BN6: =BM6*'Pondération des sujets'!$D4 -> 0.01930389 | BO6: 60 | BP6: =BO6/BO$19 -> 0.01754386 | BQ6: =BP6*'Pondération des sujets'!$D4 -> 0.01754386 | BR6: 65 | BS6: =BR6/BR$19 -> 0.019402985 | BT6: =BS6*'Pondération des sujets'!$D4 -> 0.019402985 | BU6: 86 | BV6: =BU6/BU$19 -> 0.025950513 | BW6: =BV6*'Pondération des sujets'!$D4 -> 0.025950513 | BY6: 113 | BZ6: =BY6/BY$19 -> 0.040912382 | CA6: =BZ6*'Pondération des sujets'!$D4 -> 0.040912382 | CB6: 109 | CC6: =CB6/CB$19 -> 0.039407086 | CD6: =CC6*'Pondération des sujets'!$D4 -> 0.039407086 | CE6: 104 | CF6: =CE6/CE$19 -> 0.03761302 | CG6: =CF6*'Pondération des sujets'!$D4 -> 0.03761302 | CH6: 75 | CI6: =CH6/CH$19 -> 0.027066041 | CJ6: =CI6*'Pondération des sujets'!$D4 -> 0.027066041 | CK6: 100 | CL6: =CK6/CK$19 -> 0.035790981 | CM6: =CL6*'Pondération des sujets'!$D4 -> 0.035790981 | CN6: 103 | CO6: =CN6/CN$19 -> 0.036957302 | CP6: =CO6*'Pondération des sujets'!$D4 -> 0.036957302 | CQ6: 100 | CR6: =CQ6/CQ$19 -> 0.035599858 | CS6: =CR6*'Pondération des sujets'!$D4 -> 0.035599858 | CT6: 92 | CU6: =CT6/CT$19 -> 0.032451499 | CV6: =CU6*'Pondération des sujets'!$D4 -> 0.032451499 | CW6: 84 | CX6: =CW6/CW$19 -> 0.03009674 | CY6: =CX6*'Pondération des sujets'!$D4 -> 0.03009674 | CZ6: 81 | DA6: =CZ6/CZ$19 -> 0.028541226 | DB6: =DA6*'Pondération des sujets'!$D4 -> 0.028541226 | DC6: 75 | DD6: =DC6/DC$19 -> 0.026833631 | DE6: =DD6*'Pondération des sujets'!$D4 -> 0.026833631 | DF6: 88 | DG6: =DF6/DF$19 -> 0.031780426 | DH6: =DG6*'Pondération des sujets'!$D4 -> 0.031780426
A7: 1.3 | B7: Présence et/ou absence à tort (agents quotité 0) | C7: 3 | D7: =C7/C19 -> 0.0011909488 | E7: =D7*'Pondération des sujets'!$D5 -> 0.0011909488 | F7: 8 | G7: =F7/F19 -> 0.0032038446 | H7: =G7*'Pondération des sujets'!$D5 -> 0.0032038446 | I7: 6 | J7: =I7/I19 -> 0.0023894863 | K7: =J7*'Pondération des sujets'!$D5 -> 0.0023894863 | L7: 37 | M7: =L7/L19 -> 0.014705882 | N7: =M7*'Pondération des sujets'!$D5 -> 0.014705882 | O7: 12 | P7: =O7/O19 -> 0.0047487139 | Q7: =P7*'Pondération des sujets'!$D5 -> 0.0047487139 | R7: 6 | S7: =R7/R19 -> 0.0023818976 | T7: =S7*'Pondération des sujets'!$D5 -> 0.0023818976 | U7: 4 | V7: =U7/U19 -> 0.0015704751 | W7: =V7*'Pondération des sujets'!$D5 -> 0.0015704751 | X7: 9 | Y7: =X7/X19 -> 0.0035629454 | Z7: =Y7*'Pondération des sujets'!$D5 -> 0.0035629454 | AA7: 12 | AB7: =AA7/AA19 -> 0.0047619048 | AC7: =AB7*'Pondération des sujets'!$D5 -> 0.0047619048 | AD7: 2 | AE7: =AD7/AD19 -> 0.00079333598 | AF7: =AE7*'Pondération des sujets'!$D5 -> 0.00079333598 | AG7: 5 | AH7: =AG7/AG19 -> 0.0020218358 | AI7: =AH7*'Pondération des sujets'!$D5 -> 0.0020218358 | AJ7: 12 | AK7: =AJ7/AJ19 -> 0.004891969 | AL7: =AK7*'Pondération des sujets'!$D5 -> 0.004891969 | AN7: 0 | AO7: =AN7/AN19 -> 0 | AP7: =AO7*'Pondération des sujets'!$D5 -> 0 | AQ7: 9 | AR7: =AQ7/AQ19 -> 0.0026698309 | AS7: =AR7*'Pondération des sujets'!$D5 -> 0.0026698309 | AT7: 13 | AU7: =AT7/AT19 -> 0.003837072 | AV7: =AU7*'Pondération des sujets'!$D5 -> 0.003837072 | AW7: 25 | AX7: =AW7/AW19 -> 0.0074716079 | AY7: =AX7*'Pondération des sujets'!$D5 -> 0.0074716079 | AZ7: 6 | BA7: =AZ7/AZ19 -> 0.0017667845 | BB7: =BA7*'Pondération des sujets'!$D5 -> 0.0017667845 | BC7: 2 | BD7: =BC7/BC19 -> 0.00059259259 | BE7: =BD7*'Pondération des sujets'!$D5 -> 0.00059259259 | BF7: 1 | BG7: =BF7/BF19 -> 0.00029239766 | BH7: =BG7*'Pondération des sujets'!$D5 -> 0.00029239766 | BI7: 6 | BJ7: =BI7/BI19 -> 0.0017523364 | BK7: =BJ7*'Pondération des sujets'!$D5 -> 0.0017523364 | BL7: 4 | BM7: =BL7/BL19 -> 0.0011699327 | BN7: =BM7*'Pondération des sujets'!$D5 -> 0.0011699327 | BO7: 2 | BP7: =BO7/BO19 -> 0.00058479532 | BQ7: =BP7*'Pondération des sujets'!$D5 -> 0.00058479532 | BR7: 5 | BS7: =BR7/BR19 -> 0.0014925373 | BT7: =BS7*'Pondération des sujets'!$D5 -> 0.0014925373 | BU7: 8 | BV7: =BU7/BU19 -> 0.0024140012 | BW7: =BV7*'Pondération des sujets'!$D5 -> 0.0024140012 | BY7: 0 | BZ7: =BY7/BY19 -> 0 | CA7: =BZ7*'Pondération des sujets'!$D5 -> 0 | CB7: 1 | CC7: =CB7/CB19 -> 0.0003615329 | CD7: =CC7*'Pondération des sujets'!$D5 -> 0.0003615329 | CE7: 6 | CF7: =CE7/CE19 -> 0.0021699819 | CG7: =CF7*'Pondération des sujets'!$D5 -> 0.0021699819 | CH7: 10 | CI7: =CH7/CH19 -> 0.0036088055 | CJ7: =CI7*'Pondération des sujets'!$D5 -> 0.0036088055 | CK7: 2 | CL7: =CK7/CK19 -> 0.00071581961 | CM7: =CL7*'Pondération des sujets'!$D5 -> 0.00071581961 | CN7: 0 | CO7: =CN7/CN19 -> 0 | CP7: =CO7*'Pondération des sujets'!$D5 -> 0 | CQ7: 2 | CR7: =CQ7/CQ19 -> 0.00071199715 | CS7: =CR7*'Pondération des sujets'!$D5 -> 0.00071199715 | CT7: 1 | CU7: =CT7/CT19 -> 0.00035273369 | CV7: =CU7*'Pondération des sujets'!$D5 -> 0.00035273369 | CW7: 7 | CX7: =CW7/CW19 -> 0.0025080616 | CY7: =CX7*'Pondération des sujets'!$D5 -> 0.0025080616 | CZ7: 1 | DA7: =CZ7/CZ19 -> 0.00035236082 | DB7: =DA7*'Pondération des sujets'!$D5 -> 0.00035236082 | DC7: 5 | DD7: =DC7/DC19 -> 0.0017889088 | DE7: =DD7*'Pondération des sujets'!$D5 -> 0.0017889088 | DF7: 2 | DG7: =DF7/DF19 -> 0.00072228241 | DH7: =DG7*'Pondération des sujets'!$D5 -> 0.00072228241
A8: 1.4 | B8: Présence et/ou absence à tort (journées entières) | C8: 163 | D8: =C8/C$19 -> 0.064708218 | E8: =D8*'Pondération des sujets'!$D6 -> 0.064708218 | F8: 186 | G8: =F8/F$19 -> 0.074489387 | H8: =G8*'Pondération des sujets'!$D6 -> 0.074489387 | I8: 286 | J8: =I8/I$19 -> 0.11389885 | K8: =J8*'Pondération des sujets'!$D6 -> 0.11389885 | L8: 180 | M8: =L8/L$19 -> 0.07154213 | N8: =M8*'Pondération des sujets'!$D6 -> 0.07154213 | O8: 196 | P8: =O8/O$19 -> 0.077562327 | Q8: =P8*'Pondération des sujets'!$D6 -> 0.077562327 | R8: 184 | S8: =R8/R$19 -> 0.073044859 | T8: =S8*'Pondération des sujets'!$D6 -> 0.073044859 | U8: 184 | V8: =U8/U$19 -> 0.072241853 | W8: =V8*'Pondération des sujets'!$D6 -> 0.072241853 | X8: 156 | Y8: =X8/X$19 -> 0.06175772 | Z8: =Y8*'Pondération des sujets'!$D6 -> 0.06175772 | AA8: 114 | AB8: =AA8/AA$19 -> 0.045238095 | AC8: =AB8*'Pondération des sujets'!$D6 -> 0.045238095 | AD8: 124 | AE8: =AD8/AD$19 -> 0.049186831 | AF8: =AE8*'Pondération des sujets'!$D6 -> 0.049186831 | AG8: 126 | AH8: =AG8/AG$19 -> 0.050950263 | AI8: =AH8*'Pondération des sujets'!$D6 -> 0.050950263 | AJ8: 132 | AK8: =AJ8/AJ$19 -> 0.053811659 | AL8: =AK8*'Pondération des sujets'!$D6 -> 0.053811659 | AN8: 132 | AO8: =AN8/AN$19 -> 0.038972542 | AP8: =AO8*'Pondération des sujets'!$D6 -> 0.038972542 | AQ8: 244 | AR8: =AQ8/AQ$19 -> 0.072382082 | AS8: =AR8*'Pondération des sujets'!$D6 -> 0.072382082 | AT8: 455 | AU8: =AT8/AT$19 -> 0.13429752 | AV8: =AU8*'Pondération des sujets'!$D6 -> 0.13429752 | AW8: 196 | AX8: =AW8/AW$19 -> 0.058577406 | AY8: =AX8*'Pondération des sujets'!$D6 -> 0.058577406 | AZ8: 203 | BA8: =AZ8/AZ$19 -> 0.059776207 | BB8: =BA8*'Pondération des sujets'!$D6 -> 0.059776207 | BC8: 255 | BD8: =BC8/BC$19 -> 0.075555556 | BE8: =BD8*'Pondération des sujets'!$D6 -> 0.075555556 | BF8: 244 | BG8: =BF8/BF$19 -> 0.071345029 | BH8: =BG8*'Pondération des sujets'!$D6 -> 0.071345029 | BI8: 192 | BJ8: =BI8/BI$19 -> 0.056074766 | BK8: =BJ8*'Pondération des sujets'!$D6 -> 0.056074766 | BL8: 180 | BM8: =BL8/BL$19 -> 0.052646973 | BN8: =BM8*'Pondération des sujets'!$D6 -> 0.052646973 | BO8: 220 | BP8: =BO8/BO$19 -> 0.064327485 | BQ8: =BP8*'Pondération des sujets'!$D6 -> 0.064327485 | BR8: 259 | BS8: =BR8/BR$19 -> 0.077313433 | BT8: =BS8*'Pondération des sujets'!$D6 -> 0.077313433 | BU8: 223 | BV8: =BU8/BU$19 -> 0.067290284 | BW8: =BV8*'Pondération des sujets'!$D6 -> 0.067290284 | BY8: 193 | BZ8: =BY8/BY$19 -> 0.069876901 | CA8: =BZ8*'Pondération des sujets'!$D6 -> 0.069876901 | CB8: 221 | CC8: =CB8/CB$19 -> 0.079898771 | CD8: =CC8*'Pondération des sujets'!$D6 -> 0.079898771 | CE8: 528 | CF8: =CE8/CE$19 -> 0.19095841 | CG8: =CF8*'Pondération des sujets'!$D6 -> 0.19095841 | CH8: 209 | CI8: =CH8/CH$19 -> 0.075424035 | CJ8: =CI8*'Pondération des sujets'!$D6 -> 0.075424035 | CK8: 227 | CL8: =CK8/CK$19 -> 0.081245526 | CM8: =CL8*'Pondération des sujets'!$D6 -> 0.081245526 | CN8: 232 | CO8: =CN8/CN$19 -> 0.083243631 | CP8: =CO8*'Pondération des sujets'!$D6 -> 0.083243631 | CQ8: 239 | CR8: =CQ8/CQ$19 -> 0.08508366 | CS8: =CR8*'Pondération des sujets'!$D6 -> 0.08508366 | CT8: 263 | CU8: =CT8/CT$19 -> 0.092768959 | CV8: =CU8*'Pondération des sujets'!$D6 -> 0.092768959 | CW8: 242 | CX8: =CW8/CW$19 -> 0.086707273 | CY8: =CX8*'Pondération des sujets'!$D6 -> 0.086707273 | CZ8: 259 | DA8: =CZ8/CZ$19 -> 0.091261452 | DB8: =DA8*'Pondération des sujets'!$D6 -> 0.091261452 | DC8: 261 | DD8: =DC8/DC$19 -> 0.093381038 | DE8: =DD8*'Pondération des sujets'!$D6 -> 0.093381038 | DF8: 286 | DG8: =DF8/DF$19 -> 0.10328638 | DH8: =DG8*'Pondération des sujets'!$D6 -> 0.10328638
A9: 3 | B9: Agents sans affectation théorique (pas de PA théorique) | C9: 27 | D9: =C9/C$19 -> 0.010718539 | E9: =D9*'Pondération des sujets'!$D8 -> 0.010718539 | F9: 20 | G9: =F9/F$19 -> 0.0080096115 | H9: =G9*'Pondération des sujets'!$D8 -> 0.0080096115 | I9: 18 | J9: =I9/I$19 -> 0.0071684588 | K9: =J9*'Pondération des sujets'!$D8 -> 0.0071684588 | L9: 55 | M9: =L9/L$19 -> 0.021860095 | N9: =M9*'Pondération des sujets'!$D8 -> 0.021860095 | O9: 47 | P9: =O9/O$19 -> 0.018599129 | Q9: =P9*'Pondération des sujets'!$D8 -> 0.018599129 | R9: 67 | S9: =R9/R$19 -> 0.026597856 | T9: =S9*'Pondération des sujets'!$D8 -> 0.026597856 | U9: 59 | V9: =U9/U$19 -> 0.023164507 | W9: =V9*'Pondération des sujets'!$D8 -> 0.023164507 | X9: 73 | Y9: =X9/X$19 -> 0.028899446 | Z9: =Y9*'Pondération des sujets'!$D8 -> 0.028899446 | AA9: 71 | AB9: =AA9/AA$19 -> 0.028174603 | AC9: =AB9*'Pondération des sujets'!$D8 -> 0.028174603 | AD9: 43 | AE9: =AD9/AD$19 -> 0.017056724 | AF9: =AE9*'Pondération des sujets'!$D8 -> 0.017056724 | AG9: 73 | AH9: =AG9/AG$19 -> 0.029518803 | AI9: =AH9*'Pondération des sujets'!$D8 -> 0.029518803 | AJ9: 55 | AK9: =AJ9/AJ$19 -> 0.022421525 | AL9: =AK9*'Pondération des sujets'!$D8 -> 0.022421525 | AN9: 359 | AO9: =AN9/AN$19 -> 0.1059935 | AP9: =AO9*'Pondération des sujets'!$D8 -> 0.1059935 | AQ9: 218 | AR9: =AQ9/AQ$19 -> 0.064669238 | AS9: =AR9*'Pondération des sujets'!$D8 -> 0.064669238 | AT9: 95 | AU9: =AT9/AT$19 -> 0.028040142 | AV9: =AU9*'Pondération des sujets'!$D8 -> 0.028040142 | AW9: 387 | AX9: =AW9/AW$19 -> 0.11566049 | AY9: =AX9*'Pondération des sujets'!$D8 -> 0.11566049 | AZ9: 351 | BA9: =AZ9/AZ$19 -> 0.10335689 | BB9: =BA9*'Pondération des sujets'!$D8 -> 0.10335689 | BC9: 345 | BD9: =BC9/BC$19 -> 0.10222222 | BE9: =BD9*'Pondération des sujets'!$D8 -> 0.10222222 | BF9: 391 | BG9: =BF9/BF$19 -> 0.11432749 | BH9: =BG9*'Pondération des sujets'!$D8 -> 0.11432749 | BI9: 356 | BJ9: =BI9/BI$19 -> 0.10397196 | BK9: =BJ9*'Pondération des sujets'!$D8 -> 0.10397196 | BL9: 354 | BM9: =BL9/BL$19 -> 0.10353905 | BN9: =BM9*'Pondération des sujets'!$D8 -> 0.10353905 | BO9: 340 | BP9: =BO9/BO$19 -> 0.099415205 | BQ9: =BP9*'Pondération des sujets'!$D8 -> 0.099415205 | BR9: 287 | BS9: =BR9/BR$19 -> 0.085671642 | BT9: =BS9*'Pondération des sujets'!$D8 -> 0.085671642 | BU9: 253 | BV9: =BU9/BU$19 -> 0.076342788 | BW9: =BV9*'Pondération des sujets'!$D8 -> 0.076342788 | BY9: 173 | BZ9: =BY9/BY$19 -> 0.062635771 | CA9: =BZ9*'Pondération des sujets'!$D8 -> 0.062635771 | CB9: 157 | CC9: =CB9/CB$19 -> 0.056760665 | CD9: =CC9*'Pondération des sujets'!$D8 -> 0.056760665 | CE9: 82 | CF9: =CE9/CE$19 -> 0.02965642 | CG9: =CF9*'Pondération des sujets'!$D8 -> 0.02965642 | CH9: 405 | CI9: =CH9/CH$19 -> 0.14615662 | CJ9: =CI9*'Pondération des sujets'!$D8 -> 0.14615662 | CK9: 351 | CL9: =CK9/CK$19 -> 0.12562634 | CM9: =CL9*'Pondération des sujets'!$D8 -> 0.12562634 | CN9: 335 | CO9: =CN9/CN$19 -> 0.12020093 | CP9: =CO9*'Pondération des sujets'!$D8 -> 0.12020093 | CQ9: 361 | CR9: =CQ9/CQ$19 -> 0.12851549 | CS9: =CR9*'Pondération des sujets'!$D8 -> 0.12851549 | CT9: 390 | CU9: =CT9/CT$19 -> 0.13756614 | CV9: =CU9*'Pondération des sujets'!$D8 -> 0.13756614 | CW9: 438 | CX9: =CW9/CW$19 -> 0.156933 | CY9: =CX9*'Pondération des sujets'!$D8 -> 0.156933 | CZ9: 345 | DA9: =CZ9/CZ$19 -> 0.12156448 | DB9: =DA9*'Pondération des sujets'!$D8 -> 0.12156448 | DC9: 361 | DD9: =DC9/DC$19 -> 0.12915921 | DE9: =DD9*'Pondération des sujets'!$D8 -> 0.12915921 | DF9: 345 | DG9: =DF9/DF$19 -> 0.12459372 | DH9: =DG9*'Pondération des sujets'!$D8 -> 0.12459372
A10: 5 | B10: Agents affectés à une PA MRP ou Cycleur ayant une DHT moyenne hebdomadaire de 35h (sans description des repos de cycle dans la PA) | C10: 73 | D10: =C10/C$19 -> 0.028979754 | E10: =D10*'Pondération des sujets'!$D10 -> 0.028979754 | F10: 72 | G10: =F10/F$19 -> 0.028834602 | H10: =G10*'Pondération des sujets'!$D10 -> 0.028834602 | I10: 71 | J10: =I10/I$19 -> 0.028275587 | K10: =J10*'Pondération des sujets'!$D10 -> 0.028275587 | L10: 73 | M10: =L10/L$19 -> 0.029014308 | N10: =M10*'Pondération des sujets'!$D10 -> 0.029014308 | O10: 72 | P10: =O10/O$19 -> 0.028492283 | Q10: =P10*'Pondération des sujets'!$D10 -> 0.028492283 | R10: 71 | S10: =R10/R$19 -> 0.028185788 | T10: =S10*'Pondération des sujets'!$D10 -> 0.028185788 | U10: 68 | V10: =U10/U$19 -> 0.026698076 | W10: =V10*'Pondération des sujets'!$D10 -> 0.026698076 | X10: 103 | Y10: =X10/X$19 -> 0.04077593 | Z10: =Y10*'Pondération des sujets'!$D10 -> 0.04077593 | AA10: 105 | AB10: =AA10/AA$19 -> 0.041666667 | AC10: =AB10*'Pondération des sujets'!$D10 -> 0.041666667 | AD10: 75 | AE10: =AD10/AD$19 -> 0.029750099 | AF10: =AE10*'Pondération des sujets'!$D10 -> 0.029750099 | AG10: 65 | AH10: =AG10/AG$19 -> 0.026283866 | AI10: =AH10*'Pondération des sujets'!$D10 -> 0.026283866 | AJ10: 65 | AK10: =AJ10/AJ$19 -> 0.026498166 | AL10: =AK10*'Pondération des sujets'!$D10 -> 0.026498166 | AN10: 73 | AO10: =AN10/AN$19 -> 0.021552997 | AP10: =AO10*'Pondération des sujets'!$D10 -> 0.021552997 | AQ10: 75 | AR10: =AQ10/AQ$19 -> 0.022248591 | AS10: =AR10*'Pondération des sujets'!$D10 -> 0.022248591 | AT10: 76 | AU10: =AT10/AT$19 -> 0.022432113 | AV10: =AU10*'Pondération des sujets'!$D10 -> 0.022432113 | AW10: 75 | AX10: =AW10/AW$19 -> 0.022414824 | AY10: =AX10*'Pondération des sujets'!$D10 -> 0.022414824 | AZ10: 78 | BA10: =AZ10/AZ$19 -> 0.022968198 | BB10: =BA10*'Pondération des sujets'!$D10 -> 0.022968198 | BC10: 77 | BD10: =BC10/BC$19 -> 0.022814815 | BE10: =BD10*'Pondération des sujets'!$D10 -> 0.022814815 | BF10: 73 | BG10: =BF10/BF$19 -> 0.021345029 | BH10: =BG10*'Pondération des sujets'!$D10 -> 0.021345029 | BI10: 76 | BJ10: =BI10/BI$19 -> 0.022196262 | BK10: =BJ10*'Pondération des sujets'!$D10 -> 0.022196262 | BL10: 72 | BM10: =BL10/BL$19 -> 0.021058789 | BN10: =BM10*'Pondération des sujets'!$D10 -> 0.021058789 | BO10: 73 | BP10: =BO10/BO$19 -> 0.021345029 | BQ10: =BP10*'Pondération des sujets'!$D10 -> 0.021345029 | BR10: 69 | BS10: =BR10/BR$19 -> 0.020597015 | BT10: =BS10*'Pondération des sujets'!$D10 -> 0.020597015 | BU10: 71 | BV10: =BU10/BU$19 -> 0.021424261 | BW10: =BV10*'Pondération des sujets'!$D10 -> 0.021424261 | BY10: 106 | BZ10: =BY10/BY$19 -> 0.038377987 | CA10: =BZ10*'Pondération des sujets'!$D10 -> 0.038377987 | CB10: 91 | CC10: =CB10/CB$19 -> 0.032899494 | CD10: =CC10*'Pondération des sujets'!$D10 -> 0.032899494 | CE10: 86 | CF10: =CE10/CE$19 -> 0.031103074 | CG10: =CF10*'Pondération des sujets'!$D10 -> 0.031103074 | CH10: 84 | CI10: =CH10/CH$19 -> 0.030313966 | CJ10: =CI10*'Pondération des sujets'!$D10 -> 0.030313966 | CK10: 75 | CL10: =CK10/CK$19 -> 0.026843236 | CM10: =CL10*'Pondération des sujets'!$D10 -> 0.026843236 | CN10: 73 | CO10: =CN10/CN$19 -> 0.026193039 | CP10: =CO10*'Pondération des sujets'!$D10 -> 0.026193039 | CQ10: 74 | CR10: =CQ10/CQ$19 -> 0.026343895 | CS10: =CR10*'Pondération des sujets'!$D10 -> 0.026343895 | CT10: 93 | CU10: =CT10/CT$19 -> 0.032804233 | CV10: =CU10*'Pondération des sujets'!$D10 -> 0.032804233 | CW10: 97 | CX10: =CW10/CW$19 -> 0.034754568 | CY10: =CX10*'Pondération des sujets'!$D10 -> 0.034754568 | CZ10: 83 | DA10: =CZ10/CZ$19 -> 0.029245948 | DB10: =DA10*'Pondération des sujets'!$D10 -> 0.029245948 | DC10: 73 | DD10: =DC10/DC$19 -> 0.026118068 | DE10: =DD10*'Pondération des sujets'!$D10 -> 0.026118068 | DF10: 55 | DG10: =DF10/DF$19 -> 0.019862766 | DH10: =DG10*'Pondération des sujets'!$D10 -> 0.019862766
A11: 8bis.1 | B11: Agents sortis de BSCC mais toujours affectés à une PA théorique | C11: 3 | D11: =C11/C$19 -> 0.0011909488 | E11: =D11*'Pondération des sujets'!$D16 -> 0.0011909488 | F11: 2 | G11: =F11/F$19 -> 0.00080096115 | H11: =G11*'Pondération des sujets'!$D16 -> 0.00080096115 | I11: 3 | J11: =I11/I$19 -> 0.0011947431 | K11: =J11*'Pondération des sujets'!$D16 -> 0.0011947431 | L11: 4 | M11: =L11/L$19 -> 0.0015898251 | N11: =M11*'Pondération des sujets'!$D16 -> 0.0015898251 | O11: 4 | P11: =O11/O$19 -> 0.0015829046 | Q11: =P11*'Pondération des sujets'!$D16 -> 0.0015829046 | R11: 4 | S11: =R11/R$19 -> 0.0015879317 | T11: =S11*'Pondération des sujets'!$D16 -> 0.0015879317 | U11: 3 | V11: =U11/U$19 -> 0.0011778563 | W11: =V11*'Pondération des sujets'!$D16 -> 0.0011778563 | X11: 2 | Y11: =X11/X$19 -> 0.00079176564 | Z11: =Y11*'Pondération des sujets'!$D16 -> 0.00079176564 | AA11: 3 | AB11: =AA11/AA$19 -> 0.0011904762 | AC11: =AB11*'Pondération des sujets'!$D16 -> 0.0011904762 | AD11: 0 | AE11: =AD11/AD$19 -> 0 | AF11: =AE11*'Pondération des sujets'!$D16 -> 0 | AG11: 0 | AH11: =AG11/AG$19 -> 0 | AI11: =AH11*'Pondération des sujets'!$D16 -> 0 | AJ11: 0 | AK11: =AJ11/AJ$19 -> 0 | AL11: =AK11*'Pondération des sujets'!$D16 -> 0 | AN11: 2 | AO11: =AN11/AN$19 -> 0.00059049306 | AP11: =AO11*'Pondération des sujets'!$D16 -> 0.00059049306 | AQ11: 1 | AR11: =AQ11/AQ$19 -> 0.00029664788 | AS11: =AR11*'Pondération des sujets'!$D16 -> 0.00029664788 | AT11: 0 | AU11: =AT11/AT$19 -> 0 | AV11: =AU11*'Pondération des sujets'!$D16 -> 0 | AW11: 0 | AX11: =AW11/AW$19 -> 0 | AY11: =AX11*'Pondération des sujets'!$D16 -> 0 | AZ11: 0 | BA11: =AZ11/AZ$19 -> 0 | BB11: =BA11*'Pondération des sujets'!$D16 -> 0 | BC11: 0 | BD11: =BC11/BC$19 -> 0 | BE11: =BD11*'Pondération des sujets'!$D16 -> 0 | BF11: 0 | BG11: =BF11/BF$19 -> 0 | BH11: =BG11*'Pondération des sujets'!$D16 -> 0 | BI11: 1 | BJ11: =BI11/BI$19 -> 0.00029205607 | BK11: =BJ11*'Pondération des sujets'!$D16 -> 0.00029205607 | BL11: 1 | BM11: =BL11/BL$19 -> 0.00029248318 | BN11: =BM11*'Pondération des sujets'!$D16 -> 0.00029248318 | BO11: 1 | BP11: =BO11/BO$19 -> 0.00029239766 | BQ11: =BP11*'Pondération des sujets'!$D16 -> 0.00029239766 | BR11: 3 | BS11: =BR11/BR$19 -> 0.00089552239 | BT11: =BS11*'Pondération des sujets'!$D16 -> 0.00089552239 | BU11: 2 | BV11: =BU11/BU$19 -> 0.0006035003 | BW11: =BV11*'Pondération des sujets'!$D16 -> 0.0006035003 | BY11: 4 | BZ11: =BY11/BY$19 -> 0.0014482259 | CA11: =BZ11*'Pondération des sujets'!$D16 -> 0.0014482259 | CB11: 5 | CC11: =CB11/CB$19 -> 0.0018076645 | CD11: =CC11*'Pondération des sujets'!$D16 -> 0.0018076645 | CE11: 3 | CF11: =CE11/CE$19 -> 0.001084991 | CG11: =CF11*'Pondération des sujets'!$D16 -> 0.001084991 | CH11: 0 | CI11: =CH11/CH$19 -> 0 | CJ11: =CI11*'Pondération des sujets'!$D16 -> 0 | CK11: 1 | CL11: =CK11/CK$19 -> 0.00035790981 | CM11: =CL11*'Pondération des sujets'!$D16 -> 0.00035790981 | CN11: 1 | CO11: =CN11/CN$19 -> 0.00035880875 | CP11: =CO11*'Pondération des sujets'!$D16 -> 0.00035880875 | CQ11: 2 | CR11: =CQ11/CQ$19 -> 0.00071199715 | CS11: =CR11*'Pondération des sujets'!$D16 -> 0.00071199715 | CT11: 3 | CU11: =CT11/CT$19 -> 0.0010582011 | CV11: =CU11*'Pondération des sujets'!$D16 -> 0.0010582011 | CW11: 2 | CX11: =CW11/CW$19 -> 0.00071658904 | CY11: =CX11*'Pondération des sujets'!$D16 -> 0.00071658904 | CZ11: 1 | DA11: =CZ11/CZ$19 -> 0.00035236082 | DB11: =DA11*'Pondération des sujets'!$D16 -> 0.00035236082 | DC11: 2 | DD11: =DC11/DC$19 -> 0.00071556351 | DE11: =DD11*'Pondération des sujets'!$D16 -> 0.00071556351 | DF11: 2 | DG11: =DF11/DF$19 -> 0.00072228241 | DH11: =DG11*'Pondération des sujets'!$D16 -> 0.00072228241
A12: 8bis.2 | B12: Agents sortis de BSCC mais toujours affectés à une PA exceptionnelle | C12: 1 | D12: =C12/C$19 -> 0.00039698293 | E12: =D12*'Pondération des sujets'!$D17 -> 0.00039698293 | F12: 0 | G12: =F12/F$19 -> 0 | H12: =G12*'Pondération des sujets'!$D17 -> 0 | I12: 1 | J12: =I12/I$19 -> 0.00039824771 | K12: =J12*'Pondération des sujets'!$D17 -> 0.00039824771 | L12: 2 | M12: =L12/L$19 -> 0.00079491256 | N12: =M12*'Pondération des sujets'!$D17 -> 0.00079491256 | O12: 2 | P12: =O12/O$19 -> 0.00079145231 | Q12: =P12*'Pondération des sujets'!$D17 -> 0.00079145231 | R12: 2 | S12: =R12/R$19 -> 0.00079396586 | T12: =S12*'Pondération des sujets'!$D17 -> 0.00079396586 | U12: 2 | V12: =U12/U$19 -> 0.00078523753 | W12: =V12*'Pondération des sujets'!$D17 -> 0.00078523753 | X12: 2 | Y12: =X12/X$19 -> 0.00079176564 | Z12: =Y12*'Pondération des sujets'!$D17 -> 0.00079176564 | AA12: 2 | AB12: =AA12/AA$19 -> 0.00079365079 | AC12: =AB12*'Pondération des sujets'!$D17 -> 0.00079365079 | AD12: 0 | AE12: =AD12/AD$19 -> 0 | AF12: =AE12*'Pondération des sujets'!$D17 -> 0 | AG12: 0 | AH12: =AG12/AG$19 -> 0 | AI12: =AH12*'Pondération des sujets'!$D17 -> 0 | AJ12: 0 | AK12: =AJ12/AJ$19 -> 0 | AL12: =AK12*'Pondération des sujets'!$D17 -> 0 | AN12: 0 | AO12: =AN12/AN$19 -> 0 | AP12: =AO12*'Pondération des sujets'!$D17 -> 0 | AQ12: 0 | AR12: =AQ12/AQ$19 -> 0 | AS12: =AR12*'Pondération des sujets'!$D17 -> 0 | AT12: 0 | AU12: =AT12/AT$19 -> 0 | AV12: =AU12*'Pondération des sujets'!$D17 -> 0 | AW12: 0 | AX12: =AW12/AW$19 -> 0 | AY12: =AX12*'Pondération des sujets'!$D17 -> 0 | AZ12: 0 | BA12: =AZ12/AZ$19 -> 0 | BB12: =BA12*'Pondération des sujets'!$D17 -> 0 | BC12: 0 | BD12: =BC12/BC$19 -> 0 | BE12: =BD12*'Pondération des sujets'!$D17 -> 0 | BF12: 0 | BG12: =BF12/BF$19 -> 0 | BH12: =BG12*'Pondération des sujets'!$D17 -> 0 | BI12: 0 | BJ12: =BI12/BI$19 -> 0 | BK12: =BJ12*'Pondération des sujets'!$D17 -> 0 | BL12: 0 | BM12: =BL12/BL$19 -> 0 | BN12: =BM12*'Pondération des sujets'!$D17 -> 0 | BO12: 0 | BP12: =BO12/BO$19 -> 0 | BQ12: =BP12*'Pondération des sujets'!$D17 -> 0 | BR12: 0 | BS12: =BR12/BR$19 -> 0 | BT12: =BS12*'Pondération des sujets'!$D17 -> 0 | BU12: 0 | BV12: =BU12/BU$19 -> 0 | BW12: =BV12*'Pondération des sujets'!$D17 -> 0 | BY12: 0 | BZ12: =BY12/BY$19 -> 0 | CA12: =BZ12*'Pondération des sujets'!$D17 -> 0 | CB12: 0 | CC12: =CB12/CB$19 -> 0 | CD12: =CC12*'Pondération des sujets'!$D17 -> 0 | CE12: 1 | CF12: =CE12/CE$19 -> 0.00036166365 | CG12: =CF12*'Pondération des sujets'!$D17 -> 0.00036166365 | CH12: 0 | CI12: =CH12/CH$19 -> 0 | CJ12: =CI12*'Pondération des sujets'!$D17 -> 0 | CK12: 0 | CL12: =CK12/CK$19 -> 0 | CM12: =CL12*'Pondération des sujets'!$D17 -> 0 | CN12: 0 | CO12: =CN12/CN$19 -> 0 | CP12: =CO12*'Pondération des sujets'!$D17 -> 0 | CQ12: 0 | CR12: =CQ12/CQ$19 -> 0 | CS12: =CR12*'Pondération des sujets'!$D17 -> 0 | CT12: 0 | CU12: =CT12/CT$19 -> 0 | CV12: =CU12*'Pondération des sujets'!$D17 -> 0 | CW12: 0 | CX12: =CW12/CW$19 -> 0 | CY12: =CX12*'Pondération des sujets'!$D17 -> 0 | CZ12: 0 | DA12: =CZ12/CZ$19 -> 0 | DB12: =DA12*'Pondération des sujets'!$D17 -> 0 | DC12: 0 | DD12: =DC12/DC$19 -> 0 | DE12: =DD12*'Pondération des sujets'!$D17 -> 0 | DF12: 0 | DG12: =DF12/DF$19 -> 0 | DH12: =DG12*'Pondération des sujets'!$D17 -> 0
A13: 8ter | B13: PA avec plage horaire erronée | C13: 0 | D13: =C13/C$21 -> 0 | F13: 0 | G13: =F13/F$21 -> 0 | I13: 0 | J13: =I13/I$21 -> 0 | L13: 0 | M13: =L13/L$21 -> 0 | O13: 0 | P13: =O13/O$21 -> 0 | R13: 0 | S13: =R13/R$21 -> 0 | U13: 0 | V13: =U13/U$21 -> 0 | X13: 0 | Y13: =X13/X$21 -> 0 | AA13: 0 | AB13: =AA13/AA$21 -> 0 | AD13: 0 | AE13: =AD13/AD$21 -> 0 | AG13: 0 | AH13: =AG13/AG$21 -> 0 | AJ13: 0 | AK13: =AJ13/AJ$21 -> 0 | AN13: 0 | AO13: =AN13/AN$21 -> 0 | AQ13: 0 | AR13: =AQ13/AQ$21 -> 0 | AT13: 0 | AU13: =AT13/AT$21 -> 0 | AW13: 0 | AX13: =AW13/AW$21 -> 0 | AZ13: 0 | BA13: =AZ13/AZ$21 -> 0 | BC13: 0 | BD13: =BC13/BC$21 -> 0 | BF13: 0 | BG13: =BF13/BF$21 -> 0 | BI13: 0 | BJ13: =BI13/BI$21 -> 0 | BL13: 0 | BM13: =BL13/BL$21 -> 0 | BO13: 0 | BP13: =BO13/BO$21 -> 0 | BR13: 0 | BS13: =BR13/BR$21 -> 0 | BU13: 0 | BV13: =BU13/BU$21 -> 0 | BY13: 0 | BZ13: =BY13/BY$21 -> 0 | CB13: 0 | CC13: =CB13/CB$21 -> 0 | CE13: 0 | CF13: =CE13/CE$21 -> 0 | CH13: 0 | CI13: =CH13/CH$21 -> 0 | CK13: 0 | CL13: =CK13/CK$21 -> 0 | CN13: 0 | CO13: =CN13/CN$21 -> 0 | CQ13: 0 | CR13: =CQ13/CQ$21 -> 0 | CT13: 0 | CU13: =CT13/CT$21 -> 0 | CW13: 0 | CX13: =CW13/CW$21 -> 0 | CZ13: 0 | DA13: =CZ13/CZ$21 -> 0 | DC13: 0 | DD13: =DC13/DC$21 -> 0 | DF13: 0 | DG13: =DF13/DF$21 -> 0
A14: CALCUL INDICATEUR | B14: XX TOTAL | E14: =SUM(E4:E12) -> 0.29614927 | H14: =SUM(H4:H12) -> 0.31157389 | K14: =SUM(K4:K12) -> 0.38152131 | N14: =SUM(N4:N12) -> 0.32591415 | Q14: =SUM(Q4:Q12) -> 0.3434903 | T14: =SUM(T4:T12) -> 0.31560143 | W14: =SUM(W4:W12) -> 0.29760503 | Z14: =SUM(Z4:Z12) -> 0.28622328 | AC14: =SUM(AC4:AC12) -> 0.26587302 | AF14: =SUM(AF4:AF12) -> 0.23760413 | AI14: =SUM(AI4:AI12) -> 0.25353821 | AL14: =SUM(AL4:AL12) -> 0.26294333 | AP14: =SUM(AP4:AP12) -> 0.3191615 | AS14: =SUM(AS4:AS12) -> 0.3073272 | AV14: =SUM(AV4:AV12) -> 0.36275089 | AY14: =SUM(AY4:AY12) -> 0.32008368 | BB14: =SUM(BB4:BB12) -> 0.33568905 | BE14: =SUM(BE4:BE12) -> 0.34992593 | BH14: =SUM(BH4:BH12) -> 0.32573099 | BK14: =SUM(BK4:BK12) -> 0.29351636 | BN14: =SUM(BN4:BN12) -> 0.27347178 | BQ14: =SUM(BQ4:BQ12) -> 0.2874269 | BT14: =SUM(BT4:BT12) -> 0.29223881 | BW14: =SUM(BW4:BW12) -> 0.28907664 | CA14: =SUM(CA4:CA12) -> 0.40296886 | CD14: =SUM(CD4:CD12) -> 0.37744035 | CG14: =SUM(CG4:CG12) -> 0.47486438 | CJ14: =SUM(CJ4:CJ12) -> 0.3969686 | CM14: =SUM(CM4:CM12) -> 0.43092341 | CP14: =SUM(CP4:CP12) -> 0.41263007 | CS14: =SUM(CS4:CS12) -> 0.41829833 | CV14: =SUM(CV4:CV12) -> 0.44726631 | CY14: =SUM(CY4:CY12) -> 0.44786815 | DB14: =SUM(DB4:DB12) -> 0.39534884 | DE14: =SUM(DE4:DE12) -> 0.39534884 | DH14: =SUM(DH4:DH12) -> 0.406645
C16: DSCC 51 | F16: DSCC 51 | I16: DSCC 51 | L16: DSCC 51 | O16: DSCC 51 | R16: DSCC 51 | U16: DSCC 51 | X16: DSCC 51 | AA16: DSCC 51 | AD16: DSCC 51 | AG16: DSCC 51 | AJ16: DSCC 51 | AN16: DSCC 54 | AQ16: DSCC 54 | AT16: DSCC 54 | AW16: DSCC 54 | AZ16: DSCC 54 | BC16: DSCC 54 | BF16: DSCC 54 | BI16: DSCC 54 | BL16: DSCC 54 | BO16: DSCC 54 | BR16: DSCC 54 | BU16: DSCC 54 | BY16: DSCC 67 | CB16: DSCC 67 | CE16: DSCC 67 | CH16: DSCC 67 | CK16: DSCC 67 | CN16: DSCC 67 | CQ16: DSCC 67 | CT16: DSCC 67 | CW16: DSCC 67 | CZ16: DSCC 67 | DC16: DSCC 67 | DF16: DSCC 67
C17: Suivi 1 | F17: Suivi 2 | I17: Suivi 3 | L17: Suivi 4 | O17: Suivi 5 | R17: Suivi 6 | U17: Suivi 7 | X17: Suivi 8 | AA17: Suivi 9 | AD17: Suivi 10 | AG17: Suivi 11 | AJ17: Suivi 12 | AN17: Suivi 1 | AQ17: Suivi 2 | AT17: Suivi 3 | AW17: Suivi 4 | AZ17: Suivi 5 | BC17: Suivi 6 | BF17: Suivi 7 | BI17: Suivi 8 | BL17: Suivi 9 | BO17: Suivi 10 | BR17: Suivi 11 | BU17: Suivi 12 | BY17: Suivi 1 | CB17: Suivi 2 | CE17: Suivi 3 | CH17: Suivi 4 | CK17: Suivi 5 | CN17: Suivi 6 | CQ17: Suivi 7 | CT17: Suivi 8 | CW17: Suivi 9 | CZ17: Suivi 10 | DC17: Suivi 11 | DF17: Suivi 12
C18: Effectif total | F18: Effectif total | I18: Effectif total | L18: Effectif total | O18: Effectif total | R18: Effectif total | U18: Effectif total | X18: Effectif total | AA18: Effectif total | AD18: Effectif total | AG18: Effectif total | AJ18: Effectif total | AN18: Effectif total | AQ18: Effectif total | AT18: Effectif total | AW18: Effectif total | AZ18: Effectif total | BC18: Effectif total | BF18: Effectif total | BI18: Effectif total | BL18: Effectif total | BO18: Effectif total | BR18: Effectif total | BU18: Effectif total | BY18: Effectif total | CB18: Effectif total | CE18: Effectif total | CH18: Effectif total | CK18: Effectif total | CN18: Effectif total | CQ18: Effectif total | CT18: Effectif total | CW18: Effectif total | CZ18: Effectif total | DC18: Effectif total | DF18: Effectif total
C19: 2519 | F19: 2497 | I19: 2511 | L19: 2516 | O19: 2527 | R19: 2519 | U19: 2547 | X19: 2526 | AA19: 2520 | AD19: 2521 | AG19: 2473 | AJ19: 2453 | AN19: 3387 | AQ19: 3371 | AT19: 3388 | AW19: 3346 | AZ19: 3396 | BC19: 3375 | BF19: 3420 | BI19: 3424 | BL19: 3419 | BO19: 3420 | BR19: 3350 | BU19: 3314 | BY19: 2762 | CB19: 2766 | CE19: 2765 | CH19: 2771 | CK19: 2794 | CN19: 2787 | CQ19: 2809 | CT19: 2835 | CW19: 2791 | CZ19: 2838 | DC19: 2795 | DF19: 2769
C20: Nombre total de PA | F20: Nombre total de PA | I20: Nombre total de PA | L20: Nombre total de PA | O20: Nombre total de PA | R20: Nombre total de PA | U20: Nombre total de PA | X20: Nombre total de PA | AA20: Nombre total de PA | AD20: Nombre total de PA | AG20: Nombre total de PA | AJ20: Nombre total de PA | AN20: Nb total de PA | AQ20: Nb total de PA | AT20: Nb total de PA | AW20: Nb total de PA | AZ20: Nb total de PA | BC20: Nb total de PA | BF20: Nb total de PA | BI20: Nb total de PA | BL20: Nb total de PA | BO20: Nb total de PA | BR20: Nb total de PA | BU20: Nb total de PA | BY20: Nombre total de PA | CB20: Nombre total de PA | CE20: Nombre total de PA | CH20: Nombre total de PA | CK20: Nombre total de PA | CN20: Nombre total de PA | CQ20: Nombre total de PA | CT20: Nombre total de PA | CW20: Nombre total de PA | CZ20: Nombre total de PA | DC20: Nombre total de PA | DF20: Nombre total de PA
C21: 3189 | F21: 3155 | I21: 3097 | L21: 3107 | O21: 3111 | R21: 3122 | U21: 3123 | X21: 3095 | AA21: 3064 | AD21: 3092 | AG21: 3116 | AJ21: 3072 | AN21: 3960 | AQ21: 3959 | AT21: 3971 | AW21: 3958 | AZ21: 3881 | BC21: 3884 | BF21: 3887 | BI21: 3886 | BL21: 3891 | BO21: 3894 | BR21: 3919 | BU21: 3913 | BY21: 3419 | CB21: 3428 | CE21: 3415 | CH21: 3410 | CK21: 3420 | CN21: 3429 | CQ21: 3473 | CT21: 3440 | CW21: 3458 | CZ21: 3538 | DC21: 3511 | DF21: 3554

Sheet Hauts de France
A1: N° | B1: Sujets de fiabilisation
C2: DSCC 59 | F2: DSCC 59 | I2: DSCC 59 | L2: DSCC 59 | O2: DSCC 59 | R2: DSCC 59 | U2: DSCC 59 | X2: DSCC 59 | AA2: DSCC 59 | AD2: DSCC 59 | AG2: DSCC 59 | AJ2: DSCC 59 | AN2: DSCC 62 | AQ2: DSCC 62 | AT2: DSCC 62 | AW2: DSCC 62 | AZ2: DSCC 62 | BC2: DSCC 62 | BF2: DSCC 62 | BI2: DSCC 62 | BL2: DSCC 62 | BO2: DSCC 62 | BR2: DSCC 62 | BU2: DSCC 62 | BX2: DSCC 62 | CA2: DSCC 62 | CE2: DSCC 80 | CH2: DSCC 80 | CK2: DSCC 80 | CN2: DSCC 80 | CQ2: DSCC 80 | CT2: DSCC 80 | CW2: DSCC 80 | CZ2: DSCC 80 | DC2: DSCC 80 | DF2: DSCC 80 | DI2: DSCC 80 | DL2: DSCC 80
C3: Suivi 1 | D3: 19/02 - Suivi 1 | E3: Indicateur | F3: Suivi 2 | G3: 12/03 - Suivi 2 | H3: Indicateur | I3: Suivi 3 | J3: 02/04 - Suivi 3 | K3: Indicateur | L3: Suivi 4 | M3: 16/04 - Suivi 4 | N3: Indicateur | O3: Suivi 5 | P3: 14/05 - Suivi 5 | Q3: Indicateur | R3: Suivi 6 | S3: 03/06 - Suivi 6 | T3: Indicateur | U3: Suivi 7 | V3: 25/06 - Suivi 7 | W3: Indicateur | X3: Suivi 8 | Y3: 16/07 - Suivi 8 | Z3: Indicateur | AA3: Suivi 9 | AB3: 06/08 - Suivi 9 | AC3: Indicateur | AD3: Suivi 10 | AE3: 29/08 - Suivi 10 | AF3: Indicateur | AG3: Suivi 11 | AH3: 17/09 - Suivi 11 | AI3: Indicateur | AJ3: Suivi 12 | AK3: 08/10 - Suivi 12 | AL3: Indicateur | AN3: Suivi 1 | AO3: 08/01 - Suivi 1 | AP3: Indicateur | AQ3: Suivi 2 | AR3: 05/02 - Suivi 2 | AS3: Indicateur | AT3: Suivi 3 | AU3: 25/02 - Suivi 3 | AV3: Indicateur | AW3: Suivi 4 | AX3: 19/03 - Suivi 4 | AY3: Indicateur | AZ3: Suivi 5 | BA3: 02/04 - Suivi 5 | BB3: Indicateur | BC3: Suivi 6 | BD3: 16/04 - Suivi 5 | BE3: Indicateur | BF3: Suivi 7 | BG3: 14/05 - Suivi 7 | BH3: Indicateur | BI3: Suivi 8 | BJ3: 03/06 - Suivi 8 | BK3: Indicateur | BL3: Suivi 9 | BM3: 25/06 - Suivi 9 | BN3: Indicateur | BO3: Suivi 10 | BP3: 16/07 - Suivi 10 | BQ3: Indicateur | BR3: Suivi 11 | BS3: 06/08 - Suivi 11 | BT3: Indicateur | BU3: Suivi 12 | BV3: 29/08 - Suivi 12 | BW3: Indicateur | BX3: Suivi 13 | BY3: 17/09 - Suivi 13 | BZ3: Indicateur | CA3: Suivi 14 | CB3: 08/10 - Suivi 14 | CC3: Indicateur | CE3: Suivi 1 | CF3: 19/02 - Suivi 1 | CG3: Indicateur | CH3: Suivi 2 | CI3: 12/03 - Suivi 2 | CJ3: Indicateur | CK3: Suivi 3 | CL3: 02/04 - Suivi 3 | CM3: Indicateur | CN3: Suivi 4 | CO3: 16/04 - Suivi 4 | CP3: Indicateur | CQ3: Suivi 5 | CR3: 14/05 - Suivi 5 | CS3: Indicateur | CT3: Suivi 6 | CU3: 03/06 - Suivi 6 | CV3: Indicateur | CW3: Suivi 7 | CX3: 25/06 - Suivi 7 | CY3: Indicateur | CZ3: Suivi 8 | DA3: 16/07 - Suivi 8 | DB3: Indicateur | DC3: Suivi 9 | DD3: 06/08 - Suivi 9 | DE3: Indicateur | DF3: Suivi 10 | DG3: 29/08 - Suivi 10 | DH3: Indicateur | DI3: Suivi 11 | DJ3: 17/09 - Suivi 11 | DK3: Indicateur | DL3: Suivi 12 | DM3: 08/10 - Suivi 12 | DN3: Indicateur
A4: 1.1 | B4: Présence et/ou absence à tort (agents temps plein) | C4: 392 | D4: =C4/C$19 -> 0.11918516 | E4: =D4*'Pondération des sujets'!$D3 -> 0.11918516 | F4: 411 | G4: =F4/F$19 -> 0.12665639 | H4: =G4*'Pondération des sujets'!$D3 -> 0.12665639 | I4: 390 | J4: =I4/I$19 -> 0.12081784 | K4: =J4*'Pondération des sujets'!$D3 -> 0.12081784 | L4: 390 | M4: =L4/L$19 -> 0.11915674 | N4: =M4*'Pondération des sujets'!$D3 -> 0.11915674 | O4: 378 | P4: =O4/O$19 -> 0.11670269 | Q4: =P4*'Pondération des sujets'!$D3 -> 0.11670269 | R4: 366 | S4: =R4/R$19 -> 0.11352357 | T4: =S4*'Pondération des sujets'!$D3 -> 0.11352357 | U4: 369 | V4: =U4/U$19 -> 0.11071107 | W4: =V4*'Pondération des sujets'!$D3 -> 0.11071107 | X4: 382 | Y4: =X4/X$19 -> 0.11423445 | Z4: =Y4*'Pondération des sujets'!$D3 -> 0.11423445 | AA4: 419 | AB4: =AA4/AA$19 -> 0.12597715 | AC4: =AB4*'Pondération des sujets'!$D3 -> 0.12597715 | AD4: 364 | AE4: =AD4/AD$19 -> 0.10944077 | AF4: =AE4*'Pondération des sujets'!$D3 -> 0.10944077 | AG4: 369 | AH4: =AG4/AG$19 -> 0.11399444 | AI4: =AH4*'Pondération des sujets'!$D3 -> 0.11399444 | AJ4: 374 | AK4: =AJ4/AJ$19 -> 0.11661989 | AL4: =AK4*'Pondération des sujets'!$D3 -> 0.11661989 | AN4: 344 | AO4: =AN4/AN$19 -> 0.17004449 | AP4: =AO4*'Pondération des sujets'!$D3 -> 0.17004449 | AQ4: 431 | AR4: =AQ4/AQ$19 -> 0.20963035 | AS4: =AR4*'Pondération des sujets'!$D3 -> 0.20963035 | AT4: 372 | AU4: =AT4/AT$19 -> 0.18067023 | AV4: =AU4*'Pondération des sujets'!$D3 -> 0.18067023 | AW4: 353 | AX4: =AW4/AW$19 -> 0.17152575 | AY4: =AX4*'Pondération des sujets'!$D3 -> 0.17152575 | AZ4: 322 | BA4: =AZ4/AZ$19 -> 0.15745721 | BB4: =BA4*'Pondération des sujets'!$D3 -> 0.15745721 | BC4: 333 | BD4: =BC4/BC$19 -> 0.15986558 | BE4: =BD4*'Pondération des sujets'!$D3 -> 0.15986558 | BF4: 360 | BG4: =BF4/BF$19 -> 0.17690418 | BH4: =BG4*'Pondération des sujets'!$D3 -> 0.17690418 | BI4: 355 | BJ4: =BI4/BI$19 -> 0.17609127 | BK4: =BJ4*'Pondération des sujets'!$D3 -> 0.17609127 | BL4: 334 | BM4: =BL4/BL$19 -> 0.15965583 | BN4: =BM4*'Pondération des sujets'!$D3 -> 0.15965583 | BO4: 365 | BP4: =BO4/BO$19 -> 0.17184557 | BQ4: =BP4*'Pondération des sujets'!$D3 -> 0.17184557 | BR4: 334 | BS4: =BR4/BR$19 -> 0.15919924 | BT4: =BS4*'Pondération des sujets'!$D3 -> 0.15919924 | BU4: 333 | BV4: =BU4/BU$19 -> 0.15707547 | BW4: =BV4*'Pondération des sujets'!$D3 -> 0.15707547 | BX4: 323 | BY4: =BX4/BX$19 -> 0.15649225 | BZ4: =BY4*'Pondération des sujets'!$D3 -> 0.15649225 | CA4: 343 | CB4: =CA4/CA$19 -> 0.17107232 | CC4: =CB4*'Pondération des sujets'!$D3 -> 0.17107232 | CE4: 524 | CF4: =CE4/CE$19 -> 0.17214192 | CG4: =CF4*'Pondération des sujets'!$D3 -> 0.17214192 | CH4: 564 | CI4: =CH4/CH$19 -> 0.188 | CJ4: =CI4*'Pondération des sujets'!$D3 -> 0.188 | CK4: 536 | CL4: =CK4/CK$19 -> 0.17813227 | CM4: =CL4*'Pondération des sujets'!$D3 -> 0.17813227 | CN4: 503 | CO4: =CN4/CN$19 -> 0.16416449 | CP4: =CO4*'Pondération des sujets'!$D3 -> 0.16416449 | CQ4: 461 | CR4: =CQ4/CQ$19 -> 0.15443886 | CS4: =CR4*'Pondération des sujets'!$D3 -> 0.15443886 | CT4: 500 | CU4: =CT4/CT$19 -> 0.16926202 | CV4: =CU4*'Pondération des sujets'!$D3 -> 0.16926202 | CW4: 570 | CX4: =CW4/CW$19 -> 0.18651832 | CY4: =CX4*'Pondération des sujets'!$D3 -> 0.18651832 | CZ4: 483 | DA4: =CZ4/CZ$19 -> 0.15510597 | DB4: =DA4*'Pondération des sujets'!$D3 -> 0.15510597 | DC4: 424 | DD4: =DC4/DC$19 -> 0.13788618 | DE4: =DD4*'Pondération des sujets'!$D3 -> 0.13788618 | DF4: 501 | DG4: =DF4/DF$19 -> 0.16176945 | DH4: =DG4*'Pondération des sujets'!$D3 -> 0.16176945 | DI4: 414 | DJ4: =DI4/DI$19 -> 0.13731343 | DK4: =DJ4*'Pondération des sujets'!$D3 -> 0.13731343 | DL4: 460 | DM4: =DL4/DL$19 -> 0.15598508 | DN4: =DM4*'Pondération des sujets'!$D3 -> 0.15598508
