Workbook

Sheet Introduction
A1: Auvergne Rhône Alpes | C1: Pays de la Loire
A2: DSCC 38 | C2: DSCC 44
A3: DSCC 42 | C3: DSCC 49
A4: DSCC 63 | C4: IDF Ouest
A5: DSCC 69 | C5: DSCC 78
A6: Bourgogne Franche-Comté | C6: DSCC 92
A7: DSCC 21 | C7: DSCC 95
A8: DSCC 25 | C8: Normandie
A9: Bretagne | C9: DSCC 14
A10: DSCC 35 | C10: DSCC 76
A11: DSCC 56 | C11: Nouvelle Aquitaine
A12: Centre Val de Loire | C12: DSCC 33
... A25: DSCC 91 | C25: DSCC 75
A26: DSCC 93
A27: DSCC 94

Sheet Auvergne Rhône Alpes
A1: N° | B1: Sujets de fiabilisation
C2: DSCC 38 | F2: DSCC 38 | I2: DSCC 38 | L2: DSCC 38 | O2: DSCC 38 | R2: DSCC 38 | U2: DSCC 38 | X2: DSCC 38 | AA2: DSCC 38 | AD2: DSCC 38 | AG2: DSCC 38 | AJ2: DSCC 38 | AN2: DSCC 42 | AQ2: DSCC 42 | AT2: DSCC 42 | AW2: DSCC 42 | AZ2: DSCC 42 | BC2: DSCC 42 | BF2: DSCC 42 | BI2: DSCC 42 | BL2: DSCC 42 | BO2: DSCC 42 | BR2: DSCC 42 | BU2: DSCC 42 | BX2: DSCC 42 | CA2: DSCC 42 | CE2: DSCC 63 | CH2: DSCC 63 | CK2: DSCC 63 | CN2: DSCC 63 | CQ2: DSCC 63 | CT2: DSCC 63 | CW2: DSCC 63 | CZ2: DSCC 63 | DC2: DSCC 63 | DF2: DSCC 63 | DI2: DSCC 63 | DL2: DSCC 63 | DP2: DSCC 69 | DS2: DSCC 69 | DV2: DSCC 69 | DY2: DSCC 69 | EB2: DSCC 69 | EE2: DSCC 69 | EH2: DSCC 69 | EK2: DSCC 69 | EN2: DSCC 69 | EQ2: DSCC 69 | ET2: DSCC 69 | EW2: DSCC 69 | EZ2: DSCC 69 | FC2: DSCC 69
C3: Suivi 1 | D3: 25/02 - Suivi 1 | E3: Indicateur | F3: Suivi 2 | G3: 19/03 - Suivi 2 | H3: Indicateur | I3: Suivi 3 | J3: 09/04 - Suivi 3 | K3: Indicateur | L3: Suivi 4 | M3: 03/05 - Suivi 4 | N3: Indicateur | O3: Suivi 5 | P3: 21/05 - Suivi 5 | Q3: Indicateur | R3: Suivi 6 | S3: 10/06 - Suivi 6 | T3: Indicateur | U3: Suivi 7 | V3: 25/06 - Suivi 7 | W3: Indicateur | X3: Suivi 8 | Y3: 16/07 - Suivi 8 | Z3: Indicateur | AA3: Suivi 9 | AB3: 06/08 - Suivi 9 | AC3: Indicateur | AD3: Suivi 10 | AE3: 29/08 - Suivi 10 | AF3: Indicateur | AG3: Suivi 11 | AH3: 17/09 - Suivi 11 | AI3: Indicateur | AJ3: Suivi 12 | AK3: 08/10 - Suivi 12 | AL3: Indicateur | AN3: Suivi 1 | AO3: 29/01 - Suivi 1 | AP3: Indicateur | AQ3: Suivi 2 | AR3: 19/02 - Suivi 2 | AS3: Indicateur | AT3: Suivi 3 | AU3: 12/03 - Suivi 3 | AV3: Indicateur | AW3: Suivi 4 | AX3: 02/04 - Suivi 4 | AY3: Indicateur | AZ3: Suivi 5 | BA3: 09/04 - Suivi 5 | BB3: Indicateur | BC3: Suivi 6 | BD3: 03/05 - Suivi 4 | BE3: Indicateur | BF3: Suivi 7 | BG3: 21/05 - Suivi 7 | BH3: Indicateur | BI3: Suivi 8 | BJ3: 10/06 - Suivi 8 | BK3: Indicateur | BL3: Suivi 9 | BM3: 25/06 - Suivi 9 | BN3: Indicateur | BO3: Suivi 10 | BP3: 16/07 - Suivi 10 | BQ3: Indicateur | BR3: Suivi 11 | BS3: 06/08 - Suivi 11 | BT3: Indicateur | BU3: Suivi 12 | BV3: 29/08 - Suivi 12 | BW3: Indicateur | BX3: Suivi 13 | BY3: 17/09 - Suivi 13 | BZ3: Indicateur | CA3: Suivi 14 | CB3: 08/10 - Suivi 14 | CC3: Indicateur | CE3: Suivi 1 | CF3: 25/02 - Suivi 1 | CG3: Indicateur | CH3: Suivi 2 | CI3: 19/03 - Suivi 2 | CJ3: Indicateur | CK3: Suivi 3 | CL3: 09/04 - Suivi 3 | CM3: Indicateur | CN3: Suivi 4 | CO3: 03/05 - Suivi 4 | CP3: Indicateur | CQ3: Suivi 5 | CR3: 21/05 - Suivi 5 | CS3: Indicateur | CT3: Suivi 6 | CU3: 10/06 - Suivi 6 | CV3: Indicateur | CW3: Suivi 7 | CX3: 25/06 - Suivi 7 | CY3: Indicateur | CZ3: Suivi 8 | DA3: 16/07 - Suivi 8 | DB3: Indicateur | DC3: Suivi 9 | DD3: 06/08 - Suivi 9 | DE3: Indicateur | DF3: Suivi 10 | DG3: 29/08 - Suivi 10 | DH3: Indicateur | DI3: Suivi 11 | DJ3: 17/09 - Suivi 11 | DK3: Indicateur | DL3: Suivi 12 | DM3: 08/10 - Suivi 12 | DN3: Indicateur | DP3: Suivi 1 | DQ3: 29/01 - Suivi 1 | DR3: Indicateur | DS3: Suivi 2 | DT3: 19/02 - Suivi 2 | DU3: Indicateur | DV3: Suivi 3 | DW3: 12/03 - Suivi 3 | DX3: Indicateur | DY3: Suivi 4 | DZ3: 02/04 - Suivi 4 | EA3: Indicateur | EB3: Suivi 5 | EC3: 09/04 - Suivi 5 | ED3: Indicateur | EE3: Suivi 6 | EF3: 03/05 - Suivi 4 | EG3: Indicateur | EH3: Suivi 7 | EI3: 21/05 - Suivi 7 | EJ3: Indicateur | EK3: Suivi 8 | EL3: 10/06 - Suivi 8 | EM3: Indicateur | EN3: Suivi 9 | EO3: 25/06 - Suivi 9 | EP3: Indicateur | EQ3: Suivi 10 | ER3: 16/07 - Suivi 10 | ES3: Indicateur | ET3: Suivi 11 | EU3: 06/08 - Suivi 11 | EV3: Indicateur | EW3: Suivi 12 | EX3: 29/08 - Suivi 12 | EY3: Indicateur | EZ3: Suivi 13 | FA3: 17/09 - Suivi 13 | FB3: Indicateur | FC3: Suivi 14 | FD3: 08/10 - Suivi 14 | FE3: Indicateur
A4: 1.1 | B4: Présence et/ou absence à tort (agents temps plein) | C4: 1254 | D4: =C4/C$19 -> 0.2846765 | E4: =D4*'Pondération des sujets'!$D3 -> 0.2846765 | F4: 1247 | G4: =F4/F$19 -> 0.28548535 | H4: =G4*'Pondération des sujets'!$D3 -> 0.28548535 | I4: 1260 | J4: =I4/I$19 -> 0.2907916 | K4: =J4*'Pondération des sujets'!$D3 -> 0.2907916 | L4: 1292 | M4: =L4/L$19 -> 0.29969845 | N4: =M4*'Pondération des sujets'!$D3 -> 0.29969845 | O4: 1371 | P4: =O4/O$19 -> 0.31772885 | Q4: =P4*'Pondération des sujets'!$D3 -> 0.31772885 | R4: 1276 | S4: =R4/R$19 -> 0.29571263 | T4: =S4*'Pondération des sujets'!$D3 -> 0.29571263 | U4: 1284 | V4: =U4/U$19 -> 0.29043203 | W4: =V4*'Pondération des sujets'!$D3 -> 0.29043203 | X4: 1264 | Y4: =X4/X$19 -> 0.28347163 | Z4: =Y4*'Pondération des sujets'!$D3 -> 0.28347163 | AA4: 1199 | AB4: =AA4/AA$19 -> 0.27010588 | AC4: =AB4*'Pondération des sujets'!$D3 -> 0.27010588 | AD4: 1112 | AE4: =AD4/AD$19 -> 0.24667258 | AF4: =AE4*'Pondération des sujets'!$D3 -> 0.24667258 | AG4: 1082 | AH4: =AG4/AG$19 -> 0.24759725 | AI4: =AH4*'Pondération des sujets'!$D3 -> 0.24759725 | AJ4: 1185 | AK4: =AJ4/AJ$19 -> 0.27430556 | AL4: =AK4*'Pondération des sujets'!$D3 -> 0.27430556 | AN4: 737 | AO4: =AN4/AN$19 -> 0.24339498 | AP4: =AO4*'Pondération des sujets'!$D3 -> 0.24339498 | AQ4: 744 | AR4: =AQ4/AQ$19 -> 0.24266145 | AS4: =AR4*'Pondération des sujets'!$D3 -> 0.24266145 | AT4: 575 | AU4: =AT4/AT$19 -> 0.18815445 | AV4: =AU4*'Pondération des sujets'!$D3 -> 0.18815445 | AW4: 579 | AX4: =AW4/AW$19 -> 0.18952537 | AY4: =AX4*'Pondération des sujets'!$D3 -> 0.18952537 | AZ4: 555 | BA4: =AZ4/AZ$19 -> 0.18119491 | BB4: =BA4*'Pondération des sujets'!$D3 -> 0.18119491 | BC4: 498 | BD4: =BC4/BC$19 -> 0.16381579 | BE4: =BD4*'Pondération des sujets'!$D3 -> 0.16381579 | BF4: 543 | BG4: =BF4/BF$19 -> 0.17879486 | BH4: =BG4*'Pondération des sujets'!$D3 -> 0.17879486 | BI4: 541 | BJ4: =BI4/BI$19 -> 0.17843008 | BK4: =BJ4*'Pondération des sujets'!$D3 -> 0.17843008 | BL4: 549 | BM4: =BL4/BL$19 -> 0.17790019 | BN4: =BM4*'Pondération des sujets'!$D3 -> 0.17790019 | BO4: 462 | BP4: =BO4/BO$19 -> 0.14784 | BQ4: =BP4*'Pondération des sujets'!$D3 -> 0.14784 | BR4: 427 | BS4: =BR4/BR$19 -> 0.13765313 | BT4: =BS4*'Pondération des sujets'!$D3 -> 0.13765313 | BU4: 430 | BV4: =BU4/BU$19 -> 0.13711735 | BW4: =BV4*'Pondération des sujets'!$D3 -> 0.13711735 | BX4: 500 | BY4: =BX4/BX$19 -> 0.16286645 | BZ4: =BY4*'Pondération des sujets'!$D3 -> 0.16286645 | CA4: 552 | CB4: =CA4/CA$19 -> 0.18351064 | CC4: =CB4*'Pondération des sujets'!$D3 -> 0.18351064 | CE4: 818 | CF4: =CE4/CE$19 -> 0.28452174 | CG4: =CF4*'Pondération des sujets'!$D3 -> 0.28452174 | CH4: 817 | CI4: =CH4/CH$19 -> 0.28397636 | CJ4: =CI4*'Pondération des sujets'!$D3 -> 0.28397636 | CK4: 827 | CL4: =CK4/CK$19 -> 0.28606019 | CM4: =CL4*'Pondération des sujets'!$D3 -> 0.28606019 | CN4: 778 | CO4: =CN4/CN$19 -> 0.26939058 | CP4: =CO4*'Pondération des sujets'!$D3 -> 0.26939058 | CQ4: 814 | CR4: =CQ4/CQ$19 -> 0.28392047 | CS4: =CR4*'Pondération des sujets'!$D3 -> 0.28392047 | CT4: 881 | CU4: =CT4/CT$19 -> 0.30654141 | CV4: =CU4*'Pondération des sujets'!$D3 -> 0.30654141 | CW4: 861 | CX4: =CW4/CW$19 -> 0.29355609 | CY4: =CX4*'Pondération des sujets'!$D3 -> 0.29355609 | CZ4: 835 | DA4: =CZ4/CZ$19 -> 0.28276329 | DB4: =DA4*'Pondération des sujets'!$D3 -> 0.28276329 | DC4: 864 | DD4: =DC4/DC$19 -> 0.29327902 | DE4: =DD4*'Pondération des sujets'!$D3 -> 0.29327902 | DF4: 812 | DG4: =DF4/DF$19 -> 0.27284946 | DH4: =DG4*'Pondération des sujets'!$D3 -> 0.27284946 | DI4: 811 | DJ4: =DI4/DI$19 -> 0.2813042 | DK4: =DJ4*'Pondération des sujets'!$D3 -> 0.2813042 | DL4: 905 | DM4: =DL4/DL$19 -> 0.32001414 | DN4: =DM4*'Pondération des sujets'!$D3 -> 0.32001414 | DP4: 552 | DQ4: =DP4/DP$19 -> 0.13855422 | DR4: =DQ4*'Pondération des sujets'!$D3 -> 0.13855422 | DS4: 624 | DT4: =DS4/DS$19 -> 0.15717884 | DU4: =DT4*'Pondération des sujets'!$D3 -> 0.15717884 | DV4: 579 | DW4: =DV4/DV$19 -> 0.14695431 | DX4: =DW4*'Pondération des sujets'!$D3 -> 0.14695431 | DY4: 611 | DZ4: =DY4/DY$19 -> 0.15626598 | EA4: =DZ4*'Pondération des sujets'!$D3 -> 0.15626598 | EB4: 617 | EC4: =EB4/EB$19 -> 0.15755873 | ED4: =EC4*'Pondération des sujets'!$D3 -> 0.15755873 | EE4: 562 | EF4: =EE4/EE$19 -> 0.14384438 | EG4: =EF4*'Pondération des sujets'!$D3 -> 0.14384438 | EH4: 578 | EI4: =EH4/EH$19 -> 0.14658889 | EJ4: =EI4*'Pondération des sujets'!$D3 -> 0.14658889 | EK4: 579 | EL4: =EK4/EK$19 -> 0.14766641 | EM4: =EL4*'Pondération des sujets'!$D3 -> 0.14766641 | EN4: 629 | EO4: =EN4/EN$19 -> 0.15744681 | EP4: =EO4*'Pondération des sujets'!$D3 -> 0.15744681 | EQ4: 575 | ER4: =EQ4/EQ$19 -> 0.14152104 | ES4: =ER4*'Pondération des sujets'!$D3 -> 0.14152104 | ET4: 561 | EU4: =ET4/ET$19 -> 0.13979566 | EV4: =EU4*'Pondération des sujets'!$D3 -> 0.13979566 | EW4: 523 | EX4: =EW4/EW$19 -> 0.1293274 | EY4: =EX4*'Pondération des sujets'!$D3 -> 0.1293274 | EZ4: 500 | FA4: =EZ4/EZ$19 -> 0.126968 | FB4: =FA4*'Pondération des sujets'!$D3 -> 0.126968 | FC4: 607 | FD4: =FC4/FC$19 -> 0.15544174 | FE4: =FD4*'Pondération des sujets'!$D3 -> 0.15544174
B5: XX Agents temps plein avec GAT et/ou GPT liées à une PA 79 | C5: 295 | D5: =C5/C$19 -> 0.066969353 | E5: =-D5*'Pondération des sujets'!$D$3 -> -0.066969353 | F5: 288 | G5: =F5/F$19 -> 0.065934066 | H5: =-G5*'Pondération des sujets'!$D$3 -> -0.065934066 | I5: 232 | J5: =I5/I$19 -> 0.05354258 | K5: =-J5*'Pondération des sujets'!$D$3 -> -0.05354258 | L5: 400 | M5: =L5/L$19 -> 0.092785897 | N5: =-M5*'Pondération des sujets'!$D$3 -> -0.092785897 | O5: 393 | P5: =O5/O$19 -> 0.091077636 | Q5: =-P5*'Pondération des sujets'!$D$3 -> -0.091077636 | R5: 348 | S5: =R5/R$19 -> 0.080648899 | T5: =-S5*'Pondération des sujets'!$D$3 -> -0.080648899 | U5: 337 | V5: =U5/U$19 -> 0.076227098 | W5: =-V5*'Pondération des sujets'!$D$3 -> -0.076227098 | X5: 372 | Y5: =X5/X$19 -> 0.083426777 | Z5: =-Y5*'Pondération des sujets'!$D$3 -> -0.083426777 | AA5: 362 | AB5: =AA5/AA$19 -> 0.081549899 | AC5: =-AB5*'Pondération des sujets'!$D$3 -> -0.081549899 | AD5: 330 | AE5: =AD5/AD$19 -> 0.073203194 | AF5: =-AE5*'Pondération des sujets'!$D$3 -> -0.073203194 | AG5: 314 | AH5: =AG5/AG$19 -> 0.071853547 | AI5: =-AH5*'Pondération des sujets'!$D$3 -> -0.071853547 | AJ5: 374 | AK5: =AJ5/AJ$19 -> 0.086574074 | AL5: =-AK5*'Pondération des sujets'!$D$3 -> -0.086574074 | AN5: 269 | AO5: =AN5/AN$19 -> 0.088837517 | AP5: =-AO5*'Pondération des sujets'!$D$3 -> -0.088837517 | AQ5: 310 | AR5: =AQ5/AQ$19 -> 0.10110894 | AS5: =-AR5*'Pondération des sujets'!$D$3 -> -0.10110894 | AT5: 273 | AU5: =AT5/AT$19 -> 0.089332461 | AV5: =-AU5*'Pondération des sujets'!$D$3 -> -0.089332461 | AW5: 307 | AX5: =AW5/AW$19 -> 0.100491 | AY5: =-AX5*'Pondération des sujets'!$D$3 -> -0.100491 | AZ5: 224 | BA5: =AZ5/AZ$19 -> 0.073130917 | BB5: =-BA5*'Pondération des sujets'!$D$3 -> -0.073130917 | BC5: 303 | BD5: =BC5/BC$19 -> 0.099671053 | BE5: =-BD5*'Pondération des sujets'!$D$3 -> -0.099671053 | BF5: 297 | BG5: =BF5/BF$19 -> 0.097793876 | BH5: =-BG5*'Pondération des sujets'!$D$3 -> -0.097793876 | BI5: 292 | BJ5: =BI5/BI$19 -> 0.096306069 | BK5: =-BJ5*'Pondération des sujets'!$D$3 -> -0.096306069 | BL5: 312 | BM5: =BL5/BL$19 -> 0.10110175 | BN5: =-BM5*'Pondération des sujets'!$D$3 -> -0.10110175 | BO5: 282 | BP5: =BO5/BO$19 -> 0.09024 | BQ5: =-BP5*'Pondération des sujets'!$D$3 -> -0.09024 | BR5: 271 | BS5: =BR5/BR$19 -> 0.087362992 | BT5: =-BS5*'Pondération des sujets'!$D$3 -> -0.087362992 | BU5: 272 | BV5: =BU5/BU$19 -> 0.086734694 | BW5: =-BV5*'Pondération des sujets'!$D$3 -> -0.086734694 | BX5: 309 | BY5: =BX5/BX$19 -> 0.10065147 | BZ5: =-BY5*'Pondération des sujets'!$D$3 -> -0.10065147 | CA5: 325 | CB5: =CA5/CA$19 -> 0.10804521 | CC5: =-CB5*'Pondération des sujets'!$D$3 -> -0.10804521 | CE5: 341 | CF5: =CE5/CE$19 -> 0.1186087 | CG5: =-CF5*'Pondération des sujets'!$D$3 -> -0.1186087 | CH5: 347 | CI5: =CH5/CH$19 -> 0.12061175 | CJ5: =-CI5*'Pondération des sujets'!$D$3 -> -0.12061175 | CK5: 264 | CL5: =CK5/CK$19 -> 0.091317883 | CM5: =-CL5*'Pondération des sujets'!$D$3 -> -0.091317883 | CN5: 388 | CO5: =CN5/CN$19 -> 0.13434903 | CP5: =-CO5*'Pondération des sujets'!$D$3 -> -0.13434903 | CQ5: 363 | CR5: =CQ5/CQ$19 -> 0.12661318 | CS5: =-CR5*'Pondération des sujets'!$D$3 -> -0.12661318 | CT5: 368 | CU5: =CT5/CT$19 -> 0.12804454 | CV5: =-CU5*'Pondération des sujets'!$D$3 -> -0.12804454 | CW5: 374 | CX5: =CW5/CW$19 -> 0.12751449 | CY5: =-CX5*'Pondération des sujets'!$D$3 -> -0.12751449 | CZ5: 356 | DA5: =CZ5/CZ$19 -> 0.12055537 | DB5: =-DA5*'Pondération des sujets'!$D$3 -> -0.12055537 | DC5: 349 | DD5: =DC5/DC$19 -> 0.11846572 | DE5: =-DD5*'Pondération des sujets'!$D$3 -> -0.11846572 | DF5: 352 | DG5: =DF5/DF$19 -> 0.11827957 | DH5: =-DG5*'Pondération des sujets'!$D$3 -> -0.11827957 | DI5: 302 | DJ5: =DI5/DI$19 -> 0.10475199 | DK5: =-DJ5*'Pondération des sujets'!$D$3 -> -0.10475199 | DL5: 358 | DM5: =DL5/DL$19 -> 0.12659123 | DN5: =-DM5*'Pondération des sujets'!$D$3 -> -0.12659123 | DP5: 87 | DQ5: =DP5/DP$19 -> 0.021837349 | DR5: =-DQ5*'Pondération des sujets'!$D$3 -> -0.021837349 | DS5: 106 | DT5: =DS5/DS$19 -> 0.026700252 | DU5: =-DT5*'Pondération des sujets'!$D$3 -> -0.026700252 | DV5: 162 | DW5: =DV5/DV$19 -> 0.041116751 | DX5: =-DW5*'Pondération des sujets'!$D$3 -> -0.041116751 | DY5: 203 | DZ5: =DY5/DY$19 -> 0.051918159 | EA5: =-DZ5*'Pondération des sujets'!$D$3 -> -0.051918159 | EB5: 186 | EC5: =EB5/EB$19 -> 0.047497446 | ED5: =-EC5*'Pondération des sujets'!$D$3 -> -0.047497446 | EE5: 263 | EF5: =EE5/EE$19 -> 0.067315076 | EG5: =-EF5*'Pondération des sujets'!$D$3 -> -0.067315076 | EH5: 208 | EI5: =EH5/EH$19 -> 0.052751712 | EJ5: =-EI5*'Pondération des sujets'!$D$3 -> -0.052751712 | EK5: 209 | EL5: =EK5/EK$19 -> 0.053302729 | EM5: =-EL5*'Pondération des sujets'!$D$3 -> -0.053302729 | EN5: 210 | EO5: =EN5/EN$19 -> 0.052565707 | EP5: =-EO5*'Pondération des sujets'!$D$3 -> -0.052565707 | EQ5: 220 | ER5: =EQ5/EQ$19 -> 0.054147182 | ES5: =-ER5*'Pondération des sujets'!$D$3 -> -0.054147182 | ET5: 195 | EU5: =ET5/ET$19 -> 0.048592076 | EV5: =-EU5*'Pondération des sujets'!$D$3 -> -0.048592076 | EW5: 190 | EX5: =EW5/EW$19 -> 0.046983185 | EY5: =-EX5*'Pondération des sujets'!$D$3 -> -0.046983185 | EZ5: 168 | FA5: =EZ5/EZ$19 -> 0.042661249 | FB5: =-FA5*'Pondération des sujets'!$D$3 -> -0.042661249 | FC5: 192 | FD5: =FC5/FC$19 -> 0.049167734 | FE5: =-FD5*'Pondération des sujets'!$D$3 -> -0.049167734
A6: 1.2 | B6: Présence et/ou absence à tort (agents temps partiel) | C6: 184 | D6: =C6/C$19 -> 0.041770715 | E6: =D6*'Pondération des sujets'!$D4 -> 0.041770715 | F6: 187 | G6: =F6/F$19 -> 0.042811355 | H6: =G6*'Pondération des sujets'!$D4 -> 0.042811355 | I6: 189 | J6: =I6/I$19 -> 0.04361874 | K6: =J6*'Pondération des sujets'!$D4 -> 0.04361874 | L6: 167 | M6: =L6/L$19 -> 0.038738112 | N6: =M6*'Pondération des sujets'!$D4 -> 0.038738112 | O6: 185 | P6: =O6/O$19 -> 0.042873696 | Q6: =P6*'Pondération des sujets'!$D4 -> 0.042873696 | R6: 164 | S6: =R6/R$19 -> 0.038006952 | T6: =S6*'Pondération des sujets'!$D4 -> 0.038006952 | U6: 167 | V6: =U6/U$19 -> 0.037774259 | W6: =V6*'Pondération des sujets'!$D4 -> 0.037774259 | X6: 158 | Y6: =X6/X$19 -> 0.035433954 | Z6: =Y6*'Pondération des sujets'!$D4 -> 0.035433954 | AA6: 140 | AB6: =AA6/AA$19 -> 0.031538635 | AC6: =AB6*'Pondération des sujets'!$D4 -> 0.031538635 | AD6: 133 | AE6: =AD6/AD$19 -> 0.029503106 | AF6: =AE6*'Pondération des sujets'!$D4 -> 0.029503106 | AG6: 153 | AH6: =AG6/AG$19 -> 0.035011442 | AI6: =AH6*'Pondération des sujets'!$D4 -> 0.035011442 | AJ6: 163 | AK6: =AJ6/AJ$19 -> 0.037731481 | AL6: =AK6*'Pondération des sujets'!$D4 -> 0.037731481 | AN6: 110 | AO6: =AN6/AN$19 -> 0.036327609 | AP6: =AO6*'Pondération des sujets'!$D4 -> 0.036327609 | AQ6: 107 | AR6: =AQ6/AQ$19 -> 0.034898891 | AS6: =AR6*'Pondération des sujets'!$D4 -> 0.034898891 | AT6: 76 | AU6: =AT6/AT$19 -> 0.02486911 | AV6: =AU6*'Pondération des sujets'!$D4 -> 0.02486911 | AW6: 71 | AX6: =AW6/AW$19 -> 0.023240589 | AY6: =AX6*'Pondération des sujets'!$D4 -> 0.023240589 | AZ6: 63 | BA6: =AZ6/AZ$19 -> 0.020568071 | BB6: =BA6*'Pondération des sujets'!$D4 -> 0.020568071 | BC6: 59 | BD6: =BC6/BC$19 -> 0.019407895 | BE6: =BD6*'Pondération des sujets'!$D4 -> 0.019407895 | BF6: 73 | BG6: =BF6/BF$19 -> 0.024036878 | BH6: =BG6*'Pondération des sujets'!$D4 -> 0.024036878 | BI6: 71 | BJ6: =BI6/BI$19 -> 0.023416887 | BK6: =BJ6*'Pondération des sujets'!$D4 -> 0.023416887 | BL6: 67 | BM6: =BL6/BL$19 -> 0.021710953 | BN6: =BM6*'Pondération des sujets'!$D4 -> 0.021710953 | BO6: 49 | BP6: =BO6/BO$19 -> 0.01568 | BQ6: =BP6*'Pondération des sujets'!$D4 -> 0.01568 | BR6: 44 | BS6: =BR6/BR$19 -> 0.014184397 | BT6: =BS6*'Pondération des sujets'!$D4 -> 0.014184397 | BU6: 48 | BV6: =BU6/BU$19 -> 0.015306122 | BW6: =BV6*'Pondération des sujets'!$D4 -> 0.015306122 | BX6: 50 | BY6: =BX6/BX$19 -> 0.016286645 | BZ6: =BY6*'Pondération des sujets'!$D4 -> 0.016286645 | CA6: 58 | CB6: =CA6/CA$19 -> 0.019281915 | CC6: =CB6*'Pondération des sujets'!$D4 -> 0.019281915 | CE6: 84 | CF6: =CE6/CE$19 -> 0.029217391 | CG6: =CF6*'Pondération des sujets'!$D4 -> 0.029217391 | CH6: 97 | CI6: =CH6/CH$19 -> 0.033715676 | CJ6: =CI6*'Pondération des sujets'!$D4 -> 0.033715676 | CK6: 97 | CL6: =CK6/CK$19 -> 0.033552404 | CM6: =CL6*'Pondération des sujets'!$D4 -> 0.033552404 | CN6: 92 | CO6: =CN6/CN$19 -> 0.031855956 | CP6: =CO6*'Pondération des sujets'!$D4 -> 0.031855956 | CQ6: 92 | CR6: =CQ6/CQ$19 -> 0.032089292 | CS6: =CR6*'Pondération des sujets'!$D4 -> 0.032089292 | CT6: 101 | CU6: =CT6/CT$19 -> 0.035142658 | CV6: =CU6*'Pondération des sujets'!$D4 -> 0.035142658 | CW6: 100 | CX6: =CW6/CW$19 -> 0.034094783 | CY6: =CX6*'Pondération des sujets'!$D4 -> 0.034094783 | CZ6: 90 | DA6: =CZ6/CZ$19 -> 0.030477481 | DB6: =DA6*'Pondération des sujets'!$D4 -> 0.030477481 | DC6: 95 | DD6: =DC6/DC$19 -> 0.032247115 | DE6: =DD6*'Pondération des sujets'!$D4 -> 0.032247115 | DF6: 75 | DG6: =DF6/DF$19 -> 0.025201613 | DH6: =DG6*'Pondération des sujets'!$D4 -> 0.025201613 | DI6: 78 | DJ6: =DI6/DI$19 -> 0.027055151 | DK6: =DJ6*'Pondération des sujets'!$D4 -> 0.027055151 | DL6: 73 | DM6: =DL6/DL$19 -> 0.025813296 | DN6: =DM6*'Pondération des sujets'!$D4 -> 0.025813296 | DP6: 97 | DQ6: =DP6/DP$19 -> 0.02434739 | DR6: =DQ6*'Pondération des sujets'!$D4 -> 0.02434739 | DS6: 106 | DT6: =DS6/DS$19 -> 0.026700252 | DU6: =DT6*'Pondération des sujets'!$D4 -> 0.026700252 | DV6: 97 | DW6: =DV6/DV$19 -> 0.024619289 | DX6: =DW6*'Pondération des sujets'!$D4 -> 0.024619289 | DY6: 94 | DZ6: =DY6/DY$19 -> 0.024040921 | EA6: =DZ6*'Pondération des sujets'!$D4 -> 0.024040921 | EB6: 113 | EC6: =EB6/EB$19 -> 0.028855975 | ED6: =EC6*'Pondération des sujets'!$D4 -> 0.028855975 | EE6: 91 | EF6: =EE6/EE$19 -> 0.023291528 | EG6: =EF6*'Pondération des sujets'!$D4 -> 0.023291528 | EH6: 96 | EI6: =EH6/EH$19 -> 0.024346944 | EJ6: =EI6*'Pondération des sujets'!$D4 -> 0.024346944 | EK6: 105 | EL6: =EK6/EK$19 -> 0.026778883 | EM6: =EL6*'Pondération des sujets'!$D4 -> 0.026778883 | EN6: 110 | EO6: =EN6/EN$19 -> 0.027534418 | EP6: =EO6*'Pondération des sujets'!$D4 -> 0.027534418 | EQ6: 90 | ER6: =EQ6/EQ$19 -> 0.02215112 | ES6: =ER6*'Pondération des sujets'!$D4 -> 0.02215112 | ET6: 86 | EU6: =ET6/ET$19 -> 0.021430351 | EV6: =EU6*'Pondération des sujets'!$D4 -> 0.021430351 | EW6: 76 | EX6: =EW6/EW$19 -> 0.018793274 | EY6: =EX6*'Pondération des sujets'!$D4 -> 0.018793274 | EZ6: 96 | FA6: =EZ6/EZ$19 -> 0.024377857 | FB6: =FA6*'Pondération des sujets'!$D4 -> 0.024377857 | FC6: 109 | FD6: =FC6/FC$19 -> 0.027912932 | FE6: =FD6*'Pondération des sujets'!$D4 -> 0.027912932
A7: 1.3 | B7: Présence et/ou absence à tort (agents quotité 0) | C7: 5 | D7: =C7/C19 -> 0.0011350738 | E7: =D7*'Pondération des sujets'!$D5 -> 0.0011350738 | F7: 14 | G7: =F7/F19 -> 0.0032051282 | H7: =G7*'Pondération des sujets'!$D5 -> 0.0032051282 | I7: 21 | J7: =I7/I19 -> 0.0048465267 | K7: =J7*'Pondération des sujets'!$D5 -> 0.0048465267 | L7: 34 | M7: =L7/L19 -> 0.0078868012 | N7: =M7*'Pondération des sujets'!$D5 -> 0.0078868012 | O7: 8 | P7: =O7/O19 -> 0.0018539977 | Q7: =P7*'Pondération des sujets'!$D5 -> 0.0018539977 | R7: 8 | S7: =R7/R19 -> 0.0018539977 | T7: =S7*'Pondération des sujets'!$D5 -> 0.0018539977 | U7: 7 | V7: =U7/U19 -> 0.0015833522 | W7: =V7*'Pondération des sujets'!$D5 -> 0.0015833522 | X7: 19 | Y7: =X7/X19 -> 0.0042610451 | Z7: =Y7*'Pondération des sujets'!$D5 -> 0.0042610451 | AA7: 33 | AB7: =AA7/AA19 -> 0.0074341068 | AC7: =AB7*'Pondération des sujets'!$D5 -> 0.0074341068 | AD7: 4 | AE7: =AD7/AD19 -> 0.00088731145 | AF7: =AE7*'Pondération des sujets'!$D5 -> 0.00088731145 | AG7: 16 | AH7: =AG7/AG19 -> 0.0036613272 | AI7: =AH7*'Pondération des sujets'!$D5 -> 0.0036613272 | AJ7: 43 | AK7: =AJ7/AJ19 -> 0.0099537037 | AL7: =AK7*'Pondération des sujets'!$D5 -> 0.0099537037 | AN7: 12 | AO7: =AN7/AN19 -> 0.0039630119 | AP7: =AO7*'Pondération des sujets'!$D5 -> 0.0039630119 | AQ7: 10 | AR7: =AQ7/AQ19 -> 0.0032615786 | AS7: =AR7*'Pondération des sujets'!$D5 -> 0.0032615786 | AT7: 4 | AU7: =AT7/AT19 -> 0.0013089005 | AV7: =AU7*'Pondération des sujets'!$D5 -> 0.0013089005 | AW7: 11 | AX7: =AW7/AW19 -> 0.0036006547 | AY7: =AX7*'Pondération des sujets'!$D5 -> 0.0036006547 | AZ7: 5 | BA7: =AZ7/AZ19 -> 0.0016323865 | BB7: =BA7*'Pondération des sujets'!$D5 -> 0.0016323865 | BC7: 12 | BD7: =BC7/BC19 -> 0.0039473684 | BE7: =BD7*'Pondération des sujets'!$D5 -> 0.0039473684 | BF7: 5 | BG7: =BF7/BF19 -> 0.0016463615 | BH7: =BG7*'Pondération des sujets'!$D5 -> 0.0016463615 | BI7: 0 | BJ7: =BI7/BI19 -> 0 | BK7: =BJ7*'Pondération des sujets'!$D5 -> 0 | BL7: 4 | BM7: =BL7/BL19 -> 0.0012961763 | BN7: =BM7*'Pondération des sujets'!$D5 -> 0.0012961763 | BO7: 4 | BP7: =BO7/BO19 -> 0.00128 | BQ7: =BP7*'Pondération des sujets'!$D5 -> 0.00128 | BR7: 11 | BS7: =BR7/BR19 -> 0.0035460993 | BT7: =BS7*'Pondération des sujets'!$D5 -> 0.0035460993 | BU7: 0 | BV7: =BU7/BU19 -> 0 | BW7: =BV7*'Pondération des sujets'!$D5 -> 0 | BX7: 6 | BY7: =BX7/BX19 -> 0.0019543974 | BZ7: =BY7*'Pondération des sujets'!$D5 -> 0.0019543974 | CA7: 12 | CB7: =CA7/CA19 -> 0.0039893617 | CC7: =CB7*'Pondération des sujets'!$D5 -> 0.0039893617 | CE7: 1 | CF7: =CE7/CE$19 -> 0.00034782609 | CG7: =CF7*'Pondération des sujets'!$D5 -> 0.00034782609 | CH7: 10 | CI7: =CH7/CH$19 -> 0.0034758429 | CJ7: =CI7*'Pondération des sujets'!$D5 -> 0.0034758429 | CK7: 9 | CL7: =CK7/CK$19 -> 0.0031131097 | CM7: =CL7*'Pondération des sujets'!$D5 -> 0.0031131097 | CN7: 23 | CO7: =CN7/CN$19 -> 0.0079639889 | CP7: =CO7*'Pondération des sujets'!$D5 -> 0.0079639889 | CQ7: 15 | CR7: =CQ7/CQ$19 -> 0.0052319498 | CS7: =CR7*'Pondération des sujets'!$D5 -> 0.0052319498 | CT7: 2 | CU7: =CT7/CT$19 -> 0.00069589422 | CV7: =CU7*'Pondération des sujets'!$D5 -> 0.00069589422 | CW7: 7 | CX7: =CW7/CW$19 -> 0.0023866348 | CY7: =CX7*'Pondération des sujets'!$D5 -> 0.0023866348 | CZ7: 12 | DA7: =CZ7/CZ$19 -> 0.0040636641 | DB7: =DA7*'Pondération des sujets'!$D5 -> 0.0040636641 | DC7: 20 | DD7: =DC7/DC$19 -> 0.0067888663 | DE7: =DD7*'Pondération des sujets'!$D5 -> 0.0067888663 | DF7: 2 | DG7: =DF7/DF$19 -> 0.00067204301 | DH7: =DG7*'Pondération des sujets'!$D5 -> 0.00067204301 | DI7: 13 | DJ7: =DI7/DI$19 -> 0.0045091918 | DK7: =DJ7*'Pondération des sujets'!$D5 -> 0.0045091918 | DL7: 26 | DM7: =DL7/DL$19 -> 0.0091937765 | DN7: =DM7*'Pondération des sujets'!$D5 -> 0.0091937765 | DP7: 5 | DQ7: =DP7/DP19 -> 0.0012550201 | DR7: =DQ7*'Pondération des sujets'!$D5 -> 0.0012550201 | DS7: 6 | DT7: =DS7/DS19 -> 0.001511335 | DU7: =DT7*'Pondération des sujets'!$D5 -> 0.001511335 | DV7: 7 | DW7: =DV7/DV19 -> 0.0017766497 | DX7: =DW7*'Pondération des sujets'!$D5 -> 0.0017766497 | DY7: 10 | DZ7: =DY7/DY19 -> 0.0025575448 | EA7: =DZ7*'Pondération des sujets'!$D5 -> 0.0025575448 | EB7: 7 | EC7: =EB7/EB19 -> 0.0017875383 | ED7: =EC7*'Pondération des sujets'!$D5 -> 0.0017875383 | EE7: 17 | EF7: =EE7/EE19 -> 0.0043511646 | EG7: =EF7*'Pondération des sujets'!$D5 -> 0.0043511646 | EH7: 9 | EI7: =EH7/EH19 -> 0.002282526 | EJ7: =EI7*'Pondération des sujets'!$D5 -> 0.002282526 | EK7: 0 | EL7: =EK7/EK19 -> 0 | EM7: =EL7*'Pondération des sujets'!$D5 -> 0 | EN7: 9 | EO7: =EN7/EN19 -> 0.002252816 | EP7: =EO7*'Pondération des sujets'!$D5 -> 0.002252816 | EQ7: 3 | ER7: =EQ7/EQ19 -> 0.00073837066 | ES7: =ER7*'Pondération des sujets'!$D5 -> 0.00073837066 | ET7: 20 | EU7: =ET7/ET19 -> 0.0049838026 | EV7: =EU7*'Pondération des sujets'!$D5 -> 0.0049838026 | EW7: 0 | EX7: =EW7/EW19 -> 0 | EY7: =EX7*'Pondération des sujets'!$D5 -> 0 | EZ7: 6 | FA7: =EZ7/EZ19 -> 0.001523616 | FB7: =FA7*'Pondération des sujets'!$D5 -> 0.001523616 | FC7: 12 | FD7: =FC7/FC19 -> 0.0030729834 | FE7: =FD7*'Pondération des sujets'!$D5 -> 0.0030729834
A8: 1.4 | B8: Présence et/ou absence à tort (journées entières) | C8: 284 | D8: =C8/C$19 -> 0.064472191 | E8: =D8*'Pondération des sujets'!$D6 -> 0.064472191 | F8: 408 | G8: =F8/F$19 -> 0.093406593 | H8: =G8*'Pondération des sujets'!$D6 -> 0.093406593 | I8: 501 | J8: =I8/I$19 -> 0.11562428 | K8: =J8*'Pondération des sujets'!$D6 -> 0.11562428 | L8: 346 | M8: =L8/L$19 -> 0.080259801 | N8: =M8*'Pondération des sujets'!$D6 -> 0.080259801 | O8: 368 | P8: =O8/O$19 -> 0.085283893 | Q8: =P8*'Pondération des sujets'!$D6 -> 0.085283893 | R8: 300 | S8: =R8/R$19 -> 0.069524913 | T8: =S8*'Pondération des sujets'!$D6 -> 0.069524913 | U8: 310 | V8: =U8/U$19 -> 0.070119882 | W8: =V8*'Pondération des sujets'!$D6 -> 0.070119882 | X8: 313 | Y8: =X8/X$19 -> 0.070195111 | Z8: =Y8*'Pondération des sujets'!$D6 -> 0.070195111 | AA8: 299 | AB8: =AA8/AA$19 -> 0.067357513 | AC8: =AB8*'Pondération des sujets'!$D6 -> 0.067357513 | AD8: 319 | AE8: =AD8/AD$19 -> 0.070763088 | AF8: =AE8*'Pondération des sujets'!$D6 -> 0.070763088 | AG8: 401 | AH8: =AG8/AG$19 -> 0.091762014 | AI8: =AH8*'Pondération des sujets'!$D6 -> 0.091762014 | AJ8: 413 | AK8: =AJ8/AJ$19 -> 0.095601852 | AL8: =AK8*'Pondération des sujets'!$D6 -> 0.095601852 | AN8: 173 | AO8: =AN8/AN$19 -> 0.057133421 | AP8: =AO8*'Pondération des sujets'!$D6 -> 0.057133421 | AQ8: 141 | AR8: =AQ8/AQ$19 -> 0.045988258 | AS8: =AR8*'Pondération des sujets'!$D6 -> 0.045988258 | AT8: 86 | AU8: =AT8/AT$19 -> 0.028141361 | AV8: =AU8*'Pondération des sujets'!$D6 -> 0.028141361 | AW8: 185 | AX8: =AW8/AW$19 -> 0.060556465 | AY8: =AX8*'Pondération des sujets'!$D6 -> 0.060556465 | AZ8: 268 | BA8: =AZ8/AZ$19 -> 0.087495919 | BB8: =BA8*'Pondération des sujets'!$D6 -> 0.087495919 | BC8: 117 | BD8: =BC8/BC$19 -> 0.038486842 | BE8: =BD8*'Pondération des sujets'!$D6 -> 0.038486842 | BF8: 146 | BG8: =BF8/BF$19 -> 0.048073757 | BH8: =BG8*'Pondération des sujets'!$D6 -> 0.048073757 | BI8: 127 | BJ8: =BI8/BI$19 -> 0.041886544 | BK8: =BJ8*'Pondération des sujets'!$D6 -> 0.041886544 | BL8: 130 | BM8: =BL8/BL$19 -> 0.042125729 | BN8: =BM8*'Pondération des sujets'!$D6 -> 0.042125729 | BO8: 129 | BP8: =BO8/BO$19 -> 0.04128 | BQ8: =BP8*'Pondération des sujets'!$D6 -> 0.04128 | BR8: 164 | BS8: =BR8/BR$19 -> 0.052869117 | BT8: =BS8*'Pondération des sujets'!$D6 -> 0.052869117 | BU8: 200 | BV8: =BU8/BU$19 -> 0.06377551 | BW8: =BV8*'Pondération des sujets'!$D6 -> 0.06377551 | BX8: 185 | BY8: =BX8/BX$19 -> 0.060260586 | BZ8: =BY8*'Pondération des sujets'!$D6 -> 0.060260586 | CA8: 154 | CB8: =CA8/CA$19 -> 0.051196809 | CC8: =CB8*'Pondération des sujets'!$D6 -> 0.051196809 | CE8: 118 | CF8: =CE8/CE$19 -> 0.041043478 | CG8: =CF8*'Pondération des sujets'!$D6 -> 0.041043478 | CH8: 200 | CI8: =CH8/CH$19 -> 0.069516858 | CJ8: =CI8*'Pondération des sujets'!$D6 -> 0.069516858 | CK8: 284 | CL8: =CK8/CK$19 -> 0.098235905 | CM8: =CL8*'Pondération des sujets'!$D6 -> 0.098235905 | CN8: 161 | CO8: =CN8/CN$19 -> 0.055747922 | CP8: =CO8*'Pondération des sujets'!$D6 -> 0.055747922 | CQ8: 182 | CR8: =CQ8/CQ$19 -> 0.063480991 | CS8: =CR8*'Pondération des sujets'!$D6 -> 0.063480991 | CT8: 193 | CU8: =CT8/CT$19 -> 0.067153793 | CV8: =CU8*'Pondération des sujets'!$D6 -> 0.067153793 | CW8: 191 | CX8: =CW8/CW$19 -> 0.065121036 | CY8: =CX8*'Pondération des sujets'!$D6 -> 0.065121036 | CZ8: 244 | DA8: =CZ8/CZ$19 -> 0.082627836 | DB8: =DA8*'Pondération des sujets'!$D6 -> 0.082627836 | DC8: 230 | DD8: =DC8/DC$19 -> 0.078071962 | DE8: =DD8*'Pondération des sujets'!$D6 -> 0.078071962 | DF8: 244 | DG8: =DF8/DF$19 -> 0.081989247 | DH8: =DG8*'Pondération des sujets'!$D6 -> 0.081989247 | DI8: 265 | DJ8: =DI8/DI$19 -> 0.091918141 | DK8: =DJ8*'Pondération des sujets'!$D6 -> 0.091918141 | DL8: 228 | DM8: =DL8/DL$19 -> 0.080622348 | DN8: =DM8*'Pondération des sujets'!$D6 -> 0.080622348 | DP8: 234 | DQ8: =DP8/DP$19 -> 0.05873494 | DR8: =DQ8*'Pondération des sujets'!$D6 -> 0.05873494 | DS8: 262 | DT8: =DS8/DS$19 -> 0.065994962 | DU8: =DT8*'Pondération des sujets'!$D6 -> 0.065994962 | DV8: 253 | DW8: =DV8/DV$19 -> 0.064213198 | DX8: =DW8*'Pondération des sujets'!$D6 -> 0.064213198 | DY8: 453 | DZ8: =DY8/DY$19 -> 0.11585678 | EA8: =DZ8*'Pondération des sujets'!$D6 -> 0.11585678 | EB8: 576 | EC8: =EB8/EB$19 -> 0.14708887 | ED8: =EC8*'Pondération des sujets'!$D6 -> 0.14708887 | EE8: 301 | EF8: =EE8/EE$19 -> 0.077041208 | EG8: =EF8*'Pondération des sujets'!$D6 -> 0.077041208 | EH8: 324 | EI8: =EH8/EH$19 -> 0.082170936 | EJ8: =EI8*'Pondération des sujets'!$D6 -> 0.082170936 | EK8: 320 | EL8: =EK8/EK$19 -> 0.081611834 | EM8: =EL8*'Pondération des sujets'!$D6 -> 0.081611834 | EN8: 355 | EO8: =EN8/EN$19 -> 0.088861076 | EP8: =EO8*'Pondération des sujets'!$D6 -> 0.088861076 | EQ8: 367 | ER8: =EQ8/EQ$19 -> 0.090327344 | ES8: =ER8*'Pondération des sujets'!$D6 -> 0.090327344 | ET8: 308 | EU8: =ET8/ET$19 -> 0.076750561 | EV8: =EU8*'Pondération des sujets'!$D6 -> 0.076750561 | EW8: 346 | EX8: =EW8/EW$19 -> 0.085558853 | EY8: =EX8*'Pondération des sujets'!$D6 -> 0.085558853 | EZ8: 421 | FA8: =EZ8/EZ$19 -> 0.10690706 | FB8: =FA8*'Pondération des sujets'!$D6 -> 0.10690706 | FC8: 367 | FD8: =FC8/FC$19 -> 0.093982074 | FE8: =FD8*'Pondération des sujets'!$D6 -> 0.093982074
A9: 3 | B9: Agents sans affectation théorique (pas de PA théorique) | C9: 351 | D9: =C9/C$19 -> 0.079682179 | E9: =D9*'Pondération des sujets'!$D8 -> 0.079682179 | F9: 160 | G9: =F9/F$19 -> 0.036630037 | H9: =G9*'Pondération des sujets'!$D8 -> 0.036630037 | I9: 106 | J9: =I9/I$19 -> 0.02446342 | K9: =J9*'Pondération des sujets'!$D8 -> 0.02446342 | L9: 398 | M9: =L9/L$19 -> 0.092321967 | N9: =M9*'Pondération des sujets'!$D8 -> 0.092321967 | O9: 363 | P9: =O9/O$19 -> 0.084125145 | Q9: =P9*'Pondération des sujets'!$D8 -> 0.084125145 | R9: 468 | S9: =R9/R$19 -> 0.10845886 | T9: =S9*'Pondération des sujets'!$D8 -> 0.10845886 | U9: 536 | V9: =U9/U$19 -> 0.12123954 | W9: =V9*'Pondération des sujets'!$D8 -> 0.12123954 | X9: 601 | Y9: =X9/X$19 -> 0.13478358 | Z9: =Y9*'Pondération des sujets'!$D8 -> 0.13478358 | AA9: 585 | AB9: =AA9/AA$19 -> 0.13178644 | AC9: =AB9*'Pondération des sujets'!$D8 -> 0.13178644 | AD9: 533 | AE9: =AD9/AD$19 -> 0.11823425 | AF9: =AE9*'Pondération des sujets'!$D8 -> 0.11823425 | AG9: 616 | AH9: =AG9/AG$19 -> 0.1409611 | AI9: =AH9*'Pondération des sujets'!$D8 -> 0.1409611 | AJ9: 553 | AK9: =AJ9/AJ$19 -> 0.12800926 | AL9: =AK9*'Pondération des sujets'!$D8 -> 0.12800926 | AN9: 409 | AO9: =AN9/AN$19 -> 0.13507266 | AP9: =AO9*'Pondération des sujets'!$D8 -> 0.13507266 | AQ9: 321 | AR9: =AQ9/AQ$19 -> 0.10469667 | AS9: =AR9*'Pondération des sujets'!$D8 -> 0.10469667 | AT9: 331 | AU9: =AT9/AT$19 -> 0.10831152 | AV9: =AU9*'Pondération des sujets'!$D8 -> 0.10831152 | AW9: 255 | AX9: =AW9/AW$19 -> 0.083469722 | AY9: =AX9*'Pondération des sujets'!$D8 -> 0.083469722 | AZ9: 70 | BA9: =AZ9/AZ$19 -> 0.022853412 | BB9: =BA9*'Pondération des sujets'!$D8 -> 0.022853412 | BC9: 355 | BD9: =BC9/BC$19 -> 0.11677632 | BE9: =BD9*'Pondération des sujets'!$D8 -> 0.11677632 | BF9: 318 | BG9: =BF9/BF$19 -> 0.10470859 | BH9: =BG9*'Pondération des sujets'!$D8 -> 0.10470859 | BI9: 332 | BJ9: =BI9/BI$19 -> 0.10949868 | BK9: =BJ9*'Pondération des sujets'!$D8 -> 0.10949868 | BL9: 343 | BM9: =BL9/BL$19 -> 0.11114712 | BN9: =BM9*'Pondération des sujets'!$D8 -> 0.11114712 | BO9: 391 | BP9: =BO9/BO$19 -> 0.12512 | BQ9: =BP9*'Pondération des sujets'!$D8 -> 0.12512 | BR9: 401 | BS9: =BR9/BR$19 -> 0.12927144 | BT9: =BS9*'Pondération des sujets'!$D8 -> 0.12927144 | BU9: 385 | BV9: =BU9/BU$19 -> 0.12276786 | BW9: =BV9*'Pondération des sujets'!$D8 -> 0.12276786 | BX9: 377 | BY9: =BX9/BX$19 -> 0.1228013 | BZ9: =BY9*'Pondération des sujets'!$D8 -> 0.1228013 | CA9: 346 | CB9: =CA9/CA$19 -> 0.1150266 | CC9: =CB9*'Pondération des sujets'!$D8 -> 0.1150266 | CE9: 252 | CF9: =CE9/CE$19 -> 0.087652174 | CG9: =CF9*'Pondération des sujets'!$D8 -> 0.087652174 | CH9: 213 | CI9: =CH9/CH$19 -> 0.074035454 | CJ9: =CI9*'Pondération des sujets'!$D8 -> 0.074035454 | CK9: 68 | CL9: =CK9/CK$19 -> 0.023521273 | CM9: =CL9*'Pondération des sujets'!$D8 -> 0.023521273 | CN9: 297 | CO9: =CN9/CN$19 -> 0.10283934 | CP9: =CO9*'Pondération des sujets'!$D8 -> 0.10283934 | CQ9: 279 | CR9: =CQ9/CQ$19 -> 0.097314266 | CS9: =CR9*'Pondération des sujets'!$D8 -> 0.097314266 | CT9: 370 | CU9: =CT9/CT$19 -> 0.12874043 | CV9: =CU9*'Pondération des sujets'!$D8 -> 0.12874043 | CW9: 390 | CX9: =CW9/CW$19 -> 0.13296966 | CY9: =CX9*'Pondération des sujets'!$D8 -> 0.13296966 | CZ9: 357 | DA9: =CZ9/CZ$19 -> 0.12089401 | DB9: =DA9*'Pondération des sujets'!$D8 -> 0.12089401 | DC9: 318 | DD9: =DC9/DC$19 -> 0.10794297 | DE9: =DD9*'Pondération des sujets'!$D8 -> 0.10794297 | DF9: 339 | DG9: =DF9/DF$19 -> 0.11391129 | DH9: =DG9*'Pondération des sujets'!$D8 -> 0.11391129 | DI9: 305 | DJ9: =DI9/DI$19 -> 0.10579258 | DK9: =DJ9*'Pondération des sujets'!$D8 -> 0.10579258 | DL9: 288 | DM9: =DL9/DL$19 -> 0.10183876 | DN9: =DM9*'Pondération des sujets'!$D8 -> 0.10183876 | DP9: 1445 | DQ9: =DP9/DP$19 -> 0.3627008 | DR9: =DQ9*'Pondération des sujets'!$D8 -> 0.3627008 | DS9: 889 | DT9: =DS9/DS$19 -> 0.22392947 | DU9: =DT9*'Pondération des sujets'!$D8 -> 0.22392947 | DV9: 348 | DW9: =DV9/DV$19 -> 0.088324873 | DX9: =DW9*'Pondération des sujets'!$D8 -> 0.088324873 | DY9: 153 | DZ9: =DY9/DY$19 -> 0.039130435 | EA9: =DZ9*'Pondération des sujets'!$D8 -> 0.039130435 | EB9: 22 | EC9: =EB9/EB$19 -> 0.0056179775 | ED9: =EC9*'Pondération des sujets'!$D8 -> 0.0056179775 | EE9: 324 | EF9: =EE9/EE$19 -> 0.082928078 | EG9: =EF9*'Pondération des sujets'!$D8 -> 0.082928078 | EH9: 378 | EI9: =EH9/EH$19 -> 0.095866092 | EJ9: =EI9*'Pondération des sujets'!$D8 -> 0.095866092 | EK9: 420 | EL9: =EK9/EK$19 -> 0.10711553 | EM9: =EL9*'Pondération des sujets'!$D8 -> 0.10711553 | EN9: 454 | EO9: =EN9/EN$19 -> 0.11364205 | EP9: =EO9*'Pondération des sujets'!$D8 -> 0.11364205 | EQ9: 491 | ER9: =EQ9/EQ$19 -> 0.12084667 | ES9: =ER9*'Pondération des sujets'!$D8 -> 0.12084667 | ET9: 444 | EU9: =ET9/ET$19 -> 0.11064042 | EV9: =EU9*'Pondération des sujets'!$D8 -> 0.11064042 | EW9: 441 | EX9: =EW9/EW$19 -> 0.10905045 | EY9: =EX9*'Pondération des sujets'!$D8 -> 0.10905045 | EZ9: 492 | FA9: =EZ9/EZ$19 -> 0.12493652 | FB9: =FA9*'Pondération des sujets'!$D8 -> 0.12493652 | FC9: 485 | FD9: =FC9/FC$19 -> 0.12419974 | FE9: =FD9*'Pondération des sujets'!$D8 -> 0.12419974
A10: 5 | B10: Agents affectés à une PA MRP ou Cycleur ayant une DHT moyenne hebdomadaire de 35h (sans description des repos de cycle dans la PA) | C10: 9 | D10: =C10/C$19 -> 0.0020431328 | E10: =D10*'Pondération des sujets'!$D10 -> 0.0020431328 | F10: 9 | G10: =F10/F$19 -> 0.0020604396 | H10: =G10*'Pondération des sujets'!$D10 -> 0.0020604396 | I10: 11 | J10: =I10/I$19 -> 0.0025386568 | K10: =J10*'Pondération des sujets'!$D10 -> 0.0025386568 | L10: 10 | M10: =L10/L$19 -> 0.0023196474 | N10: =M10*'Pondération des sujets'!$D10 -> 0.0023196474 | O10: 9 | P10: =O10/O$19 -> 0.0020857474 | Q10: =P10*'Pondération des sujets'!$D10 -> 0.0020857474 | R10: 7 | S10: =R10/R$19 -> 0.001622248 | T10: =S10*'Pondération des sujets'!$D10 -> 0.001622248 | U10: 11 | V10: =U10/U$19 -> 0.0024881249 | W10: =V10*'Pondération des sujets'!$D10 -> 0.0024881249 | X10: 9 | Y10: =X10/X$19 -> 0.0020183898 | Z10: =Y10*'Pondération des sujets'!$D10 -> 0.0020183898 | AA10: 9 | AB10: =AA10/AA$19 -> 0.0020274837 | AC10: =AB10*'Pondération des sujets'!$D10 -> 0.0020274837 | AD10: 8 | AE10: =AD10/AD$19 -> 0.0017746229 | AF10: =AE10*'Pondération des sujets'!$D10 -> 0.0017746229 | AG10: 6 | AH10: =AG10/AG$19 -> 0.0013729977 | AI10: =AH10*'Pondération des sujets'!$D10 -> 0.0013729977 | AJ10: 7 | AK10: =AJ10/AJ$19 -> 0.0016203704 | AL10: =AK10*'Pondération des sujets'!$D10 -> 0.0016203704 | AN10: 45 | AO10: =AN10/AN$19 -> 0.014861295 | AP10: =AO10*'Pondération des sujets'!$D10 -> 0.014861295 | AQ10: 39 | AR10: =AQ10/AQ$19 -> 0.012720157 | AS10: =AR10*'Pondération des sujets'!$D10 -> 0.012720157 | AT10: 29 | AU10: =AT10/AT$19 -> 0.0094895288 | AV10: =AU10*'Pondération des sujets'!$D10 -> 0.0094895288 | AW10: 27 | AX10: =AW10/AW$19 -> 0.0088379705 | AY10: =AX10*'Pondération des sujets'!$D10 -> 0.0088379705 | AZ10: 28 | BA10: =AZ10/AZ$19 -> 0.0091413647 | BB10: =BA10*'Pondération des sujets'!$D10 -> 0.0091413647 | BC10: 31 | BD10: =BC10/BC$19 -> 0.010197368 | BE10: =BD10*'Pondération des sujets'!$D10 -> 0.010197368 | BF10: 33 | BG10: =BF10/BF$19 -> 0.010865986 | BH10: =BG10*'Pondération des sujets'!$D10 -> 0.010865986 | BI10: 35 | BJ10: =BI10/BI$19 -> 0.011543536 | BK10: =BJ10*'Pondération des sujets'!$D10 -> 0.011543536 | BL10: 34 | BM10: =BL10/BL$19 -> 0.011017498 | BN10: =BM10*'Pondération des sujets'!$D10 -> 0.011017498 | BO10: 37 | BP10: =BO10/BO$19 -> 0.01184 | BQ10: =BP10*'Pondération des sujets'!$D10 -> 0.01184 | BR10: 35 | BS10: =BR10/BR$19 -> 0.011283043 | BT10: =BS10*'Pondération des sujets'!$D10 -> 0.011283043 | BU10: 32 | BV10: =BU10/BU$19 -> 0.010204082 | BW10: =BV10*'Pondération des sujets'!$D10 -> 0.010204082 | BX10: 27 | BY10: =BX10/BX$19 -> 0.0087947883 | BZ10: =BY10*'Pondération des sujets'!$D10 -> 0.0087947883 | CA10: 27 | CB10: =CA10/CA$19 -> 0.0089760638 | CC10: =CB10*'Pondération des sujets'!$D10 -> 0.0089760638 | CE10: 12 | CF10: =CE10/CE$19 -> 0.004173913 | CG10: =CF10*'Pondération des sujets'!$D10 -> 0.004173913 | CH10: 10 | CI10: =CH10/CH$19 -> 0.0034758429 | CJ10: =CI10*'Pondération des sujets'!$D10 -> 0.0034758429 | CK10: 7 | CL10: =CK10/CK$19 -> 0.0024213075 | CM10: =CL10*'Pondération des sujets'!$D10 -> 0.0024213075 | CN10: 7 | CO10: =CN10/CN$19 -> 0.0024238227 | CP10: =CO10*'Pondération des sujets'!$D10 -> 0.0024238227 | CQ10: 6 | CR10: =CQ10/CQ$19 -> 0.0020927799 | CS10: =CR10*'Pondération des sujets'!$D10 -> 0.0020927799 | CT10: 6 | CU10: =CT10/CT$19 -> 0.0020876827 | CV10: =CU10*'Pondération des sujets'!$D10 -> 0.0020876827 | CW10: 6 | CX10: =CW10/CW$19 -> 0.002045687 | CY10: =CX10*'Pondération des sujets'!$D10 -> 0.002045687 | CZ10: 6 | DA10: =CZ10/CZ$19 -> 0.002031832 | DB10: =DA10*'Pondération des sujets'!$D10 -> 0.002031832 | DC10: 6 | DD10: =DC10/DC$19 -> 0.0020366599 | DE10: =DD10*'Pondération des sujets'!$D10 -> 0.0020366599 | DF10: 5 | DG10: =DF10/DF$19 -> 0.0016801075 | DH10: =DG10*'Pondération des sujets'!$D10 -> 0.0016801075 | DI10: 5 | DJ10: =DI10/DI$19 -> 0.0017343045 | DK10: =DJ10*'Pondération des sujets'!$D10 -> 0.0017343045 | DL10: 5 | DM10: =DL10/DL$19 -> 0.0017680339 | DN10: =DM10*'Pondération des sujets'!$D10 -> 0.0017680339 | DP10: 43 | DQ10: =DP10/DP$19 -> 0.010793173 | DR10: =DQ10*'Pondération des sujets'!$D10 -> 0.010793173 | DS10: 43 | DT10: =DS10/DS$19 -> 0.010831234 | DU10: =DT10*'Pondération des sujets'!$D10 -> 0.010831234 | DV10: 38 | DW10: =DV10/DV$19 -> 0.0096446701 | DX10: =DW10*'Pondération des sujets'!$D10 -> 0.0096446701 | DY10: 42 | DZ10: =DY10/DY$19 -> 0.010741688 | EA10: =DZ10*'Pondération des sujets'!$D10 -> 0.010741688 | EB10: 43 | EC10: =EB10/EB$19 -> 0.010980592 | ED10: =EC10*'Pondération des sujets'!$D10 -> 0.010980592 | EE10: 38 | EF10: =EE10/EE$19 -> 0.0097261326 | EG10: =EF10*'Pondération des sujets'!$D10 -> 0.0097261326 | EH10: 39 | EI10: =EH10/EH$19 -> 0.009890946 | EJ10: =EI10*'Pondération des sujets'!$D10 -> 0.009890946 | EK10: 29 | EL10: =EK10/EK$19 -> 0.0073960724 | EM10: =EL10*'Pondération des sujets'!$D10 -> 0.0073960724 | EN10: 21 | EO10: =EN10/EN$19 -> 0.0052565707 | EP10: =EO10*'Pondération des sujets'!$D10 -> 0.0052565707 | EQ10: 20 | ER10: =EQ10/EQ$19 -> 0.0049224711 | ES10: =ER10*'Pondération des sujets'!$D10 -> 0.0049224711 | ET10: 10 | EU10: =ET10/ET$19 -> 0.0024919013 | EV10: =EU10*'Pondération des sujets'!$D10 -> 0.0024919013 | EW10: 10 | EX10: =EW10/EW$19 -> 0.0024727992 | EY10: =EX10*'Pondération des sujets'!$D10 -> 0.0024727992 | EZ10: 13 | FA10: =EZ10/EZ$19 -> 0.0033011681 | FB10: =FA10*'Pondération des sujets'!$D10 -> 0.0033011681 | FC10: 13 | FD10: =FC10/FC$19 -> 0.0033290653 | FE10: =FD10*'Pondération des sujets'!$D10 -> 0.0033290653
A11: 8bis.1 | B11: Agents sortis de BSCC mais toujours affectés à une PA théorique | C11: 6 | D11: =C11/C$19 -> 0.0013620885 | E11: =D11*'Pondération des sujets'!$D16 -> 0.0013620885 | F11: 4 | G11: =F11/F$19 -> 0.00091575092 | H11: =G11*'Pondération des sujets'!$D16 -> 0.00091575092 | I11: 1 | J11: =I11/I$19 -> 0.00023078698 | K11: =J11*'Pondération des sujets'!$D16 -> 0.00023078698 | L11: 1 | M11: =L11/L$19 -> 0.00023196474 | N11: =M11*'Pondération des sujets'!$D16 -> 0.00023196474 | O11: 1 | P11: =O11/O$19 -> 0.00023174971 | Q11: =P11*'Pondération des sujets'!$D16 -> 0.00023174971 | R11: 1 | S11: =R11/R$19 -> 0.00023174971 | T11: =S11*'Pondération des sujets'!$D16 -> 0.00023174971 | U11: 4 | V11: =U11/U$19 -> 0.00090477268 | W11: =V11*'Pondération des sujets'!$D16 -> 0.00090477268 | X11: 4 | Y11: =X11/X$19 -> 0.00089706212 | Z11: =Y11*'Pondération des sujets'!$D16 -> 0.00089706212 | AA11: 4 | AB11: =AA11/AA$19 -> 0.00090110385 | AC11: =AB11*'Pondération des sujets'!$D16 -> 0.00090110385 | AD11: 4 | AE11: =AD11/AD$19 -> 0.00088731145 | AF11: =AE11*'Pondération des sujets'!$D16 -> 0.00088731145 | AG11: 5 | AH11: =AG11/AG$19 -> 0.0011441648 | AI11: =AH11*'Pondération des sujets'!$D16 -> 0.0011441648 | AJ11: 6 | AK11: =AJ11/AJ$19 -> 0.0013888889 | AL11: =AK11*'Pondération des sujets'!$D16 -> 0.0013888889 | AN11: 1 | AO11: =AN11/AN$19 -> 0.00033025099 | AP11: =AO11*'Pondération des sujets'!$D16 -> 0.00033025099 | AQ11: 1 | AR11: =AQ11/AQ$19 -> 0.00032615786 | AS11: =AR11*'Pondération des sujets'!$D16 -> 0.00032615786 | AT11: 2 | AU11: =AT11/AT$19 -> 0.00065445026 | AV11: =AU11*'Pondération des sujets'!$D16 -> 0.00065445026 | AW11: 2 | AX11: =AW11/AW$19 -> 0.00065466448 | AY11: =AX11*'Pondération des sujets'!$D16 -> 0.00065466448 | AZ11: 1 | BA11: =AZ11/AZ$19 -> 0.00032647731 | BB11: =BA11*'Pondération des sujets'!$D16 -> 0.00032647731 | BC11: 1 | BD11: =BC11/BC$19 -> 0.00032894737 | BE11: =BD11*'Pondération des sujets'!$D16 -> 0.00032894737 | BF11: 0 | BG11: =BF11/BF$19 -> 0 | BH11: =BG11*'Pondération des sujets'!$D16 -> 0 | BI11: 0 | BJ11: =BI11/BI$19 -> 0 | BK11: =BJ11*'Pondération des sujets'!$D16 -> 0 | BL11: 0 | BM11: =BL11/BL$19 -> 0 | BN11: =BM11*'Pondération des sujets'!$D16 -> 0 | BO11: 0 | BP11: =BO11/BO$19 -> 0 | BQ11: =BP11*'Pondération des sujets'!$D16 -> 0 | BR11: 1 | BS11: =BR11/BR$19 -> 0.00032237266 | BT11: =BS11*'Pondération des sujets'!$D16 -> 0.00032237266 | BU11: 1 | BV11: =BU11/BU$19 -> 0.00031887755 | BW11: =BV11*'Pondération des sujets'!$D16 -> 0.00031887755 | BX11: 2 | BY11: =BX11/BX$19 -> 0.0006514658 | BZ11: =BY11*'Pondération des sujets'!$D16 -> 0.0006514658 | CA11: 2 | CB11: =CA11/CA$19 -> 0.00066489362 | CC11: =CB11*'Pondération des sujets'!$D16 -> 0.00066489362 | CE11: 0 | CF11: =CE11/CE$19 -> 0 | CG11: =CF11*'Pondération des sujets'!$D16 -> 0 | CH11: 0 | CI11: =CH11/CH$19 -> 0 | CJ11: =CI11*'Pondération des sujets'!$D16 -> 0 | CK11: 2 | CL11: =CK11/CK$19 -> 0.00069180214 | CM11: =CL11*'Pondération des sujets'!$D16 -> 0.00069180214 | CN11: 1 | CO11: =CN11/CN$19 -> 0.00034626039 | CP11: =CO11*'Pondération des sujets'!$D16 -> 0.00034626039 | CQ11: 1 | CR11: =CQ11/CQ$19 -> 0.00034879665 | CS11: =CR11*'Pondération des sujets'!$D16 -> 0.00034879665 | CT11: 0 | CU11: =CT11/CT$19 -> 0 | CV11: =CU11*'Pondération des sujets'!$D16 -> 0 | CW11: 0 | CX11: =CW11/CW$19 -> 0 | CY11: =CX11*'Pondération des sujets'!$D16 -> 0 | CZ11: 0 | DA11: =CZ11/CZ$19 -> 0 | DB11: =DA11*'Pondération des sujets'!$D16 -> 0 | DC11: 0 | DD11: =DC11/DC$19 -> 0 | DE11: =DD11*'Pondération des sujets'!$D16 -> 0 | DF11: 0 | DG11: =DF11/DF$19 -> 0 | DH11: =DG11*'Pondération des sujets'!$D16 -> 0 | DI11: 2 | DJ11: =DI11/DI$19 -> 0.00069372182 | DK11: =DJ11*'Pondération des sujets'!$D16 -> 0.00069372182 | DL11: 3 | DM11: =DL11/DL$19 -> 0.0010608204 | DN11: =DM11*'Pondération des sujets'!$D16 -> 0.0010608204 | DP11: 1 | DQ11: =DP11/DP$19 -> 0.00025100402 | DR11: =DQ11*'Pondération des sujets'!$D16 -> 0.00025100402 | DS11: 2 | DT11: =DS11/DS$19 -> 0.00050377834 | DU11: =DT11*'Pondération des sujets'!$D16 -> 0.00050377834 | DV11: 1 | DW11: =DV11/DV$19 -> 0.00025380711 | DX11: =DW11*'Pondération des sujets'!$D16 -> 0.00025380711 | DY11: 2 | DZ11: =DY11/DY$19 -> 0.00051150895 | EA11: =DZ11*'Pondération des sujets'!$D16 -> 0.00051150895 | EB11: 0 | EC11: =EB11/EB$19 -> 0 | ED11: =EC11*'Pondération des sujets'!$D16 -> 0 | EE11: 1 | EF11: =EE11/EE$19 -> 0.00025595086 | EG11: =EF11*'Pondération des sujets'!$D16 -> 0.00025595086 | EH11: 2 | EI11: =EH11/EH$19 -> 0.000507228 | EJ11: =EI11*'Pondération des sujets'!$D16 -> 0.000507228 | EK11: 2 | EL11: =EK11/EK$19 -> 0.00051007396 | EM11: =EL11*'Pondération des sujets'!$D16 -> 0.00051007396 | EN11: 2 | EO11: =EN11/EN$19 -> 0.00050062578 | EP11: =EO11*'Pondération des sujets'!$D16 -> 0.00050062578 | EQ11: 4 | ER11: =EQ11/EQ$19 -> 0.00098449422 | ES11: =ER11*'Pondération des sujets'!$D16 -> 0.00098449422 | ET11: 5 | EU11: =ET11/ET$19 -> 0.0012459507 | EV11: =EU11*'Pondération des sujets'!$D16 -> 0.0012459507 | EW11: 5 | EX11: =EW11/EW$19 -> 0.0012363996 | EY11: =EX11*'Pondération des sujets'!$D16 -> 0.0012363996 | EZ11: 7 | FA11: =EZ11/EZ$19 -> 0.0017775521 | FB11: =FA11*'Pondération des sujets'!$D16 -> 0.0017775521 | FC11: 8 | FD11: =FC11/FC$19 -> 0.0020486556 | FE11: =FD11*'Pondération des sujets'!$D16 -> 0.0020486556
A12: 8bis.2 | B12: Agents sortis de BSCC mais toujours affectés à une PA exceptionnelle | C12: 0 | D12: =C12/C$19 -> 0 | E12: =D12*'Pondération des sujets'!$D17 -> 0 | F12: 0 | G12: =F12/F$19 -> 0 | H12: =G12*'Pondération des sujets'!$D17 -> 0 | I12: 0 | J12: =I12/I$19 -> 0 | K12: =J12*'Pondération des sujets'!$D17 -> 0 | L12: 0 | M12: =L12/L$19 -> 0 | N12: =M12*'Pondération des sujets'!$D17 -> 0 | O12: 0 | P12: =O12/O$19 -> 0 | Q12: =P12*'Pondération des sujets'!$D17 -> 0 | R12: 0 | S12: =R12/R$19 -> 0 | T12: =S12*'Pondération des sujets'!$D17 -> 0 | U12: 0 | V12: =U12/U$19 -> 0 | W12: =V12*'Pondération des sujets'!$D17 -> 0 | X12: 0 | Y12: =X12/X$19 -> 0 | Z12: =Y12*'Pondération des sujets'!$D17 -> 0 | AA12: 0 | AB12: =AA12/AA$19 -> 0 | AC12: =AB12*'Pondération des sujets'!$D17 -> 0 | AD12: 0 | AE12: =AD12/AD$19 -> 0 | AF12: =AE12*'Pondération des sujets'!$D17 -> 0 | AG12: 0 | AH12: =AG12/AG$19 -> 0 | AI12: =AH12*'Pondération des sujets'!$D17 -> 0 | AJ12: 0 | AK12: =AJ12/AJ$19 -> 0 | AL12: =AK12*'Pondération des sujets'!$D17 -> 0 | AN12: 0 | AO12: =AN12/AN$19 -> 0 | AP12: =AO12*'Pondération des sujets'!$D17 -> 0 | AQ12: 1 | AR12: =AQ12/AQ$19 -> 0.00032615786 | AS12: =AR12*'Pondération des sujets'!$D17 -> 0.00032615786 | AT12: 1 | AU12: =AT12/AT$19 -> 0.00032722513 | AV12: =AU12*'Pondération des sujets'!$D17 -> 0.00032722513 | AW12: 1 | AX12: =AW12/AW$19 -> 0.00032733224 | AY12: =AX12*'Pondération des sujets'!$D17 -> 0.00032733224 | AZ12: 0 | BA12: =AZ12/AZ$19 -> 0 | BB12: =BA12*'Pondération des sujets'!$D17 -> 0 | BC12: 0 | BD12: =BC12/BC$19 -> 0 | BE12: =BD12*'Pondération des sujets'!$D17 -> 0 | BF12: 0 | BG12: =BF12/BF$19 -> 0 | BH12: =BG12*'Pondération des sujets'!$D17 -> 0 | BI12: 0 | BJ12: =BI12/BI$19 -> 0 | BK12: =BJ12*'Pondération des sujets'!$D17 -> 0 | BL12: 0 | BM12: =BL12/BL$19 -> 0 | BN12: =BM12*'Pondération des sujets'!$D17 -> 0 | BO12: 0 | BP12: =BO12/BO$19 -> 0 | BQ12: =BP12*'Pondération des sujets'!$D17 -> 0 | BR12: 0 | BS12: =BR12/BR$19 -> 0 | BT12: =BS12*'Pondération des sujets'!$D17 -> 0 | BU12: 0 | BV12: =BU12/BU$19 -> 0 | BW12: =BV12*'Pondération des sujets'!$D17 -> 0 | BX12: 0 | BY12: =BX12/BX$19 -> 0 | BZ12: =BY12*'Pondération des sujets'!$D17 -> 0 | CA12: 0 | CB12: =CA12/CA$19 -> 0 | CC12: =CB12*'Pondération des sujets'!$D17 -> 0 | CE12: 0 | CF12: =CE12/CE$19 -> 0 | CG12: =CF12*'Pondération des sujets'!$D17 -> 0 | CH12: 0 | CI12: =CH12/CH$19 -> 0 | CJ12: =CI12*'Pondération des sujets'!$D17 -> 0 | CK12: 0 | CL12: =CK12/CK$19 -> 0 | CM12: =CL12*'Pondération des sujets'!$D17 -> 0 | CN12: 0 | CO12: =CN12/CN$19 -> 0 | CP12: =CO12*'Pondération des sujets'!$D17 -> 0 | CQ12: 0 | CR12: =CQ12/CQ$19 -> 0 | CS12: =CR12*'Pondération des sujets'!$D17 -> 0 | CT12: 0 | CU12: =CT12/CT$19 -> 0 | CV12: =CU12*'Pondération des sujets'!$D17 -> 0 | CW12: 0 | CX12: =CW12/CW$19 -> 0 | CY12: =CX12*'Pondération des sujets'!$D17 -> 0 | CZ12: 0 | DA12: =CZ12/CZ$19 -> 0 | DB12: =DA12*'Pondération des sujets'!$D17 -> 0 | DC12: 0 | DD12: =DC12/DC$19 -> 0 | DE12: =DD12*'Pondération des sujets'!$D17 -> 0 | DF12: 0 | DG12: =DF12/DF$19 -> 0 | DH12: =DG12*'Pondération des sujets'!$D17 -> 0 | DI12: 1 | DJ12: =DI12/DI$19 -> 0.00034686091 | DK12: =DJ12*'Pondération des sujets'!$D17 -> 0.00034686091 | DL12: 1 | DM12: =DL12/DL$19 -> 0.00035360679 | DN12: =DM12*'Pondération des sujets'!$D17 -> 0.00035360679 | DP12: 0 | DQ12: =DP12/DP$19 -> 0 | DR12: =DQ12*'Pondération des sujets'!$D17 -> 0 | DS12: 0 | DT12: =DS12/DS$19 -> 0 | DU12: =DT12*'Pondération des sujets'!$D17 -> 0 | DV12: 0 | DW12: =DV12/DV$19 -> 0 | DX12: =DW12*'Pondération des sujets'!$D17 -> 0 | DY12: 0 | DZ12: =DY12/DY$19 -> 0 | EA12: =DZ12*'Pondération des sujets'!$D17 -> 0 | EB12: 0 | EC12: =EB12/EB$19 -> 0 | ED12: =EC12*'Pondération des sujets'!$D17 -> 0 | EE12: 0 | EF12: =EE12/EE$19 -> 0 | EG12: =EF12*'Pondération des sujets'!$D17 -> 0 | EH12: 0 | EI12: =EH12/EH$19 -> 0 | EJ12: =EI12*'Pondération des sujets'!$D17 -> 0 | EK12: 0 | EL12: =EK12/EK$19 -> 0 | EM12: =EL12*'Pondération des sujets'!$D17 -> 0 | EN12: 0 | EO12: =EN12/EN$19 -> 0 | EP12: =EO12*'Pondération des sujets'!$D17 -> 0 | EQ12: 0 | ER12: =EQ12/EQ$19 -> 0 | ES12: =ER12*'Pondération des sujets'!$D17 -> 0 | ET12: 0 | EU12: =ET12/ET$19 -> 0 | EV12: =EU12*'Pondération des sujets'!$D17 -> 0 | EW12: 0 | EX12: =EW12/EW$19 -> 0 | EY12: =EX12*'Pondération des sujets'!$D17 -> 0 | EZ12: 1 | FA12: =EZ12/EZ$19 -> 0.00025393601 | FB12: =FA12*'Pondération des sujets'!$D17 -> 0.00025393601 | FC12: 1 | FD12: =FC12/FC$19 -> 0.00025608195 | FE12: =FD12*'Pondération des sujets'!$D17 -> 0.00025608195
A13: 8ter | B13: PA avec plage horaire erronée | C13: 0 | D13: =C13/C$21 -> 0 | E13: =D13*'Pondération des sujets'!$D12 -> 0 | F13: 0 | G13: =F13/F$21 -> 0 | H13: =G13*'Pondération des sujets'!$D12 -> 0 | I13: 0 | J13: =I13/I$21 -> 0 | K13: =J13*'Pondération des sujets'!$D12 -> 0 | L13: 0 | M13: =L13/L$21 -> 0 | N13: =M13*'Pondération des sujets'!$D12 -> 0 | O13: 0 | P13: =O13/O$21 -> 0 | Q13: =P13*'Pondération des sujets'!$D12 -> 0 | R13: 0 | S13: =R13/R$21 -> 0 | T13: =S13*'Pondération des sujets'!$D12 -> 0 | U13: 0 | V13: =U13/U$21 -> 0 | W13: =V13*'Pondération des sujets'!$D12 -> 0 | X13: 0 | Y13: =X13/X$21 -> 0 | Z13: =Y13*'Pondération des sujets'!$D12 -> 0 | AA13: 0 | AB13: =AA13/AA$21 -> 0 | AC13: =AB13*'Pondération des sujets'!$D12 -> 0 | AD13: 0 | AE13: =AD13/AD$21 -> 0 | AF13: =AE13*'Pondération des sujets'!$D12 -> 0 | AG13: 0 | AH13: =AG13/AG$21 -> 0 | AI13: =AH13*'Pondération des sujets'!$D12 -> 0 | AJ13: 0 | AK13: =AJ13/AJ$21 -> 0 | AL13: =AK13*'Pondération des sujets'!$D12 -> 0 | AN13: 0 | AO13: =AN13/AN$21 -> 0 | AP13: =AO13*'Pondération des sujets'!$D12 -> 0 | AQ13: 0 | AR13: =AQ13/AQ$21 -> 0 | AS13: =AR13*'Pondération des sujets'!$D12 -> 0 | AT13: 0 | AU13: =AT13/AT$21 -> 0 | AV13: =AU13*'Pondération des sujets'!$D12 -> 0 | AW13: 0 | AX13: =AW13/AW$21 -> 0 | AY13: =AX13*'Pondération des sujets'!$D12 -> 0 | AZ13: 0 | BA13: =AZ13/AZ$21 -> 0 | BB13: =BA13*'Pondération des sujets'!$D12 -> 0 | BC13: 0 | BD13: =BC13/BC$21 -> 0 | BE13: =BD13*'Pondération des sujets'!$D12 -> 0 | BF13: 0 | BG13: =BF13/BF$21 -> 0 | BH13: =BG13*'Pondération des sujets'!$D12 -> 0 | BI13: 0 | BJ13: =BI13/BI$21 -> 0 | BK13: =BJ13*'Pondération des sujets'!$D12 -> 0 | BL13: 0 | BM13: =BL13/BL$21 -> 0 | BN13: =BM13*'Pondération des sujets'!$D12 -> 0 | BO13: 0 | BP13: =BO13/BO$21 -> 0 | BQ13: =BP13*'Pondération des sujets'!$D12 -> 0 | BR13: 0 | BS13: =BR13/BR$21 -> 0 | BT13: =BS13*'Pondération des sujets'!$D12 -> 0 | BU13: 0 | BV13: =BU13/BU$21 -> 0 | BW13: =BV13*'Pondération des sujets'!$D12 -> 0 | BX13: 0 | BY13: =BX13/BX$21 -> 0 | BZ13: =BY13*'Pondération des sujets'!$D12 -> 0 | CA13: 0 | CB13: =CA13/CA$21 -> 0 | CC13: =CB13*'Pondération des sujets'!$D12 -> 0 | CE13: 0 | CF13: =CE13/CE$21 -> 0 | CG13: =CF13*'Pondération des sujets'!$D12 -> 0 | CH13: 0 | CI13: =CH13/CH$21 -> 0 | CJ13: =CI13*'Pondération des sujets'!$D12 -> 0 | CK13: 0 | CL13: =CK13/CK$21 -> 0 | CM13: =CL13*'Pondération des sujets'!$D12 -> 0 | CN13: 0 | CO13: =CN13/CN$21 -> 0 | CP13: =CO13*'Pondération des sujets'!$D12 -> 0 | CQ13: 0 | CR13: =CQ13/CQ$21 -> 0 | CS13: =CR13*'Pondération des sujets'!$D12 -> 0 | CT13: 0 | CU13: =CT13/CT$21 -> 0 | CV13: =CU13*'Pondération des sujets'!$D12 -> 0 | CW13: 0 | CX13: =CW13/CW$21 -> 0 | CY13: =CX13*'Pondération des sujets'!$D12 -> 0 | CZ13: 0 | DA13: =CZ13/CZ$21 -> 0 | DB13: =DA13*'Pondération des sujets'!$D12 -> 0 | DC13: 0 | DD13: =DC13/DC$21 -> 0 | DE13: =DD13*'Pondération des sujets'!$D12 -> 0 | DF13: 0 | DG13: =DF13/DF$21 -> 0 | DH13: =DG13*'Pondération des sujets'!$D12 -> 0 | DI13: 0 | DJ13: =DI13/DI$21 -> 0 | DK13: =DJ13*'Pondération des sujets'!$D12 -> 0 | DL13: 0 | DM13: =DL13/DL$21 -> 0 | DN13: =DM13*'Pondération des sujets'!$D12 -> 0 | DP13: 0 | DQ13: =DP13/DP$21 -> 0 | DR13: =DQ13*'Pondération des sujets'!$D12 -> 0 | DS13: 0 | DT13: =DS13/DS$21 -> 0 | DU13: =DT13*'Pondération des sujets'!$D12 -> 0 | DV13: 0 | DW13: =DV13/DV$21 -> 0 | DX13: =DW13*'Pondération des sujets'!$D12 -> 0 | DY13: 0 | DZ13: =DY13/DY$21 -> 0 | EA13: =DZ13*'Pondération des sujets'!$D12 -> 0 | EB13: 0 | EC13: =EB13/EB$21 -> 0 | ED13: =EC13*'Pondération des sujets'!$D12 -> 0 | EE13: 0 | EF13: =EE13/EE$21 -> 0 | EG13: =EF13*'Pondération des sujets'!$D12 -> 0 | EH13: 0 | EI13: =EH13/EH$21 -> 0 | EJ13: =EI13*'Pondération des sujets'!$D12 -> 0 | EK13: 0 | EL13: =EK13/EK$21 -> 0 | EM13: =EL13*'Pondération des sujets'!$D12 -> 0 | EN13: 0 | EO13: =EN13/EN$21 -> 0 | EP13: =EO13*'Pondération des sujets'!$D12 -> 0 | EQ13: 0 | ER13: =EQ13/EQ$21 -> 0 | ES13: =ER13*'Pondération des sujets'!$D12 -> 0 | ET13: 0 | EU13: =ET13/ET$21 -> 0 | EV13: =EU13*'Pondération des sujets'!$D12 -> 0 | EW13: 0 | EX13: =EW13/EW$21 -> 0 | EY13: =EX13*'Pondération des sujets'!$D12 -> 0 | EZ13: 0 | FA13: =EZ13/EZ$21 -> 0 | FB13: =FA13*'Pondération des sujets'!$D12 -> 0 | FC13: 0 | FD13: =FC13/FC$21 -> 0 | FE13: =FD13*'Pondération des sujets'!$D12 -> 0
A14: CALCUL INDICATEUR | B14: XX TOTAL | E14: =SUM(E4:E12) -> 0.40817253 | H14: =SUM(H4:H12) -> 0.39858059 | K14: =SUM(K4:K12) -> 0.42857143 | N14: =SUM(N4:N12) -> 0.42867084 | Q14: =SUM(Q4:Q12) -> 0.44310545 | T14: =SUM(T4:T12) -> 0.43476246 | W14: =SUM(W4:W12) -> 0.44831486 | Z14: =SUM(Z4:Z12) -> 0.447634 | AC14: =SUM(AC4:AC12) -> 0.42960126 | AF14: =SUM(AF4:AF12) -> 0.39551908 | AI14: =SUM(AI4:AI12) -> 0.44965675 | AL14: =SUM(AL4:AL12) -> 0.46203704 | AP14: =SUM(AP4:AP12) -> 0.40224571 | AS14: =SUM(AS4:AS12) -> 0.34377038 | AV14: =SUM(AV4:AV12) -> 0.27192408 | AY14: =SUM(AY4:AY12) -> 0.26972177 | BB14: =SUM(BB4:BB12) -> 0.25008162 | BE14: =SUM(BE4:BE12) -> 0.25328947 | BH14: =SUM(BH4:BH12) -> 0.27033257 | BK14: =SUM(BK4:BK12) -> 0.26846966 | BN14: =SUM(BN4:BN12) -> 0.26409592 | BQ14: =SUM(BQ4:BQ12) -> 0.2528 | BT14: =SUM(BT4:BT12) -> 0.2617666 | BW14: =SUM(BW4:BW12) -> 0.2627551 | BZ14: =SUM(BZ4:BZ12) -> 0.27296417 | CC14: =SUM(CC4:CC12) -> 0.27460106 | CG14: =SUM(CG4:CG12) -> 0.32834783 | CJ14: =SUM(CJ4:CJ12) -> 0.34758429 | CM14: =SUM(CM4:CM12) -> 0.3562781 | CP14: =SUM(CP4:CP12) -> 0.33621884 | CS14: =SUM(CS4:CS12) -> 0.35786536 | CV14: =SUM(CV4:CV12) -> 0.41231733 | CY14: =SUM(CY4:CY12) -> 0.40265939 | DB14: =SUM(DB4:DB12) -> 0.40230274 | DE14: =SUM(DE4:DE12) -> 0.40190088 | DH14: =SUM(DH4:DH12) -> 0.37802419 | DK14: =SUM(DK4:DK12) -> 0.40860215 | DN14: =SUM(DN4:DN12) -> 0.41407355 | DR14: =SUM(DR4:DR12) -> 0.5747992 | DU14: =SUM(DU4:DU12) -> 0.45994962 | DX14: =SUM(DX4:DX12) -> 0.29467005 | EA14: =SUM(EA4:EA12) -> 0.2971867 | ED14: =SUM(ED4:ED12) -> 0.30439224 | EG14: =SUM(EG4:EG12) -> 0.27412337 | EJ14: =SUM(EJ4:EJ12) -> 0.30890185 | EM14: =SUM(EM4:EM12) -> 0.31777608 | EP14: =SUM(EP4:EP12) -> 0.34292866 | ES14: =SUM(ES4:ES12) -> 0.32734433 | EV14: =SUM(EV4:EV12) -> 0.30874657 | EY14: =SUM(EY4:EY12) -> 0.29945598 | FB14: =SUM(FB4:FB12) -> 0.34738446 | FE14: =SUM(FE4:FE12) -> 0.36107554
C16: DSCC 38 | F16: DSCC 38 | I16: DSCC 38 | L16: DSCC 38 | O16: DSCC 38 | R16: DSCC 38 | U16: DSCC 38 | X16: DSCC 38 | AA16: DSCC 38 | AD16: DSCC 38 | AG16: DSCC 38 | AJ16: DSCC 38 | AN16: DSCC 42 | AQ16: DSCC 42 | AT16: DSCC 42 | AW16: DSCC 42 | AZ16: DSCC 42 | BC16: DSCC 42 | BF16: DSCC 42 | BI16: DSCC 42 | BL16: DSCC 42 | BO16: DSCC 42 | BR16: DSCC 42 | BU16: DSCC 42 | BX16: DSCC 42 | CA16: DSCC 42 | CE16: DSCC 63 | CH16: DSCC 63 | CK16: DSCC 63 | CN16: DSCC 63 | CQ16: DSCC 63 | CT16: DSCC 63 | CW16: DSCC 63 | CZ16: DSCC 63 | DC16: DSCC 63 | DF16: DSCC 63 | DI16: DSCC 63 | DL16: DSCC 63 | DP16: DSCC 69 | DS16: DSCC 69 | DV16: DSCC 69 | DY16: DSCC 69 | EB16: DSCC 69 | EE16: DSCC 69 | EH16: DSCC 69 | EK16: DSCC 69 | EN16: DSCC 69 | EQ16: DSCC 69 | ET16: DSCC 69 | EW16: DSCC 69 | EZ16: DSCC 69 | FC16: DSCC 69
C17: Suivi 1 | F17: Suivi 2 | I17: Suivi 3 | L17: Suivi 4 | O17: Suivi 5 | R17: Suivi 6 | U17: Suivi 7 | X17: Suivi 8 | AA17: Suivi 9 | AD17: Suivi 10 | AG17: Suivi 11 | AJ17: Suivi 12 | AN17: Suivi 1 | AQ17: Suivi 2 | AT17: Suivi 3 | AW17: Suivi 4 | AZ17: Suivi 5 | BC17: Suivi 4 | BF17: Suivi 7 | BI17: Suivi 8 | BL17: Suivi 9 | BO17: Suivi 10 | BR17: Suivi 11 | BU17: Suivi 12 | BX17: Suivi 13 | CA17: Suivi 14 | CE17: Suivi 1 | CH17: Suivi 2 | CK17: Suivi 3 | CN17: Suivi 4 | CQ17: Suivi 5 | CT17: Suivi 6 | CW17: Suivi 7 | CZ17: Suivi 8 | DC17: Suivi 9 | DF17: Suivi 10 | DI17: Suivi 11 | DL17: Suivi 12 | DP17: Suivi 1 | DS17: Suivi 2 | DV17: Suivi 3 | DY17: Suivi 4 | EB17: Suivi 5 | EE17: Suivi 4 | EH17: Suivi 7 | EK17: Suivi 8 | EN17: Suivi 9 | EQ17: Suivi 10 | ET17: Suivi 11 | EW17: Suivi 12 | EZ17: Suivi 13 | FC17: Suivi 14
C18: Effectif total | F18: Effectif total | I18: Effectif total | L18: Effectif total | O18: Effectif total | R18: Effectif total | U18: Effectif total | X18: Effectif total | AA18: Effectif total | AD18: Effectif total | AG18: Effectif total | AJ18: Effectif total | AN18: Effectif total | AQ18: Effectif total | AT18: Effectif total | AW18: Effectif total | AZ18: Effectif total | BC18: Effectif total | BF18: Effectif total | BI18: Effectif total | BL18: Effectif total | BO18: Effectif total | BR18: Effectif total | BU18: Effectif total | BX18: Effectif total | CA18: Effectif total | CE18: Effectif total | CH18: Effectif total | CK18: Effectif total | CN18: Effectif total | CQ18: Effectif total | CT18: Effectif total | CW18: Effectif total | CZ18: Effectif total | DC18: Effectif total | DF18: Effectif total | DI18: Effectif total | DL18: Effectif total | DP18: Effectif total | DS18: Effectif total | DV18: Effectif total | DY18: Effectif total | EB18: Effectif total | EE18: Effectif total | EH18: Effectif total | EK18: Effectif total | EN18: Effectif total | EQ18: Effectif total | ET18: Effectif total | EW18: Effectif total | EZ18: Effectif total | FC18: Effectif total
