Workbook

Sheet Feuil1
A1: Nom court | B1: Nom complet | D1: Pays | I1: Id/Nom complet | J1: Code ID | K1: Adresse | L1: Exacte | M1: Partielle
A2: ="3 PETITS" -> 3 PETITS | B2: ="3 PETITS COCHONS" -> 3 PETITS COCHONS | C2: ="Client" -> Client | D2: ="GR" -> GR | E2: ="CF" -> CF | F2: 40521 | G2: 73415 | I2: =MATCH(B2,Feuil2!A$2:A$10,0) -> 1 | J2: =IF(OR(ISERROR(I2),M2=1),REPT("Manuel ",M2),INDEX(Feuil2!A$1:L$10,I2+1,12)*L2) -> 23667 | K2: =INDEX(Feuil2!A$1:L$10,I2+1,3) -> 6 PLACE GERMINAL, AUCHY LES MINES, 62138 | L2: =IF(AC2&", "&AF2&", "&AE2=K2,1,0) -> 1 | M2: =IF(AC2=K2,1,0) -> 0 | P2: ="" | Q2: ="" | R2: ="" | S2: ="" | T2: ="" | U2: ="03" -> 03 | V2: ="Virement" -> Virement | W2: ="" | X2: ="" | Y2: ="" | Z2: cache1 | AA2: cache 11 | AB2: cache 12 | AC2: 6 PLACE GERMINAL | AD2: ="" | AE2: ="62138" -> 62138 | AF2: ="AUCHY LES MINES" -> AUCHY LES MINES | AG2: ="FR" -> FR | AH2: cache 21 | AI2: ="" | AJ2: cache 32 | AK2: cache 43 | AL2: cache 54 | AM2: cache 64 | AN2: ="" | AO2: ="" | AP2: =""
A3: ="A LA SOURC" -> A LA SOURC | B3: ="A LA SOURCE" -> A LA SOURCE | C3: ="Client" -> Client | D3: ="GR" -> GR | E3: ="CF" -> CF | F3: 40521 | G3: 401768 | I3: =MATCH(B3,Feuil2!A$2:A$10,0) -> 2 | J3: =IF(OR(ISERROR(I3),M3=1),REPT("Manuel ",M3),INDEX(Feuil2!A$1:L$10,I3+1,12)*L3) -> 23674 | K3: =INDEX(Feuil2!A$1:L$10,I3+1,3) -> Place des Cordeliers, SARREBOURG, 57400 | L3: =IF(AC3&", "&AF3&", "&AE3=K3,1,0) -> 1 | M3: =IF(AC3=K3,1,0) -> 0 | N3: ="" | O3: ="SOURCE" -> SOURCE | P3: ="A LA SOURCE" -> A LA SOURCE | Q3: ="" | R3: ="" | S3: ="" | T3: ="" | U3: ="03" -> 03 | V3: ="Virement" -> Virement | W3: ="" | X3: ="" | Y3: ="" | Z3: cache2 | AA3: cache 12 | AB3: ="" | AC3: Place des Cordeliers | AD3: ="" | AE3: ="57400" -> 57400 | AF3: ="SARREBOURG" -> SARREBOURG | AG3: ="FR" -> FR | AH3: cache 22 | AI3: ="" | AJ3: cache 33 | AK3: cache 44 | AL3: cache 55 | AM3: cache 65 | AN3: ="" | AO3: ="" | AP3: =""
A4: ="ABC FOODS" -> ABC FOODS | B4: ="ABC FOODS" -> ABC FOODS | C4: ="Client" -> Client | D4: ="GR" -> GR | E4: ="CF" -> CF | F4: 40521 | G4: 401768 | I4: =MATCH(B4,Feuil2!A$2:A$10,0) -> 3 | J4: =IF(OR(ISERROR(I4),M4=1),REPT("Manuel ",M4),INDEX(Feuil2!A$1:L$10,I4+1,12)*L4) -> 23673 | K4: =INDEX(Feuil2!A$1:L$10,I4+1,3) -> MIN de brienne - Bureau n°11, BORDEAUX, 33076 | L4: =IF(AC4&", "&AF4&", "&AE4=K4,1,0) -> 1 | M4: =IF(AC4=K4,1,0) -> 0 | N4: ="" | O4: ="" | P4: ="" | Q4: ="" | R4: ="" | S4: ="" | T4: ="" | U4: ="03" -> 03 | V4: ="Virement" -> Virement | W4: ="" | X4: ="" | Y4: ="" | Z4: cache3 | AA4: cache 13 | AB4: ="" | AC4: MIN de Brienne - Bureau n°11 | AD4: ="BP 63 - Quai Paludate" -> BP 63 - Quai Paludate | AE4: ="33076" -> 33076 | AF4: ="BORDEAUX" -> BORDEAUX | AG4: ="FR" -> FR | AH4: cache 23 | AI4: ="" | AJ4: cache 34 | AK4: cache 45 | AL4: cache 56 | AM4: cache 66 | AN4: ="" | AO4: ="" | AP4: =""
A5: ="ABC SS TVA" -> ABC SS TVA | B5: ="ABC FOODS" -> ABC FOODS | C5: ="Client" -> Client | D5: ="GR" -> GR | E5: ="CEX" -> CEX | F5: 40521 | G5: 401768 | H5: Pas dans la liste | I5: =MATCH(B5,Feuil2!A$2:A$10,0) -> 3 | J5: =IF(OR(ISERROR(I5),M5=1),REPT("Manuel ",M5),INDEX(Feuil2!A$1:L$10,I5+1,12)*L5) -> 23673 | K5: =INDEX(Feuil2!A$1:L$10,I5+1,3) -> MIN de brienne - Bureau n°11, BORDEAUX, 33076 | L5: =IF(AC5&", "&AF5&", "&AE5=K5,1,0) -> 1 | M5: =IF(AC5=K5,1,0) -> 0 | N5: ="" | O5: ="" | P5: ="" | Q5: ="" | R5: ="" | S5: ="" | T5: ="" | U5: ="03" -> 03 | V5: ="Virement" -> Virement | W5: ="" | X5: ="" | Y5: ="" | Z5: cache4 | AA5: cache 14 | AB5: ="" | AC5: MIN de brienne - Bureau n°11 | AD5: ="BP63 - Quai Paludate" -> BP63 - Quai Paludate | AE5: ="33076" -> 33076 | AF5: ="BORDEAUX" -> BORDEAUX | AG5: ="FR" -> FR | AH5: cache 24 | AI5: ="" | AJ5: cache 35 | AK5: cache 46 | AL5: cache 57 | AM5: cache 67 | AN5: ="" | AO5: ="" | AP5: =""
A6: ="ABSALOM" -> ABSALOM | B6: ="ABSALOM & TRIBE" -> ABSALOM & TRIBE | C6: ="Client" -> Client | D6: ="GR" -> GR | E6: ="CE" -> CE | F6: 40521 | G6: 401768 | I6: =MATCH(B6,Feuil2!A$2:A$10,0) -> 4 | J6: =IF(OR(ISERROR(I6),M6=1),REPT("Manuel ",M6),INDEX(Feuil2!A$1:L$10,I6+1,12)*L6) -> 23669 | K6: =INDEX(Feuil2!A$1:L$10,I6+1,3) -> 21-23 Central Markets - Smithfield, LONDON, EC1A9AN | L6: =IF(AC6&", "&AF6&", "&AE6=K6,1,0) -> 1 | M6: =IF(AC6=K6,1,0) -> 0 | N6: ="" | O6: ="" | P6: ="" | Q6: ="" | R6: ="" | S6: ="" | T6: ="" | U6: ="03" -> 03 | V6: ="Virement" -> Virement | W6: - | X6: ="" | Y6: ="" | Z6: cache5 | AA6: cache 15 | AB6: ="" | AC6: 21-23 Central Markets - Smithfield | AD6: ="" | AE6: ="EC1A9AN" -> EC1A9AN | AF6: ="LONDON" -> LONDON | AG6: ="GB" -> GB | AH6: cache 25 | AI6: ="" | AJ6: cache 36 | AK6: cache 47 | AL6: cache 58 | AM6: cache 68 | AN6: ="" | AO6: ="" | AP6: =""
A7: ="AC RECR" -> AC RECR | B7: ="AC RECR SP PORTUGAISE CA" -> AC RECR SP PORTUGAISE CA | C7: ="Client" -> Client | D7: ="GR" -> GR | E7: ="CF" -> CF | F7: 40521 | G7: 43593 | I7: =MATCH(B7,Feuil2!A$2:A$10,0) -> 5 | J7: =IF(OR(ISERROR(I7),M7=1),REPT("Manuel ",M7),INDEX(Feuil2!A$1:L$10,I7+1,12)*L7) -> 23670 | K7: =INDEX(Feuil2!A$1:L$10,I7+1,3) -> 23 rue Ernest Lepot, CAMBRAI, 59400 | L7: =IF(AC7&", "&AF7&", "&AE7=K7,1,0) -> 1 | M7: =IF(AC7=K7,1,0) -> 0 | N7: ="" | O7: ="" | P7: ="" | Q7: ="" | R7: ="" | S7: ="" | T7: ="" | U7: ="03" -> 03 | V7: ="Virement" -> Virement | W7: ="" | X7: ="" | Y7: - | Z7: cache6 | AA7: cache 16 | AB7: ="" | AC7: 23 rue Ernest Lepot | AD7: ="" | AE7: ="59400" -> 59400 | AF7: ="CAMBRAI" -> CAMBRAI | AG7: ="FR" -> FR | AH7: cache 26 | AI7: cache 31 | AJ7: cache 37 | AK7: cache 48 | AL7: cache 59 | AM7: cache 69 | AN7: ="" | AO7: ="" | AP7: =""
A8: ="ACAMAS" -> ACAMAS | B8: ="ACAMAS" -> ACAMAS | C8: ="Client" -> Client | D8: ="GR" -> GR | E8: ="CF" -> CF | F8: 40521 | G8: 401768 | I8: =MATCH(B8,Feuil2!A$2:A$10,0) -> 6 | J8: =IF(OR(ISERROR(I8),M8=1),REPT("Manuel ",M8),INDEX(Feuil2!A$1:L$10,I8+1,12)*L8) -> 23672 | K8: =INDEX(Feuil2!A$1:L$10,I8+1,3) -> 33 RUE DE MIROMESNIL, PARIS, 75008 | L8: =IF(AC8&", "&AF8&", "&AE8=K8,1,0) -> 1 | M8: =IF(AC8=K8,1,0) -> 0 | N8: ="" | O8: ="" | P8: ="" | Q8: ="" | R8: ="" | S8: ="" | T8: ="" | U8: ="03" -> 03 | V8: ="Virement" -> Virement | W8: - | X8: ="" | Y8: - | Z8: cache7 | AA8: cache 17 | AB8: ="" | AC8: 33 RUE DE MIROMESNIL | AD8: ="" | AE8: ="75008" -> 75008 | AF8: ="PARIS" -> PARIS | AG8: ="FR" -> FR | AH8: cache 27 | AI8: ="" | AJ8: cache 38 | AK8: cache 49 | AL8: cache 60 | AM8: cache 70 | AN8: ="" | AO8: ="" | AP8: =""
A9: ="ACCPN" -> ACCPN | B9: ="ACCPN" -> ACCPN | C9: ="Client" -> Client | D9: ="GR" -> GR | E9: ="CF" -> CF | F9: 40521 | G9: 401768 | I9: =MATCH(B9,Feuil2!A$2:A$10,0) -> 7 | J9: =IF(OR(ISERROR(I9),M9=1),REPT("Manuel ",M9),INDEX(Feuil2!A$1:L$10,I9+1,12)*L9) -> 23671 | K9: =INDEX(Feuil2!A$1:L$10,I9+1,3) -> 33, rue des rosiers, COLOMBES, 92700 | L9: =IF(AC9&", "&AF9&", "&AE9=K9,1,0) -> 1 | M9: =IF(AC9=K9,1,0) -> 0 | N9: ="" | O9: ="" | P9: ="" | Q9: ="" | R9: ="" | S9: ="" | T9: ="" | U9: ="03" -> 03 | V9: ="Virement" -> Virement | W9: ="" | X9: ="" | Y9: ="" | Z9: cache8 | AA9: cache 18 | AB9: ="" | AC9: 33, rue des rosiers | AD9: ="" | AE9: ="92700" -> 92700 | AF9: ="COLOMBES" -> COLOMBES | AG9: ="FR" -> FR | AH9: cache 28 | AI9: ="" | AJ9: cache 39 | AK9: cache 50 | AL9: cache 61 | AM9: cache 71 | AN9: ="" | AO9: ="" | AP9: =""
A10: ="ACEVIA" -> ACEVIA | B10: ="ACEVIA" -> ACEVIA | C10: ="Client" -> Client | D10: ="GR" -> GR | E10: ="CF" -> CF | F10: 40521 | G10: 401768 | I10: =MATCH(B10,Feuil2!A$2:A$10,0) -> 8 | J10: =IF(OR(ISERROR(I10),M10=1),REPT("Manuel ",M10),INDEX(Feuil2!A$1:L$10,I10+1,12)*L10) -> Manuel | K10: =INDEX(Feuil2!A$1:L$10,I10+1,3) -> Route Martin | L10: =IF(AC10&", "&AF10&", "&AE10=K10,1,0) -> 0 | M10: =IF(AC10=K10,1,0) -> 1 | N10: ="" | O10: ="" | P10: ="" | Q10: ="" | R10: ="" | S10: ="" | T10: ="" | U10: ="03" -> 03 | V10: ="Virement" -> Virement | W10: ="" | X10: ="" | Y10: ="" | Z10: cache9 | AA10: cache 19 | AB10: ="" | AC10: Route Martin | AD10: ="" | AE10: ="12550" -> 12550 | AF10: ="COUPIAC" -> COUPIAC | AG10: ="FR" -> FR | AH10: cache 29 | AI10: ="" | AJ10: cache 40 | AK10: cache 51 | AL10: cache 62 | AM10: cache 72 | AN10: ="" | AO10: ="" | AP10: =""
A11: ="ACH.BERTRA" -> ACH.BERTRA | B11: ="ACHILLE BERTRAND ETS" -> ACHILLE BERTRAND ETS | C11: ="Client" -> Client | D11: ="GR" -> GR | E11: ="CF" -> CF | F11: 40521 | G11: 401768 | I11: =MATCH(B11,Feuil2!A$2:A$10,0) -> 9 | J11: =IF(OR(ISERROR(I11),M11=1),REPT("Manuel ",M11),INDEX(Feuil2!A$1:L$10,I11+1,12)*L11) -> 23676 | K11: =INDEX(Feuil2!A$1:L$10,I11+1,3) -> ZI du Bois Joly, LES HERBIERS, 85500 | L11: =IF(AC11&", "&AF11&", "&AE11=K11,1,0) -> 1 | M11: =IF(AC11=K11,1,0) -> 0 | N11: ="" | O11: ="" | P11: ="" | Q11: ="" | R11: ="" | S11: ="" | T11: ="" | U11: ="03" -> 03 | V11: ="Virement" -> Virement | W11: ="" | X11: ="" | Y11: ="" | Z11: cache10 | AA11: cache 20 | AB11: ="" | AC11: ZI du Bois Joly | AD11: ="" | AE11: ="85500" -> 85500 | AF11: ="LES HERBIERS" -> LES HERBIERS | AG11: ="FR" -> FR | AH11: cache 30 | AI11: ="" | AJ11: cache 41 | AK11: cache 52 | AL11: cache 63 | AM11: cache 73 | AN11: ="" | AO11: ="" | AP11: =""
A12: ="ACHERE" -> ACHERE | B12: ="ACHERE JM" -> ACHERE JM | C12: ="Client" -> Client | D12: ="GR" -> GR | E12: ="CF" -> CF | F12: 40521 | G12: 401768 | I12: =MATCH(B12,Feuil2!A$2:A$10,0) -> #N/A | J12: =IF(OR(ISERROR(I12),M12=1),REPT("Manuel ",M12),INDEX(Feuil2!A$1:L$10,I12+1,12)*L12) -> #N/A | K12: =INDEX(Feuil2!A$1:L$10,I12+1,3) -> #N/A | L12: =IF(AC12&", "&AF12&", "&AE12=K12,1,0) -> #N/A | M12: =IF(AC12=K12,1,0) -> #N/A | N12: ="" | O12: ="" | P12: ="" | Q12: ="" | R12: ="" | S12: ="" | T12: ="" | U12: ="03" -> 03 | V12: ="Virement" -> Virement | W12: ="" | X12: ="" | Y12: ="" | Z12: ="" | AA12: ="" | AB12: ="" | AC12: ="" | AD12: ="" | ... AF12: ="" | AG12: ="FR" -> FR | AH12: ="" | AI12: ="" | AJ12: cache 42 | AK12: cache 53 | AL12: cache 64 | AM12: cache 74 | AN12: ="" | AO12: ="" | AP12: =""
B15: Principe: la colonne J ressortira l'ID | G15: La colonne I peut | K15: sur ces colonnes de I à M | L15: Les colonnes
B16: si l'adresse en Feuil2 est exactement | G16: être masquée | K16: voir Mise en Forme | L16: L à M peuvent
B17: la même qu'en Feuil1 | K17: conditionnelle | L17: être masquées
J19: Si Manuel
J20: adresse incomplète
J21: à vérifier et modifier
J22: sur Feuil2 pour pouvoir
J23: valider le code ID

Sheet Feuil2
A1: Nom complet | C1: Adresse | G1: Code Pays | L1: ID
A2: 3 PETITS COCHONS | B2: CLIENT | C2: 6 PLACE GERMINAL, AUCHY LES MINES, 62138 | D2: 0 | E2: 0 | G2: FR | K2: cache 1 | L2: 23667
A3: A LA SOURCE | B3: CLIENT | C3: Place des Cordeliers, SARREBOURG, 57400 | D3: 0 | E3: 0 | G3: FR | I3: cache 9 | K3: cache 2 | L3: 23674
A4: ABC FOODS | B4: CLIENT | C4: MIN de brienne - Bureau n°11, BORDEAUX, 33076 | D4: 0 | E4: 0 | G4: FR | I4: cache 10 | K4: cache 3 | L4: 23673
A5: ABSALOM & TRIBE | B5: CLIENT | C5: 21-23 Central Markets - Smithfield, LONDON, EC1A9AN | D5: 0 | E5: 0 | G5: GB | I5: cache 11 | K5: cache 4 | L5: 23669
A6: AC RECR SP PORTUGAISE CA | B6: CLIENT | C6: 23 rue Ernest Lepot, CAMBRAI, 59400 | D6: 0 | E6: 0 | G6: FR | I6: cache 12 | J6: cache 17 | K6: cache 5 | L6: 23670
A7: ACAMAS | B7: CLIENT | C7: 33 RUE DE MIROMESNIL, PARIS, 75008 | D7: 0 | E7: 0 | G7: FR | I7: cache 13 | K7: cache 6 | L7: 23672
A8: ACCPN | B8: CLIENT | C8: 33, rue des rosiers, COLOMBES, 92700 | D8: 0 | E8: 0 | G8: FR | I8: cache 14 | K8: cache 7 | L8: 23671
A9: ACEVIA | B9: CLIENT | C9: Route Martin | D9: 0 | E9: 0 | G9: FR | I9: cache 15 | K9: cache 8 | L9: 23675
A10: ACHILLE BERTRAND ETS | B10: CLIENT | C10: ZI du Bois Joly, LES HERBIERS, 85500 | D10: 0 | E10: 0 | G10: FR | I10: cache 16 | K10: cache 9 | L10: 23676
