Workbook

Sheet Données
A1: S/N | B1: DATE | C1: AE | D1: RE | E1: F1 | F1: F2 | G1: REB | H1: Total | I1: Colonne1
A2: 100000236389 | B2: 40064.577 | C2: 0 | D2: 1 | E2: 0 | F2: 0 | G2: 0 | H2: RE | I2: =TEXT(Tableau2[[#This Row],[DATE]],"jj/mm/aaaa") -> 08/09/2009
A3: 100000244197 | B3: 40191.602 | C3: 0 | D3: 1 | E3: 0 | F3: 0 | G3: 0 | H3: RE | I3: =TEXT(Tableau2[[#This Row],[DATE]],"jj/mm/aaaa") -> 13/01/2010
A4: 100000245166 | B4: 40213.299 | C4: 0 | D4: 1 | E4: 0 | F4: 0 | G4: 0 | H4: RE | I4: =TEXT(Tableau2[[#This Row],[DATE]],"jj/mm/aaaa") -> 04/02/2010
A5: 100000245162 | B5: 40214.067 | C5: 0 | D5: 1 | E5: 0 | F5: 0 | G5: 0 | H5: RE | I5: =TEXT(Tableau2[[#This Row],[DATE]],"jj/mm/aaaa") -> 05/02/2010
A6: 100000245169 | B6: 40215.144 | C6: 0 | D6: 1 | E6: 0 | F6: 0 | G6: 0 | H6: RE | I6: =TEXT(Tableau2[[#This Row],[DATE]],"jj/mm/aaaa") -> 06/02/2010
A7: 100000246434 | B7: 40217.608 | C7: 0 | D7: 1 | E7: 0 | F7: 0 | G7: 0 | H7: RE | I7: =TEXT(Tableau2[[#This Row],[DATE]],"jj/mm/aaaa") -> 08/02/2010
A8: 100000245164 | B8: 40232.167 | C8: 0 | D8: 1 | E8: 0 | F8: 0 | G8: 0 | H8: RE | I8: =TEXT(Tableau2[[#This Row],[DATE]],"jj/mm/aaaa") -> 23/02/2010
A9: 100000245823 | B9: 40233.477 | C9: 0 | D9: 1 | E9: 0 | F9: 0 | G9: 0 | H9: RE | I9: =TEXT(Tableau2[[#This Row],[DATE]],"jj/mm/aaaa") -> 24/02/2010
A10: 100000245170 | B10: 40233.611 | C10: 0 | D10: 1 | E10: 0 | F10: 0 | G10: 0 | H10: RE | I10: =TEXT(Tableau2[[#This Row],[DATE]],"jj/mm/aaaa") -> 24/02/2010
A11: 100000246428 | B11: 40235.557 | C11: 0 | D11: 1 | E11: 0 | F11: 0 | G11: 0 | H11: RE | I11: =TEXT(Tableau2[[#This Row],[DATE]],"jj/mm/aaaa") -> 26/02/2010
A12: 100000248255 | B12: 40235.986 | C12: 0 | D12: 1 | E12: 0 | F12: 0 | G12: 0 | H12: RE | I12: =TEXT(Tableau2[[#This Row],[DATE]],"jj/mm/aaaa") -> 26/02/2010
A13: 100000248255 | B13: 40236.02 | C13: 0 | D13: 1 | E13: 0 | F13: 0 | G13: 0 | H13: RE | I13: =TEXT(Tableau2[[#This Row],[DATE]],"jj/mm/aaaa") -> 27/02/2010
... A102: 100000269697 | B102: 40576.007 | C102: 1 | D102: 0 | E102: 0 | F102: 0 | G102: 0 | H102: AE | I102: =TEXT(Tableau2[[#This Row],[DATE]],"jj/mm/aaaa") -> 02/02/2011

Sheet Résultat
A1: *2010
A3: Total | B3: AE | C3: RE | D3: F2 | E3: F1 | F3: REB
A4: =SUM(B4:F4) -> 86 | B4: =COUNTIFS(Données!H:H,"AE",Données!I:I,A1) -> 9 | C4: =COUNTIFS(Données!H:H,"RE",Données!I:I,A1) -> 77 | D4: =COUNTIFS(Données!H:H,"F2") -> 0 | E4: =COUNTIFS(Données!H:H,"F1") -> 0 | F4: =COUNTIFS(Données!H:H,"REB") -> 0
B9: Note: Fait pour AE et RE
B10: ici la cellule A1 est basée sur l'année mais jour/mois/année ou mois/année est possible.
B11: Exemple 26/02/2010 ou 11/2010
B12: La colonne I en feuille Données peut être démasquée
