Workbook

Sheet Feuil1
C3: DT
C4: 3734
C5: 2964
C6: 4077
C7: 2476
C8: 6993
C9: 7696
C10: 9706
C11: 9663
C12: 9450
C14: 8926
C15: 8927
C16: 3064.011
... C38: 9274

Sheet Feuil2
E3: DT
A4: =COUNTIF(Feuil1!C$4:C$38,SUM(LEFT(E4,4)))>0 -> TRUE | E4: 3734,001 | I4: ce numéro figure sur la feuil1 mais il y a une décimale. Je voudrais que : si les 4 premiers chiffres sont dans la colonne Feuil 2 alors elle se coloris
A5: =COUNTIF(Feuil1!C$4:C$38,SUM(LEFT(E5,4)))>0 -> TRUE | E5: 9273,006
A6: =COUNTIF(Feuil1!C$4:C$38,SUM(LEFT(E6,4)))>0 -> TRUE | E6: 3801/3802
A7: =COUNTIF(Feuil1!C$4:C$38,SUM(LEFT(E7,4)))>0 -> FALSE
A8: =COUNTIF(Feuil1!C$4:C$38,SUM(LEFT(E8,4)))>0 -> FALSE | E8: 9648.100
A9: =COUNTIF(Feuil1!C$4:C$38,SUM(LEFT(E9,4)))>0 -> TRUE | E9: 9663.002
A10: =COUNTIF(Feuil1!C$4:C$38,SUM(LEFT(E10,4)))>0 -> FALSE | E10: 8441.401 | I10: Note: Fait pour un nombre de 4 chiffres
A11: =COUNTIF(Feuil1!C$4:C$38,SUM(LEFT(E11,4)))>0 -> FALSE | E11: 8147.002
A12: =COUNTIF(Feuil1!C$4:C$38,SUM(LEFT(E12,4)))>0 -> TRUE | E12: 6993
A13: =COUNTIF(Feuil1!C$4:C$38,SUM(LEFT(E13,4)))>0 -> FALSE | E13: 9592.007
A14: =COUNTIF(Feuil1!C$4:C$38,SUM(LEFT(E14,4)))>0 -> TRUE | E14: 9450.018
A15: =COUNTIF(Feuil1!C$4:C$38,SUM(LEFT(E15,4)))>0 -> FALSE | E15: 2942,001/A
A16: =COUNTIF(Feuil1!C$4:C$38,SUM(LEFT(E16,4)))>0 -> FALSE | E16: 9618.000/A
A17: =COUNTIF(Feuil1!C$4:C$38,SUM(LEFT(E17,4)))>0 -> FALSE | E17: 8301.004
A18: =COUNTIF(Feuil1!C$4:C$38,SUM(LEFT(E18,4)))>0 -> FALSE | E18: 3782
A19: =COUNTIF(Feuil1!C$4:C$38,SUM(LEFT(E19,4)))>0 -> FALSE | E19: 2881.001/A
A20: =COUNTIF(Feuil1!C$4:C$38,SUM(LEFT(E20,4)))>0 -> FALSE | E20: 2392.011
A21: =COUNTIF(Feuil1!C$4:C$38,SUM(LEFT(E21,4)))>0 -> FALSE | E21: 5044
A22: =COUNTIF(Feuil1!C$4:C$38,SUM(LEFT(E22,4)))>0 -> TRUE | E22: 5041
A23: =COUNTIF(Feuil1!C$4:C$38,SUM(LEFT(E23,4)))>0 -> FALSE | E23: 9423,019
A24: =COUNTIF(Feuil1!C$4:C$38,SUM(LEFT(E24,4)))>0 -> FALSE | E24: 9423,002
A25: =COUNTIF(Feuil1!C$4:C$38,SUM(LEFT(E25,4)))>0 -> FALSE | E25: 8046,501
A26: =COUNTIF(Feuil1!C$4:C$38,SUM(LEFT(E26,4)))>0 -> FALSE | E26: 8023.715
A27: =COUNTIF(Feuil1!C$4:C$38,SUM(LEFT(E27,4)))>0 -> TRUE | E27: 5992,000/C
A28: =COUNTIF(Feuil1!C$4:C$38,SUM(LEFT(E28,4)))>0 -> FALSE | E28: 9793,030
A29: =COUNTIF(Feuil1!C$4:C$38,SUM(LEFT(E29,4)))>0 -> FALSE | E29: 9793.011
A30: =COUNTIF(Feuil1!C$4:C$38,SUM(LEFT(E30,4)))>0 -> FALSE | E30: 9793,020
A31: =COUNTIF(Feuil1!C$4:C$38,SUM(LEFT(E31,4)))>0 -> FALSE | E31: 7888
A32: =COUNTIF(Feuil1!C$4:C$38,SUM(LEFT(E32,4)))>0 -> FALSE | E32: 7889
