Workbook

Sheet MODELE
A2: HEURE départ | B2: DOSSARD | C2: CAVALIER | D2: ÉQUIDÉ | E2: CLUB | F2: Penalités dressage | G2: Obst. | H2: Obst. | I2: Obst. | J2: Obst. | K2: Obst. | L2: Obst. | M2: Obst. | N2: Obst. | O2: Obst. | P2: Obst. | Q2: Obst. | R2: Obst. | S2: Obst. | T2: Obst. | U2: Obst. | V2: Obst. | W2: Fautes aux obstacles | X2: Temps du parcours | Y2: Résultat du parcours | Z2: Pénalités de temps | AA2: TOTAL Pénalités | AB2: TOTAL Temps | AD2: Total des pénalités en temps | AH2: Classement | AK2: temps mini | AL2: temps maxi | AM2: chrono | AO2: delta | AQ2: Seconde
AK3: 0.00017361111 | AL3: 0.0014467593 | AM3: min:sec,millieme | AO3: min:sec,millieme | AQ3: de pénalité
B4: 1201 | C4: CLEMENT GUILLAUME | D4: SAIDAM II | E4: E E AURORE FERIGNAC (91) | T4: 4 | W4: =IF(ISBLANK(C4),"",SUM(G4:V4)) -> 4 | X4: 0.0012710648 | Y4: Parcours fini | Z4: =IF(ISBLANK(X4),"",IF(AND(AM4<AK4),(AQ4*$AS$5),IF(AND(AM4>AL4),(AQ4*$AS$4),IF(AND(AM4>=AK4,AM4<AL4),(AQ4*$AS$6),"0")))) -> 1 | AA4: =IF(ISBLANK(X4),"",W4+Z4+F4) -> 5 | AB4: =IF(ISBLANK(X4),"",X4) -> 0.0012710648 | AC4: =IF(ISBLANK(X4),"",IF(AND(AN4=""),"1",IF(AND(AN4="+"),"2",IF(AND(AN4="-"),"3")))) -> 3 | AD4: =IF(ISBLANK(X4),"",(AA4/86400)) -> 5.787037e-05 | AE4: =IF(ISBLANK(X4),"",IF(AN4="",(($AL$3-AB4)+(AA4/86400)),IF(AN4="+",((AB4+(AA4/86400))+"00:00,000"),IF(AN4="-",((AB4+(AA4/86400))+"00:00,000"))))) -> 0.0013289352 | AF4: =IF(ISBLANK(X4),"",IF(AN4="",(AD4+(AL4-X4)),IF(AN4="+",(AD4+(X4-AL4)),IF(AN4="-",(AD4+(AK4-X4+AK3)))))) -> 0.00023356481 | AG4: =IF(ISBLANK(X4),"",((AF4/86400)+AA4)) -> 5 | AH4: =IF(ISBLANK(X4),"",RANK((AG4),$AG$4:$AG$128,1)) -> 8 | AK4: =IF(ISBLANK(C4),"",($AL$3-$AK$3)) -> 0.0012731481 | AL4: =IF(ISBLANK(C4),"",$AL$3) -> 0.0014467593 | AM4: =IF(ISBLANK(X4),"",X4) -> 0.0012710648 | AN4: =IF(ISBLANK(X4),"",IF(AND(AM4<AK4),"-",IF(AND(AM4>AL4),"+",IF(AND(AM4>=AK4,AM4<=AL4),"")))) -> - | AO4: =IF(ISBLANK(X4),"",IF(AND(AM4<AK4),(AK4-AM4),IF(AND(AM4>AL4),(AM4-AL4),IF(AND(AM4>=AK4,AM4<=AL4),"00:00,000")))) -> 2.0833333e-06 | AP4: =IF(ISBLANK(X4),"",IF(AND(AM4<AK4),"-",IF(AND(AM4>AL4),"+",IF(AND(AM4>=AK4,AM4<=AL4),"")))) -> - | AQ4: =IF(ISBLANK(X4),"",ROUNDUP(AO4*86399,0)) -> 1 | AR4: Si supérieur au temps max : 0,4 pt / sec | AS4: 0.4 | AU4: Abandon
B5: 1202 | C5: LUCILE CLEMENT | D5: UTOPY | E5: ECURIES DE LA ROCHE (78) | T5: 12 | W5: =IF(ISBLANK(C5),"",SUM(G5:V5)) -> 12 | X5: 0.0018792824 | Y5: Parcours fini | Z5: =IF(ISBLANK(X5),"",IF(AND(AM5<AK5),(AQ5*$AS$5),IF(AND(AM5>AL5),(AQ5*$AS$4),IF(AND(AM5>=AK5,AM5<AL5),(AQ5*$AS$6),"0")))) -> 15.2 | AA5: =IF(ISBLANK(X5),"",W5+Z5+F5) -> 27.2 | AB5: =IF(ISBLANK(X5),"",X5) -> 0.0018792824 | AC5: =IF(ISBLANK(X5),"",IF(AND(AN5=""),"1",IF(AND(AN5="+"),"2",IF(AND(AN5="-"),"3")))) -> 2 | AD5: =IF(ISBLANK(X5),"",(AA5/86400)) -> 0.00031481481 | AE5: =IF(ISBLANK(X5),"",IF(AN5="",(($AL$3-AB5)+(AA5/86400)),IF(AN5="+",((AB5+(AA5/86400))+"00:00,000"),IF(AN5="-",((AB5+(AA5/86400))+"00:00,000"))))) -> 0.0021940972 | AF5: =IF(ISBLANK(X5),"",IF(AN5="",(AD5+(AL5-X5)),IF(AN5="+",(AD5+(X5-AL5)),IF(AN5="-",(AD5+(AK5-X5+AK4)))))) -> 0.00074733796 | AG5: =IF(ISBLANK(X5),"",((AF5/86400)+AA5)) -> 27.2 | AH5: =IF(ISBLANK(X5),"",RANK((AG5),$AG$4:$AG$128,1)) -> 16 | AK5: =IF(ISBLANK(C5),"",($AL$3-$AK$3)) -> 0.0012731481 | AL5: =IF(ISBLANK(C5),"",$AL$3) -> 0.0014467593 | AM5: =IF(ISBLANK(X5),"",X5) -> 0.0018792824 | AN5: =IF(ISBLANK(X5),"",IF(AND(AM5<AK5),"-",IF(AND(AM5>AL5),"+",IF(AND(AM5>=AK5,AM5<=AL5),"")))) -> + | AO5: =IF(ISBLANK(X5),"",IF(AND(AM5<AK5),(AK5-AM5),IF(AND(AM5>AL5),(AM5-AL5),IF(AND(AM5>=AK5,AM5<=AL5),"00:00,000")))) -> 0.00043252315 | AP5: =IF(ISBLANK(X5),"",IF(AND(AM5<AK5),"-",IF(AND(AM5>AL5),"+",IF(AND(AM5>=AK5,AM5<=AL5),"")))) -> + | AQ5: =IF(ISBLANK(X5),"",ROUNDUP(AO5*86399,0)) -> 38 | AR5: Si inférieur au temps mini : 1 point par seconde | AS5: 1 | AU5: Chute
B6: 1203 | C6: MARIE PARIZY | D6: DAISY | E6: PONEY CLUB ECURIES DE JOUY (77) | T6: 4 | W6: =IF(ISBLANK(C6),"",SUM(G6:V6)) -> 4 | X6: 0.0013710648 | Y6: Parcours fini | Z6: =IF(ISBLANK(X6),"",IF(AND(AM6<AK6),(AQ6*$AS$5),IF(AND(AM6>AL6),(AQ6*$AS$4),IF(AND(AM6>=AK6,AM6<AL6),(AQ6*$AS$6),"0")))) -> 0 | AA6: =IF(ISBLANK(X6),"",W6+Z6+F6) -> 4 | AB6: =IF(ISBLANK(X6),"",X6) -> 0.0013710648 | AC6: =IF(ISBLANK(X6),"",IF(AND(AN6=""),"1",IF(AND(AN6="+"),"2",IF(AND(AN6="-"),"3")))) -> 1 | AD6: =IF(ISBLANK(X6),"",(AA6/86400)) -> 4.6296296e-05 | AE6: =IF(ISBLANK(X6),"",IF(AN6="",(($AL$3-AB6)+(AA6/86400)),IF(AN6="+",((AB6+(AA6/86400))+"00:00,000"),IF(AN6="-",((AB6+(AA6/86400))+"00:00,000"))))) -> 0.00012199074 | AF6: =IF(ISBLANK(X6),"",IF(AN6="",(AD6+(AL6-X6)),IF(AN6="+",(AD6+(X6-AL6)),IF(AN6="-",(AD6+(AK6-X6+AK5)))))) -> 0.00012199074 | AG6: =IF(ISBLANK(X6),"",((AF6/86400)+AA6)) -> 4 | AH6: =IF(ISBLANK(X6),"",RANK((AG6),$AG$4:$AG$128,1)) -> 6 | AK6: =IF(ISBLANK(C6),"",($AL$3-$AK$3)) -> 0.0012731481 | AL6: =IF(ISBLANK(C6),"",$AL$3) -> 0.0014467593 | AM6: =IF(ISBLANK(X6),"",X6) -> 0.0013710648 | AN6: =IF(ISBLANK(X6),"",IF(AND(AM6<AK6),"-",IF(AND(AM6>AL6),"+",IF(AND(AM6>=AK6,AM6<=AL6),"")))) | AO6: =IF(ISBLANK(X6),"",IF(AND(AM6<AK6),(AK6-AM6),IF(AND(AM6>AL6),(AM6-AL6),IF(AND(AM6>=AK6,AM6<=AL6),"00:00,000")))) -> 00:00,000 | AP6: =IF(ISBLANK(X6),"",IF(AND(AM6<AK6),"-",IF(AND(AM6>AL6),"+",IF(AND(AM6>=AK6,AM6<=AL6),"")))) | AQ6: =IF(ISBLANK(X6),"",ROUNDUP(AO6*86399,0)) -> 0 | AR6: Si compris entre Tps max et temps mini = 0 | AS6: 0 | AU6: Eliminé
B7: 1204 | C7: SOPHIE SAHYOUN LEGGIERI | D7: BEAUTY NIGHT MARY | E7: ECURIES DE CONDE (94) | T7: 0 | W7: =IF(ISBLANK(C7),"",SUM(G7:V7)) -> 0 | Y7: Eliminé | Z7: =IF(ISBLANK(X7),"",IF(AND(AM7<AK7),(AQ7*$AS$5),IF(AND(AM7>AL7),(AQ7*$AS$4),IF(AND(AM7>=AK7,AM7<AL7),(AQ7*$AS$6),"0")))) | AA7: =IF(ISBLANK(X7),"",W7+Z7+F7) | AB7: =IF(ISBLANK(X7),"",X7) | AC7: =IF(ISBLANK(X7),"",IF(AND(AN7=""),"1",IF(AND(AN7="+"),"2",IF(AND(AN7="-"),"3")))) | AD7: =IF(ISBLANK(X7),"",(AA7/86400)) | AE7: =IF(ISBLANK(X7),"",IF(AN7="",(($AL$3-AB7)+(AA7/86400)),IF(AN7="+",((AB7+(AA7/86400))+"00:00,000"),IF(AN7="-",((AB7+(AA7/86400))+"00:00,000"))))) | AF7: =IF(ISBLANK(X7),"",IF(AN7="",(AD7+(AL7-X7)),IF(AN7="+",(AD7+(X7-AL7)),IF(AN7="-",(AD7+(AK7-X7+AK6)))))) | AG7: =IF(ISBLANK(X7),"",((AF7/86400)+AA7)) | AH7: =IF(ISBLANK(X7),"",RANK((AG7),$AG$4:$AG$128,1)) | AK7: =IF(ISBLANK(C7),"",($AL$3-$AK$3)) -> 0.0012731481 | AL7: =IF(ISBLANK(C7),"",$AL$3) -> 0.0014467593 | AM7: =IF(ISBLANK(X7),"",X7) | AN7: =IF(ISBLANK(X7),"",IF(AND(AM7<AK7),"-",IF(AND(AM7>AL7),"+",IF(AND(AM7>=AK7,AM7<=AL7),"")))) | AO7: =IF(ISBLANK(X7),"",IF(AND(AM7<AK7),(AK7-AM7),IF(AND(AM7>AL7),(AM7-AL7),IF(AND(AM7>=AK7,AM7<=AL7),"00:00,000")))) | AP7: =IF(ISBLANK(X7),"",IF(AND(AM7<AK7),"-",IF(AND(AM7>AL7),"+",IF(AND(AM7>=AK7,AM7<=AL7),"")))) | AQ7: =IF(ISBLANK(X7),"",ROUNDUP(AO7*86399,0)) | AU7: Non Partant
B8: 1205 | C8: JANE NORBURY | D8: DALASKANE DU PARK | E8: ECURIE DE LA BOISSIERE (77) | T8: 0 | W8: =IF(ISBLANK(C8),"",SUM(G8:V8)) -> 0 | Y8: Chute | Z8: =IF(ISBLANK(X8),"",IF(AND(AM8<AK8),(AQ8*$AS$5),IF(AND(AM8>AL8),(AQ8*$AS$4),IF(AND(AM8>=AK8,AM8<AL8),(AQ8*$AS$6),"0")))) | AA8: =IF(ISBLANK(X8),"",W8+Z8+F8) | AB8: =IF(ISBLANK(X8),"",X8) | AC8: =IF(ISBLANK(X8),"",IF(AND(AN8=""),"1",IF(AND(AN8="+"),"2",IF(AND(AN8="-"),"3")))) | AD8: =IF(ISBLANK(X8),"",(AA8/86400)) | AE8: =IF(ISBLANK(X8),"",IF(AN8="",(($AL$3-AB8)+(AA8/86400)),IF(AN8="+",((AB8+(AA8/86400))+"00:00,000"),IF(AN8="-",((AB8+(AA8/86400))+"00:00,000"))))) | AF8: =IF(ISBLANK(X8),"",IF(AN8="",(AD8+(AL8-X8)),IF(AN8="+",(AD8+(X8-AL8)),IF(AN8="-",(AD8+(AK8-X8+AK7)))))) | AG8: =IF(ISBLANK(X8),"",((AF8/86400)+AA8)) | AH8: =IF(ISBLANK(X8),"",RANK((AG8),$AG$4:$AG$128,1)) | AK8: =IF(ISBLANK(C8),"",($AL$3-$AK$3)) -> 0.0012731481 | AL8: =IF(ISBLANK(C8),"",$AL$3) -> 0.0014467593 | AM8: =IF(ISBLANK(X8),"",X8) | AN8: =IF(ISBLANK(X8),"",IF(AND(AM8<AK8),"-",IF(AND(AM8>AL8),"+",IF(AND(AM8>=AK8,AM8<=AL8),"")))) | AO8: =IF(ISBLANK(X8),"",IF(AND(AM8<AK8),(AK8-AM8),IF(AND(AM8>AL8),(AM8-AL8),IF(AND(AM8>=AK8,AM8<=AL8),"00:00,000")))) | AP8: =IF(ISBLANK(X8),"",IF(AND(AM8<AK8),"-",IF(AND(AM8>AL8),"+",IF(AND(AM8>=AK8,AM8<=AL8),"")))) | AQ8: =IF(ISBLANK(X8),"",ROUNDUP(AO8*86399,0)) | AU8: Parcours fini
B9: 1206 | C9: ANDREA FOUILLOT | D9: LOCKYDOR | E9: ECURIES DE VILLECRESNES (94) | T9: 0 | W9: =IF(ISBLANK(C9),"",SUM(G9:V9)) -> 0 | X9: 0.0012063657 | Y9: Parcours fini | Z9: =IF(ISBLANK(X9),"",IF(AND(AM9<AK9),(AQ9*$AS$5),IF(AND(AM9>AL9),(AQ9*$AS$4),IF(AND(AM9>=AK9,AM9<AL9),(AQ9*$AS$6),"0")))) -> 6 | AA9: =IF(ISBLANK(X9),"",W9+Z9+F9) -> 6 | AB9: =IF(ISBLANK(X9),"",X9) -> 0.0012063657 | AC9: =IF(ISBLANK(X9),"",IF(AND(AN9=""),"1",IF(AND(AN9="+"),"2",IF(AND(AN9="-"),"3")))) -> 3 | AD9: =IF(ISBLANK(X9),"",(AA9/86400)) -> 6.9444444e-05 | AE9: =IF(ISBLANK(X9),"",IF(AN9="",(($AL$3-AB9)+(AA9/86400)),IF(AN9="+",((AB9+(AA9/86400))+"00:00,000"),IF(AN9="-",((AB9+(AA9/86400))+"00:00,000"))))) -> 0.0012758102 | AF9: =IF(ISBLANK(X9),"",IF(AN9="",(AD9+(AL9-X9)),IF(AN9="+",(AD9+(X9-AL9)),IF(AN9="-",(AD9+(AK9-X9+AK8)))))) -> 0.001409375 | AG9: =IF(ISBLANK(X9),"",((AF9/86400)+AA9)) -> 6 | AH9: =IF(ISBLANK(X9),"",RANK((AG9),$AG$4:$AG$128,1)) -> 10 | AK9: =IF(ISBLANK(C9),"",($AL$3-$AK$3)) -> 0.0012731481 | AL9: =IF(ISBLANK(C9),"",$AL$3) -> 0.0014467593 | AM9: =IF(ISBLANK(X9),"",X9) -> 0.0012063657 | AN9: =IF(ISBLANK(X9),"",IF(AND(AM9<AK9),"-",IF(AND(AM9>AL9),"+",IF(AND(AM9>=AK9,AM9<=AL9),"")))) -> - | AO9: =IF(ISBLANK(X9),"",IF(AND(AM9<AK9),(AK9-AM9),IF(AND(AM9>AL9),(AM9-AL9),IF(AND(AM9>=AK9,AM9<=AL9),"00:00,000")))) -> 6.6782407e-05 | AP9: =IF(ISBLANK(X9),"",IF(AND(AM9<AK9),"-",IF(AND(AM9>AL9),"+",IF(AND(AM9>=AK9,AM9<=AL9),"")))) -> - | AQ9: =IF(ISBLANK(X9),"",ROUNDUP(AO9*86399,0)) -> 6
B10: 1207 | C10: JULIE ANDRE | D10: LOUBLUE | E10: ECURIE DE LA BOISSIERE (77) | T10: 4 | W10: =IF(ISBLANK(C10),"",SUM(G10:V10)) -> 4 | X10: 0.0012989583 | Y10: Parcours fini | Z10: =IF(ISBLANK(X10),"",IF(AND(AM10<AK10),(AQ10*$AS$5),IF(AND(AM10>AL10),(AQ10*$AS$4),IF(AND(AM10>=AK10,AM10<AL10),(AQ10*$AS$6),"0")))) -> 0 | AA10: =IF(ISBLANK(X10),"",W10+Z10+F10) -> 4 | AB10: =IF(ISBLANK(X10),"",X10) -> 0.0012989583 | AC10: =IF(ISBLANK(X10),"",IF(AND(AN10=""),"1",IF(AND(AN10="+"),"2",IF(AND(AN10="-"),"3")))) -> 1 | AD10: =IF(ISBLANK(X10),"",(AA10/86400)) -> 4.6296296e-05 | AE10: =IF(ISBLANK(X10),"",IF(AN10="",(($AL$3-AB10)+(AA10/86400)),IF(AN10="+",((AB10+(AA10/86400))+"00:00,000"),IF(AN10="-",((AB10+(AA10/86400))+"00:00,000"))))) -> 0.00019409722 | AF10: =IF(ISBLANK(X10),"",IF(AN10="",(AD10+(AL10-X10)),IF(AN10="+",(AD10+(X10-AL10)),IF(AN10="-",(AD10+(AK10-X10+AK9)))))) -> 0.00019409722 | AG10: =IF(ISBLANK(X10),"",((AF10/86400)+AA10)) -> 4 | AH10: =IF(ISBLANK(X10),"",RANK((AG10),$AG$4:$AG$128,1)) -> 7 | AK10: =IF(ISBLANK(C10),"",($AL$3-$AK$3)) -> 0.0012731481 | AL10: =IF(ISBLANK(C10),"",$AL$3) -> 0.0014467593 | AM10: =IF(ISBLANK(X10),"",X10) -> 0.0012989583 | AN10: =IF(ISBLANK(X10),"",IF(AND(AM10<AK10),"-",IF(AND(AM10>AL10),"+",IF(AND(AM10>=AK10,AM10<=AL10),"")))) | AO10: =IF(ISBLANK(X10),"",IF(AND(AM10<AK10),(AK10-AM10),IF(AND(AM10>AL10),(AM10-AL10),IF(AND(AM10>=AK10,AM10<=AL10),"00:00,000")))) -> 00:00,000 | AP10: =IF(ISBLANK(X10),"",IF(AND(AM10<AK10),"-",IF(AND(AM10>AL10),"+",IF(AND(AM10>=AK10,AM10<=AL10),"")))) | AQ10: =IF(ISBLANK(X10),"",ROUNDUP(AO10*86399,0)) -> 0
B11: 1208 | C11: Laure PICARD | D11: TALIA DES BOURDONS | E11: PONEY CLUB DE REVE (91) | T11: 0 | W11: =IF(ISBLANK(C11),"",SUM(G11:V11)) -> 0 | Y11: Eliminé | Z11: =IF(ISBLANK(X11),"",IF(AND(AM11<AK11),(AQ11*$AS$5),IF(AND(AM11>AL11),(AQ11*$AS$4),IF(AND(AM11>=AK11,AM11<AL11),(AQ11*$AS$6),"0")))) | AA11: =IF(ISBLANK(X11),"",W11+Z11+F11) | AB11: =IF(ISBLANK(X11),"",X11) | AC11: =IF(ISBLANK(X11),"",IF(AND(AN11=""),"1",IF(AND(AN11="+"),"2",IF(AND(AN11="-"),"3")))) | AD11: =IF(ISBLANK(X11),"",(AA11/86400)) | AE11: =IF(ISBLANK(X11),"",IF(AN11="",(($AL$3-AB11)+(AA11/86400)),IF(AN11="+",((AB11+(AA11/86400))+"00:00,000"),IF(AN11="-",((AB11+(AA11/86400))+"00:00,000"))))) | AF11: =IF(ISBLANK(X11),"",IF(AN11="",(AD11+(AL11-X11)),IF(AN11="+",(AD11+(X11-AL11)),IF(AN11="-",(AD11+(AK11-X11+AK10)))))) | AG11: =IF(ISBLANK(X11),"",((AF11/86400)+AA11)) | AH11: =IF(ISBLANK(X11),"",RANK((AG11),$AG$4:$AG$128,1)) | AK11: =IF(ISBLANK(C11),"",($AL$3-$AK$3)) -> 0.0012731481 | AL11: =IF(ISBLANK(C11),"",$AL$3) -> 0.0014467593 | AM11: =IF(ISBLANK(X11),"",X11) | AN11: =IF(ISBLANK(X11),"",IF(AND(AM11<AK11),"-",IF(AND(AM11>AL11),"+",IF(AND(AM11>=AK11,AM11<=AL11),"")))) | AO11: =IF(ISBLANK(X11),"",IF(AND(AM11<AK11),(AK11-AM11),IF(AND(AM11>AL11),(AM11-AL11),IF(AND(AM11>=AK11,AM11<=AL11),"00:00,000")))) | AP11: =IF(ISBLANK(X11),"",IF(AND(AM11<AK11),"-",IF(AND(AM11>AL11),"+",IF(AND(AM11>=AK11,AM11<=AL11),"")))) | AQ11: =IF(ISBLANK(X11),"",ROUNDUP(AO11*86399,0))
B12: 1209 | C12: LEANA BRUNET | D12: BALKAN ROSE | E12: E E AURORE FERIGNAC (91) | T12: 0 | W12: =IF(ISBLANK(C12),"",SUM(G12:V12)) -> 0 | Y12: Eliminé | Z12: =IF(ISBLANK(X12),"",IF(AND(AM12<AK12),(AQ12*$AS$5),IF(AND(AM12>AL12),(AQ12*$AS$4),IF(AND(AM12>=AK12,AM12<AL12),(AQ12*$AS$6),"0")))) | AA12: =IF(ISBLANK(X12),"",W12+Z12+F12) | AB12: =IF(ISBLANK(X12),"",X12) | AC12: =IF(ISBLANK(X12),"",IF(AND(AN12=""),"1",IF(AND(AN12="+"),"2",IF(AND(AN12="-"),"3")))) | AD12: =IF(ISBLANK(X12),"",(AA12/86400)) | AE12: =IF(ISBLANK(X12),"",IF(AN12="",(($AL$3-AB12)+(AA12/86400)),IF(AN12="+",((AB12+(AA12/86400))+"00:00,000"),IF(AN12="-",((AB12+(AA12/86400))+"00:00,000"))))) | AF12: =IF(ISBLANK(X12),"",IF(AN12="",(AD12+(AL12-X12)),IF(AN12="+",(AD12+(X12-AL12)),IF(AN12="-",(AD12+(AK12-X12+AK11)))))) | AG12: =IF(ISBLANK(X12),"",((AF12/86400)+AA12)) | AH12: =IF(ISBLANK(X12),"",RANK((AG12),$AG$4:$AG$128,1)) | AK12: =IF(ISBLANK(C12),"",($AL$3-$AK$3)) -> 0.0012731481 | AL12: =IF(ISBLANK(C12),"",$AL$3) -> 0.0014467593 | AM12: =IF(ISBLANK(X12),"",X12) | AN12: =IF(ISBLANK(X12),"",IF(AND(AM12<AK12),"-",IF(AND(AM12>AL12),"+",IF(AND(AM12>=AK12,AM12<=AL12),"")))) | AO12: =IF(ISBLANK(X12),"",IF(AND(AM12<AK12),(AK12-AM12),IF(AND(AM12>AL12),(AM12-AL12),IF(AND(AM12>=AK12,AM12<=AL12),"00:00,000")))) | AP12: =IF(ISBLANK(X12),"",IF(AND(AM12<AK12),"-",IF(AND(AM12>AL12),"+",IF(AND(AM12>=AK12,AM12<=AL12),"")))) | AQ12: =IF(ISBLANK(X12),"",ROUNDUP(AO12*86399,0))
B13: 1210 | C13: JULIEN LEMAIRE | D13: UTOPE | E13: PONEY CLUB DE ROMORANTIN (41) | T13: 4 | W13: =IF(ISBLANK(C13),"",SUM(G13:V13)) -> 4 | X13: 0.0014876157 | Y13: Parcours fini | Z13: =IF(ISBLANK(X13),"",IF(AND(AM13<AK13),(AQ13*$AS$5),IF(AND(AM13>AL13),(AQ13*$AS$4),IF(AND(AM13>=AK13,AM13<AL13),(AQ13*$AS$6),"0")))) -> 1.6 | AA13: =IF(ISBLANK(X13),"",W13+Z13+F13) -> 5.6 | AB13: =IF(ISBLANK(X13),"",X13) -> 0.0014876157 | AC13: =IF(ISBLANK(X13),"",IF(AND(AN13=""),"1",IF(AND(AN13="+"),"2",IF(AND(AN13="-"),"3")))) -> 2 | AD13: =IF(ISBLANK(X13),"",(AA13/86400)) -> 6.4814815e-05 | AE13: =IF(ISBLANK(X13),"",IF(AN13="",(($AL$3-AB13)+(AA13/86400)),IF(AN13="+",((AB13+(AA13/86400))+"00:00,000"),IF(AN13="-",((AB13+(AA13/86400))+"00:00,000"))))) -> 0.0015524306 | AF13: =IF(ISBLANK(X13),"",IF(AN13="",(AD13+(AL13-X13)),IF(AN13="+",(AD13+(X13-AL13)),IF(AN13="-",(AD13+(AK13-X13+AK12)))))) -> 0.0001056713 | AG13: =IF(ISBLANK(X13),"",((AF13/86400)+AA13)) -> 5.6 | AH13: =IF(ISBLANK(X13),"",RANK((AG13),$AG$4:$AG$128,1)) -> 9 | AK13: =IF(ISBLANK(C13),"",($AL$3-$AK$3)) -> 0.0012731481 | AL13: =IF(ISBLANK(C13),"",$AL$3) -> 0.0014467593 | AM13: =IF(ISBLANK(X13),"",X13) -> 0.0014876157 | AN13: =IF(ISBLANK(X13),"",IF(AND(AM13<AK13),"-",IF(AND(AM13>AL13),"+",IF(AND(AM13>=AK13,AM13<=AL13),"")))) -> + | AO13: =IF(ISBLANK(X13),"",IF(AND(AM13<AK13),(AK13-AM13),IF(AND(AM13>AL13),(AM13-AL13),IF(AND(AM13>=AK13,AM13<=AL13),"00:00,000")))) -> 4.0856481e-05 | AP13: =IF(ISBLANK(X13),"",IF(AND(AM13<AK13),"-",IF(AND(AM13>AL13),"+",IF(AND(AM13>=AK13,AM13<=AL13),"")))) -> + | AQ13: =IF(ISBLANK(X13),"",ROUNDUP(AO13*86399,0)) -> 4
B14: 1211 | C14: OPHELIE SALVATORE | D14: BILBAO SILVER FAME | E14: ECURIE DE LA BOISSIERE (77) | T14: 0 | W14: =IF(ISBLANK(C14),"",SUM(G14:V14)) -> 0 | X14: 0.0014517361 | Y14: Parcours fini | Z14: =IF(ISBLANK(X14),"",IF(AND(AM14<AK14),(AQ14*$AS$5),IF(AND(AM14>AL14),(AQ14*$AS$4),IF(AND(AM14>=AK14,AM14<AL14),(AQ14*$AS$6),"0")))) -> 0.4 | AA14: =IF(ISBLANK(X14),"",W14+Z14+F14) -> 0.4 | AB14: =IF(ISBLANK(X14),"",X14) -> 0.0014517361 | AC14: =IF(ISBLANK(X14),"",IF(AND(AN14=""),"1",IF(AND(AN14="+"),"2",IF(AND(AN14="-"),"3")))) -> 2 | AD14: =IF(ISBLANK(X14),"",(AA14/86400)) -> 4.6296296e-06 | AE14: =IF(ISBLANK(X14),"",IF(AN14="",(($AL$3-AB14)+(AA14/86400)),IF(AN14="+",((AB14+(AA14/86400))+"00:00,000"),IF(AN14="-",((AB14+(AA14/86400))+"00:00,000"))))) -> 0.0014563657 | AF14: =IF(ISBLANK(X14),"",IF(AN14="",(AD14+(AL14-X14)),IF(AN14="+",(AD14+(X14-AL14)),IF(AN14="-",(AD14+(AK14-X14+AK13)))))) -> 9.6064815e-06 | AG14: =IF(ISBLANK(X14),"",((AF14/86400)+AA14)) -> 0.4 | AH14: =IF(ISBLANK(X14),"",RANK((AG14),$AG$4:$AG$128,1)) -> 4 | AK14: =IF(ISBLANK(C14),"",($AL$3-$AK$3)) -> 0.0012731481 | AL14: =IF(ISBLANK(C14),"",$AL$3) -> 0.0014467593 | AM14: =IF(ISBLANK(X14),"",X14) -> 0.0014517361 | AN14: =IF(ISBLANK(X14),"",IF(AND(AM14<AK14),"-",IF(AND(AM14>AL14),"+",IF(AND(AM14>=AK14,AM14<=AL14),"")))) -> + | AO14: =IF(ISBLANK(X14),"",IF(AND(AM14<AK14),(AK14-AM14),IF(AND(AM14>AL14),(AM14-AL14),IF(AND(AM14>=AK14,AM14<=AL14),"00:00,000")))) -> 4.9768519e-06 | AP14: =IF(ISBLANK(X14),"",IF(AND(AM14<AK14),"-",IF(AND(AM14>AL14),"+",IF(AND(AM14>=AK14,AM14<=AL14),"")))) -> + | AQ14: =IF(ISBLANK(X14),"",ROUNDUP(AO14*86399,0)) -> 1
B15: 1212 | C15: VICTOIRE CAGNOT | D15: VOTRE ALTESSE D'OTHON | E15: ECURIES DE CONDE (94) | T15: 4 | W15: =IF(ISBLANK(C15),"",SUM(G15:V15)) -> 4 | X15: 0.0016078704 | Y15: Parcours fini | Z15: =IF(ISBLANK(X15),"",IF(AND(AM15<AK15),(AQ15*$AS$5),IF(AND(AM15>AL15),(AQ15*$AS$4),IF(AND(AM15>=AK15,AM15<AL15),(AQ15*$AS$6),"0")))) -> 5.6 | AA15: =IF(ISBLANK(X15),"",W15+Z15+F15) -> 9.6 | AB15: =IF(ISBLANK(X15),"",X15) -> 0.0016078704 | AC15: =IF(ISBLANK(X15),"",IF(AND(AN15=""),"1",IF(AND(AN15="+"),"2",IF(AND(AN15="-"),"3")))) -> 2 | AD15: =IF(ISBLANK(X15),"",(AA15/86400)) -> 0.00011111111 | AE15: =IF(ISBLANK(X15),"",IF(AN15="",(($AL$3-AB15)+(AA15/86400)),IF(AN15="+",((AB15+(AA15/86400))+"00:00,000"),IF(AN15="-",((AB15+(AA15/86400))+"00:00,000"))))) -> 0.0017189815 | AF15: =IF(ISBLANK(X15),"",IF(AN15="",(AD15+(AL15-X15)),IF(AN15="+",(AD15+(X15-AL15)),IF(AN15="-",(AD15+(AK15-X15+AK14)))))) -> 0.00027222222 | AG15: =IF(ISBLANK(X15),"",((AF15/86400)+AA15)) -> 9.6 | AH15: =IF(ISBLANK(X15),"",RANK((AG15),$AG$4:$AG$128,1)) -> 12 | AK15: =IF(ISBLANK(C15),"",($AL$3-$AK$3)) -> 0.0012731481 | AL15: =IF(ISBLANK(C15),"",$AL$3) -> 0.0014467593 | AM15: =IF(ISBLANK(X15),"",X15) -> 0.0016078704 | AN15: =IF(ISBLANK(X15),"",IF(AND(AM15<AK15),"-",IF(AND(AM15>AL15),"+",IF(AND(AM15>=AK15,AM15<=AL15),"")))) -> + | AO15: =IF(ISBLANK(X15),"",IF(AND(AM15<AK15),(AK15-AM15),IF(AND(AM15>AL15),(AM15-AL15),IF(AND(AM15>=AK15,AM15<=AL15),"00:00,000")))) -> 0.00016111111 | AP15: =IF(ISBLANK(X15),"",IF(AND(AM15<AK15),"-",IF(AND(AM15>AL15),"+",IF(AND(AM15>=AK15,AM15<=AL15),"")))) -> + | AQ15: =IF(ISBLANK(X15),"",ROUNDUP(AO15*86399,0)) -> 14
B16: 1213 | C16: Chloé DESMOND | D16: VICOMTE D'ARTONGES | E16: E E AURORE FERIGNAC (91) | T16: 4 | W16: =IF(ISBLANK(C16),"",SUM(G16:V16)) -> 4 | X16: 0.0016549769 | Y16: Parcours fini | Z16: =IF(ISBLANK(X16),"",IF(AND(AM16<AK16),(AQ16*$AS$5),IF(AND(AM16>AL16),(AQ16*$AS$4),IF(AND(AM16>=AK16,AM16<AL16),(AQ16*$AS$6),"0")))) -> 7.2 | AA16: =IF(ISBLANK(X16),"",W16+Z16+F16) -> 11.2 | AB16: =IF(ISBLANK(X16),"",X16) -> 0.0016549769 | AC16: =IF(ISBLANK(X16),"",IF(AND(AN16=""),"1",IF(AND(AN16="+"),"2",IF(AND(AN16="-"),"3")))) -> 2 | AD16: =IF(ISBLANK(X16),"",(AA16/86400)) -> 0.00012962963 | AE16: =IF(ISBLANK(X16),"",IF(AN16="",(($AL$3-AB16)+(AA16/86400)),IF(AN16="+",((AB16+(AA16/86400))+"00:00,000"),IF(AN16="-",((AB16+(AA16/86400))+"00:00,000"))))) -> 0.0017846065 | AF16: =IF(ISBLANK(X16),"",IF(AN16="",(AD16+(AL16-X16)),IF(AN16="+",(AD16+(X16-AL16)),IF(AN16="-",(AD16+(AK16-X16+AK15)))))) -> 0.00033784722 | AG16: =IF(ISBLANK(X16),"",((AF16/86400)+AA16)) -> 11.2 | AH16: =IF(ISBLANK(X16),"",RANK((AG16),$AG$4:$AG$128,1)) -> 15 | AK16: =IF(ISBLANK(C16),"",($AL$3-$AK$3)) -> 0.0012731481 | AL16: =IF(ISBLANK(C16),"",$AL$3) -> 0.0014467593 | AM16: =IF(ISBLANK(X16),"",X16) -> 0.0016549769 | AN16: =IF(ISBLANK(X16),"",IF(AND(AM16<AK16),"-",IF(AND(AM16>AL16),"+",IF(AND(AM16>=AK16,AM16<=AL16),"")))) -> + | AO16: =IF(ISBLANK(X16),"",IF(AND(AM16<AK16),(AK16-AM16),IF(AND(AM16>AL16),(AM16-AL16),IF(AND(AM16>=AK16,AM16<=AL16),"00:00,000")))) -> 0.00020821759 | AP16: =IF(ISBLANK(X16),"",IF(AND(AM16<AK16),"-",IF(AND(AM16>AL16),"+",IF(AND(AM16>=AK16,AM16<=AL16),"")))) -> + | AQ16: =IF(ISBLANK(X16),"",ROUNDUP(AO16*86399,0)) -> 18
B17: 1214 | C17: MELINA MARQUES | D17: LLANGATTOCK JULIE | E17: E E AURORE FERIGNAC (91) | T17: 0 | W17: =IF(ISBLANK(C17),"",SUM(G17:V17)) -> 0 | Y17: Chute | Z17: =IF(ISBLANK(X17),"",IF(AND(AM17<AK17),(AQ17*$AS$5),IF(AND(AM17>AL17),(AQ17*$AS$4),IF(AND(AM17>=AK17,AM17<AL17),(AQ17*$AS$6),"0")))) | AA17: =IF(ISBLANK(X17),"",W17+Z17+F17) | AB17: =IF(ISBLANK(X17),"",X17) | AC17: =IF(ISBLANK(X17),"",IF(AND(AN17=""),"1",IF(AND(AN17="+"),"2",IF(AND(AN17="-"),"3")))) | AD17: =IF(ISBLANK(X17),"",(AA17/86400)) | AE17: =IF(ISBLANK(X17),"",IF(AN17="",(($AL$3-AB17)+(AA17/86400)),IF(AN17="+",((AB17+(AA17/86400))+"00:00,000"),IF(AN17="-",((AB17+(AA17/86400))+"00:00,000"))))) | AF17: =IF(ISBLANK(X17),"",IF(AN17="",(AD17+(AL17-X17)),IF(AN17="+",(AD17+(X17-AL17)),IF(AN17="-",(AD17+(AK17-X17+AK16)))))) | AG17: =IF(ISBLANK(X17),"",((AF17/86400)+AA17)) | AH17: =IF(ISBLANK(X17),"",RANK((AG17),$AG$4:$AG$128,1)) | AK17: =IF(ISBLANK(C17),"",($AL$3-$AK$3)) -> 0.0012731481 | AL17: =IF(ISBLANK(C17),"",$AL$3) -> 0.0014467593 | AM17: =IF(ISBLANK(X17),"",X17) | AN17: =IF(ISBLANK(X17),"",IF(AND(AM17<AK17),"-",IF(AND(AM17>AL17),"+",IF(AND(AM17>=AK17,AM17<=AL17),"")))) | AO17: =IF(ISBLANK(X17),"",IF(AND(AM17<AK17),(AK17-AM17),IF(AND(AM17>AL17),(AM17-AL17),IF(AND(AM17>=AK17,AM17<=AL17),"00:00,000")))) | AP17: =IF(ISBLANK(X17),"",IF(AND(AM17<AK17),"-",IF(AND(AM17>AL17),"+",IF(AND(AM17>=AK17,AM17<=AL17),"")))) | AQ17: =IF(ISBLANK(X17),"",ROUNDUP(AO17*86399,0))
B18: 1215 | C18: JULIE BECARD | D18: URSA GENTILLE | E18: ECURIE DE LA BOISSIERE (77) | T18: 0 | W18: =IF(ISBLANK(C18),"",SUM(G18:V18)) -> 0 | X18: 0.001319213 | Y18: Parcours fini | Z18: =IF(ISBLANK(X18),"",IF(AND(AM18<AK18),(AQ18*$AS$5),IF(AND(AM18>AL18),(AQ18*$AS$4),IF(AND(AM18>=AK18,AM18<AL18),(AQ18*$AS$6),"0")))) -> 0 | AA18: =IF(ISBLANK(X18),"",W18+Z18+F18) -> 0 | AB18: =IF(ISBLANK(X18),"",X18) -> 0.001319213 | AC18: =IF(ISBLANK(X18),"",IF(AND(AN18=""),"1",IF(AND(AN18="+"),"2",IF(AND(AN18="-"),"3")))) -> 1 | AD18: =IF(ISBLANK(X18),"",(AA18/86400)) -> 0 | AE18: =IF(ISBLANK(X18),"",IF(AN18="",(($AL$3-AB18)+(AA18/86400)),IF(AN18="+",((AB18+(AA18/86400))+"00:00,000"),IF(AN18="-",((AB18+(AA18/86400))+"00:00,000"))))) -> 0.0001275463 | AF18: =IF(ISBLANK(X18),"",IF(AN18="",(AD18+(AL18-X18)),IF(AN18="+",(AD18+(X18-AL18)),IF(AN18="-",(AD18+(AK18-X18+AK17)))))) -> 0.0001275463 | AG18: =IF(ISBLANK(X18),"",((AF18/86400)+AA18)) -> 1.4762303e-09 | AH18: =IF(ISBLANK(X18),"",RANK((AG18),$AG$4:$AG$128,1)) -> 2 | AK18: =IF(ISBLANK(C18),"",($AL$3-$AK$3)) -> 0.0012731481 | AL18: =IF(ISBLANK(C18),"",$AL$3) -> 0.0014467593 | AM18: =IF(ISBLANK(X18),"",X18) -> 0.001319213 | AN18: =IF(ISBLANK(X18),"",IF(AND(AM18<AK18),"-",IF(AND(AM18>AL18),"+",IF(AND(AM18>=AK18,AM18<=AL18),"")))) | AO18: =IF(ISBLANK(X18),"",IF(AND(AM18<AK18),(AK18-AM18),IF(AND(AM18>AL18),(AM18-AL18),IF(AND(AM18>=AK18,AM18<=AL18),"00:00,000")))) -> 00:00,000 | AP18: =IF(ISBLANK(X18),"",IF(AND(AM18<AK18),"-",IF(AND(AM18>AL18),"+",IF(AND(AM18>=AK18,AM18<=AL18),"")))) | AQ18: =IF(ISBLANK(X18),"",ROUNDUP(AO18*86399,0)) -> 0
B19: 1216 | C19: CELIA GUEDON | D19: TULLAHILL PRINCESS | E19: ECURIE DU MOULIN DE COTON (77) | T19: 0 | W19: =IF(ISBLANK(C19),"",SUM(G19:V19)) -> 0 | X19: 0.0011881944 | Y19: Parcours fini | Z19: =IF(ISBLANK(X19),"",IF(AND(AM19<AK19),(AQ19*$AS$5),IF(AND(AM19>AL19),(AQ19*$AS$4),IF(AND(AM19>=AK19,AM19<AL19),(AQ19*$AS$6),"0")))) -> 8 | AA19: =IF(ISBLANK(X19),"",W19+Z19+F19) -> 8 | AB19: =IF(ISBLANK(X19),"",X19) -> 0.0011881944 | AC19: =IF(ISBLANK(X19),"",IF(AND(AN19=""),"1",IF(AND(AN19="+"),"2",IF(AND(AN19="-"),"3")))) -> 3 | AD19: =IF(ISBLANK(X19),"",(AA19/86400)) -> 9.2592593e-05 | AE19: =IF(ISBLANK(X19),"",IF(AN19="",(($AL$3-AB19)+(AA19/86400)),IF(AN19="+",((AB19+(AA19/86400))+"00:00,000"),IF(AN19="-",((AB19+(AA19/86400))+"00:00,000"))))) -> 0.001280787 | AF19: =IF(ISBLANK(X19),"",IF(AN19="",(AD19+(AL19-X19)),IF(AN19="+",(AD19+(X19-AL19)),IF(AN19="-",(AD19+(AK19-X19+AK18)))))) -> 0.0014506944 | AG19: =IF(ISBLANK(X19),"",((AF19/86400)+AA19)) -> 8 | AH19: =IF(ISBLANK(X19),"",RANK((AG19),$AG$4:$AG$128,1)) -> 11 | AK19: =IF(ISBLANK(C19),"",($AL$3-$AK$3)) -> 0.0012731481 | AL19: =IF(ISBLANK(C19),"",$AL$3) -> 0.0014467593 | AM19: =IF(ISBLANK(X19),"",X19) -> 0.0011881944 | AN19: =IF(ISBLANK(X19),"",IF(AND(AM19<AK19),"-",IF(AND(AM19>AL19),"+",IF(AND(AM19>=AK19,AM19<=AL19),"")))) -> - | AO19: =IF(ISBLANK(X19),"",IF(AND(AM19<AK19),(AK19-AM19),IF(AND(AM19>AL19),(AM19-AL19),IF(AND(AM19>=AK19,AM19<=AL19),"00:00,000")))) -> 8.4953704e-05 | AP19: =IF(ISBLANK(X19),"",IF(AND(AM19<AK19),"-",IF(AND(AM19>AL19),"+",IF(AND(AM19>=AK19,AM19<=AL19),"")))) -> - | AQ19: =IF(ISBLANK(X19),"",ROUNDUP(AO19*86399,0)) -> 8
B20: 1217 | C20: MARIANNE GROSJEAN | D20: ONLY DE GARENNE | E20: JUMP TERRIER BLANC (60) | T20: 0 | W20: =IF(ISBLANK(C20),"",SUM(G20:V20)) -> 0 | X20: 0.0012769676 | Y20: Parcours fini | Z20: =IF(ISBLANK(X20),"",IF(AND(AM20<AK20),(AQ20*$AS$5),IF(AND(AM20>AL20),(AQ20*$AS$4),IF(AND(AM20>=AK20,AM20<AL20),(AQ20*$AS$6),"0")))) -> 0 | AA20: =IF(ISBLANK(X20),"",W20+Z20+F20) -> 0 | AB20: =IF(ISBLANK(X20),"",X20) -> 0.0012769676 | AC20: =IF(ISBLANK(X20),"",IF(AND(AN20=""),"1",IF(AND(AN20="+"),"2",IF(AND(AN20="-"),"3")))) -> 1 | AD20: =IF(ISBLANK(X20),"",(AA20/86400)) -> 0 | AE20: =IF(ISBLANK(X20),"",IF(AN20="",(($AL$3-AB20)+(AA20/86400)),IF(AN20="+",((AB20+(AA20/86400))+"00:00,000"),IF(AN20="-",((AB20+(AA20/86400))+"00:00,000"))))) -> 0.00016979167 | AF20: =IF(ISBLANK(X20),"",IF(AN20="",(AD20+(AL20-X20)),IF(AN20="+",(AD20+(X20-AL20)),IF(AN20="-",(AD20+(AK20-X20+AK19)))))) -> 0.00016979167 | AG20: =IF(ISBLANK(X20),"",((AF20/86400)+AA20)) -> 1.9651813e-09 | AH20: =IF(ISBLANK(X20),"",RANK((AG20),$AG$4:$AG$128,1)) -> 3 | AK20: =IF(ISBLANK(C20),"",($AL$3-$AK$3)) -> 0.0012731481 | AL20: =IF(ISBLANK(C20),"",$AL$3) -> 0.0014467593 | AM20: =IF(ISBLANK(X20),"",X20) -> 0.0012769676 | AN20: =IF(ISBLANK(X20),"",IF(AND(AM20<AK20),"-",IF(AND(AM20>AL20),"+",IF(AND(AM20>=AK20,AM20<=AL20),"")))) | AO20: =IF(ISBLANK(X20),"",IF(AND(AM20<AK20),(AK20-AM20),IF(AND(AM20>AL20),(AM20-AL20),IF(AND(AM20>=AK20,AM20<=AL20),"00:00,000")))) -> 00:00,000 | AP20: =IF(ISBLANK(X20),"",IF(AND(AM20<AK20),"-",IF(AND(AM20>AL20),"+",IF(AND(AM20>=AK20,AM20<=AL20),"")))) | AQ20: =IF(ISBLANK(X20),"",ROUNDUP(AO20*86399,0)) -> 0
B21: 1218 | C21: CHARLOTTE KLEKOT | D21: QUEEN MARY | E21: C H DE MEAUX (77) | T21: 0 | W21: =IF(ISBLANK(C21),"",SUM(G21:V21)) -> 0 | Y21: Non Partant | Z21: =IF(ISBLANK(X21),"",IF(AND(AM21<AK21),(AQ21*$AS$5),IF(AND(AM21>AL21),(AQ21*$AS$4),IF(AND(AM21>=AK21,AM21<AL21),(AQ21*$AS$6),"0")))) | AA21: =IF(ISBLANK(X21),"",W21+Z21+F21) | AB21: =IF(ISBLANK(X21),"",X21) | AC21: =IF(ISBLANK(X21),"",IF(AND(AN21=""),"1",IF(AND(AN21="+"),"2",IF(AND(AN21="-"),"3")))) | AD21: =IF(ISBLANK(X21),"",(AA21/86400)) | AE21: =IF(ISBLANK(X21),"",IF(AN21="",(($AL$3-AB21)+(AA21/86400)),IF(AN21="+",((AB21+(AA21/86400))+"00:00,000"),IF(AN21="-",((AB21+(AA21/86400))+"00:00,000"))))) | AF21: =IF(ISBLANK(X21),"",IF(AN21="",(AD21+(AL21-X21)),IF(AN21="+",(AD21+(X21-AL21)),IF(AN21="-",(AD21+(AK21-X21+AK20)))))) | AG21: =IF(ISBLANK(X21),"",((AF21/86400)+AA21)) | AH21: =IF(ISBLANK(X21),"",RANK((AG21),$AG$4:$AG$128,1)) | AK21: =IF(ISBLANK(C21),"",($AL$3-$AK$3)) -> 0.0012731481 | AL21: =IF(ISBLANK(C21),"",$AL$3) -> 0.0014467593 | AM21: =IF(ISBLANK(X21),"",X21) | AN21: =IF(ISBLANK(X21),"",IF(AND(AM21<AK21),"-",IF(AND(AM21>AL21),"+",IF(AND(AM21>=AK21,AM21<=AL21),"")))) | AO21: =IF(ISBLANK(X21),"",IF(AND(AM21<AK21),(AK21-AM21),IF(AND(AM21>AL21),(AM21-AL21),IF(AND(AM21>=AK21,AM21<=AL21),"00:00,000")))) | AP21: =IF(ISBLANK(X21),"",IF(AND(AM21<AK21),"-",IF(AND(AM21>AL21),"+",IF(AND(AM21>=AK21,AM21<=AL21),"")))) | AQ21: =IF(ISBLANK(X21),"",ROUNDUP(AO21*86399,0))
B22: 1219 | C22: MARIE LAURE GUERBERT | D22: APHELIE DE TURPIN | E22: ASCEA GR EQUITATION (91) | T22: 0 | W22: =IF(ISBLANK(C22),"",SUM(G22:V22)) -> 0 | X22: 0.0013863426 | Y22: Parcours fini | Z22: =IF(ISBLANK(X22),"",IF(AND(AM22<AK22),(AQ22*$AS$5),IF(AND(AM22>AL22),(AQ22*$AS$4),IF(AND(AM22>=AK22,AM22<AL22),(AQ22*$AS$6),"0")))) -> 0 | AA22: =IF(ISBLANK(X22),"",W22+Z22+F22) -> 0 | AB22: =IF(ISBLANK(X22),"",X22) -> 0.0013863426 | AC22: =IF(ISBLANK(X22),"",IF(AND(AN22=""),"1",IF(AND(AN22="+"),"2",IF(AND(AN22="-"),"3")))) -> 1 | AD22: =IF(ISBLANK(X22),"",(AA22/86400)) -> 0 | AE22: =IF(ISBLANK(X22),"",IF(AN22="",(($AL$3-AB22)+(AA22/86400)),IF(AN22="+",((AB22+(AA22/86400))+"00:00,000"),IF(AN22="-",((AB22+(AA22/86400))+"00:00,000"))))) -> 6.0416667e-05 | AF22: =IF(ISBLANK(X22),"",IF(AN22="",(AD22+(AL22-X22)),IF(AN22="+",(AD22+(X22-AL22)),IF(AN22="-",(AD22+(AK22-X22+AK21)))))) -> 6.0416667e-05 | AG22: =IF(ISBLANK(X22),"",((AF22/86400)+AA22)) -> 6.9926698e-10 | AH22: =IF(ISBLANK(X22),"",RANK((AG22),$AG$4:$AG$128,1)) -> 1 | AK22: =IF(ISBLANK(C22),"",($AL$3-$AK$3)) -> 0.0012731481 | AL22: =IF(ISBLANK(C22),"",$AL$3) -> 0.0014467593 | AM22: =IF(ISBLANK(X22),"",X22) -> 0.0013863426 | AN22: =IF(ISBLANK(X22),"",IF(AND(AM22<AK22),"-",IF(AND(AM22>AL22),"+",IF(AND(AM22>=AK22,AM22<=AL22),"")))) | AO22: =IF(ISBLANK(X22),"",IF(AND(AM22<AK22),(AK22-AM22),IF(AND(AM22>AL22),(AM22-AL22),IF(AND(AM22>=AK22,AM22<=AL22),"00:00,000")))) -> 00:00,000 | AP22: =IF(ISBLANK(X22),"",IF(AND(AM22<AK22),"-",IF(AND(AM22>AL22),"+",IF(AND(AM22>=AK22,AM22<=AL22),"")))) | AQ22: =IF(ISBLANK(X22),"",ROUNDUP(AO22*86399,0)) -> 0
B23: 1220 | C23: LEANE LOPEZ | D23: TESSIA | E23: PONEY CLUB DE ROMORANTIN (41) | T23: 0 | W23: =IF(ISBLANK(C23),"",SUM(G23:V23)) -> 0 | Y23: Abandon | Z23: =IF(ISBLANK(X23),"",IF(AND(AM23<AK23),(AQ23*$AS$5),IF(AND(AM23>AL23),(AQ23*$AS$4),IF(AND(AM23>=AK23,AM23<AL23),(AQ23*$AS$6),"0")))) | AA23: =IF(ISBLANK(X23),"",W23+Z23+F23) | AB23: =IF(ISBLANK(X23),"",X23) | AC23: =IF(ISBLANK(X23),"",IF(AND(AN23=""),"1",IF(AND(AN23="+"),"2",IF(AND(AN23="-"),"3")))) | AD23: =IF(ISBLANK(X23),"",(AA23/86400)) | AE23: =IF(ISBLANK(X23),"",IF(AN23="",(($AL$3-AB23)+(AA23/86400)),IF(AN23="+",((AB23+(AA23/86400))+"00:00,000"),IF(AN23="-",((AB23+(AA23/86400))+"00:00,000"))))) | AF23: =IF(ISBLANK(X23),"",IF(AN23="",(AD23+(AL23-X23)),IF(AN23="+",(AD23+(X23-AL23)),IF(AN23="-",(AD23+(AK23-X23+AK22)))))) | AG23: =IF(ISBLANK(X23),"",((AF23/86400)+AA23)) | AH23: =IF(ISBLANK(X23),"",RANK((AG23),$AG$4:$AG$128,1)) | AK23: =IF(ISBLANK(C23),"",($AL$3-$AK$3)) -> 0.0012731481 | AL23: =IF(ISBLANK(C23),"",$AL$3) -> 0.0014467593 | AM23: =IF(ISBLANK(X23),"",X23) | AN23: =IF(ISBLANK(X23),"",IF(AND(AM23<AK23),"-",IF(AND(AM23>AL23),"+",IF(AND(AM23>=AK23,AM23<=AL23),"")))) | AO23: =IF(ISBLANK(X23),"",IF(AND(AM23<AK23),(AK23-AM23),IF(AND(AM23>AL23),(AM23-AL23),IF(AND(AM23>=AK23,AM23<=AL23),"00:00,000")))) | AP23: =IF(ISBLANK(X23),"",IF(AND(AM23<AK23),"-",IF(AND(AM23>AL23),"+",IF(AND(AM23>=AK23,AM23<=AL23),"")))) | AQ23: =IF(ISBLANK(X23),"",ROUNDUP(AO23*86399,0))
B24: 1221 | C24: NOEMIE CANTRELLE | D24: IAGO DE MONTLIEU | E24: HARAS DE MAISON BLANCHE (77) | T24: 4 | W24: =IF(ISBLANK(C24),"",SUM(G24:V24)) -> 4 | X24: 0.0016377315 | Y24: Parcours fini | Z24: =IF(ISBLANK(X24),"",IF(AND(AM24<AK24),(AQ24*$AS$5),IF(AND(AM24>AL24),(AQ24*$AS$4),IF(AND(AM24>=AK24,AM24<AL24),(AQ24*$AS$6),"0")))) -> 6.8 | AA24: =IF(ISBLANK(X24),"",W24+Z24+F24) -> 10.8 | AB24: =IF(ISBLANK(X24),"",X24) -> 0.0016377315 | AC24: =IF(ISBLANK(X24),"",IF(AND(AN24=""),"1",IF(AND(AN24="+"),"2",IF(AND(AN24="-"),"3")))) -> 2 | AD24: =IF(ISBLANK(X24),"",(AA24/86400)) -> 0.000125 | AE24: =IF(ISBLANK(X24),"",IF(AN24="",(($AL$3-AB24)+(AA24/86400)),IF(AN24="+",((AB24+(AA24/86400))+"00:00,000"),IF(AN24="-",((AB24+(AA24/86400))+"00:00,000"))))) -> 0.0017627315 | AF24: =IF(ISBLANK(X24),"",IF(AN24="",(AD24+(AL24-X24)),IF(AN24="+",(AD24+(X24-AL24)),IF(AN24="-",(AD24+(AK24-X24+AK23)))))) -> 0.00031597222 | AG24: =IF(ISBLANK(X24),"",((AF24/86400)+AA24)) -> 10.8 | AH24: =IF(ISBLANK(X24),"",RANK((AG24),$AG$4:$AG$128,1)) -> 14 | AK24: =IF(ISBLANK(C24),"",($AL$3-$AK$3)) -> 0.0012731481 | AL24: =IF(ISBLANK(C24),"",$AL$3) -> 0.0014467593 | AM24: =IF(ISBLANK(X24),"",X24) -> 0.0016377315 | AN24: =IF(ISBLANK(X24),"",IF(AND(AM24<AK24),"-",IF(AND(AM24>AL24),"+",IF(AND(AM24>=AK24,AM24<=AL24),"")))) -> + | AO24: =IF(ISBLANK(X24),"",IF(AND(AM24<AK24),(AK24-AM24),IF(AND(AM24>AL24),(AM24-AL24),IF(AND(AM24>=AK24,AM24<=AL24),"00:00,000")))) -> 0.00019097222 | AP24: =IF(ISBLANK(X24),"",IF(AND(AM24<AK24),"-",IF(AND(AM24>AL24),"+",IF(AND(AM24>=AK24,AM24<=AL24),"")))) -> + | AQ24: =IF(ISBLANK(X24),"",ROUNDUP(AO24*86399,0)) -> 17
B25: 1222 | C25: CLEMENT GUILLAUME | D25: DAHRA VAN DEN DRAAIBOOM | E25: E E AURORE FERIGNAC (91) | T25: 0 | W25: =IF(ISBLANK(C25),"",SUM(G25:V25)) -> 0 | Y25: Eliminé | Z25: =IF(ISBLANK(X25),"",IF(AND(AM25<AK25),(AQ25*$AS$5),IF(AND(AM25>AL25),(AQ25*$AS$4),IF(AND(AM25>=AK25,AM25<AL25),(AQ25*$AS$6),"0")))) | AA25: =IF(ISBLANK(X25),"",W25+Z25+F25) | AB25: =IF(ISBLANK(X25),"",X25) | AC25: =IF(ISBLANK(X25),"",IF(AND(AN25=""),"1",IF(AND(AN25="+"),"2",IF(AND(AN25="-"),"3")))) | AD25: =IF(ISBLANK(X25),"",(AA25/86400)) | AE25: =IF(ISBLANK(X25),"",IF(AN25="",(($AL$3-AB25)+(AA25/86400)),IF(AN25="+",((AB25+(AA25/86400))+"00:00,000"),IF(AN25="-",((AB25+(AA25/86400))+"00:00,000"))))) | AF25: =IF(ISBLANK(X25),"",IF(AN25="",(AD25+(AL25-X25)),IF(AN25="+",(AD25+(X25-AL25)),IF(AN25="-",(AD25+(AK25-X25+AK24)))))) | AG25: =IF(ISBLANK(X25),"",((AF25/86400)+AA25)) | AH25: =IF(ISBLANK(X25),"",RANK((AG25),$AG$4:$AG$128,1)) | AK25: =IF(ISBLANK(C25),"",($AL$3-$AK$3)) -> 0.0012731481 | AL25: =IF(ISBLANK(C25),"",$AL$3) -> 0.0014467593 | AM25: =IF(ISBLANK(X25),"",X25) | AN25: =IF(ISBLANK(X25),"",IF(AND(AM25<AK25),"-",IF(AND(AM25>AL25),"+",IF(AND(AM25>=AK25,AM25<=AL25),"")))) | AO25: =IF(ISBLANK(X25),"",IF(AND(AM25<AK25),(AK25-AM25),IF(AND(AM25>AL25),(AM25-AL25),IF(AND(AM25>=AK25,AM25<=AL25),"00:00,000")))) | AP25: =IF(ISBLANK(X25),"",IF(AND(AM25<AK25),"-",IF(AND(AM25>AL25),"+",IF(AND(AM25>=AK25,AM25<=AL25),"")))) | AQ25: =IF(ISBLANK(X25),"",ROUNDUP(AO25*86399,0))
B26: 1223 | C26: SOLENE CLEMENT | D26: UTOPY | E26: ECURIES DE LA ROCHE (78) | T26: 0 | W26: =IF(ISBLANK(C26),"",SUM(G26:V26)) -> 0 | X26: 0.001544213 | Y26: Parcours fini | Z26: =IF(ISBLANK(X26),"",IF(AND(AM26<AK26),(AQ26*$AS$5),IF(AND(AM26>AL26),(AQ26*$AS$4),IF(AND(AM26>=AK26,AM26<AL26),(AQ26*$AS$6),"0")))) -> 3.6 | AA26: =IF(ISBLANK(X26),"",W26+Z26+F26) -> 3.6 | AB26: =IF(ISBLANK(X26),"",X26) -> 0.001544213 | AC26: =IF(ISBLANK(X26),"",IF(AND(AN26=""),"1",IF(AND(AN26="+"),"2",IF(AND(AN26="-"),"3")))) -> 2 | AD26: =IF(ISBLANK(X26),"",(AA26/86400)) -> 4.1666667e-05 | AE26: =IF(ISBLANK(X26),"",IF(AN26="",(($AL$3-AB26)+(AA26/86400)),IF(AN26="+",((AB26+(AA26/86400))+"00:00,000"),IF(AN26="-",((AB26+(AA26/86400))+"00:00,000"))))) -> 0.0015858796 | AF26: =IF(ISBLANK(X26),"",IF(AN26="",(AD26+(AL26-X26)),IF(AN26="+",(AD26+(X26-AL26)),IF(AN26="-",(AD26+(AK26-X26+AK25)))))) -> 0.00013912037 | AG26: =IF(ISBLANK(X26),"",((AF26/86400)+AA26)) -> 3.6 | AH26: =IF(ISBLANK(X26),"",RANK((AG26),$AG$4:$AG$128,1)) -> 5 | AK26: =IF(ISBLANK(C26),"",($AL$3-$AK$3)) -> 0.0012731481 | AL26: =IF(ISBLANK(C26),"",$AL$3) -> 0.0014467593 | AM26: =IF(ISBLANK(X26),"",X26) -> 0.001544213 | AN26: =IF(ISBLANK(X26),"",IF(AND(AM26<AK26),"-",IF(AND(AM26>AL26),"+",IF(AND(AM26>=AK26,AM26<=AL26),"")))) -> + | AO26: =IF(ISBLANK(X26),"",IF(AND(AM26<AK26),(AK26-AM26),IF(AND(AM26>AL26),(AM26-AL26),IF(AND(AM26>=AK26,AM26<=AL26),"00:00,000")))) -> 9.7453704e-05 | AP26: =IF(ISBLANK(X26),"",IF(AND(AM26<AK26),"-",IF(AND(AM26>AL26),"+",IF(AND(AM26>=AK26,AM26<=AL26),"")))) -> + | AQ26: =IF(ISBLANK(X26),"",ROUNDUP(AO26*86399,0)) -> 9
B27: 1224 | C27: JULIE PILU | D27: CUPIDON LA MENNERIE | E27: PONEY CLUB DE ROMORANTIN (41) | T27: 0 | W27: =IF(ISBLANK(C27),"",SUM(G27:V27)) -> 0 | Y27: Eliminé | Z27: =IF(ISBLANK(X27),"",IF(AND(AM27<AK27),(AQ27*$AS$5),IF(AND(AM27>AL27),(AQ27*$AS$4),IF(AND(AM27>=AK27,AM27<AL27),(AQ27*$AS$6),"0")))) | AA27: =IF(ISBLANK(X27),"",W27+Z27+F27) | AB27: =IF(ISBLANK(X27),"",X27) | AC27: =IF(ISBLANK(X27),"",IF(AND(AN27=""),"1",IF(AND(AN27="+"),"2",IF(AND(AN27="-"),"3")))) | AD27: =IF(ISBLANK(X27),"",(AA27/86400)) | AE27: =IF(ISBLANK(X27),"",IF(AN27="",(($AL$3-AB27)+(AA27/86400)),IF(AN27="+",((AB27+(AA27/86400))+"00:00,000"),IF(AN27="-",((AB27+(AA27/86400))+"00:00,000"))))) | AF27: =IF(ISBLANK(X27),"",IF(AN27="",(AD27+(AL27-X27)),IF(AN27="+",(AD27+(X27-AL27)),IF(AN27="-",(AD27+(AK27-X27+AK26)))))) | AG27: =IF(ISBLANK(X27),"",((AF27/86400)+AA27)) | AH27: =IF(ISBLANK(X27),"",RANK((AG27),$AG$4:$AG$128,1)) | AK27: =IF(ISBLANK(C27),"",($AL$3-$AK$3)) -> 0.0012731481 | AL27: =IF(ISBLANK(C27),"",$AL$3) -> 0.0014467593 | AM27: =IF(ISBLANK(X27),"",X27) | AN27: =IF(ISBLANK(X27),"",IF(AND(AM27<AK27),"-",IF(AND(AM27>AL27),"+",IF(AND(AM27>=AK27,AM27<=AL27),"")))) | AO27: =IF(ISBLANK(X27),"",IF(AND(AM27<AK27),(AK27-AM27),IF(AND(AM27>AL27),(AM27-AL27),IF(AND(AM27>=AK27,AM27<=AL27),"00:00,000")))) | AP27: =IF(ISBLANK(X27),"",IF(AND(AM27<AK27),"-",IF(AND(AM27>AL27),"+",IF(AND(AM27>=AK27,AM27<=AL27),"")))) | AQ27: =IF(ISBLANK(X27),"",ROUNDUP(AO27*86399,0))
B28: 1225 | C28: JUSTINE CHARNASSE | D28: COQUIN TOUT COURT | E28: ECURIE DE LA BOISSIERE (77) | T28: 0 | W28: =IF(ISBLANK(C28),"",SUM(G28:V28)) -> 0 | Y28: Eliminé | Z28: =IF(ISBLANK(X28),"",IF(AND(AM28<AK28),(AQ28*$AS$5),IF(AND(AM28>AL28),(AQ28*$AS$4),IF(AND(AM28>=AK28,AM28<AL28),(AQ28*$AS$6),"0")))) | AA28: =IF(ISBLANK(X28),"",W28+Z28+F28) | AB28: =IF(ISBLANK(X28),"",X28) | AC28: =IF(ISBLANK(X28),"",IF(AND(AN28=""),"1",IF(AND(AN28="+"),"2",IF(AND(AN28="-"),"3")))) | AD28: =IF(ISBLANK(X28),"",(AA28/86400)) | AE28: =IF(ISBLANK(X28),"",IF(AN28="",(($AL$3-AB28)+(AA28/86400)),IF(AN28="+",((AB28+(AA28/86400))+"00:00,000"),IF(AN28="-",((AB28+(AA28/86400))+"00:00,000"))))) | AF28: =IF(ISBLANK(X28),"",IF(AN28="",(AD28+(AL28-X28)),IF(AN28="+",(AD28+(X28-AL28)),IF(AN28="-",(AD28+(AK28-X28+AK27)))))) | AG28: =IF(ISBLANK(X28),"",((AF28/86400)+AA28)) | AH28: =IF(ISBLANK(X28),"",RANK((AG28),$AG$4:$AG$128,1)) | AK28: =IF(ISBLANK(C28),"",($AL$3-$AK$3)) -> 0.0012731481 | AL28: =IF(ISBLANK(C28),"",$AL$3) -> 0.0014467593 | AM28: =IF(ISBLANK(X28),"",X28) | AN28: =IF(ISBLANK(X28),"",IF(AND(AM28<AK28),"-",IF(AND(AM28>AL28),"+",IF(AND(AM28>=AK28,AM28<=AL28),"")))) | AO28: =IF(ISBLANK(X28),"",IF(AND(AM28<AK28),(AK28-AM28),IF(AND(AM28>AL28),(AM28-AL28),IF(AND(AM28>=AK28,AM28<=AL28),"00:00,000")))) | AP28: =IF(ISBLANK(X28),"",IF(AND(AM28<AK28),"-",IF(AND(AM28>AL28),"+",IF(AND(AM28>=AK28,AM28<=AL28),"")))) | AQ28: =IF(ISBLANK(X28),"",ROUNDUP(AO28*86399,0))
B29: 1226 | C29: LINA BARRY | D29: PRODIGIE | E29: E E AURORE FERIGNAC (91) | T29: 10 | W29: =IF(ISBLANK(C29),"",SUM(G29:V29)) -> 10 | X29: 0.001369213 | Y29: Parcours fini | Z29: =IF(ISBLANK(X29),"",IF(AND(AM29<AK29),(AQ29*$AS$5),IF(AND(AM29>AL29),(AQ29*$AS$4),IF(AND(AM29>=AK29,AM29<AL29),(AQ29*$AS$6),"0")))) -> 0 | AA29: =IF(ISBLANK(X29),"",W29+Z29+F29) -> 10 | AB29: =IF(ISBLANK(X29),"",X29) -> 0.001369213 | AC29: =IF(ISBLANK(X29),"",IF(AND(AN29=""),"1",IF(AND(AN29="+"),"2",IF(AND(AN29="-"),"3")))) -> 1 | AD29: =IF(ISBLANK(X29),"",(AA29/86400)) -> 0.00011574074 | AE29: =IF(ISBLANK(X29),"",IF(AN29="",(($AL$3-AB29)+(AA29/86400)),IF(AN29="+",((AB29+(AA29/86400))+"00:00,000"),IF(AN29="-",((AB29+(AA29/86400))+"00:00,000"))))) -> 0.00019328704 | AF29: =IF(ISBLANK(X29),"",IF(AN29="",(AD29+(AL29-X29)),IF(AN29="+",(AD29+(X29-AL29)),IF(AN29="-",(AD29+(AK29-X29+AK28)))))) -> 0.00019328704 | AG29: =IF(ISBLANK(X29),"",((AF29/86400)+AA29)) -> 10 | AH29: =IF(ISBLANK(X29),"",RANK((AG29),$AG$4:$AG$128,1)) -> 13 | AK29: =IF(ISBLANK(C29),"",($AL$3-$AK$3)) -> 0.0012731481 | AL29: =IF(ISBLANK(C29),"",$AL$3) -> 0.0014467593 | AM29: =IF(ISBLANK(X29),"",X29) -> 0.001369213 | AN29: =IF(ISBLANK(X29),"",IF(AND(AM29<AK29),"-",IF(AND(AM29>AL29),"+",IF(AND(AM29>=AK29,AM29<=AL29),"")))) | AO29: =IF(ISBLANK(X29),"",IF(AND(AM29<AK29),(AK29-AM29),IF(AND(AM29>AL29),(AM29-AL29),IF(AND(AM29>=AK29,AM29<=AL29),"00:00,000")))) -> 00:00,000 | AP29: =IF(ISBLANK(X29),"",IF(AND(AM29<AK29),"-",IF(AND(AM29>AL29),"+",IF(AND(AM29>=AK29,AM29<=AL29),"")))) | AQ29: =IF(ISBLANK(X29),"",ROUNDUP(AO29*86399,0)) -> 0
B30: 1227 | C30: Magali PORET | D30: BARATIN DES ROSIERS | T30: 0 | W30: =IF(ISBLANK(C30),"",SUM(G30:V30)) -> 0 | Y30: Eliminé | Z30: =IF(ISBLANK(X30),"",IF(AND(AM30<AK30),(AQ30*$AS$5),IF(AND(AM30>AL30),(AQ30*$AS$4),IF(AND(AM30>=AK30,AM30<AL30),(AQ30*$AS$6),"0")))) | AA30: =IF(ISBLANK(X30),"",W30+Z30+F30) | AB30: =IF(ISBLANK(X30),"",X30) | AC30: =IF(ISBLANK(X30),"",IF(AND(AN30=""),"1",IF(AND(AN30="+"),"2",IF(AND(AN30="-"),"3")))) | AD30: =IF(ISBLANK(X30),"",(AA30/86400)) | AE30: =IF(ISBLANK(X30),"",IF(AN30="",(($AL$3-AB30)+(AA30/86400)),IF(AN30="+",((AB30+(AA30/86400))+"00:00,000"),IF(AN30="-",((AB30+(AA30/86400))+"00:00,000"))))) | AF30: =IF(ISBLANK(X30),"",IF(AN30="",(AD30+(AL30-X30)),IF(AN30="+",(AD30+(X30-AL30)),IF(AN30="-",(AD30+(AK30-X30+AK29)))))) | AG30: =IF(ISBLANK(X30),"",((AF30/86400)+AA30)) | AH30: =IF(ISBLANK(X30),"",RANK((AG30),$AG$4:$AG$128,1)) | AK30: =IF(ISBLANK(C30),"",($AL$3-$AK$3)) -> 0.0012731481 | AL30: =IF(ISBLANK(C30),"",$AL$3) -> 0.0014467593 | AM30: =IF(ISBLANK(X30),"",X30) | AN30: =IF(ISBLANK(X30),"",IF(AND(AM30<AK30),"-",IF(AND(AM30>AL30),"+",IF(AND(AM30>=AK30,AM30<=AL30),"")))) | AO30: =IF(ISBLANK(X30),"",IF(AND(AM30<AK30),(AK30-AM30),IF(AND(AM30>AL30),(AM30-AL30),IF(AND(AM30>=AK30,AM30<=AL30),"00:00,000")))) | AP30: =IF(ISBLANK(X30),"",IF(AND(AM30<AK30),"-",IF(AND(AM30>AL30),"+",IF(AND(AM30>=AK30,AM30<=AL30),"")))) | AQ30: =IF(ISBLANK(X30),"",ROUNDUP(AO30*86399,0))
W31: =IF(ISBLANK(C31),"",SUM(G31:V31)) | Z31: =IF(ISBLANK(X31),"",IF(AND(AM31<AK31),(AQ31*$AS$5),IF(AND(AM31>AL31),(AQ31*$AS$4),IF(AND(AM31>=AK31,AM31<AL31),(AQ31*$AS$6),"0")))) | AA31: =IF(ISBLANK(X31),"",W31+Z31+F31) | AB31: =IF(ISBLANK(X31),"",X31) | AC31: =IF(ISBLANK(X31),"",IF(AND(AN31=""),"1",IF(AND(AN31="+"),"2",IF(AND(AN31="-"),"3")))) | AD31: =IF(ISBLANK(X31),"",(AA31/86400)) | AE31: =IF(ISBLANK(X31),"",IF(AN31="",(($AL$3-AB31)+(AA31/86400)),IF(AN31="+",((AB31+(AA31/86400))+"00:00,000"),IF(AN31="-",((AB31+(AA31/86400))+"00:00,000"))))) | AF31: =IF(ISBLANK(X31),"",IF(AN31="",(AD31+(AL31-X31)),IF(AN31="+",(AD31+(X31-AL31)),IF(AN31="-",(AD31+(AK31-X31+AK30)))))) | AG31: =IF(ISBLANK(X31),"",((AF31/86400)+AA31)) | AH31: =IF(ISBLANK(X31),"",RANK((AG31),$AG$4:$AG$128,1)) | AK31: =IF(ISBLANK(C31),"",($AL$3-$AK$3)) | AL31: =IF(ISBLANK(C31),"",$AL$3) | AM31: =IF(ISBLANK(X31),"",X31) | AN31: =IF(ISBLANK(X31),"",IF(AND(AM31<AK31),"-",IF(AND(AM31>AL31),"+",IF(AND(AM31>=AK31,AM31<=AL31),"")))) | AO31: =IF(ISBLANK(X31),"",IF(AND(AM31<AK31),(AK31-AM31),IF(AND(AM31>AL31),(AM31-AL31),IF(AND(AM31>=AK31,AM31<=AL31),"00:00,000")))) | AP31: =IF(ISBLANK(X31),"",IF(AND(AM31<AK31),"-",IF(AND(AM31>AL31),"+",IF(AND(AM31>=AK31,AM31<=AL31),"")))) | AQ31: =IF(ISBLANK(X31),"",ROUNDUP(AO31*86399,0))
W32: =IF(ISBLANK(C32),"",SUM(G32:V32)) | Z32: =IF(ISBLANK(X32),"",IF(AND(AM32<AK32),(AQ32*$AS$5),IF(AND(AM32>AL32),(AQ32*$AS$4),IF(AND(AM32>=AK32,AM32<AL32),(AQ32*$AS$6),"0")))) | AA32: =IF(ISBLANK(X32),"",W32+Z32+F32) | AB32: =IF(ISBLANK(X32),"",X32) | AC32: =IF(ISBLANK(X32),"",IF(AND(AN32=""),"1",IF(AND(AN32="+"),"2",IF(AND(AN32="-"),"3")))) | AD32: =IF(ISBLANK(X32),"",(AA32/86400)) | AE32: =IF(ISBLANK(X32),"",IF(AN32="",(($AL$3-AB32)+(AA32/86400)),IF(AN32="+",((AB32+(AA32/86400))+"00:00,000"),IF(AN32="-",((AB32+(AA32/86400))+"00:00,000"))))) | AF32: =IF(ISBLANK(X32),"",IF(AN32="",(AD32+(AL32-X32)),IF(AN32="+",(AD32+(X32-AL32)),IF(AN32="-",(AD32+(AK32-X32+AK31)))))) | AG32: =IF(ISBLANK(X32),"",((AF32/86400)+AA32)) | AH32: =IF(ISBLANK(X32),"",RANK((AG32),$AG$4:$AG$128,1)) | AK32: =IF(ISBLANK(C32),"",($AL$3-$AK$3)) | AL32: =IF(ISBLANK(C32),"",$AL$3) | AM32: =IF(ISBLANK(X32),"",X32) | AN32: =IF(ISBLANK(X32),"",IF(AND(AM32<AK32),"-",IF(AND(AM32>AL32),"+",IF(AND(AM32>=AK32,AM32<=AL32),"")))) | AO32: =IF(ISBLANK(X32),"",IF(AND(AM32<AK32),(AK32-AM32),IF(AND(AM32>AL32),(AM32-AL32),IF(AND(AM32>=AK32,AM32<=AL32),"00:00,000")))) | AP32: =IF(ISBLANK(X32),"",IF(AND(AM32<AK32),"-",IF(AND(AM32>AL32),"+",IF(AND(AM32>=AK32,AM32<=AL32),"")))) | AQ32: =IF(ISBLANK(X32),"",ROUNDUP(AO32*86399,0))
W33: =IF(ISBLANK(C33),"",SUM(G33:V33)) | Z33: =IF(ISBLANK(X33),"",IF(AND(AM33<AK33),(AQ33*$AS$5),IF(AND(AM33>AL33),(AQ33*$AS$4),IF(AND(AM33>=AK33,AM33<AL33),(AQ33*$AS$6),"0")))) | AA33: =IF(ISBLANK(X33),"",W33+Z33+F33) | AB33: =IF(ISBLANK(X33),"",X33) | AC33: =IF(ISBLANK(X33),"",IF(AND(AN33=""),"1",IF(AND(AN33="+"),"2",IF(AND(AN33="-"),"3")))) | AD33: =IF(ISBLANK(X33),"",(AA33/86400)) | AE33: =IF(ISBLANK(X33),"",IF(AN33="",(($AL$3-AB33)+(AA33/86400)),IF(AN33="+",((AB33+(AA33/86400))+"00:00,000"),IF(AN33="-",((AB33+(AA33/86400))+"00:00,000"))))) | AF33: =IF(ISBLANK(X33),"",IF(AN33="",(AD33+(AL33-X33)),IF(AN33="+",(AD33+(X33-AL33)),IF(AN33="-",(AD33+(AK33-X33+AK32)))))) | AG33: =IF(ISBLANK(X33),"",((AF33/86400)+AA33)) | AH33: =IF(ISBLANK(X33),"",RANK((AG33),$AG$4:$AG$128,1)) | AK33: =IF(ISBLANK(C33),"",($AL$3-$AK$3)) | AL33: =IF(ISBLANK(C33),"",$AL$3) | AM33: =IF(ISBLANK(X33),"",X33) | AN33: =IF(ISBLANK(X33),"",IF(AND(AM33<AK33),"-",IF(AND(AM33>AL33),"+",IF(AND(AM33>=AK33,AM33<=AL33),"")))) | AO33: =IF(ISBLANK(X33),"",IF(AND(AM33<AK33),(AK33-AM33),IF(AND(AM33>AL33),(AM33-AL33),IF(AND(AM33>=AK33,AM33<=AL33),"00:00,000")))) | AP33: =IF(ISBLANK(X33),"",IF(AND(AM33<AK33),"-",IF(AND(AM33>AL33),"+",IF(AND(AM33>=AK33,AM33<=AL33),"")))) | AQ33: =IF(ISBLANK(X33),"",ROUNDUP(AO33*86399,0))
W34: =IF(ISBLANK(C34),"",SUM(G34:V34)) | Z34: =IF(ISBLANK(X34),"",IF(AND(AM34<AK34),(AQ34*$AS$5),IF(AND(AM34>AL34),(AQ34*$AS$4),IF(AND(AM34>=AK34,AM34<AL34),(AQ34*$AS$6),"0")))) | AA34: =IF(ISBLANK(X34),"",W34+Z34+F34) | AB34: =IF(ISBLANK(X34),"",X34) | AC34: =IF(ISBLANK(X34),"",IF(AND(AN34=""),"1",IF(AND(AN34="+"),"2",IF(AND(AN34="-"),"3")))) | AD34: =IF(ISBLANK(X34),"",(AA34/86400)) | AE34: =IF(ISBLANK(X34),"",IF(AN34="",(($AL$3-AB34)+(AA34/86400)),IF(AN34="+",((AB34+(AA34/86400))+"00:00,000"),IF(AN34="-",((AB34+(AA34/86400))+"00:00,000"))))) | AF34: =IF(ISBLANK(X34),"",IF(AN34="",(AD34+(AL34-X34)),IF(AN34="+",(AD34+(X34-AL34)),IF(AN34="-",(AD34+(AK34-X34+AK33)))))) | AG34: =IF(ISBLANK(X34),"",((AF34/86400)+AA34)) | AH34: =IF(ISBLANK(X34),"",RANK((AG34),$AG$4:$AG$128,1)) | AK34: =IF(ISBLANK(C34),"",($AL$3-$AK$3)) | AL34: =IF(ISBLANK(C34),"",$AL$3) | AM34: =IF(ISBLANK(X34),"",X34) | AN34: =IF(ISBLANK(X34),"",IF(AND(AM34<AK34),"-",IF(AND(AM34>AL34),"+",IF(AND(AM34>=AK34,AM34<=AL34),"")))) | AO34: =IF(ISBLANK(X34),"",IF(AND(AM34<AK34),(AK34-AM34),IF(AND(AM34>AL34),(AM34-AL34),IF(AND(AM34>=AK34,AM34<=AL34),"00:00,000")))) | AP34: =IF(ISBLANK(X34),"",IF(AND(AM34<AK34),"-",IF(AND(AM34>AL34),"+",IF(AND(AM34>=AK34,AM34<=AL34),"")))) | AQ34: =IF(ISBLANK(X34),"",ROUNDUP(AO34*86399,0))
W35: =IF(ISBLANK(C35),"",SUM(G35:V35)) | Z35: =IF(ISBLANK(X35),"",IF(AND(AM35<AK35),(AQ35*$AS$5),IF(AND(AM35>AL35),(AQ35*$AS$4),IF(AND(AM35>=AK35,AM35<AL35),(AQ35*$AS$6),"0")))) | AA35: =IF(ISBLANK(X35),"",W35+Z35+F35) | AB35: =IF(ISBLANK(X35),"",X35) | AC35: =IF(ISBLANK(X35),"",IF(AND(AN35=""),"1",IF(AND(AN35="+"),"2",IF(AND(AN35="-"),"3")))) | AD35: =IF(ISBLANK(X35),"",(AA35/86400)) | AE35: =IF(ISBLANK(X35),"",IF(AN35="",(($AL$3-AB35)+(AA35/86400)),IF(AN35="+",((AB35+(AA35/86400))+"00:00,000"),IF(AN35="-",((AB35+(AA35/86400))+"00:00,000"))))) | AF35: =IF(ISBLANK(X35),"",IF(AN35="",(AD35+(AL35-X35)),IF(AN35="+",(AD35+(X35-AL35)),IF(AN35="-",(AD35+(AK35-X35+AK34)))))) | AG35: =IF(ISBLANK(X35),"",((AF35/86400)+AA35)) | AH35: =IF(ISBLANK(X35),"",RANK((AG35),$AG$4:$AG$128,1)) | AK35: =IF(ISBLANK(C35),"",($AL$3-$AK$3)) | AL35: =IF(ISBLANK(C35),"",$AL$3) | AM35: =IF(ISBLANK(X35),"",X35) | AN35: =IF(ISBLANK(X35),"",IF(AND(AM35<AK35),"-",IF(AND(AM35>AL35),"+",IF(AND(AM35>=AK35,AM35<=AL35),"")))) | AO35: =IF(ISBLANK(X35),"",IF(AND(AM35<AK35),(AK35-AM35),IF(AND(AM35>AL35),(AM35-AL35),IF(AND(AM35>=AK35,AM35<=AL35),"00:00,000")))) | AP35: =IF(ISBLANK(X35),"",IF(AND(AM35<AK35),"-",IF(AND(AM35>AL35),"+",IF(AND(AM35>=AK35,AM35<=AL35),"")))) | AQ35: =IF(ISBLANK(X35),"",ROUNDUP(AO35*86399,0))
W36: =IF(ISBLANK(C36),"",SUM(G36:V36)) | Z36: =IF(ISBLANK(X36),"",IF(AND(AM36<AK36),(AQ36*$AS$5),IF(AND(AM36>AL36),(AQ36*$AS$4),IF(AND(AM36>=AK36,AM36<AL36),(AQ36*$AS$6),"0")))) | AA36: =IF(ISBLANK(X36),"",W36+Z36+F36) | AB36: =IF(ISBLANK(X36),"",X36) | AC36: =IF(ISBLANK(X36),"",IF(AND(AN36=""),"1",IF(AND(AN36="+"),"2",IF(AND(AN36="-"),"3")))) | AD36: =IF(ISBLANK(X36),"",(AA36/86400)) | AE36: =IF(ISBLANK(X36),"",IF(AN36="",(($AL$3-AB36)+(AA36/86400)),IF(AN36="+",((AB36+(AA36/86400))+"00:00,000"),IF(AN36="-",((AB36+(AA36/86400))+"00:00,000"))))) | AF36: =IF(ISBLANK(X36),"",IF(AN36="",(AD36+(AL36-X36)),IF(AN36="+",(AD36+(X36-AL36)),IF(AN36="-",(AD36+(AK36-X36+AK35)))))) | AG36: =IF(ISBLANK(X36),"",((AF36/86400)+AA36)) | AH36: =IF(ISBLANK(X36),"",RANK((AG36),$AG$4:$AG$128,1)) | AK36: =IF(ISBLANK(C36),"",($AL$3-$AK$3)) | AL36: =IF(ISBLANK(C36),"",$AL$3) | AM36: =IF(ISBLANK(X36),"",X36) | AN36: =IF(ISBLANK(X36),"",IF(AND(AM36<AK36),"-",IF(AND(AM36>AL36),"+",IF(AND(AM36>=AK36,AM36<=AL36),"")))) | AO36: =IF(ISBLANK(X36),"",IF(AND(AM36<AK36),(AK36-AM36),IF(AND(AM36>AL36),(AM36-AL36),IF(AND(AM36>=AK36,AM36<=AL36),"00:00,000")))) | AP36: =IF(ISBLANK(X36),"",IF(AND(AM36<AK36),"-",IF(AND(AM36>AL36),"+",IF(AND(AM36>=AK36,AM36<=AL36),"")))) | AQ36: =IF(ISBLANK(X36),"",ROUNDUP(AO36*86399,0))
W37: =IF(ISBLANK(C37),"",SUM(G37:V37)) | Z37: =IF(ISBLANK(X37),"",IF(AND(AM37<AK37),(AQ37*$AS$5),IF(AND(AM37>AL37),(AQ37*$AS$4),IF(AND(AM37>=AK37,AM37<AL37),(AQ37*$AS$6),"0")))) | AA37: =IF(ISBLANK(X37),"",W37+Z37+F37) | AB37: =IF(ISBLANK(X37),"",X37) | AC37: =IF(ISBLANK(X37),"",IF(AND(AN37=""),"1",IF(AND(AN37="+"),"2",IF(AND(AN37="-"),"3")))) | AD37: =IF(ISBLANK(X37),"",(AA37/86400)) | AE37: =IF(ISBLANK(X37),"",IF(AN37="",(($AL$3-AB37)+(AA37/86400)),IF(AN37="+",((AB37+(AA37/86400))+"00:00,000"),IF(AN37="-",((AB37+(AA37/86400))+"00:00,000"))))) | AF37: =IF(ISBLANK(X37),"",IF(AN37="",(AD37+(AL37-X37)),IF(AN37="+",(AD37+(X37-AL37)),IF(AN37="-",(AD37+(AK37-X37+AK36)))))) | AG37: =IF(ISBLANK(X37),"",((AF37/86400)+AA37)) | AH37: =IF(ISBLANK(X37),"",RANK((AG37),$AG$4:$AG$128,1)) | AK37: =IF(ISBLANK(C37),"",($AL$3-$AK$3)) | AL37: =IF(ISBLANK(C37),"",$AL$3) | AM37: =IF(ISBLANK(X37),"",X37) | AN37: =IF(ISBLANK(X37),"",IF(AND(AM37<AK37),"-",IF(AND(AM37>AL37),"+",IF(AND(AM37>=AK37,AM37<=AL37),"")))) | AO37: =IF(ISBLANK(X37),"",IF(AND(AM37<AK37),(AK37-AM37),IF(AND(AM37>AL37),(AM37-AL37),IF(AND(AM37>=AK37,AM37<=AL37),"00:00,000")))) | AP37: =IF(ISBLANK(X37),"",IF(AND(AM37<AK37),"-",IF(AND(AM37>AL37),"+",IF(AND(AM37>=AK37,AM37<=AL37),"")))) | AQ37: =IF(ISBLANK(X37),"",ROUNDUP(AO37*86399,0))
W38: =IF(ISBLANK(C38),"",SUM(G38:V38)) | Z38: =IF(ISBLANK(X38),"",IF(AND(AM38<AK38),(AQ38*$AS$5),IF(AND(AM38>AL38),(AQ38*$AS$4),IF(AND(AM38>=AK38,AM38<AL38),(AQ38*$AS$6),"0")))) | AA38: =IF(ISBLANK(X38),"",W38+Z38+F38) | AB38: =IF(ISBLANK(X38),"",X38) | AC38: =IF(ISBLANK(X38),"",IF(AND(AN38=""),"1",IF(AND(AN38="+"),"2",IF(AND(AN38="-"),"3")))) | AD38: =IF(ISBLANK(X38),"",(AA38/86400)) | AE38: =IF(ISBLANK(X38),"",IF(AN38="",(($AL$3-AB38)+(AA38/86400)),IF(AN38="+",((AB38+(AA38/86400))+"00:00,000"),IF(AN38="-",((AB38+(AA38/86400))+"00:00,000"))))) | AF38: =IF(ISBLANK(X38),"",IF(AN38="",(AD38+(AL38-X38)),IF(AN38="+",(AD38+(X38-AL38)),IF(AN38="-",(AD38+(AK38-X38+AK37)))))) | AG38: =IF(ISBLANK(X38),"",((AF38/86400)+AA38)) | AH38: =IF(ISBLANK(X38),"",RANK((AG38),$AG$4:$AG$128,1)) | AK38: =IF(ISBLANK(C38),"",($AL$3-$AK$3)) | AL38: =IF(ISBLANK(C38),"",$AL$3) | AM38: =IF(ISBLANK(X38),"",X38) | AN38: =IF(ISBLANK(X38),"",IF(AND(AM38<AK38),"-",IF(AND(AM38>AL38),"+",IF(AND(AM38>=AK38,AM38<=AL38),"")))) | AO38: =IF(ISBLANK(X38),"",IF(AND(AM38<AK38),(AK38-AM38),IF(AND(AM38>AL38),(AM38-AL38),IF(AND(AM38>=AK38,AM38<=AL38),"00:00,000")))) | AP38: =IF(ISBLANK(X38),"",IF(AND(AM38<AK38),"-",IF(AND(AM38>AL38),"+",IF(AND(AM38>=AK38,AM38<=AL38),"")))) | AQ38: =IF(ISBLANK(X38),"",ROUNDUP(AO38*86399,0))
W39: =IF(ISBLANK(C39),"",SUM(G39:V39)) | Z39: =IF(ISBLANK(X39),"",IF(AND(AM39<AK39),(AQ39*$AS$5),IF(AND(AM39>AL39),(AQ39*$AS$4),IF(AND(AM39>=AK39,AM39<AL39),(AQ39*$AS$6),"0")))) | AA39: =IF(ISBLANK(X39),"",W39+Z39+F39) | AB39: =IF(ISBLANK(X39),"",X39) | AC39: =IF(ISBLANK(X39),"",IF(AND(AN39=""),"1",IF(AND(AN39="+"),"2",IF(AND(AN39="-"),"3")))) | AD39: =IF(ISBLANK(X39),"",(AA39/86400)) | AE39: =IF(ISBLANK(X39),"",IF(AN39="",(($AL$3-AB39)+(AA39/86400)),IF(AN39="+",((AB39+(AA39/86400))+"00:00,000"),IF(AN39="-",((AB39+(AA39/86400))+"00:00,000"))))) | AF39: =IF(ISBLANK(X39),"",IF(AN39="",(AD39+(AL39-X39)),IF(AN39="+",(AD39+(X39-AL39)),IF(AN39="-",(AD39+(AK39-X39+AK38)))))) | AG39: =IF(ISBLANK(X39),"",((AF39/86400)+AA39)) | AH39: =IF(ISBLANK(X39),"",RANK((AG39),$AG$4:$AG$128,1)) | AK39: =IF(ISBLANK(C39),"",($AL$3-$AK$3)) | AL39: =IF(ISBLANK(C39),"",$AL$3) | AM39: =IF(ISBLANK(X39),"",X39) | AN39: =IF(ISBLANK(X39),"",IF(AND(AM39<AK39),"-",IF(AND(AM39>AL39),"+",IF(AND(AM39>=AK39,AM39<=AL39),"")))) | AO39: =IF(ISBLANK(X39),"",IF(AND(AM39<AK39),(AK39-AM39),IF(AND(AM39>AL39),(AM39-AL39),IF(AND(AM39>=AK39,AM39<=AL39),"00:00,000")))) | AP39: =IF(ISBLANK(X39),"",IF(AND(AM39<AK39),"-",IF(AND(AM39>AL39),"+",IF(AND(AM39>=AK39,AM39<=AL39),"")))) | AQ39: =IF(ISBLANK(X39),"",ROUNDUP(AO39*86399,0))
W40: =IF(ISBLANK(C40),"",SUM(G40:V40)) | Z40: =IF(ISBLANK(X40),"",IF(AND(AM40<AK40),(AQ40*$AS$5),IF(AND(AM40>AL40),(AQ40*$AS$4),IF(AND(AM40>=AK40,AM40<AL40),(AQ40*$AS$6),"0")))) | AA40: =IF(ISBLANK(X40),"",W40+Z40+F40) | AB40: =IF(ISBLANK(X40),"",X40) | AC40: =IF(ISBLANK(X40),"",IF(AND(AN40=""),"1",IF(AND(AN40="+"),"2",IF(AND(AN40="-"),"3")))) | AD40: =IF(ISBLANK(X40),"",(AA40/86400)) | AE40: =IF(ISBLANK(X40),"",IF(AN40="",(($AL$3-AB40)+(AA40/86400)),IF(AN40="+",((AB40+(AA40/86400))+"00:00,000"),IF(AN40="-",((AB40+(AA40/86400))+"00:00,000"))))) | AF40: =IF(ISBLANK(X40),"",IF(AN40="",(AD40+(AL40-X40)),IF(AN40="+",(AD40+(X40-AL40)),IF(AN40="-",(AD40+(AK40-X40+AK39)))))) | AG40: =IF(ISBLANK(X40),"",((AF40/86400)+AA40)) | AH40: =IF(ISBLANK(X40),"",RANK((AG40),$AG$4:$AG$128,1)) | AK40: =IF(ISBLANK(C40),"",($AL$3-$AK$3)) | AL40: =IF(ISBLANK(C40),"",$AL$3) | AM40: =IF(ISBLANK(X40),"",X40) | AN40: =IF(ISBLANK(X40),"",IF(AND(AM40<AK40),"-",IF(AND(AM40>AL40),"+",IF(AND(AM40>=AK40,AM40<=AL40),"")))) | AO40: =IF(ISBLANK(X40),"",IF(AND(AM40<AK40),(AK40-AM40),IF(AND(AM40>AL40),(AM40-AL40),IF(AND(AM40>=AK40,AM40<=AL40),"00:00,000")))) | AP40: =IF(ISBLANK(X40),"",IF(AND(AM40<AK40),"-",IF(AND(AM40>AL40),"+",IF(AND(AM40>=AK40,AM40<=AL40),"")))) | AQ40: =IF(ISBLANK(X40),"",ROUNDUP(AO40*86399,0))
W41: =IF(ISBLANK(C41),"",SUM(G41:V41)) | Z41: =IF(ISBLANK(X41),"",IF(AND(AM41<AK41),(AQ41*$AS$5),IF(AND(AM41>AL41),(AQ41*$AS$4),IF(AND(AM41>=AK41,AM41<AL41),(AQ41*$AS$6),"0")))) | AA41: =IF(ISBLANK(X41),"",W41+Z41+F41) | AB41: =IF(ISBLANK(X41),"",X41) | AC41: =IF(ISBLANK(X41),"",IF(AND(AN41=""),"1",IF(AND(AN41="+"),"2",IF(AND(AN41="-"),"3")))) | AD41: =IF(ISBLANK(X41),"",(AA41/86400)) | AE41: =IF(ISBLANK(X41),"",IF(AN41="",(($AL$3-AB41)+(AA41/86400)),IF(AN41="+",((AB41+(AA41/86400))+"00:00,000"),IF(AN41="-",((AB41+(AA41/86400))+"00:00,000"))))) | AF41: =IF(ISBLANK(X41),"",IF(AN41="",(AD41+(AL41-X41)),IF(AN41="+",(AD41+(X41-AL41)),IF(AN41="-",(AD41+(AK41-X41+AK40)))))) | AG41: =IF(ISBLANK(X41),"",((AF41/86400)+AA41)) | AH41: =IF(ISBLANK(X41),"",RANK((AG41),$AG$4:$AG$128,1)) | AK41: =IF(ISBLANK(C41),"",($AL$3-$AK$3)) | AL41: =IF(ISBLANK(C41),"",$AL$3) | AM41: =IF(ISBLANK(X41),"",X41) | AN41: =IF(ISBLANK(X41),"",IF(AND(AM41<AK41),"-",IF(AND(AM41>AL41),"+",IF(AND(AM41>=AK41,AM41<=AL41),"")))) | AO41: =IF(ISBLANK(X41),"",IF(AND(AM41<AK41),(AK41-AM41),IF(AND(AM41>AL41),(AM41-AL41),IF(AND(AM41>=AK41,AM41<=AL41),"00:00,000")))) | AP41: =IF(ISBLANK(X41),"",IF(AND(AM41<AK41),"-",IF(AND(AM41>AL41),"+",IF(AND(AM41>=AK41,AM41<=AL41),"")))) | AQ41: =IF(ISBLANK(X41),"",ROUNDUP(AO41*86399,0))
W42: =IF(ISBLANK(C42),"",SUM(G42:V42)) | Z42: =IF(ISBLANK(X42),"",IF(AND(AM42<AK42),(AQ42*$AS$5),IF(AND(AM42>AL42),(AQ42*$AS$4),IF(AND(AM42>=AK42,AM42<AL42),(AQ42*$AS$6),"0")))) | AA42: =IF(ISBLANK(X42),"",W42+Z42+F42) | AB42: =IF(ISBLANK(X42),"",X42) | AC42: =IF(ISBLANK(X42),"",IF(AND(AN42=""),"1",IF(AND(AN42="+"),"2",IF(AND(AN42="-"),"3")))) | AD42: =IF(ISBLANK(X42),"",(AA42/86400)) | AE42: =IF(ISBLANK(X42),"",IF(AN42="",(($AL$3-AB42)+(AA42/86400)),IF(AN42="+",((AB42+(AA42/86400))+"00:00,000"),IF(AN42="-",((AB42+(AA42/86400))+"00:00,000"))))) | AF42: =IF(ISBLANK(X42),"",IF(AN42="",(AD42+(AL42-X42)),IF(AN42="+",(AD42+(X42-AL42)),IF(AN42="-",(AD42+(AK42-X42+AK41)))))) | AG42: =IF(ISBLANK(X42),"",((AF42/86400)+AA42)) | AH42: =IF(ISBLANK(X42),"",RANK((AG42),$AG$4:$AG$128,1)) | AK42: =IF(ISBLANK(C42),"",($AL$3-$AK$3)) | AL42: =IF(ISBLANK(C42),"",$AL$3) | AM42: =IF(ISBLANK(X42),"",X42) | AN42: =IF(ISBLANK(X42),"",IF(AND(AM42<AK42),"-",IF(AND(AM42>AL42),"+",IF(AND(AM42>=AK42,AM42<=AL42),"")))) | AO42: =IF(ISBLANK(X42),"",IF(AND(AM42<AK42),(AK42-AM42),IF(AND(AM42>AL42),(AM42-AL42),IF(AND(AM42>=AK42,AM42<=AL42),"00:00,000")))) | AP42: =IF(ISBLANK(X42),"",IF(AND(AM42<AK42),"-",IF(AND(AM42>AL42),"+",IF(AND(AM42>=AK42,AM42<=AL42),"")))) | AQ42: =IF(ISBLANK(X42),"",ROUNDUP(AO42*86399,0))
... W128: =IF(ISBLANK(C128),"",SUM(G128:V128)) | Z128: =IF(ISBLANK(X128),"",IF(AND(AM128<AK128),(AQ128*$AS$5),IF(AND(AM128>AL128),(AQ128*$AS$4),IF(AND(AM128>=AK128,AM128<AL128),(AQ128*$AS$6),"0")))) | AA128: =IF(ISBLANK(X128),"",W128+Z128+F128) | AB128: =IF(ISBLANK(X128),"",X128) | AC128: =IF(ISBLANK(X128),"",IF(AND(AN128=""),"1",IF(AND(AN128="+"),"2",IF(AND(AN128="-"),"3")))) | AD128: =IF(ISBLANK(X128),"",(AA128/86400)) | AE128: =IF(ISBLANK(X128),"",IF(AN128="",(($AL$3-AB128)+(AA128/86400)),IF(AN128="+",((AB128+(AA128/86400))+"00:00,000"),IF(AN128="-",((AB128+(AA128/86400))+"00:00,000"))))) | AF128: =IF(ISBLANK(X128),"",IF(AN128="",(AD128+(AL128-X128)),IF(AN128="+",(AD128+(X128-AL128)),IF(AN128="-",(AD128+(AK128-X128+AK127)))))) | AG128: =IF(ISBLANK(X128),"",((AF128/86400)+AA128)) | AH128: =IF(ISBLANK(X128),"",RANK((AG128),$AG$4:$AG$128,1)) | AK128: =IF(ISBLANK(C128),"",($AL$3-$AK$3)) | AL128: =IF(ISBLANK(C128),"",$AL$3) | AM128: =IF(ISBLANK(X128),"",X128) | AN128: =IF(ISBLANK(X128),"",IF(AND(AM128<AK128),"-",IF(AND(AM128>AL128),"+",IF(AND(AM128>=AK128,AM128<=AL128),"")))) | AO128: =IF(ISBLANK(X128),"",IF(AND(AM128<AK128),(AK128-AM128),IF(AND(AM128>AL128),(AM128-AL128),IF(AND(AM128>=AK128,AM128<=AL128),"00:00,000")))) | AP128: =IF(ISBLANK(X128),"",IF(AND(AM128<AK128),"-",IF(AND(AM128>AL128),"+",IF(AND(AM128>=AK128,AM128<=AL128),"")))) | AQ128: =IF(ISBLANK(X128),"",ROUNDUP(AO128*86399,0))

Sheet CLASSEMENT TRI
A2: DOSSARD | B2: CAVALIER | C2: ÉQUIDÉ | D2: CLUB | E2: Penalités dressage | F2: Fautes aux obstacles | G2: Pénalités de temps | H2: TOTAL Pénalités | I2: TOTAL Temps | J2: Classement | K2: Résultat du parcours | M2: Classement Final
A4: =MODELE!B4 -> 1201 | B4: =MODELE!C4 -> CLEMENT GUILLAUME | C4: =MODELE!D4 -> SAIDAM II | D4: =MODELE!E4 -> E E AURORE FERIGNAC (91) | E4: =MODELE!F4 -> 0 | F4: =MODELE!W4 -> 4 | G4: =MODELE!Z4 -> 1 | H4: =MODELE!AA4 -> 5 | I4: =MODELE!AB4 -> 0.0012710648 | J4: =MODELE!AH4 -> 8 | K4: =MODELE!Y4 -> Parcours fini | M4: =IF(AND(K4="Parcours fini"),(J4),IF(AND(K4="Eliminé"),(1000),IF(AND(K4="Chute"),(2000),IF(AND(K4="Abandon"),(3000),IF(AND(K4="Non Partant"),(4000),"")))))+A4/10000 -> 8.1201
A5: =MODELE!B5 -> 1202 | B5: =MODELE!C5 -> LUCILE CLEMENT | C5: =MODELE!D5 -> UTOPY | D5: =MODELE!E5 -> ECURIES DE LA ROCHE (78) | E5: =MODELE!F5 -> 0 | F5: =MODELE!W5 -> 12 | G5: =MODELE!Z5 -> 15.2 | H5: =MODELE!AA5 -> 27.2 | I5: =MODELE!AB5 -> 0.0018792824 | J5: =MODELE!AH5 -> 16 | K5: =MODELE!Y5 -> Parcours fini | M5: =IF(AND(K5="Parcours fini"),(J5),IF(AND(K5="Eliminé"),(1000),IF(AND(K5="Chute"),(2000),IF(AND(K5="Abandon"),(3000),IF(AND(K5="Non Partant"),(4000),"")))))+A5/10000 -> 16.1202
A6: =MODELE!B6 -> 1203 | B6: =MODELE!C6 -> MARIE PARIZY | C6: =MODELE!D6 -> DAISY | D6: =MODELE!E6 -> PONEY CLUB ECURIES DE JOUY (77) | E6: =MODELE!F6 -> 0 | F6: =MODELE!W6 -> 4 | G6: =MODELE!Z6 -> 0 | H6: =MODELE!AA6 -> 4 | I6: =MODELE!AB6 -> 0.0013710648 | J6: =MODELE!AH6 -> 6 | K6: =MODELE!Y6 -> Parcours fini | M6: =IF(AND(K6="Parcours fini"),(J6),IF(AND(K6="Eliminé"),(1000),IF(AND(K6="Chute"),(2000),IF(AND(K6="Abandon"),(3000),IF(AND(K6="Non Partant"),(4000),"")))))+A6/10000 -> 6.1203
A7: =MODELE!B7 -> 1204 | B7: =MODELE!C7 -> SOPHIE SAHYOUN LEGGIERI | C7: =MODELE!D7 -> BEAUTY NIGHT MARY | D7: =MODELE!E7 -> ECURIES DE CONDE (94) | E7: =MODELE!F7 -> 0 | F7: =MODELE!W7 -> 0 | G7: =MODELE!Z7 | H7: =MODELE!AA7 | I7: =MODELE!AB7 | J7: =MODELE!AH7 | K7: =MODELE!Y7 -> Eliminé | M7: =IF(AND(K7="Parcours fini"),(J7),IF(AND(K7="Eliminé"),(1000),IF(AND(K7="Chute"),(2000),IF(AND(K7="Abandon"),(3000),IF(AND(K7="Non Partant"),(4000),"")))))+A7/10000 -> 1000.1204
A8: =MODELE!B8 -> 1205 | B8: =MODELE!C8 -> JANE NORBURY | C8: =MODELE!D8 -> DALASKANE DU PARK | D8: =MODELE!E8 -> ECURIE DE LA BOISSIERE (77) | E8: =MODELE!F8 -> 0 | F8: =MODELE!W8 -> 0 | G8: =MODELE!Z8 | H8: =MODELE!AA8 | I8: =MODELE!AB8 | J8: =MODELE!AH8 | K8: =MODELE!Y8 -> Chute | M8: =IF(AND(K8="Parcours fini"),(J8),IF(AND(K8="Eliminé"),(1000),IF(AND(K8="Chute"),(2000),IF(AND(K8="Abandon"),(3000),IF(AND(K8="Non Partant"),(4000),"")))))+A8/10000 -> 2000.1205
A9: =MODELE!B9 -> 1206 | B9: =MODELE!C9 -> ANDREA FOUILLOT | C9: =MODELE!D9 -> LOCKYDOR | D9: =MODELE!E9 -> ECURIES DE VILLECRESNES (94) | E9: =MODELE!F9 -> 0 | F9: =MODELE!W9 -> 0 | G9: =MODELE!Z9 -> 6 | H9: =MODELE!AA9 -> 6 | I9: =MODELE!AB9 -> 0.0012063657 | J9: =MODELE!AH9 -> 10 | K9: =MODELE!Y9 -> Parcours fini | M9: =IF(AND(K9="Parcours fini"),(J9),IF(AND(K9="Eliminé"),(1000),IF(AND(K9="Chute"),(2000),IF(AND(K9="Abandon"),(3000),IF(AND(K9="Non Partant"),(4000),"")))))+A9/10000 -> 10.1206
A10: =MODELE!B10 -> 1207 | B10: =MODELE!C10 -> JULIE ANDRE | C10: =MODELE!D10 -> LOUBLUE | D10: =MODELE!E10 -> ECURIE DE LA BOISSIERE (77) | E10: =MODELE!F10 -> 0 | F10: =MODELE!W10 -> 4 | G10: =MODELE!Z10 -> 0 | H10: =MODELE!AA10 -> 4 | I10: =MODELE!AB10 -> 0.0012989583 | J10: =MODELE!AH10 -> 7 | K10: =MODELE!Y10 -> Parcours fini | M10: =IF(AND(K10="Parcours fini"),(J10),IF(AND(K10="Eliminé"),(1000),IF(AND(K10="Chute"),(2000),IF(AND(K10="Abandon"),(3000),IF(AND(K10="Non Partant"),(4000),"")))))+A10/10000 -> 7.1207
A11: =MODELE!B11 -> 1208 | B11: =MODELE!C11 -> Laure PICARD | C11: =MODELE!D11 -> TALIA DES BOURDONS | D11: =MODELE!E11 -> PONEY CLUB DE REVE (91) | E11: =MODELE!F11 -> 0 | F11: =MODELE!W11 -> 0 | G11: =MODELE!Z11 | H11: =MODELE!AA11 | I11: =MODELE!AB11 | J11: =MODELE!AH11 | K11: =MODELE!Y11 -> Eliminé | M11: =IF(AND(K11="Parcours fini"),(J11),IF(AND(K11="Eliminé"),(1000),IF(AND(K11="Chute"),(2000),IF(AND(K11="Abandon"),(3000),IF(AND(K11="Non Partant"),(4000),"")))))+A11/10000 -> 1000.1208
A12: =MODELE!B12 -> 1209 | B12: =MODELE!C12 -> LEANA BRUNET | C12: =MODELE!D12 -> BALKAN ROSE | D12: =MODELE!E12 -> E E AURORE FERIGNAC (91) | E12: =MODELE!F12 -> 0 | F12: =MODELE!W12 -> 0 | G12: =MODELE!Z12 | H12: =MODELE!AA12 | I12: =MODELE!AB12 | J12: =MODELE!AH12 | K12: =MODELE!Y12 -> Eliminé | M12: =IF(AND(K12="Parcours fini"),(J12),IF(AND(K12="Eliminé"),(1000),IF(AND(K12="Chute"),(2000),IF(AND(K12="Abandon"),(3000),IF(AND(K12="Non Partant"),(4000),"")))))+A12/10000 -> 1000.1209
A13: =MODELE!B13 -> 1210 | B13: =MODELE!C13 -> JULIEN LEMAIRE | C13: =MODELE!D13 -> UTOPE | D13: =MODELE!E13 -> PONEY CLUB DE ROMORANTIN (41) | E13: =MODELE!F13 -> 0 | F13: =MODELE!W13 -> 4 | G13: =MODELE!Z13 -> 1.6 | H13: =MODELE!AA13 -> 5.6 | I13: =MODELE!AB13 -> 0.0014876157 | J13: =MODELE!AH13 -> 9 | K13: =MODELE!Y13 -> Parcours fini | M13: =IF(AND(K13="Parcours fini"),(J13),IF(AND(K13="Eliminé"),(1000),IF(AND(K13="Chute"),(2000),IF(AND(K13="Abandon"),(3000),IF(AND(K13="Non Partant"),(4000),"")))))+A13/10000 -> 9.121
A14: =MODELE!B14 -> 1211 | B14: =MODELE!C14 -> OPHELIE SALVATORE | C14: =MODELE!D14 -> BILBAO SILVER FAME | D14: =MODELE!E14 -> ECURIE DE LA BOISSIERE (77) | E14: =MODELE!F14 -> 0 | F14: =MODELE!W14 -> 0 | G14: =MODELE!Z14 -> 0.4 | H14: =MODELE!AA14 -> 0.4 | I14: =MODELE!AB14 -> 0.0014517361 | J14: =MODELE!AH14 -> 4 | K14: =MODELE!Y14 -> Parcours fini | M14: =IF(AND(K14="Parcours fini"),(J14),IF(AND(K14="Eliminé"),(1000),IF(AND(K14="Chute"),(2000),IF(AND(K14="Abandon"),(3000),IF(AND(K14="Non Partant"),(4000),"")))))+A14/10000 -> 4.1211
A15: =MODELE!B15 -> 1212 | B15: =MODELE!C15 -> VICTOIRE CAGNOT | C15: =MODELE!D15 -> VOTRE ALTESSE D'OTHON | D15: =MODELE!E15 -> ECURIES DE CONDE (94) | E15: =MODELE!F15 -> 0 | F15: =MODELE!W15 -> 4 | G15: =MODELE!Z15 -> 5.6 | H15: =MODELE!AA15 -> 9.6 | I15: =MODELE!AB15 -> 0.0016078704 | J15: =MODELE!AH15 -> 12 | K15: =MODELE!Y15 -> Parcours fini | M15: =IF(AND(K15="Parcours fini"),(J15),IF(AND(K15="Eliminé"),(1000),IF(AND(K15="Chute"),(2000),IF(AND(K15="Abandon"),(3000),IF(AND(K15="Non Partant"),(4000),"")))))+A15/10000 -> 12.1212
... A30: =MODELE!B30 -> 1227 | B30: =MODELE!C30 -> Magali PORET | C30: =MODELE!D30 -> BARATIN DES ROSIERS | D30: =MODELE!E30 -> 0 | E30: =MODELE!F30 -> 0 | F30: =MODELE!W30 -> 0 | G30: =MODELE!Z30 | H30: =MODELE!AA30 | I30: =MODELE!AB30 | J30: =MODELE!AH30 | K30: =MODELE!Y30 -> Eliminé | M30: =IF(AND(K30="Parcours fini"),(J30),IF(AND(K30="Eliminé"),(1000),IF(AND(K30="Chute"),(2000),IF(AND(K30="Abandon"),(3000),IF(AND(K30="Non Partant"),(4000),"")))))+A30/10000 -> 1000.1227
A31: =MODELE!B31 -> 0 | B31: =MODELE!C31 -> 0 | C31: =MODELE!D31 -> 0 | D31: =MODELE!E31 -> 0 | E31: =MODELE!F31 -> 0 | F31: =MODELE!W31 | G31: =MODELE!Z31 | H31: =MODELE!AA31 | I31: =MODELE!AB31 | J31: =MODELE!AH31 | K31: =MODELE!Y31 -> 0 | M31: =IF(AND(K31="Parcours fini"),(J31),IF(AND(K31="Eliminé"),(1000),IF(AND(K31="Chute"),(2000),IF(AND(K31="Abandon"),(3000),IF(AND(K31="Non Partant"),(4000),"")))))
A32: =MODELE!B32 -> 0 | B32: =MODELE!C32 -> 0 | C32: =MODELE!D32 -> 0 | D32: =MODELE!E32 -> 0 | E32: =MODELE!F32 -> 0 | F32: =MODELE!W32 | G32: =MODELE!Z32 | H32: =MODELE!AA32 | I32: =MODELE!AB32 | J32: =MODELE!AH32 | K32: =MODELE!Y32 -> 0 | M32: =IF(AND(K32="Parcours fini"),(J32),IF(AND(K32="Eliminé"),(1000),IF(AND(K32="Chute"),(2000),IF(AND(K32="Abandon"),(3000),IF(AND(K32="Non Partant"),(4000),"")))))
A33: =MODELE!B33 -> 0 | B33: =MODELE!C33 -> 0 | C33: =MODELE!D33 -> 0 | D33: =MODELE!E33 -> 0 | E33: =MODELE!F33 -> 0 | F33: =MODELE!W33 | G33: =MODELE!Z33 | H33: =MODELE!AA33 | I33: =MODELE!AB33 | J33: =MODELE!AH33 | K33: =MODELE!Y33 -> 0 | M33: =IF(AND(K33="Parcours fini"),(J33),IF(AND(K33="Eliminé"),(1000),IF(AND(K33="Chute"),(2000),IF(AND(K33="Abandon"),(3000),IF(AND(K33="Non Partant"),(4000),"")))))
A34: =MODELE!B34 -> 0 | B34: =MODELE!C34 -> 0 | C34: =MODELE!D34 -> 0 | D34: =MODELE!E34 -> 0 | E34: =MODELE!F34 -> 0 | F34: =MODELE!W34 | G34: =MODELE!Z34 | H34: =MODELE!AA34 | I34: =MODELE!AB34 | J34: =MODELE!AH34 | K34: =MODELE!Y34 -> 0 | M34: =IF(AND(K34="Parcours fini"),(J34),IF(AND(K34="Eliminé"),(1000),IF(AND(K34="Chute"),(2000),IF(AND(K34="Abandon"),(3000),IF(AND(K34="Non Partant"),(4000),"")))))
A35: =MODELE!B35 -> 0 | B35: =MODELE!C35 -> 0 | C35: =MODELE!D35 -> 0 | D35: =MODELE!E35 -> 0 | E35: =MODELE!F35 -> 0 | F35: =MODELE!W35 | G35: =MODELE!Z35 | H35: =MODELE!AA35 | I35: =MODELE!AB35 | J35: =MODELE!AH35 | K35: =MODELE!Y35 -> 0 | M35: =IF(AND(K35="Parcours fini"),(J35),IF(AND(K35="Eliminé"),(1000),IF(AND(K35="Chute"),(2000),IF(AND(K35="Abandon"),(3000),IF(AND(K35="Non Partant"),(4000),"")))))
A36: =MODELE!B36 -> 0 | B36: =MODELE!C36 -> 0 | C36: =MODELE!D36 -> 0 | D36: =MODELE!E36 -> 0 | E36: =MODELE!F36 -> 0 | F36: =MODELE!W36 | G36: =MODELE!Z36 | H36: =MODELE!AA36 | I36: =MODELE!AB36 | J36: =MODELE!AH36 | K36: =MODELE!Y36 -> 0 | M36: =IF(AND(K36="Parcours fini"),(J36),IF(AND(K36="Eliminé"),(1000),IF(AND(K36="Chute"),(2000),IF(AND(K36="Abandon"),(3000),IF(AND(K36="Non Partant"),(4000),"")))))
A37: =MODELE!B37 -> 0 | B37: =MODELE!C37 -> 0 | C37: =MODELE!D37 -> 0 | D37: =MODELE!E37 -> 0 | E37: =MODELE!F37 -> 0 | F37: =MODELE!W37 | G37: =MODELE!Z37 | H37: =MODELE!AA37 | I37: =MODELE!AB37 | J37: =MODELE!AH37 | K37: =MODELE!Y37 -> 0 | M37: =IF(AND(K37="Parcours fini"),(J37),IF(AND(K37="Eliminé"),(1000),IF(AND(K37="Chute"),(2000),IF(AND(K37="Abandon"),(3000),IF(AND(K37="Non Partant"),(4000),"")))))
A38: =MODELE!B38 -> 0 | B38: =MODELE!C38 -> 0 | C38: =MODELE!D38 -> 0 | D38: =MODELE!E38 -> 0 | E38: =MODELE!F38 -> 0 | F38: =MODELE!W38 | G38: =MODELE!Z38 | H38: =MODELE!AA38 | I38: =MODELE!AB38 | J38: =MODELE!AH38 | K38: =MODELE!Y38 -> 0 | M38: =IF(AND(K38="Parcours fini"),(J38),IF(AND(K38="Eliminé"),(1000),IF(AND(K38="Chute"),(2000),IF(AND(K38="Abandon"),(3000),IF(AND(K38="Non Partant"),(4000),"")))))
A39: =MODELE!B39 -> 0 | B39: =MODELE!C39 -> 0 | C39: =MODELE!D39 -> 0 | D39: =MODELE!E39 -> 0 | E39: =MODELE!F39 -> 0 | F39: =MODELE!W39 | G39: =MODELE!Z39 | H39: =MODELE!AA39 | I39: =MODELE!AB39 | J39: =MODELE!AH39 | K39: =MODELE!Y39 -> 0 | M39: =IF(AND(K39="Parcours fini"),(J39),IF(AND(K39="Eliminé"),(1000),IF(AND(K39="Chute"),(2000),IF(AND(K39="Abandon"),(3000),IF(AND(K39="Non Partant"),(4000),"")))))
A40: =MODELE!B40 -> 0 | B40: =MODELE!C40 -> 0 | C40: =MODELE!D40 -> 0 | D40: =MODELE!E40 -> 0 | E40: =MODELE!F40 -> 0 | F40: =MODELE!W40 | G40: =MODELE!Z40 | H40: =MODELE!AA40 | I40: =MODELE!AB40 | J40: =MODELE!AH40 | K40: =MODELE!Y40 -> 0 | M40: =IF(AND(K40="Parcours fini"),(J40),IF(AND(K40="Eliminé"),(1000),IF(AND(K40="Chute"),(2000),IF(AND(K40="Abandon"),(3000),IF(AND(K40="Non Partant"),(4000),"")))))
A41: =MODELE!B41 -> 0 | B41: =MODELE!C41 -> 0 | C41: =MODELE!D41 -> 0 | D41: =MODELE!E41 -> 0 | E41: =MODELE!F41 -> 0 | F41: =MODELE!W41 | G41: =MODELE!Z41 | H41: =MODELE!AA41 | I41: =MODELE!AB41 | J41: =MODELE!AH41 | K41: =MODELE!Y41 -> 0 | M41: =IF(AND(K41="Parcours fini"),(J41),IF(AND(K41="Eliminé"),(1000),IF(AND(K41="Chute"),(2000),IF(AND(K41="Abandon"),(3000),IF(AND(K41="Non Partant"),(4000),"")))))
A42: =MODELE!B42 -> 0 | B42: =MODELE!C42 -> 0 | C42: =MODELE!D42 -> 0 | D42: =MODELE!E42 -> 0 | E42: =MODELE!F42 -> 0 | F42: =MODELE!W42 | G42: =MODELE!Z42 | H42: =MODELE!AA42 | I42: =MODELE!AB42 | J42: =MODELE!AH42 | K42: =MODELE!Y42 -> 0 | M42: =IF(AND(K42="Parcours fini"),(J42),IF(AND(K42="Eliminé"),(1000),IF(AND(K42="Chute"),(2000),IF(AND(K42="Abandon"),(3000),IF(AND(K42="Non Partant"),(4000),"")))))
... A128: =MODELE!B128 -> 0 | B128: =MODELE!C128 -> 0 | C128: =MODELE!D128 -> 0 | D128: =MODELE!E128 -> 0 | E128: =MODELE!F128 -> 0 | F128: =MODELE!W128 | G128: =MODELE!Z128 | H128: =MODELE!AA128 | I128: =MODELE!AB128 | J128: =MODELE!AH128 | K128: =MODELE!Y128 -> 0 | M128: =IF(AND(K128="Parcours fini"),(J128),IF(AND(K128="Eliminé"),(1000),IF(AND(K128="Chute"),(2000),IF(AND(K128="Abandon"),(3000),IF(AND(K128="Non Partant"),(4000),"")))))

Sheet CLASSEMENT AUTOMATIQUE
A2: DOSSARD | B2: CAVALIER | C2: ÉQUIDÉ | D2: CLUB | E2: Penalités dressage | F2: Fautes aux obstacles | G2: Pénalités de temps | H2: TOTAL Pénalités | I2: TOTAL Temps | J2: Résultat du parcours | L2: Classement Final
A4: =MATCH(SMALL('CLASSEMENT TRI'!M$4:M$30,ROW()-3),'CLASSEMENT TRI'!M$4:M$30,0)+1200 -> 1219 | B4: =INDEX('CLASSEMENT TRI'!$B$4:$D$30,$A4-1200,1) -> MARIE LAURE GUERBERT | C4: =INDEX('CLASSEMENT TRI'!$B$4:$E$30,$A4-1200,2) -> APHELIE DE TURPIN | D4: =INDEX('CLASSEMENT TRI'!$B$4:$F$30,$A4-1200,3) -> ASCEA GR EQUITATION (91) | F4: =INDEX('CLASSEMENT TRI'!$B$4:$F$30,$A4-1200,5) -> 0 | G4: =INDEX('CLASSEMENT TRI'!$B$4:$G$30,$A4-1200,6) -> 0 | H4: =INDEX('CLASSEMENT TRI'!$B$4:$H$30,$A4-1200,7) -> 0 | I4: =INDEX('CLASSEMENT TRI'!$B$4:$I$30,$A4-1200,8) -> 0.0013863426 | J4: =INDEX('CLASSEMENT TRI'!$B$4:$K$30,$A4-1200,10) -> Parcours fini | L4: =IF(ISERROR(SMALL('CLASSEMENT TRI'!$M$4:$M$128,ROW()-3)),"",SMALL('CLASSEMENT TRI'!$M$4:$M$128,ROW()-3)) -> 1.1219
A5: =MATCH(SMALL('CLASSEMENT TRI'!M$4:M$30,ROW()-3),'CLASSEMENT TRI'!M$4:M$30,0)+1200 -> 1215 | B5: =INDEX('CLASSEMENT TRI'!$B$4:$D$30,$A5-1200,1) -> JULIE BECARD | C5: =INDEX('CLASSEMENT TRI'!$B$4:$E$30,$A5-1200,2) -> URSA GENTILLE | D5: =INDEX('CLASSEMENT TRI'!$B$4:$F$30,$A5-1200,3) -> ECURIE DE LA BOISSIERE (77) | F5: =INDEX('CLASSEMENT TRI'!$B$4:$F$30,$A5-1200,5) -> 0 | G5: =INDEX('CLASSEMENT TRI'!$B$4:$G$30,$A5-1200,6) -> 0 | H5: =INDEX('CLASSEMENT TRI'!$B$4:$H$30,$A5-1200,7) -> 0 | I5: =INDEX('CLASSEMENT TRI'!$B$4:$I$30,$A5-1200,8) -> 0.001319213 | J5: =INDEX('CLASSEMENT TRI'!$B$4:$K$30,$A5-1200,10) -> Parcours fini | L5: =IF(ISERROR(SMALL('CLASSEMENT TRI'!$M$4:$M$128,ROW()-3)),"",SMALL('CLASSEMENT TRI'!$M$4:$M$128,ROW()-3)) -> 2.1215
A6: =MATCH(SMALL('CLASSEMENT TRI'!M$4:M$30,ROW()-3),'CLASSEMENT TRI'!M$4:M$30,0)+1200 -> 1217 | B6: =INDEX('CLASSEMENT TRI'!$B$4:$D$30,$A6-1200,1) -> MARIANNE GROSJEAN | C6: =INDEX('CLASSEMENT TRI'!$B$4:$E$30,$A6-1200,2) -> ONLY DE GARENNE | D6: =INDEX('CLASSEMENT TRI'!$B$4:$F$30,$A6-1200,3) -> JUMP TERRIER BLANC (60) | F6: =INDEX('CLASSEMENT TRI'!$B$4:$F$30,$A6-1200,5) -> 0 | G6: =INDEX('CLASSEMENT TRI'!$B$4:$G$30,$A6-1200,6) -> 0 | H6: =INDEX('CLASSEMENT TRI'!$B$4:$H$30,$A6-1200,7) -> 0 | I6: =INDEX('CLASSEMENT TRI'!$B$4:$I$30,$A6-1200,8) -> 0.0012769676 | J6: =INDEX('CLASSEMENT TRI'!$B$4:$K$30,$A6-1200,10) -> Parcours fini | L6: =IF(ISERROR(SMALL('CLASSEMENT TRI'!$M$4:$M$128,ROW()-3)),"",SMALL('CLASSEMENT TRI'!$M$4:$M$128,ROW()-3)) -> 3.1217
A7: =MATCH(SMALL('CLASSEMENT TRI'!M$4:M$30,ROW()-3),'CLASSEMENT TRI'!M$4:M$30,0)+1200 -> 1211 | B7: =INDEX('CLASSEMENT TRI'!$B$4:$D$30,$A7-1200,1) -> OPHELIE SALVATORE | C7: =INDEX('CLASSEMENT TRI'!$B$4:$E$30,$A7-1200,2) -> BILBAO SILVER FAME | D7: =INDEX('CLASSEMENT TRI'!$B$4:$F$30,$A7-1200,3) -> ECURIE DE LA BOISSIERE (77) | F7: =INDEX('CLASSEMENT TRI'!$B$4:$F$30,$A7-1200,5) -> 0 | G7: =INDEX('CLASSEMENT TRI'!$B$4:$G$30,$A7-1200,6) -> 0.4 | H7: =INDEX('CLASSEMENT TRI'!$B$4:$H$30,$A7-1200,7) -> 0.4 | I7: =INDEX('CLASSEMENT TRI'!$B$4:$I$30,$A7-1200,8) -> 0.0014517361 | J7: =INDEX('CLASSEMENT TRI'!$B$4:$K$30,$A7-1200,10) -> Parcours fini | L7: =IF(ISERROR(SMALL('CLASSEMENT TRI'!$M$4:$M$128,ROW()-3)),"",SMALL('CLASSEMENT TRI'!$M$4:$M$128,ROW()-3)) -> 4.1211
A8: =MATCH(SMALL('CLASSEMENT TRI'!M$4:M$30,ROW()-3),'CLASSEMENT TRI'!M$4:M$30,0)+1200 -> 1223 | B8: =INDEX('CLASSEMENT TRI'!$B$4:$D$30,$A8-1200,1) -> SOLENE CLEMENT | C8: =INDEX('CLASSEMENT TRI'!$B$4:$E$30,$A8-1200,2) -> UTOPY | D8: =INDEX('CLASSEMENT TRI'!$B$4:$F$30,$A8-1200,3) -> ECURIES DE LA ROCHE (78) | F8: =INDEX('CLASSEMENT TRI'!$B$4:$F$30,$A8-1200,5) -> 0 | G8: =INDEX('CLASSEMENT TRI'!$B$4:$G$30,$A8-1200,6) -> 3.6 | H8: =INDEX('CLASSEMENT TRI'!$B$4:$H$30,$A8-1200,7) -> 3.6 | I8: =INDEX('CLASSEMENT TRI'!$B$4:$I$30,$A8-1200,8) -> 0.001544213 | J8: =INDEX('CLASSEMENT TRI'!$B$4:$K$30,$A8-1200,10) -> Parcours fini | L8: =IF(ISERROR(SMALL('CLASSEMENT TRI'!$M$4:$M$128,ROW()-3)),"",SMALL('CLASSEMENT TRI'!$M$4:$M$128,ROW()-3)) -> 5.1223
A9: =MATCH(SMALL('CLASSEMENT TRI'!M$4:M$30,ROW()-3),'CLASSEMENT TRI'!M$4:M$30,0)+1200 -> 1203 | B9: =INDEX('CLASSEMENT TRI'!$B$4:$D$30,$A9-1200,1) -> MARIE PARIZY | C9: =INDEX('CLASSEMENT TRI'!$B$4:$E$30,$A9-1200,2) -> DAISY | D9: =INDEX('CLASSEMENT TRI'!$B$4:$F$30,$A9-1200,3) -> PONEY CLUB ECURIES DE JOUY (77) | F9: =INDEX('CLASSEMENT TRI'!$B$4:$F$30,$A9-1200,5) -> 4 | G9: =INDEX('CLASSEMENT TRI'!$B$4:$G$30,$A9-1200,6) -> 0 | H9: =INDEX('CLASSEMENT TRI'!$B$4:$H$30,$A9-1200,7) -> 4 | I9: =INDEX('CLASSEMENT TRI'!$B$4:$I$30,$A9-1200,8) -> 0.0013710648 | J9: =INDEX('CLASSEMENT TRI'!$B$4:$K$30,$A9-1200,10) -> Parcours fini | L9: =IF(ISERROR(SMALL('CLASSEMENT TRI'!$M$4:$M$128,ROW()-3)),"",SMALL('CLASSEMENT TRI'!$M$4:$M$128,ROW()-3)) -> 6.1203
A10: =MATCH(SMALL('CLASSEMENT TRI'!M$4:M$30,ROW()-3),'CLASSEMENT TRI'!M$4:M$30,0)+1200 -> 1207 | B10: =INDEX('CLASSEMENT TRI'!$B$4:$D$30,$A10-1200,1) -> JULIE ANDRE | C10: =INDEX('CLASSEMENT TRI'!$B$4:$E$30,$A10-1200,2) -> LOUBLUE | D10: =INDEX('CLASSEMENT TRI'!$B$4:$F$30,$A10-1200,3) -> ECURIE DE LA BOISSIERE (77) | F10: =INDEX('CLASSEMENT TRI'!$B$4:$F$30,$A10-1200,5) -> 4 | G10: =INDEX('CLASSEMENT TRI'!$B$4:$G$30,$A10-1200,6) -> 0 | H10: =INDEX('CLASSEMENT TRI'!$B$4:$H$30,$A10-1200,7) -> 4 | I10: =INDEX('CLASSEMENT TRI'!$B$4:$I$30,$A10-1200,8) -> 0.0012989583 | J10: =INDEX('CLASSEMENT TRI'!$B$4:$K$30,$A10-1200,10) -> Parcours fini | L10: =IF(ISERROR(SMALL('CLASSEMENT TRI'!$M$4:$M$128,ROW()-3)),"",SMALL('CLASSEMENT TRI'!$M$4:$M$128,ROW()-3)) -> 7.1207
A11: =MATCH(SMALL('CLASSEMENT TRI'!M$4:M$30,ROW()-3),'CLASSEMENT TRI'!M$4:M$30,0)+1200 -> 1201 | B11: =INDEX('CLASSEMENT TRI'!$B$4:$D$30,$A11-1200,1) -> CLEMENT GUILLAUME | C11: =INDEX('CLASSEMENT TRI'!$B$4:$E$30,$A11-1200,2) -> SAIDAM II | D11: =INDEX('CLASSEMENT TRI'!$B$4:$F$30,$A11-1200,3) -> E E AURORE FERIGNAC (91) | F11: =INDEX('CLASSEMENT TRI'!$B$4:$F$30,$A11-1200,5) -> 4 | G11: =INDEX('CLASSEMENT TRI'!$B$4:$G$30,$A11-1200,6) -> 1 | H11: =INDEX('CLASSEMENT TRI'!$B$4:$H$30,$A11-1200,7) -> 5 | I11: =INDEX('CLASSEMENT TRI'!$B$4:$I$30,$A11-1200,8) -> 0.0012710648 | J11: =INDEX('CLASSEMENT TRI'!$B$4:$K$30,$A11-1200,10) -> Parcours fini | L11: =IF(ISERROR(SMALL('CLASSEMENT TRI'!$M$4:$M$128,ROW()-3)),"",SMALL('CLASSEMENT TRI'!$M$4:$M$128,ROW()-3)) -> 8.1201
A12: =MATCH(SMALL('CLASSEMENT TRI'!M$4:M$30,ROW()-3),'CLASSEMENT TRI'!M$4:M$30,0)+1200 -> 1210 | B12: =INDEX('CLASSEMENT TRI'!$B$4:$D$30,$A12-1200,1) -> JULIEN LEMAIRE | C12: =INDEX('CLASSEMENT TRI'!$B$4:$E$30,$A12-1200,2) -> UTOPE | D12: =INDEX('CLASSEMENT TRI'!$B$4:$F$30,$A12-1200,3) -> PONEY CLUB DE ROMORANTIN (41) | F12: =INDEX('CLASSEMENT TRI'!$B$4:$F$30,$A12-1200,5) -> 4 | G12: =INDEX('CLASSEMENT TRI'!$B$4:$G$30,$A12-1200,6) -> 1.6 | H12: =INDEX('CLASSEMENT TRI'!$B$4:$H$30,$A12-1200,7) -> 5.6 | I12: =INDEX('CLASSEMENT TRI'!$B$4:$I$30,$A12-1200,8) -> 0.0014876157 | J12: =INDEX('CLASSEMENT TRI'!$B$4:$K$30,$A12-1200,10) -> Parcours fini | L12: =IF(ISERROR(SMALL('CLASSEMENT TRI'!$M$4:$M$128,ROW()-3)),"",SMALL('CLASSEMENT TRI'!$M$4:$M$128,ROW()-3)) -> 9.121
A13: =MATCH(SMALL('CLASSEMENT TRI'!M$4:M$30,ROW()-3),'CLASSEMENT TRI'!M$4:M$30,0)+1200 -> 1206 | B13: =INDEX('CLASSEMENT TRI'!$B$4:$D$30,$A13-1200,1) -> ANDREA FOUILLOT | C13: =INDEX('CLASSEMENT TRI'!$B$4:$E$30,$A13-1200,2) -> LOCKYDOR | D13: =INDEX('CLASSEMENT TRI'!$B$4:$F$30,$A13-1200,3) -> ECURIES DE VILLECRESNES (94) | F13: =INDEX('CLASSEMENT TRI'!$B$4:$F$30,$A13-1200,5) -> 0 | G13: =INDEX('CLASSEMENT TRI'!$B$4:$G$30,$A13-1200,6) -> 6 | H13: =INDEX('CLASSEMENT TRI'!$B$4:$H$30,$A13-1200,7) -> 6 | I13: =INDEX('CLASSEMENT TRI'!$B$4:$I$30,$A13-1200,8) -> 0.0012063657 | J13: =INDEX('CLASSEMENT TRI'!$B$4:$K$30,$A13-1200,10) -> Parcours fini | L13: =IF(ISERROR(SMALL('CLASSEMENT TRI'!$M$4:$M$128,ROW()-3)),"",SMALL('CLASSEMENT TRI'!$M$4:$M$128,ROW()-3)) -> 10.1206
A14: =MATCH(SMALL('CLASSEMENT TRI'!M$4:M$30,ROW()-3),'CLASSEMENT TRI'!M$4:M$30,0)+1200 -> 1216 | B14: =INDEX('CLASSEMENT TRI'!$B$4:$D$30,$A14-1200,1) -> CELIA GUEDON | C14: =INDEX('CLASSEMENT TRI'!$B$4:$E$30,$A14-1200,2) -> TULLAHILL PRINCESS | D14: =INDEX('CLASSEMENT TRI'!$B$4:$F$30,$A14-1200,3) -> ECURIE DU MOULIN DE COTON (77) | F14: =INDEX('CLASSEMENT TRI'!$B$4:$F$30,$A14-1200,5) -> 0 | G14: =INDEX('CLASSEMENT TRI'!$B$4:$G$30,$A14-1200,6) -> 8 | H14: =INDEX('CLASSEMENT TRI'!$B$4:$H$30,$A14-1200,7) -> 8 | I14: =INDEX('CLASSEMENT TRI'!$B$4:$I$30,$A14-1200,8) -> 0.0011881944 | J14: =INDEX('CLASSEMENT TRI'!$B$4:$K$30,$A14-1200,10) -> Parcours fini | L14: =IF(ISERROR(SMALL('CLASSEMENT TRI'!$M$4:$M$128,ROW()-3)),"",SMALL('CLASSEMENT TRI'!$M$4:$M$128,ROW()-3)) -> 11.1216
A15: =MATCH(SMALL('CLASSEMENT TRI'!M$4:M$30,ROW()-3),'CLASSEMENT TRI'!M$4:M$30,0)+1200 -> 1212 | B15: =INDEX('CLASSEMENT TRI'!$B$4:$D$30,$A15-1200,1) -> VICTOIRE CAGNOT | C15: =INDEX('CLASSEMENT TRI'!$B$4:$E$30,$A15-1200,2) -> VOTRE ALTESSE D'OTHON | D15: =INDEX('CLASSEMENT TRI'!$B$4:$F$30,$A15-1200,3) -> ECURIES DE CONDE (94) | F15: =INDEX('CLASSEMENT TRI'!$B$4:$F$30,$A15-1200,5) -> 4 | G15: =INDEX('CLASSEMENT TRI'!$B$4:$G$30,$A15-1200,6) -> 5.6 | H15: =INDEX('CLASSEMENT TRI'!$B$4:$H$30,$A15-1200,7) -> 9.6 | I15: =INDEX('CLASSEMENT TRI'!$B$4:$I$30,$A15-1200,8) -> 0.0016078704 | J15: =INDEX('CLASSEMENT TRI'!$B$4:$K$30,$A15-1200,10) -> Parcours fini | L15: =IF(ISERROR(SMALL('CLASSEMENT TRI'!$M$4:$M$128,ROW()-3)),"",SMALL('CLASSEMENT TRI'!$M$4:$M$128,ROW()-3)) -> 12.1212
... A30: =MATCH(SMALL('CLASSEMENT TRI'!M$4:M$30,ROW()-3),'CLASSEMENT TRI'!M$4:M$30,0)+1200 -> 1218 | B30: =INDEX('CLASSEMENT TRI'!$B$4:$D$30,$A30-1200,1) -> CHARLOTTE KLEKOT | C30: =INDEX('CLASSEMENT TRI'!$B$4:$E$30,$A30-1200,2) -> QUEEN MARY | D30: =INDEX('CLASSEMENT TRI'!$B$4:$F$30,$A30-1200,3) -> C H DE MEAUX (77) | F30: =INDEX('CLASSEMENT TRI'!$B$4:$F$30,$A30-1200,5) -> 0 | G30: =INDEX('CLASSEMENT TRI'!$B$4:$G$30,$A30-1200,6) | H30: =INDEX('CLASSEMENT TRI'!$B$4:$H$30,$A30-1200,7) | I30: =INDEX('CLASSEMENT TRI'!$B$4:$I$30,$A30-1200,8) | J30: =INDEX('CLASSEMENT TRI'!$B$4:$K$30,$A30-1200,10) -> Non Partant | L30: =IF(ISERROR(SMALL('CLASSEMENT TRI'!$M$4:$M$128,ROW()-3)),"",SMALL('CLASSEMENT TRI'!$M$4:$M$128,ROW()-3)) -> 4000.1218
A31: =MATCH(SMALL('CLASSEMENT TRI'!M$4:M$30,ROW()-3),'CLASSEMENT TRI'!M$4:M$30,0)+1200 -> #NUM! | B31: =INDEX('CLASSEMENT TRI'!$B$4:$D$30,$A31-1200,1) -> #NUM! | C31: =INDEX('CLASSEMENT TRI'!$B$4:$E$30,$A31-1200,2) -> #NUM! | D31: =INDEX('CLASSEMENT TRI'!$B$4:$F$30,$A31-1200,3) -> #NUM! | F31: =INDEX('CLASSEMENT TRI'!$B$4:$F$30,$A31-1200,5) -> #NUM! | G31: =INDEX('CLASSEMENT TRI'!$B$4:$G$30,$A31-1200,6) -> #NUM! | H31: =INDEX('CLASSEMENT TRI'!$B$4:$H$30,$A31-1200,7) -> #NUM! | I31: =INDEX('CLASSEMENT TRI'!$B$4:$I$30,$A31-1200,8) -> #NUM! | J31: =INDEX('CLASSEMENT TRI'!$B$4:$K$30,$A31-1200,10) -> #NUM!
J37: =MODELE!Y37 -> 0 | L37: =IF(AND(J37="Parcours fini"),(#REF!),IF(AND(J37="Eliminé"),(1000),IF(AND(J37="Chute"),(2000),IF(AND(J37="Abandon"),(3000),IF(AND(J37="Non Partant"),(4000),"")))))
J38: =MODELE!Y38 -> 0 | L38: =IF(AND(J38="Parcours fini"),(#REF!),IF(AND(J38="Eliminé"),(1000),IF(AND(J38="Chute"),(2000),IF(AND(J38="Abandon"),(3000),IF(AND(J38="Non Partant"),(4000),"")))))
J39: =MODELE!Y39 -> 0 | L39: =IF(AND(J39="Parcours fini"),(#REF!),IF(AND(J39="Eliminé"),(1000),IF(AND(J39="Chute"),(2000),IF(AND(J39="Abandon"),(3000),IF(AND(J39="Non Partant"),(4000),"")))))
J40: =MODELE!Y40 -> 0 | L40: =IF(AND(J40="Parcours fini"),(#REF!),IF(AND(J40="Eliminé"),(1000),IF(AND(J40="Chute"),(2000),IF(AND(J40="Abandon"),(3000),IF(AND(J40="Non Partant"),(4000),"")))))
J41: =MODELE!Y41 -> 0 | L41: =IF(AND(J41="Parcours fini"),(#REF!),IF(AND(J41="Eliminé"),(1000),IF(AND(J41="Chute"),(2000),IF(AND(J41="Abandon"),(3000),IF(AND(J41="Non Partant"),(4000),"")))))
J42: =MODELE!Y42 -> 0 | L42: =IF(AND(J42="Parcours fini"),(#REF!),IF(AND(J42="Eliminé"),(1000),IF(AND(J42="Chute"),(2000),IF(AND(J42="Abandon"),(3000),IF(AND(J42="Non Partant"),(4000),"")))))
J43: =MODELE!Y43 -> 0 | L43: =IF(AND(J43="Parcours fini"),(#REF!),IF(AND(J43="Eliminé"),(1000),IF(AND(J43="Chute"),(2000),IF(AND(J43="Abandon"),(3000),IF(AND(J43="Non Partant"),(4000),"")))))
J44: =MODELE!Y44 -> 0 | L44: =IF(AND(J44="Parcours fini"),(#REF!),IF(AND(J44="Eliminé"),(1000),IF(AND(J44="Chute"),(2000),IF(AND(J44="Abandon"),(3000),IF(AND(J44="Non Partant"),(4000),"")))))
J45: =MODELE!Y45 -> 0 | L45: =IF(AND(J45="Parcours fini"),(#REF!),IF(AND(J45="Eliminé"),(1000),IF(AND(J45="Chute"),(2000),IF(AND(J45="Abandon"),(3000),IF(AND(J45="Non Partant"),(4000),"")))))
J46: =MODELE!Y46 -> 0 | L46: =IF(AND(J46="Parcours fini"),(#REF!),IF(AND(J46="Eliminé"),(1000),IF(AND(J46="Chute"),(2000),IF(AND(J46="Abandon"),(3000),IF(AND(J46="Non Partant"),(4000),"")))))
J47: =MODELE!Y47 -> 0 | L47: =IF(AND(J47="Parcours fini"),(#REF!),IF(AND(J47="Eliminé"),(1000),IF(AND(J47="Chute"),(2000),IF(AND(J47="Abandon"),(3000),IF(AND(J47="Non Partant"),(4000),"")))))
J48: =MODELE!Y48 -> 0 | L48: =IF(AND(J48="Parcours fini"),(#REF!),IF(AND(J48="Eliminé"),(1000),IF(AND(J48="Chute"),(2000),IF(AND(J48="Abandon"),(3000),IF(AND(J48="Non Partant"),(4000),"")))))
... J128: =MODELE!Y128 -> 0 | L128: =IF(AND(J128="Parcours fini"),(#REF!),IF(AND(J128="Eliminé"),(1000),IF(AND(J128="Chute"),(2000),IF(AND(J128="Abandon"),(3000),IF(AND(J128="Non Partant"),(4000),"")))))
