Workbook
Name ListEmb: INDIRECT(Feuil2!$T$1)
Name Listing: Feuil2!$Q$2:$Q$11
Name ListNon: INDIRECT(Feuil2!$V$1)
Name ListRet: INDIRECT(Feuil2!$X$1)

Sheet Feuil1
A1: R1 | B1: NR1 | C1: E1 | D1: Retenue | E1: Non retenue | F1: Embauché | G1: CV | H1: Nom / Prénom | I1: Date de naissance | J1: Commune | K1: Permis | L1: Certification | M1: Téléphone | N1: Mail | O1: Date d'ajout
A2: FALSE | B2: TRUE | C2: FALSE | G2: Cvjeremy.pdf | H2: Jérémy Heber | I2: 36814 | J2: Noisy-le-Grand | K2: B | M2: 699954549 | N2: jeremylprs@gmail.com | O2: 44894
A3: FALSE | B3: FALSE | C3: TRUE | G3: Mélissacv.pdf | H3: Mélissa Heber | I3: 35767 | J3: Toulouse | K3: SPL | M3: 687654321 | N3: melisa.hbr@gmail.com | O3: 44894
A4: TRUE | B4: FALSE | C4: FALSE | G4: CVPatrick | H4: Patrick Fournier | I4: 24526 | J4: Perpignan | K4: PL | L4: ADR | M4: 679893089 | N4: Patoche@gmail.com | O4: 44894
A5: FALSE | B5: TRUE | C5: FALSE | G5: Fabrice.pdf | H5: Fabrice Lecuyer | I5: 31149 | J5: Chessy | K5: SPL | M5: 789876545 | N5: Fab12@gmail.com | O5: 44863
A6: FALSE | B6: FALSE | C6: FALSE
A7: FALSE | B7: FALSE | C7: FALSE

Sheet Feuil2
Q1: ="LISTING " & P6+1 -> LISTING 11 | R1: CHOIX | S1: Retenue | T1: ="U2:U" & 15-COUNTBLANK(U1:U15) -> U2:U2 | U1: Embauché | V1: ="W2:W" & 15-COUNTBLANK(W1:W15) -> W2:W2 | W1: Non retenue | X1: ="Y2:Y" & 15-COUNTBLANK(Y1:Y15) -> Y2:Y2 | Y1: Retenue
Q2: =IF(MONTH(Feuil1!O2)=P$6+1,OFFSET(Feuil1!O2,0,-7),"ZZZZ") -> Jérémy Heber | R2: {=IFERROR(INDIRECT("S" & SEARCH("VRAI",IF(MONTH(Feuil1!O2)=P$6+1,OFFSET(Feuil1!O2,0,-14) & "/" & OFFSET(Feuil1!O2,0,-13)& "/" & OFFSET(Feuil1!O2,0,-12),""))),"Z")} -> Non retenue | T2: =IF($R2="Embauché",ROW(),"") | U2: {=IFERROR(INDIRECT("Q"&SMALL(T$2:T$15,ROW()-1)),"")} -> Mélissa Heber | V2: =IF($R2="Non retenue",ROW(),"") -> 2 | W2: {=IFERROR(INDIRECT("Q"&SMALL(V$2:V$15,ROW()-1)),"")} -> Jérémy Heber | X2: =IF($R2="Retenue",ROW(),"") | Y2: {=IFERROR(INDIRECT("Q" & SMALL(X$2:X$15,ROW()-1)),"")} -> Patrick Fournier
Q3: =IF(MONTH(Feuil1!O3)=P$6+1,OFFSET(Feuil1!O3,0,-7),"ZZZZ") -> Mélissa Heber | R3: {=IFERROR(INDIRECT("S" & SEARCH("VRAI",IF(MONTH(Feuil1!O3)=P$6+1,OFFSET(Feuil1!O3,0,-14) & "/" & OFFSET(Feuil1!O3,0,-13)& "/" & OFFSET(Feuil1!O3,0,-12),""))),"Z")} -> Embauché | T3: =IF($R3="Embauché",ROW(),"") -> 3 | U3: {=IFERROR(INDIRECT("Q"&SMALL(T$2:T$15,ROW()-1)),"")} | V3: =IF($R3="Non retenue",ROW(),"") | W3: {=IFERROR(INDIRECT("Q"&SMALL(V$2:V$15,ROW()-1)),"")} | X3: =IF($R3="Retenue",ROW(),"") | Y3: {=IFERROR(INDIRECT("Q" & SMALL(X$2:X$15,ROW()-1)),"")}
Q4: =IF(MONTH(Feuil1!O4)=P$6+1,OFFSET(Feuil1!O4,0,-7),"ZZZZ") -> Patrick Fournier | R4: {=IFERROR(INDIRECT("S" & SEARCH("VRAI",IF(MONTH(Feuil1!O4)=P$6+1,OFFSET(Feuil1!O4,0,-14) & "/" & OFFSET(Feuil1!O4,0,-13)& "/" & OFFSET(Feuil1!O4,0,-12),""))),"Z")} -> Retenue | T4: =IF($R4="Embauché",ROW(),"") | U4: {=IFERROR(INDIRECT("Q"&SMALL(T$2:T$15,ROW()-1)),"")} | V4: =IF($R4="Non retenue",ROW(),"") | W4: {=IFERROR(INDIRECT("Q"&SMALL(V$2:V$15,ROW()-1)),"")} | X4: =IF($R4="Retenue",ROW(),"") -> 4 | Y4: {=IFERROR(INDIRECT("Q" & SMALL(X$2:X$15,ROW()-1)),"")}
Q5: =IF(MONTH(Feuil1!O5)=P$6+1,OFFSET(Feuil1!O5,0,-7),"ZZZZ") -> ZZZZ | R5: {=IFERROR(INDIRECT("S" & SEARCH("VRAI",IF(MONTH(Feuil1!O5)=P$6+1,OFFSET(Feuil1!O5,0,-14) & "/" & OFFSET(Feuil1!O5,0,-13)& "/" & OFFSET(Feuil1!O5,0,-12),""))),"Z")} -> Z | T5: =IF($R5="Embauché",ROW(),"") | U5: {=IFERROR(INDIRECT("Q"&SMALL(T$2:T$15,ROW()-1)),"")} | V5: =IF($R5="Non retenue",ROW(),"") | W5: {=IFERROR(INDIRECT("Q"&SMALL(V$2:V$15,ROW()-1)),"")} | X5: =IF($R5="Retenue",ROW(),"") | Y5: {=IFERROR(INDIRECT("Q" & SMALL(X$2:X$15,ROW()-1)),"")}
I6: Nom Prénom | O6: =EOMONTH(DATEVALUE("31/12/21"),P6)+1 -> 44866 | P6: 10 | Q6: =IF(MONTH(Feuil1!O6)=P$6+1,OFFSET(Feuil1!O6,0,-7),"ZZZZ") -> ZZZZ | R6: {=IFERROR(INDIRECT("S" & SEARCH("VRAI",IF(MONTH(Feuil1!O6)=P$6+1,OFFSET(Feuil1!O6,0,-14) & "/" & OFFSET(Feuil1!O6,0,-13)& "/" & OFFSET(Feuil1!O6,0,-12),""))),"Z")} -> Z | S6: Non retenue | T6: =IF($R6="Embauché",ROW(),"") | U6: {=IFERROR(INDIRECT("Q"&SMALL(T$2:T$15,ROW()-1)),"")} | V6: =IF($R6="Non retenue",ROW(),"") | W6: {=IFERROR(INDIRECT("Q"&SMALL(V$2:V$15,ROW()-1)),"")} | X6: =IF($R6="Retenue",ROW(),"") | Y6: {=IFERROR(INDIRECT("Q" & SMALL(X$2:X$15,ROW()-1)),"")}
G7: Embauché : | H7: =COUNTIFS(Feuil1!O:O,">="&Feuil2!$O$6,Feuil1!O:O,"<="&EOMONTH(Feuil2!O6,0),Feuil1!C:C,TRUE) -> 1 | Q7: =IF(MONTH(Feuil1!O7)=P$6+1,OFFSET(Feuil1!O7,0,-7),"ZZZZ") -> ZZZZ | R7: {=IFERROR(INDIRECT("S" & SEARCH("VRAI",IF(MONTH(Feuil1!O7)=P$6+1,OFFSET(Feuil1!O7,0,-14) & "/" & OFFSET(Feuil1!O7,0,-13)& "/" & OFFSET(Feuil1!O7,0,-12),""))),"Z")} -> Z | T7: =IF($R7="Embauché",ROW(),"") | U7: {=IFERROR(INDIRECT("Q"&SMALL(T$2:T$15,ROW()-1)),"")} | V7: =IF($R7="Non retenue",ROW(),"") | W7: {=IFERROR(INDIRECT("Q"&SMALL(V$2:V$15,ROW()-1)),"")} | X7: =IF($R7="Retenue",ROW(),"") | Y7: {=IFERROR(INDIRECT("Q" & SMALL(X$2:X$15,ROW()-1)),"")}
G8: Non retenue : | H8: =COUNTIFS(Feuil1!O:O,">="&Feuil2!$O$6,Feuil1!O:O,"<="&EOMONTH(Feuil2!O6,0),Feuil1!B:B,TRUE) -> 1 | Q8: =IF(MONTH(Feuil1!O8)=P$6+1,OFFSET(Feuil1!O8,0,-7),"ZZZZ") -> ZZZZ | R8: {=IFERROR(INDIRECT("S" & SEARCH("VRAI",IF(MONTH(Feuil1!O8)=P$6+1,OFFSET(Feuil1!O8,0,-14) & "/" & OFFSET(Feuil1!O8,0,-13)& "/" & OFFSET(Feuil1!O8,0,-12),""))),"Z")} -> Z | T8: =IF($R8="Embauché",ROW(),"") | U8: {=IFERROR(INDIRECT("Q"&SMALL(T$2:T$15,ROW()-1)),"")} | V8: =IF($R8="Non retenue",ROW(),"") | W8: {=IFERROR(INDIRECT("Q"&SMALL(V$2:V$15,ROW()-1)),"")} | X8: =IF($R8="Retenue",ROW(),"") | Y8: {=IFERROR(INDIRECT("Q" & SMALL(X$2:X$15,ROW()-1)),"")}
G9: Retenue : | H9: =COUNTIFS(Feuil1!O:O,">="&Feuil2!$O$6,Feuil1!O:O,"<="&EOMONTH(Feuil2!O6,0),Feuil1!A:A,TRUE) -> 1 | O9: =TEXT(Feuil2!$O$6,"mmmm aaaa") -> novembre 2022 | Q9: =IF(MONTH(Feuil1!O9)=P$6+1,OFFSET(Feuil1!O9,0,-7),"ZZZZ") -> ZZZZ | R9: {=IFERROR(INDIRECT("S" & SEARCH("VRAI",IF(MONTH(Feuil1!O9)=P$6+1,OFFSET(Feuil1!O9,0,-14) & "/" & OFFSET(Feuil1!O9,0,-13)& "/" & OFFSET(Feuil1!O9,0,-12),""))),"Z")} -> Z | T9: =IF($R9="Embauché",ROW(),"") | U9: {=IFERROR(INDIRECT("Q"&SMALL(T$2:T$15,ROW()-1)),"")} | V9: =IF($R9="Non retenue",ROW(),"") | W9: {=IFERROR(INDIRECT("Q"&SMALL(V$2:V$15,ROW()-1)),"")} | X9: =IF($R9="Retenue",ROW(),"") | Y9: {=IFERROR(INDIRECT("Q" & SMALL(X$2:X$15,ROW()-1)),"")}
Q10: =IF(MONTH(Feuil1!O10)=P$6+1,OFFSET(Feuil1!O10,0,-7),"ZZZZ") -> ZZZZ | R10: {=IFERROR(INDIRECT("S" & SEARCH("VRAI",IF(MONTH(Feuil1!O10)=P$6+1,OFFSET(Feuil1!O10,0,-14) & "/" & OFFSET(Feuil1!O10,0,-13)& "/" & OFFSET(Feuil1!O10,0,-12),""))),"Z")} -> Z | T10: =IF($R10="Embauché",ROW(),"") | U10: {=IFERROR(INDIRECT("Q"&SMALL(T$2:T$15,ROW()-1)),"")} | V10: =IF($R10="Non retenue",ROW(),"") | W10: {=IFERROR(INDIRECT("Q"&SMALL(V$2:V$15,ROW()-1)),"")} | X10: =IF($R10="Retenue",ROW(),"") | Y10: {=IFERROR(INDIRECT("Q" & SMALL(X$2:X$15,ROW()-1)),"")}
Q11: =IF(MONTH(Feuil1!O11)=P$6+1,OFFSET(Feuil1!O11,0,-7),"ZZZZ") -> ZZZZ | R11: {=IFERROR(INDIRECT("S" & SEARCH("VRAI",IF(MONTH(Feuil1!O11)=P$6+1,OFFSET(Feuil1!O11,0,-14) & "/" & OFFSET(Feuil1!O11,0,-13)& "/" & OFFSET(Feuil1!O11,0,-12),""))),"Z")} -> Z | S11: Embauché | T11: =IF($R11="Embauché",ROW(),"") | U11: {=IFERROR(INDIRECT("Q"&SMALL(T$2:T$15,ROW()-1)),"")} | V11: =IF($R11="Non retenue",ROW(),"") | W11: {=IFERROR(INDIRECT("Q"&SMALL(V$2:V$15,ROW()-1)),"")} | X11: =IF($R11="Retenue",ROW(),"") | Y11: {=IFERROR(INDIRECT("Q" & SMALL(X$2:X$15,ROW()-1)),"")}
O12: Colonne Q listing de novembre | Q12: =IF(MONTH(Feuil1!O12)=P$6+1,OFFSET(Feuil1!O12,0,-7),"ZZZZ") -> ZZZZ | R12: {=IFERROR(INDIRECT("S" & SEARCH("VRAI",IF(MONTH(Feuil1!O12)=P$6+1,OFFSET(Feuil1!O12,0,-14) & "/" & OFFSET(Feuil1!O12,0,-13)& "/" & OFFSET(Feuil1!O12,0,-12),""))),"Z")} -> Z | T12: =IF($R12="Embauché",ROW(),"") | U12: {=IFERROR(INDIRECT("Q"&SMALL(T$2:T$15,ROW()-1)),"")} | V12: =IF($R12="Non retenue",ROW(),"") | W12: {=IFERROR(INDIRECT("Q"&SMALL(V$2:V$15,ROW()-1)),"")} | X12: =IF($R12="Retenue",ROW(),"") | Y12: {=IFERROR(INDIRECT("Q" & SMALL(X$2:X$15,ROW()-1)),"")}
O13: Cellule T1 listing Embauché | Q13: =IF(MONTH(Feuil1!O13)=P$6+1,OFFSET(Feuil1!O13,0,-7),"ZZZZ") -> ZZZZ | R13: {=IFERROR(INDIRECT("S" & SEARCH("VRAI",IF(MONTH(Feuil1!O13)=P$6+1,OFFSET(Feuil1!O13,0,-14) & "/" & OFFSET(Feuil1!O13,0,-13)& "/" & OFFSET(Feuil1!O13,0,-12),""))),"Z")} -> Z | T13: =IF($R13="Embauché",ROW(),"") | U13: {=IFERROR(INDIRECT("Q"&SMALL(T$2:T$15,ROW()-1)),"")} | V13: =IF($R13="Non retenue",ROW(),"") | W13: {=IFERROR(INDIRECT("Q"&SMALL(V$2:V$15,ROW()-1)),"")} | X13: =IF($R13="Retenue",ROW(),"") | Y13: {=IFERROR(INDIRECT("Q" & SMALL(X$2:X$15,ROW()-1)),"")}
O14: Cellule U1 listing Non retenue | Q14: =IF(MONTH(Feuil1!O14)=P$6+1,OFFSET(Feuil1!O14,0,-7),"ZZZZ") -> ZZZZ | R14: {=IFERROR(INDIRECT("S" & SEARCH("VRAI",IF(MONTH(Feuil1!O14)=P$6+1,OFFSET(Feuil1!O14,0,-14) & "/" & OFFSET(Feuil1!O14,0,-13)& "/" & OFFSET(Feuil1!O14,0,-12),""))),"Z")} -> Z | T14: =IF($R14="Embauché",ROW(),"") | U14: {=IFERROR(INDIRECT("Q"&SMALL(T$2:T$15,ROW()-1)),"")} | V14: =IF($R14="Non retenue",ROW(),"") | W14: {=IFERROR(INDIRECT("Q"&SMALL(V$2:V$15,ROW()-1)),"")} | X14: =IF($R14="Retenue",ROW(),"") | Y14: {=IFERROR(INDIRECT("Q" & SMALL(X$2:X$15,ROW()-1)),"")}
O15: Cellule V listing Retenue | Q15: =IF(MONTH(Feuil1!O15)=P$6+1,OFFSET(Feuil1!O15,0,-7),"ZZZZ") -> ZZZZ | R15: {=IFERROR(INDIRECT("S" & SEARCH("VRAI",IF(MONTH(Feuil1!O15)=P$6+1,OFFSET(Feuil1!O15,0,-14) & "/" & OFFSET(Feuil1!O15,0,-13)& "/" & OFFSET(Feuil1!O15,0,-12),""))),"Z")} -> Z | T15: =IF($R15="Embauché",ROW(),"") | U15: {=IFERROR(INDIRECT("Q"&SMALL(T$2:T$15,ROW()-1)),"")} | V15: =IF($R15="Non retenue",ROW(),"") | W15: {=IFERROR(INDIRECT("Q"&SMALL(V$2:V$15,ROW()-1)),"")} | X15: =IF($R15="Retenue",ROW(),"") | Y15: {=IFERROR(INDIRECT("Q" & SMALL(X$2:X$15,ROW()-1)),"")}
G16: Voir notes Colonne O | O16: Colonne R et S (Triage) | V16: =IF(R16="Embauché",ROW(),"")
O17: Réalisé formules jusqu'à ligne 15
