Workbook
Name LData: OFFSET(DataRef!$F$2,0,0,COUNTA(DataRef!$F:$F)-1,)
Name LData: OFFSET(RefData!$E$2,0,0,COUNTA(RefData!$E:$E)-1,)
Name LData2: OFFSET(DataRef!$H$1,MATCH(TNAS[[#This Row],[TYPE]],DataRef!$H:$H,0)-1,1,COUNTIF(DataRef!$H:$H,TNAS[[#This Row],[TYPE]]),)
Name LData2: OFFSET(RefData!$G$1,MATCH(TNAS[[#This Row],[TYPE]],RefData!$G:$G,0)-1,1,COUNTIF(RefData!$G:$G,TNAS[[#This Row],[TYPE]]),)
Name LData3: OFFSET(DataRef!$L$1,MATCH(TNAS[[#This Row],[FABRICANT]],DataRef!$L:$L,0)-1,1,COUNTIF(DataRef!$L:$L,TNAS[[#This Row],[FABRICANT]]),)
Name LData3: OFFSET(RefData!$K$1,MATCH(TNAS[[#This Row],[FABRICANT]],RefData!$K:$K,0)-1,1,COUNTIF(RefData!$K:$K,TNAS[[#This Row],[FABRICANT]]),)

Sheet RefData
A1: TYPE | B1: FABRICANT | C1: REF_FABRICANT | E1: Étiquettes de lignes | G1: TYPE | H1: FABRICANT | J1: TYPE | K1: FABRICANT | L1: REF_FABRICANT
A2: Connecteur | B2: Molex | C2: 53047-0210 | E2: Bouchon | G2: Bouchon | H2: Neutrick | J2: Bouchon | K2: Neutrick | L2: SCMDX-TOP
A3: Connecteur | B3: Molex | C3: 53047-0410 | E3: Connecteur | G3: Connecteur | H3: Molex | J3: Connecteur | K3: Molex | L3: 53047-0210
A4: Connecteur | B4: Molex | C4: 53047-0610 | E4: Rallonge | G4: Connecteur | H4: Neutrick | J4: Connecteur | K4: Molex | L4: 53047-0410
A5: Connecteur | B5: Neutrick | C5: NC3MDX-TOP | G5: Rallonge | H5: RFSupplier | J5: Connecteur | K5: Molex | L5: 53047-0610
A6: Bouchon | B6: Neutrick | C6: SCMDX-TOP | J6: Connecteur | K6: Neutrick | L6: NC3MDX-TOP
A7: Rallonge | B7: RFSupplier | C7: AC-S01BO-U04RJ-F37-10 | J7: Rallonge | K7: RFSupplier | L7: AC-S01BO-U04RJ-F37-10
E11: {=_xlfn.UNIQUE(TData[TYPE])} -> Connecteur | G11: {=_xlfn.UNIQUE(TData[FABRICANT])} -> Molex | H11: {=_xlfn.UNIQUE(TData[REF_FABRICANT])} -> 53047-0210
E12: Bouchon | G12: Neutrick | H12: 53047-0410
E13: Rallonge | G13: RFSupplier | H13: 53047-0610
H14: NC3MDX-TOP
H15: SCMDX-TOP
H16: AC-S01BO-U04RJ-F37-10

Sheet NAS5004G
A1: TYPE | B1: FABRICANT | C1: REF_FABRICANT | F1: UNIQUE TYPE | G1: UNIQUE FAB | H1: UNIQUE REF
A2: Rallonge | B2: RFSupplier | F2: {=_xlfn._xlws.SORT(_xlfn.UNIQUE(TData[TYPE]))} -> Bouchon | G2: {=_xlfn._xlws.SORT(_xlfn.UNIQUE(TData[FABRICANT]))} -> Molex | H2: {=_xlfn._xlws.SORT(_xlfn.UNIQUE(TData[REF_FABRICANT]))} -> 53047-0210
A3: Connecteur | B3: Molex | C3: 53047-0410 | F3: Connecteur | G3: Neutrick | H3: 53047-0410
A4: Connecteur | B4: Neutrick | F4: Rallonge | G4: RFSupplier | H4: 53047-0610
A5: Rallonge | B5: RFSupplier | H5: AC-S01BO-U04RJ-F37-10
A6: Connecteur | B6: Neutrick | H6: NC3MDX-TOP
H7: SCMDX-TOP

Sheet DataRef
B1: TYPE | C1: FABRICANT | D1: REF_FABRICANT
B2: Connecteur | C2: Molex | D2: 53047-0210
B3: Connecteur | C3: Molex | D3: 53047-0410
B4: Connecteur | C4: Molex | D4: 53047-0610
B5: Connecteur | C5: Neutrick | D5: NC3MDX-TOP
B6: Bouchon | C6: Neutrick | D6: SCMDX-TOP
B7: Rallonge | C7: RFSupplier | D7: AC-S01BO-U04RJ-F37-10
B8: Prise | C8: Alwann | D8: Dble-Plus
B9: Boîtier | C9: Fourn | D9: Carré
B10: Connecteur | C10: Neutrick | D10: NC3RFX-LEFT

Sheet Trieurs
F1: Trieur REF | G1: Trieur TYPE | H1: Trieur FAB | K1: Tableau Type | L1: Choix | M1: Modif | O1: ="Trieurs!$O$3:$O$"& 2+COUNTIF(O3:O15,">=A") -> Trieurs!$O$3:$O$7 | P1: ="Trieurs!$P$3:$P$"& 2+COUNTIF(P3:P15,">=A") -> Trieurs!$P$3:$P$3 | Q1: ="Trieurs!$Q$3:$Q$"& 2+COUNTIF(Q3:Q15,">-") -> Trieurs!$Q$3:$Q$3
F2: =ROW()-1 -> 1 | G2: =IF(ISNUMBER(SEARCH($L$2,DataRef!B2)),F2,"") | H2: =IFERROR(SMALL($G$2:$G$23,F2),"") -> 8 | J2: ="J4:J" & 3+COUNTIF(J4:J23,">=A") -> J4:J4 | K2: ="K4:K" & 3+COUNTIF(K4:K23,">=A") -> K4:K4 | L2: {=INDIRECT("Select!B" & M2)} -> Boîtier | M2: =IFERROR(_xlfn.XMATCH("M",Select!A1:A100,0),1+COUNTA(Select!B2:B100)) -> 5 | N2: M | O2: Liste Type | P2: Liste Fab | Q2: Liste Ref
F3: =ROW()-1 -> 2 | G3: =IF(ISNUMBER(SEARCH($L$2,DataRef!B3)),F3,"") | H3: =IFERROR(SMALL($G$2:$G$23,F3),"") | J3: TYPE | K3: FABRICANT | L3: REF_FABRICANT | M3: ="M4:M" & 3+COUNTIF(M4:M23,">-") -> M4:M4 | O3: {=_xlfn._xlws.SORT(_xlfn.UNIQUE(TData4[TYPE]))} -> Boîtier | P3: {=_xlfn._xlws.SORT(_xlfn.UNIQUE(INDIRECT(K2)))} -> Fourn | Q3: {=_xlfn._xlws.SORT(_xlfn.UNIQUE(INDIRECT(M3)))} -> Carré
F4: =ROW()-1 -> 3 | G4: =IF(ISNUMBER(SEARCH($L$2,DataRef!B4)),F4,"") | H4: =IFERROR(SMALL($G$2:$G$23,F4),"") | J4: =IFERROR(INDEX(DataRef!$B$2:$D$23,$H2,COLUMNS($J$3:J3)),"") -> Boîtier | K4: =IFERROR(INDEX(DataRef!$C$2:$D$23,$H2,COLUMNS($K$3:K3)),"") -> Fourn | L4: =IFERROR(INDEX(DataRef!$C$2:$D$23,$H2,COLUMNS($J$3:K3)),"") -> Carré | M4: {=INDIRECT("L" & IFERROR(SMALL($N$4:$N$24,F2),""))} -> Carré | N4: {=IF(K4=INDIRECT("Select!C"&M$2),ROW(),"")} -> 4 | O4: Bouchon
F5: =ROW()-1 -> 4 | G5: =IF(ISNUMBER(SEARCH($L$2,DataRef!B5)),F5,"") | H5: =IFERROR(SMALL($G$2:$G$23,F5),"") | J5: =IFERROR(INDEX(DataRef!$B$2:$D$23,$H3,COLUMNS($J$3:J4)),"") | K5: =IFERROR(INDEX(DataRef!$C$2:$D$23,$H3,COLUMNS($K$3:K4)),"") | L5: =IFERROR(INDEX(DataRef!$C$2:$D$23,$H3,COLUMNS($J$3:K4)),"") | M5: {=INDIRECT("L" & IFERROR(SMALL($N$4:$N$24,F3),""))} -> #REF! | N5: {=IF(K5=INDIRECT("Select!C"&M$2),ROW(),"")} | O5: Connecteur
F6: =ROW()-1 -> 5 | G6: =IF(ISNUMBER(SEARCH($L$2,DataRef!B6)),F6,"") | H6: =IFERROR(SMALL($G$2:$G$23,F6),"") | J6: =IFERROR(INDEX(DataRef!$B$2:$D$23,$H4,COLUMNS($J$3:J5)),"") | K6: =IFERROR(INDEX(DataRef!$C$2:$D$23,$H4,COLUMNS($K$3:K5)),"") | L6: =IFERROR(INDEX(DataRef!$C$2:$D$23,$H4,COLUMNS($J$3:K5)),"") | M6: {=INDIRECT("L" & IFERROR(SMALL($N$4:$N$24,F4),""))} -> #REF! | N6: {=IF(K6=INDIRECT("Select!C"&M$2),ROW(),"")} | O6: Prise
F7: =ROW()-1 -> 6 | G7: =IF(ISNUMBER(SEARCH($L$2,DataRef!B7)),F7,"") | H7: =IFERROR(SMALL($G$2:$G$23,F7),"") | J7: =IFERROR(INDEX(DataRef!$B$2:$D$23,$H5,COLUMNS($J$3:J6)),"") | K7: =IFERROR(INDEX(DataRef!$C$2:$D$23,$H5,COLUMNS($K$3:K6)),"") | L7: =IFERROR(INDEX(DataRef!$C$2:$D$23,$H5,COLUMNS($J$3:K6)),"") | M7: {=INDIRECT("L" & IFERROR(SMALL($N$4:$N$24,F5),""))} -> #REF! | N7: {=IF(K7=INDIRECT("Select!C"&M$2),ROW(),"")} | O7: Rallonge
F8: =ROW()-1 -> 7 | G8: =IF(ISNUMBER(SEARCH($L$2,DataRef!B8)),F8,"") | H8: =IFERROR(SMALL($G$2:$G$23,F8),"") | J8: =IFERROR(INDEX(DataRef!$B$2:$D$23,$H6,COLUMNS($J$3:J7)),"") | K8: =IFERROR(INDEX(DataRef!$C$2:$D$23,$H6,COLUMNS($K$3:K7)),"") | L8: =IFERROR(INDEX(DataRef!$C$2:$D$23,$H6,COLUMNS($J$3:K7)),"") | M8: {=INDIRECT("L" & IFERROR(SMALL($N$4:$N$24,F6),""))} -> #REF! | N8: {=IF(K8=INDIRECT("Select!C"&M$2),ROW(),"")}
F9: =ROW()-1 -> 8 | G9: =IF(ISNUMBER(SEARCH($L$2,DataRef!B9)),F9,"") -> 8 | H9: =IFERROR(SMALL($G$2:$G$23,F9),"") | J9: =IFERROR(INDEX(DataRef!$B$2:$D$23,$H7,COLUMNS($J$3:J8)),"") | K9: =IFERROR(INDEX(DataRef!$C$2:$D$23,$H7,COLUMNS($K$3:K8)),"") | L9: =IFERROR(INDEX(DataRef!$C$2:$D$23,$H7,COLUMNS($J$3:K8)),"") | N9: {=IF(K9=INDIRECT("Select!C"&M$2),ROW(),"")}
F10: =ROW()-1 -> 9 | G10: =IF(ISNUMBER(SEARCH($L$2,DataRef!B10)),F10,"") | H10: =IFERROR(SMALL($G$2:$G$23,F10),"") | J10: =IFERROR(INDEX(DataRef!$B$2:$D$23,$H8,COLUMNS($J$3:J9)),"") | K10: =IFERROR(INDEX(DataRef!$C$2:$D$23,$H8,COLUMNS($K$3:K9)),"") | L10: =IFERROR(INDEX(DataRef!$C$2:$D$23,$H8,COLUMNS($J$3:K9)),"") | N10: {=IF(K10=INDIRECT("Select!C"&M$2),ROW(),"")}
F11: =ROW()-1 -> 10 | G11: =IF(ISNUMBER(SEARCH($L$2,DataRef!B11)),F11,"") | H11: =IFERROR(SMALL($G$2:$G$23,F11),"") | J11: =IFERROR(INDEX(DataRef!$B$2:$D$23,$H9,COLUMNS($J$3:J10)),"") | K11: =IFERROR(INDEX(DataRef!$C$2:$D$23,$H9,COLUMNS($K$3:K10)),"") | L11: =IFERROR(INDEX(DataRef!$C$2:$D$23,$H9,COLUMNS($J$3:K10)),"") | N11: {=IF(K11=INDIRECT("Select!C"&M$2),ROW(),"")}
F12: =ROW()-1 -> 11 | G12: =IF(ISNUMBER(SEARCH($L$2,DataRef!B12)),F12,"") | H12: =IFERROR(SMALL($G$2:$G$23,F12),"") | J12: =IFERROR(INDEX(DataRef!$B$2:$D$23,$H10,COLUMNS($J$3:J11)),"") | K12: =IFERROR(INDEX(DataRef!$C$2:$D$23,$H10,COLUMNS($K$3:K11)),"") | L12: =IFERROR(INDEX(DataRef!$C$2:$D$23,$H10,COLUMNS($J$3:K11)),"") | N12: {=IF(K12=INDIRECT("Select!C"&M$2),ROW(),"")}
F13: =ROW()-1 -> 12 | G13: =IF(ISNUMBER(SEARCH($L$2,DataRef!B13)),F13,"") | H13: =IFERROR(SMALL($G$2:$G$23,F13),"") | J13: =IFERROR(INDEX(DataRef!$B$2:$D$23,$H11,COLUMNS($J$3:J12)),"") | K13: =IFERROR(INDEX(DataRef!$C$2:$D$23,$H11,COLUMNS($K$3:K12)),"") | L13: =IFERROR(INDEX(DataRef!$C$2:$D$23,$H11,COLUMNS($J$3:K12)),"") | N13: {=IF(K13=INDIRECT("Select!C"&M$2),ROW(),"")}
F14: =ROW()-1 -> 13 | G14: =IF(ISNUMBER(SEARCH($L$2,DataRef!B14)),F14,"") | H14: =IFERROR(SMALL($G$2:$G$23,F14),"") | J14: =IFERROR(INDEX(DataRef!$B$2:$D$23,$H12,COLUMNS($J$3:J13)),"") | K14: =IFERROR(INDEX(DataRef!$C$2:$D$23,$H12,COLUMNS($K$3:K13)),"") | L14: =IFERROR(INDEX(DataRef!$C$2:$D$23,$H12,COLUMNS($J$3:K13)),"") | N14: {=IF(K14=INDIRECT("Select!C"&M$2),ROW(),"")}
F15: =ROW()-1 -> 14 | G15: =IF(ISNUMBER(SEARCH($L$2,DataRef!B15)),F15,"") | H15: =IFERROR(SMALL($G$2:$G$23,F15),"") | J15: =IFERROR(INDEX(DataRef!$B$2:$D$23,$H13,COLUMNS($J$3:J14)),"") | K15: =IFERROR(INDEX(DataRef!$C$2:$D$23,$H13,COLUMNS($K$3:K14)),"") | L15: =IFERROR(INDEX(DataRef!$C$2:$D$23,$H13,COLUMNS($J$3:K14)),"") | N15: {=IF(K15=INDIRECT("Select!C"&M$2),ROW(),"")}
F16: =ROW()-1 -> 15 | G16: =IF(ISNUMBER(SEARCH($L$2,DataRef!B16)),F16,"") | H16: =IFERROR(SMALL($G$2:$G$23,F16),"") | J16: =IFERROR(INDEX(DataRef!$B$2:$D$23,$H14,COLUMNS($J$3:J15)),"") | K16: =IFERROR(INDEX(DataRef!$C$2:$D$23,$H14,COLUMNS($K$3:K15)),"") | L16: =IFERROR(INDEX(DataRef!$C$2:$D$23,$H14,COLUMNS($J$3:K15)),"") | N16: {=IF(K16=INDIRECT("Select!C"&M$2),ROW(),"")}
F17: =ROW()-1 -> 16 | G17: =IF(ISNUMBER(SEARCH($L$2,DataRef!B17)),F17,"") | H17: =IFERROR(SMALL($G$2:$G$23,F17),"") | J17: =IFERROR(INDEX(DataRef!$B$2:$D$23,$H15,COLUMNS($J$3:J16)),"") | K17: =IFERROR(INDEX(DataRef!$C$2:$D$23,$H15,COLUMNS($K$3:K16)),"") | L17: =IFERROR(INDEX(DataRef!$C$2:$D$23,$H15,COLUMNS($J$3:K16)),"") | N17: {=IF(K17=INDIRECT("Select!C"&M$2),ROW(),"")}
F18: =ROW()-1 -> 17 | G18: =IF(ISNUMBER(SEARCH($L$2,DataRef!B18)),F18,"") | H18: =IFERROR(SMALL($G$2:$G$23,F18),"") | J18: =IFERROR(INDEX(DataRef!$B$2:$D$23,$H16,COLUMNS($J$3:J17)),"") | K18: =IFERROR(INDEX(DataRef!$C$2:$D$23,$H16,COLUMNS($K$3:K17)),"") | L18: =IFERROR(INDEX(DataRef!$C$2:$D$23,$H16,COLUMNS($J$3:K17)),"") | N18: {=IF(K18=INDIRECT("Select!C"&M$2),ROW(),"")}
F19: =ROW()-1 -> 18 | G19: =IF(ISNUMBER(SEARCH($L$2,DataRef!B19)),F19,"") | H19: =IFERROR(SMALL($G$2:$G$23,F19),"") | J19: =IFERROR(INDEX(DataRef!$B$2:$D$23,$H17,COLUMNS($J$3:J18)),"") | K19: =IFERROR(INDEX(DataRef!$C$2:$D$23,$H17,COLUMNS($K$3:K18)),"") | L19: =IFERROR(INDEX(DataRef!$C$2:$D$23,$H17,COLUMNS($J$3:K18)),"") | N19: {=IF(K19=INDIRECT("Select!C"&M$2),ROW(),"")}
F20: =ROW()-1 -> 19 | G20: =IF(ISNUMBER(SEARCH($L$2,DataRef!B20)),F20,"") | H20: =IFERROR(SMALL($G$2:$G$23,F20),"") | J20: =IFERROR(INDEX(DataRef!$B$2:$D$23,$H18,COLUMNS($J$3:J19)),"") | K20: =IFERROR(INDEX(DataRef!$C$2:$D$23,$H18,COLUMNS($K$3:K19)),"") | L20: =IFERROR(INDEX(DataRef!$C$2:$D$23,$H18,COLUMNS($J$3:K19)),"") | N20: {=IF(K20=INDIRECT("Select!C"&M$2),ROW(),"")}
... F24: =ROW()-1 -> 23 | G24: =IF(ISNUMBER(SEARCH($L$2,DataRef!B24)),F24,"") | H24: =IFERROR(SMALL($G$2:$G$23,F24),"") | J24: =IFERROR(INDEX(DataRef!$B$2:$D$23,$H22,COLUMNS($J$3:J23)),"") | K24: =IFERROR(INDEX(DataRef!$C$2:$D$23,$H22,COLUMNS($K$3:K23)),"") | L24: =IFERROR(INDEX(DataRef!$C$2:$D$23,$H22,COLUMNS($J$3:K23)),"") | N24: {=IF(K24=INDIRECT("Select!C"&M$2),ROW(),"")}

Sheet Select
A1: Correct | B1: TYPE | C1: FABRICANT | D1: REF_FABRICANT
B2: Connecteur | C2: Molex | D2: 53047-0410
B3: Bouchon | C3: Neutrick | D3: SCMDX-TOP | F3: Note: Pour modifier une ligne, exceptée la dernière entrée, taper M dans la ligne à corriger. Afin de bloquer le choix du tableau TYPE.
B4: Rallonge | C4: RFSupplier | D4: AC-S01BO-U04RJ-F37-10 | F4: Puis ensuite, une fois la modification effectuée, supprimer le M de la colonne A par la touche supression.
B5: Boîtier | C5: Fourn | D5: Carré | F5: Voir aussi Feuille DataRef.
F6: Lors de l'ajout dans la colonne TYPE de la feuille DataRef. Ne pas oublier de renseigner les colonnes FABRICANT et REF_FABRICANT.
F8: La partie Triage est sur la feuille Trieurs
