Workbook
Name Marc: Feuil4!$B$5:$E$5
Name Titi10: Feuil4!$B$11:$E$11

Sheet Feuil1
A1: Place | B1: Nom | C1: Récup Val 1 | D1: Récup Val 2 | E1: Récup Val 3 | F1: Récup Val 4
A2: =ROW()-1 -> 1 | B2: titi | C2: =INDEX(Feuil2!$B$1:$E$20,MATCH($B2,Feuil2!$F$1:$F$20,0),1) -> #N/A | D2: =INDEX(Feuil2!$B$1:$E$20,MATCH($B2,Feuil2!$F$1:$F$20,0),2) -> #N/A | E2: =INDEX(Feuil2!$B$1:$E$20,MATCH($B2,Feuil2!$F$1:$F$20,0),3) -> #N/A | F2: =INDEX(Feuil2!$B$1:$E$20,MATCH($B2,Feuil2!$F$1:$F$20,0),4) -> #N/A
A3: =ROW()-1 -> 2 | B3: titi | C3: =INDEX(Feuil2!$B$1:$E$20,MATCH($B3,Feuil2!$F$1:$F$20,0),1) -> #N/A | D3: =INDEX(Feuil2!$B$1:$E$20,MATCH($B3,Feuil2!$F$1:$F$20,0),2) -> #N/A | E3: =INDEX(Feuil2!$B$1:$E$20,MATCH($B3,Feuil2!$F$1:$F$20,0),3) -> #N/A | F3: =INDEX(Feuil2!$B$1:$E$20,MATCH($B3,Feuil2!$F$1:$F$20,0),4) -> #N/A
A4: =ROW()-1 -> 3 | B4: titi | C4: =INDEX(Feuil2!$B$1:$E$20,MATCH($B4,Feuil2!$F$1:$F$20,0),1) -> #N/A | D4: =INDEX(Feuil2!$B$1:$E$20,MATCH($B4,Feuil2!$F$1:$F$20,0),2) -> #N/A | E4: =INDEX(Feuil2!$B$1:$E$20,MATCH($B4,Feuil2!$F$1:$F$20,0),3) -> #N/A | F4: =INDEX(Feuil2!$B$1:$E$20,MATCH($B4,Feuil2!$F$1:$F$20,0),4) -> #N/A | H4: Note: C'est le prénom ici qui va servir de clé pour récupérer les valeurs
A5: =ROW()-1 -> 4 | B5: titi | C5: =INDEX(Feuil2!$B$1:$E$20,MATCH($B5,Feuil2!$F$1:$F$20,0),1) -> #N/A | D5: =INDEX(Feuil2!$B$1:$E$20,MATCH($B5,Feuil2!$F$1:$F$20,0),2) -> #N/A | E5: =INDEX(Feuil2!$B$1:$E$20,MATCH($B5,Feuil2!$F$1:$F$20,0),3) -> #N/A | F5: =INDEX(Feuil2!$B$1:$E$20,MATCH($B5,Feuil2!$F$1:$F$20,0),4) -> #N/A | H5: Change la place de Marc en tapant Marc en B15 et en l'effaçant en B9
A6: =ROW()-1 -> 5 | B6: titi | C6: =INDEX(Feuil2!$B$1:$E$20,MATCH($B6,Feuil2!$F$1:$F$20,0),1) -> #N/A | D6: =INDEX(Feuil2!$B$1:$E$20,MATCH($B6,Feuil2!$F$1:$F$20,0),2) -> #N/A | E6: =INDEX(Feuil2!$B$1:$E$20,MATCH($B6,Feuil2!$F$1:$F$20,0),3) -> #N/A | F6: =INDEX(Feuil2!$B$1:$E$20,MATCH($B6,Feuil2!$F$1:$F$20,0),4) -> #N/A
A7: =ROW()-1 -> 6 | B7: titi | C7: =INDEX(Feuil2!$B$1:$E$20,MATCH($B7,Feuil2!$F$1:$F$20,0),1) -> #N/A | D7: =INDEX(Feuil2!$B$1:$E$20,MATCH($B7,Feuil2!$F$1:$F$20,0),2) -> #N/A | E7: =INDEX(Feuil2!$B$1:$E$20,MATCH($B7,Feuil2!$F$1:$F$20,0),3) -> #N/A | F7: =INDEX(Feuil2!$B$1:$E$20,MATCH($B7,Feuil2!$F$1:$F$20,0),4) -> #N/A
A8: =ROW()-1 -> 7 | B8: titi | C8: =INDEX(Feuil2!$B$1:$E$20,MATCH($B8,Feuil2!$F$1:$F$20,0),1) -> #N/A | D8: =INDEX(Feuil2!$B$1:$E$20,MATCH($B8,Feuil2!$F$1:$F$20,0),2) -> #N/A | E8: =INDEX(Feuil2!$B$1:$E$20,MATCH($B8,Feuil2!$F$1:$F$20,0),3) -> #N/A | F8: =INDEX(Feuil2!$B$1:$E$20,MATCH($B8,Feuil2!$F$1:$F$20,0),4) -> #N/A
A9: =ROW()-1 -> 8 | B9: titi | C9: =INDEX(Feuil2!$B$1:$E$20,MATCH($B9,Feuil2!$F$1:$F$20,0),1) -> #N/A | D9: =INDEX(Feuil2!$B$1:$E$20,MATCH($B9,Feuil2!$F$1:$F$20,0),2) -> #N/A | E9: =INDEX(Feuil2!$B$1:$E$20,MATCH($B9,Feuil2!$F$1:$F$20,0),3) -> #N/A | F9: =INDEX(Feuil2!$B$1:$E$20,MATCH($B9,Feuil2!$F$1:$F$20,0),4) -> #N/A
A10: =ROW()-1 -> 9 | B10: titi | C10: =INDEX(Feuil2!$B$1:$E$20,MATCH($B10,Feuil2!$F$1:$F$20,0),1) -> #N/A | D10: =INDEX(Feuil2!$B$1:$E$20,MATCH($B10,Feuil2!$F$1:$F$20,0),2) -> #N/A | E10: =INDEX(Feuil2!$B$1:$E$20,MATCH($B10,Feuil2!$F$1:$F$20,0),3) -> #N/A | F10: =INDEX(Feuil2!$B$1:$E$20,MATCH($B10,Feuil2!$F$1:$F$20,0),4) -> #N/A
A11: =ROW()-1 -> 10 | B11: toto | C11: =INDEX(Feuil2!$B$1:$E$20,MATCH($B11,Feuil2!$F$1:$F$20,0),1) -> #N/A | D11: =INDEX(Feuil2!$B$1:$E$20,MATCH($B11,Feuil2!$F$1:$F$20,0),2) -> #N/A | E11: =INDEX(Feuil2!$B$1:$E$20,MATCH($B11,Feuil2!$F$1:$F$20,0),3) -> #N/A | F11: =INDEX(Feuil2!$B$1:$E$20,MATCH($B11,Feuil2!$F$1:$F$20,0),4) -> #N/A
A12: =ROW()-1 -> 11 | B12: toto | C12: =INDEX(Feuil2!$B$1:$E$20,MATCH($B12,Feuil2!$F$1:$F$20,0),1) -> #N/A | D12: =INDEX(Feuil2!$B$1:$E$20,MATCH($B12,Feuil2!$F$1:$F$20,0),2) -> #N/A | E12: =INDEX(Feuil2!$B$1:$E$20,MATCH($B12,Feuil2!$F$1:$F$20,0),3) -> #N/A | F12: =INDEX(Feuil2!$B$1:$E$20,MATCH($B12,Feuil2!$F$1:$F$20,0),4) -> #N/A
A13: =ROW()-1 -> 12 | B13: toto | C13: =INDEX(Feuil2!$B$1:$E$20,MATCH($B13,Feuil2!$F$1:$F$20,0),1) -> #N/A | D13: =INDEX(Feuil2!$B$1:$E$20,MATCH($B13,Feuil2!$F$1:$F$20,0),2) -> #N/A | E13: =INDEX(Feuil2!$B$1:$E$20,MATCH($B13,Feuil2!$F$1:$F$20,0),3) -> #N/A | F13: =INDEX(Feuil2!$B$1:$E$20,MATCH($B13,Feuil2!$F$1:$F$20,0),4) -> #N/A
A14: =ROW()-1 -> 13 | B14: toto | C14: =INDEX(Feuil2!$B$1:$E$20,MATCH($B14,Feuil2!$F$1:$F$20,0),1) -> #N/A | D14: =INDEX(Feuil2!$B$1:$E$20,MATCH($B14,Feuil2!$F$1:$F$20,0),2) -> #N/A | E14: =INDEX(Feuil2!$B$1:$E$20,MATCH($B14,Feuil2!$F$1:$F$20,0),3) -> #N/A | F14: =INDEX(Feuil2!$B$1:$E$20,MATCH($B14,Feuil2!$F$1:$F$20,0),4) -> #N/A
A15: =ROW()-1 -> 14 | B15: toto | C15: =INDEX(Feuil2!$B$1:$E$20,MATCH($B15,Feuil2!$F$1:$F$20,0),1) -> #N/A | D15: =INDEX(Feuil2!$B$1:$E$20,MATCH($B15,Feuil2!$F$1:$F$20,0),2) -> #N/A | E15: =INDEX(Feuil2!$B$1:$E$20,MATCH($B15,Feuil2!$F$1:$F$20,0),3) -> #N/A | F15: =INDEX(Feuil2!$B$1:$E$20,MATCH($B15,Feuil2!$F$1:$F$20,0),4) -> #N/A
A16: =ROW()-1 -> 15 | B16: Marc | C16: =INDEX(Feuil2!$B$1:$E$20,MATCH($B16,Feuil2!$F$1:$F$20,0),1) -> 100 | D16: =INDEX(Feuil2!$B$1:$E$20,MATCH($B16,Feuil2!$F$1:$F$20,0),2) -> 200 | E16: =INDEX(Feuil2!$B$1:$E$20,MATCH($B16,Feuil2!$F$1:$F$20,0),3) -> 300 | F16: =INDEX(Feuil2!$B$1:$E$20,MATCH($B16,Feuil2!$F$1:$F$20,0),4) -> 400
A17: =ROW()-1 -> 16 | B17: toto | C17: =INDEX(Feuil2!$B$1:$E$20,MATCH($B17,Feuil2!$F$1:$F$20,0),1) -> #N/A | D17: =INDEX(Feuil2!$B$1:$E$20,MATCH($B17,Feuil2!$F$1:$F$20,0),2) -> #N/A | E17: =INDEX(Feuil2!$B$1:$E$20,MATCH($B17,Feuil2!$F$1:$F$20,0),3) -> #N/A | F17: =INDEX(Feuil2!$B$1:$E$20,MATCH($B17,Feuil2!$F$1:$F$20,0),4) -> #N/A
... A20: =ROW()-1 -> 19 | B20: toto | C20: =INDEX(Feuil2!$B$1:$E$20,MATCH($B20,Feuil2!$F$1:$F$20,0),1) -> #N/A | D20: =INDEX(Feuil2!$B$1:$E$20,MATCH($B20,Feuil2!$F$1:$F$20,0),2) -> #N/A | E20: =INDEX(Feuil2!$B$1:$E$20,MATCH($B20,Feuil2!$F$1:$F$20,0),3) -> #N/A | F20: =INDEX(Feuil2!$B$1:$E$20,MATCH($B20,Feuil2!$F$1:$F$20,0),4) -> #N/A

Sheet Feuil2
A1: Place | B1: V1 | C1: V2 | D1: V3 | E1: V4 | F1: Nom
A2: 1
A3: 2
A4: 3 | B4: 100 | C4: 200 | D4: 300 | E4: 400 | F4: Marc
A5: 4
A6: 5
A7: 6
A8: 7
A9: 8
A10: 9
A11: 10
A12: 11
A13: 12
A14: 13
A15: 14
A16: 15
... A20: 19

Sheet Feuil3
A1: Place | B1: Nom | C1: Récup Val 1 | D1: Récup Val 2 | E1: Récup Val 3 | F1: Récup Val 4
A2: 1 | B2: Titi1 | C2: {=INDIRECT(B2)} -> #REF!
A3: 2 | B3: Titi2 | C3: {=INDIRECT(B3)} -> #REF!
A4: 3 | B4: Titi3 | C4: {=INDIRECT(B4)} -> #REF! | H4: Note: Toujours le prénom ici qui va servir de clé pour récupérer les valeurs.
A5: 4 | B5: Titi4 | C5: {=INDIRECT(B5)} -> #REF! | H5: Mais défini comme formule de Nom dans le gestionnaire de Noms
A6: 5 | B6: Titi5 | C6: {=INDIRECT(B6)} -> #REF! | H6: La version Excel doit aussi disposer de EQUIVX (voir feuille 4)
A7: 6 | B7: Titi6 | C7: {=INDIRECT(B7)} -> #REF!
A8: 7 | B8: Titi7 | C8: {=INDIRECT(B8)} -> #REF!
A9: 8 | B9: Titi8 | C9: {=INDIRECT(B9)} -> #REF!
A10: 9 | B10: Titi9 | C10: {=INDIRECT(B10)} -> #REF!
A11: 10 | B11: Marc | C11: {=INDIRECT(B11)} -> 100 | D11: 200 | E11: 300 | F11: 400
A12: 11 | B12: toto | C12: {=INDIRECT(B12)} -> #REF!
A13: 12 | B13: toto | C13: {=INDIRECT(B13)} -> #REF!
A14: 13 | B14: toto | C14: {=INDIRECT(B14)} -> #REF!
A15: 14 | B15: toto | C15: {=INDIRECT(B15)} -> #REF!
A16: 15 | B16: Titi10 | C16: {=INDIRECT(B16)} -> 1 | D16: 2 | E16: 3 | F16: 4
A17: 16 | B17: toto | C17: {=INDIRECT(B17)} -> #REF!
A18: 17 | B18: toto | C18: {=INDIRECT(B18)} -> #REF!
A19: 18 | B19: toto | C19: {=INDIRECT(B19)} -> #REF!
A20: 19 | B20: toto | C20: {=INDIRECT(B20)} -> #REF!

Sheet Feuil4
A1: Place | B1: V1 | C1: V2 | D1: V3 | E1: V4 | F1: Nom
A2: =_xlfn.XMATCH(F2,Feuil3!B$2:B$20,1) -> #N/A
A3: =_xlfn.XMATCH(F3,Feuil3!B$2:B$20,1) -> #N/A
A4: =_xlfn.XMATCH(F4,Feuil3!B$2:B$20,1) -> #N/A
A5: =_xlfn.XMATCH(F5,Feuil3!B$2:B$20,1) -> 10 | B5: 100 | C5: 200 | D5: 300 | E5: 400 | F5: Marc
A6: =_xlfn.XMATCH(F6,Feuil3!B$2:B$20,1) -> #N/A
A7: =_xlfn.XMATCH(F7,Feuil3!B$2:B$20,1) -> #N/A
A8: =_xlfn.XMATCH(F8,Feuil3!B$2:B$20,1) -> #N/A
A9: =_xlfn.XMATCH(F9,Feuil3!B$2:B$20,1) -> #N/A
A10: =_xlfn.XMATCH(F10,Feuil3!B$2:B$20,1) -> #N/A
A11: =_xlfn.XMATCH(F11,Feuil3!B$2:B$20,1) -> 15 | B11: 1 | C11: 2 | D11: 3 | E11: 4 | F11: Titi10
A12: =_xlfn.XMATCH(F12,Feuil3!B$2:B$20,1) -> #N/A
A13: =_xlfn.XMATCH(F13,Feuil3!B$2:B$20,1) -> #N/A
A14: =_xlfn.XMATCH(F14,Feuil3!B$2:B$20,1) -> #N/A
A15: =_xlfn.XMATCH(F15,Feuil3!B$2:B$20,1) -> #N/A
A16: =_xlfn.XMATCH(F16,Feuil3!B$2:B$20,1) -> #N/A
A17: =_xlfn.XMATCH(F17,Feuil3!B$2:B$20,1) -> #N/A
A18: =_xlfn.XMATCH(F18,Feuil3!B$2:B$20,1) -> #N/A
A19: =_xlfn.XMATCH(F19,Feuil3!B$2:B$20,1) -> #N/A
A20: =_xlfn.XMATCH(F20,Feuil3!B$2:B$20,1) -> #N/A
