Workbook

Sheet Feuil1
A1: Place | B1: Nom | C1: Récup Val 1 | D1: Récup Val 2 | E1: Récup Val 3 | F1: Récup Val 4
A2: =ROW()-1 -> 1 | B2: titi | C2: =INDEX(Feuil2!$B$1:$E$20,MATCH($B2,Feuil2!$F$1:$F$20,0),1) -> #N/A | D2: =INDEX(Feuil2!$B$1:$E$20,MATCH($B2,Feuil2!$F$1:$F$20,0),2) -> #N/A | E2: =INDEX(Feuil2!$B$1:$E$20,MATCH($B2,Feuil2!$F$1:$F$20,0),3) -> #N/A | F2: =INDEX(Feuil2!$B$1:$E$20,MATCH($B2,Feuil2!$F$1:$F$20,0),4) -> #N/A
A3: =ROW()-1 -> 2 | B3: titi | C3: =INDEX(Feuil2!$B$1:$E$20,MATCH($B3,Feuil2!$F$1:$F$20,0),1) -> #N/A | D3: =INDEX(Feuil2!$B$1:$E$20,MATCH($B3,Feuil2!$F$1:$F$20,0),2) -> #N/A | E3: =INDEX(Feuil2!$B$1:$E$20,MATCH($B3,Feuil2!$F$1:$F$20,0),3) -> #N/A | F3: =INDEX(Feuil2!$B$1:$E$20,MATCH($B3,Feuil2!$F$1:$F$20,0),4) -> #N/A
A4: =ROW()-1 -> 3 | B4: titi | C4: =INDEX(Feuil2!$B$1:$E$20,MATCH($B4,Feuil2!$F$1:$F$20,0),1) -> #N/A | D4: =INDEX(Feuil2!$B$1:$E$20,MATCH($B4,Feuil2!$F$1:$F$20,0),2) -> #N/A | E4: =INDEX(Feuil2!$B$1:$E$20,MATCH($B4,Feuil2!$F$1:$F$20,0),3) -> #N/A | F4: =INDEX(Feuil2!$B$1:$E$20,MATCH($B4,Feuil2!$F$1:$F$20,0),4) -> #N/A | H4: Note: C'est le prénom ici qui va servir de clé pour récupérer les valeurs
A5: =ROW()-1 -> 4 | B5: titi | C5: =INDEX(Feuil2!$B$1:$E$20,MATCH($B5,Feuil2!$F$1:$F$20,0),1) -> #N/A | D5: =INDEX(Feuil2!$B$1:$E$20,MATCH($B5,Feuil2!$F$1:$F$20,0),2) -> #N/A | E5: =INDEX(Feuil2!$B$1:$E$20,MATCH($B5,Feuil2!$F$1:$F$20,0),3) -> #N/A | F5: =INDEX(Feuil2!$B$1:$E$20,MATCH($B5,Feuil2!$F$1:$F$20,0),4) -> #N/A | H5: Change la place de Marc en tapant Marc en B15 et en l'effaçant en B9
A6: =ROW()-1 -> 5 | B6: titi | C6: =INDEX(Feuil2!$B$1:$E$20,MATCH($B6,Feuil2!$F$1:$F$20,0),1) -> #N/A | D6: =INDEX(Feuil2!$B$1:$E$20,MATCH($B6,Feuil2!$F$1:$F$20,0),2) -> #N/A | E6: =INDEX(Feuil2!$B$1:$E$20,MATCH($B6,Feuil2!$F$1:$F$20,0),3) -> #N/A | F6: =INDEX(Feuil2!$B$1:$E$20,MATCH($B6,Feuil2!$F$1:$F$20,0),4) -> #N/A
A7: =ROW()-1 -> 6 | B7: titi | C7: =INDEX(Feuil2!$B$1:$E$20,MATCH($B7,Feuil2!$F$1:$F$20,0),1) -> #N/A | D7: =INDEX(Feuil2!$B$1:$E$20,MATCH($B7,Feuil2!$F$1:$F$20,0),2) -> #N/A | E7: =INDEX(Feuil2!$B$1:$E$20,MATCH($B7,Feuil2!$F$1:$F$20,0),3) -> #N/A | F7: =INDEX(Feuil2!$B$1:$E$20,MATCH($B7,Feuil2!$F$1:$F$20,0),4) -> #N/A
A8: =ROW()-1 -> 7 | B8: titi | C8: =INDEX(Feuil2!$B$1:$E$20,MATCH($B8,Feuil2!$F$1:$F$20,0),1) -> #N/A | D8: =INDEX(Feuil2!$B$1:$E$20,MATCH($B8,Feuil2!$F$1:$F$20,0),2) -> #N/A | E8: =INDEX(Feuil2!$B$1:$E$20,MATCH($B8,Feuil2!$F$1:$F$20,0),3) -> #N/A | F8: =INDEX(Feuil2!$B$1:$E$20,MATCH($B8,Feuil2!$F$1:$F$20,0),4) -> #N/A
A9: =ROW()-1 -> 8 | B9: titi | C9: =INDEX(Feuil2!$B$1:$E$20,MATCH($B9,Feuil2!$F$1:$F$20,0),1) -> #N/A | D9: =INDEX(Feuil2!$B$1:$E$20,MATCH($B9,Feuil2!$F$1:$F$20,0),2) -> #N/A | E9: =INDEX(Feuil2!$B$1:$E$20,MATCH($B9,Feuil2!$F$1:$F$20,0),3) -> #N/A | F9: =INDEX(Feuil2!$B$1:$E$20,MATCH($B9,Feuil2!$F$1:$F$20,0),4) -> #N/A
A10: =ROW()-1 -> 9 | B10: Marc | C10: =INDEX(Feuil2!$B$1:$E$20,MATCH($B10,Feuil2!$F$1:$F$20,0),1) -> 100 | D10: =INDEX(Feuil2!$B$1:$E$20,MATCH($B10,Feuil2!$F$1:$F$20,0),2) -> 200 | E10: =INDEX(Feuil2!$B$1:$E$20,MATCH($B10,Feuil2!$F$1:$F$20,0),3) -> 300 | F10: =INDEX(Feuil2!$B$1:$E$20,MATCH($B10,Feuil2!$F$1:$F$20,0),4) -> 400
A11: =ROW()-1 -> 10 | B11: toto | C11: =INDEX(Feuil2!$B$1:$E$20,MATCH($B11,Feuil2!$F$1:$F$20,0),1) -> #N/A | D11: =INDEX(Feuil2!$B$1:$E$20,MATCH($B11,Feuil2!$F$1:$F$20,0),2) -> #N/A | E11: =INDEX(Feuil2!$B$1:$E$20,MATCH($B11,Feuil2!$F$1:$F$20,0),3) -> #N/A | F11: =INDEX(Feuil2!$B$1:$E$20,MATCH($B11,Feuil2!$F$1:$F$20,0),4) -> #N/A
A12: =ROW()-1 -> 11 | B12: toto | C12: =INDEX(Feuil2!$B$1:$E$20,MATCH($B12,Feuil2!$F$1:$F$20,0),1) -> #N/A | D12: =INDEX(Feuil2!$B$1:$E$20,MATCH($B12,Feuil2!$F$1:$F$20,0),2) -> #N/A | E12: =INDEX(Feuil2!$B$1:$E$20,MATCH($B12,Feuil2!$F$1:$F$20,0),3) -> #N/A | F12: =INDEX(Feuil2!$B$1:$E$20,MATCH($B12,Feuil2!$F$1:$F$20,0),4) -> #N/A
A13: =ROW()-1 -> 12 | B13: toto | C13: =INDEX(Feuil2!$B$1:$E$20,MATCH($B13,Feuil2!$F$1:$F$20,0),1) -> #N/A | D13: =INDEX(Feuil2!$B$1:$E$20,MATCH($B13,Feuil2!$F$1:$F$20,0),2) -> #N/A | E13: =INDEX(Feuil2!$B$1:$E$20,MATCH($B13,Feuil2!$F$1:$F$20,0),3) -> #N/A | F13: =INDEX(Feuil2!$B$1:$E$20,MATCH($B13,Feuil2!$F$1:$F$20,0),4) -> #N/A
A14: =ROW()-1 -> 13 | B14: toto | C14: =INDEX(Feuil2!$B$1:$E$20,MATCH($B14,Feuil2!$F$1:$F$20,0),1) -> #N/A | D14: =INDEX(Feuil2!$B$1:$E$20,MATCH($B14,Feuil2!$F$1:$F$20,0),2) -> #N/A | E14: =INDEX(Feuil2!$B$1:$E$20,MATCH($B14,Feuil2!$F$1:$F$20,0),3) -> #N/A | F14: =INDEX(Feuil2!$B$1:$E$20,MATCH($B14,Feuil2!$F$1:$F$20,0),4) -> #N/A
A15: =ROW()-1 -> 14 | B15: toto | C15: =INDEX(Feuil2!$B$1:$E$20,MATCH($B15,Feuil2!$F$1:$F$20,0),1) -> #N/A | D15: =INDEX(Feuil2!$B$1:$E$20,MATCH($B15,Feuil2!$F$1:$F$20,0),2) -> #N/A | E15: =INDEX(Feuil2!$B$1:$E$20,MATCH($B15,Feuil2!$F$1:$F$20,0),3) -> #N/A | F15: =INDEX(Feuil2!$B$1:$E$20,MATCH($B15,Feuil2!$F$1:$F$20,0),4) -> #N/A
A16: =ROW()-1 -> 15 | B16: toto | C16: =INDEX(Feuil2!$B$1:$E$20,MATCH($B16,Feuil2!$F$1:$F$20,0),1) -> #N/A | D16: =INDEX(Feuil2!$B$1:$E$20,MATCH($B16,Feuil2!$F$1:$F$20,0),2) -> #N/A | E16: =INDEX(Feuil2!$B$1:$E$20,MATCH($B16,Feuil2!$F$1:$F$20,0),3) -> #N/A | F16: =INDEX(Feuil2!$B$1:$E$20,MATCH($B16,Feuil2!$F$1:$F$20,0),4) -> #N/A
A17: =ROW()-1 -> 16 | B17: toto | C17: =INDEX(Feuil2!$B$1:$E$20,MATCH($B17,Feuil2!$F$1:$F$20,0),1) -> #N/A | D17: =INDEX(Feuil2!$B$1:$E$20,MATCH($B17,Feuil2!$F$1:$F$20,0),2) -> #N/A | E17: =INDEX(Feuil2!$B$1:$E$20,MATCH($B17,Feuil2!$F$1:$F$20,0),3) -> #N/A | F17: =INDEX(Feuil2!$B$1:$E$20,MATCH($B17,Feuil2!$F$1:$F$20,0),4) -> #N/A
... A20: =ROW()-1 -> 19 | B20: toto | C20: =INDEX(Feuil2!$B$1:$E$20,MATCH($B20,Feuil2!$F$1:$F$20,0),1) -> #N/A | D20: =INDEX(Feuil2!$B$1:$E$20,MATCH($B20,Feuil2!$F$1:$F$20,0),2) -> #N/A | E20: =INDEX(Feuil2!$B$1:$E$20,MATCH($B20,Feuil2!$F$1:$F$20,0),3) -> #N/A | F20: =INDEX(Feuil2!$B$1:$E$20,MATCH($B20,Feuil2!$F$1:$F$20,0),4) -> #N/A

Sheet Feuil2
A1: Place | B1: V1 | C1: V2 | D1: V3 | E1: V4 | F1: Nom
A4: =MATCH(F4,Feuil1!B$1:B$20) -> 10 | B4: 100 | C4: 200 | D4: 300 | E4: 400 | F4: Marc
