Workbook
Name bdd: hotels!$A$10:$G$109
Name datedelivraison: hotels!$B$10:$B$109
Name semdelivraison: parametres!$A$2:$A$9
Name valconcatr: parametres!$E$2:$E$101

Sheet hotels
A1: Suivi Plateaux Repas Hôtels
I2: RECAP PLTX :
A3: Année* | B3: SEMAINE DE LIVRAISON* | I3: =parametres!A2 -> 43829 | J3: =parametres!B2 -> 3
A4: 2020 | B4: 1 | I4: =parametres!A3 -> 43830 | J4: =parametres!B3 -> 2
A5: *Année à renseigner | B5: *N° de semaine à renseigner | I5: =parametres!A4 -> 43831 | J5: =parametres!B4 -> 3
C6: TOT PLTX : | E6: =J10 -> 15 | I6: =parametres!A5 -> 43832 | J6: =parametres!B5 -> 2
A7: (*par défaut, la date de livraison doit être n.r // 1 date renseignée=1pltx) | I7: =parametres!A6 -> 43833 | J7: =parametres!B6 -> 1
A8: Commande | B8: Livraison | D8: HOTEL | E8: Client | I8: =parametres!A7 -> 43834 | J8: =parametres!B7 -> 2
A9: Date | B9: Date* | C9: Heure souhaitée | E9: Nom | F9: Spécificité alimentaire | G9: Type d'eau | I9: =parametres!A8 -> 43835 | J9: =parametres!B8 -> 2
A10: 43811 | B10: 43829 | C10: 12h00 | D10: le crillon | E10: la palette des couleurs de la vie | F10: vegan, aime le boudin noir, sans salade | G10: gazeuse | J10: =SUM(J3:J9) -> 15 | K10: =IF(B10="jj/mm/aa",TEXT(B10,"nnnn"),"")
A11: 43819 | B11: 43829 | C11: 15h00 | D11: tahaa resort & spa | E11: la palette des couleurs de la vie | F11: vegan, aime le boudin noir, sans salade | G11: plate
A12: 43820 | B12: 43830 | C12: 16h00 | D12: sheraton | E12: la palette des couleurs de la vie | F12: vegan, aime le boudin noir, sans salade | G12: plate
A13: 43750 | B13: 43830 | C13: 18h00 | D13: continental | E13: la palette des couleurs de la vie | F13: vegan, aime le boudin noir, sans salade | G13: plate
A14: 43782 | B14: 43831 | C14: 20h00 | E14: la palette des couleurs de la vie | F14: vegan, aime le boudin noir, sml,l ;ans salade | G14: gazeuse
B15: 43831 | C15: 10h00 | E15: la palette des couleurs de la vie | F15: vegan, aime le boudin noir, sans salade | G15: plate
A16: 43780 | B16: 43832 | C16: 10h00 | D16: Formule 1 | E16: la palette des couleurs de la vie | F16: vegan, aime le boudin noir, sans salade | G16: gazeuse
B17: 43832 | C17: 15h00 | E17: la palette des couleurs de la vie | F17: vegan, aime le boudin noir, sans salade | G17: gazeuse
A18: 43731 | B18: 43833 | C18: 16h00 | D18: la peche à la moule | E18: la palette des couleurs de la vie | F18: vegan, aime le boudin noir, sans salade | G18: plate
B19: 43834 | C19: 10h00 | E19: la palette des couleurs de la vie | F19: vegan, aime le boudin noir, sans salade | G19: bulleuse
B20: 43834 | C20: 8h00 | D20: cogito ergo sum | E20: la palette des couleurs de la vie | F20: vegan, aime le boudin noir, sans salade | G20: gazeuse
B21: 43835 | C21: 7h00 | E21: la palette des couleurs de la vie | F21: vegan, aime le boudin noir, sans salade | G21: plate
B22: 43835 | C22: 9h00 | D22: pheobus | E22: la palette des couleurs de la vie | F22: vegan, aime le boudin noir, sans salade
A23: 43821 | B23: 43829 | C23: 11h00 | D23: sheraton | E23: la palette des couleurs de la vie | F23: vegan, aime le boudin noir, sans salade | G23: gazeuse
A24: 43761 | B24: 43831 | C24: 10h00 | E24: la palette des couleurs de la vie | F24: vegan, aime le boudin noir, sans salade | G24: plate
B25: n.r.
B26: n.r.
B27: n.r.
B28: n.r.
B29: n.r.
B30: n.r.
B31: n.r.
B32: n.r.
B33: n.r.
B34: n.r.
B35: n.r.
B36: n.r.
... B109: n.r.

Sheet lundi
A1: Année | B1: SEMAINE
A2: =hotels!$A$4 -> 2020 | B2: =hotels!$B$4 -> 1
A4: TOT PLTX | B4: =parametres!$B2 -> 3 | F4: =parametres!$A$2 -> 43829
A6: Commande | B6: Livraison | C6: HOTEL | D6: Client
A7: Date | B7: Heure souhaitée | D7: Nom | E7: Spécificité alimentaire | F7: Type d'eau
A8: =IF(ISBLANK(INDEX(bdd,MATCH(TEXT($F$4,"jjj j")&"_"&parametres!$G2,valconcatr,0),1)),"",IF(ROWS($A$8:A8)<=parametres!$B$2,INDEX(bdd,MATCH(TEXT($F$4,"jjj j")&"_"&parametres!$G2,valconcatr,0),1),"")) -> 43811 | B8: =IF(ISBLANK(INDEX(bdd,MATCH(TEXT($F$4,"jjj j")&"_"&parametres!$G2,valconcatr,0),3)),"",IF(ROWS($B$8:B8)<=parametres!$B$2,INDEX(bdd,MATCH(TEXT($F$4,"jjj j")&"_"&parametres!$G2,valconcatr,0),3),"")) -> 12h00 | C8: =IF(ISBLANK(INDEX(bdd,MATCH(TEXT($F$4,"jjj j")&"_"&parametres!$G2,valconcatr,0),4)),"",IF(ROWS($B$8:C8)<=parametres!$B$2,INDEX(bdd,MATCH(TEXT($F$4,"jjj j")&"_"&parametres!$G2,valconcatr,0),4),"")) -> le crillon | D8: =IF(ISBLANK(INDEX(bdd,MATCH(TEXT($F$4,"jjj j")&"_"&parametres!$G2,valconcatr,0),5)),"",IF(ROWS($B$8:D8)<=parametres!$B$2,INDEX(bdd,MATCH(TEXT($F$4,"jjj j")&"_"&parametres!$G2,valconcatr,0),5),"")) -> la palette des couleurs de la vie | E8: =IF(ISBLANK(INDEX(bdd,MATCH(TEXT($F$4,"jjj j")&"_"&parametres!$G2,valconcatr,0),6)),"",IF(ROWS($B$8:E8)<=parametres!$B$2,INDEX(bdd,MATCH(TEXT($F$4,"jjj j")&"_"&parametres!$G2,valconcatr,0),6),"")) -> vegan, aime le boudin noir, sans salade | F8: =IF(ISBLANK(INDEX(bdd,MATCH(TEXT($F$4,"jjj j")&"_"&parametres!$G2,valconcatr,0),7)),"",IF(ROWS($B$8:F8)<=parametres!$B$2,INDEX(bdd,MATCH(TEXT($F$4,"jjj j")&"_"&parametres!$G2,valconcatr,0),7),"")) -> gazeuse
A9: =IF(ISBLANK(INDEX(bdd,MATCH(TEXT($F$4,"jjj j")&"_"&parametres!$G3,valconcatr,0),1)),"",IF(ROWS($A$8:A9)<=parametres!$B$2,INDEX(bdd,MATCH(TEXT($F$4,"jjj j")&"_"&parametres!$G3,valconcatr,0),1),"")) -> 43819 | B9: =IF(ISBLANK(INDEX(bdd,MATCH(TEXT($F$4,"jjj j")&"_"&parametres!$G3,valconcatr,0),3)),"",IF(ROWS($B$8:B9)<=parametres!$B$2,INDEX(bdd,MATCH(TEXT($F$4,"jjj j")&"_"&parametres!$G3,valconcatr,0),3),"")) -> 15h00 | C9: =IF(ISBLANK(INDEX(bdd,MATCH(TEXT($F$4,"jjj j")&"_"&parametres!$G3,valconcatr,0),4)),"",IF(ROWS($B$8:C9)<=parametres!$B$2,INDEX(bdd,MATCH(TEXT($F$4,"jjj j")&"_"&parametres!$G3,valconcatr,0),4),"")) -> tahaa resort & spa | D9: =IF(ISBLANK(INDEX(bdd,MATCH(TEXT($F$4,"jjj j")&"_"&parametres!$G3,valconcatr,0),5)),"",IF(ROWS($B$8:D9)<=parametres!$B$2,INDEX(bdd,MATCH(TEXT($F$4,"jjj j")&"_"&parametres!$G3,valconcatr,0),5),"")) -> la palette des couleurs de la vie | E9: =IF(ISBLANK(INDEX(bdd,MATCH(TEXT($F$4,"jjj j")&"_"&parametres!$G3,valconcatr,0),6)),"",IF(ROWS($B$8:E9)<=parametres!$B$2,INDEX(bdd,MATCH(TEXT($F$4,"jjj j")&"_"&parametres!$G3,valconcatr,0),6),"")) -> vegan, aime le boudin noir, sans salade | F9: =IF(ISBLANK(INDEX(bdd,MATCH(TEXT($F$4,"jjj j")&"_"&parametres!$G3,valconcatr,0),7)),"",IF(ROWS($B$8:F9)<=parametres!$B$2,INDEX(bdd,MATCH(TEXT($F$4,"jjj j")&"_"&parametres!$G3,valconcatr,0),7),"")) -> plate
A10: =IF(ISBLANK(INDEX(bdd,MATCH(TEXT($F$4,"jjj j")&"_"&parametres!$G4,valconcatr,0),1)),"",IF(ROWS($A$8:A10)<=parametres!$B$2,INDEX(bdd,MATCH(TEXT($F$4,"jjj j")&"_"&parametres!$G4,valconcatr,0),1),"")) -> 43821 | B10: =IF(ISBLANK(INDEX(bdd,MATCH(TEXT($F$4,"jjj j")&"_"&parametres!$G4,valconcatr,0),3)),"",IF(ROWS($B$8:B10)<=parametres!$B$2,INDEX(bdd,MATCH(TEXT($F$4,"jjj j")&"_"&parametres!$G4,valconcatr,0),3),"")) -> 11h00 | C10: =IF(ISBLANK(INDEX(bdd,MATCH(TEXT($F$4,"jjj j")&"_"&parametres!$G4,valconcatr,0),4)),"",IF(ROWS($B$8:C10)<=parametres!$B$2,INDEX(bdd,MATCH(TEXT($F$4,"jjj j")&"_"&parametres!$G4,valconcatr,0),4),"")) -> sheraton | D10: =IF(ISBLANK(INDEX(bdd,MATCH(TEXT($F$4,"jjj j")&"_"&parametres!$G4,valconcatr,0),5)),"",IF(ROWS($B$8:D10)<=parametres!$B$2,INDEX(bdd,MATCH(TEXT($F$4,"jjj j")&"_"&parametres!$G4,valconcatr,0),5),"")) -> la palette des couleurs de la vie | E10: =IF(ISBLANK(INDEX(bdd,MATCH(TEXT($F$4,"jjj j")&"_"&parametres!$G4,valconcatr,0),6)),"",IF(ROWS($B$8:E10)<=parametres!$B$2,INDEX(bdd,MATCH(TEXT($F$4,"jjj j")&"_"&parametres!$G4,valconcatr,0),6),"")) -> vegan, aime le boudin noir, sans salade | F10: =IF(ISBLANK(INDEX(bdd,MATCH(TEXT($F$4,"jjj j")&"_"&parametres!$G4,valconcatr,0),7)),"",IF(ROWS($B$8:F10)<=parametres!$B$2,INDEX(bdd,MATCH(TEXT($F$4,"jjj j")&"_"&parametres!$G4,valconcatr,0),7),"")) -> gazeuse
A11: =IF(ISBLANK(INDEX(bdd,MATCH(TEXT($F$4,"nnnn")&"_"&parametres!$G5,valconcatr,0),1)),"",IF(ROWS($A$8:A11)<=parametres!$B$2,INDEX(bdd,MATCH(TEXT($F$4,"nnnn")&"_"&parametres!$G5,valconcatr,0),1),"")) | B11: =IF(ISBLANK(INDEX(bdd,MATCH(TEXT($F$4,"nnnn")&"_"&parametres!$G5,valconcatr,0),3)),"",IF(ROWS($B$8:B11)<=parametres!$B$2,INDEX(bdd,MATCH(TEXT($F$4,"nnnn")&"_"&parametres!$G5,valconcatr,0),3),"")) | C11: =IF(ISBLANK(INDEX(bdd,MATCH(TEXT($F$4,"nnnn")&"_"&parametres!$G5,valconcatr,0),4)),"",IF(ROWS($B$8:C11)<=parametres!$B$2,INDEX(bdd,MATCH(TEXT($F$4,"nnnn")&"_"&parametres!$G5,valconcatr,0),4),"")) | D11: =IF(ISBLANK(INDEX(bdd,MATCH(TEXT($F$4,"nnnn")&"_"&parametres!$G5,valconcatr,0),5)),"",IF(ROWS($B$8:D11)<=parametres!$B$2,INDEX(bdd,MATCH(TEXT($F$4,"nnnn")&"_"&parametres!$G5,valconcatr,0),5),"")) | E11: =IF(ISBLANK(INDEX(bdd,MATCH(TEXT($F$4,"nnnn")&"_"&parametres!$G5,valconcatr,0),6)),"",IF(ROWS($B$8:E11)<=parametres!$B$2,INDEX(bdd,MATCH(TEXT($F$4,"nnnn")&"_"&parametres!$G5,valconcatr,0),6),"")) | F11: =IF(ISBLANK(INDEX(bdd,MATCH(TEXT($F$4,"nnnn")&"_"&parametres!$G5,valconcatr,0),7)),"",IF(ROWS($B$8:F11)<=parametres!$B$2,INDEX(bdd,MATCH(TEXT($F$4,"nnnn")&"_"&parametres!$G5,valconcatr,0),7),""))
A12: =IF(ISBLANK(INDEX(bdd,MATCH(TEXT($F$4,"nnnn")&"_"&parametres!$G6,valconcatr,0),1)),"",IF(ROWS($A$8:A12)<=parametres!$B$2,INDEX(bdd,MATCH(TEXT($F$4,"nnnn")&"_"&parametres!$G6,valconcatr,0),1),"")) | B12: =IF(ISBLANK(INDEX(bdd,MATCH(TEXT($F$4,"nnnn")&"_"&parametres!$G6,valconcatr,0),3)),"",IF(ROWS($B$8:B12)<=parametres!$B$2,INDEX(bdd,MATCH(TEXT($F$4,"nnnn")&"_"&parametres!$G6,valconcatr,0),3),"")) | C12: =IF(ISBLANK(INDEX(bdd,MATCH(TEXT($F$4,"nnnn")&"_"&parametres!$G6,valconcatr,0),4)),"",IF(ROWS($B$8:C12)<=parametres!$B$2,INDEX(bdd,MATCH(TEXT($F$4,"nnnn")&"_"&parametres!$G6,valconcatr,0),4),"")) | D12: =IF(ISBLANK(INDEX(bdd,MATCH(TEXT($F$4,"nnnn")&"_"&parametres!$G6,valconcatr,0),5)),"",IF(ROWS($B$8:D12)<=parametres!$B$2,INDEX(bdd,MATCH(TEXT($F$4,"nnnn")&"_"&parametres!$G6,valconcatr,0),5),"")) | E12: =IF(ISBLANK(INDEX(bdd,MATCH(TEXT($F$4,"nnnn")&"_"&parametres!$G6,valconcatr,0),6)),"",IF(ROWS($B$8:E12)<=parametres!$B$2,INDEX(bdd,MATCH(TEXT($F$4,"nnnn")&"_"&parametres!$G6,valconcatr,0),6),"")) | F12: =IF(ISBLANK(INDEX(bdd,MATCH(TEXT($F$4,"nnnn")&"_"&parametres!$G6,valconcatr,0),7)),"",IF(ROWS($B$8:F12)<=parametres!$B$2,INDEX(bdd,MATCH(TEXT($F$4,"nnnn")&"_"&parametres!$G6,valconcatr,0),7),""))
A13: =IF(ISBLANK(INDEX(bdd,MATCH(TEXT($F$4,"nnnn")&"_"&parametres!$G7,valconcatr,0),1)),"",IF(ROWS($A$8:A13)<=parametres!$B$2,INDEX(bdd,MATCH(TEXT($F$4,"nnnn")&"_"&parametres!$G7,valconcatr,0),1),"")) | B13: =IF(ISBLANK(INDEX(bdd,MATCH(TEXT($F$4,"nnnn")&"_"&parametres!$G7,valconcatr,0),3)),"",IF(ROWS($B$8:B13)<=parametres!$B$2,INDEX(bdd,MATCH(TEXT($F$4,"nnnn")&"_"&parametres!$G7,valconcatr,0),3),"")) | C13: =IF(ISBLANK(INDEX(bdd,MATCH(TEXT($F$4,"nnnn")&"_"&parametres!$G7,valconcatr,0),4)),"",IF(ROWS($B$8:C13)<=parametres!$B$2,INDEX(bdd,MATCH(TEXT($F$4,"nnnn")&"_"&parametres!$G7,valconcatr,0),4),"")) | D13: =IF(ISBLANK(INDEX(bdd,MATCH(TEXT($F$4,"nnnn")&"_"&parametres!$G7,valconcatr,0),5)),"",IF(ROWS($B$8:D13)<=parametres!$B$2,INDEX(bdd,MATCH(TEXT($F$4,"nnnn")&"_"&parametres!$G7,valconcatr,0),5),"")) | E13: =IF(ISBLANK(INDEX(bdd,MATCH(TEXT($F$4,"nnnn")&"_"&parametres!$G7,valconcatr,0),6)),"",IF(ROWS($B$8:E13)<=parametres!$B$2,INDEX(bdd,MATCH(TEXT($F$4,"nnnn")&"_"&parametres!$G7,valconcatr,0),6),"")) | F13: =IF(ISBLANK(INDEX(bdd,MATCH(TEXT($F$4,"nnnn")&"_"&parametres!$G7,valconcatr,0),7)),"",IF(ROWS($B$8:F13)<=parametres!$B$2,INDEX(bdd,MATCH(TEXT($F$4,"nnnn")&"_"&parametres!$G7,valconcatr,0),7),""))
A14: =IF(ISBLANK(INDEX(bdd,MATCH(TEXT($F$4,"nnnn")&"_"&parametres!$G8,valconcatr,0),1)),"",IF(ROWS($A$8:A14)<=parametres!$B$2,INDEX(bdd,MATCH(TEXT($F$4,"nnnn")&"_"&parametres!$G8,valconcatr,0),1),"")) | B14: =IF(ISBLANK(INDEX(bdd,MATCH(TEXT($F$4,"nnnn")&"_"&parametres!$G8,valconcatr,0),3)),"",IF(ROWS($B$8:B14)<=parametres!$B$2,INDEX(bdd,MATCH(TEXT($F$4,"nnnn")&"_"&parametres!$G8,valconcatr,0),3),"")) | C14: =IF(ISBLANK(INDEX(bdd,MATCH(TEXT($F$4,"nnnn")&"_"&parametres!$G8,valconcatr,0),4)),"",IF(ROWS($B$8:C14)<=parametres!$B$2,INDEX(bdd,MATCH(TEXT($F$4,"nnnn")&"_"&parametres!$G8,valconcatr,0),4),"")) | D14: =IF(ISBLANK(INDEX(bdd,MATCH(TEXT($F$4,"nnnn")&"_"&parametres!$G8,valconcatr,0),5)),"",IF(ROWS($B$8:D14)<=parametres!$B$2,INDEX(bdd,MATCH(TEXT($F$4,"nnnn")&"_"&parametres!$G8,valconcatr,0),5),"")) | E14: =IF(ISBLANK(INDEX(bdd,MATCH(TEXT($F$4,"nnnn")&"_"&parametres!$G8,valconcatr,0),6)),"",IF(ROWS($B$8:E14)<=parametres!$B$2,INDEX(bdd,MATCH(TEXT($F$4,"nnnn")&"_"&parametres!$G8,valconcatr,0),6),"")) | F14: =IF(ISBLANK(INDEX(bdd,MATCH(TEXT($F$4,"nnnn")&"_"&parametres!$G8,valconcatr,0),7)),"",IF(ROWS($B$8:F14)<=parametres!$B$2,INDEX(bdd,MATCH(TEXT($F$4,"nnnn")&"_"&parametres!$G8,valconcatr,0),7),""))
A15: =IF(ISBLANK(INDEX(bdd,MATCH(TEXT($F$4,"nnnn")&"_"&parametres!$G9,valconcatr,0),1)),"",IF(ROWS($A$8:A15)<=parametres!$B$2,INDEX(bdd,MATCH(TEXT($F$4,"nnnn")&"_"&parametres!$G9,valconcatr,0),1),"")) | B15: =IF(ISBLANK(INDEX(bdd,MATCH(TEXT($F$4,"nnnn")&"_"&parametres!$G9,valconcatr,0),3)),"",IF(ROWS($B$8:B15)<=parametres!$B$2,INDEX(bdd,MATCH(TEXT($F$4,"nnnn")&"_"&parametres!$G9,valconcatr,0),3),"")) | C15: =IF(ISBLANK(INDEX(bdd,MATCH(TEXT($F$4,"nnnn")&"_"&parametres!$G9,valconcatr,0),4)),"",IF(ROWS($B$8:C15)<=parametres!$B$2,INDEX(bdd,MATCH(TEXT($F$4,"nnnn")&"_"&parametres!$G9,valconcatr,0),4),"")) | D15: =IF(ISBLANK(INDEX(bdd,MATCH(TEXT($F$4,"nnnn")&"_"&parametres!$G9,valconcatr,0),5)),"",IF(ROWS($B$8:D15)<=parametres!$B$2,INDEX(bdd,MATCH(TEXT($F$4,"nnnn")&"_"&parametres!$G9,valconcatr,0),5),"")) | E15: =IF(ISBLANK(INDEX(bdd,MATCH(TEXT($F$4,"nnnn")&"_"&parametres!$G9,valconcatr,0),6)),"",IF(ROWS($B$8:E15)<=parametres!$B$2,INDEX(bdd,MATCH(TEXT($F$4,"nnnn")&"_"&parametres!$G9,valconcatr,0),6),"")) | F15: =IF(ISBLANK(INDEX(bdd,MATCH(TEXT($F$4,"nnnn")&"_"&parametres!$G9,valconcatr,0),7)),"",IF(ROWS($B$8:F15)<=parametres!$B$2,INDEX(bdd,MATCH(TEXT($F$4,"nnnn")&"_"&parametres!$G9,valconcatr,0),7),""))
A16: =IF(ISBLANK(INDEX(bdd,MATCH(TEXT($F$4,"nnnn")&"_"&parametres!$G10,valconcatr,0),1)),"",IF(ROWS($A$8:A16)<=parametres!$B$2,INDEX(bdd,MATCH(TEXT($F$4,"nnnn")&"_"&parametres!$G10,valconcatr,0),1),"")) | B16: =IF(ISBLANK(INDEX(bdd,MATCH(TEXT($F$4,"nnnn")&"_"&parametres!$G10,valconcatr,0),3)),"",IF(ROWS($B$8:B16)<=parametres!$B$2,INDEX(bdd,MATCH(TEXT($F$4,"nnnn")&"_"&parametres!$G10,valconcatr,0),3),"")) | C16: =IF(ISBLANK(INDEX(bdd,MATCH(TEXT($F$4,"nnnn")&"_"&parametres!$G10,valconcatr,0),4)),"",IF(ROWS($B$8:C16)<=parametres!$B$2,INDEX(bdd,MATCH(TEXT($F$4,"nnnn")&"_"&parametres!$G10,valconcatr,0),4),"")) | D16: =IF(ISBLANK(INDEX(bdd,MATCH(TEXT($F$4,"nnnn")&"_"&parametres!$G10,valconcatr,0),5)),"",IF(ROWS($B$8:D16)<=parametres!$B$2,INDEX(bdd,MATCH(TEXT($F$4,"nnnn")&"_"&parametres!$G10,valconcatr,0),5),"")) | E16: =IF(ISBLANK(INDEX(bdd,MATCH(TEXT($F$4,"nnnn")&"_"&parametres!$G10,valconcatr,0),6)),"",IF(ROWS($B$8:E16)<=parametres!$B$2,INDEX(bdd,MATCH(TEXT($F$4,"nnnn")&"_"&parametres!$G10,valconcatr,0),6),"")) | F16: =IF(ISBLANK(INDEX(bdd,MATCH(TEXT($F$4,"nnnn")&"_"&parametres!$G10,valconcatr,0),7)),"",IF(ROWS($B$8:F16)<=parametres!$B$2,INDEX(bdd,MATCH(TEXT($F$4,"nnnn")&"_"&parametres!$G10,valconcatr,0),7),""))
A17: =IF(ISBLANK(INDEX(bdd,MATCH(TEXT($F$4,"nnnn")&"_"&parametres!$G11,valconcatr,0),1)),"",IF(ROWS($A$8:A17)<=parametres!$B$2,INDEX(bdd,MATCH(TEXT($F$4,"nnnn")&"_"&parametres!$G11,valconcatr,0),1),"")) | B17: =IF(ISBLANK(INDEX(bdd,MATCH(TEXT($F$4,"nnnn")&"_"&parametres!$G11,valconcatr,0),3)),"",IF(ROWS($B$8:B17)<=parametres!$B$2,INDEX(bdd,MATCH(TEXT($F$4,"nnnn")&"_"&parametres!$G11,valconcatr,0),3),"")) | C17: =IF(ISBLANK(INDEX(bdd,MATCH(TEXT($F$4,"nnnn")&"_"&parametres!$G11,valconcatr,0),4)),"",IF(ROWS($B$8:C17)<=parametres!$B$2,INDEX(bdd,MATCH(TEXT($F$4,"nnnn")&"_"&parametres!$G11,valconcatr,0),4),"")) | D17: =IF(ISBLANK(INDEX(bdd,MATCH(TEXT($F$4,"nnnn")&"_"&parametres!$G11,valconcatr,0),5)),"",IF(ROWS($B$8:D17)<=parametres!$B$2,INDEX(bdd,MATCH(TEXT($F$4,"nnnn")&"_"&parametres!$G11,valconcatr,0),5),"")) | E17: =IF(ISBLANK(INDEX(bdd,MATCH(TEXT($F$4,"nnnn")&"_"&parametres!$G11,valconcatr,0),6)),"",IF(ROWS($B$8:E17)<=parametres!$B$2,INDEX(bdd,MATCH(TEXT($F$4,"nnnn")&"_"&parametres!$G11,valconcatr,0),6),"")) | F17: =IF(ISBLANK(INDEX(bdd,MATCH(TEXT($F$4,"nnnn")&"_"&parametres!$G11,valconcatr,0),7)),"",IF(ROWS($B$8:F17)<=parametres!$B$2,INDEX(bdd,MATCH(TEXT($F$4,"nnnn")&"_"&parametres!$G11,valconcatr,0),7),""))
A18: =IF(ISBLANK(INDEX(bdd,MATCH(TEXT($F$4,"nnnn")&"_"&parametres!$G12,valconcatr,0),1)),"",IF(ROWS($A$8:A18)<=parametres!$B$2,INDEX(bdd,MATCH(TEXT($F$4,"nnnn")&"_"&parametres!$G12,valconcatr,0),1),"")) | B18: =IF(ISBLANK(INDEX(bdd,MATCH(TEXT($F$4,"nnnn")&"_"&parametres!$G12,valconcatr,0),3)),"",IF(ROWS($B$8:B18)<=parametres!$B$2,INDEX(bdd,MATCH(TEXT($F$4,"nnnn")&"_"&parametres!$G12,valconcatr,0),3),"")) | C18: =IF(ISBLANK(INDEX(bdd,MATCH(TEXT($F$4,"nnnn")&"_"&parametres!$G12,valconcatr,0),4)),"",IF(ROWS($B$8:C18)<=parametres!$B$2,INDEX(bdd,MATCH(TEXT($F$4,"nnnn")&"_"&parametres!$G12,valconcatr,0),4),"")) | D18: =IF(ISBLANK(INDEX(bdd,MATCH(TEXT($F$4,"nnnn")&"_"&parametres!$G12,valconcatr,0),5)),"",IF(ROWS($B$8:D18)<=parametres!$B$2,INDEX(bdd,MATCH(TEXT($F$4,"nnnn")&"_"&parametres!$G12,valconcatr,0),5),"")) | E18: =IF(ISBLANK(INDEX(bdd,MATCH(TEXT($F$4,"nnnn")&"_"&parametres!$G12,valconcatr,0),6)),"",IF(ROWS($B$8:E18)<=parametres!$B$2,INDEX(bdd,MATCH(TEXT($F$4,"nnnn")&"_"&parametres!$G12,valconcatr,0),6),"")) | F18: =IF(ISBLANK(INDEX(bdd,MATCH(TEXT($F$4,"nnnn")&"_"&parametres!$G12,valconcatr,0),7)),"",IF(ROWS($B$8:F18)<=parametres!$B$2,INDEX(bdd,MATCH(TEXT($F$4,"nnnn")&"_"&parametres!$G12,valconcatr,0),7),""))
A19: =IF(ISBLANK(INDEX(bdd,MATCH(TEXT($F$4,"nnnn")&"_"&parametres!$G13,valconcatr,0),1)),"",IF(ROWS($A$8:A19)<=parametres!$B$2,INDEX(bdd,MATCH(TEXT($F$4,"nnnn")&"_"&parametres!$G13,valconcatr,0),1),"")) | B19: =IF(ISBLANK(INDEX(bdd,MATCH(TEXT($F$4,"nnnn")&"_"&parametres!$G13,valconcatr,0),3)),"",IF(ROWS($B$8:B19)<=parametres!$B$2,INDEX(bdd,MATCH(TEXT($F$4,"nnnn")&"_"&parametres!$G13,valconcatr,0),3),"")) | C19: =IF(ISBLANK(INDEX(bdd,MATCH(TEXT($F$4,"nnnn")&"_"&parametres!$G13,valconcatr,0),4)),"",IF(ROWS($B$8:C19)<=parametres!$B$2,INDEX(bdd,MATCH(TEXT($F$4,"nnnn")&"_"&parametres!$G13,valconcatr,0),4),"")) | D19: =IF(ISBLANK(INDEX(bdd,MATCH(TEXT($F$4,"nnnn")&"_"&parametres!$G13,valconcatr,0),5)),"",IF(ROWS($B$8:D19)<=parametres!$B$2,INDEX(bdd,MATCH(TEXT($F$4,"nnnn")&"_"&parametres!$G13,valconcatr,0),5),"")) | E19: =IF(ISBLANK(INDEX(bdd,MATCH(TEXT($F$4,"nnnn")&"_"&parametres!$G13,valconcatr,0),6)),"",IF(ROWS($B$8:E19)<=parametres!$B$2,INDEX(bdd,MATCH(TEXT($F$4,"nnnn")&"_"&parametres!$G13,valconcatr,0),6),"")) | F19: =IF(ISBLANK(INDEX(bdd,MATCH(TEXT($F$4,"nnnn")&"_"&parametres!$G13,valconcatr,0),7)),"",IF(ROWS($B$8:F19)<=parametres!$B$2,INDEX(bdd,MATCH(TEXT($F$4,"nnnn")&"_"&parametres!$G13,valconcatr,0),7),""))
A20: =IF(ISBLANK(INDEX(bdd,MATCH(TEXT($F$4,"nnnn")&"_"&parametres!$G14,valconcatr,0),1)),"",IF(ROWS($A$8:A20)<=parametres!$B$2,INDEX(bdd,MATCH(TEXT($F$4,"nnnn")&"_"&parametres!$G14,valconcatr,0),1),"")) | B20: =IF(ISBLANK(INDEX(bdd,MATCH(TEXT($F$4,"nnnn")&"_"&parametres!$G14,valconcatr,0),3)),"",IF(ROWS($B$8:B20)<=parametres!$B$2,INDEX(bdd,MATCH(TEXT($F$4,"nnnn")&"_"&parametres!$G14,valconcatr,0),3),"")) | C20: =IF(ISBLANK(INDEX(bdd,MATCH(TEXT($F$4,"nnnn")&"_"&parametres!$G14,valconcatr,0),4)),"",IF(ROWS($B$8:C20)<=parametres!$B$2,INDEX(bdd,MATCH(TEXT($F$4,"nnnn")&"_"&parametres!$G14,valconcatr,0),4),"")) | D20: =IF(ISBLANK(INDEX(bdd,MATCH(TEXT($F$4,"nnnn")&"_"&parametres!$G14,valconcatr,0),5)),"",IF(ROWS($B$8:D20)<=parametres!$B$2,INDEX(bdd,MATCH(TEXT($F$4,"nnnn")&"_"&parametres!$G14,valconcatr,0),5),"")) | E20: =IF(ISBLANK(INDEX(bdd,MATCH(TEXT($F$4,"nnnn")&"_"&parametres!$G14,valconcatr,0),6)),"",IF(ROWS($B$8:E20)<=parametres!$B$2,INDEX(bdd,MATCH(TEXT($F$4,"nnnn")&"_"&parametres!$G14,valconcatr,0),6),"")) | F20: =IF(ISBLANK(INDEX(bdd,MATCH(TEXT($F$4,"nnnn")&"_"&parametres!$G14,valconcatr,0),7)),"",IF(ROWS($B$8:F20)<=parametres!$B$2,INDEX(bdd,MATCH(TEXT($F$4,"nnnn")&"_"&parametres!$G14,valconcatr,0),7),""))
A21: =IF(ISBLANK(INDEX(bdd,MATCH(TEXT($F$4,"nnnn")&"_"&parametres!$G15,valconcatr,0),1)),"",IF(ROWS($A$8:A21)<=parametres!$B$2,INDEX(bdd,MATCH(TEXT($F$4,"nnnn")&"_"&parametres!$G15,valconcatr,0),1),"")) | B21: =IF(ISBLANK(INDEX(bdd,MATCH(TEXT($F$4,"nnnn")&"_"&parametres!$G15,valconcatr,0),3)),"",IF(ROWS($B$8:B21)<=parametres!$B$2,INDEX(bdd,MATCH(TEXT($F$4,"nnnn")&"_"&parametres!$G15,valconcatr,0),3),"")) | C21: =IF(ISBLANK(INDEX(bdd,MATCH(TEXT($F$4,"nnnn")&"_"&parametres!$G15,valconcatr,0),4)),"",IF(ROWS($B$8:C21)<=parametres!$B$2,INDEX(bdd,MATCH(TEXT($F$4,"nnnn")&"_"&parametres!$G15,valconcatr,0),4),"")) | D21: =IF(ISBLANK(INDEX(bdd,MATCH(TEXT($F$4,"nnnn")&"_"&parametres!$G15,valconcatr,0),5)),"",IF(ROWS($B$8:D21)<=parametres!$B$2,INDEX(bdd,MATCH(TEXT($F$4,"nnnn")&"_"&parametres!$G15,valconcatr,0),5),"")) | E21: =IF(ISBLANK(INDEX(bdd,MATCH(TEXT($F$4,"nnnn")&"_"&parametres!$G15,valconcatr,0),6)),"",IF(ROWS($B$8:E21)<=parametres!$B$2,INDEX(bdd,MATCH(TEXT($F$4,"nnnn")&"_"&parametres!$G15,valconcatr,0),6),"")) | F21: =IF(ISBLANK(INDEX(bdd,MATCH(TEXT($F$4,"nnnn")&"_"&parametres!$G15,valconcatr,0),7)),"",IF(ROWS($B$8:F21)<=parametres!$B$2,INDEX(bdd,MATCH(TEXT($F$4,"nnnn")&"_"&parametres!$G15,valconcatr,0),7),""))
A22: =IF(ISBLANK(INDEX(bdd,MATCH(TEXT($F$4,"nnnn")&"_"&parametres!$G16,valconcatr,0),1)),"",IF(ROWS($A$8:A22)<=parametres!$B$2,INDEX(bdd,MATCH(TEXT($F$4,"nnnn")&"_"&parametres!$G16,valconcatr,0),1),"")) | B22: =IF(ISBLANK(INDEX(bdd,MATCH(TEXT($F$4,"nnnn")&"_"&parametres!$G16,valconcatr,0),3)),"",IF(ROWS($B$8:B22)<=parametres!$B$2,INDEX(bdd,MATCH(TEXT($F$4,"nnnn")&"_"&parametres!$G16,valconcatr,0),3),"")) | C22: =IF(ISBLANK(INDEX(bdd,MATCH(TEXT($F$4,"nnnn")&"_"&parametres!$G16,valconcatr,0),4)),"",IF(ROWS($B$8:C22)<=parametres!$B$2,INDEX(bdd,MATCH(TEXT($F$4,"nnnn")&"_"&parametres!$G16,valconcatr,0),4),"")) | D22: =IF(ISBLANK(INDEX(bdd,MATCH(TEXT($F$4,"nnnn")&"_"&parametres!$G16,valconcatr,0),5)),"",IF(ROWS($B$8:D22)<=parametres!$B$2,INDEX(bdd,MATCH(TEXT($F$4,"nnnn")&"_"&parametres!$G16,valconcatr,0),5),"")) | E22: =IF(ISBLANK(INDEX(bdd,MATCH(TEXT($F$4,"nnnn")&"_"&parametres!$G16,valconcatr,0),6)),"",IF(ROWS($B$8:E22)<=parametres!$B$2,INDEX(bdd,MATCH(TEXT($F$4,"nnnn")&"_"&parametres!$G16,valconcatr,0),6),"")) | F22: =IF(ISBLANK(INDEX(bdd,MATCH(TEXT($F$4,"nnnn")&"_"&parametres!$G16,valconcatr,0),7)),"",IF(ROWS($B$8:F22)<=parametres!$B$2,INDEX(bdd,MATCH(TEXT($F$4,"nnnn")&"_"&parametres!$G16,valconcatr,0),7),""))
... A42: =IF(ISBLANK(INDEX(bdd,MATCH(TEXT($F$4,"nnnn")&"_"&parametres!$G36,valconcatr,0),1)),"",IF(ROWS($A$8:A42)<=parametres!$B$2,INDEX(bdd,MATCH(TEXT($F$4,"nnnn")&"_"&parametres!$G36,valconcatr,0),1),"")) | B42: =IF(ISBLANK(INDEX(bdd,MATCH(TEXT($F$4,"nnnn")&"_"&parametres!$G36,valconcatr,0),3)),"",IF(ROWS($B$8:B42)<=parametres!$B$2,INDEX(bdd,MATCH(TEXT($F$4,"nnnn")&"_"&parametres!$G36,valconcatr,0),3),"")) | C42: =IF(ISBLANK(INDEX(bdd,MATCH(TEXT($F$4,"nnnn")&"_"&parametres!$G36,valconcatr,0),4)),"",IF(ROWS($B$8:C42)<=parametres!$B$2,INDEX(bdd,MATCH(TEXT($F$4,"nnnn")&"_"&parametres!$G36,valconcatr,0),4),"")) | D42: =IF(ISBLANK(INDEX(bdd,MATCH(TEXT($F$4,"nnnn")&"_"&parametres!$G36,valconcatr,0),5)),"",IF(ROWS($B$8:D42)<=parametres!$B$2,INDEX(bdd,MATCH(TEXT($F$4,"nnnn")&"_"&parametres!$G36,valconcatr,0),5),"")) | E42: =IF(ISBLANK(INDEX(bdd,MATCH(TEXT($F$4,"nnnn")&"_"&parametres!$G36,valconcatr,0),6)),"",IF(ROWS($B$8:E42)<=parametres!$B$2,INDEX(bdd,MATCH(TEXT($F$4,"nnnn")&"_"&parametres!$G36,valconcatr,0),6),"")) | F42: =IF(ISBLANK(INDEX(bdd,MATCH(TEXT($F$4,"nnnn")&"_"&parametres!$G36,valconcatr,0),7)),"",IF(ROWS($B$8:F42)<=parametres!$B$2,INDEX(bdd,MATCH(TEXT($F$4,"nnnn")&"_"&parametres!$G36,valconcatr,0),7),""))

Sheet parametres
A1: =TEXT(hotels!B3,"standard")&" "&TEXT(hotels!B4,"standard") -> SEMAINE DE LIVRAISON* 1 | B1: occurrence | D1: val_concat | E1: val_concat_r | G1: incrementation | I1: NE PAS SUPPRIMER CETTE FEUILLE
A2: =7*hotels!$B$4+DATE(hotels!$A$4,1,1)-WEEKDAY(DATE(hotels!$A$4,1,3))-3 -> 43829 | B2: =COUNTIF(datedelivraison,A2) -> 3 | D2: =TEXT(hotels!B10,"jjj j") -> lun 30 | E2: =D2&"_"&COUNTIF($D$2:D2,D2) -> lun 30_1 | G2: 1
A3: =A2+1 -> 43830 | B3: =COUNTIF(datedelivraison,A3) -> 2 | D3: =TEXT(hotels!B11,"jjj j") -> lun 30 | E3: =D3&"_"&COUNTIF($D$2:D3,D3) -> lun 30_2 | G3: 2
A4: =A3+1 -> 43831 | B4: =COUNTIF(datedelivraison,A4) -> 3 | D4: =TEXT(hotels!B12,"jjj j") -> mar 31 | E4: =D4&"_"&COUNTIF($D$2:D4,D4) -> mar 31_1 | G4: 3
A5: =A4+1 -> 43832 | B5: =COUNTIF(datedelivraison,A5) -> 2 | D5: =TEXT(hotels!B13,"jjj j") -> mar 31 | E5: =D5&"_"&COUNTIF($D$2:D5,D5) -> mar 31_2 | G5: 4
A6: =A5+1 -> 43833 | B6: =COUNTIF(datedelivraison,A6) -> 1 | D6: =TEXT(hotels!B14,"jjj j") -> mer 1 | E6: =D6&"_"&COUNTIF($D$2:D6,D6) -> mer 1_1 | G6: 5
A7: =A6+1 -> 43834 | B7: =COUNTIF(datedelivraison,A7) -> 2 | D7: =TEXT(hotels!B15,"jjj j") -> mer 1 | E7: =D7&"_"&COUNTIF($D$2:D7,D7) -> mer 1_2 | G7: 6
A8: =A7+1 -> 43835 | B8: =COUNTIF(datedelivraison,A8) -> 2 | D8: =TEXT(hotels!B16,"jjj j") -> jeu 2 | E8: =D8&"_"&COUNTIF($D$2:D8,D8) -> jeu 2_1 | G8: 7
A9: n.r. | B9: =COUNTIF(datedelivraison,A9) -> 85 | D9: =TEXT(hotels!B17,"jjj j") -> jeu 2 | E9: =D9&"_"&COUNTIF($D$2:D9,D9) -> jeu 2_2 | G9: 8
D10: =TEXT(hotels!B18,"jjj j") -> ven 3 | E10: =D10&"_"&COUNTIF($D$2:D10,D10) -> ven 3_1 | G10: 9
D11: =TEXT(hotels!B19,"jjj j") -> sam 4 | E11: =D11&"_"&COUNTIF($D$2:D11,D11) -> sam 4_1 | G11: 10
D12: =TEXT(hotels!B20,"jjj j") -> sam 4 | E12: =D12&"_"&COUNTIF($D$2:D12,D12) -> sam 4_2 | G12: 12
D13: =TEXT(hotels!B21,"jjj j") -> dim 5 | E13: =D13&"_"&COUNTIF($D$2:D13,D13) -> dim 5_1 | G13: 13
D14: =TEXT(hotels!B22,"jjj j") -> dim 5 | E14: =D14&"_"&COUNTIF($D$2:D14,D14) -> dim 5_2 | G14: 14
D15: =TEXT(hotels!B23,"jjj j") -> lun 30 | E15: =D15&"_"&COUNTIF($D$2:D15,D15) -> lun 30_3 | G15: 15
D16: =TEXT(hotels!B24,"jjj j") -> mer 1 | E16: =D16&"_"&COUNTIF($D$2:D16,D16) -> mer 1_3 | G16: 16
D17: =TEXT(hotels!B25,"jjj j") -> n.r. | E17: =D17&"_"&COUNTIF($D$2:D17,D17) -> n.r._1 | G17: 17
D18: =TEXT(hotels!B26,"jjj j") -> n.r. | E18: =D18&"_"&COUNTIF($D$2:D18,D18) -> n.r._2 | G18: 18
D19: =TEXT(hotels!B27,"jjj j") -> n.r. | E19: =D19&"_"&COUNTIF($D$2:D19,D19) -> n.r._3 | G19: 19
D20: =TEXT(hotels!B28,"jjj j") -> n.r. | E20: =D20&"_"&COUNTIF($D$2:D20,D20) -> n.r._4 | G20: 20
D21: =TEXT(hotels!B29,"jjj j") -> n.r. | E21: =D21&"_"&COUNTIF($D$2:D21,D21) -> n.r._5 | G21: 21
... D29: =TEXT(hotels!B37,"jjj j") -> n.r. | E29: =D29&"_"&COUNTIF($D$2:D29,D29) -> n.r._13 | G29: 29
C30: =IF(ROWS($C$18:C30)<=B13,INDEX(bdd,MATCH(A13,datedelivraison,0),4),"") | D30: =TEXT(hotels!B38,"jjj j") -> n.r. | E30: =D30&"_"&COUNTIF($D$2:D30,D30) -> n.r._14 | G30: 30
D31: =TEXT(hotels!B39,"jjj j") -> n.r. | E31: =D31&"_"&COUNTIF($D$2:D31,D31) -> n.r._15 | G31: 31
D32: =TEXT(hotels!B40,"jjj j") -> n.r. | E32: =D32&"_"&COUNTIF($D$2:D32,D32) -> n.r._16 | G32: 32
D33: =TEXT(hotels!B41,"jjj j") -> n.r. | E33: =D33&"_"&COUNTIF($D$2:D33,D33) -> n.r._17 | G33: 33
D34: =TEXT(hotels!B42,"jjj j") -> n.r. | E34: =D34&"_"&COUNTIF($D$2:D34,D34) -> n.r._18 | G34: 34
D35: =TEXT(hotels!B43,"jjj j") -> n.r. | E35: =D35&"_"&COUNTIF($D$2:D35,D35) -> n.r._19 | G35: 35
D36: =TEXT(hotels!B44,"jjj j") -> n.r. | E36: =D36&"_"&COUNTIF($D$2:D36,D36) -> n.r._20 | G36: 36
D37: =TEXT(hotels!B45,"jjj j") -> n.r. | E37: =D37&"_"&COUNTIF($D$2:D37,D37) -> n.r._21 | G37: 37
D38: =TEXT(hotels!B46,"jjj j") -> n.r. | E38: =D38&"_"&COUNTIF($D$2:D38,D38) -> n.r._22 | G38: 38
D39: =TEXT(hotels!B47,"jjj j") -> n.r. | E39: =D39&"_"&COUNTIF($D$2:D39,D39) -> n.r._23 | G39: 39
D40: =TEXT(hotels!B48,"jjj j") -> n.r. | E40: =D40&"_"&COUNTIF($D$2:D40,D40) -> n.r._24 | G40: 40
D41: =TEXT(hotels!B49,"jjj j") -> n.r. | E41: =D41&"_"&COUNTIF($D$2:D41,D41) -> n.r._25 | G41: 41
D42: =TEXT(hotels!B50,"jjj j") -> n.r. | E42: =D42&"_"&COUNTIF($D$2:D42,D42) -> n.r._26 | G42: 42
... D50: =TEXT(hotels!B58,"jjj j") -> n.r. | E50: =D50&"_"&COUNTIF($D$2:D50,D50) -> n.r._34 | G50: 50
D51: =TEXT(hotels!B59,"nnnn") -> #VALUE! | E51: =D51&"_"&COUNTIF($D$2:D51,D51) -> #VALUE!
D52: =TEXT(hotels!B60,"nnnn") -> #VALUE! | E52: =D52&"_"&COUNTIF($D$2:D52,D52) -> #VALUE!
D53: =TEXT(hotels!B61,"nnnn") -> #VALUE! | E53: =D53&"_"&COUNTIF($D$2:D53,D53) -> #VALUE!
D54: =TEXT(hotels!B62,"nnnn") -> #VALUE! | E54: =D54&"_"&COUNTIF($D$2:D54,D54) -> #VALUE!
...
