Workbook

Sheet Données individuelles
A1: 1-INFORMATIONS DU PORTEUR DU PROJET | B1: Ordre | C1: BP1 | I1: BP1
B2: Civilité | C2: Mme | I2: BP2
B3: Nom | I3: BP3
B4: Prénom | I4: BP4
B5: CIN | I5: BP5
B6: Date de naissance | I6: BP6
B7: Lieu de naissance | E7: Valider | I7: BP7
B8: Téléphone | I8: BP8
B9: Adresse | I9: BP9
B10: Nature Handicap | I10: BP10
B11: Durée d'expérience | I11: BP11
B12: Formation | I12: BP12
I13: BP13
I14: BP14
I15: BP15
A16: 2-INFORMATION SUR LE PROJET | B16: Intitulé du projet | I16: BP16
B17: Taux d'évolution prévu | I17: BP17
B18: Adresse du projet | I18: BP18
B19: Secteur | I19: BP19
B20: Produits/services | I20: BP20
B21: Type de local | I21: BP21
B22: Superficie | I22: BP22
B23: Montant Loyer Mensuel | I23: BP23
I24: BP24
I25: BP25
I26: BP26
A27: 3-COMPTE DE PRODUITS ET CHARGES | B27: Ventes de marchandises | I27: BP27
B28: Vente de biens produits | I28: BP28
B29: Vente de services produits | I29: BP29
B30: Achats revendus de marchandises | I30: BP30
B31: Achats Matière Première | I31: BP31
B32: Achat de fourniture non stockable | I32: BP32
B33: Achat de Fourniture stockable | I33: BP33
B34: Locations et charges locatives | C34: =C23*12 -> 0 | I34: BP34
B35: Entretien et réparations | I35: BP35
B36: Primes d'assurances | I36: BP36
B37: Rémunération du personnel extérieur à l'entreprise | I37: BP37
B38: Transports | I38: BP38
B39: Déplacement, missions et réception | I39: BP39
B40: Frais postaux et frais de télécommunications | I40: BP40
...

Sheet BP Word
B1: INFORMATIONS DU PORTEUR DU PROJET | M1: INFORMATIONSUR LE PROJET | T1: Plan de financement initial | W1: % du Plan de financement initial | Z1: PROGRAMME D'INVESTISSEMENT | AW1: % PROGRAMME D'INVESTISSEMENT | BT1: PLAN DE FINANCEMENT A 3 ANS (Année 1) | CF1: PLAN DE FINANCEMENT A 3 ANS (Année 2) | CR1: PLAN DE FINANCEMENT A 3 ANS (Année 3) | DD1: Provisions pour démarrage de l'activité pour 6 Mois | DG1: Ratio de variation du chiffre d'affaire + Rentabilité commerciale (Année 1) | DK1: Ratio de variation du chiffre d'affaire + Rentabilité commerciale (Année 2) | DO1: Ratio de variation du chiffre d'affaire + Rentabilité commerciale (Année 3) | DS1: COMPTES DE RESULTAT PREVISIONNELS (Année 1) | EY1: COMPTES DE RESULTAT PREVISIONNELS (Année 2) | GE1: COMPTES DE RESULTAT PREVISIONNELS (Année 3) | HK1: Tableau d’Amortissement (Montant global) | HS1: Tableau d’Amortissement (Dotations Annuelles)
A2: Ordre | B2: Civilité | C2: Nom | D2: Prénom | E2: CIN | F2: Date de naissance | G2: Lieu de naissance | H2: Téléphone | I2: Adresse | J2: Nature Handicap | K2: Durée d'expérience | L2: Formation | M2: Intitulé du projet | N2: Taux d'évolution prévu | O2: Adresse du projet | P2: Secteur | Q2: Produits/services | R2: Type de local | S2: Superficie | T2: Fonds propres | U2: Subvention OAPH | V2: Total Financement | W2: % Fonds propres | X2: % Subvention OAPH | Y2: % Total Financement4 | Z2: Frais préliminaires | AA2: Frais de constitution | AB2: Frais de prospection | AC2: Frais de publicité de démarrage | AD2: Autres frais préliminaires | AE2: Immobilisations incorporelles | AF2: Fonds de commerce | AG2: Autres immobilisations incorporelles | AH2: Immobilisations corporelles | AI2: Terrains(Achat) | AJ2: Constructions | AK2: Aménagement | AL2: Installations techniques, matériel et outillage | AM2: Matériel de transport | AN2: Matériel informatique | AO2: Mobilier de bureau | AP2: Matériel de bureau | AQ2: Autres Immobilisation corporelles | AR2: Divers et imprévus | AS2: (A saisir) | AT2: Trésorerie | AU2: -BFR de démarrage Prévisionnel | AV2: Total Investissement | AW2: % Frais préliminaires | AX2: % Frais de constitution3 | AY2: % Frais de prospection | AZ2: Frais de publicité de démarrage5 | BA2: % Autres frais préliminaires | BB2: % Immobilisations incorporelles | BC2: % Fonds de commerce | BD2: % Autres immobilisations incorporelles | BE2: % Immobilisations corporelles | BF2: % Terrains(Achat) | BG2: % Constructions | BH2: Aménagement 13 | BI2: % Installations techniques, matériel et outillage | BJ2: % Matériel de transport | BK2: % Matériel informatique | BL2: % Mobilier de bureau | BM2: % Matériel de bureau | BN2: % Autres Immobilisation corporelles | BO2: % Divers et imprévus | BP2: % (A saisir) | BQ2: % Trésorerie | BR2: % -BFR de démarrage Prévisionnel | BS2: % Total Investissement | BT2: Emplois | BU2: Frais de premier établissement | BV2: Immobilisations incorporelles2 | BW2: Immobilisation corporelles | BX2: BFR : Provisions pour démarrage de l'activité | BY2: BRF Annuel | BZ2: Ressources | CA2: Subventions OAPH | CB2: Emprunt bancaire | CC2: Fonds propres3 | CD2: CAF | CE2: Trésorerie disponible | CF2: Emplois2 | CG2: Frais de premier établissement2 | CH2: Immobilisations incorporelles3 | CI2: Immobilisation corporelles2 | CJ2: BFR : Provisions pour démarrage de l'activité2 | CK2: BRF Annuel | CL2: Ressources2 | CM2: Subventions OAPH2 | CN2: Emprunt bancaire2 | CO2: Fonds propres2 | CP2: CAF2 | CQ2: Trésorerie disponible2 | CR2: Emplois3 | CS2: Frais de premier établissement3 | CT2: Immobilisations incorporelles22 | CU2: Immobilisation corporelles3 | CV2: BFR : Provisions pour démarrage de l'activité3 | CW2: BRF Annuel 2 | CX2: Ressources3 | CY2: Subventions OAPH3 | CZ2: Emprunt bancaire3 | DA2: Fonds propres32 | DB2: CAF3 | DC2: Trésorerie disponible3 | DD2: Marchandises | DE2: Autres charges de démarrage | DF2: Total | DG2: Chiffre d'affaire(CA) | DH2: Ratio de variation de CA | DI2: Résultat | DJ2: Ratio de rentabilité commerciale RRC | DK2: Chiffre d'affaire(CA)2 | DL2: Ratio de variation de CA2 | DM2: Résultat2 | DN2: Ratio de rentabilité commerciale RRC2 | DO2: Chiffre d'affaire(CA)3 | DP2: Ratio de variation de CA3 | DQ2: Résultat3 | DR2: Ratio de rentabilité commerciale RRC3 | DS2: I. Produits d'exploitation | DT2: Ventes de marchandises | DU2: Vente de biens produits | DV2: Vente de services produits | DW2: II. Charges d’exploitation (A+B+C+D+E+F) | DX2: A. Achats revendus de marchandises | DY2: B. Achats consommés de matière et fournitures | DZ2: Achats Matière Première | EA2: Achat de fourniture non stockable | EB2: Achat de Fourniture stockable | EC2: C. Autres charges externes | ED2: Locations et charges locatives | EE2: Entretien et réparations | EF2: Primes d'assurances | EG2: Rémunération du personnel extérieur à l'entreprise | EH2: Transports | EI2: Déplacement, missions et réception | EJ2: Frais postaux et frais de télécommunications | EK2: D. Impôts et taxes (TP+TSC+TI+TVA …) | EL2: E. Charges de personnel | EM2: F. Dotations d'exploitation aux amortissements | EN2: III. Résultat d'exploitation (I-II) | EO2: IV. Produits financiers | EP2: V. Charges financières | EQ2: VI. Résultat financier (IV-V) | ER2: VII. Résultat courant (III+VI) | ES2: VIII. Produits non courants | ET2: IX. Charges non courantes | EU2: X. Résultat non courant (VIII-IX) | EV2: XI. Résultat avant impôt (VII+X) | EW2: XII. Impôt sur le résultat | EX2: Résultat net (XI-XII) | EY2: I. Produits d'exploitation 2 | EZ2: Ventes de marchandises2 | FA2: Vente de biens produits2 | FB2: Vente de services produits2 | FC2: II. Charges d’exploitation (A+B+C+D+E+F)2 | FD2: A. Achats revendus de marchandises2 | FE2: B. Achats consommés de matière et fournitures2 | FF2: Achats Matière Première 2 | FG2: Achat de fourniture non stockable 3 | FH2: Achat de Fourniture stockable 4 | FI2: C. Autres charges externes2 | FJ2: Locations et charges locatives2 | FK2: Entretien et réparations2 | FL2: Primes d'assurances2 | FM2: Rémunération du personnel extérieur à l'entreprise2 | FN2: Transports2 | FO2: Déplacement, missions et réception 2 | FP2: Frais postaux et frais de télécommunications2 | FQ2: D. Impôts et taxes (TP+TSC+TI+TVA …)2 | FR2: E. Charges de personnel 2 | FS2: F. Dotations d'exploitation aux amortissements2 | FT2: III. Résultat d'exploitation (I-II)2 | FU2: IV. Produits financiers2 | FV2: V. Charges financières2 | FW2: VI. Résultat financier (IV-V)2 | FX2: VII. Résultat courant (III+VI)2 | FY2: VIII. Produits non courants2 | FZ2: IX. Charges non courantes2 | GA2: X. Résultat non courant (VIII-IX)2 | GB2: XI. Résultat avant impôt (VII+X)2 | GC2: XII. Impôt sur le résultat2 | GD2: Résultat net (XI-XII)2 | GE2: I. Produits d'exploitation 3 | GF2: Ventes de marchandises3 | GG2: Vente de biens produits3 | GH2: Vente de services produits3 | GI2: II. Charges d’exploitation (A+B+C+D+E+F)3 | GJ2: A. Achats revendus de marchandises3 | GK2: B. Achats consommés de matière et fournitures3 | GL2: Achats Matière Première 3 | GM2: Achat de fourniture non stockable 4 | GN2: Achat de Fourniture stockable 5 | GO2: C. Autres charges externes3 | GP2: Locations et charges locatives3 | GQ2: Entretien et réparations3 | GR2: Primes d'assurances3 | GS2: Rémunération du personnel extérieur à l'entreprise3 | GT2: Transports3 | GU2: Déplacement, missions et réception 3 | GV2: Frais postaux et frais de télécommunications3 | GW2: D. Impôts et taxes (TP+TSC+TI+TVA …)3 | GX2: E. Charges de personnel 3 | GY2: F. Dotations d'exploitation aux amortissements3 | GZ2: III. Résultat d'exploitation (I-II)3 | HA2: IV. Produits financiers3 | HB2: V. Charges financières3 | HC2: VI. Résultat financier (IV-V)3 | HD2: VII. Résultat courant (III+VI)3 | HE2: VIII. Produits non courants3 | HF2: IX. Charges non courantes3 | HG2: X. Résultat non courant (VIII-IX)3 | HH2: XI. Résultat avant impôt (VII+X)3 | HI2: XII. Impôt sur le résultat3 | HJ2: Résultat net (XI-XII)3 | HK2: Frais préliminaires | HL2: Constructions | HM2: Aménagements | HN2: Matériel d’exploitation | HO2: Matériel informatique | HP2: Matériel roulant | HQ2: Mobilier de bureau | HR2: Matériel de bureau 2 | HS2: Frais préliminaires 2 | HT2: Constructions 3 | HU2: Aménagements4 | HV2: Matériel d’exploitation5 | HW2: Matériel informatique6 | HX2: Matériel roulant7 | HY2: Mobilier de bureau8 | HZ2: Matériel de bureau 29
A3: BP1
A4: BP2
A5: BP3
A6: BP4
A7: BP5
A8: BP6
A9: BP7
A10: BP8
A11: BP9
A12: BP10
A13: BP11
A14: BP12
... A52: BP50

Sheet étude financière
A1: ORDRE DU BUSINESS PLAN | B1: BP1 | E1: BP1
A2: Nom Bénéficiaire | E2: BP2 | F2: Provisions pour démarrage de l'activité pour 6 Mois
A3: Prénom Bénéficiaire | E3: BP3 | F3: Charges | G3: Montant | H3: Commentaires
A4: Nom du projet | E4: BP4 | F4: Marchandises | G4: =G24/2 -> 0
A5: Secteur | E5: BP5 | F5: Autres charges de démarrage | G5: =(G25+G29+G38+G39)/2 -> 0
A6: Produit / Service | E6: BP6 | F6: Total | G6: =SUM(G4:G5) -> 0
A7: Taux d'évolution | E7: BP7
E8: BP8
A9: Plan de financement initial | E9: BP9 | F9: Ratio de variation du chiffre d'affaire + Rentabilité commerciale
A10: Rubrique : | B10: Montant | C10: % | E10: BP10 | F10: Rubrique | G10: Année1 | H10: Année2 | I10: Année3
A11: Fonds propres | B11: ='Données individuelles'!C58 -> 0 | C11: =B11/B13 -> #DIV/0! | E11: BP11 | F11: Chiffre d'affaire(CA) | G11: =G19 -> 0 | H11: =H19 -> 0 | I11: =I19 -> 0
A12: Subvention OAPH | B12: ='Données individuelles'!C59 -> 0 | C12: =B12/B13 -> #DIV/0! | E12: BP12 | F12: Ratio de variation de CA | G12: 0 | H12: =(H11-G11)/G11 -> #DIV/0! | I12: =(I11-H11)/H11 -> #DIV/0!
A13: Total Financement | B13: =B11+B12 -> 0 | C13: =B13/B13 -> #DIV/0! | E13: BP13 | F13: Résultat | G13: =G50 -> 0 | H13: =H50 -> 0 | I13: =I50 -> 0
E14: BP14 | F14: Ratio de rentabilité commerciale RRC | G14: =G13/G11 -> #DIV/0! | H14: =H13/H11 -> #DIV/0! | I14: =I13/I11 -> #DIV/0!
E15: BP15
E16: BP16
A17: PROGRAMME D'INVESTISSEMENT | E17: BP17 | F17: COMPTES DE RESULTAT PREVISIONNELS
A18: Nature du poste | B18: Montant | C18: % | E18: BP18 | F18: Eléments | G18: Année 1 | H18: Année 2 | I18: Année 3
A19: Frais préliminaires | B19: =SUM(B20:B23) -> 0 | C19: =B19/$B$41 -> #DIV/0! | E19: BP19 | F19: I. Produits d'exploitation | G19: =G20+G21+G22 -> 0 | H19: =H20+H21+H22 -> 0 | I19: =I20+I21+I22 -> 0
A20: Frais de constitution | B20: ='Données individuelles'!C46 -> 0 | C20: =B20/$B$41 -> #DIV/0! | E20: BP20 | F20: Ventes de marchandises | G20: ='Données individuelles'!C27 -> 0 | H20: =G20*$B$7+G20 -> 0 | I20: =H20*$B$7+H20 -> 0
A21: Frais de prospection | B21: ='Données individuelles'!C47 -> 0 | C21: =B21/$B$41 -> #DIV/0! | E21: BP21 | F21: Vente de biens produits | G21: ='Données individuelles'!C28 -> 0 | H21: =G21*$B$7+G21 -> 0 | I21: =H21*$B$7+H21 -> 0
A22: Frais de publicité de démarrage | B22: ='Données individuelles'!C48 -> 0 | C22: =B22/$B$41 -> #DIV/0! | E22: BP22 | F22: Vente de services produits | G22: ='Données individuelles'!C29 -> 0 | H22: =G22*$B$7+G22 -> 0 | I22: =H22*$B$7+H22 -> 0
A23: Autres frais préliminaires | B23: 0 | C23: =B23/$B$41 -> #DIV/0! | E23: BP23 | F23: II. Charges d’exploitation (A+B+C+D+E+F) | G23: =G24+G25+G29+G37+G38+G39 -> 0 | H23: =H24+H25+H29+H37+H38+H39 -> 0 | I23: =I24+I25+I29+I37+I38+I39 -> 0
A24: Immobilisations incorporelles | B24: =SUM(B25:B26) -> 0 | C24: =B24/$B$41 -> #DIV/0! | E24: BP24 | F24: A. Achats revendus de marchandises | G24: ='Données individuelles'!C30 -> 0 | H24: =G24*$B$7+G24 -> 0 | I24: =H24*$B$7+H24 -> 0
A25: Fonds de commerce | B25: ='Données individuelles'!C49 -> 0 | C25: =B25/$B$41 -> #DIV/0! | E25: BP25 | F25: B. Achats consommés de matière et fournitures | G25: =G26+G27+G28 -> 0 | H25: =H26+H27+H28 -> 0 | I25: =I26+I27+I28 -> 0
A26: Autres immobilisations incorporelles | B26: 0 | C26: =B26/$B$41 -> #DIV/0! | E26: BP26 | F26: Achats Matière Première | G26: ='Données individuelles'!C31 -> 0 | H26: =G26*$B$7+G26 -> 0 | I26: =H26*$B$7+H26 -> 0
A27: Immobilisations corporelles | B27: =SUM(B28:B38) -> 0 | C27: =B27/$B$41 -> #DIV/0! | E27: BP27 | F27: Achat de fourniture non stockable | G27: ='Données individuelles'!C32 -> 0 | H27: =G27*$B$7+G27 -> 0 | I27: =H27*$B$7+H27 -> 0
A28: Terrains(Achat) | B28: ='Données individuelles'!C50 -> 0 | C28: =B28/$B$41 -> #DIV/0! | E28: BP28 | F28: Achat de Fourniture stockable | G28: ='Données individuelles'!C33 -> 0 | H28: =G28*$B$7+G28 -> 0 | I28: =H28*$B$7+H28 -> 0
A29: Constructions | B29: ='Données individuelles'!C51 -> 0 | C29: =B29/$B$41 -> #DIV/0! | E29: BP29 | F29: C. Autres charges externes | G29: =SUM(G30:G36) -> 0 | H29: =SUM(H30:H36) -> 0 | I29: =SUM(I30:I36) -> 0
A30: Aménagement | B30: ='Données individuelles'!C52 -> 0 | C30: =B30/$B$41 -> #DIV/0! | E30: BP30 | F30: Locations et charges locatives | G30: ='Données individuelles'!C34 -> 0 | H30: =G30*$B$7+G30 -> 0 | I30: =H30*$B$7+H30 -> 0
A31: Installations techniques, matériel et outillage | B31: ='Données individuelles'!C53 -> 0 | C31: =B31/$B$41 -> #DIV/0! | E31: BP31 | F31: Entretien et réparations | G31: ='Données individuelles'!C35 -> 0 | H31: =G31*$B$7+G31 -> 0 | I31: =H31*$B$7+H31 -> 0
A32: Matériel de transport | B32: ='Données individuelles'!C54 -> 0 | C32: =B32/$B$41 -> #DIV/0! | E32: BP32 | F32: Primes d'assurances | G32: ='Données individuelles'!C36 -> 0 | H32: =G32*$B$7+G32 -> 0 | I32: =H32*$B$7+H32 -> 0
A33: Matériel informatique | B33: ='Données individuelles'!C55 -> 0 | C33: =B33/$B$41 -> #DIV/0! | E33: BP33 | F33: Rémunération du personnel extérieur à l'entreprise | G33: ='Données individuelles'!C37 -> 0 | H33: =G33*$B$7+G33 -> 0 | I33: =H33*$B$7+H33 -> 0
A34: Mobilier de bureau | B34: ='Données individuelles'!C56 -> 0 | C34: =B34/$B$41 -> #DIV/0! | E34: BP34 | F34: Transports | G34: ='Données individuelles'!C38 -> 0 | H34: =G34*$B$7+G34 -> 0 | I34: =H34*$B$7+H34 -> 0
A35: Matériel de bureau | B35: ='Données individuelles'!C57 -> 0 | C35: =B35/$B$41 -> #DIV/0! | E35: BP35 | F35: Déplacement, missions et réception | G35: ='Données individuelles'!C39 -> 0 | H35: =G35*$B$7+G35 -> 0 | I35: =H35*$B$7+H35 -> 0
A36: Autres Immobilisation corporelles | B36: 0 | C36: =B36/$B$41 -> #DIV/0! | E36: BP36 | F36: Frais postaux et frais de télécommunications | G36: ='Données individuelles'!C40 -> 0 | H36: =G36*$B$7+G36 -> 0 | I36: =H36*$B$7+H36 -> 0
A37: Divers et imprévus | B37: 0 | C37: =B37/$B$41 -> #DIV/0! | E37: BP37 | F37: D. Impôts et taxes (TP+TSC+TI+TVA …) | G37: ='Données individuelles'!C41 -> 0 | H37: =G37*$B$7+G37 -> 0 | I37: =H37*$B$7+H37 -> 0
A38: (A saisir) | B38: 0 | C38: =B38/$B$41 -> #DIV/0! | E38: BP38 | F38: E. Charges de personnel | G38: ='Données individuelles'!C42 -> 0 | H38: =G38*$B$7+G38 -> 0 | I38: =H38*$B$7+H38 -> 0
A39: Trésorerie | B39: =(G24+G25)/2 -> 0 | C39: =B39/$B$41 -> #DIV/0! | E39: BP39 | F39: F. Dotations d'exploitation aux amortissements | G39: =I62 -> 0 | H39: =J62 -> 0 | I39: =K62 -> 0
A40: -BFR de démarrage Prévisionnel | B40: =(G29+G37+G38)/2 -> 0 | C40: =B40/$B$41 -> #DIV/0! | E40: BP40 | F40: III. Résultat d'exploitation (I-II) | G40: =G19-G23 -> 0 | H40: =H19-H23 -> 0 | I40: =I19-I23 -> 0
...
