Workbook

Sheet Liste Bénéficiaires
A1: Ordre | B1: Civilité | C1: Nom | D1: Prénom | E1: CIN | F1: Date de naissance | G1: Lieu de naissance | H1: Téléphone | I1: Adresse | J1: Nature Handicap
A2: BP1 | B2: Mr | C2: BAHJA | D2: KARIM | E2: I3612 | F2: 29995 | G2: Ifrane | H2: 615122456 | I2: CASABLANCA | J2: Moteur
A3: BP2 | B3: Mlle | C3: SAHRAOUI | D3: IMANE | E3: IN32514 | F3: 31177 | G3: Casablanca | H3: 652147896 | I3: KHENIFRA | J3: Audition
A4: BP3 | B4: Mme | C4: ALAMI | D4: NAIMA | E4: M52146 | F4: 33760 | G4: Salé | H4: 671245698 | I4: AZROU | J4: AVEUGLE
A5: BP4 | B5: MR | C5: NAJI | D5: SALIM | E5: U3564 | F5: 33298 | G5: AZILAL | H5: 752412365 | I5: AZILAL | J5: MOTEUR
A6: BP5
A7: BP6
A8: BP7
A9: BP8
A10: BP9
A11: BP10
A12: BP11
A13: BP12
A14: BP13
A15: BP14
A16: BP15
A17: BP16
... A41: BP40

Sheet Liste Projets
A1: Ordre | B1: Nom | C1: Prénom | D1: Intitulé du projet | E1: Adresse du projet | F1: Secteur | G1: Produits/services | H1: Durée d'expérience | I1: Formation | J1: Type de local | K1: Superficie | L1: Frais de Location
A2: BP1 | B2: =Tableau7[[#This Row],[Nom]] -> BAHJA | C2: =Tableau7[[#This Row],[Prénom]] -> KARIM | D2: MENUISERIE | E2: =+Tableau7[[#This Row],[Adresse]] -> CASABLANCA | F2: SERVICE | G2: MOBILIER | H2: 5 | I2: PRIMAIRE | J2: PROPRIETE | K2: 80 | L2: 0
A3: BP2 | B3: =Tableau7[[#This Row],[Nom]] -> SAHRAOUI | C3: =Tableau7[[#This Row],[Prénom]] -> IMANE | D3: COUTURE | E3: =+Tableau7[[#This Row],[Adresse]] -> KHENIFRA | F3: SERVICE | G3: DIVERS | H3: 2 | I3: BACCALAUREAT | J3: LOCATION | K3: 40 | L3: 1500
A4: BP3 | B4: =Tableau7[[#This Row],[Nom]] -> ALAMI | C4: =Tableau7[[#This Row],[Prénom]] -> NAIMA | D4: COMMERCE VETEMENTS | E4: =+Tableau7[[#This Row],[Adresse]] -> AZROU | F4: COMMERCE | G4: VETEMENTS | H4: 3 | I4: COLLEGE | J4: LOCATION | K4: 25 | L4: 2000
A5: BP4 | B5: =Tableau7[[#This Row],[Nom]] -> NAJI | C5: =Tableau7[[#This Row],[Prénom]] -> SALIM | D5: GARAGE MECANIQUE | E5: =+Tableau7[[#This Row],[Adresse]] -> AZILAL | F5: SERVICE | G5: REPARATION | H5: 6 | I5: TECHNICIEN | J5: PROPRIETE | K5: 110 | L5: 0
A6: BP5 | B6: =Tableau7[[#This Row],[Nom]] -> 0 | C6: =Tableau7[[#This Row],[Prénom]] -> 0 | E6: =+Tableau7[[#This Row],[Adresse]] -> 0
A7: BP6 | B7: =Tableau7[[#This Row],[Nom]] -> 0 | C7: =Tableau7[[#This Row],[Prénom]] -> 0 | E7: =+Tableau7[[#This Row],[Adresse]] -> 0
A8: BP7 | B8: =Tableau7[[#This Row],[Nom]] -> 0 | C8: =Tableau7[[#This Row],[Prénom]] -> 0 | E8: =+Tableau7[[#This Row],[Adresse]] -> 0
A9: BP8 | B9: =Tableau7[[#This Row],[Nom]] -> 0 | C9: =Tableau7[[#This Row],[Prénom]] -> 0 | E9: =+Tableau7[[#This Row],[Adresse]] -> 0
A10: BP9 | B10: =Tableau7[[#This Row],[Nom]] -> 0 | C10: =Tableau7[[#This Row],[Prénom]] -> 0 | E10: =+Tableau7[[#This Row],[Adresse]] -> 0
A11: BP10 | B11: =Tableau7[[#This Row],[Nom]] -> 0 | C11: =Tableau7[[#This Row],[Prénom]] -> 0 | E11: =+Tableau7[[#This Row],[Adresse]] -> 0
A12: BP11 | B12: =Tableau7[[#This Row],[Nom]] -> 0 | C12: =Tableau7[[#This Row],[Prénom]] -> 0 | E12: =+Tableau7[[#This Row],[Adresse]] -> 0
A13: BP12 | B13: =Tableau7[[#This Row],[Nom]] -> 0 | C13: =Tableau7[[#This Row],[Prénom]] -> 0 | E13: =+Tableau7[[#This Row],[Adresse]] -> 0
A14: BP13 | B14: =Tableau7[[#This Row],[Nom]] -> 0 | C14: =Tableau7[[#This Row],[Prénom]] -> 0 | E14: =+Tableau7[[#This Row],[Adresse]] -> 0
A15: BP14 | B15: =Tableau7[[#This Row],[Nom]] -> 0 | C15: =Tableau7[[#This Row],[Prénom]] -> 0 | E15: =+Tableau7[[#This Row],[Adresse]] -> 0
A16: BP15 | B16: =Tableau7[[#This Row],[Nom]] -> 0 | C16: =Tableau7[[#This Row],[Prénom]] -> 0 | E16: =+Tableau7[[#This Row],[Adresse]] -> 0
A17: BP16 | B17: =Tableau7[[#This Row],[Nom]] -> 0 | C17: =Tableau7[[#This Row],[Prénom]] -> 0 | E17: =+Tableau7[[#This Row],[Adresse]] -> 0
... A41: BP40 | B41: =Tableau7[[#This Row],[Nom]] -> 0 | C41: =Tableau7[[#This Row],[Prénom]] -> 0 | E41: =+Tableau7[[#This Row],[Adresse]] -> 0

Sheet Rédaction
A1: Intitulé du projet | B1: Colonne1 | C1: Colonne2 | D1: Colonne3 | E1: Colonne4 | F1: Colonne5 | G1: Colonne6 | H1: Colonne7 | I1: Colonne8 | J1: Colonne9 | K1: Colonne10 | L1: Colonne11

Sheet BP1
A1: Intitulé du projet | B1: ='Liste Projets'!D2 | C1: ='Liste Projets'!D2 -> MENUISERIE
A2: Secteur | B2: =Tableau8[[#This Row],[Secteur]] -> SERVICE | F2: Provisions pour démarrage de l'activité pour 3 Mois
A3: Produits/services | B3: ='Liste Projets'!G2 -> MOBILIER | F3: Charges | G3: Montant | H3: Commentaires
A4: Adresse du projet | B4: ='Liste Projets'!E2 -> CASABLANCA | F4: Marchandises | G4: =G24/4 -> 0
A5: Nom Bénéficiaire | B5: ='Liste Bénéficiaires'!C2 -> BAHJA | F5: Autres charges de démarrage | G5: =(G25+G29+G38+G39)/4 -> 1125
A6: Prénom Bénéficiaire | B6: ='Liste Bénéficiaires'!D2 -> KARIM | F6: Total | G6: =SUM(G4:G5) -> 1125
A7: Taux d'évolution | B7: 0.2
A9: Plan de financement initial | F9: Ratio de variation du chiffre d'affaire
A10: Rubrique : | B10: Montant | C10: % | F10: Rubrique | G10: Année1 | H10: Année2 | I10: Année3
A11: Fonds propres | B11: =B13-B12 -> 20000 | C11: =B11/B13 -> 0.28571429 | F11: Chiffre d'affaire(CA) | G11: =G19 -> 80000 | H11: =H19 -> 96000 | I11: =I19 -> 115200
A12: Subvention OAPH | B12: 50000 | C12: =B12/B13 -> 0.71428571 | F12: Ratio de variation de CA | G12: 0 | H12: =(H11-G11)/G11 -> 0.2 | I12: =(I11-H11)/H11 -> 0.2
A13: Total Financement | B13: 70000 | C13: =B13/B13 -> 1 | F13: Résultat | G13: =G50 -> 75500 | H13: =H50 -> 91500 | I13: =I50 -> 110700
F14: Ratio de rentabilité commerciale RRC | G14: =G13/G11 -> 0.94375 | H14: =H13/H11 -> 0.953125 | I14: =I13/I11 -> 0.9609375
A17: PROGRAMME D'INVESTISSEMENT | F17: COMPTES DE RESULTAT PREVISIONNELS
A18: Nature du poste | B18: Montant | C18: % | F18: Eléments | G18: Année 1 | H18: Année 2 | I18: Année 3
A19: Frais préliminaires | B19: =SUM(B20:B23) -> 0 | C19: =B19/$B$41 -> 0 | F19: I. Produits d'exploitation | G19: =G20+G21+G22 -> 80000 | H19: =H20+H21+H22 -> 96000 | I19: =I20+I21+I22 -> 115200
A20: Frais de constitution | B20: 0 | C20: =B20/$B$41 -> 0 | F20: Ventes de marchandises | G20: 0 | H20: =G20*$B$7+G20 -> 0 | I20: =H20*$B$7+H20 -> 0
A21: Frais de prospection | B21: 0 | C21: =B21/$B$41 -> 0 | F21: Vente de biens produits | G21: 0 | H21: =G21*$B$7+G21 -> 0 | I21: =H21*$B$7+H21 -> 0
A22: Frais de publicité de démarrage | B22: 0 | C22: =B22/$B$41 -> 0 | F22: Vente de services produits | G22: 80000 | H22: =G22*$B$7+G22 -> 96000 | I22: =H22*$B$7+H22 -> 115200
A23: Autres frais préliminaires | B23: 0 | C23: =B23/$B$41 -> 0 | F23: II. Charges d’exploitation (A+B+C+D+E+F) | G23: =G24+G25+G29+G37+G38+G39 -> 4500 | H23: =H24+H25+H29+H37+H38+H39 -> 4500 | I23: =I24+I25+I29+I37+I38+I39 -> 4500
A24: Immobilisations incorporelles | B24: 15000 | C24: =B24/$B$41 -> 0.21428571 | F24: A. Achats revendus de marchandises | G24: 0 | H24: =G24*$B$7+G24 -> 0 | I24: =H24*$B$7+H24 -> 0
A25: Fonds de commerce | B25: 20000 | C25: =B25/$B$41 -> 0.28571429 | F25: B. Achats consommés de matière et fournitures | G25: =G26+G27+G28 -> 0 | H25: =H26+H27+H28 -> 0 | I25: =I26+I27+I28 -> 0
A26: Autres immobilisations incorporelles | B26: 0 | C26: =B26/$B$41 -> 0 | F26: - Achats Matière Première | G26: 0 | H26: =G26*$B$7+G26 -> 0 | I26: =H26*$B$7+H26 -> 0
A27: Immobilisations corporelles | B27: =SUM(B28:B38) -> 50000 | C27: =B27/$B$41 -> 0.71428571 | F27: - Achat de fourniture non stockable | G27: 0 | H27: =G27*$B$7+G27 -> 0 | I27: =H27*$B$7+H27 -> 0
A28: Terrains(Achat) | B28: 0 | C28: =B28/$B$41 -> 0 | F28: -Achat de Fourniture stockable | G28: 0 | H28: =G28*$B$7+G28 -> 0 | I28: =H28*$B$7+H28 -> 0
A29: Constructions | B29: 10000 | C29: =B29/$B$41 -> 0.14285714 | F29: C. Autres charges externes | G29: =SUM(G30:G36) -> 0 | H29: =SUM(H30:H36) -> 0 | I29: =SUM(I30:I36) -> 0
A30: Aménagement | B30: 40000 | C30: =B30/$B$41 -> 0.57142857 | F30: Locations et charges locatives | G30: 0 | H30: =G30*$B$7+G30 -> 0 | I30: =H30*$B$7+H30 -> 0
A31: Installations techniques, matériel et outillage | B31: 0 | C31: =B31/$B$41 -> 0 | F31: Entretien et réparations | G31: 0 | H31: =G31*$B$7+G31 -> 0 | I31: =H31*$B$7+H31 -> 0
A32: Matériel de transport | B32: 0 | C32: =B32/$B$41 -> 0 | F32: Primes d'assurances | G32: 0 | H32: =G32*$B$7+G32 -> 0 | I32: =H32*$B$7+H32 -> 0
A33: Matériel informatique | B33: 0 | C33: =B33/$B$41 -> 0 | F33: Rémunération du personnel extérieur à l'entreprise | G33: 0 | H33: =G33*$B$7+G33 -> 0 | I33: =H33*$B$7+H33 -> 0
A34: Mobilier de bureau | B34: 0 | C34: =B34/$B$41 -> 0 | F34: Transports | G34: 0 | H34: =G34*$B$7+G34 -> 0 | I34: =H34*$B$7+H34 -> 0
A35: Matériel de bureau | B35: 0 | C35: =B35/$B$41 -> 0 | F35: Déplacement, missions et réception | G35: 0 | H35: =G35*$B$7+G35 -> 0 | I35: =H35*$B$7+H35 -> 0
A36: Autres Immobilisation corporelles | B36: 0 | C36: =B36/$B$41 -> 0 | F36: Frais postaux et frais de télécommunications | G36: 0 | H36: =G36*$B$7+G36 -> 0 | I36: =H36*$B$7+H36 -> 0
A37: Divers et imprévus | B37: 0 | C37: =B37/$B$41 -> 0 | F37: D. Impôts et taxes (TP+TSC+TI+TVA …)
A38: (A saisir) | B38: 0 | C38: =B38/$B$41 -> 0 | F38: E. Charges de personnel | G38: 0 | H38: =G38*$B$7+G38 -> 0 | I38: =H38*$B$7+H38 -> 0
A39: Trésorerie | B39: =B11 -> 20000 | C39: =B39/$B$41 -> 0.28571429 | F39: F. Dotations d'exploitation aux amortissements | G39: =I62 -> 4500 | H39: =J62 -> 4500 | I39: =K62 -> 4500
A40: -BFR de démarrage : Provisions pour démarrage de l'activité | B40: =G6 -> 1125 | C40: =B40/$B$41 -> 0.016071429 | F40: III. Résultat d'exploitation (I-II) | G40: =G19-G23 -> 75500 | H40: =H19-H23 -> 91500 | I40: =I19-I23 -> 110700
A41: Total Investissement | B41: =B13 -> 70000 | C41: =B41/$B$41 -> 1 | F41: IV. Produits financiers | G41: 0 | H41: =G41*$B$7+G41 -> 0 | I41: =H41*$B$7+H41 -> 0
F42: V. Charges financières | G42: 0 | H42: =G42*$B$7+G42 -> 0 | I42: =H42*$B$7+H42 -> 0
F43: VI. Résultat financier (IV-V) | G43: =G41-G42 -> 0 | H43: =H41-H42 -> 0 | I43: =I41-I42 -> 0
...

Sheet BP2
A1: Intitulé du projet | B1: ='Liste Projets'!D3 | C1: ='Liste Projets'!D3 -> COUTURE
A2: Secteur | B2: ='Liste Projets'!F3 -> SERVICE | F2: Provisions pour démarrage de l'activité pour 3 Mois
A3: Produits/services | B3: =Tableau8[[#This Row],[Produits/services]] -> DIVERS | F3: Charges | G3: Montant | H3: Commentaires
A4: Adresse du projet | B4: ='Liste Projets'!E3 -> KHENIFRA | F4: Marchandises | G4: =G24/4 -> 0
A5: Nom Bénéficiaire | B5: ='Liste Bénéficiaires'!C3 -> SAHRAOUI | F5: Autres charges de démarrage | G5: =(G25+G29+G38+G39)/4 -> 8875
A6: Prénom Bénéficiaire | B6: ='Liste Bénéficiaires'!D3 -> IMANE | F6: Total | G6: =SUM(G4:G5) -> 8875
A7: Taux d'évolution | B7: 0.15
A9: Plan de financement initial | F9: Ratio de variation du chiffre d'affaire
A10: Rubrique : | B10: Montant | C10: % | F10: Rubrique | G10: Année1 | H10: Année2 | I10: Année3
A11: Fonds propres | B11: =B13-B12 -> 0 | C11: =B11/B13 -> 0 | F11: Chiffre d'affaire(CA) | G11: =G19 -> 60000 | H11: =H19 -> 69000 | I11: =I19 -> 79350
A12: Subvention OAPH | B12: 60000 | C12: =B12/B13 -> 1 | F12: Ratio de variation de CA | G12: 0 | H12: =(H11-G11)/G11 -> 0.15 | I12: =(I11-H11)/H11 -> 0.15
A13: Total Financement | B13: 60000 | C13: =B13/B13 -> 1 | F13: Résultat | G13: =G50 -> 24500 | H13: =H50 -> 29000 | I13: =I50 -> 34175
F14: Ratio de rentabilité commerciale RRC | G14: =G13/G11 -> 0.40833333 | H14: =H13/H11 -> 0.42028986 | I14: =I13/I11 -> 0.43068683
A17: PROGRAMME D'INVESTISSEMENT | F17: COMPTES DE RESULTAT PREVISIONNELS
A18: Nature du poste | B18: Montant | C18: % | F18: Eléments | G18: Année 1 | H18: Année 2 | I18: Année 3
A19: Frais préliminaires | B19: =SUM(B20:B23) -> 2500 | C19: =B19/$B$41 -> 0.041666667 | F19: I. Produits d'exploitation | G19: =G20+G21+G22 -> 60000 | H19: =H20+H21+H22 -> 69000 | I19: =I20+I21+I22 -> 79350
A20: Frais de constitution | B20: 2000 | C20: =B20/$B$41 -> 0.033333333 | F20: Ventes de marchandises | G20: 0 | H20: =G20*$B$7+G20 -> 0 | I20: =H20*$B$7+H20 -> 0
A21: Frais de prospection | B21: 0 | C21: =B21/$B$41 -> 0 | F21: Vente de biens produits | G21: 0 | H21: =G21*$B$7+G21 -> 0 | I21: =H21*$B$7+H21 -> 0
A22: Frais de publicité de démarrage | B22: 500 | C22: =B22/$B$41 -> 0.0083333333 | F22: Vente de services produits | G22: 60000 | H22: =G22*$B$7+G22 -> 69000 | I22: =H22*$B$7+H22 -> 79350
A23: Autres frais préliminaires | B23: 0 | C23: =B23/$B$41 -> 0 | F23: II. Charges d’exploitation (A+B+C+D+E+F) | G23: =G24+G25+G29+G37+G38+G39 -> 35500 | H23: =H24+H25+H29+H37+H38+H39 -> 40000 | I23: =I24+I25+I29+I37+I38+I39 -> 45175
A24: Immobilisations incorporelles | B24: =B25+B26 -> 0 | C24: =B24/$B$41 -> 0 | F24: A. Achats revendus de marchandises | G24: 0 | H24: =G24*$B$7+G24 -> 0 | I24: =H24*$B$7+H24 -> 0
A25: Fonds de commerce | B25: 0 | C25: =B25/$B$41 -> 0 | F25: B. Achats consommés de matière et fournitures | G25: =G26+G27+G28 -> 0 | H25: =H26+H27+H28 -> 0 | I25: =I26+I27+I28 -> 0
A26: Autres immobilisations incorporelles | B26: 0 | C26: =B26/$B$41 -> 0 | F26: - Achats Matière Première | G26: 0 | H26: =G26*$B$7+G26 -> 0 | I26: =H26*$B$7+H26 -> 0
A27: Immobilisations corporelles | B27: =SUM(B28:B38) -> 40000 | C27: =B27/$B$41 -> 0.66666667 | F27: - Achat de fourniture non stockable | G27: 0 | H27: =G27*$B$7+G27 -> 0 | I27: =H27*$B$7+H27 -> 0
A28: Terrains(Achat) | B28: 0 | C28: =B28/$B$41 -> 0 | F28: -Achat de Fourniture stockable | G28: 0 | H28: =G28*$B$7+G28 -> 0 | I28: =H28*$B$7+H28 -> 0
A29: Constructions | B29: 0 | C29: =B29/$B$41 -> 0 | F29: C. Autres charges externes | G29: =SUM(G30:G36) -> 30000 | H29: =SUM(H30:H36) -> 34500 | I29: =SUM(I30:I36) -> 39675
A30: Aménagement | B30: 10000 | C30: =B30/$B$41 -> 0.16666667 | F30: Locations et charges locatives | G30: ='Liste Projets'!L3*12 -> 18000 | H30: =G30*$B$7+G30 -> 20700 | I30: =H30*$B$7+H30 -> 23805
A31: Installations techniques, matériel et outillage | B31: 10000 | C31: =B31/$B$41 -> 0.16666667 | F31: Entretien et réparations | G31: 0 | H31: =G31*$B$7+G31 -> 0 | I31: =H31*$B$7+H31 -> 0
A32: Matériel de transport | B32: 0 | C32: =B32/$B$41 -> 0 | F32: Primes d'assurances | G32: 0 | H32: =G32*$B$7+G32 -> 0 | I32: =H32*$B$7+H32 -> 0
A33: Matériel informatique | B33: 0 | C33: =B33/$B$41 -> 0 | F33: Rémunération du personnel extérieur à l'entreprise | G33: 12000 | H33: =G33*$B$7+G33 -> 13800 | I33: =H33*$B$7+H33 -> 15870
A34: Mobilier de bureau | B34: 10000 | C34: =B34/$B$41 -> 0.16666667 | F34: Transports | G34: 0 | H34: =G34*$B$7+G34 -> 0 | I34: =H34*$B$7+H34 -> 0
A35: Matériel de bureau | B35: 5000 | C35: =B35/$B$41 -> 0.083333333 | F35: Déplacement, missions et réception | G35: 0 | H35: =G35*$B$7+G35 -> 0 | I35: =H35*$B$7+H35 -> 0
A36: Autres Immobilisation corporelles | B36: 5000 | C36: =B36/$B$41 -> 0.083333333 | F36: Frais postaux et frais de télécommunications | G36: 0 | H36: =G36*$B$7+G36 -> 0 | I36: =H36*$B$7+H36 -> 0
A37: Divers et imprévus | B37: 0 | C37: =B37/$B$41 -> 0 | F37: D. Impôts et taxes (TP+TSC+TI+TVA …)
A38: (A saisir) | B38: 0 | C38: =B38/$B$41 -> 0 | F38: E. Charges de personnel | G38: 0 | H38: =G38*$B$7+G38 -> 0 | I38: =H38*$B$7+H38 -> 0
A39: Trésorerie | B39: =B11 -> 0 | C39: =B39/$B$41 -> 0 | F39: F. Dotations d'exploitation aux amortissements | G39: =I62 -> 5500 | H39: =J62 -> 5500 | I39: =K62 -> 5500
A40: -BFR de démarrage : Provisions pour démarrage de l'activité | B40: =G6 -> 8875 | C40: =B40/$B$41 -> 0.14791667 | F40: III. Résultat d'exploitation (I-II) | G40: =G19-G23 -> 24500 | H40: =H19-H23 -> 29000 | I40: =I19-I23 -> 34175
A41: Total Investissement | B41: =B13 -> 60000 | C41: =B41/$B$41 -> 1 | F41: IV. Produits financiers | G41: 0 | H41: =G41*$B$7+G41 -> 0 | I41: =H41*$B$7+H41 -> 0
F42: V. Charges financières | G42: 0 | H42: =G42*$B$7+G42 -> 0 | I42: =H42*$B$7+H42 -> 0
F43: VI. Résultat financier (IV-V) | G43: =G41-G42 -> 0 | H43: =H41-H42 -> 0 | I43: =I41-I42 -> 0
...

Sheet BP3
A1: Intitulé du projet | B1: ='Liste Projets'!D4 | C1: ='Liste Projets'!D4 -> COMMERCE VETEMENTS
A2: Secteur | B2: ='Liste Projets'!F4 -> COMMERCE | F2: Provisions pour démarrage de l'activité pour 3 Mois
A3: Produits/services | B3: ='Liste Projets'!G4 -> VETEMENTS | F3: Charges | G3: Montant | H3: Commentaires
A4: Adresse du projet | B4: =Tableau8[[#This Row],[Adresse du projet]] -> AZROU | F4: Marchandises | G4: =G24/4 -> 0
A5: Nom Bénéficiaire | B5: ='Liste Bénéficiaires'!C4 -> ALAMI | F5: Autres charges de démarrage | G5: =(G25+G29+G38+G39)/4 -> 7400
A6: Prénom Bénéficiaire | B6: ='Liste Bénéficiaires'!D4 -> NAIMA | F6: Total | G6: =SUM(G4:G5) -> 7400
A7: Taux d'évolution | B7: 0.2
A9: Plan de financement initial | F9: Ratio de variation du chiffre d'affaire
A10: Rubrique : | B10: Montant | C10: % | F10: Rubrique | G10: Année1 | H10: Année2 | I10: Année3
A11: Fonds propres | B11: =B13-B12 -> 0 | C11: =B11/B13 -> 0 | F11: Chiffre d'affaire(CA) | G11: =G19 -> 80000 | H11: =H19 -> 96000 | I11: =I19 -> 115200
A12: Subvention OAPH | B12: 60000 | C12: =B12/B13 -> 1 | F12: Ratio de variation de CA | G12: 0 | H12: =(H11-G11)/G11 -> 0.2 | I12: =(I11-H11)/H11 -> 0.2
A13: Total Financement | B13: 60000 | C13: =B13/B13 -> 1 | F13: Résultat | G13: =G50 -> 50400 | H13: =H50 -> 61600 | I13: =I50 -> 75040
F14: Ratio de rentabilité commerciale RRC | G14: =G13/G11 -> 0.63 | H14: =H13/H11 -> 0.64166667 | I14: =I13/I11 -> 0.65138889
A17: PROGRAMME D'INVESTISSEMENT | F17: COMPTES DE RESULTAT PREVISIONNELS
A18: Nature du poste | B18: Montant | C18: % | F18: Eléments | G18: Année 1 | H18: Année 2 | I18: Année 3
A19: Frais préliminaires | B19: =SUM(B20:B23) -> 3000 | C19: =B19/$B$41 -> 0.05 | F19: I. Produits d'exploitation | G19: =G20+G21+G22 -> 80000 | H19: =H20+H21+H22 -> 96000 | I19: =I20+I21+I22 -> 115200
A20: Frais de constitution | B20: 2000 | C20: =B20/$B$41 -> 0.033333333 | F20: Ventes de marchandises | G20: 80000 | H20: =G20*$B$7+G20 -> 96000 | I20: =H20*$B$7+H20 -> 115200
A21: Frais de prospection | B21: 0 | C21: =B21/$B$41 -> 0 | F21: Vente de biens produits | G21: 0 | H21: =G21*$B$7+G21 -> 0 | I21: =H21*$B$7+H21 -> 0
A22: Frais de publicité de démarrage | B22: 1000 | C22: =B22/$B$41 -> 0.016666667 | F22: Vente de services produits | G22: 0 | H22: =G22*$B$7+G22 -> 0 | I22: =H22*$B$7+H22 -> 0
A23: Autres frais préliminaires | B23: 0 | C23: =B23/$B$41 -> 0 | F23: II. Charges d’exploitation (A+B+C+D+E+F) | G23: =G24+G25+G29+G37+G38+G39 -> 29600 | H23: =H24+H25+H29+H37+H38+H39 -> 34400 | I23: =I24+I25+I29+I37+I38+I39 -> 40160
A24: Immobilisations incorporelles | B24: =B25+B26 -> 0 | C24: =B24/$B$41 -> 0 | F24: A. Achats revendus de marchandises | G24: 0 | H24: =G24*$B$7+G24 -> 0 | I24: =H24*$B$7+H24 -> 0
A25: Fonds de commerce | B25: 0 | C25: =B25/$B$41 -> 0 | F25: B. Achats consommés de matière et fournitures | G25: =G26+G27+G28 -> 0 | H25: =H26+H27+H28 -> 0 | I25: =I26+I27+I28 -> 0
A26: Autres immobilisations incorporelles | B26: 0 | C26: =B26/$B$41 -> 0 | F26: - Achats Matière Première | G26: 0 | H26: =G26*$B$7+G26 -> 0 | I26: =H26*$B$7+H26 -> 0
A27: Immobilisations corporelles | B27: =SUM(B28:B38) -> 30000 | C27: =B27/$B$41 -> 0.5 | F27: - Achat de fourniture non stockable | G27: 0 | H27: =G27*$B$7+G27 -> 0 | I27: =H27*$B$7+H27 -> 0
A28: Terrains(Achat) | B28: 0 | C28: =B28/$B$41 -> 0 | F28: -Achat de Fourniture stockable | G28: 0 | H28: =G28*$B$7+G28 -> 0 | I28: =H28*$B$7+H28 -> 0
A29: Constructions | B29: 0 | C29: =B29/$B$41 -> 0 | F29: C. Autres charges externes | G29: =SUM(G30:G36) -> 24000 | H29: =SUM(H30:H36) -> 28800 | I29: =SUM(I30:I36) -> 34560
A30: Aménagement | B30: 10000 | C30: =B30/$B$41 -> 0.16666667 | F30: Locations et charges locatives | G30: ='Liste Projets'!L4*12 -> 24000 | H30: =G30*$B$7+G30 -> 28800 | I30: =H30*$B$7+H30 -> 34560
A31: Installations techniques, matériel et outillage | B31: 0 | C31: =B31/$B$41 -> 0 | F31: Entretien et réparations | G31: 0 | H31: =G31*$B$7+G31 -> 0 | I31: =H31*$B$7+H31 -> 0
A32: Matériel de transport | B32: 0 | C32: =B32/$B$41 -> 0 | F32: Primes d'assurances | G32: 0 | H32: =G32*$B$7+G32 -> 0 | I32: =H32*$B$7+H32 -> 0
A33: Matériel informatique | B33: 0 | C33: =B33/$B$41 -> 0 | F33: Rémunération du personnel extérieur à l'entreprise | G33: 0 | H33: =G33*$B$7+G33 -> 0 | I33: =H33*$B$7+H33 -> 0
A34: Mobilier de bureau | B34: 20000 | C34: =B34/$B$41 -> 0.33333333 | F34: Transports | G34: 0 | H34: =G34*$B$7+G34 -> 0 | I34: =H34*$B$7+H34 -> 0
A35: Matériel de bureau | B35: 0 | C35: =B35/$B$41 -> 0 | F35: Déplacement, missions et réception | G35: 0 | H35: =G35*$B$7+G35 -> 0 | I35: =H35*$B$7+H35 -> 0
A36: Autres Immobilisation corporelles | B36: 0 | C36: =B36/$B$41 -> 0 | F36: Frais postaux et frais de télécommunications | G36: 0 | H36: =G36*$B$7+G36 -> 0 | I36: =H36*$B$7+H36 -> 0
A37: Divers et imprévus | B37: 0 | C37: =B37/$B$41 -> 0 | F37: D. Impôts et taxes (TP+TSC+TI+TVA …)
A38: (A saisir) | B38: 0 | C38: =B38/$B$41 -> 0 | F38: E. Charges de personnel | G38: 0 | H38: =G38*$B$7+G38 -> 0 | I38: =H38*$B$7+H38 -> 0
A39: Trésorerie | B39: =B11 -> 0 | C39: =B39/$B$41 -> 0 | F39: F. Dotations d'exploitation aux amortissements | G39: =I62 -> 5600 | H39: =J62 -> 5600 | I39: =K62 -> 5600
A40: -BFR de démarrage : Provisions pour démarrage de l'activité | B40: =G6 -> 7400 | C40: =B40/$B$41 -> 0.12333333 | F40: III. Résultat d'exploitation (I-II) | G40: =G19-G23 -> 50400 | H40: =H19-H23 -> 61600 | I40: =I19-I23 -> 75040
A41: Total Investissement | B41: =B13 -> 60000 | C41: =B41/$B$41 -> 1 | F41: IV. Produits financiers | G41: 0 | H41: =G41*$B$7+G41 -> 0 | I41: =H41*$B$7+H41 -> 0
F42: V. Charges financières | G42: 0 | H42: =G42*$B$7+G42 -> 0 | I42: =H42*$B$7+H42 -> 0
F43: VI. Résultat financier (IV-V) | G43: =G41-G42 -> 0 | H43: =H41-H42 -> 0 | I43: =I41-I42 -> 0
...

Sheet BP4
A1: Intitulé du projet | B1: ='Liste Projets'!D5
A2: Secteur | B2: ='Liste Projets'!F5 -> SERVICE | F2: Provisions pour démarrage de l'activité pour 3 Mois
A3: Produits/services | B3: ='Liste Projets'!G5 -> REPARATION | F3: Charges | G3: Montant | H3: Commentaires
A4: Adresse du projet | B4: ='Liste Projets'!E5 -> AZILAL | C4: ='Liste Projets'!D5 -> GARAGE MECANIQUE | F4: Marchandises | G4: =G24/4 -> 0
A5: Nom Bénéficiaire | B5: =Tableau7[[#This Row],[Nom]] -> NAJI | F5: Autres charges de démarrage | G5: =(G25+G29+G38+G39)/4 -> 7500
A6: Prénom Bénéficiaire | B6: ='Liste Projets'!C5 -> SALIM | F6: Total | G6: =SUM(G4:G5) -> 7500
A7: Taux d'évolution | B7: 0.2
A9: Plan de financement initial | F9: Ratio de variation du chiffre d'affaire
A10: Rubrique : | B10: Montant | C10: % | F10: Rubrique | G10: Année1 | H10: Année2 | I10: Année3
A11: Fonds propres | B11: =B13-B12 -> 10000 | C11: =B11/B13 -> 0.14285714 | F11: Chiffre d'affaire(CA) | G11: =G19 -> 80000 | H11: =H19 -> 96000 | I11: =I19 -> 115200
A12: Subvention OAPH | B12: 60000 | C12: =B12/B13 -> 0.85714286 | F12: Ratio de variation de CA | G12: 0 | H12: =(H11-G11)/G11 -> 0.2 | I12: =(I11-H11)/H11 -> 0.2
A13: Total Financement | B13: 70000 | C13: =B13/B13 -> 1 | F13: Résultat | G13: =G50 -> 50000 | H13: =H50 -> 61200 | I13: =I50 -> 74640
F14: Ratio de rentabilité commerciale RRC | G14: =G13/G11 -> 0.625 | H14: =H13/H11 -> 0.6375 | I14: =I13/I11 -> 0.64791667
A17: PROGRAMME D'INVESTISSEMENT | F17: COMPTES DE RESULTAT PREVISIONNELS
A18: Nature du poste | B18: Montant | C18: % | F18: Eléments | G18: Année 1 | H18: Année 2 | I18: Année 3
A19: Frais préliminaires | B19: =SUM(B20:B23) -> 0 | C19: =B19/$B$41 -> 0 | F19: I. Produits d'exploitation | G19: =G20+G21+G22 -> 80000 | H19: =H20+H21+H22 -> 96000 | I19: =I20+I21+I22 -> 115200
A20: Frais de constitution | B20: 0 | C20: =B20/$B$41 -> 0 | F20: Ventes de marchandises | G20: 0 | H20: =G20*$B$7+G20 -> 0 | I20: =H20*$B$7+H20 -> 0
A21: Frais de prospection | B21: 0 | C21: =B21/$B$41 -> 0 | F21: Vente de biens produits | G21: 0 | H21: =G21*$B$7+G21 -> 0 | I21: =H21*$B$7+H21 -> 0
A22: Frais de publicité de démarrage | B22: 0 | C22: =B22/$B$41 -> 0 | F22: Vente de services produits | G22: 80000 | H22: =G22*$B$7+G22 -> 96000 | I22: =H22*$B$7+H22 -> 115200
A23: Autres frais préliminaires | B23: 0 | C23: =B23/$B$41 -> 0 | F23: II. Charges d’exploitation (A+B+C+D+E+F) | G23: =G24+G25+G29+G37+G38+G39 -> 30000 | H23: =H24+H25+H29+H37+H38+H39 -> 34800 | I23: =I24+I25+I29+I37+I38+I39 -> 40560
A24: Immobilisations incorporelles | B24: 10000 | C24: =B24/$B$41 -> 0.14285714 | F24: A. Achats revendus de marchandises | G24: 0 | H24: =G24*$B$7+G24 -> 0 | I24: =H24*$B$7+H24 -> 0
A25: Fonds de commerce | B25: 20000 | C25: =B25/$B$41 -> 0.28571429 | F25: B. Achats consommés de matière et fournitures | G25: =G26+G27+G28 -> 0 | H25: =H26+H27+H28 -> 0 | I25: =I26+I27+I28 -> 0
A26: Autres immobilisations incorporelles | B26: 0 | C26: =B26/$B$41 -> 0 | F26: - Achats Matière Première | G26: 0 | H26: =G26*$B$7+G26 -> 0 | I26: =H26*$B$7+H26 -> 0
A27: Immobilisations corporelles | B27: =SUM(B28:B38) -> 60000 | C27: =B27/$B$41 -> 0.85714286 | F27: - Achat de fourniture non stockable | G27: 0 | H27: =G27*$B$7+G27 -> 0 | I27: =H27*$B$7+H27 -> 0
A28: Terrains(Achat) | B28: 0 | C28: =B28/$B$41 -> 0 | F28: -Achat de Fourniture stockable | G28: 0 | H28: =G28*$B$7+G28 -> 0 | I28: =H28*$B$7+H28 -> 0
A29: Constructions | B29: 0 | C29: =B29/$B$41 -> 0 | F29: C. Autres charges externes | G29: =SUM(G30:G36) -> 0 | H29: =SUM(H30:H36) -> 0 | I29: =SUM(I30:I36) -> 0
A30: Aménagement | B30: 10000 | C30: =B30/$B$41 -> 0.14285714 | F30: Locations et charges locatives | G30: 0 | H30: =G30*$B$7+G30 -> 0 | I30: =H30*$B$7+H30 -> 0
A31: Installations techniques, matériel et outillage | B31: 50000 | C31: =B31/$B$41 -> 0.71428571 | F31: Entretien et réparations | G31: 0 | H31: =G31*$B$7+G31 -> 0 | I31: =H31*$B$7+H31 -> 0
A32: Matériel de transport | B32: 0 | C32: =B32/$B$41 -> 0 | F32: Primes d'assurances | G32: 0 | H32: =G32*$B$7+G32 -> 0 | I32: =H32*$B$7+H32 -> 0
A33: Matériel informatique | B33: 0 | C33: =B33/$B$41 -> 0 | F33: Rémunération du personnel extérieur à l'entreprise | G33: 0 | H33: =G33*$B$7+G33 -> 0 | I33: =H33*$B$7+H33 -> 0
A34: Mobilier de bureau | B34: 0 | C34: =B34/$B$41 -> 0 | F34: Transports | G34: 0 | H34: =G34*$B$7+G34 -> 0 | I34: =H34*$B$7+H34 -> 0
A35: Matériel de bureau | B35: 0 | C35: =B35/$B$41 -> 0 | F35: Déplacement, missions et réception | G35: 0 | H35: =G35*$B$7+G35 -> 0 | I35: =H35*$B$7+H35 -> 0
A36: Autres Immobilisation corporelles | B36: 0 | C36: =B36/$B$41 -> 0 | F36: Frais postaux et frais de télécommunications | G36: 0 | H36: =G36*$B$7+G36 -> 0 | I36: =H36*$B$7+H36 -> 0
A37: Divers et imprévus | B37: 0 | C37: =B37/$B$41 -> 0 | F37: D. Impôts et taxes (TP+TSC+TI+TVA …)
A38: (A saisir) | B38: 0 | C38: =B38/$B$41 -> 0 | F38: E. Charges de personnel | G38: 24000 | H38: =G38*$B$7+G38 -> 28800 | I38: =H38*$B$7+H38 -> 34560
A39: Trésorerie | B39: =B11 -> 10000 | C39: =B39/$B$41 -> 0.14285714 | F39: F. Dotations d'exploitation aux amortissements | G39: =I62 -> 6000 | H39: =J62 -> 6000 | I39: =K62 -> 6000
A40: -BFR de démarrage : Provisions pour démarrage de l'activité | B40: =G6 -> 7500 | C40: =B40/$B$41 -> 0.10714286 | F40: III. Résultat d'exploitation (I-II) | G40: =G19-G23 -> 50000 | H40: =H19-H23 -> 61200 | I40: =I19-I23 -> 74640
A41: Total Investissement | B41: =B13 -> 70000 | C41: =B41/$B$41 -> 1 | F41: IV. Produits financiers | G41: 0 | H41: =G41*$B$7+G41 -> 0 | I41: =H41*$B$7+H41 -> 0
F42: V. Charges financières | G42: 0 | H42: =G42*$B$7+G42 -> 0 | I42: =H42*$B$7+H42 -> 0
F43: VI. Résultat financier (IV-V) | G43: =G41-G42 -> 0 | H43: =H41-H42 -> 0 | I43: =I41-I42 -> 0
...
