Workbook

Sheet Notes Trim 1
A1: 2 SN | D1: Maths | G1: Trimestre 1
B2: Nom | C2: Stat 1 19/09 | D2: Stat 2 03/10 | J2: Moyenne
A3: 1 | B3: AQUILLO Aymeric | C3: 12.5 | D3: ='Stat 2'!J3 -> 16.5 | J3: =AVERAGE(C3:I3) -> 14.5
A4: 2 | B4: ARIES Maxime | C4: 10 | D4: ='Stat 2'!J4 -> 9 | J4: =AVERAGE(C4:I4) -> 9.5
A5: 3 | B5: ARNAUD--ROUGET Zian | C5: 8 | D5: ='Stat 2'!J5 -> 17.5 | J5: =AVERAGE(C5:I5) -> 12.75
A6: 4 | B6: AUZET Sarah | C6: 8 | D6: ='Stat 2'!J6 -> 14 | J6: =AVERAGE(C6:I6) -> 11
A7: 5 | B7: BADOUARD Olivier | C7: 16 | D7: ='Stat 2'!J7 -> 16 | J7: =AVERAGE(C7:I7) -> 16
A8: 6 | B8: BAUDET Louis | C8: 11 | D8: ='Stat 2'!J8 -> 13.5 | J8: =AVERAGE(C8:I8) -> 12.25
A9: 7 | B9: BOUHAMED Kaïs | C9: 15.5 | D9: ='Stat 2'!J9 -> 13.5 | J9: =AVERAGE(C9:I9) -> 14.5
A10: 8 | B10: BROUSSE Antoine | C10: 16 | D10: ='Stat 2'!J10 -> 9 | J10: =AVERAGE(C10:I10) -> 12.5
A11: 9 | B11: BRUN Mattis | C11: 8 | D11: ='Stat 2'!J11 -> 12.5 | J11: =AVERAGE(C11:I11) -> 10.25
A12: 10 | B12: COUTURIAUX Quentin | C12: 4 | D12: ='Stat 2'!J12 -> 12.5 | J12: =AVERAGE(C12:I12) -> 8.25
A13: 11 | B13: DENISE Raphaël | C13: 10.5 | D13: ='Stat 2'!J13 -> 16 | J13: =AVERAGE(C13:I13) -> 13.25
A14: 12 | B14: GASTOU Paul | C14: 12.5 | D14: ='Stat 2'!J14 -> 12.5 | J14: =AVERAGE(C14:I14) -> 12.5
... A24: 22 | B24: ODOUARD Dorian | C24: 17.5 | D24: ='Stat 2'!J24 -> 11 | J24: =AVERAGE(C24:I24) -> 14.25
A25: 23 | B25: PELISSIER Lenny | C25: Disp | D25: Abs | J25: =AVERAGE(C25:I25) -> #DIV/0!
A26: 24 | B26: RABHI Léos | C26: 16 | D26: ='Stat 2'!J26 -> 10 | J26: =AVERAGE(C26:I26) -> 13
A27: 25 | B27: ROBINEAU Lucas | C27: 12 | D27: ='Stat 2'!J27 -> 6.5 | J27: =AVERAGE(C27:I27) -> 9.25
A28: 26 | B28: ROSELLO Micke | C28: 12 | D28: ='Stat 2'!J28 -> 13.5 | J28: =AVERAGE(C28:I28) -> 12.75
A29: 27 | B29: TEIXEIRA ALVES Nicolas | C29: 6.5 | D29: ='Stat 2'!J29 -> 11.5 | J29: =AVERAGE(C29:I29) -> 9
A30: 28 | B30: VAMOS Noah | C30: 13.5 | D30: ='Stat 2'!J30 -> 9 | J30: =AVERAGE(C30:I30) -> 11.25
A31: 29 | B31: VERDIER Robin | C31: 9.5 | D31: ='Stat 2'!J31 -> 14 | J31: =AVERAGE(C31:I31) -> 11.75
B32: Moyenne | C32: =AVERAGE(C3:C31) -> 11.125 | D32: =AVERAGE(D3:D31) -> 12.428571 | E32: =AVERAGE(E3:E31) -> #DIV/0! | F32: =AVERAGE(F3:F31) -> #DIV/0! | G32: =AVERAGE(G3:G31) -> #DIV/0! | H32: =AVERAGE(H3:H31) -> #DIV/0! | I32: =AVERAGE(I3:I31) -> #DIV/0! | J32: =AVERAGE(J3:J31) -> #DIV/0!
B33: Moyenne période | D33: =AVERAGE($C$32:D32) -> 11.776786 | E33: =AVERAGE($C$32:E32) -> #DIV/0! | F33: =AVERAGE($C$32:F32) -> #DIV/0! | G33: =AVERAGE($C$32:G32) -> #DIV/0! | H33: =AVERAGE($C$32:H32) -> #DIV/0! | I33: =AVERAGE($C$32:I32) -> #DIV/0! | J33: =AVERAGE($C$32:J32) -> #DIV/0!

Sheet Stat 1
A1: Représentation de séries statistiques
A3: 1 | B3: AQUILLO Aymeric | C3: 12.5
A4: 2 | B4: ARIES Maxime | C4: 10
A5: 3 | B5: ARNAUD--ROUGET Zian | C5: 8
A6: 4 | B6: AUZET Sarah | C6: 8
A7: 5 | B7: BADOUARD Olivier | C7: 16
A8: 6 | B8: BAUDET Louis | C8: 11
A9: 7 | B9: BOUHAMED Kaïs | C9: 15.5
A10: 8 | B10: BROUSSE Antoine | C10: 16
A11: 9 | B11: BRUN Mattis | C11: 8
A12: 10 | B12: COUTURIAUX Quentin | C12: 4
A13: 11 | B13: DENISE Raphaël | C13: 10.5
A14: 12 | B14: GASTOU Paul | C14: 12.5
... A24: 22 | B24: ODOUARD Dorian | C24: 17.5
A25: 23 | B25: PELISSIER Lenny | C25: Disp
A26: 24 | B26: RABHI Léos | C26: 16
A27: 25 | B27: ROBINEAU Lucas | C27: 12
A28: 26 | B28: ROSELLO Micke | C28: 12
A29: 27 | B29: TEIXEIRA ALVES Nicolas | C29: 6.5
A30: 28 | B30: VAMOS Noah | C30: 13.5
A31: 29 | B31: VERDIER Robin | C31: 9.5
B32: Moyenne | C32: =AVERAGE(C3:C31) -> 11.125

Sheet Stat 2
A1: Comparaison de séries statistiques
B2: Compétences | C2: S'approprier | D2: Analyser Raisonner | E2: Réaliser | F2: Valider | G2: Communiquer | H2: Moyenne | I2: Note / 20 | J2: Note arrondie
A3: 1 | B3: AQUILLO Aymeric | C3: 5 | D3: 5 | E3: 5 | G3: 5 | H3: =AVERAGE(C3:G3) -> 5 | I3: =H3/6*20 -> 16.666667 | J3: =MROUND(I3,0.5) -> 16.5
A4: 2 | B4: ARIES Maxime | C4: 4 | D4: 3 | E4: 2 | G4: 2 | H4: =AVERAGE(C4:G4) -> 2.75 | I4: =H4/6*20 -> 9.1666667 | J4: =MROUND(I4,0.5) -> 9
A5: 3 | B5: ARNAUD--ROUGET Zian | C5: 5 | D5: 5 | E5: 5 | G5: 6 | H5: =AVERAGE(C5:G5) -> 5.25 | I5: =H5/6*20 -> 17.5 | J5: =MROUND(I5,0.5) -> 17.5
A6: 4 | B6: AUZET Sarah | C6: 4 | D6: 3 | E6: 5 | G6: 5 | H6: =AVERAGE(C6:G6) -> 4.25 | I6: =H6/6*20 -> 14.166667 | J6: =MROUND(I6,0.5) -> 14
A7: 5 | B7: BADOUARD Olivier | C7: 5 | D7: 5 | E7: 5 | G7: 4 | H7: =AVERAGE(C7:G7) -> 4.75 | I7: =H7/6*20 -> 15.833333 | J7: =MROUND(I7,0.5) -> 16
A8: 6 | B8: BAUDET Louis | C8: 5 | D8: 5 | E8: 5 | G8: 1 | H8: =AVERAGE(C8:G8) -> 4 | I8: =H8/6*20 -> 13.333333 | J8: =MROUND(I8,0.5) -> 13.5
A9: 7 | B9: BOUHAMED Kaïs | C9: 2 | D9: 5 | E9: 5 | G9: 4 | H9: =AVERAGE(C9:G9) -> 4 | I9: =H9/6*20 -> 13.333333 | J9: =MROUND(I9,0.5) -> 13.5
A10: 8 | B10: BROUSSE Antoine | C10: 2 | D10: 3 | E10: 4 | G10: 2 | H10: =AVERAGE(C10:G10) -> 2.75 | I10: =H10/6*20 -> 9.1666667 | J10: =MROUND(I10,0.5) -> 9
A11: 9 | B11: BRUN Mattis | C11: 3 | D11: 5 | E11: 5 | G11: 2 | H11: =AVERAGE(C11:G11) -> 3.75 | I11: =H11/6*20 -> 12.5 | J11: =MROUND(I11,0.5) -> 12.5
A12: 10 | B12: COUTURIAUX Quentin | C12: 5 | D12: 5 | E12: 3 | G12: 2 | H12: =AVERAGE(C12:G12) -> 3.75 | I12: =H12/6*20 -> 12.5 | J12: =MROUND(I12,0.5) -> 12.5
A13: 11 | B13: DENISE Raphaël | C13: 4 | D13: 5 | E13: 5 | G13: 5 | H13: =AVERAGE(C13:G13) -> 4.75 | I13: =H13/6*20 -> 15.833333 | J13: =MROUND(I13,0.5) -> 16
A14: 12 | B14: GASTOU Paul | C14: 1 | D14: 5 | E14: 3 | G14: 6 | H14: =AVERAGE(C14:G14) -> 3.75 | I14: =H14/6*20 -> 12.5 | J14: =MROUND(I14,0.5) -> 12.5
... A24: 22 | B24: ODOUARD Dorian | C24: 2 | D24: 3 | E24: 4 | G24: 4 | H24: =AVERAGE(C24:G24) -> 3.25 | I24: =H24/6*20 -> 10.833333 | J24: =MROUND(I24,0.5) -> 11
A25: 23 | B25: PELISSIER Lenny | C25: abs | H25: =AVERAGE(C25:G25) -> #DIV/0! | I25: =H25/6*20 -> #DIV/0! | J25: =MROUND(I25,0.5) -> #DIV/0!
A26: 24 | B26: RABHI Léos | C26: 3 | D26: 1 | E26: 4 | G26: 4 | H26: =AVERAGE(C26:G26) -> 3 | I26: =H26/6*20 -> 10 | J26: =MROUND(I26,0.5) -> 10
A27: 25 | B27: ROBINEAU Lucas | C27: 1 | D27: 1 | E27: 2 | G27: 4 | H27: =AVERAGE(C27:G27) -> 2 | I27: =H27/6*20 -> 6.6666667 | J27: =MROUND(I27,0.5) -> 6.5
A28: 26 | B28: ROSELLO Micke | C28: 2 | D28: 5 | E28: 5 | G28: 4 | H28: =AVERAGE(C28:G28) -> 4 | I28: =H28/6*20 -> 13.333333 | J28: =MROUND(I28,0.5) -> 13.5
A29: 27 | B29: TEIXEIRA ALVES Nicolas | C29: 3 | D29: 3 | E29: 5 | G29: 3 | H29: =AVERAGE(C29:G29) -> 3.5 | I29: =H29/6*20 -> 11.666667 | J29: =MROUND(I29,0.5) -> 11.5
A30: 28 | B30: VAMOS Noah | C30: 3 | D30: 1 | E30: 4 | G30: 3 | H30: =AVERAGE(C30:G30) -> 2.75 | I30: =H30/6*20 -> 9.1666667 | J30: =MROUND(I30,0.5) -> 9
A31: 29 | B31: VERDIER Robin | C31: 2 | D31: 5 | E31: 5 | G31: 5 | H31: =AVERAGE(C31:G31) -> 4.25 | I31: =H31/6*20 -> 14.166667 | J31: =MROUND(I31,0.5) -> 14
B32: Moyenne | C32: =AVERAGE(C3:C31) -> 3.3214286 | D32: =AVERAGE(D3:D31) -> 4 | E32: =AVERAGE(E3:E31) -> 4.1785714 | G32: =AVERAGE(G3:G31) -> 3.4285714 | H32: =AVERAGE(C32:G32) -> 3.7321429 | I32: =H32/6*20 -> 12.440476 | J32: =MROUND(I32,0.5) -> 12.5

Sheet Proba
A1: Probabilités
B2: Compétences | C2: S'approprier | D2: Analyser Raisonner | E2: Réaliser | F2: Valider | G2: Communiquer | H2: Moyenne | I2: Note / 20 | J2: Note arrondie
A3: 1 | B3: AQUILLO Aymeric | C3: 4 | D3: 2 | E3: 5 | F3: 3 | G3: 4 | H3: =AVERAGE(C3:G3) -> 3.6 | I3: =H3/6*20 -> 12 | J3: =MROUND(I3,0.5) -> 12
A4: 2 | B4: ARIES Maxime | H4: =AVERAGE(C4:G4) -> #DIV/0! | I4: =H4/6*20 -> #DIV/0! | J4: =MROUND(I4,0.5) -> #DIV/0!
A5: 3 | B5: ARNAUD--ROUGET Zian | H5: =AVERAGE(C5:G5) -> #DIV/0! | I5: =H5/6*20 -> #DIV/0! | J5: =MROUND(I5,0.5) -> #DIV/0!
A6: 4 | B6: AUZET Sarah | H6: =AVERAGE(C6:G6) -> #DIV/0! | I6: =H6/6*20 -> #DIV/0! | J6: =MROUND(I6,0.5) -> #DIV/0!
A7: 5 | B7: BADOUARD Olivier | H7: =AVERAGE(C7:G7) -> #DIV/0! | I7: =H7/6*20 -> #DIV/0! | J7: =MROUND(I7,0.5) -> #DIV/0!
A8: 6 | B8: BAUDET Louis | H8: =AVERAGE(C8:G8) -> #DIV/0! | I8: =H8/6*20 -> #DIV/0! | J8: =MROUND(I8,0.5) -> #DIV/0!
A9: 7 | B9: BOUHAMED Kaïs | H9: =AVERAGE(C9:G9) -> #DIV/0! | I9: =H9/6*20 -> #DIV/0! | J9: =MROUND(I9,0.5) -> #DIV/0!
A10: 8 | B10: BROUSSE Antoine | H10: =AVERAGE(C10:G10) -> #DIV/0! | I10: =H10/6*20 -> #DIV/0! | J10: =MROUND(I10,0.5) -> #DIV/0!
A11: 9 | B11: BRUN Mattis | H11: =AVERAGE(C11:G11) -> #DIV/0! | I11: =H11/6*20 -> #DIV/0! | J11: =MROUND(I11,0.5) -> #DIV/0!
A12: 10 | B12: COUTURIAUX Quentin | H12: =AVERAGE(C12:G12) -> #DIV/0! | I12: =H12/6*20 -> #DIV/0! | J12: =MROUND(I12,0.5) -> #DIV/0!
A13: 11 | B13: DENISE Raphaël | H13: =AVERAGE(C13:G13) -> #DIV/0! | I13: =H13/6*20 -> #DIV/0! | J13: =MROUND(I13,0.5) -> #DIV/0!
A14: 12 | B14: GASTOU Paul | H14: =AVERAGE(C14:G14) -> #DIV/0! | I14: =H14/6*20 -> #DIV/0! | J14: =MROUND(I14,0.5) -> #DIV/0!
A15: 13 | B15: GUALEZZI Mattéo | H15: =AVERAGE(C15:G15) -> #DIV/0! | I15: =H15/6*20 -> #DIV/0! | J15: =MROUND(I15,0.5) -> #DIV/0!
... A31: 29 | B31: VERDIER Robin | H31: =AVERAGE(C31:G31) -> #DIV/0! | I31: =H31/6*20 -> #DIV/0! | J31: =MROUND(I31,0.5) -> #DIV/0!
B32: Moyenne | C32: =AVERAGE(C3:C31) -> 4 | D32: =AVERAGE(D3:D31) -> 2 | E32: =AVERAGE(E3:E31) -> 5 | F32: =AVERAGE(F3:F31) -> 3 | G32: =AVERAGE(G3:G31) -> 4 | H32: =AVERAGE(C32:G32) -> 3.6 | I32: =H32/6*20 -> 12 | J32: =MROUND(I32,0.5) -> 12

Sheet Notes Trim 2
A1: 2 SN | D1: Maths | G1: Trimestre 2
B2: Nom | J2: Moyenne
A3: 1 | B3: AQUILLO Aymeric | J3: =AVERAGE(C3:I3) -> #DIV/0!
A4: 2 | B4: ARIES Maxime | J4: =AVERAGE(C4:I4) -> #DIV/0!
A5: 3 | B5: ARNAUD--ROUGET Zian | J5: =AVERAGE(C5:I5) -> #DIV/0!
A6: 4 | B6: AUZET Sarah | J6: =AVERAGE(C6:I6) -> #DIV/0!
A7: 5 | B7: BADOUARD Olivier | J7: =AVERAGE(C7:I7) -> #DIV/0!
A8: 6 | B8: BAUDET Louis | J8: =AVERAGE(C8:I8) -> #DIV/0!
A9: 7 | B9: BOUHAMED Kaïs | J9: =AVERAGE(C9:I9) -> #DIV/0!
A10: 8 | B10: BROUSSE Antoine | J10: =AVERAGE(C10:I10) -> #DIV/0!
A11: 9 | B11: BRUN Mattis | J11: =AVERAGE(C11:I11) -> #DIV/0!
A12: 10 | B12: COUTURIAUX Quentin | J12: =AVERAGE(C12:I12) -> #DIV/0!
A13: 11 | B13: DENISE Raphaël | J13: =AVERAGE(C13:I13) -> #DIV/0!
A14: 12 | B14: GASTOU Paul | J14: =AVERAGE(C14:I14) -> #DIV/0!
... A31: 29 | B31: VERDIER Robin | J31: =AVERAGE(C31:I31) -> #DIV/0!
B32: Moyenne | C32: =AVERAGE(C3:C31) -> #DIV/0! | D32: =AVERAGE(D3:D31) -> #DIV/0! | E32: =AVERAGE(E3:E31) -> #DIV/0! | F32: =AVERAGE(F3:F31) -> #DIV/0! | G32: =AVERAGE(G3:G31) -> #DIV/0! | H32: =AVERAGE(H3:H31) -> #DIV/0! | I32: =AVERAGE(I3:I31) -> #DIV/0! | J32: =AVERAGE(J3:J31) -> #DIV/0!
B33: Moyenne période | D33: =AVERAGE($C$32:D32) -> #DIV/0! | E33: =AVERAGE($C$32:E32) -> #DIV/0! | F33: =AVERAGE($C$32:F32) -> #DIV/0! | G33: =AVERAGE($C$32:G32) -> #DIV/0! | H33: =AVERAGE($C$32:H32) -> #DIV/0! | I33: =AVERAGE($C$32:I32) -> #DIV/0! | J33: =AVERAGE($C$32:J32) -> #DIV/0!

Sheet Notes Trim 3
A1: 2 SN | D1: Maths | G1: Trimestre 3
B2: Nom | J2: Moyenne
A3: 1 | B3: AQUILLO Aymeric | J3: =AVERAGE(C3:I3) -> #DIV/0!
A4: 2 | B4: ARIES Maxime | J4: =AVERAGE(C4:I4) -> #DIV/0!
A5: 3 | B5: ARNAUD--ROUGET Zian | J5: =AVERAGE(C5:I5) -> #DIV/0!
A6: 4 | B6: AUZET Sarah | J6: =AVERAGE(C6:I6) -> #DIV/0!
A7: 5 | B7: BADOUARD Olivier | J7: =AVERAGE(C7:I7) -> #DIV/0!
A8: 6 | B8: BAUDET Louis | J8: =AVERAGE(C8:I8) -> #DIV/0!
A9: 7 | B9: BOUHAMED Kaïs | J9: =AVERAGE(C9:I9) -> #DIV/0!
A10: 8 | B10: BROUSSE Antoine | J10: =AVERAGE(C10:I10) -> #DIV/0!
A11: 9 | B11: BRUN Mattis | J11: =AVERAGE(C11:I11) -> #DIV/0!
A12: 10 | B12: COUTURIAUX Quentin | J12: =AVERAGE(C12:I12) -> #DIV/0!
A13: 11 | B13: DENISE Raphaël | J13: =AVERAGE(C13:I13) -> #DIV/0!
A14: 12 | B14: GASTOU Paul | J14: =AVERAGE(C14:I14) -> #DIV/0!
... A31: 29 | B31: VERDIER Robin | J31: =AVERAGE(C31:I31) -> #DIV/0!
B32: Moyenne | C32: =AVERAGE(C3:C31) -> #DIV/0! | D32: =AVERAGE(D3:D31) -> #DIV/0! | E32: =AVERAGE(E3:E31) -> #DIV/0! | F32: =AVERAGE(F3:F31) -> #DIV/0! | G32: =AVERAGE(G3:G31) -> #DIV/0! | H32: =AVERAGE(H3:H31) -> #DIV/0! | I32: =AVERAGE(I3:I31) -> #DIV/0! | J32: =AVERAGE(J3:J31) -> #DIV/0!
B33: Moyenne période | D33: =AVERAGE($C$32:D32) -> #DIV/0! | E33: =AVERAGE($C$32:E32) -> #DIV/0! | F33: =AVERAGE($C$32:F32) -> #DIV/0! | G33: =AVERAGE($C$32:G32) -> #DIV/0! | H33: =AVERAGE($C$32:H32) -> #DIV/0! | I33: =AVERAGE($C$32:I32) -> #DIV/0! | J33: =AVERAGE($C$32:J32) -> #DIV/0!

Sheet Eval
B2: Compétences | C2: S'approprier | D2: Analyser Raisonner | E2: Réaliser | F2: Valider | G2: Communiquer | H2: Moyenne | I2: Note / 20 | J2: Note arrondie
A3: 1 | B3: AQUILLO Aymeric | H3: =AVERAGE(C3:G3) -> #DIV/0! | I3: =H3/6*20 -> #DIV/0! | J3: =MROUND(I3,0.5) -> #DIV/0!
A4: 2 | B4: ARIES Maxime | H4: =AVERAGE(C4:G4) -> #DIV/0! | I4: =H4/6*20 -> #DIV/0! | J4: =MROUND(I4,0.5) -> #DIV/0!
A5: 3 | B5: ARNAUD--ROUGET Zian | H5: =AVERAGE(C5:G5) -> #DIV/0! | I5: =H5/6*20 -> #DIV/0! | J5: =MROUND(I5,0.5) -> #DIV/0!
A6: 4 | B6: AUZET Sarah | H6: =AVERAGE(C6:G6) -> #DIV/0! | I6: =H6/6*20 -> #DIV/0! | J6: =MROUND(I6,0.5) -> #DIV/0!
A7: 5 | B7: BADOUARD Olivier | H7: =AVERAGE(C7:G7) -> #DIV/0! | I7: =H7/6*20 -> #DIV/0! | J7: =MROUND(I7,0.5) -> #DIV/0!
A8: 6 | B8: BAUDET Louis | H8: =AVERAGE(C8:G8) -> #DIV/0! | I8: =H8/6*20 -> #DIV/0! | J8: =MROUND(I8,0.5) -> #DIV/0!
A9: 7 | B9: BOUHAMED Kaïs | H9: =AVERAGE(C9:G9) -> #DIV/0! | I9: =H9/6*20 -> #DIV/0! | J9: =MROUND(I9,0.5) -> #DIV/0!
A10: 8 | B10: BROUSSE Antoine | H10: =AVERAGE(C10:G10) -> #DIV/0! | I10: =H10/6*20 -> #DIV/0! | J10: =MROUND(I10,0.5) -> #DIV/0!
A11: 9 | B11: BRUN Mattis | H11: =AVERAGE(C11:G11) -> #DIV/0! | I11: =H11/6*20 -> #DIV/0! | J11: =MROUND(I11,0.5) -> #DIV/0!
A12: 10 | B12: COUTURIAUX Quentin | H12: =AVERAGE(C12:G12) -> #DIV/0! | I12: =H12/6*20 -> #DIV/0! | J12: =MROUND(I12,0.5) -> #DIV/0!
A13: 11 | B13: DENISE Raphaël | H13: =AVERAGE(C13:G13) -> #DIV/0! | I13: =H13/6*20 -> #DIV/0! | J13: =MROUND(I13,0.5) -> #DIV/0!
A14: 12 | B14: GASTOU Paul | H14: =AVERAGE(C14:G14) -> #DIV/0! | I14: =H14/6*20 -> #DIV/0! | J14: =MROUND(I14,0.5) -> #DIV/0!
... A31: 29 | B31: VERDIER Robin | H31: =AVERAGE(C31:G31) -> #DIV/0! | I31: =H31/6*20 -> #DIV/0! | J31: =MROUND(I31,0.5) -> #DIV/0!
B32: Moyenne | C32: =AVERAGE(C3:C31) -> #DIV/0! | D32: =AVERAGE(D3:D31) -> #DIV/0! | E32: =AVERAGE(E3:E31) -> #DIV/0! | F32: =AVERAGE(F3:F31) -> #DIV/0! | G32: =AVERAGE(G3:G31) -> #DIV/0! | H32: =AVERAGE(C32:G32) -> #DIV/0! | I32: =H32/6*20 -> #DIV/0! | J32: =MROUND(I32,0.5) -> #DIV/0!

Sheet Bilan élève
A2: Evaluation | B2: S'approprier | C2: Analyser Raisonner | D2: Réaliser | E2: Valider | F2: Communiquer | G2: Moyenne | H2: Note / 20 | I2: Note arrondie
G3: =AVERAGE(B3:F3) -> #DIV/0! | H3: =G3/6*20 -> #DIV/0! | I3: =MROUND(H3,0.5) -> #DIV/0!
G4: =AVERAGE(B4:F4) -> #DIV/0! | H4: =G4/6*20 -> #DIV/0! | I4: =MROUND(H4,0.5) -> #DIV/0!
G5: =AVERAGE(B5:F5) -> #DIV/0! | H5: =G5/6*20 -> #DIV/0! | I5: =MROUND(H5,0.5) -> #DIV/0!
G6: =AVERAGE(B6:F6) -> #DIV/0! | H6: =G6/6*20 -> #DIV/0! | I6: =MROUND(H6,0.5) -> #DIV/0!
G7: =AVERAGE(B7:F7) -> #DIV/0! | H7: =G7/6*20 -> #DIV/0! | I7: =MROUND(H7,0.5) -> #DIV/0!
G8: =AVERAGE(B8:F8) -> #DIV/0! | H8: =G8/6*20 -> #DIV/0! | I8: =MROUND(H8,0.5) -> #DIV/0!
G9: =AVERAGE(B9:F9) -> #DIV/0! | H9: =G9/6*20 -> #DIV/0! | I9: =MROUND(H9,0.5) -> #DIV/0!
G10: =AVERAGE(B10:F10) -> #DIV/0! | H10: =G10/6*20 -> #DIV/0! | I10: =MROUND(H10,0.5) -> #DIV/0!
G11: =AVERAGE(B11:F11) -> #DIV/0! | H11: =G11/6*20 -> #DIV/0! | I11: =MROUND(H11,0.5) -> #DIV/0!
G12: =AVERAGE(B12:F12) -> #DIV/0! | H12: =G12/6*20 -> #DIV/0! | I12: =MROUND(H12,0.5) -> #DIV/0!
G13: =AVERAGE(B13:F13) -> #DIV/0! | H13: =G13/6*20 -> #DIV/0! | I13: =MROUND(H13,0.5) -> #DIV/0!
G14: =AVERAGE(B14:F14) -> #DIV/0! | H14: =G14/6*20 -> #DIV/0! | I14: =MROUND(H14,0.5) -> #DIV/0!
... G31: =AVERAGE(B31:F31) -> #DIV/0! | H31: =G31/6*20 -> #DIV/0! | I31: =MROUND(H31,0.5) -> #DIV/0!
A32: Moyenne Trim. 1 | G32: =AVERAGE(B32:F32) -> #DIV/0! | H32: =G32/6*20 -> #DIV/0! | I32: =MROUND(H32,0.5) -> #DIV/0!
A33: Moyenne Trim. 2 | G33: =AVERAGE(B33:F33) -> #DIV/0! | H33: =G33/6*20 -> #DIV/0! | I33: =MROUND(H33,0.5) -> #DIV/0!
A34: Moyenne Trim. 3 | G34: =AVERAGE(B34:F34) -> #DIV/0! | H34: =G34/6*20 -> #DIV/0! | I34: =MROUND(H34,0.5) -> #DIV/0!
A35: Moyenne Annuelle | B35: =AVERAGE(B3:B31) -> #DIV/0! | C35: =AVERAGE(C3:C31) -> #DIV/0! | D35: =AVERAGE(D3:D31) -> #DIV/0! | E35: =AVERAGE(E3:E31) -> #DIV/0! | F35: =AVERAGE(F3:F31) -> #DIV/0! | G35: =AVERAGE(B35:F35) -> #DIV/0! | H35: =G35/6*20 -> #DIV/0! | I35: =MROUND(H35,0.5) -> #DIV/0!

Sheet Param
A1: AQUILLO Aymeric
A2: ARIES Maxime
A3: ARNAUD--ROUGET Zian
A4: AUZET Sarah
A5: BADOUARD Olivier
A6: BAUDET Louis
A7: BOUHAMED Kaïs
A8: BROUSSE Antoine
A9: BRUN Mattis
A10: COUTURIAUX Quentin
A11: DENISE Raphaël
A12: GASTOU Paul
... A29: VERDIER Robin

Sheet AQUILLO Aymeric
A1: AQUILLO Aymeric
A2: Evaluation | B2: S'approprier | C2: Analyser Raisonner | D2: Réaliser | E2: Valider | F2: Communiquer | G2: Moyenne | H2: Note / 20 | I2: Note arrondie
A3: Stat 2 | B3: 5 | C3: 5 | D3: 5 | F3: 5 | G3: =AVERAGE(B3:F3) -> 5 | H3: =G3/6*20 -> 16.666667 | I3: =MROUND(H3,0.5) -> 16.5
A4: Proba | B4: 4 | C4: 2 | D4: 5 | E4: 3 | F4: 4 | G4: =AVERAGE(B4:F4) -> 3.6 | H4: =G4/6*20 -> 12 | I4: =MROUND(H4,0.5) -> 12
G5: =AVERAGE(B5:F5) -> #DIV/0! | H5: =G5/6*20 -> #DIV/0! | I5: =MROUND(H5,0.5) -> #DIV/0!
G6: =AVERAGE(B6:F6) -> #DIV/0! | H6: =G6/6*20 -> #DIV/0! | I6: =MROUND(H6,0.5) -> #DIV/0!
G7: =AVERAGE(B7:F7) -> #DIV/0! | H7: =G7/6*20 -> #DIV/0! | I7: =MROUND(H7,0.5) -> #DIV/0!
G8: =AVERAGE(B8:F8) -> #DIV/0! | H8: =G8/6*20 -> #DIV/0! | I8: =MROUND(H8,0.5) -> #DIV/0!
G9: =AVERAGE(B9:F9) -> #DIV/0! | H9: =G9/6*20 -> #DIV/0! | I9: =MROUND(H9,0.5) -> #DIV/0!
G10: =AVERAGE(B10:F10) -> #DIV/0! | H10: =G10/6*20 -> #DIV/0! | I10: =MROUND(H10,0.5) -> #DIV/0!
G11: =AVERAGE(B11:F11) -> #DIV/0! | H11: =G11/6*20 -> #DIV/0! | I11: =MROUND(H11,0.5) -> #DIV/0!
G12: =AVERAGE(B12:F12) -> #DIV/0! | H12: =G12/6*20 -> #DIV/0! | I12: =MROUND(H12,0.5) -> #DIV/0!
G13: =AVERAGE(B13:F13) -> #DIV/0! | H13: =G13/6*20 -> #DIV/0! | I13: =MROUND(H13,0.5) -> #DIV/0!
G14: =AVERAGE(B14:F14) -> #DIV/0! | H14: =G14/6*20 -> #DIV/0! | I14: =MROUND(H14,0.5) -> #DIV/0!
G15: =AVERAGE(B15:F15) -> #DIV/0! | H15: =G15/6*20 -> #DIV/0! | I15: =MROUND(H15,0.5) -> #DIV/0!
G16: =AVERAGE(B16:F16) -> #DIV/0! | H16: =G16/6*20 -> #DIV/0! | I16: =MROUND(H16,0.5) -> #DIV/0!
... G31: =AVERAGE(B31:F31) -> #DIV/0! | H31: =G31/6*20 -> #DIV/0! | I31: =MROUND(H31,0.5) -> #DIV/0!
A32: Moyenne Trim. 1 | B32: =AVERAGE(B3:B4) -> 4.5 | C32: =AVERAGE(C3:C4) -> 3.5 | D32: =AVERAGE(D3:D4) -> 5 | E32: =AVERAGE(E3:E4) -> 3 | F32: =AVERAGE(F3:F4) -> 4.5 | G32: =AVERAGE(B32:F32) -> 4.1 | H32: =G32/6*20 -> 13.666667 | I32: =MROUND(H32,0.5) -> 13.5
A33: Moyenne Trim. 2 | G33: =AVERAGE(B33:F33) -> #DIV/0! | H33: =G33/6*20 -> #DIV/0! | I33: =MROUND(H33,0.5) -> #DIV/0!
A34: Moyenne Trim. 3 | G34: =AVERAGE(B34:F34) -> #DIV/0! | H34: =G34/6*20 -> #DIV/0! | I34: =MROUND(H34,0.5) -> #DIV/0!
A35: Moyenne Annuelle | B35: =AVERAGE(B3:B31) -> 4.5 | C35: =AVERAGE(C3:C31) -> 3.5 | D35: =AVERAGE(D3:D31) -> 5 | E35: =AVERAGE(E3:E31) -> 3 | F35: =AVERAGE(F3:F31) -> 4.5 | G35: =AVERAGE(B35:F35) -> 4.1 | H35: =G35/6*20 -> 13.666667 | I35: =MROUND(H35,0.5) -> 13.5
