Workbook

Sheet 8-Carb.Bateaux
R1: =TODAY() -> 43184
A3: Destinataire | B3: N° Facturier | C3: Date | G3: Livraison | I3: Paiement | P3: Vérif | Q3: Stock | R3: Relevé manuel | S3: Ecart
D4: Jour | E4: Mois | F4: Semaine | G4: Litres | H4: Montant | I4: Montant chèques | J4: N° chèques | L4: Montant espèces | M4: Montant CB | N4: Montant chèques vacances | O4: Total paiement
G6: =SUM(G$7:G$207) -> 45 | H6: =SUM(H$7:H$207) -> 14.5 | I6: =SUM(I$7:I$207) -> 0 | L6: =SUM(L$7:L$207) -> 0 | M6: =SUM(M$7:M$207) -> 0 | N6: =SUM(N$7:N$207) -> 0 | O6: =SUM(O$7:O$207) -> 0 | Q6: 10000
A7: Bateaux | B7: =IF(OR($A7="Jet-Ski",$A7="Barques"),"",Données!$R1) -> C1-F01 | C7: 43174 | E7: =MONTH(C7) -> 3 | F7: =_xlfn.ISOWEEKNUM(C7) -> 11 | G7: 10 | H7: =IF(OR($A7="Barques",$A7="Jet-Ski"),"",$G7*Données!$D$12) -> 14.5 | O7: =I7+L7+M7+N7 -> 0 | Q7: =IF($C7="","",$Q6-$G7) -> 9990 | S7: =IF($R7="","",IF($R7-$Q7=$Q7,"",$R7-$Q7))
A8: Barques | B8: =IF(OR($A8="Jet-Ski",$A8="Barques"),"",Données!$R2) | C8: 43179 | E8: =MONTH(C8) -> 3 | F8: =_xlfn.ISOWEEKNUM(C8) -> 12 | G8: 15 | H8: =IF(OR($A8="Barques",$A8="Jet-Ski"),"",$G8*Données!$D$12) | O8: =I8+L8+M8+N8 -> 0 | Q8: =IF($C8="","",$Q7-$G8) -> 9975 | S8: =IF($R8="","",IF($R8-$Q8=$Q8,"",$R8-$Q8))
A9: Jet-Ski | B9: =IF(OR($A9="Jet-Ski",$A9="Barques"),"",Données!$R3) | C9: 43184 | E9: =MONTH(C9) -> 3 | F9: =_xlfn.ISOWEEKNUM(C9) -> 12 | G9: 20 | H9: =IF(OR($A9="Barques",$A9="Jet-Ski"),"",$G9*Données!$D$12) | O9: =I9+L9+M9+N9 -> 0 | Q9: =IF($C9="","",$Q8-$G9) -> 9955 | S9: =IF($R9="","",IF($R9-$Q9=$Q9,"",$R9-$Q9))
B10: =IF(OR($A10="Jet-Ski",$A10="Barques"),"",Données!$R4) -> C1-F04 | D10: =DAY(C10) -> 0 | E10: =MONTH(C10) -> 1 | F10: =_xlfn.ISOWEEKNUM(C10) -> 52 | H10: =IF(OR($A10="Barques",$A10="Jet-Ski"),"",$G10*Données!$D$12) -> 0 | O10: =I10+L10+M10+N10 -> 0 | Q10: =IF($C10="","",$Q9-$G10) | S10: =IF($R10="","",IF($R10-$Q10=$Q10,"",$R10-$Q10))
B11: =IF(OR($A11="Jet-Ski",$A11="Barques"),"",Données!$R5) -> C1-F05 | D11: =DAY(C11) -> 0 | E11: =MONTH(C11) -> 1 | F11: =_xlfn.ISOWEEKNUM(C11) -> 52 | H11: =IF(OR($A11="Barques",$A11="Jet-Ski"),"",$G11*Données!$D$12) -> 0 | O11: =I11+L11+M11+N11 -> 0 | Q11: =IF($C11="","",$Q10-$G11) | S11: =IF($R11="","",IF($R11-$Q11=$Q11,"",$R11-$Q11))
B12: =IF(OR($A12="Jet-Ski",$A12="Barques"),"",Données!$R6) -> C1-F06 | D12: =DAY(C12) -> 0 | E12: =MONTH(C12) -> 1 | F12: =_xlfn.ISOWEEKNUM(C12) -> 52 | H12: =IF(OR($A12="Barques",$A12="Jet-Ski"),"",$G12*Données!$D$12) -> 0 | O12: =I12+L12+M12+N12 -> 0 | Q12: =IF($C12="","",$Q11-$G12) | S12: =IF($R12="","",IF($R12-$Q12=$Q12,"",$R12-$Q12))
B13: =IF(OR($A13="Jet-Ski",$A13="Barques"),"",Données!$R7) -> C1-F07 | D13: =DAY(C13) -> 0 | E13: =MONTH(C13) -> 1 | F13: =_xlfn.ISOWEEKNUM(C13) -> 52 | H13: =IF(OR($A13="Barques",$A13="Jet-Ski"),"",$G13*Données!$D$12) -> 0 | O13: =I13+L13+M13+N13 -> 0 | Q13: =IF($C13="","",$Q12-$G13) | S13: =IF($R13="","",IF($R13-$Q13=$Q13,"",$R13-$Q13))
B14: =IF(OR($A14="Jet-Ski",$A14="Barques"),"",Données!$R8) -> C1-F08 | D14: =DAY(C14) -> 0 | E14: =MONTH(C14) -> 1 | F14: =_xlfn.ISOWEEKNUM(C14) -> 52 | H14: =IF(OR($A14="Barques",$A14="Jet-Ski"),"",$G14*Données!$D$12) -> 0 | O14: =I14+L14+M14+N14 -> 0 | Q14: =IF($C14="","",$Q13-$G14) | S14: =IF($R14="","",IF($R14-$Q14=$Q14,"",$R14-$Q14))
B15: =IF(OR($A15="Jet-Ski",$A15="Barques"),"",Données!$R9) -> C1-F09 | D15: =DAY(C15) -> 0 | E15: =MONTH(C15) -> 1 | F15: =_xlfn.ISOWEEKNUM(C15) -> 52 | H15: =IF(OR($A15="Barques",$A15="Jet-Ski"),"",$G15*Données!$D$12) -> 0 | O15: =I15+L15+M15+N15 -> 0 | Q15: =IF($C15="","",$Q14-$G15) | S15: =IF($R15="","",IF($R15-$Q15=$Q15,"",$R15-$Q15))
B16: =IF(OR($A16="Jet-Ski",$A16="Barques"),"",Données!$R10) -> C1-F10 | D16: =DAY(C16) -> 0 | E16: =MONTH(C16) -> 1 | F16: =_xlfn.ISOWEEKNUM(C16) -> 52 | H16: =IF(OR($A16="Barques",$A16="Jet-Ski"),"",$G16*Données!$D$12) -> 0 | O16: =I16+L16+M16+N16 -> 0 | Q16: =IF($C16="","",$Q15-$G16) | S16: =IF($R16="","",IF($R16-$Q16=$Q16,"",$R16-$Q16))
B17: =IF(OR($A17="Jet-Ski",$A17="Barques"),"",Données!$R11) -> C1-F11 | D17: =DAY(C17) -> 0 | E17: =MONTH(C17) -> 1 | F17: =_xlfn.ISOWEEKNUM(C17) -> 52 | H17: =IF(OR($A17="Barques",$A17="Jet-Ski"),"",$G17*Données!$D$12) -> 0 | O17: =I17+L17+M17+N17 -> 0 | Q17: =IF($C17="","",$Q16-$G17) | S17: =IF($R17="","",IF($R17-$Q17=$Q17,"",$R17-$Q17))
B18: =IF(OR($A18="Jet-Ski",$A18="Barques"),"",Données!$R12) -> C1-F12 | D18: =DAY(C18) -> 0 | E18: =MONTH(C18) -> 1 | F18: =_xlfn.ISOWEEKNUM(C18) -> 52 | H18: =IF(OR($A18="Barques",$A18="Jet-Ski"),"",$G18*Données!$D$12) -> 0 | O18: =I18+L18+M18+N18 -> 0 | Q18: =IF($C18="","",$Q17-$G18) | S18: =IF($R18="","",IF($R18-$Q18=$Q18,"",$R18-$Q18))
B19: =IF(OR($A19="Jet-Ski",$A19="Barques"),"",Données!$R13) -> C1-F13 | D19: =DAY(C19) -> 0 | E19: =MONTH(C19) -> 1 | F19: =_xlfn.ISOWEEKNUM(C19) -> 52 | H19: =IF(OR($A19="Barques",$A19="Jet-Ski"),"",$G19*Données!$D$12) -> 0 | O19: =I19+L19+M19+N19 -> 0 | Q19: =IF($C19="","",$Q18-$G19) | S19: =IF($R19="","",IF($R19-$Q19=$Q19,"",$R19-$Q19))
B20: =IF(OR($A20="Jet-Ski",$A20="Barques"),"",Données!$R14) -> C1-F14 | D20: =DAY(C20) -> 0 | E20: =MONTH(C20) -> 1 | F20: =_xlfn.ISOWEEKNUM(C20) -> 52 | H20: =IF(OR($A20="Barques",$A20="Jet-Ski"),"",$G20*Données!$D$12) -> 0 | O20: =I20+L20+M20+N20 -> 0 | Q20: =IF($C20="","",$Q19-$G20) | S20: =IF($R20="","",IF($R20-$Q20=$Q20,"",$R20-$Q20))
B21: =IF(OR($A21="Jet-Ski",$A21="Barques"),"",Données!$R15) -> C1-F15 | D21: =DAY(C21) -> 0 | E21: =MONTH(C21) -> 1 | F21: =_xlfn.ISOWEEKNUM(C21) -> 52 | H21: =IF(OR($A21="Barques",$A21="Jet-Ski"),"",$G21*Données!$D$12) -> 0 | O21: =I21+L21+M21+N21 -> 0 | Q21: =IF($C21="","",$Q20-$G21) | S21: =IF($R21="","",IF($R21-$Q21=$Q21,"",$R21-$Q21))
... B206: =IF(OR($A206="Jet-Ski",$A206="Barques"),"",Données!$R200) -> C4-F50 | D206: =DAY(C206) -> 0 | E206: =MONTH(C206) -> 1 | F206: =_xlfn.ISOWEEKNUM(C206) -> 52 | H206: =IF(OR($A206="Barques",$A206="Jet-Ski"),"",$G206*Données!$D$12) -> 0 | O206: =I206+L206+M206+N206 -> 0 | Q206: =IF($C206="","",$Q205-$G206) | S206: =IF($R206="","",IF($R206-$Q206=$Q206,"",$R206-$Q206))

Sheet Données
R1: C1-F01
O2: Bateaux | R2: C1-F02
O3: Barques | R3: C1-F03
O4: Jet-Ski | R4: C1-F04
R5: C1-F05
R6: C1-F06
R7: C1-F07
R8: C1-F08
R9: C1-F09
R10: C1-F10
R11: C1-F11
A12: Prix carburant bateaux | D12: 1.45 | R12: C1-F12
R13: C1-F13
R14: C1-F14
R15: C1-F15
R16: C1-F16
R17: C1-F17
R18: C1-F18
R19: C1-F19
R20: C1-F20
R21: C1-F21
R22: C1-F22
R23: C1-F23
R24: C1-F24
... R200: C4-F50
