Workbook
Name Master: #REF!

Sheet 2-Locations
A1: 2 - LOCATION des PONTONS | R1: =TODAY() -> 43821
A3: N° Ponton occupé | B3: Adhérent | F3: Ponton 2019 | H3: Ponton 2020 | R3: =SUM(R6:R21) -> 300 | S3: =SUM(S6:S21) -> 300
F4: Saison | G4: Occasionnel | H4: Saison | K4: Attention ! : Saisie en "Saison" OU en "Occasionnel" | L4: N° ponton | M4: Occasionnel | R4: =S3-R3 -> 0 | AO4: Nombre de jours
C5: Nom | D5: Prénom | E5: Adhérent | F5: N° | G5: N° | H5: N° | J5: Date début | M5: N° | N5: Date début | O5: Mois | P5: Date fin | Q5: Nb jours | R5: Tarif | S5: A payer | U5: Saison | V5: Occasionnel | AN5: Date de fin | AO5: 1 | AP5: 2 | AQ5: 3 | AR5: 4 | AS5: 5 | AT5: 6 | AU5: 7 | AV5: 8 | AW5: 9 | AX5: 10 | AY5: 11 | AZ5: 12 | BA5: S | BB5: HS | BC5: Tarif
A6: =IF(AND(M6<>"",P6>=TODAY(),N6<=TODAY()),M6,H6) -> 0 | B6: Adh-001 | D6: Serge | E6: =B6 -> Adh-001 | F6: Pr1A | G6: 0 | I6: =$H6 -> 0 | J6: =IF(ISERROR(IF(B6="","",IF(F6="","",IF($H6=0,"","Date à saisir")))),,IF(B6="","",IF(F6="","",IF($H6=0,"","Date à saisir")))) | L6: =IF(M6<>"",M6,I6) -> 2 | M6: 2 | N6: 43915 | O6: =IF(OR(N6="",N6=0),"","Date à saisir") -> Date à saisir | P6: 43936 | Q6: =IF(ISERROR(IF($P6="","",$P6-$N6)),,IF($P6="","",$P6-$N6)) -> 21 | R6: =IF(ISERROR(IF($B6="","",IF(OR($J6,$P6)="Date à saisir","",IF(OR($H6="PP7",$H6="PP8"),Données!$F$4,IF($AN6=Données!$P$2,Données!$F$3,IF($Q6="","",IF(AND($Q6>=1,$BC6="S"),VLOOKUP($Q6,Données!$H:$J,2,FALSE),IF($BC6="HS",VLOOKUP($Q6,Données!$H:$J,3,FALSE))))))))),,IF($B6="","",IF(OR($J6,$P6)="Date à saisir","",IF(OR($H6="PP7",$H6="PP8"),Données!$F$4,IF($AN6=Données!$P$2,Données!$F$3,IF($Q6="","",IF(AND($Q6>=1,$BC6="S"),VLOOKUP($Q6,Données!$H:$J,2,FALSE),IF($BC6="HS",VLOOKUP($Q6,Données!$H:$J,3,FALSE))))))))) -> 140 | S6: =R6 -> 140 | U6: =IF(B6="","",IF(OR(R6=330,R6=660),"S","")) | V6: =IF(B6="","",IF(AND(M6<>"",N6<>"Date à saisir",P6<>"Date à saisir"),"O","")) -> O | AJ6: =IF(SUMPRODUCT(($M$5:$M8=M6)*(N6<$P$5:$P8)*(N6>$N$5:$N8))>0,"pb début","")&" . "&IF(SUMPRODUCT(($M$5:$M8=M6)*(P6<$P$5:$P8)*(P6>$N$5:$N8))>0,"pb fin","") -> . | AN6: =IF(B6="","",IF($M6<>"",$P6,Données!$P$2)) -> 43936 | AO6: =IF($N6="","",IF(MIN(EOMONTH(DATE(Données!$P$3,$AO$5,1),0),$P6)>=MAX(DATE(Données!$P$3,$AO$5,1),$N6),MIN(EOMONTH(DATE(Données!$P$3,$AO$5,1),0),$P6)-MAX(DATE(Données!$P$3,$AO$5,1),$N6)+1,"")) | AP6: =IF($N6="","",IF(MIN(EOMONTH(DATE(Données!$P$3,$AO$5,1),0),$P6)>=MAX(DATE(Données!$P$3,$AO$5,1),$N6),MIN(EOMONTH(DATE(Données!$P$3,$AO$5,1),0),$P6)-MAX(DATE(Données!$P$3,$AO$5,1),$N6)+1,"")) | AQ6: =IF($N6="","",IF(MIN(EOMONTH(DATE(Données!$P$3,$AO$5,1),0),$P6)>=MAX(DATE(Données!$P$3,$AO$5,1),$N6),MIN(EOMONTH(DATE(Données!$P$3,$AO$5,1),0),$P6)-MAX(DATE(Données!$P$3,$AO$5,1),$N6)+1,"")) | AR6: =IF($N6="","",IF(MIN(EOMONTH(DATE(Données!$P$3,$AO$5,1),0),$P6)>=MAX(DATE(Données!$P$3,$AO$5,1),$N6),MIN(EOMONTH(DATE(Données!$P$3,$AO$5,1),0),$P6)-MAX(DATE(Données!$P$3,$AO$5,1),$N6)+1,"")) | AS6: =IF($N6="","",IF(MIN(EOMONTH(DATE(Données!$P$3,$AO$5,1),0),$P6)>=MAX(DATE(Données!$P$3,$AO$5,1),$N6),MIN(EOMONTH(DATE(Données!$P$3,$AO$5,1),0),$P6)-MAX(DATE(Données!$P$3,$AO$5,1),$N6)+1,"")) | AT6: =IF($N6="","",IF(MIN(EOMONTH(DATE(Données!$P$3,$AO$5,1),0),$P6)>=MAX(DATE(Données!$P$3,$AO$5,1),$N6),MIN(EOMONTH(DATE(Données!$P$3,$AO$5,1),0),$P6)-MAX(DATE(Données!$P$3,$AO$5,1),$N6)+1,"")) | AU6: =IF($N6="","",IF(MIN(EOMONTH(DATE(Données!$P$3,$AO$5,1),0),$P6)>=MAX(DATE(Données!$P$3,$AO$5,1),$N6),MIN(EOMONTH(DATE(Données!$P$3,$AO$5,1),0),$P6)-MAX(DATE(Données!$P$3,$AO$5,1),$N6)+1,"")) | AV6: =IF($N6="","",IF(MIN(EOMONTH(DATE(Données!$P$3,$AO$5,1),0),$P6)>=MAX(DATE(Données!$P$3,$AO$5,1),$N6),MIN(EOMONTH(DATE(Données!$P$3,$AO$5,1),0),$P6)-MAX(DATE(Données!$P$3,$AO$5,1),$N6)+1,"")) | ... AZ6: =IF($N6="","",IF(MIN(EOMONTH(DATE(Données!$P$3,$AO$5,1),0),$P6)>=MAX(DATE(Données!$P$3,$AO$5,1),$N6),MIN(EOMONTH(DATE(Données!$P$3,$AO$5,1),0),$P6)-MAX(DATE(Données!$P$3,$AO$5,1),$N6)+1,"")) | BA6: =SUM(AU6:AV6) -> 0 | BB6: =SUM(AO6:AT6,AW6:AZ6) -> 0 | BC6: =IF(ISERROR(IF(AN6="","",IF(AN6=Données!$P$2,"S",IF(BB6>BA6,"HS","S")))),,IF(AN6="","",IF(AN6=Données!$P$2,"S",IF(BB6>BA6,"HS","S")))) -> S
A7: =IF(AND(M7<>"",P7>=TODAY(),N7<=TODAY()),M7,H7) -> B14 | B7: Adh-002 | D7: Henri | E7: =B7 -> Adh-002 | F7: P14 | G7: 0 | H7: B14 | I7: =$H7 -> B14 | J7: =IF(ISERROR(IF(B7="","",IF(F7="","",IF($H7=0,"","Date à saisir")))),,IF(B7="","",IF(F7="","",IF($H7=0,"","Date à saisir")))) -> Date à saisir | L7: =IF(M7<>"",M7,I7) -> B14 | N7: =IF(OR(M7="",M7=0),"","Date à saisir") | O7: =IF(OR(N7="",N7=0),"","Date à saisir") | P7: =IF(OR(M7="",M7=0),"","Date à saisir") | Q7: =IF(ISERROR(IF($P7="","",$P7-$N7)),,IF($P7="","",$P7-$N7)) | R7: =IF(ISERROR(IF($B7="","",IF(OR($J7,$P7)="Date à saisir","",IF(OR($H7="PP7",$H7="PP8"),Données!$F$4,IF($AN7=Données!$P$2,Données!$F$3,IF($Q7="","",IF(AND($Q7>=1,$BC7="S"),VLOOKUP($Q7,Données!$H:$J,2,FALSE),IF($BC7="HS",VLOOKUP($Q7,Données!$H:$J,3,FALSE))))))))),,IF($B7="","",IF(OR($J7,$P7)="Date à saisir","",IF(OR($H7="PP7",$H7="PP8"),Données!$F$4,IF($AN7=Données!$P$2,Données!$F$3,IF($Q7="","",IF(AND($Q7>=1,$BC7="S"),VLOOKUP($Q7,Données!$H:$J,2,FALSE),IF($BC7="HS",VLOOKUP($Q7,Données!$H:$J,3,FALSE))))))))) -> 0 | S7: =R7 -> 0 | U7: =IF(B7="","",IF(OR(R7=330,R7=660),"S","")) | V7: =IF(B7="","",IF(AND(M7<>"",N7<>"Date à saisir",P7<>"Date à saisir"),"O","")) | AJ7: =IF(SUMPRODUCT(($M6:$M$8=M7)*(N7<$P6:$P$8)*(N7>$N6:$N$8))>0,"pb début","")&" . "&IF(SUMPRODUCT(($M6:$M$8=M7)*(P7<$P6:$P$8)*(P7>$N6:$N$8))>0,"pb fin","") -> . | AN7: =IF(B7="","",IF($M7<>"",$P7,Données!$P$2)) -> 44196 | AO7: =IF($N7="","",IF(MIN(EOMONTH(DATE(Données!$P$3,$AO$5,1),0),$P7)>=MAX(DATE(Données!$P$3,$AO$5,1),$N7),MIN(EOMONTH(DATE(Données!$P$3,$AO$5,1),0),$P7)-MAX(DATE(Données!$P$3,$AO$5,1),$N7)+1,"")) | AP7: =IF($N7="","",IF(MIN(EOMONTH(DATE(Données!$P$3,$AO$5,1),0),$P7)>=MAX(DATE(Données!$P$3,$AO$5,1),$N7),MIN(EOMONTH(DATE(Données!$P$3,$AO$5,1),0),$P7)-MAX(DATE(Données!$P$3,$AO$5,1),$N7)+1,"")) | AQ7: =IF($N7="","",IF(MIN(EOMONTH(DATE(Données!$P$3,$AO$5,1),0),$P7)>=MAX(DATE(Données!$P$3,$AO$5,1),$N7),MIN(EOMONTH(DATE(Données!$P$3,$AO$5,1),0),$P7)-MAX(DATE(Données!$P$3,$AO$5,1),$N7)+1,"")) | AR7: =IF($N7="","",IF(MIN(EOMONTH(DATE(Données!$P$3,$AO$5,1),0),$P7)>=MAX(DATE(Données!$P$3,$AO$5,1),$N7),MIN(EOMONTH(DATE(Données!$P$3,$AO$5,1),0),$P7)-MAX(DATE(Données!$P$3,$AO$5,1),$N7)+1,"")) | AS7: =IF($N7="","",IF(MIN(EOMONTH(DATE(Données!$P$3,$AO$5,1),0),$P7)>=MAX(DATE(Données!$P$3,$AO$5,1),$N7),MIN(EOMONTH(DATE(Données!$P$3,$AO$5,1),0),$P7)-MAX(DATE(Données!$P$3,$AO$5,1),$N7)+1,"")) | AT7: =IF($N7="","",IF(MIN(EOMONTH(DATE(Données!$P$3,$AO$5,1),0),$P7)>=MAX(DATE(Données!$P$3,$AO$5,1),$N7),MIN(EOMONTH(DATE(Données!$P$3,$AO$5,1),0),$P7)-MAX(DATE(Données!$P$3,$AO$5,1),$N7)+1,"")) | AU7: =IF($N7="","",IF(MIN(EOMONTH(DATE(Données!$P$3,$AO$5,1),0),$P7)>=MAX(DATE(Données!$P$3,$AO$5,1),$N7),MIN(EOMONTH(DATE(Données!$P$3,$AO$5,1),0),$P7)-MAX(DATE(Données!$P$3,$AO$5,1),$N7)+1,"")) | AV7: =IF($N7="","",IF(MIN(EOMONTH(DATE(Données!$P$3,$AO$5,1),0),$P7)>=MAX(DATE(Données!$P$3,$AO$5,1),$N7),MIN(EOMONTH(DATE(Données!$P$3,$AO$5,1),0),$P7)-MAX(DATE(Données!$P$3,$AO$5,1),$N7)+1,"")) | ... AZ7: =IF($N7="","",IF(MIN(EOMONTH(DATE(Données!$P$3,$AO$5,1),0),$P7)>=MAX(DATE(Données!$P$3,$AO$5,1),$N7),MIN(EOMONTH(DATE(Données!$P$3,$AO$5,1),0),$P7)-MAX(DATE(Données!$P$3,$AO$5,1),$N7)+1,"")) | BA7: =SUM(AU7:AV7) -> 0 | BB7: =SUM(AO7:AT7,AW7:AZ7) -> 0 | BC7: =IF(ISERROR(IF(AN7="","",IF(AN7="31/12/2018","S",IF(BB7>BA7,"HS","S")))),,IF(AN7="","",IF(AN7="31/12/2018","S",IF(BB7>BA7,"HS","S")))) -> S
A8: =IF(AND(M8<>"",P8>=TODAY(),N8<=TODAY()),M8,H8) -> PP4 | B8: Adh-003 | D8: Marcel | E8: =B8 -> Adh-003 | F8: Pr2A | G8: 0 | H8: PP4 | I8: =$H8 -> PP4 | J8: =IF(ISERROR(IF(B8="","",IF(F8="","",IF($H8=0,"","Date à saisir")))),,IF(B8="","",IF(F8="","",IF($H8=0,"","Date à saisir")))) -> Date à saisir | L8: =IF(M8<>"",M8,I8) -> PP4 | N8: =IF(OR(M8="",M8=0),"","Date à saisir") | O8: =IF(ISERROR(MONTH(N8)),,MONTH(N8)) -> 0 | P8: =IF(OR(M8="",M8=0),"","Date à saisir") | Q8: =IF(ISERROR(IF($P8="","",$P8-$N8)),,IF($P8="","",$P8-$N8)) | R8: =IF(ISERROR(IF($B8="","",IF(OR($J8,$P8)="Date à saisir","",IF(OR($H8="PP7",$H8="PP8"),Données!$F$4,IF($AN8=Données!$P$2,Données!$F$3,IF($Q8="","",IF(AND($Q8>=1,$BC8="S"),VLOOKUP($Q8,Données!$H:$J,2,FALSE),IF($BC8="HS",VLOOKUP($Q8,Données!$H:$J,3,FALSE))))))))),,IF($B8="","",IF(OR($J8,$P8)="Date à saisir","",IF(OR($H8="PP7",$H8="PP8"),Données!$F$4,IF($AN8=Données!$P$2,Données!$F$3,IF($Q8="","",IF(AND($Q8>=1,$BC8="S"),VLOOKUP($Q8,Données!$H:$J,2,FALSE),IF($BC8="HS",VLOOKUP($Q8,Données!$H:$J,3,FALSE))))))))) -> 0 | S8: =R8 -> 0 | U8: =IF(B8="","",IF(OR(R8=330,R8=660),"S","")) | V8: =IF(B8="","",IF(AND(M8<>"",N8<>"Date à saisir",P8<>"Date à saisir"),"O","")) | AJ8: =IF(SUMPRODUCT(($M$7:$M8=M8)*(N8<$P$7:$P8)*(N8>$N$7:$N8))>0,"pb début","")&" . "&IF(SUMPRODUCT(($M$7:$M8=M8)*(P8<$P$7:$P8)*(P8>$N$7:$N8))>0,"pb fin","") -> . | AN8: =IF(B8="","",IF($M8<>"",$P8,Données!$P$2)) -> 44196 | AO8: =IF($N8="","",IF(MIN(EOMONTH(DATE(Données!$P$3,$AO$5,1),0),$P8)>=MAX(DATE(Données!$P$3,$AO$5,1),$N8),MIN(EOMONTH(DATE(Données!$P$3,$AO$5,1),0),$P8)-MAX(DATE(Données!$P$3,$AO$5,1),$N8)+1,"")) | AP8: =IF($N8="","",IF(MIN(EOMONTH(DATE(Données!$P$3,$AO$5,1),0),$P8)>=MAX(DATE(Données!$P$3,$AO$5,1),$N8),MIN(EOMONTH(DATE(Données!$P$3,$AO$5,1),0),$P8)-MAX(DATE(Données!$P$3,$AO$5,1),$N8)+1,"")) | AQ8: =IF($N8="","",IF(MIN(EOMONTH(DATE(Données!$P$3,$AO$5,1),0),$P8)>=MAX(DATE(Données!$P$3,$AO$5,1),$N8),MIN(EOMONTH(DATE(Données!$P$3,$AO$5,1),0),$P8)-MAX(DATE(Données!$P$3,$AO$5,1),$N8)+1,"")) | AR8: =IF($N8="","",IF(MIN(EOMONTH(DATE(Données!$P$3,$AO$5,1),0),$P8)>=MAX(DATE(Données!$P$3,$AO$5,1),$N8),MIN(EOMONTH(DATE(Données!$P$3,$AO$5,1),0),$P8)-MAX(DATE(Données!$P$3,$AO$5,1),$N8)+1,"")) | AS8: =IF($N8="","",IF(MIN(EOMONTH(DATE(Données!$P$3,$AO$5,1),0),$P8)>=MAX(DATE(Données!$P$3,$AO$5,1),$N8),MIN(EOMONTH(DATE(Données!$P$3,$AO$5,1),0),$P8)-MAX(DATE(Données!$P$3,$AO$5,1),$N8)+1,"")) | AT8: =IF($N8="","",IF(MIN(EOMONTH(DATE(Données!$P$3,$AO$5,1),0),$P8)>=MAX(DATE(Données!$P$3,$AO$5,1),$N8),MIN(EOMONTH(DATE(Données!$P$3,$AO$5,1),0),$P8)-MAX(DATE(Données!$P$3,$AO$5,1),$N8)+1,"")) | AU8: =IF($N8="","",IF(MIN(EOMONTH(DATE(Données!$P$3,$AO$5,1),0),$P8)>=MAX(DATE(Données!$P$3,$AO$5,1),$N8),MIN(EOMONTH(DATE(Données!$P$3,$AO$5,1),0),$P8)-MAX(DATE(Données!$P$3,$AO$5,1),$N8)+1,"")) | AV8: =IF($N8="","",IF(MIN(EOMONTH(DATE(Données!$P$3,$AO$5,1),0),$P8)>=MAX(DATE(Données!$P$3,$AO$5,1),$N8),MIN(EOMONTH(DATE(Données!$P$3,$AO$5,1),0),$P8)-MAX(DATE(Données!$P$3,$AO$5,1),$N8)+1,"")) | ... AZ8: =IF($N8="","",IF(MIN(EOMONTH(DATE(Données!$P$3,$AO$5,1),0),$P8)>=MAX(DATE(Données!$P$3,$AO$5,1),$N8),MIN(EOMONTH(DATE(Données!$P$3,$AO$5,1),0),$P8)-MAX(DATE(Données!$P$3,$AO$5,1),$N8)+1,"")) | BA8: =SUM(AU8:AV8) -> 0 | BB8: =SUM(AO8:AT8,AW8:AZ8) -> 0 | BC8: =IF(ISERROR(IF(AN8="","",IF(AN8="31/12/2018","S",IF(BB8>BA8,"HS","S")))),,IF(AN8="","",IF(AN8="31/12/2018","S",IF(BB8>BA8,"HS","S")))) -> S
A9: =IF(AND(M9<>"",P9>=TODAY(),N9<=TODAY()),M9,H9) -> 0 | B9: Adh-004 | D9: Gérard | E9: =B9 -> Adh-004 | F9: Pr2B | G9: 0 | I9: =$H9 -> 0 | J9: =IF(ISERROR(IF(B9="","",IF(F9="","",IF($H9=0,"","Date à saisir")))),,IF(B9="","",IF(F9="","",IF($H9=0,"","Date à saisir")))) | L9: =IF(M9<>"",M9,I9) -> 25 | M9: 25 | N9: 44002 | O9: =IF(ISERROR(MONTH(N9)),,MONTH(N9)) -> 6 | P9: 44027 | Q9: =IF(ISERROR(IF($P9="","",$P9-$N9)),,IF($P9="","",$P9-$N9)) -> 25 | R9: =IF(ISERROR(IF($B9="","",IF(OR($J9,$P9)="Date à saisir","",IF(OR($H9="PP7",$H9="PP8"),Données!$F$4,IF($AN9=Données!$P$2,Données!$F$3,IF($Q9="","",IF(AND($Q9>=1,$BC9="S"),VLOOKUP($Q9,Données!$H:$J,2,FALSE),IF($BC9="HS",VLOOKUP($Q9,Données!$H:$J,3,FALSE))))))))),,IF($B9="","",IF(OR($J9,$P9)="Date à saisir","",IF(OR($H9="PP7",$H9="PP8"),Données!$F$4,IF($AN9=Données!$P$2,Données!$F$3,IF($Q9="","",IF(AND($Q9>=1,$BC9="S"),VLOOKUP($Q9,Données!$H:$J,2,FALSE),IF($BC9="HS",VLOOKUP($Q9,Données!$H:$J,3,FALSE))))))))) -> 160 | S9: =R9 -> 160 | U9: =IF(B9="","",IF(OR(R9=330,R9=660),"S","")) | V9: =IF(B9="","",IF(AND(M9<>"",N9<>"Date à saisir",P9<>"Date à saisir"),"O","")) -> O | AJ9: =IF(SUMPRODUCT(($M8:$M$8=M9)*(N9<$P8:$P$8)*(N9>$N8:$N$8))>0,"pb début","")&" . "&IF(SUMPRODUCT(($M8:$M$8=M9)*(P9<$P8:$P$8)*(P9>$N8:$N$8))>0,"pb fin","") -> . | AN9: =IF(B9="","",IF($M9<>"",$P9,Données!$P$2)) -> 44027 | AO9: =IF($N9="","",IF(MIN(EOMONTH(DATE(Données!$P$3,$AO$5,1),0),$P9)>=MAX(DATE(Données!$P$3,$AO$5,1),$N9),MIN(EOMONTH(DATE(Données!$P$3,$AO$5,1),0),$P9)-MAX(DATE(Données!$P$3,$AO$5,1),$N9)+1,"")) | AP9: =IF($N9="","",IF(MIN(EOMONTH(DATE(Données!$P$3,$AO$5,1),0),$P9)>=MAX(DATE(Données!$P$3,$AO$5,1),$N9),MIN(EOMONTH(DATE(Données!$P$3,$AO$5,1),0),$P9)-MAX(DATE(Données!$P$3,$AO$5,1),$N9)+1,"")) | AQ9: =IF($N9="","",IF(MIN(EOMONTH(DATE(Données!$P$3,$AO$5,1),0),$P9)>=MAX(DATE(Données!$P$3,$AO$5,1),$N9),MIN(EOMONTH(DATE(Données!$P$3,$AO$5,1),0),$P9)-MAX(DATE(Données!$P$3,$AO$5,1),$N9)+1,"")) | AR9: =IF($N9="","",IF(MIN(EOMONTH(DATE(Données!$P$3,$AO$5,1),0),$P9)>=MAX(DATE(Données!$P$3,$AO$5,1),$N9),MIN(EOMONTH(DATE(Données!$P$3,$AO$5,1),0),$P9)-MAX(DATE(Données!$P$3,$AO$5,1),$N9)+1,"")) | AS9: =IF($N9="","",IF(MIN(EOMONTH(DATE(Données!$P$3,$AO$5,1),0),$P9)>=MAX(DATE(Données!$P$3,$AO$5,1),$N9),MIN(EOMONTH(DATE(Données!$P$3,$AO$5,1),0),$P9)-MAX(DATE(Données!$P$3,$AO$5,1),$N9)+1,"")) | AT9: =IF($N9="","",IF(MIN(EOMONTH(DATE(Données!$P$3,$AO$5,1),0),$P9)>=MAX(DATE(Données!$P$3,$AO$5,1),$N9),MIN(EOMONTH(DATE(Données!$P$3,$AO$5,1),0),$P9)-MAX(DATE(Données!$P$3,$AO$5,1),$N9)+1,"")) | AU9: =IF($N9="","",IF(MIN(EOMONTH(DATE(Données!$P$3,$AO$5,1),0),$P9)>=MAX(DATE(Données!$P$3,$AO$5,1),$N9),MIN(EOMONTH(DATE(Données!$P$3,$AO$5,1),0),$P9)-MAX(DATE(Données!$P$3,$AO$5,1),$N9)+1,"")) | AV9: =IF($N9="","",IF(MIN(EOMONTH(DATE(Données!$P$3,$AO$5,1),0),$P9)>=MAX(DATE(Données!$P$3,$AO$5,1),$N9),MIN(EOMONTH(DATE(Données!$P$3,$AO$5,1),0),$P9)-MAX(DATE(Données!$P$3,$AO$5,1),$N9)+1,"")) | ... AZ9: =IF($N9="","",IF(MIN(EOMONTH(DATE(Données!$P$3,$AO$5,1),0),$P9)>=MAX(DATE(Données!$P$3,$AO$5,1),$N9),MIN(EOMONTH(DATE(Données!$P$3,$AO$5,1),0),$P9)-MAX(DATE(Données!$P$3,$AO$5,1),$N9)+1,"")) | BA9: =SUM(AU9:AV9) -> 0 | BB9: =SUM(AO9:AT9,AW9:AZ9) -> 0 | BC9: =IF(ISERROR(IF(AN9="","",IF(AN9="31/12/2018","S",IF(BB9>BA9,"HS","S")))),,IF(AN9="","",IF(AN9="31/12/2018","S",IF(BB9>BA9,"HS","S")))) -> S
A10: =IF(AND(M10<>"",P10>=TODAY(),N10<=TODAY()),M10,H10) -> 23 | B10: Adh-005 | D10: Louis | E10: =B10 -> Adh-005 | F10: 86 | G10: 0 | H10: 23 | I10: =$H10 -> 23 | J10: =IF(ISERROR(IF(B10="","",IF(F10="","",IF($H10=0,"","Date à saisir")))),,IF(B10="","",IF(F10="","",IF($H10=0,"","Date à saisir")))) -> Date à saisir | L10: =IF(M10<>"",M10,I10) -> 23 | N10: =IF(OR(M10="",M10=0),"","Date à saisir") | O10: =IF(ISERROR(MONTH(N10)),,MONTH(N10)) -> 0 | P10: =IF(OR(M10="",M10=0),"","Date à saisir") | Q10: =IF(ISERROR(IF($P10="","",$P10-$N10)),,IF($P10="","",$P10-$N10)) | R10: =IF(ISERROR(IF($B10="","",IF(OR($J10,$P10)="Date à saisir","",IF(OR($H10="PP7",$H10="PP8"),Données!$F$4,IF($AN10=Données!$P$2,Données!$F$3,IF($Q10="","",IF(AND($Q10>=1,$BC10="S"),VLOOKUP($Q10,Données!$H:$J,2,FALSE),IF($BC10="HS",VLOOKUP($Q10,Données!$H:$J,3,FALSE))))))))),,IF($B10="","",IF(OR($J10,$P10)="Date à saisir","",IF(OR($H10="PP7",$H10="PP8"),Données!$F$4,IF($AN10=Données!$P$2,Données!$F$3,IF($Q10="","",IF(AND($Q10>=1,$BC10="S"),VLOOKUP($Q10,Données!$H:$J,2,FALSE),IF($BC10="HS",VLOOKUP($Q10,Données!$H:$J,3,FALSE))))))))) -> 0 | S10: =R10 -> 0 | U10: =IF(B10="","",IF(OR(R10=330,R10=660),"S","")) | V10: =IF(B10="","",IF(AND(M10<>"",N10<>"Date à saisir",P10<>"Date à saisir"),"O","")) | AJ10: =IF(SUMPRODUCT(($M8:$M$9=M10)*(N10<$P8:$P$9)*(N10>$N8:$N$9))>0,"pb début","")&" . "&IF(SUMPRODUCT(($M8:$M$9=M10)*(P10<$P8:$P$9)*(P10>$N8:$N$9))>0,"pb fin","") -> . | AN10: =IF(B10="","",IF($M10<>"",$P10,Données!$P$2)) -> 44196 | AO10: =IF($N10="","",IF(MIN(EOMONTH(DATE(Données!$P$3,$AO$5,1),0),$P10)>=MAX(DATE(Données!$P$3,$AO$5,1),$N10),MIN(EOMONTH(DATE(Données!$P$3,$AO$5,1),0),$P10)-MAX(DATE(Données!$P$3,$AO$5,1),$N10)+1,"")) | AP10: =IF($N10="","",IF(MIN(EOMONTH(DATE(Données!$P$3,$AO$5,1),0),$P10)>=MAX(DATE(Données!$P$3,$AO$5,1),$N10),MIN(EOMONTH(DATE(Données!$P$3,$AO$5,1),0),$P10)-MAX(DATE(Données!$P$3,$AO$5,1),$N10)+1,"")) | AQ10: =IF($N10="","",IF(MIN(EOMONTH(DATE(Données!$P$3,$AO$5,1),0),$P10)>=MAX(DATE(Données!$P$3,$AO$5,1),$N10),MIN(EOMONTH(DATE(Données!$P$3,$AO$5,1),0),$P10)-MAX(DATE(Données!$P$3,$AO$5,1),$N10)+1,"")) | AR10: =IF($N10="","",IF(MIN(EOMONTH(DATE(Données!$P$3,$AO$5,1),0),$P10)>=MAX(DATE(Données!$P$3,$AO$5,1),$N10),MIN(EOMONTH(DATE(Données!$P$3,$AO$5,1),0),$P10)-MAX(DATE(Données!$P$3,$AO$5,1),$N10)+1,"")) | AS10: =IF($N10="","",IF(MIN(EOMONTH(DATE(Données!$P$3,$AO$5,1),0),$P10)>=MAX(DATE(Données!$P$3,$AO$5,1),$N10),MIN(EOMONTH(DATE(Données!$P$3,$AO$5,1),0),$P10)-MAX(DATE(Données!$P$3,$AO$5,1),$N10)+1,"")) | AT10: =IF($N10="","",IF(MIN(EOMONTH(DATE(Données!$P$3,$AO$5,1),0),$P10)>=MAX(DATE(Données!$P$3,$AO$5,1),$N10),MIN(EOMONTH(DATE(Données!$P$3,$AO$5,1),0),$P10)-MAX(DATE(Données!$P$3,$AO$5,1),$N10)+1,"")) | AU10: =IF($N10="","",IF(MIN(EOMONTH(DATE(Données!$P$3,$AO$5,1),0),$P10)>=MAX(DATE(Données!$P$3,$AO$5,1),$N10),MIN(EOMONTH(DATE(Données!$P$3,$AO$5,1),0),$P10)-MAX(DATE(Données!$P$3,$AO$5,1),$N10)+1,"")) | AV10: =IF($N10="","",IF(MIN(EOMONTH(DATE(Données!$P$3,$AO$5,1),0),$P10)>=MAX(DATE(Données!$P$3,$AO$5,1),$N10),MIN(EOMONTH(DATE(Données!$P$3,$AO$5,1),0),$P10)-MAX(DATE(Données!$P$3,$AO$5,1),$N10)+1,"")) | ... AZ10: =IF($N10="","",IF(MIN(EOMONTH(DATE(Données!$P$3,$AO$5,1),0),$P10)>=MAX(DATE(Données!$P$3,$AO$5,1),$N10),MIN(EOMONTH(DATE(Données!$P$3,$AO$5,1),0),$P10)-MAX(DATE(Données!$P$3,$AO$5,1),$N10)+1,"")) | BA10: =SUM(AU10:AV10) -> 0 | BB10: =SUM(AO10:AT10,AW10:AZ10) -> 0 | BC10: =IF(ISERROR(IF(AN10="","",IF(AN10="31/12/2018","S",IF(BB10>BA10,"HS","S")))),,IF(AN10="","",IF(AN10="31/12/2018","S",IF(BB10>BA10,"HS","S")))) -> S
A11: =IF(AND(M11<>"",P11>=TODAY(),N11<=TODAY()),M11,H11) -> PP5 | B11: Adh-006 | D11: Francis | E11: =B11 -> Adh-006 | F11: Pr3B | G11: 0 | H11: PP5 | I11: =$H11 -> PP5 | J11: =IF(ISERROR(IF(B11="","",IF(F11="","",IF($H11=0,"","Date à saisir")))),,IF(B11="","",IF(F11="","",IF($H11=0,"","Date à saisir")))) -> Date à saisir | L11: =IF(M11<>"",M11,I11) -> PP5 | N11: =IF(OR(M11="",M11=0),"","Date à saisir") | O11: =IF(ISERROR(MONTH(N11)),,MONTH(N11)) -> 0 | P11: =IF(OR(M11="",M11=0),"","Date à saisir") | Q11: =IF(ISERROR(IF($P11="","",$P11-$N11)),,IF($P11="","",$P11-$N11)) | R11: =IF(ISERROR(IF($B11="","",IF(OR($J11,$P11)="Date à saisir","",IF(OR($H11="PP7",$H11="PP8"),Données!$F$4,IF($AN11=Données!$P$2,Données!$F$3,IF($Q11="","",IF(AND($Q11>=1,$BC11="S"),VLOOKUP($Q11,Données!$H:$J,2,FALSE),IF($BC11="HS",VLOOKUP($Q11,Données!$H:$J,3,FALSE))))))))),,IF($B11="","",IF(OR($J11,$P11)="Date à saisir","",IF(OR($H11="PP7",$H11="PP8"),Données!$F$4,IF($AN11=Données!$P$2,Données!$F$3,IF($Q11="","",IF(AND($Q11>=1,$BC11="S"),VLOOKUP($Q11,Données!$H:$J,2,FALSE),IF($BC11="HS",VLOOKUP($Q11,Données!$H:$J,3,FALSE))))))))) -> 0 | S11: =R11 -> 0 | U11: =IF(B11="","",IF(OR(R11=330,R11=660),"S","")) | V11: =IF(B11="","",IF(AND(M11<>"",N11<>"Date à saisir",P11<>"Date à saisir"),"O","")) | AJ11: =IF(SUMPRODUCT(($M$8:$M10=M11)*(N11<$P$8:$P10)*(N11>$N$8:$N10))>0,"pb début","")&" . "&IF(SUMPRODUCT(($M$8:$M10=M11)*(P11<$P$8:$P10)*(P11>$N$8:$N10))>0,"pb fin","") -> . | AN11: =IF(B11="","",IF($M11<>"",$P11,Données!$P$2)) -> 44196 | AO11: =IF($N11="","",IF(MIN(EOMONTH(DATE(Données!$P$3,$AO$5,1),0),$P11)>=MAX(DATE(Données!$P$3,$AO$5,1),$N11),MIN(EOMONTH(DATE(Données!$P$3,$AO$5,1),0),$P11)-MAX(DATE(Données!$P$3,$AO$5,1),$N11)+1,"")) | AP11: =IF($N11="","",IF(MIN(EOMONTH(DATE(Données!$P$3,$AO$5,1),0),$P11)>=MAX(DATE(Données!$P$3,$AO$5,1),$N11),MIN(EOMONTH(DATE(Données!$P$3,$AO$5,1),0),$P11)-MAX(DATE(Données!$P$3,$AO$5,1),$N11)+1,"")) | AQ11: =IF($N11="","",IF(MIN(EOMONTH(DATE(Données!$P$3,$AO$5,1),0),$P11)>=MAX(DATE(Données!$P$3,$AO$5,1),$N11),MIN(EOMONTH(DATE(Données!$P$3,$AO$5,1),0),$P11)-MAX(DATE(Données!$P$3,$AO$5,1),$N11)+1,"")) | AR11: =IF($N11="","",IF(MIN(EOMONTH(DATE(Données!$P$3,$AO$5,1),0),$P11)>=MAX(DATE(Données!$P$3,$AO$5,1),$N11),MIN(EOMONTH(DATE(Données!$P$3,$AO$5,1),0),$P11)-MAX(DATE(Données!$P$3,$AO$5,1),$N11)+1,"")) | AS11: =IF($N11="","",IF(MIN(EOMONTH(DATE(Données!$P$3,$AO$5,1),0),$P11)>=MAX(DATE(Données!$P$3,$AO$5,1),$N11),MIN(EOMONTH(DATE(Données!$P$3,$AO$5,1),0),$P11)-MAX(DATE(Données!$P$3,$AO$5,1),$N11)+1,"")) | AT11: =IF($N11="","",IF(MIN(EOMONTH(DATE(Données!$P$3,$AO$5,1),0),$P11)>=MAX(DATE(Données!$P$3,$AO$5,1),$N11),MIN(EOMONTH(DATE(Données!$P$3,$AO$5,1),0),$P11)-MAX(DATE(Données!$P$3,$AO$5,1),$N11)+1,"")) | AU11: =IF($N11="","",IF(MIN(EOMONTH(DATE(Données!$P$3,$AO$5,1),0),$P11)>=MAX(DATE(Données!$P$3,$AO$5,1),$N11),MIN(EOMONTH(DATE(Données!$P$3,$AO$5,1),0),$P11)-MAX(DATE(Données!$P$3,$AO$5,1),$N11)+1,"")) | AV11: =IF($N11="","",IF(MIN(EOMONTH(DATE(Données!$P$3,$AO$5,1),0),$P11)>=MAX(DATE(Données!$P$3,$AO$5,1),$N11),MIN(EOMONTH(DATE(Données!$P$3,$AO$5,1),0),$P11)-MAX(DATE(Données!$P$3,$AO$5,1),$N11)+1,"")) | ... AZ11: =IF($N11="","",IF(MIN(EOMONTH(DATE(Données!$P$3,$AO$5,1),0),$P11)>=MAX(DATE(Données!$P$3,$AO$5,1),$N11),MIN(EOMONTH(DATE(Données!$P$3,$AO$5,1),0),$P11)-MAX(DATE(Données!$P$3,$AO$5,1),$N11)+1,"")) | BA11: =SUM(AU11:AV11) -> 0 | BB11: =SUM(AO11:AT11,AW11:AZ11) -> 0 | BC11: =IF(ISERROR(IF(AN11="","",IF(AN11="31/12/2018","S",IF(BB11>BA11,"HS","S")))),,IF(AN11="","",IF(AN11="31/12/2018","S",IF(BB11>BA11,"HS","S")))) -> S
A12: =IF(AND(M12<>"",P12>=TODAY(),N12<=TODAY()),M12,H12) -> PP7 | B12: Adh-007 | D12: Franck | E12: =B12 -> Adh-007 | F12: Pr4 | G12: 0 | H12: PP7 | I12: =$H12 -> PP7 | J12: =IF(ISERROR(IF(B12="","",IF(F12="","",IF($H12=0,"","Date à saisir")))),,IF(B12="","",IF(F12="","",IF($H12=0,"","Date à saisir")))) -> Date à saisir | L12: =IF(M12<>"",M12,I12) -> PP7 | N12: =IF(OR(M12="",M12=0),"","Date à saisir") | O12: =IF(ISERROR(MONTH(N12)),,MONTH(N12)) -> 0 | P12: =IF(OR(M12="",M12=0),"","Date à saisir") | Q12: =IF(ISERROR(IF($P12="","",$P12-$N12)),,IF($P12="","",$P12-$N12)) | R12: =IF(ISERROR(IF($B12="","",IF(OR($J12,$P12)="Date à saisir","",IF(OR($H12="PP7",$H12="PP8"),Données!$F$4,IF($AN12=Données!$P$2,Données!$F$3,IF($Q12="","",IF(AND($Q12>=1,$BC12="S"),VLOOKUP($Q12,Données!$H:$J,2,FALSE),IF($BC12="HS",VLOOKUP($Q12,Données!$H:$J,3,FALSE))))))))),,IF($B12="","",IF(OR($J12,$P12)="Date à saisir","",IF(OR($H12="PP7",$H12="PP8"),Données!$F$4,IF($AN12=Données!$P$2,Données!$F$3,IF($Q12="","",IF(AND($Q12>=1,$BC12="S"),VLOOKUP($Q12,Données!$H:$J,2,FALSE),IF($BC12="HS",VLOOKUP($Q12,Données!$H:$J,3,FALSE))))))))) -> 0 | S12: =R12 -> 0 | U12: =IF(B12="","",IF(OR(R12=330,R12=660),"S","")) | V12: =IF(B12="","",IF(AND(M12<>"",N12<>"Date à saisir",P12<>"Date à saisir"),"O","")) | AJ12: =IF(SUMPRODUCT(($M$8:$M11=M12)*(N12<$P$8:$P11)*(N12>$N$8:$N11))>0,"pb début","")&" . "&IF(SUMPRODUCT(($M$8:$M11=M12)*(P12<$P$8:$P11)*(P12>$N$8:$N11))>0,"pb fin","") -> . | AN12: =IF(B12="","",IF($M12<>"",$P12,Données!$P$2)) -> 44196 | AO12: =IF($N12="","",IF(MIN(EOMONTH(DATE(Données!$P$3,$AO$5,1),0),$P12)>=MAX(DATE(Données!$P$3,$AO$5,1),$N12),MIN(EOMONTH(DATE(Données!$P$3,$AO$5,1),0),$P12)-MAX(DATE(Données!$P$3,$AO$5,1),$N12)+1,"")) | AP12: =IF($N12="","",IF(MIN(EOMONTH(DATE(Données!$P$3,$AO$5,1),0),$P12)>=MAX(DATE(Données!$P$3,$AO$5,1),$N12),MIN(EOMONTH(DATE(Données!$P$3,$AO$5,1),0),$P12)-MAX(DATE(Données!$P$3,$AO$5,1),$N12)+1,"")) | AQ12: =IF($N12="","",IF(MIN(EOMONTH(DATE(Données!$P$3,$AO$5,1),0),$P12)>=MAX(DATE(Données!$P$3,$AO$5,1),$N12),MIN(EOMONTH(DATE(Données!$P$3,$AO$5,1),0),$P12)-MAX(DATE(Données!$P$3,$AO$5,1),$N12)+1,"")) | AR12: =IF($N12="","",IF(MIN(EOMONTH(DATE(Données!$P$3,$AO$5,1),0),$P12)>=MAX(DATE(Données!$P$3,$AO$5,1),$N12),MIN(EOMONTH(DATE(Données!$P$3,$AO$5,1),0),$P12)-MAX(DATE(Données!$P$3,$AO$5,1),$N12)+1,"")) | AS12: =IF($N12="","",IF(MIN(EOMONTH(DATE(Données!$P$3,$AO$5,1),0),$P12)>=MAX(DATE(Données!$P$3,$AO$5,1),$N12),MIN(EOMONTH(DATE(Données!$P$3,$AO$5,1),0),$P12)-MAX(DATE(Données!$P$3,$AO$5,1),$N12)+1,"")) | AT12: =IF($N12="","",IF(MIN(EOMONTH(DATE(Données!$P$3,$AO$5,1),0),$P12)>=MAX(DATE(Données!$P$3,$AO$5,1),$N12),MIN(EOMONTH(DATE(Données!$P$3,$AO$5,1),0),$P12)-MAX(DATE(Données!$P$3,$AO$5,1),$N12)+1,"")) | AU12: =IF($N12="","",IF(MIN(EOMONTH(DATE(Données!$P$3,$AO$5,1),0),$P12)>=MAX(DATE(Données!$P$3,$AO$5,1),$N12),MIN(EOMONTH(DATE(Données!$P$3,$AO$5,1),0),$P12)-MAX(DATE(Données!$P$3,$AO$5,1),$N12)+1,"")) | AV12: =IF($N12="","",IF(MIN(EOMONTH(DATE(Données!$P$3,$AO$5,1),0),$P12)>=MAX(DATE(Données!$P$3,$AO$5,1),$N12),MIN(EOMONTH(DATE(Données!$P$3,$AO$5,1),0),$P12)-MAX(DATE(Données!$P$3,$AO$5,1),$N12)+1,"")) | ... AZ12: =IF($N12="","",IF(MIN(EOMONTH(DATE(Données!$P$3,$AO$5,1),0),$P12)>=MAX(DATE(Données!$P$3,$AO$5,1),$N12),MIN(EOMONTH(DATE(Données!$P$3,$AO$5,1),0),$P12)-MAX(DATE(Données!$P$3,$AO$5,1),$N12)+1,"")) | BA12: =SUM(AU12:AV12) -> 0 | BB12: =SUM(AO12:AT12,AW12:AZ12) -> 0 | BC12: =IF(ISERROR(IF(AN12="","",IF(AN12="31/12/2018","S",IF(BB12>BA12,"HS","S")))),,IF(AN12="","",IF(AN12="31/12/2018","S",IF(BB12>BA12,"HS","S")))) -> S
A13: =IF(AND(M13<>"",P13>=TODAY(),N13<=TODAY()),M13,H13) -> PP8 | B13: Adh-008 | D13: Michel | E13: =B13 -> Adh-008 | F13: Pr5A Pr5B | G13: 0 | H13: PP8 | I13: =$H13 -> PP8 | J13: =IF(ISERROR(IF(B13="","",IF(F13="","",IF($H13=0,"","Date à saisir")))),,IF(B13="","",IF(F13="","",IF($H13=0,"","Date à saisir")))) -> Date à saisir | L13: =IF(M13<>"",M13,I13) -> PP8 | N13: =IF(OR(M13="",M13=0),"","Date à saisir") | O13: =IF(ISERROR(MONTH(N13)),,MONTH(N13)) -> 0 | P13: =IF(OR(M13="",M13=0),"","Date à saisir") | Q13: =IF(ISERROR(IF($P13="","",$P13-$N13)),,IF($P13="","",$P13-$N13)) | R13: =IF(ISERROR(IF($B13="","",IF(OR($J13,$P13)="Date à saisir","",IF(OR($H13="PP7",$H13="PP8"),Données!$F$4,IF($AN13=Données!$P$2,Données!$F$3,IF($Q13="","",IF(AND($Q13>=1,$BC13="S"),VLOOKUP($Q13,Données!$H:$J,2,FALSE),IF($BC13="HS",VLOOKUP($Q13,Données!$H:$J,3,FALSE))))))))),,IF($B13="","",IF(OR($J13,$P13)="Date à saisir","",IF(OR($H13="PP7",$H13="PP8"),Données!$F$4,IF($AN13=Données!$P$2,Données!$F$3,IF($Q13="","",IF(AND($Q13>=1,$BC13="S"),VLOOKUP($Q13,Données!$H:$J,2,FALSE),IF($BC13="HS",VLOOKUP($Q13,Données!$H:$J,3,FALSE))))))))) -> 0 | S13: =R13 -> 0 | U13: =IF(B13="","",IF(OR(R13=330,R13=660),"S","")) | V13: =IF(B13="","",IF(AND(M13<>"",N13<>"Date à saisir",P13<>"Date à saisir"),"O","")) | AJ13: =IF(SUMPRODUCT(($M$8:$M12=M13)*(N13<$P$8:$P12)*(N13>$N$8:$N12))>0,"pb début","")&" . "&IF(SUMPRODUCT(($M$8:$M12=M13)*(P13<$P$8:$P12)*(P13>$N$8:$N12))>0,"pb fin","") -> . | AN13: =IF(B13="","",IF($M13<>"",$P13,Données!$P$2)) -> 44196 | AO13: =IF($N13="","",IF(MIN(EOMONTH(DATE(Données!$P$3,$AO$5,1),0),$P13)>=MAX(DATE(Données!$P$3,$AO$5,1),$N13),MIN(EOMONTH(DATE(Données!$P$3,$AO$5,1),0),$P13)-MAX(DATE(Données!$P$3,$AO$5,1),$N13)+1,"")) | AP13: =IF($N13="","",IF(MIN(EOMONTH(DATE(Données!$P$3,$AO$5,1),0),$P13)>=MAX(DATE(Données!$P$3,$AO$5,1),$N13),MIN(EOMONTH(DATE(Données!$P$3,$AO$5,1),0),$P13)-MAX(DATE(Données!$P$3,$AO$5,1),$N13)+1,"")) | AQ13: =IF($N13="","",IF(MIN(EOMONTH(DATE(Données!$P$3,$AO$5,1),0),$P13)>=MAX(DATE(Données!$P$3,$AO$5,1),$N13),MIN(EOMONTH(DATE(Données!$P$3,$AO$5,1),0),$P13)-MAX(DATE(Données!$P$3,$AO$5,1),$N13)+1,"")) | AR13: =IF($N13="","",IF(MIN(EOMONTH(DATE(Données!$P$3,$AO$5,1),0),$P13)>=MAX(DATE(Données!$P$3,$AO$5,1),$N13),MIN(EOMONTH(DATE(Données!$P$3,$AO$5,1),0),$P13)-MAX(DATE(Données!$P$3,$AO$5,1),$N13)+1,"")) | AS13: =IF($N13="","",IF(MIN(EOMONTH(DATE(Données!$P$3,$AO$5,1),0),$P13)>=MAX(DATE(Données!$P$3,$AO$5,1),$N13),MIN(EOMONTH(DATE(Données!$P$3,$AO$5,1),0),$P13)-MAX(DATE(Données!$P$3,$AO$5,1),$N13)+1,"")) | AT13: =IF($N13="","",IF(MIN(EOMONTH(DATE(Données!$P$3,$AO$5,1),0),$P13)>=MAX(DATE(Données!$P$3,$AO$5,1),$N13),MIN(EOMONTH(DATE(Données!$P$3,$AO$5,1),0),$P13)-MAX(DATE(Données!$P$3,$AO$5,1),$N13)+1,"")) | AU13: =IF($N13="","",IF(MIN(EOMONTH(DATE(Données!$P$3,$AO$5,1),0),$P13)>=MAX(DATE(Données!$P$3,$AO$5,1),$N13),MIN(EOMONTH(DATE(Données!$P$3,$AO$5,1),0),$P13)-MAX(DATE(Données!$P$3,$AO$5,1),$N13)+1,"")) | AV13: =IF($N13="","",IF(MIN(EOMONTH(DATE(Données!$P$3,$AO$5,1),0),$P13)>=MAX(DATE(Données!$P$3,$AO$5,1),$N13),MIN(EOMONTH(DATE(Données!$P$3,$AO$5,1),0),$P13)-MAX(DATE(Données!$P$3,$AO$5,1),$N13)+1,"")) | ... AZ13: =IF($N13="","",IF(MIN(EOMONTH(DATE(Données!$P$3,$AO$5,1),0),$P13)>=MAX(DATE(Données!$P$3,$AO$5,1),$N13),MIN(EOMONTH(DATE(Données!$P$3,$AO$5,1),0),$P13)-MAX(DATE(Données!$P$3,$AO$5,1),$N13)+1,"")) | BA13: =SUM(AU13:AV13) -> 0 | BB13: =SUM(AO13:AT13,AW13:AZ13) -> 0 | BC13: =IF(ISERROR(IF(AN13="","",IF(AN13="31/12/2018","S",IF(BB13>BA13,"HS","S")))),,IF(AN13="","",IF(AN13="31/12/2018","S",IF(BB13>BA13,"HS","S")))) -> S
A14: =IF(AND(M14<>"",P14>=TODAY(),N14<=TODAY()),M14,H14) -> B0 | B14: Adh-009 | D14: Pascal | E14: =B14 -> Adh-009 | F14: P0 | G14: 0 | H14: B0 | I14: =$H14 -> B0 | J14: =IF(ISERROR(IF(B14="","",IF(F14="","",IF($H14=0,"","Date à saisir")))),,IF(B14="","",IF(F14="","",IF($H14=0,"","Date à saisir")))) -> Date à saisir | L14: =IF(M14<>"",M14,I14) -> B0 | N14: =IF(OR(M14="",M14=0),"","Date à saisir") | O14: =IF(ISERROR(MONTH(N14)),,MONTH(N14)) -> 0 | P14: =IF(OR(M14="",M14=0),"","Date à saisir") | Q14: =IF(ISERROR(IF($P14="","",$P14-$N14)),,IF($P14="","",$P14-$N14)) | R14: =IF(ISERROR(IF($B14="","",IF(OR($J14,$P14)="Date à saisir","",IF(OR($H14="PP7",$H14="PP8"),Données!$F$4,IF($AN14=Données!$P$2,Données!$F$3,IF($Q14="","",IF(AND($Q14>=1,$BC14="S"),VLOOKUP($Q14,Données!$H:$J,2,FALSE),IF($BC14="HS",VLOOKUP($Q14,Données!$H:$J,3,FALSE))))))))),,IF($B14="","",IF(OR($J14,$P14)="Date à saisir","",IF(OR($H14="PP7",$H14="PP8"),Données!$F$4,IF($AN14=Données!$P$2,Données!$F$3,IF($Q14="","",IF(AND($Q14>=1,$BC14="S"),VLOOKUP($Q14,Données!$H:$J,2,FALSE),IF($BC14="HS",VLOOKUP($Q14,Données!$H:$J,3,FALSE))))))))) -> 0 | S14: =R14 -> 0 | U14: =IF(B14="","",IF(OR(R14=330,R14=660),"S","")) | V14: =IF(B14="","",IF(AND(M14<>"",N14<>"Date à saisir",P14<>"Date à saisir"),"O","")) | AJ14: =IF(SUMPRODUCT(($M$8:$M13=M14)*(N14<$P$8:$P13)*(N14>$N$8:$N13))>0,"pb début","")&" . "&IF(SUMPRODUCT(($M$8:$M13=M14)*(P14<$P$8:$P13)*(P14>$N$8:$N13))>0,"pb fin","") -> . | AN14: =IF(B14="","",IF($M14<>"",$P14,Données!$P$2)) -> 44196 | AO14: =IF($N14="","",IF(MIN(EOMONTH(DATE(Données!$P$3,$AO$5,1),0),$P14)>=MAX(DATE(Données!$P$3,$AO$5,1),$N14),MIN(EOMONTH(DATE(Données!$P$3,$AO$5,1),0),$P14)-MAX(DATE(Données!$P$3,$AO$5,1),$N14)+1,"")) | AP14: =IF($N14="","",IF(MIN(EOMONTH(DATE(Données!$P$3,$AO$5,1),0),$P14)>=MAX(DATE(Données!$P$3,$AO$5,1),$N14),MIN(EOMONTH(DATE(Données!$P$3,$AO$5,1),0),$P14)-MAX(DATE(Données!$P$3,$AO$5,1),$N14)+1,"")) | AQ14: =IF($N14="","",IF(MIN(EOMONTH(DATE(Données!$P$3,$AO$5,1),0),$P14)>=MAX(DATE(Données!$P$3,$AO$5,1),$N14),MIN(EOMONTH(DATE(Données!$P$3,$AO$5,1),0),$P14)-MAX(DATE(Données!$P$3,$AO$5,1),$N14)+1,"")) | AR14: =IF($N14="","",IF(MIN(EOMONTH(DATE(Données!$P$3,$AO$5,1),0),$P14)>=MAX(DATE(Données!$P$3,$AO$5,1),$N14),MIN(EOMONTH(DATE(Données!$P$3,$AO$5,1),0),$P14)-MAX(DATE(Données!$P$3,$AO$5,1),$N14)+1,"")) | AS14: =IF($N14="","",IF(MIN(EOMONTH(DATE(Données!$P$3,$AO$5,1),0),$P14)>=MAX(DATE(Données!$P$3,$AO$5,1),$N14),MIN(EOMONTH(DATE(Données!$P$3,$AO$5,1),0),$P14)-MAX(DATE(Données!$P$3,$AO$5,1),$N14)+1,"")) | AT14: =IF($N14="","",IF(MIN(EOMONTH(DATE(Données!$P$3,$AO$5,1),0),$P14)>=MAX(DATE(Données!$P$3,$AO$5,1),$N14),MIN(EOMONTH(DATE(Données!$P$3,$AO$5,1),0),$P14)-MAX(DATE(Données!$P$3,$AO$5,1),$N14)+1,"")) | AU14: =IF($N14="","",IF(MIN(EOMONTH(DATE(Données!$P$3,$AO$5,1),0),$P14)>=MAX(DATE(Données!$P$3,$AO$5,1),$N14),MIN(EOMONTH(DATE(Données!$P$3,$AO$5,1),0),$P14)-MAX(DATE(Données!$P$3,$AO$5,1),$N14)+1,"")) | AV14: =IF($N14="","",IF(MIN(EOMONTH(DATE(Données!$P$3,$AO$5,1),0),$P14)>=MAX(DATE(Données!$P$3,$AO$5,1),$N14),MIN(EOMONTH(DATE(Données!$P$3,$AO$5,1),0),$P14)-MAX(DATE(Données!$P$3,$AO$5,1),$N14)+1,"")) | ... AZ14: =IF($N14="","",IF(MIN(EOMONTH(DATE(Données!$P$3,$AO$5,1),0),$P14)>=MAX(DATE(Données!$P$3,$AO$5,1),$N14),MIN(EOMONTH(DATE(Données!$P$3,$AO$5,1),0),$P14)-MAX(DATE(Données!$P$3,$AO$5,1),$N14)+1,"")) | BA14: =SUM(AU14:AV14) -> 0 | BB14: =SUM(AO14:AT14,AW14:AZ14) -> 0 | BC14: =IF(ISERROR(IF(AN14="","",IF(AN14="31/12/2018","S",IF(BB14>BA14,"HS","S")))),,IF(AN14="","",IF(AN14="31/12/2018","S",IF(BB14>BA14,"HS","S")))) -> S
A15: =IF(AND(M15<>"",P15>=TODAY(),N15<=TODAY()),M15,H15) -> 108 | B15: Adh-027 | D15: Marc | E15: =B15 -> Adh-027 | F15: 123 | G15: 0 | H15: 108 | I15: =$H15 -> 108 | J15: =IF(ISERROR(IF(B15="","",IF(F15="","",IF($H15=0,"","Date à saisir")))),,IF(B15="","",IF(F15="","",IF($H15=0,"","Date à saisir")))) -> Date à saisir | L15: =IF(M15<>"",M15,I15) -> 108 | N15: =IF(OR(M15="",M15=0),"","Date à saisir") | O15: =IF(ISERROR(MONTH(N15)),,MONTH(N15)) -> 0 | P15: =IF(OR(M15="",M15=0),"","Date à saisir") | Q15: =IF(ISERROR(IF($P15="","",$P15-$N15)),,IF($P15="","",$P15-$N15)) | R15: =IF(ISERROR(IF($B15="","",IF(OR($J15,$P15)="Date à saisir","",IF(OR($H15="PP7",$H15="PP8"),Données!$F$4,IF($AN15=Données!$P$2,Données!$F$3,IF($Q15="","",IF(AND($Q15>=1,$BC15="S"),VLOOKUP($Q15,Données!$H:$J,2,FALSE),IF($BC15="HS",VLOOKUP($Q15,Données!$H:$J,3,FALSE))))))))),,IF($B15="","",IF(OR($J15,$P15)="Date à saisir","",IF(OR($H15="PP7",$H15="PP8"),Données!$F$4,IF($AN15=Données!$P$2,Données!$F$3,IF($Q15="","",IF(AND($Q15>=1,$BC15="S"),VLOOKUP($Q15,Données!$H:$J,2,FALSE),IF($BC15="HS",VLOOKUP($Q15,Données!$H:$J,3,FALSE))))))))) -> 0 | S15: =R15 -> 0 | U15: =IF(B15="","",IF(OR(R15=330,R15=660),"S","")) | V15: =IF(B15="","",IF(AND(M15<>"",N15<>"Date à saisir",P15<>"Date à saisir"),"O","")) | AJ15: =IF(SUMPRODUCT(($M$8:$M21=M15)*(N15<$P$8:$P21)*(N15>$N$8:$N21))>0,"pb début","")&" . "&IF(SUMPRODUCT(($M$8:$M21=M15)*(P15<$P$8:$P21)*(P15>$N$8:$N21))>0,"pb fin","") -> . | AN15: =IF(B15="","",IF($M15<>"",$P15,Données!$P$2)) -> 44196 | AO15: =IF($N15="","",IF(MIN(EOMONTH(DATE(Données!$P$3,$AO$5,1),0),$P15)>=MAX(DATE(Données!$P$3,$AO$5,1),$N15),MIN(EOMONTH(DATE(Données!$P$3,$AO$5,1),0),$P15)-MAX(DATE(Données!$P$3,$AO$5,1),$N15)+1,"")) | AP15: =IF($N15="","",IF(MIN(EOMONTH(DATE(Données!$P$3,$AO$5,1),0),$P15)>=MAX(DATE(Données!$P$3,$AO$5,1),$N15),MIN(EOMONTH(DATE(Données!$P$3,$AO$5,1),0),$P15)-MAX(DATE(Données!$P$3,$AO$5,1),$N15)+1,"")) | AQ15: =IF($N15="","",IF(MIN(EOMONTH(DATE(Données!$P$3,$AO$5,1),0),$P15)>=MAX(DATE(Données!$P$3,$AO$5,1),$N15),MIN(EOMONTH(DATE(Données!$P$3,$AO$5,1),0),$P15)-MAX(DATE(Données!$P$3,$AO$5,1),$N15)+1,"")) | AR15: =IF($N15="","",IF(MIN(EOMONTH(DATE(Données!$P$3,$AO$5,1),0),$P15)>=MAX(DATE(Données!$P$3,$AO$5,1),$N15),MIN(EOMONTH(DATE(Données!$P$3,$AO$5,1),0),$P15)-MAX(DATE(Données!$P$3,$AO$5,1),$N15)+1,"")) | AS15: =IF($N15="","",IF(MIN(EOMONTH(DATE(Données!$P$3,$AO$5,1),0),$P15)>=MAX(DATE(Données!$P$3,$AO$5,1),$N15),MIN(EOMONTH(DATE(Données!$P$3,$AO$5,1),0),$P15)-MAX(DATE(Données!$P$3,$AO$5,1),$N15)+1,"")) | AT15: =IF($N15="","",IF(MIN(EOMONTH(DATE(Données!$P$3,$AO$5,1),0),$P15)>=MAX(DATE(Données!$P$3,$AO$5,1),$N15),MIN(EOMONTH(DATE(Données!$P$3,$AO$5,1),0),$P15)-MAX(DATE(Données!$P$3,$AO$5,1),$N15)+1,"")) | AU15: =IF($N15="","",IF(MIN(EOMONTH(DATE(Données!$P$3,$AO$5,1),0),$P15)>=MAX(DATE(Données!$P$3,$AO$5,1),$N15),MIN(EOMONTH(DATE(Données!$P$3,$AO$5,1),0),$P15)-MAX(DATE(Données!$P$3,$AO$5,1),$N15)+1,"")) | AV15: =IF($N15="","",IF(MIN(EOMONTH(DATE(Données!$P$3,$AO$5,1),0),$P15)>=MAX(DATE(Données!$P$3,$AO$5,1),$N15),MIN(EOMONTH(DATE(Données!$P$3,$AO$5,1),0),$P15)-MAX(DATE(Données!$P$3,$AO$5,1),$N15)+1,"")) | ... AZ15: =IF($N15="","",IF(MIN(EOMONTH(DATE(Données!$P$3,$AO$5,1),0),$P15)>=MAX(DATE(Données!$P$3,$AO$5,1),$N15),MIN(EOMONTH(DATE(Données!$P$3,$AO$5,1),0),$P15)-MAX(DATE(Données!$P$3,$AO$5,1),$N15)+1,"")) | BA15: =SUM(AU15:AV15) -> 0 | BB15: =SUM(AO15:AT15,AW15:AZ15) -> 0 | BC15: =IF(ISERROR(IF(AN15="","",IF(AN15="31/12/2018","S",IF(BB15>BA15,"HS","S")))),,IF(AN15="","",IF(AN15="31/12/2018","S",IF(BB15>BA15,"HS","S")))) -> S
A16: =IF(AND(M16<>"",P16>=TODAY(),N16<=TODAY()),M16,H16) -> 94 | B16: Adh-028 | D16: Serge | E16: =B16 -> Adh-028 | F16: 110 | G16: 0 | H16: 94 | I16: =$H16 -> 94 | J16: =IF(ISERROR(IF(B16="","",IF(F16="","",IF($H16=0,"","Date à saisir")))),,IF(B16="","",IF(F16="","",IF($H16=0,"","Date à saisir")))) -> Date à saisir | L16: =IF(M16<>"",M16,I16) -> 94 | N16: =IF(OR(M16="",M16=0),"","Date à saisir") | O16: =IF(ISERROR(MONTH(N16)),,MONTH(N16)) -> 0 | P16: =IF(OR(M16="",M16=0),"","Date à saisir") | Q16: =IF(ISERROR(IF($P16="","",$P16-$N16)),,IF($P16="","",$P16-$N16)) | R16: =IF(ISERROR(IF($B16="","",IF(OR($J16,$P16)="Date à saisir","",IF(OR($H16="PP7",$H16="PP8"),Données!$F$4,IF($AN16=Données!$P$2,Données!$F$3,IF($Q16="","",IF(AND($Q16>=1,$BC16="S"),VLOOKUP($Q16,Données!$H:$J,2,FALSE),IF($BC16="HS",VLOOKUP($Q16,Données!$H:$J,3,FALSE))))))))),,IF($B16="","",IF(OR($J16,$P16)="Date à saisir","",IF(OR($H16="PP7",$H16="PP8"),Données!$F$4,IF($AN16=Données!$P$2,Données!$F$3,IF($Q16="","",IF(AND($Q16>=1,$BC16="S"),VLOOKUP($Q16,Données!$H:$J,2,FALSE),IF($BC16="HS",VLOOKUP($Q16,Données!$H:$J,3,FALSE))))))))) -> 0 | S16: =R16 -> 0 | U16: =IF(B16="","",IF(OR(R16=330,R16=660),"S","")) | V16: =IF(B16="","",IF(AND(M16<>"",N16<>"Date à saisir",P16<>"Date à saisir"),"O","")) | AJ16: =IF(SUMPRODUCT(($M$8:$M15=M16)*(N16<$P$8:$P15)*(N16>$N$8:$N15))>0,"pb début","")&" . "&IF(SUMPRODUCT(($M$8:$M15=M16)*(P16<$P$8:$P15)*(P16>$N$8:$N15))>0,"pb fin","") -> . | AN16: =IF(B16="","",IF($M16<>"",$P16,Données!$P$2)) -> 44196 | AO16: =IF($N16="","",IF(MIN(EOMONTH(DATE(Données!$P$3,$AO$5,1),0),$P16)>=MAX(DATE(Données!$P$3,$AO$5,1),$N16),MIN(EOMONTH(DATE(Données!$P$3,$AO$5,1),0),$P16)-MAX(DATE(Données!$P$3,$AO$5,1),$N16)+1,"")) | AP16: =IF($N16="","",IF(MIN(EOMONTH(DATE(Données!$P$3,$AO$5,1),0),$P16)>=MAX(DATE(Données!$P$3,$AO$5,1),$N16),MIN(EOMONTH(DATE(Données!$P$3,$AO$5,1),0),$P16)-MAX(DATE(Données!$P$3,$AO$5,1),$N16)+1,"")) | AQ16: =IF($N16="","",IF(MIN(EOMONTH(DATE(Données!$P$3,$AO$5,1),0),$P16)>=MAX(DATE(Données!$P$3,$AO$5,1),$N16),MIN(EOMONTH(DATE(Données!$P$3,$AO$5,1),0),$P16)-MAX(DATE(Données!$P$3,$AO$5,1),$N16)+1,"")) | AR16: =IF($N16="","",IF(MIN(EOMONTH(DATE(Données!$P$3,$AO$5,1),0),$P16)>=MAX(DATE(Données!$P$3,$AO$5,1),$N16),MIN(EOMONTH(DATE(Données!$P$3,$AO$5,1),0),$P16)-MAX(DATE(Données!$P$3,$AO$5,1),$N16)+1,"")) | AS16: =IF($N16="","",IF(MIN(EOMONTH(DATE(Données!$P$3,$AO$5,1),0),$P16)>=MAX(DATE(Données!$P$3,$AO$5,1),$N16),MIN(EOMONTH(DATE(Données!$P$3,$AO$5,1),0),$P16)-MAX(DATE(Données!$P$3,$AO$5,1),$N16)+1,"")) | AT16: =IF($N16="","",IF(MIN(EOMONTH(DATE(Données!$P$3,$AO$5,1),0),$P16)>=MAX(DATE(Données!$P$3,$AO$5,1),$N16),MIN(EOMONTH(DATE(Données!$P$3,$AO$5,1),0),$P16)-MAX(DATE(Données!$P$3,$AO$5,1),$N16)+1,"")) | AU16: =IF($N16="","",IF(MIN(EOMONTH(DATE(Données!$P$3,$AO$5,1),0),$P16)>=MAX(DATE(Données!$P$3,$AO$5,1),$N16),MIN(EOMONTH(DATE(Données!$P$3,$AO$5,1),0),$P16)-MAX(DATE(Données!$P$3,$AO$5,1),$N16)+1,"")) | AV16: =IF($N16="","",IF(MIN(EOMONTH(DATE(Données!$P$3,$AO$5,1),0),$P16)>=MAX(DATE(Données!$P$3,$AO$5,1),$N16),MIN(EOMONTH(DATE(Données!$P$3,$AO$5,1),0),$P16)-MAX(DATE(Données!$P$3,$AO$5,1),$N16)+1,"")) | ... AZ16: =IF($N16="","",IF(MIN(EOMONTH(DATE(Données!$P$3,$AO$5,1),0),$P16)>=MAX(DATE(Données!$P$3,$AO$5,1),$N16),MIN(EOMONTH(DATE(Données!$P$3,$AO$5,1),0),$P16)-MAX(DATE(Données!$P$3,$AO$5,1),$N16)+1,"")) | BA16: =SUM(AU16:AV16) -> 0 | BB16: =SUM(AO16:AT16,AW16:AZ16) -> 0 | BC16: =IF(ISERROR(IF(AN16="","",IF(AN16="31/12/2018","S",IF(BB16>BA16,"HS","S")))),,IF(AN16="","",IF(AN16="31/12/2018","S",IF(BB16>BA16,"HS","S")))) -> S
A17: =IF(AND(M17<>"",P17>=TODAY(),N17<=TODAY()),M17,H17) -> B3 | B17: Adh-030 | D17: Bernard | E17: =B17 -> Adh-030 | F17: P03 | G17: 0 | H17: B3 | I17: =$H17 -> B3 | J17: =IF(ISERROR(IF(B17="","",IF(F17="","",IF($H17=0,"","Date à saisir")))),,IF(B17="","",IF(F17="","",IF($H17=0,"","Date à saisir")))) -> Date à saisir | L17: =IF(M17<>"",M17,I17) -> B3 | N17: =IF(OR(M17="",M17=0),"","Date à saisir") | O17: =IF(ISERROR(MONTH(N17)),,MONTH(N17)) -> 0 | P17: =IF(OR(M17="",M17=0),"","Date à saisir") | Q17: =IF(ISERROR(IF($P17="","",$P17-$N17)),,IF($P17="","",$P17-$N17)) | R17: =IF(ISERROR(IF($B17="","",IF(OR($J17,$P17)="Date à saisir","",IF(OR($H17="PP7",$H17="PP8"),Données!$F$4,IF($AN17=Données!$P$2,Données!$F$3,IF($Q17="","",IF(AND($Q17>=1,$BC17="S"),VLOOKUP($Q17,Données!$H:$J,2,FALSE),IF($BC17="HS",VLOOKUP($Q17,Données!$H:$J,3,FALSE))))))))),,IF($B17="","",IF(OR($J17,$P17)="Date à saisir","",IF(OR($H17="PP7",$H17="PP8"),Données!$F$4,IF($AN17=Données!$P$2,Données!$F$3,IF($Q17="","",IF(AND($Q17>=1,$BC17="S"),VLOOKUP($Q17,Données!$H:$J,2,FALSE),IF($BC17="HS",VLOOKUP($Q17,Données!$H:$J,3,FALSE))))))))) -> 0 | S17: =R17 -> 0 | U17: =IF(B17="","",IF(OR(R17=330,R17=660),"S","")) | V17: =IF(B17="","",IF(AND(M17<>"",N17<>"Date à saisir",P17<>"Date à saisir"),"O","")) | AJ17: =IF(SUMPRODUCT(($M$8:$M16=M17)*(N17<$P$8:$P16)*(N17>$N$8:$N16))>0,"pb début","")&" . "&IF(SUMPRODUCT(($M$8:$M16=M17)*(P17<$P$8:$P16)*(P17>$N$8:$N16))>0,"pb fin","") -> . | AN17: =IF(B17="","",IF($M17<>"",$P17,Données!$P$2)) -> 44196 | AO17: =IF($N17="","",IF(MIN(EOMONTH(DATE(Données!$P$3,$AO$5,1),0),$P17)>=MAX(DATE(Données!$P$3,$AO$5,1),$N17),MIN(EOMONTH(DATE(Données!$P$3,$AO$5,1),0),$P17)-MAX(DATE(Données!$P$3,$AO$5,1),$N17)+1,"")) | AP17: =IF($N17="","",IF(MIN(EOMONTH(DATE(Données!$P$3,$AO$5,1),0),$P17)>=MAX(DATE(Données!$P$3,$AO$5,1),$N17),MIN(EOMONTH(DATE(Données!$P$3,$AO$5,1),0),$P17)-MAX(DATE(Données!$P$3,$AO$5,1),$N17)+1,"")) | AQ17: =IF($N17="","",IF(MIN(EOMONTH(DATE(Données!$P$3,$AO$5,1),0),$P17)>=MAX(DATE(Données!$P$3,$AO$5,1),$N17),MIN(EOMONTH(DATE(Données!$P$3,$AO$5,1),0),$P17)-MAX(DATE(Données!$P$3,$AO$5,1),$N17)+1,"")) | AR17: =IF($N17="","",IF(MIN(EOMONTH(DATE(Données!$P$3,$AO$5,1),0),$P17)>=MAX(DATE(Données!$P$3,$AO$5,1),$N17),MIN(EOMONTH(DATE(Données!$P$3,$AO$5,1),0),$P17)-MAX(DATE(Données!$P$3,$AO$5,1),$N17)+1,"")) | AS17: =IF($N17="","",IF(MIN(EOMONTH(DATE(Données!$P$3,$AO$5,1),0),$P17)>=MAX(DATE(Données!$P$3,$AO$5,1),$N17),MIN(EOMONTH(DATE(Données!$P$3,$AO$5,1),0),$P17)-MAX(DATE(Données!$P$3,$AO$5,1),$N17)+1,"")) | AT17: =IF($N17="","",IF(MIN(EOMONTH(DATE(Données!$P$3,$AO$5,1),0),$P17)>=MAX(DATE(Données!$P$3,$AO$5,1),$N17),MIN(EOMONTH(DATE(Données!$P$3,$AO$5,1),0),$P17)-MAX(DATE(Données!$P$3,$AO$5,1),$N17)+1,"")) | AU17: =IF($N17="","",IF(MIN(EOMONTH(DATE(Données!$P$3,$AO$5,1),0),$P17)>=MAX(DATE(Données!$P$3,$AO$5,1),$N17),MIN(EOMONTH(DATE(Données!$P$3,$AO$5,1),0),$P17)-MAX(DATE(Données!$P$3,$AO$5,1),$N17)+1,"")) | AV17: =IF($N17="","",IF(MIN(EOMONTH(DATE(Données!$P$3,$AO$5,1),0),$P17)>=MAX(DATE(Données!$P$3,$AO$5,1),$N17),MIN(EOMONTH(DATE(Données!$P$3,$AO$5,1),0),$P17)-MAX(DATE(Données!$P$3,$AO$5,1),$N17)+1,"")) | ... AZ17: =IF($N17="","",IF(MIN(EOMONTH(DATE(Données!$P$3,$AO$5,1),0),$P17)>=MAX(DATE(Données!$P$3,$AO$5,1),$N17),MIN(EOMONTH(DATE(Données!$P$3,$AO$5,1),0),$P17)-MAX(DATE(Données!$P$3,$AO$5,1),$N17)+1,"")) | BA17: =SUM(AU17:AV17) -> 0 | BB17: =SUM(AO17:AT17,AW17:AZ17) -> 0 | BC17: =IF(ISERROR(IF(AN17="","",IF(AN17="31/12/2018","S",IF(BB17>BA17,"HS","S")))),,IF(AN17="","",IF(AN17="31/12/2018","S",IF(BB17>BA17,"HS","S")))) -> S
A18: =IF(AND(M18<>"",P18>=TODAY(),N18<=TODAY()),M18,H18) -> M12 | B18: Adh-037 | D18: Georges | E18: =B18 -> Adh-037 | F18: PMR252 | G18: 0 | H18: M12 | I18: =$H18 -> M12 | J18: =IF(ISERROR(IF(B18="","",IF(F18="","",IF($H18=0,"","Date à saisir")))),,IF(B18="","",IF(F18="","",IF($H18=0,"","Date à saisir")))) -> Date à saisir | L18: =IF(M18<>"",M18,I18) -> M12 | N18: =IF(OR(M18="",M18=0),"","Date à saisir") | O18: =IF(ISERROR(MONTH(N18)),,MONTH(N18)) -> 0 | P18: =IF(OR(M18="",M18=0),"","Date à saisir") | Q18: =IF(ISERROR(IF($P18="","",$P18-$N18)),,IF($P18="","",$P18-$N18)) | R18: =IF(ISERROR(IF($B18="","",IF(OR($J18,$P18)="Date à saisir","",IF(OR($H18="PP7",$H18="PP8"),Données!$F$4,IF($AN18=Données!$P$2,Données!$F$3,IF($Q18="","",IF(AND($Q18>=1,$BC18="S"),VLOOKUP($Q18,Données!$H:$J,2,FALSE),IF($BC18="HS",VLOOKUP($Q18,Données!$H:$J,3,FALSE))))))))),,IF($B18="","",IF(OR($J18,$P18)="Date à saisir","",IF(OR($H18="PP7",$H18="PP8"),Données!$F$4,IF($AN18=Données!$P$2,Données!$F$3,IF($Q18="","",IF(AND($Q18>=1,$BC18="S"),VLOOKUP($Q18,Données!$H:$J,2,FALSE),IF($BC18="HS",VLOOKUP($Q18,Données!$H:$J,3,FALSE))))))))) -> 0 | S18: =R18 -> 0 | U18: =IF(B18="","",IF(OR(R18=330,R18=660),"S","")) | V18: =IF(B18="","",IF(AND(M18<>"",N18<>"Date à saisir",P18<>"Date à saisir"),"O","")) | AJ18: =IF(SUMPRODUCT(($M$8:$M17=M18)*(N18<$P$8:$P17)*(N18>$N$8:$N17))>0,"pb début","")&" . "&IF(SUMPRODUCT(($M$8:$M17=M18)*(P18<$P$8:$P17)*(P18>$N$8:$N17))>0,"pb fin","") -> . | AN18: =IF(B18="","",IF($M18<>"",$P18,Données!$P$2)) -> 44196 | AO18: =IF($N18="","",IF(MIN(EOMONTH(DATE(Données!$P$3,$AO$5,1),0),$P18)>=MAX(DATE(Données!$P$3,$AO$5,1),$N18),MIN(EOMONTH(DATE(Données!$P$3,$AO$5,1),0),$P18)-MAX(DATE(Données!$P$3,$AO$5,1),$N18)+1,"")) | AP18: =IF($N18="","",IF(MIN(EOMONTH(DATE(Données!$P$3,$AO$5,1),0),$P18)>=MAX(DATE(Données!$P$3,$AO$5,1),$N18),MIN(EOMONTH(DATE(Données!$P$3,$AO$5,1),0),$P18)-MAX(DATE(Données!$P$3,$AO$5,1),$N18)+1,"")) | AQ18: =IF($N18="","",IF(MIN(EOMONTH(DATE(Données!$P$3,$AO$5,1),0),$P18)>=MAX(DATE(Données!$P$3,$AO$5,1),$N18),MIN(EOMONTH(DATE(Données!$P$3,$AO$5,1),0),$P18)-MAX(DATE(Données!$P$3,$AO$5,1),$N18)+1,"")) | AR18: =IF($N18="","",IF(MIN(EOMONTH(DATE(Données!$P$3,$AO$5,1),0),$P18)>=MAX(DATE(Données!$P$3,$AO$5,1),$N18),MIN(EOMONTH(DATE(Données!$P$3,$AO$5,1),0),$P18)-MAX(DATE(Données!$P$3,$AO$5,1),$N18)+1,"")) | AS18: =IF($N18="","",IF(MIN(EOMONTH(DATE(Données!$P$3,$AO$5,1),0),$P18)>=MAX(DATE(Données!$P$3,$AO$5,1),$N18),MIN(EOMONTH(DATE(Données!$P$3,$AO$5,1),0),$P18)-MAX(DATE(Données!$P$3,$AO$5,1),$N18)+1,"")) | AT18: =IF($N18="","",IF(MIN(EOMONTH(DATE(Données!$P$3,$AO$5,1),0),$P18)>=MAX(DATE(Données!$P$3,$AO$5,1),$N18),MIN(EOMONTH(DATE(Données!$P$3,$AO$5,1),0),$P18)-MAX(DATE(Données!$P$3,$AO$5,1),$N18)+1,"")) | AU18: =IF($N18="","",IF(MIN(EOMONTH(DATE(Données!$P$3,$AO$5,1),0),$P18)>=MAX(DATE(Données!$P$3,$AO$5,1),$N18),MIN(EOMONTH(DATE(Données!$P$3,$AO$5,1),0),$P18)-MAX(DATE(Données!$P$3,$AO$5,1),$N18)+1,"")) | AV18: =IF($N18="","",IF(MIN(EOMONTH(DATE(Données!$P$3,$AO$5,1),0),$P18)>=MAX(DATE(Données!$P$3,$AO$5,1),$N18),MIN(EOMONTH(DATE(Données!$P$3,$AO$5,1),0),$P18)-MAX(DATE(Données!$P$3,$AO$5,1),$N18)+1,"")) | ... AZ18: =IF($N18="","",IF(MIN(EOMONTH(DATE(Données!$P$3,$AO$5,1),0),$P18)>=MAX(DATE(Données!$P$3,$AO$5,1),$N18),MIN(EOMONTH(DATE(Données!$P$3,$AO$5,1),0),$P18)-MAX(DATE(Données!$P$3,$AO$5,1),$N18)+1,"")) | BA18: =SUM(AU18:AV18) -> 0 | BB18: =SUM(AO18:AT18,AW18:AZ18) -> 0 | BC18: =IF(ISERROR(IF(AN18="","",IF(AN18="31/12/2018","S",IF(BB18>BA18,"HS","S")))),,IF(AN18="","",IF(AN18="31/12/2018","S",IF(BB18>BA18,"HS","S")))) -> S
A19: =IF(AND(M19<>"",P19>=TODAY(),N19<=TODAY()),M19,H19) -> 12 | B19: Adh-039 | D19: William | E19: =B19 -> Adh-039 | F19: 97 | G19: 0 | H19: 12 | I19: =$H19 -> 12 | J19: =IF(ISERROR(IF(B19="","",IF(F19="","",IF($H19=0,"","Date à saisir")))),,IF(B19="","",IF(F19="","",IF($H19=0,"","Date à saisir")))) -> Date à saisir | L19: =IF(M19<>"",M19,I19) -> 12 | N19: =IF(OR(M19="",M19=0),"","Date à saisir") | O19: =IF(ISERROR(MONTH(N19)),,MONTH(N19)) -> 0 | P19: =IF(OR(M19="",M19=0),"","Date à saisir") | Q19: =IF(ISERROR(IF($P19="","",$P19-$N19)),,IF($P19="","",$P19-$N19)) | R19: =IF(ISERROR(IF($B19="","",IF(OR($J19,$P19)="Date à saisir","",IF(OR($H19="PP7",$H19="PP8"),Données!$F$4,IF($AN19=Données!$P$2,Données!$F$3,IF($Q19="","",IF(AND($Q19>=1,$BC19="S"),VLOOKUP($Q19,Données!$H:$J,2,FALSE),IF($BC19="HS",VLOOKUP($Q19,Données!$H:$J,3,FALSE))))))))),,IF($B19="","",IF(OR($J19,$P19)="Date à saisir","",IF(OR($H19="PP7",$H19="PP8"),Données!$F$4,IF($AN19=Données!$P$2,Données!$F$3,IF($Q19="","",IF(AND($Q19>=1,$BC19="S"),VLOOKUP($Q19,Données!$H:$J,2,FALSE),IF($BC19="HS",VLOOKUP($Q19,Données!$H:$J,3,FALSE))))))))) -> 0 | S19: =R19 -> 0 | U19: =IF(B19="","",IF(OR(R19=330,R19=660),"S","")) | V19: =IF(B19="","",IF(AND(M19<>"",N19<>"Date à saisir",P19<>"Date à saisir"),"O","")) | AJ19: =IF(SUMPRODUCT(($M$8:$M18=M19)*(N19<$P$8:$P18)*(N19>$N$8:$N18))>0,"pb début","")&" . "&IF(SUMPRODUCT(($M$8:$M18=M19)*(P19<$P$8:$P18)*(P19>$N$8:$N18))>0,"pb fin","") -> . | AN19: =IF(B19="","",IF($M19<>"",$P19,Données!$P$2)) -> 44196 | AO19: =IF($N19="","",IF(MIN(EOMONTH(DATE(Données!$P$3,$AO$5,1),0),$P19)>=MAX(DATE(Données!$P$3,$AO$5,1),$N19),MIN(EOMONTH(DATE(Données!$P$3,$AO$5,1),0),$P19)-MAX(DATE(Données!$P$3,$AO$5,1),$N19)+1,"")) | AP19: =IF($N19="","",IF(MIN(EOMONTH(DATE(Données!$P$3,$AO$5,1),0),$P19)>=MAX(DATE(Données!$P$3,$AO$5,1),$N19),MIN(EOMONTH(DATE(Données!$P$3,$AO$5,1),0),$P19)-MAX(DATE(Données!$P$3,$AO$5,1),$N19)+1,"")) | AQ19: =IF($N19="","",IF(MIN(EOMONTH(DATE(Données!$P$3,$AO$5,1),0),$P19)>=MAX(DATE(Données!$P$3,$AO$5,1),$N19),MIN(EOMONTH(DATE(Données!$P$3,$AO$5,1),0),$P19)-MAX(DATE(Données!$P$3,$AO$5,1),$N19)+1,"")) | AR19: =IF($N19="","",IF(MIN(EOMONTH(DATE(Données!$P$3,$AO$5,1),0),$P19)>=MAX(DATE(Données!$P$3,$AO$5,1),$N19),MIN(EOMONTH(DATE(Données!$P$3,$AO$5,1),0),$P19)-MAX(DATE(Données!$P$3,$AO$5,1),$N19)+1,"")) | AS19: =IF($N19="","",IF(MIN(EOMONTH(DATE(Données!$P$3,$AO$5,1),0),$P19)>=MAX(DATE(Données!$P$3,$AO$5,1),$N19),MIN(EOMONTH(DATE(Données!$P$3,$AO$5,1),0),$P19)-MAX(DATE(Données!$P$3,$AO$5,1),$N19)+1,"")) | AT19: =IF($N19="","",IF(MIN(EOMONTH(DATE(Données!$P$3,$AO$5,1),0),$P19)>=MAX(DATE(Données!$P$3,$AO$5,1),$N19),MIN(EOMONTH(DATE(Données!$P$3,$AO$5,1),0),$P19)-MAX(DATE(Données!$P$3,$AO$5,1),$N19)+1,"")) | AU19: =IF($N19="","",IF(MIN(EOMONTH(DATE(Données!$P$3,$AO$5,1),0),$P19)>=MAX(DATE(Données!$P$3,$AO$5,1),$N19),MIN(EOMONTH(DATE(Données!$P$3,$AO$5,1),0),$P19)-MAX(DATE(Données!$P$3,$AO$5,1),$N19)+1,"")) | AV19: =IF($N19="","",IF(MIN(EOMONTH(DATE(Données!$P$3,$AO$5,1),0),$P19)>=MAX(DATE(Données!$P$3,$AO$5,1),$N19),MIN(EOMONTH(DATE(Données!$P$3,$AO$5,1),0),$P19)-MAX(DATE(Données!$P$3,$AO$5,1),$N19)+1,"")) | ... AZ19: =IF($N19="","",IF(MIN(EOMONTH(DATE(Données!$P$3,$AO$5,1),0),$P19)>=MAX(DATE(Données!$P$3,$AO$5,1),$N19),MIN(EOMONTH(DATE(Données!$P$3,$AO$5,1),0),$P19)-MAX(DATE(Données!$P$3,$AO$5,1),$N19)+1,"")) | BA19: =SUM(AU19:AV19) -> 0 | BB19: =SUM(AO19:AT19,AW19:AZ19) -> 0 | BC19: =IF(ISERROR(IF(AN19="","",IF(AN19="31/12/2018","S",IF(BB19>BA19,"HS","S")))),,IF(AN19="","",IF(AN19="31/12/2018","S",IF(BB19>BA19,"HS","S")))) -> S
A20: =IF(AND(M20<>"",P20>=TODAY(),N20<=TODAY()),M20,H20) -> 93 | B20: Adh-040 | D20: André | E20: =B20 -> Adh-040 | F20: 4 | G20: 0 | H20: 93 | I20: =$H20 -> 93 | J20: =IF(ISERROR(IF(B20="","",IF(F20="","",IF($H20=0,"","Date à saisir")))),,IF(B20="","",IF(F20="","",IF($H20=0,"","Date à saisir")))) -> Date à saisir | L20: =IF(M20<>"",M20,I20) -> 93 | N20: =IF(OR(M20="",M20=0),"","Date à saisir") | O20: =IF(ISERROR(MONTH(N20)),,MONTH(N20)) -> 0 | P20: =IF(OR(M20="",M20=0),"","Date à saisir") | Q20: =IF(ISERROR(IF($P20="","",$P20-$N20)),,IF($P20="","",$P20-$N20)) | R20: =IF(ISERROR(IF($B20="","",IF(OR($J20,$P20)="Date à saisir","",IF(OR($H20="PP7",$H20="PP8"),Données!$F$4,IF($AN20=Données!$P$2,Données!$F$3,IF($Q20="","",IF(AND($Q20>=1,$BC20="S"),VLOOKUP($Q20,Données!$H:$J,2,FALSE),IF($BC20="HS",VLOOKUP($Q20,Données!$H:$J,3,FALSE))))))))),,IF($B20="","",IF(OR($J20,$P20)="Date à saisir","",IF(OR($H20="PP7",$H20="PP8"),Données!$F$4,IF($AN20=Données!$P$2,Données!$F$3,IF($Q20="","",IF(AND($Q20>=1,$BC20="S"),VLOOKUP($Q20,Données!$H:$J,2,FALSE),IF($BC20="HS",VLOOKUP($Q20,Données!$H:$J,3,FALSE))))))))) -> 0 | S20: =R20 -> 0 | U20: =IF(B20="","",IF(OR(R20=330,R20=660),"S","")) | V20: =IF(B20="","",IF(AND(M20<>"",N20<>"Date à saisir",P20<>"Date à saisir"),"O","")) | AJ20: =IF(SUMPRODUCT(($M$8:$M19=M20)*(N20<$P$8:$P19)*(N20>$N$8:$N19))>0,"pb début","")&" . "&IF(SUMPRODUCT(($M$8:$M19=M20)*(P20<$P$8:$P19)*(P20>$N$8:$N19))>0,"pb fin","") -> . | AN20: =IF(B20="","",IF($M20<>"",$P20,Données!$P$2)) -> 44196 | AO20: =IF($N20="","",IF(MIN(EOMONTH(DATE(Données!$P$3,$AO$5,1),0),$P20)>=MAX(DATE(Données!$P$3,$AO$5,1),$N20),MIN(EOMONTH(DATE(Données!$P$3,$AO$5,1),0),$P20)-MAX(DATE(Données!$P$3,$AO$5,1),$N20)+1,"")) | AP20: =IF($N20="","",IF(MIN(EOMONTH(DATE(Données!$P$3,$AO$5,1),0),$P20)>=MAX(DATE(Données!$P$3,$AO$5,1),$N20),MIN(EOMONTH(DATE(Données!$P$3,$AO$5,1),0),$P20)-MAX(DATE(Données!$P$3,$AO$5,1),$N20)+1,"")) | AQ20: =IF($N20="","",IF(MIN(EOMONTH(DATE(Données!$P$3,$AO$5,1),0),$P20)>=MAX(DATE(Données!$P$3,$AO$5,1),$N20),MIN(EOMONTH(DATE(Données!$P$3,$AO$5,1),0),$P20)-MAX(DATE(Données!$P$3,$AO$5,1),$N20)+1,"")) | AR20: =IF($N20="","",IF(MIN(EOMONTH(DATE(Données!$P$3,$AO$5,1),0),$P20)>=MAX(DATE(Données!$P$3,$AO$5,1),$N20),MIN(EOMONTH(DATE(Données!$P$3,$AO$5,1),0),$P20)-MAX(DATE(Données!$P$3,$AO$5,1),$N20)+1,"")) | AS20: =IF($N20="","",IF(MIN(EOMONTH(DATE(Données!$P$3,$AO$5,1),0),$P20)>=MAX(DATE(Données!$P$3,$AO$5,1),$N20),MIN(EOMONTH(DATE(Données!$P$3,$AO$5,1),0),$P20)-MAX(DATE(Données!$P$3,$AO$5,1),$N20)+1,"")) | AT20: =IF($N20="","",IF(MIN(EOMONTH(DATE(Données!$P$3,$AO$5,1),0),$P20)>=MAX(DATE(Données!$P$3,$AO$5,1),$N20),MIN(EOMONTH(DATE(Données!$P$3,$AO$5,1),0),$P20)-MAX(DATE(Données!$P$3,$AO$5,1),$N20)+1,"")) | AU20: =IF($N20="","",IF(MIN(EOMONTH(DATE(Données!$P$3,$AO$5,1),0),$P20)>=MAX(DATE(Données!$P$3,$AO$5,1),$N20),MIN(EOMONTH(DATE(Données!$P$3,$AO$5,1),0),$P20)-MAX(DATE(Données!$P$3,$AO$5,1),$N20)+1,"")) | AV20: =IF($N20="","",IF(MIN(EOMONTH(DATE(Données!$P$3,$AO$5,1),0),$P20)>=MAX(DATE(Données!$P$3,$AO$5,1),$N20),MIN(EOMONTH(DATE(Données!$P$3,$AO$5,1),0),$P20)-MAX(DATE(Données!$P$3,$AO$5,1),$N20)+1,"")) | ... AZ20: =IF($N20="","",IF(MIN(EOMONTH(DATE(Données!$P$3,$AO$5,1),0),$P20)>=MAX(DATE(Données!$P$3,$AO$5,1),$N20),MIN(EOMONTH(DATE(Données!$P$3,$AO$5,1),0),$P20)-MAX(DATE(Données!$P$3,$AO$5,1),$N20)+1,"")) | BA20: =SUM(AU20:AV20) -> 0 | BB20: =SUM(AO20:AT20,AW20:AZ20) -> 0 | BC20: =IF(ISERROR(IF(AN20="","",IF(AN20="31/12/2018","S",IF(BB20>BA20,"HS","S")))),,IF(AN20="","",IF(AN20="31/12/2018","S",IF(BB20>BA20,"HS","S")))) -> S
A21: =IF(AND(M21<>"",P21>=TODAY(),N21<=TODAY()),M21,H21) -> 30 | B21: Adh-044 | D21: Marc | E21: =B21 -> Adh-044 | F21: 79 | G21: 0 | H21: 30 | I21: =$H21 -> 30 | J21: =IF(ISERROR(IF(B21="","",IF(F21="","",IF($H21=0,"","Date à saisir")))),,IF(B21="","",IF(F21="","",IF($H21=0,"","Date à saisir")))) -> Date à saisir | L21: =IF(M21<>"",M21,I21) -> 30 | N21: =IF(OR(M21="",M21=0),"","Date à saisir") | O21: =IF(ISERROR(MONTH(N21)),,MONTH(N21)) -> 0 | P21: =IF(OR(M21="",M21=0),"","Date à saisir") | Q21: =IF(ISERROR(IF($P21="","",$P21-$N21)),,IF($P21="","",$P21-$N21)) | R21: =IF(ISERROR(IF($B21="","",IF(OR($J21,$P21)="Date à saisir","",IF(OR($H21="PP7",$H21="PP8"),Données!$F$4,IF($AN21=Données!$P$2,Données!$F$3,IF($Q21="","",IF(AND($Q21>=1,$BC21="S"),VLOOKUP($Q21,Données!$H:$J,2,FALSE),IF($BC21="HS",VLOOKUP($Q21,Données!$H:$J,3,FALSE))))))))),,IF($B21="","",IF(OR($J21,$P21)="Date à saisir","",IF(OR($H21="PP7",$H21="PP8"),Données!$F$4,IF($AN21=Données!$P$2,Données!$F$3,IF($Q21="","",IF(AND($Q21>=1,$BC21="S"),VLOOKUP($Q21,Données!$H:$J,2,FALSE),IF($BC21="HS",VLOOKUP($Q21,Données!$H:$J,3,FALSE))))))))) -> 0 | S21: =R21 -> 0 | U21: =IF(B21="","",IF(OR(R21=330,R21=660),"S","")) | V21: =IF(B21="","",IF(AND(M21<>"",N21<>"Date à saisir",P21<>"Date à saisir"),"O","")) | AJ21: =IF(SUMPRODUCT(($M$8:$M20=M21)*(N21<$P$8:$P20)*(N21>$N$8:$N20))>0,"pb début","")&" . "&IF(SUMPRODUCT(($M$8:$M20=M21)*(P21<$P$8:$P20)*(P21>$N$8:$N20))>0,"pb fin","") -> . | AN21: =IF(B21="","",IF($M21<>"",$P21,Données!$P$2)) -> 44196 | AO21: =IF($N21="","",IF(MIN(EOMONTH(DATE(Données!$P$3,$AO$5,1),0),$P21)>=MAX(DATE(Données!$P$3,$AO$5,1),$N21),MIN(EOMONTH(DATE(Données!$P$3,$AO$5,1),0),$P21)-MAX(DATE(Données!$P$3,$AO$5,1),$N21)+1,"")) | AP21: =IF($N21="","",IF(MIN(EOMONTH(DATE(Données!$P$3,$AO$5,1),0),$P21)>=MAX(DATE(Données!$P$3,$AO$5,1),$N21),MIN(EOMONTH(DATE(Données!$P$3,$AO$5,1),0),$P21)-MAX(DATE(Données!$P$3,$AO$5,1),$N21)+1,"")) | AQ21: =IF($N21="","",IF(MIN(EOMONTH(DATE(Données!$P$3,$AO$5,1),0),$P21)>=MAX(DATE(Données!$P$3,$AO$5,1),$N21),MIN(EOMONTH(DATE(Données!$P$3,$AO$5,1),0),$P21)-MAX(DATE(Données!$P$3,$AO$5,1),$N21)+1,"")) | AR21: =IF($N21="","",IF(MIN(EOMONTH(DATE(Données!$P$3,$AO$5,1),0),$P21)>=MAX(DATE(Données!$P$3,$AO$5,1),$N21),MIN(EOMONTH(DATE(Données!$P$3,$AO$5,1),0),$P21)-MAX(DATE(Données!$P$3,$AO$5,1),$N21)+1,"")) | AS21: =IF($N21="","",IF(MIN(EOMONTH(DATE(Données!$P$3,$AO$5,1),0),$P21)>=MAX(DATE(Données!$P$3,$AO$5,1),$N21),MIN(EOMONTH(DATE(Données!$P$3,$AO$5,1),0),$P21)-MAX(DATE(Données!$P$3,$AO$5,1),$N21)+1,"")) | AT21: =IF($N21="","",IF(MIN(EOMONTH(DATE(Données!$P$3,$AO$5,1),0),$P21)>=MAX(DATE(Données!$P$3,$AO$5,1),$N21),MIN(EOMONTH(DATE(Données!$P$3,$AO$5,1),0),$P21)-MAX(DATE(Données!$P$3,$AO$5,1),$N21)+1,"")) | AU21: =IF($N21="","",IF(MIN(EOMONTH(DATE(Données!$P$3,$AO$5,1),0),$P21)>=MAX(DATE(Données!$P$3,$AO$5,1),$N21),MIN(EOMONTH(DATE(Données!$P$3,$AO$5,1),0),$P21)-MAX(DATE(Données!$P$3,$AO$5,1),$N21)+1,"")) | AV21: =IF($N21="","",IF(MIN(EOMONTH(DATE(Données!$P$3,$AO$5,1),0),$P21)>=MAX(DATE(Données!$P$3,$AO$5,1),$N21),MIN(EOMONTH(DATE(Données!$P$3,$AO$5,1),0),$P21)-MAX(DATE(Données!$P$3,$AO$5,1),$N21)+1,"")) | ... AZ21: =IF($N21="","",IF(MIN(EOMONTH(DATE(Données!$P$3,$AO$5,1),0),$P21)>=MAX(DATE(Données!$P$3,$AO$5,1),$N21),MIN(EOMONTH(DATE(Données!$P$3,$AO$5,1),0),$P21)-MAX(DATE(Données!$P$3,$AO$5,1),$N21)+1,"")) | BA21: =SUM(AU21:AV21) -> 0 | BB21: =SUM(AO21:AT21,AW21:AZ21) -> 0 | BC21: =IF(ISERROR(IF(AN21="","",IF(AN21="31/12/2018","S",IF(BB21>BA21,"HS","S")))),,IF(AN21="","",IF(AN21="31/12/2018","S",IF(BB21>BA21,"HS","S")))) -> S

Sheet Données
F1: Tarif | H1: Nb jours | I1: Saison | J1: Hors saison
F2: 0 | H2: 1 | I2: 20 | J2: 15 | P2: 44196
F3: 330 | H3: 2 | I3: 30 | J3: 25 | P3: 2020
F4: 660 | H4: 3 | I4: 40 | J4: 35
H5: 4 | I5: 50 | J5: 45
H6: 5 | I6: 55 | J6: 50
H7: 6 | I7: 60 | J7: 55
H8: 7 | I8: 65 | J8: 60
H9: 8 | I9: 70 | J9: 65
H10: 9 | I10: 75 | J10: 70
H11: 10 | I11: 80 | J11: 75
H12: 11 | I12: 85 | J12: 80
H13: 12 | I13: 90 | J13: 85
H14: 13 | I14: 95 | J14: 90
H15: 14 | I15: 100 | J15: 95
H16: 15 | I16: 107 | J16: 100
... H366: 365 | I366: 330 | J366: 330
