Workbook

Sheet Vendeurs
A1: Departement | B1: Nom | C1: Prenom | D1: Analytique dpt | E1: Analytique personne | F1: Commission
A2: Ventes | B2: Dupont | C2: Julien | D2: 3 | E2: 3 | F2: 2 % jusque 15000 - 3 % au-dessus
A3: Ventes | B3: Jolien | C3: Jeanne | D3: 3 | E3: 11 | F3: 2 % jusque 15000 - 3 % au-dessus
A4: Ventes | B4: Collart | C4: Ariane | D4: 3 | E4: 17 | F4: 2 % jusque 15000 - 3 % au-dessus
A5: Ventes | B5: Poufle | C5: Sylvie | D5: 3 | E5: 18 | F5: 2 % jusque 15000 - 3 % au-dessus
A6: Ventes | B6: Serp | C6: Sandra | D6: 3 | E6: 19 | F6: 2 % jusque 15000 - 3 % au-dessus
A7: Ventes | B7: Serda | C7: Sandrine | D7: 3 | E7: 20 | F7: 3 % jusque 15000 - 3,5 % au-dessus
A8: Ventes | B8: Gryffin | C8: Julien | D8: 3 | E8: 21 | F8: 3 % jusque 15000 - 3,5 % au-dessus
A9: Ventes | B9: Jolien | C9: Henriette | D9: 3 | E9: 22 | F9: 3 % jusque 15000 - 3,5 % au-dessus

Sheet Produits
A2: Produit | B2: Type de produit | F2: Analytique produit
B3: Prix HTVA | C3: Durée | D3: Prix HTVA | E3: Durée
A4: Produit 1 | B4: 999.99 | C4: 6 mois | D4: =B4*2*0.9 -> 1799.982 | E4: 12 mois | F4: 901
A5: Produit 2 | B5: 1525.99 | C5: 6 mois | D5: =B5*2*0.9 -> 2746.782 | E5: 12 mois | F5: 902
A6: Produit 3 | B6: 1545.67 | C6: 6 mois | D6: =B6*2*0.9 -> 2782.206 | E6: 12 mois | F6: 903
A7: Produit 4 | B7: 1499.98 | C7: 6 mois | D7: =B7*2*0.9 -> 2699.964 | E7: 12 mois | F7: 904
A8: Produit 5 | B8: 2450 | C8: 6 mois | D8: =B8*2*0.9 -> 4410 | E8: 12 mois | F8: 905
A9: Produit 6 | B9: 7500.55 | C9: 6 mois | D9: =B9*2*0.9 -> 13500.99 | E9: 12 mois | F9: 906
A10: Produit 7 | B10: 5455.51 | C10: 6 mois | D10: =B10*2*0.9 -> 9819.918 | E10: 12 mois | F10: 907
A11: Produit 8 | B11: 1250.99 | C11: 6 mois | D11: =B11*2*0.9 -> 2251.782 | E11: 12 mois | F11: 908
A12: Produit 9 | B12: 3459.85 | C12: 6 mois | D12: =B12*2*0.9 -> 6227.73 | E12: 12 mois | F12: 909
A13: Produit 10 | B13: 1544.87 | C13: 6 mois | D13: =B13*2*0.9 -> 2780.766 | E13: 12 mois | F13: 910

Sheet Ventes
A1: Date contrat | B1: Nom du produit | C1: Montant | D1: Durée | E1: Durée | F1: Date de début | G1: Fin prévue | H1: Vendeur | I1: Analytique personne | J1: Analytique produit
A2: 43466 | B2: Produit 1 | C2: 999.99 | D2: =IF(ISNA(VLOOKUP(C2,Produits!$B$4:$F$13,2,0)),"12 mois",VLOOKUP(C2,Produits!$B$4:$F$13,2,0)) -> 6 mois | E2: =LEFT(D2,2) -> 6 | F2: =A2 -> 43466 | G2: =+EDATE(A2,E2) -> 43647 | H2: Dupont Julien | I2: =INDEX(Vendeurs!$E$2:$E$9,MATCH(Ventes!H2,Vendeurs!$B$2:$B$9&" "&Vendeurs!$C$2:$C$9)) -> #VALUE! | J2: =VLOOKUP(B2,Produits!$A$4:$F$13,6,0) -> 901
A3: 43466 | B3: Produit 6 | C3: 13500.99 | D3: =IF(ISNA(VLOOKUP(C3,Produits!$B$4:$F$13,2,0)),"12 mois",VLOOKUP(C3,Produits!$B$4:$F$13,2,0)) -> 12 mois | E3: =LEFT(D3,2) -> 12 | F3: =A3 -> 43466 | G3: =+EDATE(A3,E3) -> 43831 | H3: Jolien Jeanne | I3: {=INDEX(Vendeurs!$E$2:$E$9,MATCH(Ventes!H3,Vendeurs!$B$2:$B$9&" "&Vendeurs!$C$2:$C$9))} -> 11 | J3: =VLOOKUP(B3,Produits!$A$4:$F$13,6,0) -> 906
A4: 43468 | B4: Produit 10 | C4: 2780.77 | D4: =IF(ISNA(VLOOKUP(C4,Produits!$B$4:$F$13,2,0)),"12 mois",VLOOKUP(C4,Produits!$B$4:$F$13,2,0)) -> 12 mois | E4: =LEFT(D4,2) -> 12 | F4: =A4 -> 43468 | G4: =+EDATE(A4,E4) -> 43833 | H4: Serda Sandrine | I4: {=INDEX(Vendeurs!$E$2:$E$9,MATCH(Ventes!H4,Vendeurs!$B$2:$B$9&" "&Vendeurs!$C$2:$C$9))} -> 20 | J4: =VLOOKUP(B4,Produits!$A$4:$F$13,6,0) -> 910
A5: 43469 | B5: Produit 4 | C5: 1499.98 | D5: =IF(ISNA(VLOOKUP(C5,Produits!$B$4:$F$13,2,0)),"12 mois",VLOOKUP(C5,Produits!$B$4:$F$13,2,0)) -> 6 mois | E5: =LEFT(D5,2) -> 6 | F5: =A5 -> 43469 | G5: =+EDATE(A5,E5) -> 43650 | H5: Poufle Sylvie | I5: {=INDEX(Vendeurs!$E$2:$E$9,MATCH(Ventes!H5,Vendeurs!$B$2:$B$9&" "&Vendeurs!$C$2:$C$9))} -> 18 | J5: =VLOOKUP(B5,Produits!$A$4:$F$13,6,0) -> 904
A6: 43490 | B6: Produit 5 | C6: 2450 | D6: =IF(ISNA(VLOOKUP(C6,Produits!$B$4:$F$13,2,0)),"12 mois",VLOOKUP(C6,Produits!$B$4:$F$13,2,0)) -> 6 mois | E6: =LEFT(D6,2) -> 6 | F6: =A6 -> 43490 | G6: =+EDATE(A6,E6) -> 43671 | H6: Serp Sandra | I6: {=INDEX(Vendeurs!$E$2:$E$9,MATCH(Ventes!H6,Vendeurs!$B$2:$B$9&" "&Vendeurs!$C$2:$C$9))} -> 22 | J6: =VLOOKUP(B6,Produits!$A$4:$F$13,6,0) -> 905
A7: 43492 | B7: Produit 6 | C7: 7500.55 | D7: =IF(ISNA(VLOOKUP(C7,Produits!$B$4:$F$13,2,0)),"12 mois",VLOOKUP(C7,Produits!$B$4:$F$13,2,0)) -> 6 mois | E7: =LEFT(D7,2) -> 6 | F7: =A7 -> 43492 | G7: =+EDATE(A7,E7) -> 43673 | H7: Serda Sandrine | I7: {=INDEX(Vendeurs!$E$2:$E$9,MATCH(Ventes!H7,Vendeurs!$B$2:$B$9&" "&Vendeurs!$C$2:$C$9))} -> 20 | J7: =VLOOKUP(B7,Produits!$A$4:$F$13,6,0) -> 906
A8: 43498 | B8: Produit 6 | C8: 13500.99 | D8: =IF(ISNA(VLOOKUP(C8,Produits!$B$4:$F$13,2,0)),"12 mois",VLOOKUP(C8,Produits!$B$4:$F$13,2,0)) -> 12 mois | E8: =LEFT(D8,2) -> 12 | F8: =A8 -> 43498 | G8: =+EDATE(A8,E8) -> 43863 | H8: Gryffin Julien | I8: =INDEX(Vendeurs!$E$2:$E$9,MATCH(Ventes!H8,Vendeurs!$B$2:$B$9&" "&Vendeurs!$C$2:$C$9)) -> #VALUE! | J8: =VLOOKUP(B8,Produits!$A$4:$F$13,6,0) -> 906
A9: 43501 | B9: Produit 8 | C9: 1250.99 | D9: =IF(ISNA(VLOOKUP(C9,Produits!$B$4:$F$13,2,0)),"12 mois",VLOOKUP(C9,Produits!$B$4:$F$13,2,0)) -> 6 mois | E9: =LEFT(D9,2) -> 6 | F9: =A9 -> 43501 | G9: =+EDATE(A9,E9) -> 43682 | H9: Jolien Henriette | I9: {=INDEX(Vendeurs!$E$2:$E$9,MATCH(Ventes!H9,Vendeurs!$B$2:$B$9&" "&Vendeurs!$C$2:$C$9))} -> 3 | J9: =VLOOKUP(B9,Produits!$A$4:$F$13,6,0) -> 908
A10: 43502 | B10: Produit 1 | C10: 1799.98 | D10: =IF(ISNA(VLOOKUP(C10,Produits!$B$4:$F$13,2,0)),"12 mois",VLOOKUP(C10,Produits!$B$4:$F$13,2,0)) -> 12 mois | E10: =LEFT(D10,2) -> 12 | F10: =A10 -> 43502 | G10: =+EDATE(A10,E10) -> 43867 | H10: Jolien Henriette | I10: {=INDEX(Vendeurs!$E$2:$E$9,MATCH(Ventes!H10,Vendeurs!$B$2:$B$9&" "&Vendeurs!$C$2:$C$9))} -> 3 | J10: =VLOOKUP(B10,Produits!$A$4:$F$13,6,0) -> 901
A11: 43503 | B11: Produit 10 | C11: 1544.87 | D11: =IF(ISNA(VLOOKUP(C11,Produits!$B$4:$F$13,2,0)),"12 mois",VLOOKUP(C11,Produits!$B$4:$F$13,2,0)) -> 6 mois | E11: =LEFT(D11,2) -> 6 | F11: =A11 -> 43503 | G11: =+EDATE(A11,E11) -> 43684 | H11: Jolien Henriette | I11: {=INDEX(Vendeurs!$E$2:$E$9,MATCH(Ventes!H11,Vendeurs!$B$2:$B$9&" "&Vendeurs!$C$2:$C$9))} -> 3 | J11: =VLOOKUP(B11,Produits!$A$4:$F$13,6,0) -> 910
A12: 43505 | B12: Produit 4 | C12: 1499.98 | D12: =IF(ISNA(VLOOKUP(C12,Produits!$B$4:$F$13,2,0)),"12 mois",VLOOKUP(C12,Produits!$B$4:$F$13,2,0)) -> 6 mois | E12: =LEFT(D12,2) -> 6 | F12: =A12 -> 43505 | G12: =+EDATE(A12,E12) -> 43686 | H12: Collart Ariane | I12: =INDEX(Vendeurs!$E$2:$E$9,MATCH(Ventes!H12,Vendeurs!$B$2:$B$9&" "&Vendeurs!$C$2:$C$9)) -> #VALUE! | J12: =VLOOKUP(B12,Produits!$A$4:$F$13,6,0) -> 904
A13: 43505 | B13: Produit 6 | C13: 13500.99 | D13: =IF(ISNA(VLOOKUP(C13,Produits!$B$4:$F$13,2,0)),"12 mois",VLOOKUP(C13,Produits!$B$4:$F$13,2,0)) -> 12 mois | E13: =LEFT(D13,2) -> 12 | F13: =A13 -> 43505 | G13: =+EDATE(A13,E13) -> 43870 | H13: Serda Sandrine | I13: {=INDEX(Vendeurs!$E$2:$E$9,MATCH(Ventes!H13,Vendeurs!$B$2:$B$9&" "&Vendeurs!$C$2:$C$9))} -> 20 | J13: =VLOOKUP(B13,Produits!$A$4:$F$13,6,0) -> 906
A14: 43505 | B14: Produit 8 | C14: 1250.99 | D14: =IF(ISNA(VLOOKUP(C14,Produits!$B$4:$F$13,2,0)),"12 mois",VLOOKUP(C14,Produits!$B$4:$F$13,2,0)) -> 6 mois | E14: =LEFT(D14,2) -> 6 | F14: =A14 -> 43505 | G14: =+EDATE(A14,E14) -> 43686 | H14: Serp Sandra | I14: {=INDEX(Vendeurs!$E$2:$E$9,MATCH(Ventes!H14,Vendeurs!$B$2:$B$9&" "&Vendeurs!$C$2:$C$9))} -> 22 | J14: =VLOOKUP(B14,Produits!$A$4:$F$13,6,0) -> 908
A15: 43505 | B15: Produit 5 | C15: 2450 | D15: =IF(ISNA(VLOOKUP(C15,Produits!$B$4:$F$13,2,0)),"12 mois",VLOOKUP(C15,Produits!$B$4:$F$13,2,0)) -> 6 mois | E15: =LEFT(D15,2) -> 6 | F15: =A15 -> 43505 | G15: =+EDATE(A15,E15) -> 43686 | H15: Jolien Henriette | I15: {=INDEX(Vendeurs!$E$2:$E$9,MATCH(Ventes!H15,Vendeurs!$B$2:$B$9&" "&Vendeurs!$C$2:$C$9))} -> 3 | J15: =VLOOKUP(B15,Produits!$A$4:$F$13,6,0) -> 905
A16: 43510 | B16: Produit 8 | C16: 2251.78 | D16: =IF(ISNA(VLOOKUP(C16,Produits!$B$4:$F$13,2,0)),"12 mois",VLOOKUP(C16,Produits!$B$4:$F$13,2,0)) -> 12 mois | E16: =LEFT(D16,2) -> 12 | F16: =A16 -> 43510 | G16: =+EDATE(A16,E16) -> 43875 | H16: Jolien Henriette | I16: {=INDEX(Vendeurs!$E$2:$E$9,MATCH(Ventes!H16,Vendeurs!$B$2:$B$9&" "&Vendeurs!$C$2:$C$9))} -> 3 | J16: =VLOOKUP(B16,Produits!$A$4:$F$13,6,0) -> 908
A17: 43521 | B17: Produit 4 | C17: 1499.98 | D17: =IF(ISNA(VLOOKUP(C17,Produits!$B$4:$F$13,2,0)),"12 mois",VLOOKUP(C17,Produits!$B$4:$F$13,2,0)) -> 6 mois | E17: =LEFT(D17,2) -> 6 | F17: =A17 -> 43521 | G17: =+EDATE(A17,E17) -> 43702 | H17: Dupont Julien | I17: {=INDEX(Vendeurs!$E$2:$E$9,MATCH(Ventes!H17,Vendeurs!$B$2:$B$9&" "&Vendeurs!$C$2:$C$9))} -> 3 | J17: =VLOOKUP(B17,Produits!$A$4:$F$13,6,0) -> 904
A18: 43522 | B18: Produit 2 | C18: 2746.78 | D18: =IF(ISNA(VLOOKUP(C18,Produits!$B$4:$F$13,2,0)),"12 mois",VLOOKUP(C18,Produits!$B$4:$F$13,2,0)) -> 12 mois | E18: =LEFT(D18,2) -> 12 | F18: =A18 -> 43522 | G18: =+EDATE(A18,E18) -> 43887 | H18: Gryffin Julien | I18: {=INDEX(Vendeurs!$E$2:$E$9,MATCH(Ventes!H18,Vendeurs!$B$2:$B$9&" "&Vendeurs!$C$2:$C$9))} -> 3 | J18: =VLOOKUP(B18,Produits!$A$4:$F$13,6,0) -> 902
A19: 43524 | B19: Produit 7 | C19: 5455.51 | D19: =IF(ISNA(VLOOKUP(C19,Produits!$B$4:$F$13,2,0)),"12 mois",VLOOKUP(C19,Produits!$B$4:$F$13,2,0)) -> 6 mois | E19: =LEFT(D19,2) -> 6 | F19: =A19 -> 43524 | G19: =+EDATE(A19,E19) -> 43705 | H19: Gryffin Julien | I19: {=INDEX(Vendeurs!$E$2:$E$9,MATCH(Ventes!H19,Vendeurs!$B$2:$B$9&" "&Vendeurs!$C$2:$C$9))} -> 3 | J19: =VLOOKUP(B19,Produits!$A$4:$F$13,6,0) -> 907
A20: 43528 | B20: Produit 9 | C20: 3459.85 | D20: =IF(ISNA(VLOOKUP(C20,Produits!$B$4:$F$13,2,0)),"12 mois",VLOOKUP(C20,Produits!$B$4:$F$13,2,0)) -> 6 mois | E20: =LEFT(D20,2) -> 6 | F20: =A20 -> 43528 | G20: =+EDATE(A20,E20) -> 43712 | H20: Collart Ariane | I20: {=INDEX(Vendeurs!$E$2:$E$9,MATCH(Ventes!H20,Vendeurs!$B$2:$B$9&" "&Vendeurs!$C$2:$C$9))} -> #N/A | J20: =VLOOKUP(B20,Produits!$A$4:$F$13,6,0) -> 909
A21: 43528 | B21: Produit 7 | C21: 5455.51 | D21: =IF(ISNA(VLOOKUP(C21,Produits!$B$4:$F$13,2,0)),"12 mois",VLOOKUP(C21,Produits!$B$4:$F$13,2,0)) -> 6 mois | E21: =LEFT(D21,2) -> 6 | F21: =A21 -> 43528 | G21: =+EDATE(A21,E21) -> 43712 | H21: Serp Sandra | I21: {=INDEX(Vendeurs!$E$2:$E$9,MATCH(Ventes!H21,Vendeurs!$B$2:$B$9&" "&Vendeurs!$C$2:$C$9))} -> 22 | J21: =VLOOKUP(B21,Produits!$A$4:$F$13,6,0) -> 907
A22: 43529 | B22: Produit 2 | C22: 2746.78 | D22: =IF(ISNA(VLOOKUP(C22,Produits!$B$4:$F$13,2,0)),"12 mois",VLOOKUP(C22,Produits!$B$4:$F$13,2,0)) -> 12 mois | E22: =LEFT(D22,2) -> 12 | F22: =A22 -> 43529 | G22: =+EDATE(A22,E22) -> 43895 | H22: Jolien Jeanne | I22: {=INDEX(Vendeurs!$E$2:$E$9,MATCH(Ventes!H22,Vendeurs!$B$2:$B$9&" "&Vendeurs!$C$2:$C$9))} -> 11 | J22: =VLOOKUP(B22,Produits!$A$4:$F$13,6,0) -> 902
A23: 43530 | B23: Produit 10 | C23: 1544.87 | D23: =IF(ISNA(VLOOKUP(C23,Produits!$B$4:$F$13,2,0)),"12 mois",VLOOKUP(C23,Produits!$B$4:$F$13,2,0)) -> 6 mois | E23: =LEFT(D23,2) -> 6 | F23: =A23 -> 43530 | G23: =+EDATE(A23,E23) -> 43714 | H23: Collart Ariane | I23: {=INDEX(Vendeurs!$E$2:$E$9,MATCH(Ventes!H23,Vendeurs!$B$2:$B$9&" "&Vendeurs!$C$2:$C$9))} -> #N/A | J23: =VLOOKUP(B23,Produits!$A$4:$F$13,6,0) -> 910
A24: 43531 | B24: Produit 10 | C24: 2780.77 | D24: =IF(ISNA(VLOOKUP(C24,Produits!$B$4:$F$13,2,0)),"12 mois",VLOOKUP(C24,Produits!$B$4:$F$13,2,0)) -> 12 mois | E24: =LEFT(D24,2) -> 12 | F24: =A24 -> 43531 | G24: =+EDATE(A24,E24) -> 43897 | H24: Serp Sandra | I24: {=INDEX(Vendeurs!$E$2:$E$9,MATCH(Ventes!H24,Vendeurs!$B$2:$B$9&" "&Vendeurs!$C$2:$C$9))} -> 22 | J24: =VLOOKUP(B24,Produits!$A$4:$F$13,6,0) -> 910
... A36: 43553 | B36: Produit 3 | C36: 2782.21 | D36: =IF(ISNA(VLOOKUP(C36,Produits!$B$4:$F$13,2,0)),"12 mois",VLOOKUP(C36,Produits!$B$4:$F$13,2,0)) -> 12 mois | E36: =LEFT(D36,2) -> 12 | F36: =A36 -> 43553 | G36: =+EDATE(A36,E36) -> 43919 | H36: Poufle Sylvie | I36: {=INDEX(Vendeurs!$E$2:$E$9,MATCH(Ventes!H36,Vendeurs!$B$2:$B$9&" "&Vendeurs!$C$2:$C$9))} -> 18 | J36: =VLOOKUP(B36,Produits!$A$4:$F$13,6,0) -> 903

Sheet Commissions
A1: Nom | B1: Prénom | C1: Analytique personne | D1: Total des ventes | E1: Montant de la commission | L1: PAR au 30/04 | M1: PAR au 31/05 | N1: PAR au 30/06
A2: Dupont | B2: Julien | C2: =+VLOOKUP(A2,Vendeurs!$B$1:$F$9,4,0) -> 3 | D2: =+SUMIF(Ventes!$I$2:$I$36,Commissions!C2,Ventes!$C$2:$C$36) -> 38489.92
A3: Jolien | B3: Jeanne | C3: =+VLOOKUP(A3,Vendeurs!$B$4:$F$23,4,0) -> 22 | D3: =+SUMIF(Ventes!$I$2:$I$36,Commissions!C3,Ventes!$C$2:$C$36) -> 21757.19
A4: Collart | B4: Ariane | C4: =+VLOOKUP(A4,Vendeurs!$B$4:$F$23,4,0) -> 17 | D4: =+SUMIF(Ventes!$I$2:$I$36,Commissions!C4,Ventes!$C$2:$C$36) -> 0
A5: Poufle | B5: Sylvie | C5: =+VLOOKUP(A5,Vendeurs!$B$4:$F$23,4,0) -> 18 | D5: =+SUMIF(Ventes!$I$2:$I$36,Commissions!C5,Ventes!$C$2:$C$36) -> 4282.19
A6: Serp | B6: Sandra | C6: =+VLOOKUP(A6,Vendeurs!$B$4:$F$23,4,0) -> 19 | D6: =+SUMIF(Ventes!$I$2:$I$36,Commissions!C6,Ventes!$C$2:$C$36) -> 0
A7: Serda | B7: Sandrine | C7: =+VLOOKUP(A7,Vendeurs!$B$4:$F$23,4,0) -> 20 | D7: =+SUMIF(Ventes!$I$2:$I$36,Commissions!C7,Ventes!$C$2:$C$36) -> 35206.82
A8: Gryffin | B8: Julien | C8: =+VLOOKUP(A8,Vendeurs!$B$4:$F$23,4,0) -> 21 | D8: =+SUMIF(Ventes!$I$2:$I$36,Commissions!C8,Ventes!$C$2:$C$36) -> 0
A9: Jolien | B9: Henriette | C9: =+VLOOKUP(A9,Vendeurs!$B$4:$F$23,4,0) -> 22 | D9: =+SUMIF(Ventes!$I$2:$I$36,Commissions!C9,Ventes!$C$2:$C$36) -> 21757.19
