Workbook

Sheet Calendrier
A1: Jour / Mois | B1: 43709 | C1: 43739 | D1: 43770 | E1: 43800 | F1: 43831 | G1: 43862 | H1: 43891 | I1: 43922 | J1: 43952 | K1: 43983 | L1: TOTAL | O1: 43647 | P1: 43678
A2: Lundi | B2: =SUMPRODUCT((WEEKDAY(ROW(INDIRECT(EOMONTH(B1,-1)+1&":"&EOMONTH(B1,0))),2)=1)*1) -> 5 | C2: =SUMPRODUCT((WEEKDAY(ROW(INDIRECT(EOMONTH(C1,-1)+1&":"&EOMONTH(C1,0))),2)=1)*1) -> 4 | D2: =SUMPRODUCT((WEEKDAY(ROW(INDIRECT(EOMONTH(D1,-1)+1&":"&EOMONTH(D1,0))),2)=1)*1) -> 4 | E2: =SUMPRODUCT((WEEKDAY(ROW(INDIRECT(EOMONTH(E1,-1)+1&":"&EOMONTH(E1,0))),2)=1)*1) -> 5 | F2: =SUMPRODUCT((WEEKDAY(ROW(INDIRECT(EOMONTH(F1,-1)+1&":"&EOMONTH(F1,0))),2)=1)*1) -> 4 | G2: =SUMPRODUCT((WEEKDAY(ROW(INDIRECT(EOMONTH(G1,-1)+1&":"&EOMONTH(G1,0))),2)=1)*1) -> 4 | H2: =SUMPRODUCT((WEEKDAY(ROW(INDIRECT(EOMONTH(H1,-1)+1&":"&EOMONTH(H1,0))),2)=1)*1) -> 5 | I2: =SUMPRODUCT((WEEKDAY(ROW(INDIRECT(EOMONTH(I1,-1)+1&":"&EOMONTH(I1,0))),2)=1)*1) -> 4 | ... K2: =SUMPRODUCT((WEEKDAY(ROW(INDIRECT(EOMONTH(K1,-1)+1&":"&EOMONTH(K1,0))),2)=1)*1) -> 5 | L2: =SUM(B2:K2) -> 44 | O2: =SUMPRODUCT((WEEKDAY(ROW(INDIRECT(EOMONTH(O1,-1)+1&":"&EOMONTH(O1,0))),2)=1)*1) -> 5 | P2: =SUMPRODUCT((WEEKDAY(ROW(INDIRECT(EOMONTH(P1,-1)+1&":"&EOMONTH(P1,0))),2)=1)*1) -> 4
A3: Mardi | B3: =SUMPRODUCT((WEEKDAY(ROW(INDIRECT(EOMONTH(B1,-1)+1&":"&EOMONTH(B1,0))),2)=2)*1) -> 4 | C3: =SUMPRODUCT((WEEKDAY(ROW(INDIRECT(EOMONTH(C1,-1)+1&":"&EOMONTH(C1,0))),2)=2)*1) -> 5 | D3: =SUMPRODUCT((WEEKDAY(ROW(INDIRECT(EOMONTH(D1,-1)+1&":"&EOMONTH(D1,0))),2)=2)*1) -> 4 | E3: =SUMPRODUCT((WEEKDAY(ROW(INDIRECT(EOMONTH(E1,-1)+1&":"&EOMONTH(E1,0))),2)=2)*1) -> 5 | F3: =SUMPRODUCT((WEEKDAY(ROW(INDIRECT(EOMONTH(F1,-1)+1&":"&EOMONTH(F1,0))),2)=2)*1) -> 4 | G3: =SUMPRODUCT((WEEKDAY(ROW(INDIRECT(EOMONTH(G1,-1)+1&":"&EOMONTH(G1,0))),2)=2)*1) -> 4 | H3: =SUMPRODUCT((WEEKDAY(ROW(INDIRECT(EOMONTH(H1,-1)+1&":"&EOMONTH(H1,0))),2)=2)*1) -> 5 | I3: =SUMPRODUCT((WEEKDAY(ROW(INDIRECT(EOMONTH(I1,-1)+1&":"&EOMONTH(I1,0))),2)=2)*1) -> 4 | ... K3: =SUMPRODUCT((WEEKDAY(ROW(INDIRECT(EOMONTH(K1,-1)+1&":"&EOMONTH(K1,0))),2)=2)*1) -> 5 | L3: =SUM(B3:K3) -> 44 | O3: =SUMPRODUCT((WEEKDAY(ROW(INDIRECT(EOMONTH(O1,-1)+1&":"&EOMONTH(O1,0))),2)=2)*1) -> 5 | P3: =SUMPRODUCT((WEEKDAY(ROW(INDIRECT(EOMONTH(P1,-1)+1&":"&EOMONTH(P1,0))),2)=2)*1) -> 4
A4: Mercredi | B4: =SUMPRODUCT((WEEKDAY(ROW(INDIRECT(EOMONTH(B1,-1)+1&":"&EOMONTH(B1,0))),2)=3)*1) -> 4 | C4: =SUMPRODUCT((WEEKDAY(ROW(INDIRECT(EOMONTH(C1,-1)+1&":"&EOMONTH(C1,0))),2)=3)*1) -> 5 | D4: =SUMPRODUCT((WEEKDAY(ROW(INDIRECT(EOMONTH(D1,-1)+1&":"&EOMONTH(D1,0))),2)=3)*1) -> 4 | E4: =SUMPRODUCT((WEEKDAY(ROW(INDIRECT(EOMONTH(E1,-1)+1&":"&EOMONTH(E1,0))),2)=3)*1) -> 4 | F4: =SUMPRODUCT((WEEKDAY(ROW(INDIRECT(EOMONTH(F1,-1)+1&":"&EOMONTH(F1,0))),2)=3)*1) -> 5 | G4: =SUMPRODUCT((WEEKDAY(ROW(INDIRECT(EOMONTH(G1,-1)+1&":"&EOMONTH(G1,0))),2)=3)*1) -> 4 | H4: =SUMPRODUCT((WEEKDAY(ROW(INDIRECT(EOMONTH(H1,-1)+1&":"&EOMONTH(H1,0))),2)=3)*1) -> 4 | I4: =SUMPRODUCT((WEEKDAY(ROW(INDIRECT(EOMONTH(I1,-1)+1&":"&EOMONTH(I1,0))),2)=3)*1) -> 5 | ... K4: =SUMPRODUCT((WEEKDAY(ROW(INDIRECT(EOMONTH(K1,-1)+1&":"&EOMONTH(K1,0))),2)=3)*1) -> 4 | L4: =SUM(B4:K4) -> 43 | O4: =SUMPRODUCT((WEEKDAY(ROW(INDIRECT(EOMONTH(O1,-1)+1&":"&EOMONTH(O1,0))),2)=3)*1) -> 5 | P4: =SUMPRODUCT((WEEKDAY(ROW(INDIRECT(EOMONTH(P1,-1)+1&":"&EOMONTH(P1,0))),2)=3)*1) -> 4
A5: Jeudi | B5: =SUMPRODUCT((WEEKDAY(ROW(INDIRECT(EOMONTH(B1,-1)+1&":"&EOMONTH(B1,0))),2)=4)*1) -> 4 | C5: =SUMPRODUCT((WEEKDAY(ROW(INDIRECT(EOMONTH(C1,-1)+1&":"&EOMONTH(C1,0))),2)=4)*1) -> 5 | D5: =SUMPRODUCT((WEEKDAY(ROW(INDIRECT(EOMONTH(D1,-1)+1&":"&EOMONTH(D1,0))),2)=4)*1) -> 4 | E5: =SUMPRODUCT((WEEKDAY(ROW(INDIRECT(EOMONTH(E1,-1)+1&":"&EOMONTH(E1,0))),2)=4)*1) -> 4 | F5: =SUMPRODUCT((WEEKDAY(ROW(INDIRECT(EOMONTH(F1,-1)+1&":"&EOMONTH(F1,0))),2)=4)*1) -> 5 | G5: =SUMPRODUCT((WEEKDAY(ROW(INDIRECT(EOMONTH(G1,-1)+1&":"&EOMONTH(G1,0))),2)=4)*1) -> 4 | H5: =SUMPRODUCT((WEEKDAY(ROW(INDIRECT(EOMONTH(H1,-1)+1&":"&EOMONTH(H1,0))),2)=4)*1) -> 4 | I5: =SUMPRODUCT((WEEKDAY(ROW(INDIRECT(EOMONTH(I1,-1)+1&":"&EOMONTH(I1,0))),2)=4)*1) -> 5 | ... K5: =SUMPRODUCT((WEEKDAY(ROW(INDIRECT(EOMONTH(K1,-1)+1&":"&EOMONTH(K1,0))),2)=4)*1) -> 4 | L5: =SUM(B5:K5) -> 43 | O5: =SUMPRODUCT((WEEKDAY(ROW(INDIRECT(EOMONTH(O1,-1)+1&":"&EOMONTH(O1,0))),2)=4)*1) -> 4 | P5: =SUMPRODUCT((WEEKDAY(ROW(INDIRECT(EOMONTH(P1,-1)+1&":"&EOMONTH(P1,0))),2)=4)*1) -> 5
A6: Vendredi | B6: =SUMPRODUCT((WEEKDAY(ROW(INDIRECT(EOMONTH(B1,-1)+1&":"&EOMONTH(B1,0))),2)=5)*1) -> 4 | C6: =SUMPRODUCT((WEEKDAY(ROW(INDIRECT(EOMONTH(C1,-1)+1&":"&EOMONTH(C1,0))),2)=5)*1) -> 4 | D6: =SUMPRODUCT((WEEKDAY(ROW(INDIRECT(EOMONTH(D1,-1)+1&":"&EOMONTH(D1,0))),2)=5)*1) -> 5 | E6: =SUMPRODUCT((WEEKDAY(ROW(INDIRECT(EOMONTH(E1,-1)+1&":"&EOMONTH(E1,0))),2)=5)*1) -> 4 | F6: =SUMPRODUCT((WEEKDAY(ROW(INDIRECT(EOMONTH(F1,-1)+1&":"&EOMONTH(F1,0))),2)=5)*1) -> 5 | G6: =SUMPRODUCT((WEEKDAY(ROW(INDIRECT(EOMONTH(G1,-1)+1&":"&EOMONTH(G1,0))),2)=5)*1) -> 4 | H6: =SUMPRODUCT((WEEKDAY(ROW(INDIRECT(EOMONTH(H1,-1)+1&":"&EOMONTH(H1,0))),2)=5)*1) -> 4 | I6: =SUMPRODUCT((WEEKDAY(ROW(INDIRECT(EOMONTH(I1,-1)+1&":"&EOMONTH(I1,0))),2)=5)*1) -> 4 | ... K6: =SUMPRODUCT((WEEKDAY(ROW(INDIRECT(EOMONTH(K1,-1)+1&":"&EOMONTH(K1,0))),2)=5)*1) -> 4 | L6: =SUM(B6:K6) -> 43 | O6: =SUMPRODUCT((WEEKDAY(ROW(INDIRECT(EOMONTH(O1,-1)+1&":"&EOMONTH(O1,0))),2)=5)*1) -> 4 | P6: =SUMPRODUCT((WEEKDAY(ROW(INDIRECT(EOMONTH(P1,-1)+1&":"&EOMONTH(P1,0))),2)=5)*1) -> 5
A7: Samedi | B7: =SUMPRODUCT((WEEKDAY(ROW(INDIRECT(EOMONTH(B1,-1)+1&":"&EOMONTH(B1,0))),2)=6)*1) -> 4 | C7: =SUMPRODUCT((WEEKDAY(ROW(INDIRECT(EOMONTH(C1,-1)+1&":"&EOMONTH(C1,0))),2)=6)*1) -> 4 | D7: =SUMPRODUCT((WEEKDAY(ROW(INDIRECT(EOMONTH(D1,-1)+1&":"&EOMONTH(D1,0))),2)=6)*1) -> 5 | E7: =SUMPRODUCT((WEEKDAY(ROW(INDIRECT(EOMONTH(E1,-1)+1&":"&EOMONTH(E1,0))),2)=6)*1) -> 4 | F7: =SUMPRODUCT((WEEKDAY(ROW(INDIRECT(EOMONTH(F1,-1)+1&":"&EOMONTH(F1,0))),2)=6)*1) -> 4 | G7: =SUMPRODUCT((WEEKDAY(ROW(INDIRECT(EOMONTH(G1,-1)+1&":"&EOMONTH(G1,0))),2)=6)*1) -> 5 | H7: =SUMPRODUCT((WEEKDAY(ROW(INDIRECT(EOMONTH(H1,-1)+1&":"&EOMONTH(H1,0))),2)=6)*1) -> 4 | I7: =SUMPRODUCT((WEEKDAY(ROW(INDIRECT(EOMONTH(I1,-1)+1&":"&EOMONTH(I1,0))),2)=6)*1) -> 4 | ... K7: =SUMPRODUCT((WEEKDAY(ROW(INDIRECT(EOMONTH(K1,-1)+1&":"&EOMONTH(K1,0))),2)=6)*1) -> 4 | L7: =SUM(B7:K7) -> 43 | O7: =SUMPRODUCT((WEEKDAY(ROW(INDIRECT(EOMONTH(O1,-1)+1&":"&EOMONTH(O1,0))),2)=6)*1) -> 4 | P7: =SUMPRODUCT((WEEKDAY(ROW(INDIRECT(EOMONTH(P1,-1)+1&":"&EOMONTH(P1,0))),2)=6)*1) -> 5
A8: Dimanche | B8: =SUMPRODUCT((WEEKDAY(ROW(INDIRECT(EOMONTH(B1,-1)+1&":"&EOMONTH(B1,0))),2)=7)*1) -> 5 | C8: =SUMPRODUCT((WEEKDAY(ROW(INDIRECT(EOMONTH(C1,-1)+1&":"&EOMONTH(C1,0))),2)=7)*1) -> 4 | D8: =SUMPRODUCT((WEEKDAY(ROW(INDIRECT(EOMONTH(D1,-1)+1&":"&EOMONTH(D1,0))),2)=7)*1) -> 4 | E8: =SUMPRODUCT((WEEKDAY(ROW(INDIRECT(EOMONTH(E1,-1)+1&":"&EOMONTH(E1,0))),2)=7)*1) -> 5 | F8: =SUMPRODUCT((WEEKDAY(ROW(INDIRECT(EOMONTH(F1,-1)+1&":"&EOMONTH(F1,0))),2)=7)*1) -> 4 | G8: =SUMPRODUCT((WEEKDAY(ROW(INDIRECT(EOMONTH(G1,-1)+1&":"&EOMONTH(G1,0))),2)=7)*1) -> 4 | H8: =SUMPRODUCT((WEEKDAY(ROW(INDIRECT(EOMONTH(H1,-1)+1&":"&EOMONTH(H1,0))),2)=7)*1) -> 5 | I8: =SUMPRODUCT((WEEKDAY(ROW(INDIRECT(EOMONTH(I1,-1)+1&":"&EOMONTH(I1,0))),2)=7)*1) -> 4 | ... K8: =SUMPRODUCT((WEEKDAY(ROW(INDIRECT(EOMONTH(K1,-1)+1&":"&EOMONTH(K1,0))),2)=7)*1) -> 4 | L8: =SUM(B8:K8) -> 44 | O8: =SUMPRODUCT((WEEKDAY(ROW(INDIRECT(EOMONTH(O1,-1)+1&":"&EOMONTH(O1,0))),2)=7)*1) -> 4 | P8: =SUMPRODUCT((WEEKDAY(ROW(INDIRECT(EOMONTH(P1,-1)+1&":"&EOMONTH(P1,0))),2)=7)*1) -> 4
A11: Calandrier avec Vacances
A12: Jour / Mois | B12: 43709 | C12: 43739 | D12: 43770 | E12: 43800 | F12: 43831 | G12: 43862 | H12: 43891 | I12: 43922 | J12: 43952 | K12: 43983 | L12: TOTAL
A13: Lundi | B13: =SUMPRODUCT((WEEKDAY(ROW(INDIRECT(EOMONTH(B12,-1)+1&":"&EOMONTH(B12,0))),2)=1)*1) -> 5 | C13: =SUMPRODUCT((WEEKDAY(ROW(INDIRECT(EOMONTH(C12,-1)+1&":"&EOMONTH(C12,0))),2)=1)*1)-2 -> 2 | D13: =SUMPRODUCT((WEEKDAY(ROW(INDIRECT(EOMONTH(D12,-1)+1&":"&EOMONTH(D12,0))),2)=1)*1) -> 4 | E13: =SUMPRODUCT((WEEKDAY(ROW(INDIRECT(EOMONTH(E12,-1)+1&":"&EOMONTH(E12,0))),2)=1)*1)-2 -> 3 | F13: =SUMPRODUCT((WEEKDAY(ROW(INDIRECT(EOMONTH(F12,-1)+1&":"&EOMONTH(F12,0))),2)=1)*1) -> 4 | G13: =SUMPRODUCT((WEEKDAY(ROW(INDIRECT(EOMONTH(G12,-1)+1&":"&EOMONTH(G12,0))),2)=1)*1)-2 -> 2 | H13: =SUMPRODUCT((WEEKDAY(ROW(INDIRECT(EOMONTH(H12,-1)+1&":"&EOMONTH(H12,0))),2)=1)*1) -> 5 | I13: =SUMPRODUCT((WEEKDAY(ROW(INDIRECT(EOMONTH(I12,-1)+1&":"&EOMONTH(I12,0))),2)=1)*1)-2 -> 2 | J13: =SUMPRODUCT((WEEKDAY(ROW(INDIRECT(EOMONTH(J12,-1)+1&":"&EOMONTH(J12,0))),2)=1)*1) -> 4 | K13: =SUMPRODUCT((WEEKDAY(ROW(INDIRECT(EOMONTH(K12,-1)+1&":"&EOMONTH(K12,0))),2)=1)*1) -> 5 | L13: =SUM(B13:K13) -> 36
A14: Mardi | B14: =SUMPRODUCT((WEEKDAY(ROW(INDIRECT(EOMONTH(B12,-1)+1&":"&EOMONTH(B12,0))),2)=2)*1) -> 4 | C14: =SUMPRODUCT((WEEKDAY(ROW(INDIRECT(EOMONTH(C12,-1)+1&":"&EOMONTH(C12,0))),2)=2)*1)-2 -> 3 | D14: =SUMPRODUCT((WEEKDAY(ROW(INDIRECT(EOMONTH(D12,-1)+1&":"&EOMONTH(D12,0))),2)=2)*1) -> 4 | E14: =SUMPRODUCT((WEEKDAY(ROW(INDIRECT(EOMONTH(E12,-1)+1&":"&EOMONTH(E12,0))),2)=2)*1)-2 -> 3 | F14: =SUMPRODUCT((WEEKDAY(ROW(INDIRECT(EOMONTH(F12,-1)+1&":"&EOMONTH(F12,0))),2)=2)*1) -> 4 | G14: =SUMPRODUCT((WEEKDAY(ROW(INDIRECT(EOMONTH(G12,-1)+1&":"&EOMONTH(G12,0))),2)=2)*1)-2 -> 2 | H14: =SUMPRODUCT((WEEKDAY(ROW(INDIRECT(EOMONTH(H12,-1)+1&":"&EOMONTH(H12,0))),2)=2)*1) -> 5 | I14: =SUMPRODUCT((WEEKDAY(ROW(INDIRECT(EOMONTH(I12,-1)+1&":"&EOMONTH(I12,0))),2)=2)*1)-2 -> 2 | J14: =SUMPRODUCT((WEEKDAY(ROW(INDIRECT(EOMONTH(J12,-1)+1&":"&EOMONTH(J12,0))),2)=2)*1) -> 4 | K14: =SUMPRODUCT((WEEKDAY(ROW(INDIRECT(EOMONTH(K12,-1)+1&":"&EOMONTH(K12,0))),2)=2)*1) -> 5 | L14: =SUM(B14:K14) -> 36
A15: Mercredi | B15: =SUMPRODUCT((WEEKDAY(ROW(INDIRECT(EOMONTH(B12,-1)+1&":"&EOMONTH(B12,0))),2)=3)*1) -> 4 | C15: =SUMPRODUCT((WEEKDAY(ROW(INDIRECT(EOMONTH(C12,-1)+1&":"&EOMONTH(C12,0))),2)=3)*1)-2 -> 3 | D15: =SUMPRODUCT((WEEKDAY(ROW(INDIRECT(EOMONTH(D12,-1)+1&":"&EOMONTH(D12,0))),2)=3)*1) -> 4 | E15: =SUMPRODUCT((WEEKDAY(ROW(INDIRECT(EOMONTH(E12,-1)+1&":"&EOMONTH(E12,0))),2)=3)*1)-2 -> 2 | F15: =SUMPRODUCT((WEEKDAY(ROW(INDIRECT(EOMONTH(F12,-1)+1&":"&EOMONTH(F12,0))),2)=3)*1) -> 5 | G15: =SUMPRODUCT((WEEKDAY(ROW(INDIRECT(EOMONTH(G12,-1)+1&":"&EOMONTH(G12,0))),2)=3)*1)-2 -> 2 | H15: =SUMPRODUCT((WEEKDAY(ROW(INDIRECT(EOMONTH(H12,-1)+1&":"&EOMONTH(H12,0))),2)=3)*1) -> 4 | I15: =SUMPRODUCT((WEEKDAY(ROW(INDIRECT(EOMONTH(I12,-1)+1&":"&EOMONTH(I12,0))),2)=3)*1)-2 -> 3 | J15: =SUMPRODUCT((WEEKDAY(ROW(INDIRECT(EOMONTH(J12,-1)+1&":"&EOMONTH(J12,0))),2)=3)*1) -> 4 | K15: =SUMPRODUCT((WEEKDAY(ROW(INDIRECT(EOMONTH(K12,-1)+1&":"&EOMONTH(K12,0))),2)=3)*1) -> 4 | L15: =SUM(B15:K15) -> 35
A16: Jeudi | B16: =SUMPRODUCT((WEEKDAY(ROW(INDIRECT(EOMONTH(B12,-1)+1&":"&EOMONTH(B12,0))),2)=4)*1) -> 4 | C16: =SUMPRODUCT((WEEKDAY(ROW(INDIRECT(EOMONTH(C12,-1)+1&":"&EOMONTH(C12,0))),2)=4)*1)-2 -> 3 | D16: =SUMPRODUCT((WEEKDAY(ROW(INDIRECT(EOMONTH(D12,-1)+1&":"&EOMONTH(D12,0))),2)=4)*1) -> 4 | E16: =SUMPRODUCT((WEEKDAY(ROW(INDIRECT(EOMONTH(E12,-1)+1&":"&EOMONTH(E12,0))),2)=4)*1)-2 -> 2 | F16: =SUMPRODUCT((WEEKDAY(ROW(INDIRECT(EOMONTH(F12,-1)+1&":"&EOMONTH(F12,0))),2)=4)*1) -> 5 | G16: =SUMPRODUCT((WEEKDAY(ROW(INDIRECT(EOMONTH(G12,-1)+1&":"&EOMONTH(G12,0))),2)=4)*1)-2 -> 2 | H16: =SUMPRODUCT((WEEKDAY(ROW(INDIRECT(EOMONTH(H12,-1)+1&":"&EOMONTH(H12,0))),2)=4)*1) -> 4 | I16: =SUMPRODUCT((WEEKDAY(ROW(INDIRECT(EOMONTH(I12,-1)+1&":"&EOMONTH(I12,0))),2)=4)*1)-2 -> 3 | J16: =SUMPRODUCT((WEEKDAY(ROW(INDIRECT(EOMONTH(J12,-1)+1&":"&EOMONTH(J12,0))),2)=4)*1) -> 4 | K16: =SUMPRODUCT((WEEKDAY(ROW(INDIRECT(EOMONTH(K12,-1)+1&":"&EOMONTH(K12,0))),2)=4)*1) -> 4 | L16: =SUM(B16:K16) -> 35
A17: Vendredi | B17: =SUMPRODUCT((WEEKDAY(ROW(INDIRECT(EOMONTH(B12,-1)+1&":"&EOMONTH(B12,0))),2)=5)*1) -> 4 | C17: =SUMPRODUCT((WEEKDAY(ROW(INDIRECT(EOMONTH(C12,-1)+1&":"&EOMONTH(C12,0))),2)=5)*1)-2 -> 2 | D17: =SUMPRODUCT((WEEKDAY(ROW(INDIRECT(EOMONTH(D12,-1)+1&":"&EOMONTH(D12,0))),2)=5)*1) -> 5 | E17: =SUMPRODUCT((WEEKDAY(ROW(INDIRECT(EOMONTH(E12,-1)+1&":"&EOMONTH(E12,0))),2)=5)*1)-2 -> 2 | F17: =SUMPRODUCT((WEEKDAY(ROW(INDIRECT(EOMONTH(F12,-1)+1&":"&EOMONTH(F12,0))),2)=5)*1) -> 5 | G17: =SUMPRODUCT((WEEKDAY(ROW(INDIRECT(EOMONTH(G12,-1)+1&":"&EOMONTH(G12,0))),2)=5)*1)-2 -> 2 | H17: =SUMPRODUCT((WEEKDAY(ROW(INDIRECT(EOMONTH(H12,-1)+1&":"&EOMONTH(H12,0))),2)=5)*1) -> 4 | I17: =SUMPRODUCT((WEEKDAY(ROW(INDIRECT(EOMONTH(I12,-1)+1&":"&EOMONTH(I12,0))),2)=5)*1)-2 -> 2 | J17: =SUMPRODUCT((WEEKDAY(ROW(INDIRECT(EOMONTH(J12,-1)+1&":"&EOMONTH(J12,0))),2)=5)*1) -> 5 | K17: =SUMPRODUCT((WEEKDAY(ROW(INDIRECT(EOMONTH(K12,-1)+1&":"&EOMONTH(K12,0))),2)=5)*1) -> 4 | L17: =SUM(B17:K17) -> 35
A18: Samedi | B18: =SUMPRODUCT((WEEKDAY(ROW(INDIRECT(EOMONTH(B12,-1)+1&":"&EOMONTH(B12,0))),2)=6)*1) -> 4 | C18: =SUMPRODUCT((WEEKDAY(ROW(INDIRECT(EOMONTH(C12,-1)+1&":"&EOMONTH(C12,0))),2)=6)*1)-2 -> 2 | D18: =SUMPRODUCT((WEEKDAY(ROW(INDIRECT(EOMONTH(D12,-1)+1&":"&EOMONTH(D12,0))),2)=6)*1) -> 5 | E18: =SUMPRODUCT((WEEKDAY(ROW(INDIRECT(EOMONTH(E12,-1)+1&":"&EOMONTH(E12,0))),2)=6)*1)-2 -> 2 | F18: =SUMPRODUCT((WEEKDAY(ROW(INDIRECT(EOMONTH(F12,-1)+1&":"&EOMONTH(F12,0))),2)=6)*1) -> 4 | G18: =SUMPRODUCT((WEEKDAY(ROW(INDIRECT(EOMONTH(G12,-1)+1&":"&EOMONTH(G12,0))),2)=6)*1)-2 -> 3 | H18: =SUMPRODUCT((WEEKDAY(ROW(INDIRECT(EOMONTH(H12,-1)+1&":"&EOMONTH(H12,0))),2)=6)*1) -> 4 | I18: =SUMPRODUCT((WEEKDAY(ROW(INDIRECT(EOMONTH(I12,-1)+1&":"&EOMONTH(I12,0))),2)=6)*1)-2 -> 2 | J18: =SUMPRODUCT((WEEKDAY(ROW(INDIRECT(EOMONTH(J12,-1)+1&":"&EOMONTH(J12,0))),2)=6)*1) -> 5 | K18: =SUMPRODUCT((WEEKDAY(ROW(INDIRECT(EOMONTH(K12,-1)+1&":"&EOMONTH(K12,0))),2)=6)*1) -> 4 | L18: =SUM(B18:K18) -> 35
A19: Dimanche | B19: =SUMPRODUCT((WEEKDAY(ROW(INDIRECT(EOMONTH(B12,-1)+1&":"&EOMONTH(B12,0))),2)=7)*1) -> 5 | C19: =SUMPRODUCT((WEEKDAY(ROW(INDIRECT(EOMONTH(C12,-1)+1&":"&EOMONTH(C12,0))),2)=7)*1)-2 -> 2 | D19: =SUMPRODUCT((WEEKDAY(ROW(INDIRECT(EOMONTH(D12,-1)+1&":"&EOMONTH(D12,0))),2)=7)*1) -> 4 | E19: =SUMPRODUCT((WEEKDAY(ROW(INDIRECT(EOMONTH(E12,-1)+1&":"&EOMONTH(E12,0))),2)=7)*1)-2 -> 3 | F19: =SUMPRODUCT((WEEKDAY(ROW(INDIRECT(EOMONTH(F12,-1)+1&":"&EOMONTH(F12,0))),2)=7)*1) -> 4 | G19: =SUMPRODUCT((WEEKDAY(ROW(INDIRECT(EOMONTH(G12,-1)+1&":"&EOMONTH(G12,0))),2)=7)*1)-2 -> 2 | H19: =SUMPRODUCT((WEEKDAY(ROW(INDIRECT(EOMONTH(H12,-1)+1&":"&EOMONTH(H12,0))),2)=7)*1) -> 5 | I19: =SUMPRODUCT((WEEKDAY(ROW(INDIRECT(EOMONTH(I12,-1)+1&":"&EOMONTH(I12,0))),2)=7)*1)-2 -> 2 | J19: =SUMPRODUCT((WEEKDAY(ROW(INDIRECT(EOMONTH(J12,-1)+1&":"&EOMONTH(J12,0))),2)=7)*1) -> 5 | K19: =SUMPRODUCT((WEEKDAY(ROW(INDIRECT(EOMONTH(K12,-1)+1&":"&EOMONTH(K12,0))),2)=7)*1) -> 4 | L19: =SUM(B19:K19) -> 36

Sheet Salaire
A1: Prof | B1: Nombre d'heures de cours
B2: Lundi | C2: Mardi | D2: Mercredi | E2: Jeudi | F2: Vendredi | G2: Samedi | H2: TOTAL heures | I2: Salaire (12€/h)
A3: Pierre C | D3: 6.75 | E3: 3 | H3: =SUM(B3:G3) -> 9.75
A4: Sept | D4: 5.75 | E4: 3 | H4: =D4*Calendrier!B4+Salaire!E4*Calendrier!B5 -> 35
A5: Oct | D5: 6.75 | E5: 3 | H5: =D5*Calendrier!C4+Salaire!E5*Calendrier!C5 -> 48.75
A6: Nov | D6: 6.75 | E6: 3 | H6: =D6*Calendrier!D4+Salaire!E6*Calendrier!D5 -> 39
A7: Déc | D7: 6.75 | E7: 3 | H7: =D7*Calendrier!E4+Salaire!E7*Calendrier!E5 -> 39
A8: Janv | D8: 6.75 | E8: 3 | H8: =D8*Calendrier!F4+Salaire!E8*Calendrier!F5 -> 48.75
A9: Fév | D9: 6.75 | E9: 3 | H9: =D9*Calendrier!G4+Salaire!E9*Calendrier!G5 -> 39
A10: Mars | D10: 6.75 | E10: 3 | H10: =D10*Calendrier!H4+Salaire!E10*Calendrier!H5 -> 39
A11: Avr | D11: 6.75 | E11: 3 | H11: =D11*Calendrier!I4+Salaire!E11*Calendrier!I5 -> 48.75
A12: Mai | D12: 6.75 | E12: 3 | H12: =D12*Calendrier!J4+Salaire!E12*Calendrier!J5 -> 39
A13: Juin | D13: 6.75 | E13: 3 | H13: =D13*Calendrier!K4+Salaire!E13*Calendrier!K5 -> 39
A14: Juil
A15: Aout
G16: TOTAL H | H16: =SUM(H4:H15) -> 415.25
A19: Pierre R
A20: Sept
A21: Oct
A22: Nov
A23: Déc
A24: Janv
A25: Fév
A26: Mars
A27: Avr
A28: Mai
A29: Juin
