Workbook

Sheet 6ème
B1: Nom | C1: Prénom | D1: Classe | E1: régime | F1: Etude1 | G1: Etude2
A2: 1 | D2: 6ème | E2: DP | F2: x | G2: non
A3: 2 | D3: 6ème | E3: INT | F3: x | G3: x
A4: 3 | D4: 6ème | E4: DP | F4: non | G4: non
A5: 4 | D5: 6ème | E5: INT | F5: x | G5: x
A6: 5 | D6: 6ème | E6: DP | F6: non | G6: non
A7: 6 | D7: 6ème | E7: DP | F7: x | G7: x
A8: 7 | D8: 6ème | E8: DP | F8: x | G8: x
A9: 8 | D9: 6ème | E9: EX | F9: x | G9: x
A10: 9 | D10: 6ème | E10: DP | F10: x | G10: non
A11: 10 | D11: 6ème | E11: DP | F11: x | G11: x
A12: 11 | D12: 6ème FLE | E12: INT | F12: x | G12: x
A13: 12 | D13: 6ème | E13: EX | F13: non | G13: non
... A20: 19 | D20: 6ème | E20: DP | F20: x | G20: non

Sheet 5ème
B1: Nom | C1: Prénom | D1: Classe | E1: Régime | F1: Etude1 | G1: Etude2 | H1: ALL | I1: ESP
A2: 1 | D2: 5ème | E2: EX | F2: non | G2: non | H2: X
A3: 2 | D3: 5ème | E3: INT | F3: x | G3: x | I3: X
A4: 3 | D4: 5ème | E4: DP | F4: non | G4: non | I4: X
A5: 4 | D5: 5ème | E5: INT | F5: x | G5: x
A6: 5 | D6: 5ème | E6: DP | F6: non | G6: non | I6: X
A7: 6 | D7: 5ème | E7: INT | F7: x | G7: x | I7: X
A8: 7 | D8: 5ème | E8: INT | F8: x | G8: x | I8: X
A9: 8 | D9: 5ème | E9: INT | F9: x | G9: x
A10: 9 | D10: 5ème | E10: EXT | F10: x | G10: x
A11: 10 | D11: 5ème | E11: DP | F11: x | G11: x | I11: X
A12: 11 | D12: 5ème | E12: INT | F12: x | G12: x | I12: X
A13: 12 | D13: 5ème | E13: INT | F13: x | G13: x | I13: X
A14: 13 | D14: 5ème | E14: DP | F14: x | G14: x | I14: X
A15: 14 | D15: 5ème | E15: INT | F15: x | G15: x | I15: X
A16: 15 | D16: 5ème | E16: INT | F16: x | G16: x | H16: X
A17: 16 | D17: 5ème FLE | E17: INT | F17: x | G17: x | I17: X
A18: 17 | D18: 5ème | E18: DP | F18: non | G18: non | H18: X
A19: 18 | D19: 5ème | E19: EXT | F19: non | G19: non | I19: X
A20: 19 | D20: 5ème | E20: INT | F20: x | G20: x | I20: X

Sheet 4ème
B1: Nom | C1: Prénom | D1: Classe | E1: Régime | F1: Etude1 | G1: Etude2 | H1: ALL | I1: ESP
A2: 1 | D2: 4ème | E2: INT | F2: X | G2: x | I2: X
A3: 2 | D3: 4ème | E3: EXT | F3: non | G3: non | I3: X
A4: 3 | D4: 4ème | E4: INT | F4: X | G4: x | I4: X
A5: 4 | D5: 4ème | E5: DP | F5: X | G5: x | I5: X
A6: 5 | D6: 4ème | E6: INT | F6: x | G6: x | H6: X
A7: 6 | D7: 4ème | E7: INT | F7: non | G7: non | I7: X
A8: 7 | D8: 4ème | E8: DP | F8: non | G8: non | I8: X
A9: 8 | D9: 4ème | E9: INT | F9: X | G9: x | I9: X
A10: 9 | D10: 4ème FLE | E10: INT | F10: X | G10: x | I10: X
A11: 10 | D11: 4ème | E11: DP | F11: non | G11: non | H11: X
A12: 11 | D12: 4ème | E12: DP | F12: non | G12: non | I12: X
A13: 12 | D13: 4ème | E13: INT | F13: X | G13: x | I13: X
A14: 13 | D14: 4ème | E14: INT | F14: X | G14: x | I14: X
A15: 14 | D15: 4ème | E15: INT | F15: X | G15: x | I15: X
A16: 15 | D16: 4ème FLE | E16: INT | F16: X | G16: x | I16: X
A17: 16 | D17: 4ème FLE | E17: INT | F17: X | G17: x | I17: X
A18: 17 | D18: 4ème | E18: DP | F18: non | G18: non | I18: X
A19: 18 | D19: 4ème | E19: INT | F19: X | G19: x | H19: X
A20: 19 | D20: 4ème | E20: INT | F20: X | G20: x | H20: X
A21: 20 | D21: 4ème | E21: DP | F21: X | G21: x | H21: X
A22: 21 | D22: 4ème | E22: INT | F22: X | G22: x | H22: X
A23: 22 | D23: 4ème | E23: DP | F23: non | G23: non | I23: X
A24: 23 | D24: 4ème FLE | E24: INT | F24: X | G24: x | I24: X
A25: 24 | D25: 4ème | E25: INT | F25: X | G25: x | H25: X
A26: 25 | D26: 4ème | E26: INT | F26: X | G26: x
A27: 26 | D27: 4ème | E27: INT | F27: X | G27: x | I27: X
A28: 27 | D28: 4ème | E28: EXT | F28: X | G28: x | I28: X
A29: 28 | D29: 4ème | E29: INT | F29: X | G29: x | H29: X
A30: 29 | D30: 4ème | E30: INT | F30: X | G30: x | I30: X
A31: 30 | D31: 4ème | E31: INT | F31: X | G31: x | I31: X
A32: 31 | D32: 4ème | E32: INT | F32: X | G32: x | I32: X
A33: 32 | D33: 4ème | E33: EXT | F33: non | G33: non | I33: X

Sheet 3ème
B1: Nom | C1: Prénom | D1: Classe | E1: Régime | F1: Etude1 | G1: Etude2 | H1: ALL | I1: ESP
A2: 1 | D2: 3ème | E2: INT | F2: x | G2: x | I2: x
A3: 2 | D3: 3ème | E3: EXT | F3: non | G3: non | H3: x
A4: 3 | D4: 3ème | E4: DP | F4: non | G4: non | H4: x
A5: 4 | D5: 3ème | E5: EXT | F5: non | G5: non | H5: x
A6: 5 | D6: 3ème | E6: INT | F6: x | G6: x | H6: x
A7: 6 | D7: 3ème | E7: INT | F7: x | G7: x | I7: x
A8: 7 | D8: 3ème | E8: INT | F8: x | G8: x | H8: x
A9: 8 | D9: 3ème | E9: INT | F9: x | G9: x | I9: x
A10: 9 | D10: 3ème | E10: INT | F10: x | G10: x | H10: x
A11: 10 | D11: 3ème | E11: INT | F11: x | G11: x
A12: 11 | D12: 3ème | E12: INT | F12: x | G12: x | H12: x
A13: 12 | D13: 3ème FLE | E13: INT | F13: x | G13: x | I13: x
A14: 13 | D14: 3ème | E14: INT | F14: x | G14: x | I14: x
A15: 14 | D15: 3ème | E15: INT | F15: x | G15: x | H15: x
A16: 15 | D16: 3ème FLE | E16: INT | F16: x | G16: x | I16: x
A17: 16 | D17: 3ème | E17: INT | F17: x | G17: x | H17: x
A18: 17 | D18: 3ème | E18: DP | F18: non | G18: non | H18: x
A19: 18 | D19: 3ème | E19: INT | F19: x | G19: x | I19: x
A20: 19 | D20: 3ème | E20: INT | F20: x | G20: x | I20: x
A21: 21 | D21: 3ème FLE | E21: INT | F21: x | G21: x | I21: x
A22: 22 | D22: 3ème | E22: INT | F22: x | G22: x
A23: 23 | D23: 3ème FLE | E23: INT | F23: x | G23: x | I23: x
A24: 24 | D24: 3ème | E24: DP
A25: 25 | D25: 3ème | E25: INT | F25: abste | G25: abste

Sheet liste étude collège complète
A1: ETUDE COLLEGE DU : ….....................
B2: NOM | C2: PRENOM | F2: H1 | G2: H2 | H2: COMMENTAIRE | I2: math | J2: francais | K2: anglais
A3: 1 | B3: paul | C3: bertrand | D3: ='6ème'!D2 -> 6ème | E3: ='6ème'!E2 -> DP | F3: ='6ème'!F2 -> x | G3: ='6ème'!G2 -> non | I3: x
A4: 2 | B4: jacques | C4: delart | D4: ='6ème'!D3 -> 6ème | E4: ='6ème'!E3 -> INT | F4: ='6ème'!F3 -> x | G4: ='6ème'!G3 -> x | K4: x
A5: 3 | B5: henry | C5: dulard | D5: ='6ème'!D4 -> 6ème | E5: ='6ème'!E4 -> DP | F5: ='6ème'!F4 -> non | G5: ='6ème'!G4 -> non | K5: x
A6: 4 | D6: ='6ème'!D5 -> 6ème | E6: ='6ème'!E5 -> INT | F6: ='6ème'!F5 -> x | G6: ='6ème'!G5 -> x
A7: 5 | D7: ='6ème'!D6 -> 6ème | E7: ='6ème'!E6 -> DP | F7: ='6ème'!F6 -> non | G7: ='6ème'!G6 -> non
A8: 6 | D8: ='6ème'!D7 -> 6ème | E8: ='6ème'!E7 -> DP | F8: ='6ème'!F7 -> x | G8: ='6ème'!G7 -> x
A9: 7 | D9: ='6ème'!D8 -> 6ème | E9: ='6ème'!E8 -> DP | F9: ='6ème'!F8 -> x | G9: ='6ème'!G8 -> x
A10: 8 | D10: ='6ème'!D9 -> 6ème | E10: ='6ème'!E9 -> EX | F10: ='6ème'!F9 -> x | G10: ='6ème'!G9 -> x
A11: 9 | D11: ='6ème'!D10 -> 6ème | E11: ='6ème'!E10 -> DP | F11: ='6ème'!F10 -> x | G11: ='6ème'!G10 -> non
A12: 10 | D12: ='6ème'!D11 -> 6ème | E12: ='6ème'!E11 -> DP | F12: ='6ème'!F11 -> x | G12: ='6ème'!G11 -> x
A13: 11 | D13: ='6ème'!D12 -> 6ème FLE | E13: ='6ème'!E12 -> INT | F13: ='6ème'!F12 -> x | G13: ='6ème'!G12 -> x
A14: 12 | D14: ='6ème'!D13 -> 6ème | E14: ='6ème'!E13 -> EX | F14: ='6ème'!F13 -> non | G14: ='6ème'!G13 -> non
A15: 13 | D15: ='6ème'!D14 -> 6ème | E15: ='6ème'!E14 -> DP | F15: ='6ème'!F14 -> x | G15: ='6ème'!G14 -> x
A16: 14 | D16: ='6ème'!D15 -> 6ème | E16: ='6ème'!E15 -> INT | F16: ='6ème'!F15 -> x | G16: ='6ème'!G15 -> x
A17: 15 | D17: ='6ème'!D16 -> 6ème | E17: ='6ème'!E16 -> INT | F17: ='6ème'!F16 -> x | G17: ='6ème'!G16 -> x
... A21: 19 | D21: ='6ème'!D20 -> 6ème | E21: ='6ème'!E20 -> DP | F21: ='6ème'!F20 -> x | G21: ='6ème'!G20 -> non
A22: 20 | D22: ='5ème'!D2 -> 5ème | E22: ='5ème'!E2 -> EX | F22: ='5ème'!F2 -> non | G22: ='5ème'!G2 -> non
A23: 21 | D23: ='5ème'!D3 -> 5ème | E23: ='5ème'!E3 -> INT | F23: ='5ème'!F3 -> x | G23: ='5ème'!G3 -> x
A24: 22 | D24: ='5ème'!D4 -> 5ème | E24: ='5ème'!E4 -> DP | F24: ='5ème'!F4 -> non | G24: ='5ème'!G4 -> non
A25: 23 | D25: ='5ème'!D5 -> 5ème | E25: ='5ème'!E5 -> INT | F25: ='5ème'!F5 -> x | G25: ='5ème'!G5 -> x
A26: 24 | D26: ='5ème'!D6 -> 5ème | E26: ='5ème'!E6 -> DP | F26: ='5ème'!F6 -> non | G26: ='5ème'!G6 -> non
A27: 25 | D27: ='5ème'!D7 -> 5ème | E27: ='5ème'!E7 -> INT | F27: ='5ème'!F7 -> x | G27: ='5ème'!G7 -> x
A28: 26 | D28: ='5ème'!D8 -> 5ème | E28: ='5ème'!E8 -> INT | F28: ='5ème'!F8 -> x | G28: ='5ème'!G8 -> x
A29: 27 | D29: ='5ème'!D9 -> 5ème | E29: ='5ème'!E9 -> INT | F29: ='5ème'!F9 -> x | G29: ='5ème'!G9 -> x
A30: 28 | D30: ='5ème'!D10 -> 5ème | E30: ='5ème'!E10 -> EXT | F30: ='5ème'!F10 -> x | G30: ='5ème'!G10 -> x
A31: 29 | D31: ='5ème'!D11 -> 5ème | E31: ='5ème'!E11 -> DP | F31: ='5ème'!F11 -> x | G31: ='5ème'!G11 -> x
A32: 30 | D32: ='5ème'!D12 -> 5ème | E32: ='5ème'!E12 -> INT | F32: ='5ème'!F12 -> x | G32: ='5ème'!G12 -> x
A33: 31 | D33: ='5ème'!D13 -> 5ème | E33: ='5ème'!E13 -> INT | F33: ='5ème'!F13 -> x | G33: ='5ème'!G13 -> x
... A40: 38 | D40: ='5ème'!D20 -> 5ème | E40: ='5ème'!E20 -> INT | F40: ='5ème'!F20 -> x | G40: ='5ème'!G20 -> x
A41: 39 | D41: ='4ème'!D2 -> 4ème | E41: ='4ème'!E2 -> INT | F41: ='4ème'!F2 -> X | G41: ='4ème'!G2 -> x
A42: 40 | D42: ='4ème'!D3 -> 4ème | E42: ='4ème'!E3 -> EXT | F42: ='4ème'!F3 -> non | G42: ='4ème'!G3 -> non
A43: 41 | D43: ='4ème'!D4 -> 4ème | E43: ='4ème'!E4 -> INT | F43: ='4ème'!F4 -> X | G43: ='4ème'!G4 -> x
A44: 42 | D44: ='4ème'!D5 -> 4ème | E44: ='4ème'!E5 -> DP | F44: ='4ème'!F5 -> X | G44: ='4ème'!G5 -> x
A45: 43 | D45: ='4ème'!D6 -> 4ème | E45: ='4ème'!E6 -> INT | F45: ='4ème'!F6 -> x | G45: ='4ème'!G6 -> x
A46: 44 | D46: ='4ème'!D7 -> 4ème | E46: ='4ème'!E7 -> INT | F46: ='4ème'!F7 -> non | G46: ='4ème'!G7 -> non
A47: 45 | D47: ='4ème'!D8 -> 4ème | E47: ='4ème'!E8 -> DP | F47: ='4ème'!F8 -> non | G47: ='4ème'!G8 -> non
A48: 46 | D48: ='4ème'!D9 -> 4ème | E48: ='4ème'!E9 -> INT | F48: ='4ème'!F9 -> X | G48: ='4ème'!G9 -> x
A49: 47 | D49: ='4ème'!D10 -> 4ème FLE | E49: ='4ème'!E10 -> INT | F49: ='4ème'!F10 -> X | G49: ='4ème'!G10 -> x
A50: 48 | D50: ='4ème'!D11 -> 4ème | E50: ='4ème'!E11 -> DP | F50: ='4ème'!F11 -> non | G50: ='4ème'!G11 -> non
A51: 49 | D51: ='4ème'!D12 -> 4ème | E51: ='4ème'!E12 -> DP | F51: ='4ème'!F12 -> non | G51: ='4ème'!G12 -> non
A52: 50 | D52: ='4ème'!D13 -> 4ème | E52: ='4ème'!E13 -> INT | F52: ='4ème'!F13 -> X | G52: ='4ème'!G13 -> x
... A72: 70 | D72: ='4ème'!D33 -> 4ème | E72: ='4ème'!E33 -> EXT | F72: ='4ème'!F33 -> non | G72: ='4ème'!G33 -> non
A73: 71 | D73: ='3ème'!D2 -> 3ème | E73: ='3ème'!E2 -> INT | F73: ='3ème'!F2 -> x | G73: ='3ème'!G2 -> x
A74: 72 | D74: ='3ème'!D3 -> 3ème | E74: ='3ème'!E3 -> EXT | F74: ='3ème'!F3 -> non | G74: ='3ème'!G3 -> non
A75: 73 | D75: ='3ème'!D4 -> 3ème | E75: ='3ème'!E4 -> DP | F75: ='3ème'!F4 -> non | G75: ='3ème'!G4 -> non
A76: 74 | D76: ='3ème'!D5 -> 3ème | E76: ='3ème'!E5 -> EXT | F76: ='3ème'!F5 -> non | G76: ='3ème'!G5 -> non
A77: 75 | D77: ='3ème'!D6 -> 3ème | E77: ='3ème'!E6 -> INT | F77: ='3ème'!F6 -> x | G77: ='3ème'!G6 -> x
A78: 76 | D78: ='3ème'!D7 -> 3ème | E78: ='3ème'!E7 -> INT | F78: ='3ème'!F7 -> x | G78: ='3ème'!G7 -> x
A79: 77 | D79: ='3ème'!D8 -> 3ème | E79: ='3ème'!E8 -> INT | F79: ='3ème'!F8 -> x | G79: ='3ème'!G8 -> x
A80: 78 | D80: ='3ème'!D9 -> 3ème | E80: ='3ème'!E9 -> INT | F80: ='3ème'!F9 -> x | G80: ='3ème'!G9 -> x
A81: 79 | D81: ='3ème'!D10 -> 3ème | E81: ='3ème'!E10 -> INT | F81: ='3ème'!F10 -> x | G81: ='3ème'!G10 -> x
A82: 80 | D82: ='3ème'!D11 -> 3ème | E82: ='3ème'!E11 -> INT | F82: ='3ème'!F11 -> x | G82: ='3ème'!G11 -> x
A83: 81 | D83: ='3ème'!D12 -> 3ème | E83: ='3ème'!E12 -> INT | F83: ='3ème'!F12 -> x | G83: ='3ème'!G12 -> x
A84: 82 | D84: ='3ème'!D13 -> 3ème FLE | E84: ='3ème'!E13 -> INT | F84: ='3ème'!F13 -> x | G84: ='3ème'!G13 -> x
... A94: 92 | D94: ='3ème'!D23 -> 3ème FLE | E94: ='3ème'!E23 -> INT | F94: ='3ème'!F23 -> x | G94: ='3ème'!G23 -> x
A95: 93 | D95: ='3ème'!D24 -> 3ème | E95: ='3ème'!E24 -> DP | F95: x | G95: x
A96: 94 | D96: ='3ème'!D25 -> 3ème | E96: ='3ème'!E25 -> INT | F96: ='3ème'!F25 -> abste | G96: ='3ème'!G25 -> abste

Sheet LUNDI COLLEGE
B1: REPARTITION ETUDES LUNDI
B3: Etude du LUNDI 16h45-17h45
B4: Salle 6EME | C4: salle 3EME | D4: Salle 5EME | E4: Salle LANGUE | F4: Salle rouge Espérance
B5: HISTOIRE GEO | C5: MATH-SVT | D5: MATHS | E5: ANGLAIS | F5: FLE M. MANGIN pour les élèves hispanophone et Anglophone
A6: 1 | C6: paul bertrand | E6: jacques delart
A7: 2 | E7: henry dulard
A8: 3
A9: 4
A10: 5
A11: 6
A12: 7
A13: 8
A14: 9
A15: 10
B17: Etude du LUNDI 17h45-18h45
B18: Salle 6EME | C18: salle 3EME | D18: Salle 5EME | E18: Salle LANGUE | F18: Salle rouge Espérance
B19: HISTOIRE GEO | C19: FRANCAIS | D19: MATHS | E19: ANGLAIS | F19: FLE M. MANGIN pour les élèves hispanophone et Anglophone
A20: 1
A21: 2
A22: 3
A23: 4
A24: 5
A25: 6
A26: 7
A27: 8
A28: 9
A29: 10

Sheet JEUDI COLLEGE
B1: REPARTITION ETUDES JEUDI
B3: Etude du JEUDI 16h45-17h45
B4: Salle 6EME | C4: salle 3EME | D4: Salle 5EME | E4: Salle LANGUE | F4: Salle rouge Espérance
B5: HISTOIRE GEO | C5: MATH-SVT | D5: FRANCAIS | E5: MATHS | F5: FLE M. MANGIN pour les élèves hispanophone et Anglophone
A6: 1
A7: 2
A8: 3
A9: 4
A10: 5
A11: 6
A12: 7
A13: 8
A14: 9
A15: 10
B17: Etude du JEUDI 17h45-18h45
B18: Salle 6EME | C18: salle 3EME | D18: Salle 5EME | E18: Salle LANGUE
B19: HISTOIRE GEO | C19: MATH-SVT | D19: FRANCAIS | E19: MATHS
A20: 1
A21: 2
A22: 3
A23: 4
A24: 5
A25: 6
A26: 7
A27: 8
A28: 9
A29: 10
