Workbook

Sheet Feuil1
A1: numero de factre | B1: montant | C1: date
A2: 500153 | B2: =VLOOKUP("*"&A2&"*",Feuil3!A:C,2,0) -> #N/A | C2: =VLOOKUP("*"&A2&"*",Feuil3!A:C,3,0) -> #N/A
A3: 501528 | B3: =VLOOKUP("*"&A3&"*",Feuil3!A:C,2,0) -> #N/A | C3: =VLOOKUP("*"&A3&"*",Feuil3!A:C,3,0) -> #N/A
A4: 501823 | B4: =VLOOKUP("*"&A4&"*",Feuil3!A:C,2,0) -> #N/A | C4: =VLOOKUP("*"&A4&"*",Feuil3!A:C,3,0) -> #N/A
A5: 501824 | B5: =VLOOKUP("*"&A5&"*",Feuil3!A:C,2,0) -> #N/A | C5: =VLOOKUP("*"&A5&"*",Feuil3!A:C,3,0) -> #N/A
A6: 582386 | B6: =VLOOKUP("*"&A6&"*",Feuil3!A:C,2,0) -> #N/A | C6: =VLOOKUP("*"&A6&"*",Feuil3!A:C,3,0) -> #N/A
A7: 001457 | B7: =VLOOKUP("*"&A7&"*",Feuil3!A:C,2,0) -> #N/A | C7: =VLOOKUP("*"&A7&"*",Feuil3!A:C,3,0) -> #N/A
A8: 001458 | B8: =VLOOKUP("*"&A8&"*",Feuil3!A:C,2,0) -> #N/A | C8: =VLOOKUP("*"&A8&"*",Feuil3!A:C,3,0) -> #N/A
A9: 001459 | B9: =VLOOKUP("*"&A9&"*",Feuil3!A:C,2,0) -> #N/A | C9: =VLOOKUP("*"&A9&"*",Feuil3!A:C,3,0) -> #N/A
A10: 001460 | B10: =VLOOKUP("*"&A10&"*",Feuil3!A:C,2,0) -> #N/A | C10: =VLOOKUP("*"&A10&"*",Feuil3!A:C,3,0) -> #N/A
A11: 503216 | B11: =VLOOKUP("*"&A11&"*",Feuil3!A:C,2,0) -> #N/A | C11: =VLOOKUP("*"&A11&"*",Feuil3!A:C,3,0) -> #N/A
A12: 502203 | B12: =VLOOKUP("*"&A12&"*",Feuil3!A:C,2,0) -> #N/A | C12: =VLOOKUP("*"&A12&"*",Feuil3!A:C,3,0) -> #N/A
A13: 502204 | B13: =VLOOKUP("*"&A13&"*",Feuil3!A:C,2,0) -> #N/A | C13: =VLOOKUP("*"&A13&"*",Feuil3!A:C,3,0) -> #N/A
... A980: 662078 | B980: =VLOOKUP("*"&A980&"*",Feuil3!A:C,2,0) -> 4808.79 | C980: =VLOOKUP("*"&A980&"*",Feuil3!A:C,3,0) -> franprix
A981: 662079 | B981: =VLOOKUP("*"&A981&"*",Feuil3!A:C,2,0) -> #N/A | C981: =VLOOKUP("*"&A981&"*",Feuil3!A:C,3,0) -> #N/A
A982: 659383 | B982: =VLOOKUP("*"&A982&"*",Feuil3!A:C,2,0) -> 4808.79 | C982: =VLOOKUP("*"&A982&"*",Feuil3!A:C,3,0) -> franprix
A983: 142933 | B983: =VLOOKUP("*"&A983&"*",Feuil3!A:C,2,0) -> 4149.15 | C983: =VLOOKUP("*"&A983&"*",Feuil3!A:C,3,0) -> franprix
A984: 142934 | B984: =VLOOKUP("*"&A984&"*",Feuil3!A:C,2,0) -> 998.59 | C984: =VLOOKUP("*"&A984&"*",Feuil3!A:C,3,0) -> franprix
A985: 142935 | B985: =VLOOKUP("*"&A985&"*",Feuil3!A:C,2,0) -> 4149.15 | C985: =VLOOKUP("*"&A985&"*",Feuil3!A:C,3,0) -> franprix
A986: 142936 | B986: =VLOOKUP("*"&A986&"*",Feuil3!A:C,2,0) -> 4149.15 | C986: =VLOOKUP("*"&A986&"*",Feuil3!A:C,3,0) -> franprix
A987: 142937 | B987: =VLOOKUP("*"&A987&"*",Feuil3!A:C,2,0) -> 619.2 | C987: =VLOOKUP("*"&A987&"*",Feuil3!A:C,3,0) -> franprix
A988: 142928 | B988: =VLOOKUP("*"&A988&"*",Feuil3!A:C,2,0) -> 8960.12 | C988: =VLOOKUP("*"&A988&"*",Feuil3!A:C,3,0) -> franprix
A989: 142929 | B989: =VLOOKUP("*"&A989&"*",Feuil3!A:C,2,0) -> 1503.21 | C989: =VLOOKUP("*"&A989&"*",Feuil3!A:C,3,0) -> franprix
A990: 142931 | B990: =VLOOKUP("*"&A990&"*",Feuil3!A:C,2,0) -> 8960.12 | C990: =VLOOKUP("*"&A990&"*",Feuil3!A:C,3,0) -> franprix
A991: 142932 | B991: =VLOOKUP("*"&A991&"*",Feuil3!A:C,2,0) -> #N/A | C991: =VLOOKUP("*"&A991&"*",Feuil3!A:C,3,0) -> #N/A
A992: 663544 | B992: =VLOOKUP("*"&A992&"*",Feuil3!A:C,2,0) -> 2064.64 | C992: =VLOOKUP("*"&A992&"*",Feuil3!A:C,3,0) -> franprix
A993: 663545 | B993: =VLOOKUP("*"&A993&"*",Feuil3!A:C,2,0) -> 2064.64 | C993: =VLOOKUP("*"&A993&"*",Feuil3!A:C,3,0) -> franprix
... A1538: 197029 | B1538: =VLOOKUP("*"&A1538&"*",Feuil3!A:C,2,0) -> 338.41 | C1538: =VLOOKUP("*"&A1538&"*",Feuil3!A:C,3,0) -> franprix
A1539: 197030 | B1539: =VLOOKUP("*"&A1539&"*",Feuil3!A:C,2,0) -> 5503.72 | C1539: =VLOOKUP("*"&A1539&"*",Feuil3!A:C,3,0) -> franprix
A1540: 197031 | B1540: =VLOOKUP("*"&A1540&"*",Feuil3!A:C,2,0) -> 253.82 | C1540: =VLOOKUP("*"&A1540&"*",Feuil3!A:C,3,0) -> franprix
A1541: 719231 | B1541: =VLOOKUP("*"&A1541&"*",Feuil3!A:C,2,0) -> 548.41 | C1541: =VLOOKUP("*"&A1541&"*",Feuil3!A:C,3,0) -> franprix
A1542: 719443 | B1542: =VLOOKUP("*"&A1542&"*",Feuil3!A:C,2,0) -> 2511.51 | C1542: =VLOOKUP("*"&A1542&"*",Feuil3!A:C,3,0) -> franprix
A1543: 719444 | B1543: =VLOOKUP("*"&A1543&"*",Feuil3!A:C,2,0) -> 2511.51 | C1543: =VLOOKUP("*"&A1543&"*",Feuil3!A:C,3,0) -> franprix
A1544: 688604 | B1544: =VLOOKUP("*"&A1544&"*",Feuil3!A:C,2,0) -> 2511.51 | C1544: =VLOOKUP("*"&A1544&"*",Feuil3!A:C,3,0) -> franprix
A1545: 201173 | B1545: =VLOOKUP("*"&A1545&"*",Feuil3!A:C,2,0) -> 2179.86 | C1545: =VLOOKUP("*"&A1545&"*",Feuil3!A:C,3,0) -> franprix
A1546: 201186 | B1546: =VLOOKUP("*"&A1546&"*",Feuil3!A:C,2,0) -> 1169.82 | C1546: =VLOOKUP("*"&A1546&"*",Feuil3!A:C,3,0) -> franprix
A1547: 201187 | B1547: =VLOOKUP("*"&A1547&"*",Feuil3!A:C,2,0) -> 1169.82 | C1547: =VLOOKUP("*"&A1547&"*",Feuil3!A:C,3,0) -> franprix
A1548: 201189 | B1548: =VLOOKUP("*"&A1548&"*",Feuil3!A:C,2,0) -> 1169.82 | C1548: =VLOOKUP("*"&A1548&"*",Feuil3!A:C,3,0) -> franprix
A1549: 721077 | B1549: =VLOOKUP("*"&A1549&"*",Feuil3!A:C,2,0) -> 1139.96 | C1549: =VLOOKUP("*"&A1549&"*",Feuil3!A:C,3,0) -> franprix
A1550: 721078 | B1550: =VLOOKUP("*"&A1550&"*",Feuil3!A:C,2,0) -> 1139.96 | C1550: =VLOOKUP("*"&A1550&"*",Feuil3!A:C,3,0) -> franprix
...

Sheet Feuil3
A1: Libellé | B1: Débit euros | C1: categorie
A2: PRELEVEMENT DISTRIBUTION FRANPRIX /ADV/0000728693 27.5.2019 000000002371 FR79ZZZ262137 0000728693 | B2: 4059.49 | C2: franprix
A3: PRELEVEMENT DISTRIBUTION FRANPRIX /ADV/0000728710 27.5.2019 000000002256 FR79ZZZ262137 0000728710 | B3: 6775.28 | C3: franprix
A4: PRELEVEMENT DISTRIBUTION FRANPRIX /ADV/0000728714 27.5.2019 000000002256 FR79ZZZ262137 0000728714 | B4: 10457.4 | C4: franprix
A5: PRELEVEMENT DISTRIBUTION FRANPRIX /ADV/0000728717 27.5.2019 000000002256 FR79ZZZ262137 0000728717 | B5: 8589.36 | C5: franprix
A6: PRELEVEMENT DISTRIBUTION FRANPRIX /ADV/0000849972 30.6.2019 000000002409 FR79ZZZ262137 0000849972 | B6: 3691.93 | C6: franprix
A7: PRELEVEMENT DISTRIBUTION FRANPRIX /ADV/0000884695 21.6.2019 000000002371 FR79ZZZ262137 0000884695 | B7: 2339.65 | C7: franprix
A8: PRELEVEMENT DISTRIBUTION FRANPRIX /ADV/0000884704 21.6.2019 000000002256 FR79ZZZ262137 0000884704 | B8: 2513.72 | C8: franprix
A9: PRELEVEMENT DISTRIBUTION FRANPRIX /ADV/0000884713 21.6.2019 000000002256 FR79ZZZ262137 0000884713 | B9: 6573.08 | C9: franprix
A10: PRELEVEMENT DISTRIBUTION FRANPRIX /ADV/0001055594 30.7.2019 000000002371 FR79ZZZ262137 0001055594 | B10: 1712.16 | C10: franprix
A11: PRELEVEMENT DISTRIBUTION FRANPRIX /ADV/0001102525 26.7.2019 000000002371 FR79ZZZ262137 0001102525 | B11: 7684.92 | C11: franprix
A12: PRELEVEMENT DISTRIBUTION FRANPRIX /ADV/0001102539 26.7.2019 000000002256 FR79ZZZ262137 0001102539 | B12: 7655.5 | C12: franprix
A13: PRELEVEMENT DISTRIBUTION FRANPRIX /INV/05-19-119792 18.4.2019/INV/05-19-119794 18.4.2019/INV/05-19-119795 18.4.2019 000000002371 FR79ZZZ262137 0000517365 | B13: 5895.11 | C13: franprix
... A609: PRELEVEMENT SEDIFRAIS /INV/SS02219V00717703 8.8.2019/INV/10-19-768798 8.8.2019 000000001974 FR45ZZZ398840 0000970837 | B609: 3041.22 | C609: franprix
