Workbook

Sheet Analyse
Y1: OPTIMISATION DU STOCK | Z1: 1 | AA1: Si la moyenne des consommations des trois derniers mois est inférieure de plus de 20% (buffer) (50% pour les Min/Max) à la moyenne des consommations des 12 derniers mois. | AC1: Rupture de stock
Y2: AMÉLIORATION SÉCURISATION | Z2: 2 | AA2: Si la moyenne des consommations des trois derniers mois est supérieure de plus de 20% à la moyenne des consommations des 12 derniers mois. | AB2: M-12 | AC2: =INDEX(MasterData!$A:$IV,MATCH($D$11,MasterData!$A:$A,0),70) -> 0
Y3: OPTIMISATION DU STOCK | Z3: 3 | AA3: La Demand Variance est faible et la zone de sécurité n’est jamais atteinte, cela sous-entend que la pièce est trop sécurisée. | AB3: M-11 | AC3: =INDEX(MasterData!$A:$IV,MATCH($D$11,MasterData!$A:$A,0),71) -> 2
Y4: AMÉLIORATION SÉCURISATION | Z4: 4 | AA4: La Demand Variance est faible et le flux physique de la pièce est régulièrement dans la zone rouge d’exécution, cela sous-entend que la pièce n’est certainement pas assez sécurisée. | AB4: M-10 | AC4: =INDEX(MasterData!$A:$IV,MATCH($D$11,MasterData!$A:$A,0),72) -> 1
Y5: OPTIMISATION DU STOCK | Z5: 5 | AA5: La Demand Variance est élevée mais la couverture de stock est importante. Cela sous-entend une sécurisation trop forte. | AB5: M-9 | AC5: =INDEX(MasterData!$A:$IV,MATCH($D$11,MasterData!$A:$A,0),73) -> 1
Y6: AMÉLIORATION SÉCURISATION | Z6: 6 | AA6: La Demand Variance est élevée et le flux physique de la pièce est régulièrement dans la zone rouge d’exécution, cela sous-entend que la pièce n’est certainement pas assez sécurisée. | AB6: M-8 | AC6: =INDEX(MasterData!$A:$IV,MATCH($D$11,MasterData!$A:$A,0),74) -> 1
C7: =INDEX($Y$1:$AA$8,MATCH($D$8,$Z$1:$Z$8,0),1) -> OPTIMISATION DU STOCK | Y7: OPTIMISATION DU STOCK | Z7: 7 | AA7: La moyenne des en-cours de commandes et des prévisions des six prochains mois est inférieure de 30% à la moyenne des consommations des six derniers mois. | AB7: M-7 | AC7: =INDEX(MasterData!$A:$IV,MATCH($D$11,MasterData!$A:$A,0),75) -> 1
C8: Alerte : | D8: 1 | Y8: AMÉLIORATION SÉCURISATION | Z8: 8 | AA8: La moyenne des en-cours de commandes et des prévisions des six prochains mois est supérieure de 30% à la moyenne des consommations des six derniers mois. | AB8: M-6 | AC8: =INDEX(MasterData!$A:$IV,MATCH($D$11,MasterData!$A:$A,0),76) -> 3
AB9: M-5 | AC9: =INDEX(MasterData!$A:$IV,MATCH($D$11,MasterData!$A:$A,0),77) -> 3
AB10: M-4 | AC10: =INDEX(MasterData!$A:$IV,MATCH($D$11,MasterData!$A:$A,0),78) -> 1
C11: Référence : | D11: =IF($D$8=$Z$1,INDEX(MasterData!$A:$A,MATCH(1,MasterData!$IF:$IF,0)),IF($D$8=$Z$2,INDEX(MasterData!$A:$A,MATCH(1,MasterData!$IG:$IG,0)),IF($D$8=$Z$3,INDEX(MasterData!$A:$A,MATCH(1,MasterData!$IH:$IH,0)),IF($D$8=$Z$4,INDEX(MasterData!$A:$A,MATCH(1,MasterData!$II:$II,0)),IF($D$8=$Z$5,INDEX(MasterData!$A:$A,MATCH(1,MasterData!$IJ:$IJ,0)),IF($D$8=$Z$6,INDEX(MasterData!$A:$A,MATCH(1,MasterData!$IK:$IK,0)),IF($D$8=$Z$7,INDEX(MasterData!$A:$A,MATCH(1,MasterData!$IL:$IL,0)),IF($D$8=$Z$8,INDEX(MasterData!$A:$A,MATCH(1,MasterData!$IM:$IM,0)),"")))))))) -> 112435 | AB11: M-3 | AC11: =INDEX(MasterData!$A:$IV,MATCH($D$11,MasterData!$A:$A,0),79) -> 1
AB12: M-2 | AC12: =INDEX(MasterData!$A:$IV,MATCH($D$11,MasterData!$A:$A,0),80) -> 3
AB13: M-1 | AC13: =INDEX(MasterData!$A:$IV,MATCH($D$11,MasterData!$A:$A,0),81) -> 2
AB14: M | AC14: =INDEX(MasterData!$A:$IV,MATCH($D$11,MasterData!$A:$A,0),82) -> 3
F35: Préconisation finale :

Sheet MasterData
A1: 1 | E1: 5 | H1: 8 | J1: 10 | K1: 11 | L1: 12 | M1: 13 | N1: 14 | P1: 16 | R1: 18 | S1: 19 | T1: 20 | U1: 21 | V1: 22 | W1: 23 | X1: 24 | Y1: 25 | Z1: 26 | AA1: 27 | AB1: 28 | AC1: 29 | AD1: 30 | AE1: 31 | AF1: 32 | AG1: 33 | AH1: 34 | AI1: 35 | AJ1: S | AK1: M-12 | AL1: M-11 | AM1: M-10 | AN1: M-9 | AO1: M-8 | AP1: M-7 | AQ1: M-6 | AR1: M-5 | AS1: M-4 | AT1: M-3 | AU1: M-2 | AV1: M-1 | AW1: S-3 | AX1: S-2 | AY1: S-1 | AZ1: S | BA1: M-12 | BB1: M-11 | BC1: M-10 | BD1: M-9 | BE1: M-8 | BF1: M-7 | BG1: M-6 | BH1: M-5 | BI1: M-4 | BJ1: M-3 | BK1: M-2 | BL1: M-1 | BM1: M | BN1: S-3 | BO1: S-2 | BP1: S-1 | BQ1: S | BR1: M-12 | BS1: M-11 | BT1: M-10 | BU1: M-9 | BV1: M-8 | BW1: M-7 | BX1: M-6 | BY1: M-5 | BZ1: M-4 | CA1: M-3 | CB1: M-2 | CC1: M-1 | CD1: S-3 | CE1: S-2 | CF1: S-1 | CG1: S | CH1: M-12 | CI1: M-11 | CJ1: M-10 | CK1: M-9 | CL1: M-8 | CM1: M-7 | CN1: M-6 | CO1: M-5 | CP1: M-4 | CQ1: M-3 | CR1: M-2 | CS1: M-1 | CT1: S-3 | CU1: S-2 | CV1: S-1 | CW1: S | CX1: M-12 | CY1: M-11 | CZ1: M-10 | DA1: M-9 | DB1: M-8 | DC1: M-7 | DD1: M-6 | DE1: M-5 | DF1: M-4 | DG1: M-3 | DH1: M-2 | DI1: M-1 | DJ1: S-3 | DK1: S-2 | DL1: S-1 | DM1: S | DN1: M-12 | DO1: M-11 | DP1: M-10 | DQ1: M-9 | DR1: M-8 | DS1: M-7 | DT1: M-6 | DU1: M-5 | DV1: M-4 | DW1: M-3 | DX1: M-2 | DY1: M-1 | DZ1: S-3 | EA1: S-2 | EB1: S-1 | EC1: S | ED1: M-12 | EE1: M-11 | EF1: M-10 | EG1: M-9 | EH1: M-8 | EI1: M-7 | EJ1: M-6 | EK1: M-5 | EL1: M-4 | EM1: M-3 | EN1: M-2 | EO1: M-1 | EP1: S-3 | EQ1: S-2 | ER1: S-1 | ES1: S | ET1: M-12 | EU1: M-11 | EV1: M-10 | EW1: M-9 | EX1: M-8 | EY1: M-7 | EZ1: M-6 | FA1: M-5 | FB1: M-4 | FC1: M-3 | FD1: M-2 | FE1: M-1 | FF1: S-3 | FG1: S-2 | FH1: S-1 | FI1: S | FJ1: S- | FK1: S | FL1: S+1 | FM1: S+2 | FN1: S+3 | FO1: M | FP1: M+1 | FQ1: M+2 | FR1: M+3 | FS1: M+4 | FT1: M+5 | FU1: M+6 | FV1: M+7 | FW1: M+8 | FX1: M+9 | FY1: M+10 | FZ1: M+11 | GA1: M+12 | GB1: S | GC1: S+1 | GD1: S+2 | GE1: S+3 | GF1: M | GG1: M+1 | GH1: M+2 | GI1: M+3 | GJ1: M+4 | GK1: M+5 | GL1: M+6 | GM1: M+7 | GN1: M+8 | GO1: M+9 | GP1: M+10 | GQ1: M+11 | GR1: M+12 | GS1: M-12 | GT1: M-11 | GU1: M-10 | GV1: M-9 | GW1: M-8 | GX1: M-7 | GY1: M-6 | GZ1: M-5 | HA1: M-4 | HB1: M-3 | HC1: M-2 | HD1: M-1 | HE1: S-3 | HF1: S-2 | HG1: S-1 | HH1: S | HI1: M-12 | HJ1: M-11 | HK1: M-10 | HL1: M-9 | HM1: M-8 | HN1: M-7 | HO1: M-6 | HP1: M-5 | HQ1: M-4 | HR1: M-3 | HS1: M-2 | HT1: M-1 | HU1: S-3 | HV1: S-2 | HW1: S-1 | HX1: S | IN1: EXCEPTION N°1 | IO1: EXCEPTION N°2 | IP1: EXCEPTION N°3 | IQ1: EXCEPTION N°4 | IR1: EXCEPTION N°5 | IS1: EXCEPTION N°6 | IT1: EXCEPTION N°7 | IU1: EXCEPTION N°8 | IV1: PRECO N°1 | IW1: PRECO N°2 | IX1: PRECO N°3 | IY1: PRECO N°4 | IZ1: PRECO N°5 | JA1: PRECO N°6 | JB1: PRECO N°7 | JC1: PRECO N°8
HX2: 1 | HY2: 2 | HZ2: 3 | IA2: 4 | IB2: 5 | IC2: 6 | ID2: 7 | IE2: 8 | IF2: Top Alerte 1 | IG2: Top Alerte 2 | IH2: Top Alerte 3 | II2: Top Alerte 4 | IJ2: Top Alerte 5 | IK2: Top Alerte 6 | IL2: Top Alerte 7 | IM2: Top Alerte 8 | IN2: 1 | IO2: 2 | IP2: 3 | IQ2: 4 | IR2: 5 | IS2: 6 | IT2: 7 | IU2: 8 | IV2: 1 | IW2: 2 | IX2: 3 | IY2: 4 | IZ2: 5 | JA2: 6 | JB2: 7 | JC2: 8
A3: 111688C | E3: FALSE | H3: 40 | J3: 40 - G | K3: TRUE | N3: Buy | R3: 11.12 | S3: 0.008 | T3: FALSE | U3: 43748 | V3: 0 | W3: 0 | X3: 0 | Y3: 0 | Z3: 0 | AA3: 0 | AB3: 10 | AC3: 5 | AD3: 1250 | AE3: 43691 | AF3: 43748 | AH3: 0.008 | AI3: A | AJ3: 700 | AK3: 700 | AL3: 700 | AM3: 700 | AN3: 700 | AO3: 700 | AP3: 700 | AQ3: 700 | AR3: 700 | AS3: 700 | AT3: 700 | AU3: 700 | AV3: 700 | AW3: 700 | AX3: 700 | AY3: 700 | AZ3: 100 | BA3: 100 | BB3: 100 | BC3: 100 | BD3: 100 | BE3: 100 | BF3: 100 | BG3: 100 | BH3: 100 | BI3: 100 | BJ3: 50 | BK3: 50 | BL3: 50 | BM3: 25 | BN3: 25 | BO3: 25 | BP3: 25 | BQ3: 1 | BR3: 3 | BS3: 0 | BT3: 0 | BU3: 2 | BV3: 0 | BW3: 1 | BX3: 0 | BY3: 2 | BZ3: 0 | CA3: 0 | CB3: 3 | CC3: 1 | CD3: 1 | CE3: 1 | CF3: 2 | CG3: 87 | CH3: 87 | CI3: 87 | CJ3: 87 | CK3: 87 | CL3: 87 | CM3: 87 | CN3: 87 | CO3: 87 | CP3: 87 | CQ3: 87 | CR3: 87 | CS3: 87 | CT3: 87 | CU3: 87 | CV3: 87 | CW3: 55 | CX3: 55 | CY3: 55 | CZ3: 55 | DA3: 55 | DB3: 55 | DC3: 55 | DD3: 55 | DE3: 55 | DF3: 55 | DG3: 55 | DH3: 55 | DI3: 55 | DJ3: 55 | DK3: 55 | DL3: 55 | DM3: 250 | DN3: 250 | DO3: 250 | DP3: 250 | DQ3: 250 | DR3: 250 | DS3: 250 | DT3: 250 | DU3: 250 | DV3: 250 | DW3: 250 | DX3: 250 | DY3: 250 | DZ3: 250 | EA3: 250 | EB3: 250 | EC3: 816 | ED3: 775 | EE3: 285 | EF3: 939 | EG3: 152 | EH3: 406 | EI3: 688 | EJ3: 611 | EK3: 446 | EL3: 170 | EM3: 942 | EN3: 914 | EO3: 802 | EP3: 915 | EQ3: 201 | ER3: 765 | ES3: 583 | ET3: 931 | EU3: 805 | EV3: 847 | EW3: 282 | EX3: 302 | EY3: 866 | EZ3: 60 | FA3: 9 | FB3: 946 | FC3: 921 | FD3: 419 | FE3: 66 | FF3: 26 | FG3: 687 | FH3: 459 | FI3: 0 | FJ3: 50 | FK3: 50 | FL3: 50 | FM3: 50 | FN3: 50 | FO3: 50 | FP3: 50 | FQ3: 50 | FR3: 50 | FS3: 50 | FT3: 50 | FU3: 50 | FV3: 50 | FW3: 50 | FX3: 50 | FY3: 50 | FZ3: 50 | GA3: 50 | GB3: 50 | GC3: 50 | GD3: 50 | GE3: 50 | GF3: 50 | GG3: 50 | GH3: 50 | GI3: 50 | GJ3: 50 | GK3: 50 | GL3: 50 | GM3: 50 | GN3: 50 | GO3: 50 | GP3: 50 | GQ3: 50 | GR3: 0.9 | GS3: 0.9 | GT3: 0.9 | GU3: 0.9 | GV3: 0.9 | GW3: 0.9 | GX3: 0.9 | GY3: 0.9 | GZ3: 0.9 | HA3: 0.9 | HB3: 0.9 | HC3: 0.9 | HD3: 0.9 | HE3: 0.9 | HF3: 0.9 | HG3: 2 | HH3: 0.1 | HI3: 0.1 | HJ3: 0.1 | HK3: 0.1 | HL3: 0.1 | HM3: 0.1 | HN3: 0.1 | HO3: 0.1 | HP3: 0.1 | HQ3: 0.1 | HR3: 0.1 | HS3: 0.1 | HT3: 0.1 | HU3: 0.1 | HV3: 0.1 | HW3: 0.1 | HX3: NOK | HY3: NOK | HZ3: NOK | IA3: NOK | IB3: 55 | IC3: NOK | ID3: NOK | IE3: NOK | IF3: =IFERROR(RANK(HX3,HX:HX,1),"") | IG3: =IFERROR(RANK(HY3,HY:HY,1),"") | IH3: =IFERROR(RANK(HZ3,HZ:HZ,1),"") | II3: =IFERROR(RANK(IA3,IA:IA,1),"") | IJ3: =IFERROR(RANK(IB3,IB:IB,1),"") -> 114 | IK3: =IFERROR(RANK(IC3,IC:IC,1),"") | IL3: =IFERROR(RANK(ID3,ID:ID,1),"") | IM3: =IFERROR(RANK(IE3,IE:IE,1),"")
A4: 111690C | E4: FALSE | H4: 35 | J4: 40 - G | K4: TRUE | N4: Buy | R4: 0 | S4: 0.092 | T4: FALSE | U4: 43741 | V4: 0 | W4: 0 | X4: 0.15323 | Y4: 7 | Z4: 0 | AA4: 20 | AB4: 10 | AC4: 5 | AD4: 108 | AE4: 43691 | AF4: 43741 | AH4: 0.092 | AI4: A | AJ4: 976 | AK4: 613 | AL4: 577 | AM4: 362 | AN4: 769 | AO4: 980 | AP4: 684 | AQ4: 379 | AR4: 1000 | AS4: 383 | AT4: 932 | AU4: 383 | AV4: 141 | AW4: 877 | AX4: 971 | AY4: 240 | AZ4: 100 | BA4: 100 | BB4: 100 | BC4: 100 | BD4: 100 | BE4: 100 | BF4: 100 | BG4: 100 | BH4: 100 | BI4: 100 | BJ4: 150 | BK4: 150 | BL4: 150 | BM4: 25 | BN4: 25 | BO4: 25 | BP4: 25 | BQ4: 3 | BR4: 3 | BS4: 0 | BT4: 3 | BU4: 0 | BV4: 3 | BW4: 2 | BX4: 2 | BY4: 0 | BZ4: 1 | CA4: 3 | CB4: 1 | CC4: 3 | CD4: 2 | CE4: 2 | CF4: 2 | CG4: 25 | CH4: 73 | CI4: 33 | CJ4: 83 | CK4: 4 | CL4: 99 | CM4: 45 | CN4: 89 | CO4: 64 | CP4: 19 | CQ4: 1 | CR4: 93 | CS4: 22 | CT4: 79 | CU4: 13 | CV4: 58 | CW4: 96 | CX4: 48 | CY4: 97 | CZ4: 76 | DA4: 26 | DB4: 0 | DC4: 78 | DD4: 0 | DE4: 85 | DF4: 68 | DG4: 35 | DH4: 80 | DI4: 74 | DJ4: 36 | DK4: 47 | DL4: 99 | DM4: 87 | DN4: 745 | DO4: 68 | DP4: 990 | DQ4: 630 | DR4: 981 | DS4: 660 | DT4: 919 | DU4: 648 | DV4: 138 | DW4: 767 | DX4: 182 | DY4: 140 | DZ4: 59 | EA4: 254 | EB4: 917 | EC4: 485 | ED4: 919 | EE4: 293 | EF4: 255 | EG4: 403 | EH4: 633 | EI4: 979 | EJ4: 692 | EK4: 270 | EL4: 803 | EM4: 48 | EN4: 113 | EO4: 476 | EP4: 846 | EQ4: 616 | ER4: 746 | ES4: 219 | ET4: 754 | EU4: 287 | EV4: 97 | EW4: 754 | EX4: 541 | EY4: 57 | EZ4: 358 | FA4: 618 | FB4: 992 | FC4: 756 | FD4: 303 | FE4: 668 | FF4: 212 | FG4: 140 | FH4: 962 | FI4: 905 | FJ4: 50 | FK4: 50 | FL4: 50 | FM4: 50 | FN4: 50 | FO4: 50 | FP4: 50 | FQ4: 50 | FR4: 50 | FS4: 50 | FT4: 50 | FU4: 50 | FV4: 50 | FW4: 50 | FX4: 50 | FY4: 50 | FZ4: 50 | GA4: 50 | GB4: 50 | GC4: 50 | GD4: 50 | GE4: 50 | GF4: 50 | GG4: 50 | GH4: 50 | GI4: 50 | GJ4: 50 | GK4: 50 | GL4: 50 | GM4: 50 | GN4: 50 | GO4: 50 | GP4: 50 | GQ4: 50 | GR4: 0.754 | GS4: 1.417 | GT4: 0.985 | GU4: 1.419 | GV4: 0.793 | GW4: 0.755 | GX4: 0.903 | GY4: 1.133 | GZ4: 1.479 | HA4: 1.192 | HB4: 0.77 | HC4: 1.303 | HD4: 0.548 | HE4: 0.613 | HF4: 0.976 | HG4: 1.346 | HH4: 0.616 | HI4: 0.746 | HJ4: 0.219 | HK4: 0.754 | HL4: 0.287 | HM4: 0.097 | HN4: 0.754 | HO4: 0.541 | HP4: 0.057 | HQ4: 0.358 | HR4: 0.618 | HS4: 0.992 | HT4: 0.756 | HU4: 0.303 | HV4: 0.668 | HW4: 0.212 | HX4: NOK | HY4: NOK | HZ4: NOK | IA4: NOK | IB4: 99 | IC4: 0.15323 | ID4: NOK | IE4: NOK | IF4: =IFERROR(RANK(HX4,HX:HX,1),"") | IG4: =IFERROR(RANK(HY4,HY:HY,1),"") | IH4: =IFERROR(RANK(HZ4,HZ:HZ,1),"") | II4: =IFERROR(RANK(IA4,IA:IA,1),"") | IJ4: =IFERROR(RANK(IB4,IB:IB,1),"") -> 185 | IK4: =IFERROR(RANK(IC4,IC:IC,1),"") -> 27 | IL4: =IFERROR(RANK(ID4,ID:ID,1),"") | IM4: =IFERROR(RANK(IE4,IE:IE,1),"")
A5: 112435 | E5: FALSE | H5: 40 | J5: 40 - G | K5: TRUE | N5: Buy | R5: 0 | S5: 0.067 | T5: FALSE | U5: 43748 | V5: 0 | W5: 0 | X5: 0 | Y5: 0 | Z5: 0 | AA5: 0 | AB5: 10 | AC5: 5 | AD5: 149 | AE5: 43691 | AF5: 43748 | AH5: 0.067 | AI5: A | AJ5: 380 | AK5: 524 | AL5: 70 | AM5: 294 | AN5: 362 | AO5: 975 | AP5: 787 | AQ5: 997 | AR5: 673 | AS5: 72 | AT5: 726 | AU5: 46 | AV5: 21 | AW5: 324 | AX5: 72 | AY5: 123 | AZ5: 100 | BA5: 100 | BB5: 100 | BC5: 100 | BD5: 100 | BE5: 100 | BF5: 100 | BG5: 100 | BH5: 100 | BI5: 100 | BJ5: 100 | BK5: 100 | BL5: 100 | BM5: 25 | BN5: 25 | BO5: 25 | BP5: 25 | BQ5: 0 | BR5: 0 | BS5: 2 | BT5: 1 | BU5: 1 | BV5: 1 | BW5: 1 | BX5: 3 | BY5: 3 | BZ5: 1 | CA5: 1 | CB5: 3 | CC5: 2 | CD5: 3 | CE5: 3 | CF5: 0 | CG5: 43 | CH5: 38 | CI5: 45 | CJ5: 18 | CK5: 73 | CL5: 2 | CM5: 28 | CN5: 57 | CO5: 77 | CP5: 54 | CQ5: 17 | CR5: 73 | CS5: 100 | CT5: 10 | CU5: 4 | CV5: 19 | CW5: 51 | CX5: 63 | CY5: 52 | CZ5: 3 | DA5: 68 | DB5: 0 | DC5: 19 | DD5: 94 | DE5: 23 | DF5: 19 | DG5: 79 | DH5: 30 | DI5: 1 | DJ5: 75 | DK5: 72 | DL5: 37 | DM5: 735 | DN5: 690 | DO5: 536 | DP5: 422 | DQ5: 737 | DR5: 991 | DS5: 662 | DT5: 851 | DU5: 584 | DV5: 80 | DW5: 672 | DX5: 226 | DY5: 621 | DZ5: 235 | EA5: 263 | EB5: 554 | EC5: 301 | ED5: 606 | EE5: 246 | EF5: 123 | EG5: 131 | EH5: 199 | EI5: 109 | EJ5: 881 | EK5: 181 | EL5: 708 | EM5: 62 | EN5: 859 | EO5: 349 | EP5: 199 | EQ5: 197 | ER5: 565 | ES5: 802 | ET5: 10 | EU5: 530 | EV5: 259 | EW5: 379 | EX5: 639 | EY5: 234 | EZ5: 1000 | FA5: 228 | FB5: 885 | FC5: 855 | FD5: 982 | FE5: 165 | FF5: 854 | FG5: 885 | FH5: 483 | FI5: 881 | FJ5: 50 | FK5: 50 | FL5: 50 | FM5: 50 | FN5: 50 | FO5: 50 | FP5: 50 | FQ5: 50 | FR5: 50 | FS5: 50 | FT5: 50 | FU5: 50 | FV5: 50 | FW5: 50 | FX5: 50 | FY5: 50 | FZ5: 50 | GA5: 50 | GB5: 50 | GC5: 50 | GD5: 50 | GE5: 50 | GF5: 50 | GG5: 50 | GH5: 50 | GI5: 50 | GJ5: 50 | GK5: 50 | GL5: 50 | GM5: 50 | GN5: 50 | GO5: 50 | GP5: 50 | GQ5: 50 | GR5: 0.763 | GS5: 1.054 | GT5: 0.801 | GU5: 1.106 | GV5: 0.746 | GW5: 0.623 | GX5: 0.631 | GY5: 0.699 | GZ5: 0.609 | HA5: 1.381 | HB5: 0.681 | HC5: 1.208 | HD5: 0.562 | HE5: 1.359 | HF5: 0.849 | HG5: 2 | HH5: 0.197 | HI5: 0.565 | HJ5: 0.802 | HK5: 0.01 | HL5: 0.53 | HM5: 0.259 | HN5: 0.379 | HO5: 0.639 | HP5: 0.234 | HQ5: 1 | HR5: 0 | HS5: 0 | HT5: 0 | HU5: 0 | HV5: 0 | HW5: 0 | HX5: 0 | HY5: NOK | HZ5: 37 | IA5: NOK | IB5: 37 | IC5: NOK | ID5: NOK | IE5: NOK | IF5: =IFERROR(RANK(HX5,HX:HX,1),"") -> 1 | IG5: =IFERROR(RANK(HY5,HY:HY,1),"") | IH5: =IFERROR(RANK(HZ5,HZ:HZ,1),"") -> 5 | II5: =IFERROR(RANK(IA5,IA:IA,1),"") | IJ5: =IFERROR(RANK(IB5,IB:IB,1),"") -> 83 | IK5: =IFERROR(RANK(IC5,IC:IC,1),"") | IL5: =IFERROR(RANK(ID5,ID:ID,1),"") | IM5: =IFERROR(RANK(IE5,IE:IE,1),"")
A6: 114612 | E6: FALSE | H6: 40 | J6: 50 - B | K6: TRUE | N6: Buy | R6: 0 | S6: 0.008 | T6: FALSE | U6: 43748 | V6: 0 | W6: 0 | X6: 0.58 | Y6: 0 | Z6: 0 | AA6: 0 | AB6: 10 | AC6: 5 | AD6: 1250 | AE6: 43691 | AF6: 43748 | AH6: 0.008 | AI6: A | AJ6: 937 | AK6: 274 | AL6: 403 | AM6: 223 | AN6: 875 | AO6: 256 | AP6: 663 | AQ6: 878 | AR6: 621 | AS6: 963 | AT6: 147 | AU6: 272 | AV6: 15 | AW6: 40 | AX6: 380 | AY6: 358 | AZ6: 100 | BA6: 100 | BB6: 100 | BC6: 100 | BD6: 100 | BE6: 100 | BF6: 100 | BG6: 100 | BH6: 100 | BI6: 100 | BJ6: 100 | BK6: 100 | BL6: 100 | BM6: 25 | BN6: 25 | BO6: 25 | BP6: 25 | BQ6: 2 | BR6: 2 | BS6: 2 | BT6: 0 | BU6: 2 | BV6: 1 | BW6: 3 | BX6: 1 | BY6: 2 | BZ6: 0 | CA6: 3 | CB6: 2 | CC6: 3 | CD6: 3 | CE6: 1 | CF6: 2 | CG6: 43 | CH6: 18 | CI6: 53 | CJ6: 66 | CK6: 82 | CL6: 81 | CM6: 14 | CN6: 70 | CO6: 29 | CP6: 69 | CQ6: 84 | CR6: 25 | CS6: 87 | CT6: 55 | CU6: 32 | CV6: 99 | CW6: 12 | CX6: 24 | CY6: 55 | CZ6: 68 | DA6: 9 | DB6: 21 | DC6: 28 | DD6: 41 | DE6: 42 | DF6: 97 | DG6: 20 | DH6: 34 | DI6: 79 | DJ6: 15 | DK6: 40 | DL6: 98 | DM6: 17 | DN6: 577 | DO6: 337 | DP6: 956 | DQ6: 822 | DR6: 233 | DS6: 77 | DT6: 680 | DU6: 855 | DV6: 763 | DW6: 921 | DX6: 770 | DY6: 531 | DZ6: 373 | EA6: 174 | EB6: 994 | EC6: 684 | ED6: 531 | EE6: 328 | EF6: 22 | EG6: 521 | EH6: 393 | EI6: 670 | EJ6: 759 | EK6: 305 | EL6: 71 | EM6: 464 | EN6: 428 | EO6: 328 | EP6: 491 | EQ6: 588 | ER6: 466 | ES6: 487 | ET6: 497 | EU6: 285 | EV6: 14 | EW6: 113 | EX6: 285 | EY6: 640 | EZ6: 733 | FA6: 831 | FB6: 116 | FC6: 117 | FD6: 480 | FE6: 361 | FF6: 87 | FG6: 967 | FH6: 816 | FI6: 666 | FJ6: 50 | FK6: 50 | FL6: 50 | FM6: 50 | FN6: 50 | FO6: 50 | FP6: 50 | FQ6: 50 | FR6: 50 | FS6: 50 | FT6: 50 | FU6: 50 | FV6: 50 | FW6: 50 | FX6: 50 | FY6: 50 | FZ6: 50 | GA6: 50 | GB6: 50 | GC6: 50 | GD6: 50 | GE6: 50 | GF6: 50 | GG6: 50 | GH6: 50 | GI6: 50 | GJ6: 50 | GK6: 50 | GL6: 50 | GM6: 50 | GN6: 50 | GO6: 50 | GP6: 50 | GQ6: 50 | GR6: 0.674 | GS6: 1.494 | GT6: 1.184 | GU6: 1.031 | GV6: 0.828 | GW6: 0.522 | GX6: 1.021 | GY6: 0.893 | GZ6: 1.17 | HA6: 1.259 | HB6: 0.805 | HC6: 0.571 | HD6: 0.964 | HE6: 0.928 | HF6: 0.828 | HG6: 0.7 | HH6: 0.588 | HI6: 0.466 | HJ6: 0.487 | HK6: 0.497 | HL6: 0.285 | HM6: 0.014 | HN6: 0.113 | HO6: 0.285 | HP6: 0.64 | HQ6: 0.733 | HR6: 0.831 | HS6: 0.116 | HT6: 0.117 | HU6: 0.48 | HV6: 0.361 | HW6: 0.087 | HX6: nok | HY6: NOK | HZ6: NOK | IA6: 0.58 | IB6: NOK | IC6: NOK | ID6: 1 | IE6: NOK | IF6: =IFERROR(RANK(HX6,HX:HX,1),"") | IG6: =IFERROR(RANK(HY6,HY:HY,1),"") | IH6: =IFERROR(RANK(HZ6,HZ:HZ,1),"") | II6: =IFERROR(RANK(IA6,IA:IA,1),"") -> 1 | IJ6: =IFERROR(RANK(IB6,IB:IB,1),"") | IK6: =IFERROR(RANK(IC6,IC:IC,1),"") | IL6: =IFERROR(RANK(ID6,ID:ID,1),"") -> 1 | IM6: =IFERROR(RANK(IE6,IE:IE,1),"")
A7: 114614 | E7: FALSE | H7: 40 | J7: 50 - B | K7: TRUE | N7: Buy | R7: 38.919998 | S7: 0.008 | T7: FALSE | U7: 43748 | V7: 0 | W7: 0 | X7: 0 | Y7: 0 | Z7: 0 | AA7: 0 | AB7: 1 | AC7: 1 | AD7: 125 | AE7: 43691 | AF7: 43748 | AH7: 0.008 | AI7: A | AJ7: 521 | AK7: 489 | AL7: 401 | AM7: 643 | AN7: 932 | AO7: 25 | AP7: 355 | AQ7: 168 | AR7: 881 | AS7: 627 | AT7: 607 | AU7: 180 | AV7: 165 | AW7: 846 | AX7: 269 | AY7: 613 | AZ7: 100 | BA7: 100 | BB7: 100 | BC7: 100 | BD7: 100 | BE7: 100 | BF7: 100 | BG7: 100 | BH7: 100 | BI7: 100 | BJ7: 100 | BK7: 100 | BL7: 100 | BM7: 25 | BN7: 25 | BO7: 25 | BP7: 25 | BQ7: 1 | BR7: 2 | BS7: 1 | BT7: 0 | BU7: 1 | BV7: 1 | BW7: 0 | BX7: 2 | BY7: 3 | BZ7: 2 | CA7: 2 | CB7: 0 | CC7: 2 | CD7: 3 | CE7: 2 | CF7: 0 | CG7: 74 | CH7: 8 | CI7: 67 | CJ7: 53 | CK7: 41 | CL7: 54 | CM7: 49 | CN7: 42 | CO7: 19 | CP7: 39 | CQ7: 21 | CR7: 3 | CS7: 99 | CT7: 32 | CU7: 13 | CV7: 77 | CW7: 68 | CX7: 59 | CY7: 35 | CZ7: 84 | DA7: 14 | DB7: 36 | DC7: 50 | DD7: 51 | DE7: 3 | DF7: 89 | DG7: 13 | DH7: 12 | DI7: 33 | DJ7: 98 | DK7: 94 | DL7: 25 | DM7: 620 | DN7: 821 | DO7: 894 | DP7: 597 | DQ7: 450 | DR7: 318 | DS7: 358 | DT7: 547 | DU7: 813 | DV7: 781 | DW7: 717 | DX7: 362 | DY7: 638 | DZ7: 515 | EA7: 805 | EB7: 590 | EC7: 469 | ED7: 106 | EE7: 93 | EF7: 613 | EG7: 663 | EH7: 633 | EI7: 899 | EJ7: 22 | EK7: 576 | EL7: 678 | EM7: 294 | EN7: 405 | EO7: 465 | EP7: 264 | EQ7: 180 | ER7: 922 | ES7: 578 | ET7: 684 | EU7: 401 | EV7: 504 | EW7: 466 | EX7: 903 | EY7: 222 | EZ7: 417 | FA7: 651 | FB7: 696 | FC7: 997 | FD7: 232 | FE7: 110 | FF7: 104 | FG7: 329 | FH7: 143 | FI7: 958 | FJ7: 50 | FK7: 50 | FL7: 50 | FM7: 50 | FN7: 50 | FO7: 50 | FP7: 50 | FQ7: 50 | FR7: 50 | FS7: 50 | FT7: 50 | FU7: 50 | FV7: 50 | FW7: 50 | FX7: 50 | FY7: 50 | FZ7: 50 | GA7: 50 | GB7: 50 | GC7: 50 | GD7: 50 | GE7: 50 | GF7: 50 | GG7: 50 | GH7: 50 | GI7: 50 | GJ7: 50 | GK7: 50 | GL7: 50 | GM7: 50 | GN7: 50 | GO7: 50 | GP7: 50 | GQ7: 50 | GR7: 1.305 | GS7: 1.09 | GT7: 0.969 | GU7: 0.606 | GV7: 0.593 | GW7: 1.113 | GX7: 1.163 | GY7: 1.133 | GZ7: 1.399 | HA7: 0.522 | HB7: 1.076 | HC7: 1.178 | HD7: 0.794 | HE7: 0.905 | HF7: 0.965 | HG7: 2 | HH7: 0.18 | HI7: 0.922 | HJ7: 0.578 | HK7: 0.684 | HL7: 0.401 | HM7: 0.504 | HN7: 0.466 | HO7: 0.903 | HP7: 0.222 | HQ7: 0.417 | HR7: 0.651 | HS7: 0.696 | HT7: 0.997 | HU7: 0.232 | HV7: 0.11 | HW7: 0.104 | HX7: NOK | HY7: NOK | HZ7: NOK | IA7: 1 | IB7: 25 | IC7: NOK | ID7: 2 | IE7: NOK | IF7: =IFERROR(RANK(HX7,HX:HX,1),"") | IG7: =IFERROR(RANK(HY7,HY:HY,1),"") | IH7: =IFERROR(RANK(HZ7,HZ:HZ,1),"") | II7: =IFERROR(RANK(IA7,IA:IA,1),"") -> 2 | IJ7: =IFERROR(RANK(IB7,IB:IB,1),"") -> 58 | IK7: =IFERROR(RANK(IC7,IC:IC,1),"") | IL7: =IFERROR(RANK(ID7,ID:ID,1),"") -> 2 | IM7: =IFERROR(RANK(IE7,IE:IE,1),"")
A8: 114622 | E8: FALSE | H8: 40 | J8: 40 - G | K8: TRUE | N8: Buy | R8: 0 | S8: 0.017 | T8: FALSE | U8: 43748 | V8: 0 | W8: 0 | X8: 2.25 | Y8: 0 | Z8: 0 | AA8: 0 | AB8: 10 | AC8: 5 | AD8: 588 | AE8: 43691 | AF8: 43748 | AH8: 0.017 | AI8: A | AJ8: 758 | AK8: 447 | AL8: 70 | AM8: 297 | AN8: 851 | AO8: 946 | AP8: 291 | AQ8: 891 | AR8: 234 | AS8: 556 | AT8: 324 | AU8: 777 | AV8: 373 | AW8: 303 | AX8: 946 | AY8: 871 | AZ8: 100 | BA8: 100 | BB8: 100 | BC8: 100 | BD8: 100 | BE8: 100 | BF8: 100 | BG8: 100 | BH8: 100 | BI8: 100 | BJ8: 100 | BK8: 100 | BL8: 100 | BM8: 25 | BN8: 25 | BO8: 25 | BP8: 25 | BQ8: 1 | BR8: 1 | BS8: 0 | BT8: 2 | BU8: 3 | BV8: 3 | BW8: 3 | BX8: 2 | BY8: 1 | BZ8: 3 | CA8: 1 | CB8: 0 | CC8: 0 | CD8: 0 | CE8: 1 | CF8: 1 | CG8: 59 | CH8: 79 | CI8: 9 | CJ8: 27 | CK8: 65 | CL8: 68 | CM8: 42 | CN8: 66 | CO8: 92 | CP8: 92 | CQ8: 41 | CR8: 70 | CS8: 96 | CT8: 15 | CU8: 50 | CV8: 78 | CW8: 38 | CX8: 80 | CY8: 95 | CZ8: 50 | DA8: 13 | DB8: 83 | DC8: 88 | DD8: 31 | DE8: 96 | DF8: 3 | DG8: 2 | DH8: 47 | DI8: 50 | DJ8: 36 | DK8: 56 | DL8: 21 | DM8: 63 | DN8: 430 | DO8: 262 | DP8: 133 | DQ8: 621 | DR8: 132 | DS8: 810 | DT8: 594 | DU8: 703 | DV8: 406 | DW8: 970 | DX8: 504 | DY8: 720 | DZ8: 355 | EA8: 299 | EB8: 806 | EC8: 569 | ED8: 394 | EE8: 185 | EF8: 732 | EG8: 933 | EH8: 928 | EI8: 697 | EJ8: 533 | EK8: 37 | EL8: 183 | EM8: 227 | EN8: 545 | EO8: 801 | EP8: 806 | EQ8: 935 | ER8: 372 | ES8: 144 | ET8: 424 | EU8: 462 | EV8: 26 | EW8: 811 | EX8: 621 | EY8: 851 | EZ8: 335 | FA8: 918 | FB8: 733 | FC8: 114 | FD8: 862 | FE8: 798 | FF8: 371 | FG8: 273 | FH8: 318 | FI8: 961 | FJ8: 50 | FK8: 50 | FL8: 50 | FM8: 50 | FN8: 50 | FO8: 50 | FP8: 50 | FQ8: 50 | FR8: 50 | FS8: 50 | FT8: 50 | FU8: 50 | FV8: 50 | FW8: 50 | FX8: 50 | FY8: 50 | FZ8: 50 | GA8: 50 | GB8: 50 | GC8: 50 | GD8: 50 | GE8: 50 | GF8: 50 | GG8: 50 | GH8: 50 | GI8: 50 | GJ8: 50 | GK8: 50 | GL8: 50 | GM8: 50 | GN8: 50 | GO8: 50 | GP8: 50 | GQ8: 50 | GR8: 0.799 | GS8: 1.306 | GT8: 1.069 | GU8: 0.894 | GV8: 0.685 | GW8: 1.232 | GX8: 1.433 | GY8: 1.428 | GZ8: 1.197 | HA8: 1.033 | HB8: 0.537 | HC8: 0.683 | HD8: 0.727 | HE8: 1.045 | HF8: 1.301 | HG8: 1.306 | HH8: 0.935 | HI8: 0.372 | HJ8: 0.144 | HK8: 0.424 | HL8: 0.462 | HM8: 0.026 | HN8: 0.811 | HO8: 0.621 | HP8: 0.851 | HQ8: 0.335 | HR8: 0.918 | HS8: 0.733 | HT8: 0.114 | HU8: 0.862 | HV8: 0.798 | HW8: 0.371 | HX8: NOK | HY8: NOK | HZ8: 1 | IA8: 2 | IB8: 21 | IC8: 2.25 | ID8: 3 | IE8: NOK | IF8: =IFERROR(RANK(HX8,HX:HX,1),"") | IG8: =IFERROR(RANK(HY8,HY:HY,1),"") | IH8: =IFERROR(RANK(HZ8,HZ:HZ,1),"") -> 1 | II8: =IFERROR(RANK(IA8,IA:IA,1),"") -> 3 | IJ8: =IFERROR(RANK(IB8,IB:IB,1),"") -> 50 | IK8: =IFERROR(RANK(IC8,IC:IC,1),"") -> 49 | IL8: =IFERROR(RANK(ID8,ID:ID,1),"") -> 3 | IM8: =IFERROR(RANK(IE8,IE:IE,1),"")
A9: 118574 | E9: FALSE | H9: 40 | J9: 50 - B | K9: TRUE | N9: Buy | R9: 0 | S9: 0.042 | T9: FALSE | U9: 43748 | V9: 0 | W9: 0 | X9: 0 | Y9: 0 | Z9: 0 | AA9: 0 | AB9: 1 | AC9: 1 | AD9: 1 | AE9: 43691 | AF9: 43748 | AH9: 0.042 | AI9: A | AJ9: 708 | AK9: 666 | AL9: 899 | AM9: 878 | AN9: 4 | AO9: 371 | AP9: 252 | AQ9: 836 | AR9: 761 | AS9: 157 | AT9: 200 | AU9: 434 | AV9: 4 | AW9: 572 | AX9: 225 | AY9: 320 | AZ9: 100 | BA9: 100 | BB9: 100 | BC9: 100 | BD9: 100 | BE9: 100 | BF9: 100 | BG9: 100 | BH9: 100 | BI9: 100 | BJ9: 100 | BK9: 100 | BL9: 100 | BM9: 25 | BN9: 25 | BO9: 25 | BP9: 25 | BQ9: 0 | BR9: 1 | BS9: 2 | BT9: 1 | BU9: 3 | BV9: 3 | BW9: 0 | BX9: 1 | BY9: 0 | BZ9: 3 | CA9: 3 | CB9: 2 | CC9: 2 | CD9: 1 | CE9: 0 | CF9: 2 | CG9: 20 | CH9: 85 | CI9: 43 | CJ9: 51 | CK9: 86 | CL9: 6 | CM9: 79 | CN9: 18 | CO9: 90 | CP9: 2 | CQ9: 84 | CR9: 79 | CS9: 3 | CT9: 11 | CU9: 83 | CV9: 77 | CW9: 13 | CX9: 35 | CY9: 46 | CZ9: 58 | DA9: 68 | DB9: 3 | DC9: 13 | DD9: 80 | DE9: 16 | DF9: 81 | DG9: 63 | DH9: 4 | DI9: 71 | DJ9: 84 | DK9: 30 | DL9: 83 | DM9: 383 | DN9: 843 | DO9: 150 | DP9: 765 | DQ9: 385 | DR9: 553 | DS9: 522 | DT9: 134 | DU9: 306 | DV9: 720 | DW9: 399 | DX9: 955 | DY9: 613 | DZ9: 453 | EA9: 785 | EB9: 342 | EC9: 429 | ED9: 376 | EE9: 481 | EF9: 969 | EG9: 903 | EH9: 820 | EI9: 465 | EJ9: 896 | EK9: 620 | EL9: 600 | EM9: 75 | EN9: 514 | EO9: 599 | EP9: 821 | EQ9: 424 | ER9: 737 | ES9: 439 | ET9: 867 | EU9: 12 | EV9: 629 | EW9: 11 | EX9: 946 | EY9: 735 | EZ9: 220 | FA9: 599 | FB9: 416 | FC9: 239 | FD9: 537 | FE9: 302 | FF9: 106 | FG9: 374 | FH9: 748 | FI9: 928 | FJ9: 50 | FK9: 50 | FL9: 50 | FM9: 50 | FN9: 20 | FO9: 20 | FP9: 20 | FQ9: 20 | FR9: 20 | FS9: 20 | FT9: 20 | FU9: 50 | FV9: 50 | FW9: 50 | FX9: 50 | FY9: 50 | FZ9: 50 | GA9: 50 | GB9: 50 | GC9: 50 | GD9: 50 | GE9: 20 | GF9: 20 | GG9: 20 | GH9: 20 | GI9: 20 | GJ9: 20 | GK9: 20 | GL9: 50 | GM9: 50 | GN9: 50 | GO9: 50 | GP9: 50 | GQ9: 50 | GR9: 1.285 | GS9: 0.842 | GT9: 0.929 | GU9: 0.876 | GV9: 0.981 | GW9: 1.469 | GX9: 1.403 | GY9: 1.32 | GZ9: 0.965 | HA9: 1.396 | HB9: 1.12 | HC9: 1.1 | HD9: 0.575 | HE9: 1.014 | HF9: 1.099 | HG9: 1.321 | HH9: 0.424 | HI9: 0.737 | HJ9: 0.439 | HK9: 0.867 | HL9: 0.012 | HM9: 0.629 | HN9: 0.011 | HO9: 0.946 | HP9: 0.735 | HQ9: 0.22 | HR9: 0.599 | HS9: 0.416 | HT9: 0.239 | HU9: 0.537 | HV9: 0.302 | HW9: 0.106 | HX9: 150 | HY9: NOK | HZ9: 2 | IA9: NOK | IB9: 83 | IC9: NOK | ID9: NOK | IE9: NOK | IF9: =IFERROR(RANK(HX9,HX:HX,1),"") -> 3 | IG9: =IFERROR(RANK(HY9,HY:HY,1),"") | IH9: =IFERROR(RANK(HZ9,HZ:HZ,1),"") -> 2 | II9: =IFERROR(RANK(IA9,IA:IA,1),"") | IJ9: =IFERROR(RANK(IB9,IB:IB,1),"") -> 158 | IK9: =IFERROR(RANK(IC9,IC:IC,1),"") | IL9: =IFERROR(RANK(ID9,ID:ID,1),"") | IM9: =IFERROR(RANK(IE9,IE:IE,1),"")
A10: 125185 | E10: FALSE | H10: 25 | J10: 40 - G | K10: TRUE | N10: Buy | R10: 0 | S10: 12.769 | T10: FALSE | U10: 43727 | V10: 0 | W10: 0 | X10: 0 | Y10: 56 | Z10: 0 | AA10: 0 | AB10: 300 | AC10: 1 | AD10: 23 | AE10: 43691 | AF10: 43727 | AH10: 12.769 | AI10: A | AJ10: 643 | AK10: 486 | AL10: 596 | AM10: 985 | AN10: 227 | AO10: 347 | AP10: 17 | AQ10: 994 | AR10: 8 | AS10: 509 | AT10: 880 | AU10: 764 | AV10: 623 | AW10: 305 | AX10: 926 | AY10: 127 | AZ10: 100 | BA10: 100 | BB10: 100 | BC10: 100 | BD10: 100 | BE10: 100 | BF10: 100 | BG10: 100 | BH10: 100 | BI10: 100 | BJ10: 100 | BK10: 100 | BL10: 100 | BM10: 25 | BN10: 25 | BO10: 25 | BP10: 25 | BQ10: 3 | BR10: 0 | BS10: 3 | BT10: 2 | BU10: 2 | BV10: 2 | BW10: 1 | BX10: 3 | BY10: 2 | BZ10: 1 | CA10: 1 | CB10: 1 | CC10: 1 | CD10: 3 | CE10: 1 | CF10: 3 | CG10: 51 | CH10: 16 | CI10: 85 | CJ10: 56 | CK10: 18 | CL10: 99 | CM10: 49 | CN10: 20 | CO10: 73 | CP10: 50 | CQ10: 95 | CR10: 12 | CS10: 92 | CT10: 71 | CU10: 35 | CV10: 72 | CW10: 66 | CX10: 86 | CY10: 22 | CZ10: 59 | DA10: 32 | DB10: 94 | DC10: 89 | DD10: 87 | DE10: 14 | DF10: 62 | DG10: 7 | DH10: 86 | DI10: 97 | DJ10: 18 | DK10: 29 | DL10: 35 | DM10: 958 | DN10: 670 | DO10: 491 | DP10: 396 | DQ10: 412 | DR10: 796 | DS10: 7 | DT10: 913 | DU10: 672 | DV10: 354 | DW10: 199 | DX10: 665 | DY10: 226 | DZ10: 316 | EA10: 801 | EB10: 701 | EC10: 16 | ED10: 864 | EE10: 281 | EF10: 79 | EG10: 702 | EH10: 693 | EI10: 788 | EJ10: 611 | EK10: 746 | EL10: 500 | EM10: 425 | EN10: 974 | EO10: 219 | EP10: 510 | EQ10: 368 | ER10: 383 | ES10: 856 | ET10: 562 | EU10: 327 | EV10: 949 | EW10: 44 | EX10: 947 | EY10: 954 | EZ10: 520 | FA10: 197 | FB10: 124 | FC10: 660 | FD10: 576 | FE10: 669 | FF10: 446 | FG10: 806 | FH10: 873 | FI10: 852 | FJ10: 50 | FK10: 50 | FL10: 50 | FM10: 50 | FN10: 75 | FO10: 75 | FP10: 75 | FQ10: 75 | FR10: 75 | FS10: 75 | FT10: 75 | FU10: 50 | FV10: 50 | FW10: 50 | FX10: 50 | FY10: 50 | FZ10: 50 | GA10: 50 | GB10: 50 | GC10: 50 | GD10: 50 | GE10: 75 | GF10: 75 | GG10: 75 | GH10: 75 | GI10: 75 | GJ10: 75 | GK10: 75 | GL10: 50 | GM10: 50 | GN10: 50 | GO10: 50 | GP10: 50 | GQ10: 50 | GR10: 1.301 | GS10: 1.201 | GT10: 0.516 | GU10: 1.364 | GV10: 0.781 | GW10: 0.579 | GX10: 1.202 | GY10: 1.193 | GZ10: 1.288 | HA10: 1.111 | HB10: 1.246 | HC10: 1 | HD10: 0.925 | HE10: 1.474 | HF10: 0.719 | HG10: 1.01 | HH10: 0.368 | HI10: 0.383 | HJ10: 0.856 | HK10: 0.562 | HL10: 0.327 | HM10: 0.949 | HN10: 0.044 | HO10: 0.947 | HP10: 0.954 | HQ10: 0.52 | HR10: 0.197 | HS10: 0.124 | HT10: 0.66 | HU10: 0.576 | HV10: 0.669 | HW10: 0.446 | HX10: NOK | HY10: NOK | HZ10: 3 | IA10: NOK | IB10: 35 | IC10: NOK | ID10: NOK | IE10: NOK | IF10: =IFERROR(RANK(HX10,HX:HX,1),"") | IG10: =IFERROR(RANK(HY10,HY:HY,1),"") | IH10: =IFERROR(RANK(HZ10,HZ:HZ,1),"") -> 3 | II10: =IFERROR(RANK(IA10,IA:IA,1),"") | IJ10: =IFERROR(RANK(IB10,IB:IB,1),"") -> 78 | IK10: =IFERROR(RANK(IC10,IC:IC,1),"") | IL10: =IFERROR(RANK(ID10,ID:ID,1),"") | IM10: =IFERROR(RANK(IE10,IE:IE,1),"")
A11: 125727 | E11: FALSE | H11: 35 | J11: 40 - G | K11: TRUE | N11: Buy | R11: 0 | S11: 0.15 | T11: FALSE | U11: 43741 | V11: 0 | W11: 0 | X11: 0 | Y11: 0 | Z11: 0 | AA11: 0 | AB11: 50 | AC11: 1 | AD11: 333 | AE11: 43691 | AF11: 43741 | AH11: 0.15 | AI11: A | AJ11: 160 | AK11: 677 | AL11: 641 | AM11: 638 | AN11: 675 | AO11: 850 | AP11: 292 | AQ11: 879 | AR11: 252 | AS11: 712 | AT11: 377 | AU11: 932 | AV11: 851 | AW11: 15 | AX11: 435 | AY11: 73 | AZ11: 167 | BA11: 217 | BB11: 145 | BC11: 212 | BD11: 146 | BE11: 241 | BF11: 126 | BG11: 119 | BH11: 120 | BI11: 120 | BJ11: 102 | BK11: 125 | BL11: 106 | BM11: 25 | BN11: 25 | BO11: 25 | BP11: 25 | BQ11: 3 | BR11: 1 | BS11: 0 | BT11: 1 | BU11: 1 | BV11: 1 | BW11: 2 | BX11: 0 | BY11: 2 | BZ11: 3 | CA11: 1 | CB11: 1 | CC11: 0 | CD11: 2 | CE11: 0 | CF11: 3 | CG11: 10 | CH11: 1 | CI11: 96 | CJ11: 79 | CK11: 68 | CL11: 71 | CM11: 66 | CN11: 49 | CO11: 82 | CP11: 54 | CQ11: 96 | CR11: 19 | CS11: 42 | CT11: 26 | CU11: 8 | CV11: 10 | CW11: 13 | CX11: 31 | CY11: 66 | CZ11: 25 | DA11: 48 | DB11: 74 | DC11: 59 | DD11: 71 | DE11: 20 | DF11: 57 | DG11: 96 | DH11: 43 | DI11: 24 | DJ11: 52 | DK11: 99 | DL11: 90 | DM11: 126 | DN11: 415 | DO11: 162 | DP11: 841 | DQ11: 381 | DR11: 242 | DS11: 364 | DT11: 125 | DU11: 899 | DV11: 516 | DW11: 600 | DX11: 807 | DY11: 398 | DZ11: 767 | EA11: 789 | EB11: 589 | EC11: 385 | ED11: 883 | EE11: 329 | EF11: 210 | EG11: 1 | EH11: 378 | EI11: 282 | EJ11: 458 | EK11: 192 | EL11: 978 | EM11: 412 | EN11: 872 | EO11: 353 | EP11: 825 | EQ11: 92 | ER11: 732 | ES11: 987 | ET11: 650 | EU11: 202 | EV11: 610 | EW11: 28 | EX11: 878 | EY11: 977 | EZ11: 717 | FA11: 214 | FB11: 954 | FC11: 41 | FD11: 594 | FE11: 863 | FF11: 599 | FG11: 777 | FH11: 253 | FI11: 716 | FJ11: 50 | FK11: 50 | FL11: 50 | FM11: 50 | FN11: 38 | FO11: 22 | FP11: 37 | FQ11: 65 | FR11: 64 | FS11: 72 | FT11: 28 | FU11: 50 | FV11: 50 | FW11: 50 | FX11: 50 | FY11: 50 | FZ11: 50 | GA11: 50 | GB11: 50 | GC11: 50 | GD11: 50 | GE11: 25 | GF11: 61 | GG11: 54 | GH11: 20 | GI11: 70 | GJ11: 50 | GK11: 43 | GL11: 50 | GM11: 50 | GN11: 50 | GO11: 50 | GP11: 50 | GQ11: 50 | GR11: 1.289 | GS11: 1.089 | GT11: 0.885 | GU11: 1.383 | GV11: 0.829 | GW11: 0.71 | GX11: 0.501 | GY11: 0.878 | GZ11: 0.782 | HA11: 0.958 | HB11: 0.692 | HC11: 1.478 | HD11: 0.912 | HE11: 1.372 | HF11: 0.853 | HG11: 1.325 | HH11: 0.092 | HI11: 0.732 | HJ11: 0.987 | HK11: 0.65 | HL11: 0.202 | HM11: 0.61 | HN11: 0.028 | HO11: 0.878 | HP11: 0.977 | HQ11: 0.717 | HR11: 0.214 | HS11: 0.954 | HT11: 0.041 | HU11: 0.594 | HV11: 0.863 | HW11: 0.599 | HX11: 200 | HY11: NOK | HZ11: NOK | IA11: NOK | IB11: 90 | IC11: NOK | ID11: NOK | IE11: NOK | IF11: =IFERROR(RANK(HX11,HX:HX,1),"") -> 4 | IG11: =IFERROR(RANK(HY11,HY:HY,1),"") | IH11: =IFERROR(RANK(HZ11,HZ:HZ,1),"") | II11: =IFERROR(RANK(IA11,IA:IA,1),"") | IJ11: =IFERROR(RANK(IB11,IB:IB,1),"") -> 173 | IK11: =IFERROR(RANK(IC11,IC:IC,1),"") | IL11: =IFERROR(RANK(ID11,ID:ID,1),"") | IM11: =IFERROR(RANK(IE11,IE:IE,1),"")
A12: 125728 | E12: FALSE | H12: 25 | J12: 40 - G | K12: TRUE | N12: Buy | R12: 0 | S12: 0.55 | T12: FALSE | U12: 43727 | V12: 0 | W12: 0 | X12: 0 | Y12: 8 | Z12: 0 | AA12: 0 | AB12: 100 | AC12: 1 | AD12: 181 | AE12: 43691 | AF12: 43727 | AH12: 0.55 | AI12: A | AJ12: 734 | AK12: 669 | AL12: 61 | AM12: 168 | AN12: 365 | AO12: 509 | AP12: 418 | AQ12: 770 | AR12: 507 | AS12: 595 | AT12: 813 | AU12: 728 | AV12: 14 | AW12: 314 | AX12: 562 | AY12: 888 | AZ12: 170 | BA12: 148 | BB12: 198 | BC12: 246 | BD12: 241 | BE12: 190 | BF12: 126 | BG12: 110 | BH12: 112 | BI12: 118 | BJ12: 123 | BK12: 129 | BL12: 104 | BM12: 25 | BN12: 25 | BO12: 25 | BP12: 25 | BQ12: 2 | BR12: 0 | BS12: 2 | BT12: 3 | BU12: 1 | BV12: 3 | BW12: 1 | BX12: 2 | BY12: 2 | BZ12: 2 | CA12: 1 | CB12: 0 | CC12: 0 | CD12: 3 | CE12: 2 | CF12: 0 | CG12: 36 | CH12: 63 | CI12: 26 | CJ12: 16 | CK12: 9 | CL12: 25 | CM12: 74 | CN12: 75 | CO12: 52 | CP12: 88 | CQ12: 18 | CR12: 77 | CS12: 79 | CT12: 55 | CU12: 56 | CV12: 48 | CW12: 41 | CX12: 79 | CY12: 77 | CZ12: 58 | DA12: 1 | DB12: 94 | DC12: 48 | DD12: 37 | DE12: 92 | DF12: 77 | DG12: 74 | DH12: 94 | DI12: 26 | DJ12: 79 | DK12: 15 | DL12: 5 | DM12: 885 | DN12: 328 | DO12: 422 | DP12: 456 | DQ12: 498 | DR12: 212 | DS12: 643 | DT12: 444 | DU12: 51 | DV12: 964 | DW12: 264 | DX12: 814 | DY12: 655 | DZ12: 526 | EA12: 66 | EB12: 955 | EC12: 762 | ED12: 163 | EE12: 277 | EF12: 430 | EG12: 109 | EH12: 55 | EI12: 936 | EJ12: 21 | EK12: 231 | EL12: 864 | EM12: 6 | EN12: 98 | EO12: 715 | EP12: 671 | EQ12: 96 | ER12: 846 | ES12: 249 | ET12: 0 | EU12: 871 | EV12: 967 | EW12: 592 | EX12: 635 | EY12: 418 | EZ12: 43 | FA12: 675 | FB12: 357 | FC12: 653 | FD12: 551 | FE12: 104 | FF12: 724 | FG12: 627 | FH12: 137 | FI12: 28 | FJ12: 50 | FK12: 50 | FL12: 50 | FM12: 50 | FN12: 30 | FO12: 30 | FP12: 64 | FQ12: 73 | FR12: 47 | FS12: 25 | FT12: 61 | FU12: 50 | FV12: 50 | FW12: 50 | FX12: 50 | FY12: 50 | FZ12: 50 | GA12: 50 | GB12: 50 | GC12: 50 | GD12: 50 | GE12: 38 | GF12: 38 | GG12: 66 | GH12: 26 | GI12: 51 | GJ12: 51 | GK12: 26 | GL12: 50 | GM12: 50 | GN12: 50 | GO12: 50 | GP12: 50 | GQ12: 50 | GR12: 0.566 | GS12: 1.455 | GT12: 1.262 | GU12: 0.663 | GV12: 0.777 | GW12: 0.93 | GX12: 0.609 | GY12: 0.555 | GZ12: 1.436 | HA12: 0.521 | HB12: 0.731 | HC12: 1.364 | HD12: 0.506 | HE12: 0.598 | HF12: 1.215 | HG12: 1.171 | HH12: 0.096 | HI12: 0.846 | HJ12: 0.249 | HK12: 0 | HL12: 0.871 | HM12: 0.967 | HN12: 0.592 | HO12: 0.635 | HP12: 0.418 | HQ12: 0.043 | HR12: 0.675 | HS12: 0.357 | HT12: 0.653 | HU12: 0.551 | HV12: 0.104 | HW12: 0.724 | HX12: NOK | HY12: NOK | HZ12: NOK | IA12: NOK | IB12: 5 | IC12: NOK | ID12: NOK | IE12: NOK | IF12: =IFERROR(RANK(HX12,HX:HX,1),"") | IG12: =IFERROR(RANK(HY12,HY:HY,1),"") | IH12: =IFERROR(RANK(HZ12,HZ:HZ,1),"") | II12: =IFERROR(RANK(IA12,IA:IA,1),"") | IJ12: =IFERROR(RANK(IB12,IB:IB,1),"") -> 11 | IK12: =IFERROR(RANK(IC12,IC:IC,1),"") | IL12: =IFERROR(RANK(ID12,ID:ID,1),"") | IM12: =IFERROR(RANK(IE12,IE:IE,1),"")
A13: 126278 | E13: FALSE | H13: 35 | J13: 40 - G | K13: TRUE | N13: Buy | R13: 0 | S13: 0.083 | T13: FALSE | U13: 43741 | V13: 0 | W13: 0 | X13: 0.10484 | Y13: 0 | Z13: 0 | AA13: 0 | AB13: 10 | AC13: 5 | AD13: 120 | AE13: 43691 | AF13: 43741 | AH13: 0.083 | AI13: A | AJ13: 580 | AK13: 18 | AL13: 690 | AM13: 718 | AN13: 494 | AO13: 302 | AP13: 590 | AQ13: 196 | AR13: 811 | AS13: 510 | AT13: 917 | AU13: 494 | AV13: 803 | AW13: 186 | AX13: 174 | AY13: 297 | AZ13: 119 | BA13: 181 | BB13: 212 | BC13: 110 | BD13: 160 | BE13: 188 | BF13: 105 | BG13: 120 | BH13: 123 | BI13: 119 | BJ13: 112 | BK13: 126 | BL13: 101 | BM13: 25 | BN13: 25 | BO13: 25 | BP13: 25 | BQ13: 3 | BR13: 2 | BS13: 0 | BT13: 2 | BU13: 1 | BV13: 0 | BW13: 0 | BX13: 0 | BY13: 0 | BZ13: 0 | CA13: 1 | CB13: 0 | CC13: 1 | CD13: 0 | CE13: 0 | CF13: 3 | CG13: 84 | CH13: 100 | CI13: 32 | CJ13: 18 | CK13: 21 | CL13: 47 | CM13: 40 | CN13: 63 | CO13: 99 | CP13: 18 | CQ13: 66 | CR13: 77 | CS13: 29 | CT13: 4 | CU13: 52 | CV13: 51 | CW13: 36 | CX13: 3 | CY13: 41 | CZ13: 88 | DA13: 62 | DB13: 69 | DC13: 56 | DD13: 11 | DE13: 93 | DF13: 22 | DG13: 82 | DH13: 45 | DI13: 83 | DJ13: 17 | DK13: 37 | DL13: 9 | DM13: 485 | DN13: 515 | DO13: 242 | DP13: 217 | DQ13: 565 | DR13: 311 | DS13: 515 | DT13: 338 | DU13: 97 | DV13: 932 | DW13: 774 | DX13: 280 | DY13: 321 | DZ13: 877 | EA13: 150 | EB13: 503 | EC13: 453 | ED13: 316 | EE13: 906 | EF13: 6 | EG13: 562 | EH13: 422 | EI13: 433 | EJ13: 769 | EK13: 664 | EL13: 174 | EM13: 664 | EN13: 159 | EO13: 247 | EP13: 130 | EQ13: 843 | ER13: 915 | ES13: 506 | ET13: 61 | EU13: 10 | EV13: 390 | EW13: 994 | EX13: 812 | EY13: 663 | EZ13: 694 | FA13: 404 | FB13: 447 | FC13: 419 | FD13: 679 | FE13: 818 | FF13: 588 | FG13: 701 | FH13: 414 | FI13: 456 | FJ13: 50 | FK13: 50 | FL13: 50 | FM13: 50 | FN13: 50 | FO13: 72 | FP13: 34 | FQ13: 27 | FR13: 26 | FS13: 70 | FT13: 32 | FU13: 50 | FV13: 50 | FW13: 50 | FX13: 50 | FY13: 50 | FZ13: 50 | GA13: 50 | GB13: 50 | GC13: 50 | GD13: 50 | GE13: 31 | GF13: 43 | GG13: 63 | GH13: 68 | GI13: 50 | GJ13: 29 | GK13: 42 | GL13: 50 | GM13: 50 | GN13: 50 | GO13: 50 | GP13: 50 | GQ13: 50 | GR13: 0.65 | GS13: 1.003 | GT13: 0.953 | GU13: 0.816 | GV13: 1.406 | GW13: 0.506 | GX13: 1.062 | GY13: 0.922 | GZ13: 0.933 | HA13: 1.269 | HB13: 1.164 | HC13: 0.674 | HD13: 1.164 | HE13: 0.659 | HF13: 0.747 | HG13: 1 | HH13: 0.843 | HI13: 0.915 | HJ13: 0.506 | HK13: 0.061 | HL13: 0.01 | HM13: 0.39 | HN13: 0.994 | HO13: 0.812 | HP13: 0.663 | HQ13: 0.694 | HR13: 0.404 | HS13: 0.447 | HT13: 0.419 | HU13: 0.679 | HV13: 0.818 | HW13: 0.588 | HX13: NOK | HY13: NOK | HZ13: NOK | IA13: NOK | IB13: NOK | IC13: NOK | ID13: NOK | IE13: NOK | IF13: =IFERROR(RANK(HX13,HX:HX,1),"") | IG13: =IFERROR(RANK(HY13,HY:HY,1),"") | IH13: =IFERROR(RANK(HZ13,HZ:HZ,1),"") | II13: =IFERROR(RANK(IA13,IA:IA,1),"") | IJ13: =IFERROR(RANK(IB13,IB:IB,1),"") | IK13: =IFERROR(RANK(IC13,IC:IC,1),"") | IL13: =IFERROR(RANK(ID13,ID:ID,1),"") | IM13: =IFERROR(RANK(IE13,IE:IE,1),"")
A14: 128701 | E14: FALSE | H14: 35 | J14: 40 - G | K14: TRUE | N14: Buy | R14: 0 | S14: 0.1 | T14: FALSE | U14: 43741 | V14: 0 | W14: 0 | X14: 0 | Y14: 0 | Z14: 0 | AA14: 0 | AB14: 10 | AC14: 5 | AD14: 100 | AE14: 43691 | AF14: 43741 | AH14: 0.1 | AI14: A | AJ14: 472 | AK14: 364 | AL14: 597 | AM14: 697 | AN14: 903 | AO14: 535 | AP14: 586 | AQ14: 696 | AR14: 80 | AS14: 80 | AT14: 224 | AU14: 612 | AV14: 241 | AW14: 484 | AX14: 799 | AY14: 215 | AZ14: 114 | BA14: 149 | BB14: 192 | BC14: 247 | BD14: 248 | BE14: 178 | BF14: 120 | BG14: 126 | BH14: 104 | BI14: 103 | BJ14: 100 | BK14: 104 | BL14: 123 | BM14: 25 | BN14: 25 | BO14: 25 | BP14: 25 | BQ14: 1 | BR14: 0 | BS14: 0 | BT14: 2 | BU14: 3 | BV14: 0 | BW14: 2 | BX14: 3 | BY14: 0 | BZ14: 3 | CA14: 2 | CB14: 2 | CC14: 2 | CD14: 0 | CE14: 1 | CF14: 0 | CG14: 39 | CH14: 51 | CI14: 90 | CJ14: 34 | CK14: 6 | CL14: 11 | CM14: 71 | CN14: 94 | CO14: 64 | CP14: 4 | CQ14: 25 | CR14: 1 | CS14: 14 | CT14: 48 | CU14: 8 | CV14: 73 | CW14: 74 | CX14: 58 | CY14: 74 | CZ14: 94 | DA14: 8 | DB14: 36 | DC14: 4 | DD14: 99 | DE14: 59 | DF14: 54 | DG14: 73 | DH14: 12 | DI14: 64 | DJ14: 30 | DK14: 84 | DL14: 21 | DM14: 881 | DN14: 807 | DO14: 827 | DP14: 516 | DQ14: 449 | DR14: 432 | DS14: 789 | DT14: 639 | DU14: 379 | DV14: 565 | DW14: 709 | DX14: 578 | DY14: 86 | DZ14: 722 | EA14: 644 | EB14: 567 | EC14: 611 | ED14: 192 | EE14: 438 | EF14: 248 | EG14: 624 | EH14: 297 | EI14: 436 | EJ14: 41 | EK14: 451 | EL14: 234 | EM14: 564 | EN14: 921 | EO14: 254 | EP14: 527 | EQ14: 970 | ER14: 989 | ES14: 287 | ET14: 190 | EU14: 757 | EV14: 947 | EW14: 877 | EX14: 700 | EY14: 862 | EZ14: 184 | FA14: 133 | FB14: 518 | FC14: 287 | FD14: 57 | FE14: 228 | FF14: 250 | FG14: 760 | FH14: 789 | FI14: 238 | FJ14: 50 | FK14: 50 | FL14: 50 | FM14: 50 | FN14: 43 | FO14: 43 | FP14: 51 | FQ14: 57 | FR14: 62 | FS14: 52 | FT14: 55 | FU14: 50 | FV14: 50 | FW14: 50 | FX14: 50 | FY14: 50 | FZ14: 50 | GA14: 50 | GB14: 50 | GC14: 50 | GD14: 50 | GE14: 45 | GF14: 62 | GG14: 74 | GH14: 70 | GI14: 38 | GJ14: 22 | GK14: 47 | GL14: 50 | GM14: 50 | GN14: 50 | GO14: 50 | GP14: 50 | GQ14: 50 | GR14: 1.144 | GS14: 1.067 | GT14: 1.111 | GU14: 0.692 | GV14: 0.938 | GW14: 0.748 | GX14: 1.124 | GY14: 0.797 | GZ14: 0.936 | HA14: 0.541 | HB14: 0.951 | HC14: 0.734 | HD14: 1.064 | HE14: 1.421 | HF14: 0.754 | HG14: 2 | HH14: 0.97 | HI14: 0.989 | HJ14: 0.287 | HK14: 0.19 | HL14: 0.757 | HM14: 0.947 | HN14: 0.877 | HO14: 0.7 | HP14: 0.862 | HQ14: 0.184 | HR14: 0.133 | HS14: 0.518 | HT14: 0.287 | HU14: 0.057 | HV14: 0.228 | HW14: 0.25 | HX14: NOK | HY14: NOK | HZ14: NOK | IA14: NOK | IB14: 21 | IC14: NOK | ID14: NOK | IE14: NOK | IF14: =IFERROR(RANK(HX14,HX:HX,1),"") | IG14: =IFERROR(RANK(HY14,HY:HY,1),"") | IH14: =IFERROR(RANK(HZ14,HZ:HZ,1),"") | II14: =IFERROR(RANK(IA14,IA:IA,1),"") | IJ14: =IFERROR(RANK(IB14,IB:IB,1),"") -> 50 | IK14: =IFERROR(RANK(IC14,IC:IC,1),"") | IL14: =IFERROR(RANK(ID14,ID:ID,1),"") | IM14: =IFERROR(RANK(IE14,IE:IE,1),"")
A15: 130182 | E15: FALSE | H15: 35 | J15: 40 - G | K15: TRUE | N15: Buy | R15: 0 | S15: 1.6 | T15: FALSE | U15: 43741 | V15: 0 | W15: 0 | X15: 0.16935 | Y15: 0 | Z15: 0 | AA15: 70 | AB15: 70 | AC15: 10 | AD15: 43 | AE15: 43691 | AF15: 43741 | AH15: 1.6 | AI15: A | AJ15: 852 | AK15: 115 | AL15: 7 | AM15: 173 | AN15: 668 | AO15: 781 | AP15: 497 | AQ15: 595 | AR15: 868 | AS15: 995 | AT15: 338 | AU15: 679 | AV15: 427 | AW15: 248 | AX15: 94 | AY15: 315 | AZ15: 174 | BA15: 158 | BB15: 195 | BC15: 185 | BD15: 207 | BE15: 115 | BF15: 108 | BG15: 129 | BH15: 130 | BI15: 119 | BJ15: 126 | BK15: 103 | BL15: 114 | BM15: 25 | BN15: 25 | BO15: 25 | BP15: 25 | BQ15: 2 | BR15: 0 | BS15: 1 | BT15: 0 | BU15: 1 | BV15: 2 | BW15: 1 | BX15: 3 | BY15: 2 | BZ15: 3 | CA15: 0 | CB15: 2 | CC15: 3 | CD15: 2 | CE15: 3 | CF15: 3 | CG15: 83 | CH15: 41 | CI15: 24 | CJ15: 34 | CK15: 59 | CL15: 96 | CM15: 47 | CN15: 20 | CO15: 33 | CP15: 6 | CQ15: 37 | CR15: 53 | CS15: 58 | CT15: 39 | CU15: 60 | CV15: 0 | CW15: 59 | CX15: 55 | CY15: 25 | CZ15: 46 | DA15: 62 | DB15: 91 | DC15: 83 | DD15: 2 | DE15: 56 | DF15: 12 | DG15: 55 | DH15: 69 | DI15: 79 | DJ15: 59 | DK15: 7 | DL15: 7 | DM15: 679 | DN15: 197 | DO15: 703 | DP15: 836 | DQ15: 100 | DR15: 596 | DS15: 433 | DT15: 225 | DU15: 690 | DV15: 512 | DW15: 942 | DX15: 666 | DY15: 28 | DZ15: 811 | EA15: 70 | EB15: 467 | EC15: 760 | ED15: 696 | EE15: 444 | EF15: 468 | EG15: 959 | EH15: 467 | EI15: 199 | EJ15: 559 | EK15: 858 | EL15: 52 | EM15: 848 | EN15: 999 | EO15: 316 | EP15: 540 | EQ15: 370 | ER15: 816 | ES15: 107 | ET15: 333 | EU15: 893 | EV15: 445 | EW15: 331 | EX15: 710 | EY15: 399 | EZ15: 200 | FA15: 80 | FB15: 917 | FC15: 790 | FD15: 606 | FE15: 35 | FF15: 250 | FG15: 859 | FH15: 564 | FI15: 870 | FJ15: 50 | FK15: 50 | FL15: 50 | FM15: 50 | FN15: 24 | FO15: 26 | FP15: 41 | FQ15: 70 | FR15: 53 | FS15: 66 | FT15: 68 | FU15: 50 | FV15: 50 | FW15: 50 | FX15: 50 | FY15: 50 | FZ15: 50 | GA15: 50 | GB15: 50 | GC15: 50 | GD15: 50 | GE15: 28 | GF15: 55 | GG15: 51 | GH15: 20 | GI15: 51 | GJ15: 53 | GK15: 38 | GL15: 50 | GM15: 50 | GN15: 50 | GO15: 50 | GP15: 50 | GQ15: 50 | GR15: 0.57 | GS15: 0.967 | GT15: 1.26 | GU15: 1.196 | GV15: 0.944 | GW15: 0.968 | GX15: 1.459 | GY15: 0.967 | GZ15: 0.699 | HA15: 1.059 | HB15: 1.358 | HC15: 0.552 | HD15: 1.348 | HE15: 1.499 | HF15: 0.816 | HG15: 1 | HH15: 0.37 | HI15: 0.816 | HJ15: 0.107 | HK15: 0.333 | HL15: 0.893 | HM15: 0.445 | HN15: 0.331 | HO15: 0.71 | HP15: 0.399 | HQ15: 0.2 | HR15: 0.08 | HS15: 0.917 | HT15: 0.79 | HU15: 0.606 | HV15: 0.035 | HW15: 0.25 | HX15: NOK | HY15: NOK | HZ15: NOK | IA15: NOK | IB15: NOK | IC15: NOK | ID15: NOK | IE15: NOK | IF15: =IFERROR(RANK(HX15,HX:HX,1),"") | IG15: =IFERROR(RANK(HY15,HY:HY,1),"") | IH15: =IFERROR(RANK(HZ15,HZ:HZ,1),"") | II15: =IFERROR(RANK(IA15,IA:IA,1),"") | IJ15: =IFERROR(RANK(IB15,IB:IB,1),"") | IK15: =IFERROR(RANK(IC15,IC:IC,1),"") | IL15: =IFERROR(RANK(ID15,ID:ID,1),"") | IM15: =IFERROR(RANK(IE15,IE:IE,1),"")
A16: 130189 | E16: FALSE | H16: 35 | J16: 50 - B | K16: TRUE | N16: Buy | R16: 44.48 | S16: 0.025 | T16: FALSE | U16: 43741 | V16: 0 | W16: 0 | X16: 0 | Y16: 0 | Z16: 0 | AA16: 0 | AB16: 30 | AC16: 10 | AD16: 1200 | AE16: 43691 | AF16: 43741 | AH16: 0.025 | AI16: A | AJ16: 422 | AK16: 708 | AL16: 449 | AM16: 459 | AN16: 343 | AO16: 553 | AP16: 396 | AQ16: 52 | AR16: 64 | AS16: 662 | AT16: 40 | AU16: 849 | AV16: 11 | AW16: 813 | AX16: 461 | AY16: 728 | AZ16: 190 | BA16: 180 | BB16: 119 | BC16: 160 | BD16: 151 | BE16: 231 | BF16: 127 | BG16: 118 | BH16: 118 | BI16: 110 | BJ16: 115 | BK16: 130 | BL16: 117 | BM16: 25 | BN16: 25 | BO16: 25 | BP16: 25 | BQ16: 1 | BR16: 1 | BS16: 0 | BT16: 3 | BU16: 1 | BV16: 3 | BW16: 1 | BX16: 0 | BY16: 1 | BZ16: 1 | CA16: 2 | CB16: 0 | CC16: 3 | CD16: 0 | CE16: 2 | CF16: 0 | CG16: 11 | CH16: 13 | CI16: 22 | CJ16: 73 | CK16: 16 | CL16: 14 | CM16: 38 | CN16: 35 | CO16: 87 | CP16: 85 | CQ16: 28 | CR16: 11 | CS16: 95 | CT16: 21 | CU16: 71 | CV16: 82 | CW16: 85 | CX16: 99 | CY16: 55 | CZ16: 30 | DA16: 9 | DB16: 34 | DC16: 41 | DD16: 75 | DE16: 34 | DF16: 41 | DG16: 26 | DH16: 41 | DI16: 64 | DJ16: 15 | DK16: 30 | DL16: 67 | DM16: 745 | DN16: 183 | DO16: 420 | DP16: 445 | DQ16: 785 | DR16: 871 | DS16: 74 | DT16: 267 | DU16: 454 | DV16: 231 | DW16: 729 | DX16: 318 | DY16: 487 | DZ16: 714 | EA16: 553 | EB16: 687 | EC16: 765 | ED16: 219 | EE16: 512 | EF16: 790 | EG16: 66 | EH16: 719 | EI16: 840 | EJ16: 424 | EK16: 888 | EL16: 249 | EM16: 601 | EN16: 418 | EO16: 864 | EP16: 229 | EQ16: 342 | ER16: 280 | ES16: 510 | ET16: 678 | EU16: 675 | EV16: 714 | EW16: 91 | EX16: 331 | EY16: 610 | EZ16: 59 | FA16: 693 | FB16: 682 | FC16: 655 | FD16: 142 | FE16: 841 | FF16: 403 | FG16: 350 | FH16: 560 | FI16: 563 | FJ16: 50 | FK16: 50 | FL16: 50 | FM16: 50 | FN16: 32 | FO16: 63 | FP16: 61 | FQ16: 31 | FR16: 36 | FS16: 21 | FT16: 49 | FU16: 50 | FV16: 50 | FW16: 50 | FX16: 50 | FY16: 50 | FZ16: 50 | GA16: 50 | GB16: 50 | GC16: 50 | GD16: 50 | GE16: 45 | GF16: 57 | GG16: 41 | GH16: 56 | GI16: 66 | GJ16: 70 | GK16: 23 | GL16: 50 | GM16: 50 | GN16: 50 | GO16: 50 | GP16: 50 | GQ16: 50 | GR16: 1.053 | GS16: 1.187 | GT16: 1.265 | GU16: 0.719 | GV16: 1.012 | GW16: 1.29 | GX16: 0.566 | GY16: 1.219 | GZ16: 1.34 | HA16: 0.924 | HB16: 1.388 | HC16: 0.749 | HD16: 1.101 | HE16: 0.918 | HF16: 1.364 | HG16: 1 | HH16: 0.342 | HI16: 0.28 | HJ16: 0.51 | HK16: 0.678 | HL16: 0.675 | HM16: 0.714 | HN16: 0.091 | HO16: 0.331 | HP16: 0.61 | HQ16: 0.059 | HR16: 0.693 | HS16: 0.682 | HT16: 0.655 | HU16: 0.142 | HV16: 0.841 | HW16: 0.403 | HX16: NOK | HY16: NOK | HZ16: NOK | IA16: NOK | IB16: NOK | IC16: NOK | ID16: NOK | IE16: NOK | IF16: =IFERROR(RANK(HX16,HX:HX,1),"") | IG16: =IFERROR(RANK(HY16,HY:HY,1),"") | IH16: =IFERROR(RANK(HZ16,HZ:HZ,1),"") | II16: =IFERROR(RANK(IA16,IA:IA,1),"") | IJ16: =IFERROR(RANK(IB16,IB:IB,1),"") | IK16: =IFERROR(RANK(IC16,IC:IC,1),"") | IL16: =IFERROR(RANK(ID16,ID:ID,1),"") | IM16: =IFERROR(RANK(IE16,IE:IE,1),"")
A17: 130911 | E17: FALSE | H17: 35 | J17: 40 - G | K17: TRUE | N17: Buy | R17: 0 | S17: 0.35 | T17: FALSE | U17: 43741 | V17: 0 | W17: 0 | X17: 0.22581 | Y17: 0 | Z17: 0 | AA17: 10 | AB17: 10 | AC17: 5 | AD17: 28 | AE17: 43691 | AF17: 43741 | AH17: 0.35 | AI17: A | AJ17: 583 | AK17: 213 | AL17: 179 | AM17: 35 | AN17: 754 | AO17: 66 | AP17: 61 | AQ17: 298 | AR17: 15 | AS17: 706 | AT17: 205 | AU17: 331 | AV17: 316 | AW17: 438 | AX17: 767 | AY17: 335 | AZ17: 216 | BA17: 135 | BB17: 167 | BC17: 249 | BD17: 109 | BE17: 125 | BF17: 123 | BG17: 117 | BH17: 100 | BI17: 130 | BJ17: 104 | BK17: 108 | BL17: 114 | BM17: 25 | BN17: 25 | BO17: 25 | BP17: 25 | BQ17: 1 | BR17: 1 | BS17: 0 | BT17: 2 | BU17: 1 | BV17: 1 | BW17: 2 | BX17: 0 | BY17: 0 | BZ17: 1 | CA17: 0 | CB17: 1 | CC17: 1 | CD17: 1 | CE17: 1 | CF17: 3 | CG17: 41 | CH17: 59 | CI17: 19 | CJ17: 14 | CK17: 34 | CL17: 71 | CM17: 59 | CN17: 89 | CO17: 4 | CP17: 40 | CQ17: 83 | CR17: 60 | CS17: 45 | CT17: 21 | CU17: 8 | CV17: 100 | CW17: 76 | CX17: 49 | CY17: 29 | CZ17: 38 | DA17: 9 | DB17: 37 | DC17: 95 | DD17: 39 | DE17: 20 | DF17: 30 | DG17: 22 | DH17: 72 | DI17: 67 | DJ17: 11 | DK17: 73 | DL17: 33 | DM17: 592 | DN17: 372 | DO17: 565 | DP17: 794 | DQ17: 342 | DR17: 16 | DS17: 441 | DT17: 30 | DU17: 686 | DV17: 890 | DW17: 937 | DX17: 254 | DY17: 241 | DZ17: 149 | EA17: 99 | EB17: 298 | EC17: 819 | ED17: 962 | EE17: 588 | EF17: 179 | EG17: 835 | EH17: 995 | EI17: 275 | EJ17: 899 | EK17: 517 | EL17: 510 | EM17: 867 | EN17: 957 | EO17: 753 | EP17: 190 | EQ17: 426 | ER17: 887 | ES17: 595 | ET17: 530 | EU17: 915 | EV17: 545 | EW17: 622 | EX17: 974 | EY17: 307 | EZ17: 168 | FA17: 361 | FB17: 799 | FC17: 748 | FD17: 848 | FE17: 691 | FF17: 541 | FG17: 204 | FH17: 173 | FI17: 140 | FJ17: 50 | FK17: 50 | FL17: 50 | FM17: 50 | FN17: 37 | FO17: 49 | FP17: 63 | FQ17: 74 | FR17: 29 | FS17: 21 | FT17: 25 | FU17: 50 | FV17: 50 | FW17: 50 | FX17: 50 | FY17: 50 | FZ17: 50 | GA17: 50 | GB17: 50 | GC17: 50 | GD17: 50 | GE17: 24 | GF17: 25 | GG17: 36 | GH17: 67 | GI17: 28 | GJ17: 46 | GK17: 41 | GL17: 50 | GM17: 50 | GN17: 50 | GO17: 50 | GP17: 50 | GQ17: 50 | GR17: 0.599 | GS17: 0.798 | GT17: 1.319 | GU17: 1.462 | GV17: 1.088 | GW17: 0.679 | GX17: 1.335 | GY17: 1.495 | GZ17: 0.775 | HA17: 1.399 | HB17: 1.017 | HC17: 1.01 | HD17: 1.367 | HE17: 1.457 | HF17: 1.253 | HG17: 1 | HH17: 0.426 | HI17: 0.887 | HJ17: 0.595 | HK17: 0.53 | HL17: 0.915 | HM17: 0.545 | HN17: 0.622 | HO17: 0.974 | HP17: 0.307 | HQ17: 0.168 | HR17: 0.361 | HS17: 0.799 | HT17: 0.748 | HU17: 0.848 | HV17: 0.691 | HW17: 0.541 | HX17: NOK | HY17: NOK | HZ17: NOK | IA17: NOK | IB17: NOK | IC17: NOK | ID17: NOK | IE17: NOK | IF17: =IFERROR(RANK(HX17,HX:HX,1),"") | IG17: =IFERROR(RANK(HY17,HY:HY,1),"") | IH17: =IFERROR(RANK(HZ17,HZ:HZ,1),"") | II17: =IFERROR(RANK(IA17,IA:IA,1),"") | IJ17: =IFERROR(RANK(IB17,IB:IB,1),"") | IK17: =IFERROR(RANK(IC17,IC:IC,1),"") | IL17: =IFERROR(RANK(ID17,ID:ID,1),"") | IM17: =IFERROR(RANK(IE17,IE:IE,1),"")
A18: 130974 | E18: FALSE | H18: 40 | J18: 40 - G | K18: TRUE | N18: Buy | R18: 0 | S18: 0.292 | T18: FALSE | U18: 43748 | V18: 0 | W18: 0 | X18: 0 | Y18: 0 | Z18: 0 | AA18: 40 | AB18: 20 | AC18: 10 | AD18: 68 | AE18: 43691 | AF18: 43748 | AH18: 0.292 | AI18: A | AJ18: 943 | AK18: 95 | AL18: 355 | AM18: 421 | AN18: 592 | AO18: 242 | AP18: 562 | AQ18: 292 | AR18: 797 | AS18: 108 | AT18: 891 | AU18: 334 | AV18: 257 | AW18: 379 | AX18: 56 | AY18: 202 | AZ18: 115 | BA18: 153 | BB18: 228 | BC18: 238 | BD18: 217 | BE18: 133 | BF18: 118 | BG18: 129 | BH18: 114 | BI18: 116 | BJ18: 102 | BK18: 130 | BL18: 117 | BM18: 25 | BN18: 25 | BO18: 25 | BP18: 25 | BQ18: 2 | BR18: 2 | BS18: 3 | BT18: 1 | BU18: 2 | BV18: 2 | BW18: 1 | BX18: 1 | BY18: 1 | BZ18: 3 | CA18: 1 | CB18: 2 | CC18: 2 | CD18: 0 | CE18: 2 | CF18: 0 | CG18: 23 | CH18: 84 | CI18: 73 | CJ18: 2 | CK18: 11 | CL18: 21 | CM18: 82 | CN18: 24 | CO18: 55 | CP18: 31 | CQ18: 42 | CR18: 30 | CS18: 74 | CT18: 48 | CU18: 75 | CV18: 76 | CW18: 30 | CX18: 16 | CY18: 19 | CZ18: 67 | DA18: 52 | DB18: 15 | DC18: 19 | DD18: 81 | DE18: 36 | DF18: 15 | DG18: 87 | DH18: 82 | DI18: 54 | DJ18: 83 | DK18: 99 | DL18: 47 | DM18: 315 | DN18: 144 | DO18: 811 | DP18: 701 | DQ18: 675 | DR18: 889 | DS18: 46 | DT18: 461 | DU18: 564 | DV18: 732 | DW18: 11 | DX18: 925 | DY18: 377 | DZ18: 334 | EA18: 641 | EB18: 431 | EC18: 527 | ED18: 124 | EE18: 740 | EF18: 592 | EG18: 378 | EH18: 324 | EI18: 932 | EJ18: 189 | EK18: 335 | EL18: 588 | EM18: 747 | EN18: 510 | EO18: 977 | EP18: 780 | EQ18: 90 | ER18: 425 | ES18: 603 | ET18: 849 | EU18: 211 | EV18: 600 | EW18: 557 | EX18: 742 | EY18: 713 | EZ18: 819 | FA18: 402 | FB18: 496 | FC18: 777 | FD18: 975 | FE18: 229 | FF18: 887 | FG18: 505 | FH18: 819 | FI18: 804 | FJ18: 50 | FK18: 50 | FL18: 50 | FM18: 50 | FN18: 34 | FO18: 46 | FP18: 60 | FQ18: 61 | FR18: 57 | FS18: 30 | FT18: 60 | FU18: 50 | FV18: 50 | FW18: 50 | FX18: 50 | FY18: 50 | FZ18: 50 | GA18: 50 | GB18: 50 | GC18: 50 | GD18: 50 | GE18: 28 | GF18: 23 | GG18: 61 | GH18: 52 | GI18: 36 | GJ18: 71 | GK18: 23 | GL18: 50 | GM18: 50 | GN18: 50 | GO18: 50 | GP18: 50 | GQ18: 50 | GR18: 1.141 | GS18: 0.931 | GT18: 1.027 | GU18: 0.624 | GV18: 1.24 | GW18: 1.092 | GX18: 0.878 | GY18: 0.824 | GZ18: 1.432 | HA18: 0.689 | HB18: 0.835 | HC18: 1.088 | HD18: 1.247 | HE18: 1.01 | HF18: 1.477 | HG18: 1 | HH18: 0.09 | HI18: 0.425 | HJ18: 0.603 | HK18: 0.849 | HL18: 0.211 | HM18: 0.6 | HN18: 0.557 | HO18: 0.742 | HP18: 0.713 | HQ18: 0.819 | HR18: 0.402 | HS18: 0.496 | HT18: 0.777 | HU18: 0.975 | HV18: 0.229 | HW18: 0.887 | HX18: NOK | HY18: NOK | HZ18: NOK | IA18: NOK | IB18: NOK | IC18: NOK | ID18: NOK | IE18: NOK | IF18: =IFERROR(RANK(HX18,HX:HX,1),"") | IG18: =IFERROR(RANK(HY18,HY:HY,1),"") | IH18: =IFERROR(RANK(HZ18,HZ:HZ,1),"") | II18: =IFERROR(RANK(IA18,IA:IA,1),"") | IJ18: =IFERROR(RANK(IB18,IB:IB,1),"") | IK18: =IFERROR(RANK(IC18,IC:IC,1),"") | IL18: =IFERROR(RANK(ID18,ID:ID,1),"") | IM18: =IFERROR(RANK(IE18,IE:IE,1),"")
A19: 133226 | E19: FALSE | H19: 35 | J19: 40 - G | K19: TRUE | N19: Buy | R19: 22.24 | S19: 0.029 | T19: FALSE | U19: 43741 | V19: 0 | W19: 0 | X19: 0 | Y19: 0 | Z19: 0 | AA19: 0 | AB19: 10 | AC19: 5 | AD19: 344 | AE19: 43691 | AF19: 43741 | AH19: 0.029 | AI19: A | AJ19: 639 | AK19: 119 | AL19: 775 | AM19: 141 | AN19: 59 | AO19: 440 | AP19: 353 | AQ19: 530 | AR19: 687 | AS19: 582 | AT19: 622 | AU19: 994 | AV19: 941 | AW19: 987 | AX19: 124 | AY19: 36 | AZ19: 243 | BA19: 214 | BB19: 118 | BC19: 146 | BD19: 116 | BE19: 130 | BF19: 116 | BG19: 115 | BH19: 102 | BI19: 103 | BJ19: 115 | BK19: 103 | BL19: 127 | BM19: 25 | BN19: 25 | BO19: 25 | BP19: 25 | BQ19: 3 | BR19: 2 | BS19: 3 | BT19: 2 | BU19: 0 | BV19: 3 | BW19: 1 | BX19: 3 | BY19: 0 | BZ19: 1 | CA19: 0 | CB19: 3 | CC19: 1 | CD19: 0 | CE19: 0 | CF19: 1 | CG19: 73 | CH19: 57 | CI19: 2 | CJ19: 19 | CK19: 86 | CL19: 88 | CM19: 67 | CN19: 40 | CO19: 94 | CP19: 71 | CQ19: 29 | CR19: 32 | CS19: 48 | CT19: 65 | CU19: 50 | CV19: 73 | CW19: 42 | CX19: 67 | CY19: 77 | CZ19: 43 | DA19: 71 | DB19: 63 | DC19: 92 | DD19: 7 | DE19: 75 | DF19: 82 | DG19: 8 | DH19: 91 | DI19: 100 | DJ19: 32 | DK19: 28 | DL19: 89 | DM19: 381 | DN19: 268 | DO19: 624 | DP19: 119 | DQ19: 444 | DR19: 638 | DS19: 884 | DT19: 489 | DU19: 653 | DV19: 670 | DW19: 631 | DX19: 236 | DY19: 846 | DZ19: 503 | EA19: 858 | EB19: 281 | EC19: 312 | ED19: 354 | EE19: 647 | EF19: 461 | EG19: 306 | EH19: 46 | EI19: 591 | EJ19: 459 | EK19: 101 | EL19: 986 | EM19: 504 | EN19: 787 | EO19: 432 | EP19: 211 | EQ19: 66 | ER19: 27 | ES19: 284 | ET19: 723 | EU19: 121 | EV19: 468 | EW19: 419 | EX19: 193 | EY19: 107 | EZ19: 839 | FA19: 963 | FB19: 842 | FC19: 782 | FD19: 331 | FE19: 560 | FF19: 37 | FG19: 107 | FH19: 986 | FI19: 981 | FJ19: 50 | FK19: 50 | FL19: 50 | FM19: 50 | FN19: 48 | FO19: 49 | FP19: 63 | FQ19: 22 | FR19: 25 | FS19: 32 | FT19: 21 | FU19: 50 | FV19: 50 | FW19: 50 | FX19: 50 | FY19: 50 | FZ19: 50 | GA19: 50 | GB19: 50 | GC19: 50 | GD19: 50 | GE19: 21 | GF19: 58 | GG19: 47 | GH19: 24 | GI19: 35 | GJ19: 35 | GK19: 49 | GL19: 50 | GM19: 50 | GN19: 50 | GO19: 50 | GP19: 50 | GQ19: 50 | GR19: 1.358 | GS19: 0.781 | GT19: 0.812 | GU19: 0.854 | GV19: 1.147 | GW19: 0.961 | GX19: 0.806 | GY19: 0.546 | GZ19: 1.091 | HA19: 0.959 | HB19: 0.601 | HC19: 1.486 | HD19: 1.004 | HE19: 1.287 | HF19: 0.932 | HG19: 2 | HH19: 0.066 | HI19: 0.027 | HJ19: 0.284 | HK19: 0.723 | HL19: 0.121 | HM19: 0.468 | HN19: 0.419 | HO19: 0.193 | HP19: 0.107 | HQ19: 0.839 | HR19: 0.963 | HS19: 0.842 | HT19: 0.782 | HU19: 0.331 | HV19: 0.56 | HW19: 0.037 | HX19: NOK | HY19: NOK | HZ19: NOK | IA19: NOK | IB19: 89 | IC19: NOK | ID19: NOK | IE19: 1 | IF19: =IFERROR(RANK(HX19,HX:HX,1),"") | IG19: =IFERROR(RANK(HY19,HY:HY,1),"") | IH19: =IFERROR(RANK(HZ19,HZ:HZ,1),"") | II19: =IFERROR(RANK(IA19,IA:IA,1),"") | IJ19: =IFERROR(RANK(IB19,IB:IB,1),"") -> 170 | IK19: =IFERROR(RANK(IC19,IC:IC,1),"") | IL19: =IFERROR(RANK(ID19,ID:ID,1),"") | IM19: =IFERROR(RANK(IE19,IE:IE,1),"") -> 1
A20: 135040 | E20: FALSE | H20: 25 | J20: 40 - G | K20: TRUE | N20: Buy | R20: 0 | S20: 0.067 | T20: FALSE | U20: 43727 | V20: 0 | W20: 0 | X20: 0 | Y20: 0 | Z20: 0 | AA20: 0 | AB20: 10 | AC20: 5 | AD20: 149 | AE20: 43691 | AF20: 43727 | AH20: 0.067 | AI20: A | AJ20: 952 | AK20: 633 | AL20: 397 | AM20: 90 | AN20: 974 | AO20: 177 | AP20: 525 | AQ20: 828 | AR20: 954 | AS20: 32 | AT20: 464 | AU20: 515 | AV20: 217 | AW20: 46 | AX20: 444 | AY20: 435 | AZ20: 175 | BA20: 129 | BB20: 203 | BC20: 196 | BD20: 194 | BE20: 168 | BF20: 112 | BG20: 122 | BH20: 109 | BI20: 124 | BJ20: 121 | BK20: 111 | BL20: 100 | BM20: 25 | BN20: 25 | BO20: 25 | BP20: 25 | BQ20: 2 | BR20: 1 | BS20: 3 | BT20: 1 | BU20: 3 | BV20: 1 | BW20: 1 | BX20: 3 | BY20: 1 | BZ20: 0 | CA20: 3 | CB20: 3 | CC20: 2 | CD20: 2 | CE20: 2 | CF20: 1 | CG20: 34 | CH20: 40 | CI20: 9 | CJ20: 0 | CK20: 11 | CL20: 93 | CM20: 54 | CN20: 16 | CO20: 66 | CP20: 72 | CQ20: 94 | CR20: 48 | CS20: 89 | CT20: 30 | CU20: 68 | CV20: 86 | CW20: 35 | CX20: 36 | CY20: 48 | CZ20: 74 | DA20: 6 | DB20: 25 | DC20: 4 | DD20: 56 | DE20: 17 | DF20: 90 | DG20: 10 | DH20: 54 | DI20: 81 | DJ20: 87 | DK20: 65 | DL20: 78 | DM20: 223 | DN20: 671 | DO20: 995 | DP20: 767 | DQ20: 816 | DR20: 969 | DS20: 848 | DT20: 304 | DU20: 670 | DV20: 32 | DW20: 140 | DX20: 292 | DY20: 798 | DZ20: 750 | EA20: 942 | EB20: 666 | EC20: 185 | ED20: 903 | EE20: 994 | EF20: 868 | EG20: 389 | EH20: 372 | EI20: 83 | EJ20: 709 | EK20: 166 | EL20: 484 | EM20: 697 | EN20: 692 | EO20: 798 | EP20: 688 | EQ20: 719 | ER20: 737 | ES20: 684 | ET20: 203 | EU20: 29 | EV20: 628 | EW20: 644 | EX20: 419 | EY20: 184 | EZ20: 827 | FA20: 86 | FB20: 839 | FC20: 537 | FD20: 597 | FE20: 712 | FF20: 302 | FG20: 725 | FH20: 552 | FI20: 660 | FJ20: 50 | FK20: 50 | FL20: 50 | FM20: 50 | FN20: 42 | FO20: 41 | FP20: 26 | FQ20: 43 | FR20: 68 | FS20: 26 | FT20: 23 | FU20: 50 | FV20: 50 | FW20: 50 | FX20: 50 | FY20: 50 | FZ20: 50 | GA20: 50 | GB20: 50 | GC20: 50 | GD20: 50 | GE20: 29 | GF20: 74 | GG20: 28 | GH20: 69 | GI20: 36 | GJ20: 36 | GK20: 22 | GL20: 50 | GM20: 50 | GN20: 50 | GO20: 50 | GP20: 50 | GQ20: 50 | GR20: 1.442 | GS20: 1.166 | GT20: 0.685 | GU20: 1.403 | GV20: 1.494 | GW20: 1.368 | GX20: 0.889 | GY20: 0.872 | GZ20: 0.583 | HA20: 1.209 | HB20: 0.666 | HC20: 0.984 | HD20: 1.197 | HE20: 1.192 | HF20: 1.298 | HG20: 1 | HH20: 0.719 | HI20: 0.737 | HJ20: 0.684 | HK20: 0.203 | HL20: 0.029 | HM20: 0.628 | HN20: 0.644 | HO20: 0.419 | HP20: 0.184 | HQ20: 0.827 | HR20: 0.086 | HS20: 0.839 | HT20: 0.537 | HU20: 0.597 | HV20: 0.712 | HW20: 0.302 | HX20: NOK | HY20: NOK | HZ20: NOK | IA20: NOK | IB20: NOK | IC20: NOK | ID20: NOK | IE20: 2 | IF20: =IFERROR(RANK(HX20,HX:HX,1),"") | IG20: =IFERROR(RANK(HY20,HY:HY,1),"") | IH20: =IFERROR(RANK(HZ20,HZ:HZ,1),"") | II20: =IFERROR(RANK(IA20,IA:IA,1),"") | IJ20: =IFERROR(RANK(IB20,IB:IB,1),"") | IK20: =IFERROR(RANK(IC20,IC:IC,1),"") | IL20: =IFERROR(RANK(ID20,ID:ID,1),"") | IM20: =IFERROR(RANK(IE20,IE:IE,1),"") -> 2
A21: 135041 | E21: FALSE | H21: 35 | J21: 40 - G | K21: TRUE | N21: Buy | R21: 0 | S21: 0.167 | T21: FALSE | U21: 43741 | V21: 0 | W21: 0 | X21: 0 | Y21: 0 | Z21: 0 | AA21: 0 | AB21: 10 | AC21: 5 | AD21: 59 | AE21: 43691 | AF21: 43741 | AH21: 0.167 | AI21: A | AJ21: 547 | AK21: 870 | AL21: 286 | AM21: 478 | AN21: 716 | AO21: 452 | AP21: 330 | AQ21: 46 | AR21: 106 | AS21: 618 | AT21: 675 | AU21: 259 | AV21: 327 | AW21: 956 | AX21: 145 | AY21: 455 | AZ21: 144 | BA21: 130 | BB21: 110 | BC21: 240 | BD21: 140 | BE21: 100 | BF21: 118 | BG21: 118 | BH21: 128 | BI21: 102 | BJ21: 102 | BK21: 111 | BL21: 112 | BM21: 25 | BN21: 25 | BO21: 25 | BP21: 25 | BQ21: 1 | BR21: 0 | BS21: 1 | BT21: 3 | BU21: 3 | BV21: 0 | BW21: 3 | BX21: 3 | BY21: 2 | BZ21: 1 | CA21: 0 | CB21: 0 | CC21: 3 | CD21: 1 | CE21: 0 | CF21: 3 | CG21: 46 | CH21: 60 | CI21: 52 | CJ21: 57 | CK21: 54 | CL21: 38 | CM21: 5 | CN21: 16 | CO21: 74 | CP21: 92 | CQ21: 0 | CR21: 67 | CS21: 53 | CT21: 95 | CU21: 49 | CV21: 42 | CW21: 23 | CX21: 37 | CY21: 12 | CZ21: 86 | DA21: 44 | DB21: 61 | DC21: 97 | DD21: 31 | DE21: 6 | DF21: 18 | DG21: 82 | DH21: 7 | DI21: 46 | DJ21: 56 | DK21: 78 | DL21: 51 | DM21: 69 | DN21: 817 | DO21: 503 | DP21: 188 | DQ21: 327 | DR21: 271 | DS21: 480 | DT21: 492 | DU21: 874 | DV21: 506 | DW21: 736 | DX21: 151 | DY21: 829 | DZ21: 880 | EA21: 677 | EB21: 592 | EC21: 943 | ED21: 797 | EE21: 569 | EF21: 141 | EG21: 236 | EH21: 737 | EI21: 336 | EJ21: 249 | EK21: 745 | EL21: 960 | EM21: 496 | EN21: 318 | EO21: 351 | EP21: 814 | EQ21: 97 | ER21: 925 | ES21: 184 | ET21: 500 | EU21: 583 | EV21: 192 | EW21: 381 | EX21: 449 | EY21: 597 | EZ21: 377 | FA21: 840 | FB21: 699 | FC21: 888 | FD21: 216 | FE21: 468 | FF21: 580 | FG21: 720 | FH21: 447 | FI21: 11 | FJ21: 50 | FK21: 50 | FL21: 50 | FM21: 50 | FN21: 29 | FO21: 45 | FP21: 20 | FQ21: 44 | FR21: 41 | FS21: 73 | FT21: 20 | FU21: 50 | FV21: 50 | FW21: 50 | FX21: 50 | FY21: 50 | FZ21: 50 | GA21: 50 | GB21: 50 | GC21: 50 | GD21: 50 | GE21: 21 | GF21: 30 | GG21: 64 | GH21: 20 | GI21: 54 | GJ21: 28 | GK21: 63 | GL21: 50 | GM21: 50 | GN21: 50 | GO21: 50 | GP21: 50 | GQ21: 50 | GR21: 1.177 | GS21: 1.092 | GT21: 1.443 | GU21: 1.297 | GV21: 1.069 | GW21: 0.641 | GX21: 0.736 | GY21: 1.237 | GZ21: 0.836 | HA21: 0.749 | HB21: 1.245 | HC21: 1.46 | HD21: 0.996 | HE21: 0.818 | HF21: 0.851 | HG21: 1 | HH21: 0.097 | HI21: 0.925 | HJ21: 0.184 | HK21: 0.5 | HL21: 0.583 | HM21: 0.192 | HN21: 0.381 | HO21: 0.449 | HP21: 0.597 | HQ21: 0.377 | HR21: 0.84 | HS21: 0.699 | HT21: 0.888 | HU21: 0.216 | HV21: 0.468 | HW21: 0.58 | HX21: NOK | HY21: NOK | HZ21: NOK | IA21: NOK | IB21: NOK | IC21: NOK | ID21: NOK | IE21: 3 | IF21: =IFERROR(RANK(HX21,HX:HX,1),"") | IG21: =IFERROR(RANK(HY21,HY:HY,1),"") | IH21: =IFERROR(RANK(HZ21,HZ:HZ,1),"") | II21: =IFERROR(RANK(IA21,IA:IA,1),"") | IJ21: =IFERROR(RANK(IB21,IB:IB,1),"") | IK21: =IFERROR(RANK(IC21,IC:IC,1),"") | IL21: =IFERROR(RANK(ID21,ID:ID,1),"") | IM21: =IFERROR(RANK(IE21,IE:IE,1),"") -> 3
A22: 135456 | E22: TRUE | H22: 42 | J22: 50 - B | K22: TRUE | N22: Buy | R22: 0 | S22: 0.075 | T22: FALSE | U22: 43748 | V22: 0 | W22: 0 | X22: 0 | Y22: 0 | Z22: 0 | AA22: 0 | AB22: 10 | AC22: 5 | AD22: 133 | AE22: 43691 | AF22: 43748 | AH22: 0.075 | AI22: A | AJ22: 142 | AK22: 468 | AL22: 811 | AM22: 733 | AN22: 847 | AO22: 76 | AP22: 926 | AQ22: 211 | AR22: 368 | AS22: 594 | AT22: 144 | AU22: 526 | AV22: 352 | AW22: 261 | AX22: 985 | AY22: 31 | AZ22: 127 | BA22: 107 | BB22: 191 | BC22: 105 | BD22: 171 | BE22: 128 | BF22: 128 | BG22: 112 | BH22: 101 | BI22: 130 | BJ22: 109 | BK22: 120 | BL22: 105 | BM22: 25 | BN22: 25 | BO22: 25 | BP22: 25 | BQ22: 3 | BR22: 3 | BS22: 2 | BT22: 2 | BU22: 1 | BV22: 2 | BW22: 3 | BX22: 0 | BY22: 1 | BZ22: 2 | CA22: 1 | CB22: 3 | CC22: 3 | CD22: 0 | CE22: 1 | CF22: 3 | CG22: 68 | CH22: 54 | CI22: 71 | CJ22: 98 | CK22: 76 | CL22: 73 | CM22: 70 | CN22: 10 | CO22: 47 | CP22: 98 | CQ22: 9 | CR22: 16 | CS22: 21 | CT22: 52 | CU22: 63 | CV22: 93 | CW22: 6 | CX22: 13 | CY22: 56 | CZ22: 99 | DA22: 51 | DB22: 18 | DC22: 91 | DD22: 58 | DE22: 38 | DF22: 15 | DG22: 78 | DH22: 57 | DI22: 67 | DJ22: 58 | DK22: 65 | DL22: 11 | DM22: 782 | DN22: 797 | DO22: 744 | DP22: 732 | DQ22: 478 | DR22: 599 | DS22: 187 | DT22: 621 | DU22: 473 | DV22: 344 | DW22: 510 | DX22: 608 | DY22: 857 | DZ22: 377 | EA22: 551 | EB22: 418 | EC22: 171 | ED22: 657 | EE22: 913 | EF22: 670 | EG22: 652 | EH22: 431 | EI22: 888 | EJ22: 120 | EK22: 52 | EL22: 870 | EM22: 532 | EN22: 746 | EO22: 759 | EP22: 675 | EQ22: 112 | ER22: 994 | ES22: 529 | ET22: 90 | EU22: 754 | EV22: 516 | EW22: 321 | EX22: 16 | EY22: 133 | EZ22: 264 | FA22: 187 | FB22: 848 | FC22: 120 | FD22: 712 | FE22: 876 | FF22: 310 | FG22: 90 | FH22: 451 | FI22: 581 | FJ22: 50 | FK22: 50 | FL22: 50 | FM22: 50 | FN22: 24 | FO22: 70 | FP22: 23 | FQ22: 34 | FR22: 40 | FS22: 56 | FT22: 74 | FU22: 50 | FV22: 50 | FW22: 50 | FX22: 50 | FY22: 50 | FZ22: 50 | GA22: 50 | GB22: 50 | GC22: 50 | GD22: 50 | GE22: 40 | GF22: 31 | GG22: 38 | GH22: 43 | GI22: 20 | GJ22: 52 | GK22: 29 | GL22: 50 | GM22: 50 | GN22: 50 | GO22: 50 | GP22: 50 | GQ22: 50 | GR22: 1.051 | GS22: 0.918 | GT22: 0.671 | GU22: 1.157 | GV22: 1.413 | GW22: 1.17 | GX22: 1.152 | GY22: 0.931 | GZ22: 1.388 | HA22: 0.62 | HB22: 0.552 | HC22: 1.37 | HD22: 1.032 | HE22: 1.246 | HF22: 1.259 | HG22: 2 | HH22: 0.112 | HI22: 0.994 | HJ22: 0.529 | HK22: 0.09 | HL22: 0.754 | HM22: 0.516 | HN22: 0.321 | HO22: 0.016 | HP22: 0.133 | HQ22: 0.264 | HR22: 0.187 | HS22: 0.848 | HT22: 0.12 | HU22: 0.712 | HV22: 0.876 | HW22: 0.31 | HX22: NOK | HY22: NOK | HZ22: NOK | IA22: NOK | IB22: 11 | IC22: NOK | ID22: NOK | IE22: NOK | IF22: =IFERROR(RANK(HX22,HX:HX,1),"") | IG22: =IFERROR(RANK(HY22,HY:HY,1),"") | IH22: =IFERROR(RANK(HZ22,HZ:HZ,1),"") | II22: =IFERROR(RANK(IA22,IA:IA,1),"") | IJ22: =IFERROR(RANK(IB22,IB:IB,1),"") -> 27 | IK22: =IFERROR(RANK(IC22,IC:IC,1),"") | IL22: =IFERROR(RANK(ID22,ID:ID,1),"") | IM22: =IFERROR(RANK(IE22,IE:IE,1),"")
A23: 136281 | E23: FALSE | H23: 25 | J23: 40 - G | K23: TRUE | N23: Buy | R23: 0 | S23: 0.1 | T23: FALSE | U23: 43727 | V23: 0 | W23: 0 | X23: 0 | Y23: 0 | Z23: 0 | AA23: 0 | AB23: 20 | AC23: 10 | AD23: 200 | AE23: 43691 | AF23: 43727 | AH23: 0.1 | AI23: A | AJ23: 657 | AK23: 864 | AL23: 521 | AM23: 906 | AN23: 744 | AO23: 110 | AP23: 163 | AQ23: 360 | AR23: 666 | AS23: 10 | AT23: 289 | AU23: 898 | AV23: 528 | AW23: 983 | AX23: 494 | AY23: 327 | AZ23: 177 | BA23: 191 | BB23: 214 | BC23: 178 | BD23: 181 | BE23: 192 | BF23: 122 | BG23: 125 | BH23: 121 | BI23: 123 | BJ23: 118 | BK23: 107 | BL23: 124 | BM23: 25 | BN23: 25 | BO23: 25 | BP23: 25 | BQ23: 1 | BR23: 3 | BS23: 0 | BT23: 1 | BU23: 2 | BV23: 2 | BW23: 2 | BX23: 0 | BY23: 2 | BZ23: 1 | CA23: 1 | CB23: 3 | CC23: 1 | CD23: 1 | CE23: 3 | CF23: 2 | CG23: 55 | CH23: 56 | CI23: 91 | CJ23: 41 | CK23: 92 | CL23: 75 | CM23: 78 | CN23: 15 | CO23: 85 | CP23: 88 | CQ23: 64 | CR23: 24 | CS23: 55 | CT23: 11 | CU23: 33 | CV23: 13 | CW23: 86 | CX23: 22 | CY23: 1 | CZ23: 22 | DA23: 87 | DB23: 81 | DC23: 54 | DD23: 30 | DE23: 92 | DF23: 85 | DG23: 40 | DH23: 52 | DI23: 36 | DJ23: 21 | DK23: 52 | DL23: 65 | DM23: 239 | DN23: 250 | DO23: 90 | DP23: 72 | DQ23: 687 | DR23: 905 | DS23: 948 | DT23: 856 | DU23: 213 | DV23: 300 | DW23: 204 | DX23: 956 | DY23: 967 | DZ23: 85 | EA23: 620 | EB23: 878 | EC23: 956 | ED23: 123 | EE23: 145 | EF23: 775 | EG23: 22 | EH23: 426 | EI23: 887 | EJ23: 391 | EK23: 889 | EL23: 621 | EM23: 726 | EN23: 990 | EO23: 938 | EP23: 476 | EQ23: 232 | ER23: 934 | ES23: 983 | ET23: 154 | EU23: 444 | EV23: 342 | EW23: 438 | EX23: 306 | EY23: 499 | EZ23: 175 | FA23: 686 | FB23: 206 | FC23: 34 | FD23: 819 | FE23: 44 | FF23: 74 | FG23: 67 | FH23: 597 | FI23: 89 | FJ23: 50 | FK23: 50 | FL23: 50 | FM23: 50 | FN23: 41 | FO23: 60 | FP23: 33 | FQ23: 34 | FR23: 58 | FS23: 30 | FT23: 22 | FU23: 50 | FV23: 50 | FW23: 50 | FX23: 50 | FY23: 50 | FZ23: 50 | GA23: 50 | GB23: 50 | GC23: 50 | GD23: 50 | GE23: 49 | GF23: 36 | GG23: 33 | GH23: 49 | GI23: 54 | GJ23: 73 | GK23: 38 | GL23: 50 | GM23: 50 | GN23: 50 | GO23: 50 | GP23: 50 | GQ23: 50 | GR23: 1.12 | GS23: 1.378 | GT23: 1.456 | GU23: 0.623 | GV23: 0.645 | GW23: 1.275 | GX23: 0.522 | GY23: 0.926 | GZ23: 1.387 | HA23: 0.891 | HB23: 1.389 | HC23: 1.121 | HD23: 1.226 | HE23: 1.49 | HF23: 1.438 | HG23: 2 | HH23: 0.232 | HI23: 0.934 | HJ23: 0.983 | HK23: 0.154 | HL23: 0.444 | HM23: 0.342 | HN23: 0.438 | HO23: 0.306 | HP23: 0.499 | HQ23: 0.175 | HR23: 0.686 | HS23: 0.206 | HT23: 0.034 | HU23: 0.819 | HV23: 0.044 | HW23: 0.074 | HX23: NOK | HY23: NOK | HZ23: NOK | IA23: NOK | IB23: 65 | IC23: NOK | ID23: NOK | IE23: NOK | IF23: =IFERROR(RANK(HX23,HX:HX,1),"") | IG23: =IFERROR(RANK(HY23,HY:HY,1),"") | IH23: =IFERROR(RANK(HZ23,HZ:HZ,1),"") | II23: =IFERROR(RANK(IA23,IA:IA,1),"") | IJ23: =IFERROR(RANK(IB23,IB:IB,1),"") -> 135 | IK23: =IFERROR(RANK(IC23,IC:IC,1),"") | IL23: =IFERROR(RANK(ID23,ID:ID,1),"") | IM23: =IFERROR(RANK(IE23,IE:IE,1),"")
A24: 136291 | E24: TRUE | H24: 25 | J24: 40 - G | K24: TRUE | N24: Buy | R24: 0 | S24: 0.1 | T24: FALSE | U24: 43727 | V24: 0 | W24: 0 | X24: 0 | Y24: 0 | Z24: 0 | AA24: 0 | AB24: 20 | AC24: 10 | AD24: 200 | AE24: 43691 | AF24: 43727 | AH24: 0.1 | AI24: A | AJ24: 671 | AK24: 200 | AL24: 288 | AM24: 869 | AN24: 302 | AO24: 917 | AP24: 262 | AQ24: 782 | AR24: 774 | AS24: 44 | AT24: 816 | AU24: 111 | AV24: 821 | AW24: 521 | AX24: 335 | AY24: 135 | AZ24: 120 | BA24: 113 | BB24: 195 | BC24: 238 | BD24: 206 | BE24: 171 | BF24: 107 | BG24: 121 | BH24: 124 | BI24: 121 | BJ24: 107 | BK24: 106 | BL24: 120 | BM24: 25 | BN24: 25 | BO24: 25 | BP24: 25 | BQ24: 3 | BR24: 0 | BS24: 1 | BT24: 2 | BU24: 2 | BV24: 3 | BW24: 2 | BX24: 3 | BY24: 2 | BZ24: 0 | CA24: 1 | CB24: 2 | CC24: 1 | CD24: 0 | CE24: 2 | CF24: 0 | CG24: 17 | CH24: 0 | CI24: 96 | CJ24: 45 | CK24: 2 | CL24: 90 | CM24: 65 | CN24: 19 | CO24: 12 | CP24: 21 | CQ24: 85 | CR24: 88 | CS24: 0 | CT24: 1 | CU24: 91 | CV24: 41 | CW24: 57 | CX24: 32 | CY24: 94 | CZ24: 13 | DA24: 33 | DB24: 70 | DC24: 5 | DD24: 22 | DE24: 54 | DF24: 79 | DG24: 3 | DH24: 3 | DI24: 73 | DJ24: 5 | DK24: 50 | DL24: 15 | DM24: 690 | DN24: 669 | DO24: 797 | DP24: 138 | DQ24: 269 | DR24: 205 | DS24: 133 | DT24: 679 | DU24: 288 | DV24: 650 | DW24: 234 | DX24: 994 | DY24: 454 | DZ24: 174 | EA24: 877 | EB24: 252 | EC24: 259 | ED24: 646 | EE24: 42 | EF24: 760 | EG24: 584 | EH24: 976 | EI24: 191 | EJ24: 665 | EK24: 699 | EL24: 569 | EM24: 960 | EN24: 21 | EO24: 205 | EP24: 635 | EQ24: 649 | ER24: 669 | ES24: 71 | ET24: 476 | EU24: 191 | EV24: 295 | EW24: 719 | EX24: 65 | EY24: 45 | EZ24: 499 | FA24: 939 | FB24: 995 | FC24: 85 | FD24: 618 | FE24: 891 | FF24: 658 | FG24: 423 | FH24: 716 | FI24: 814 | FJ24: 50 | FK24: 50 | FL24: 50 | FM24: 50 | FN24: 50 | FO24: 52 | FP24: 43 | FQ24: 46 | FR24: 52 | FS24: 23 | FT24: 62 | FU24: 50 | FV24: 50 | FW24: 50 | FX24: 50 | FY24: 50 | FZ24: 50 | GA24: 50 | GB24: 50 | GC24: 50 | GD24: 50 | GE24: 47 | GF24: 68 | GG24: 64 | GH24: 20 | GI24: 43 | GJ24: 65 | GK24: 55 | GL24: 50 | GM24: 50 | GN24: 50 | GO24: 50 | GP24: 50 | GQ24: 50 | GR24: 1.377 | GS24: 0.752 | GT24: 0.759 | GU24: 1.146 | GV24: 0.542 | GW24: 1.26 | GX24: 1.084 | GY24: 1.476 | GZ24: 0.691 | HA24: 1.165 | HB24: 1.199 | HC24: 1.069 | HD24: 1.46 | HE24: 0.521 | HF24: 0.705 | HG24: 2 | HH24: 0.649 | HI24: 0.669 | HJ24: 0.071 | HK24: 0.476 | HL24: 0.191 | HM24: 0.295 | HN24: 0.719 | HO24: 0.065 | HP24: 0.045 | HQ24: 0.499 | HR24: 0.939 | HS24: 0.995 | HT24: 0.085 | HU24: 0.618 | HV24: 0.891 | HW24: 0.658 | HX24: NOK | HY24: 1 | HZ24: NOK | IA24: NOK | IB24: 15 | IC24: NOK | ID24: NOK | IE24: NOK | IF24: =IFERROR(RANK(HX24,HX:HX,1),"") | IG24: =IFERROR(RANK(HY24,HY:HY,1),"") -> 1 | IH24: =IFERROR(RANK(HZ24,HZ:HZ,1),"") | II24: =IFERROR(RANK(IA24,IA:IA,1),"") | IJ24: =IFERROR(RANK(IB24,IB:IB,1),"") -> 36 | IK24: =IFERROR(RANK(IC24,IC:IC,1),"") | IL24: =IFERROR(RANK(ID24,ID:ID,1),"") | IM24: =IFERROR(RANK(IE24,IE:IE,1),"")
A25: 137326 | E25: FALSE | H25: 35 | J25: 40 - G | K25: TRUE | N25: Buy | R25: 0 | S25: 0.292 | T25: FALSE | U25: 43741 | V25: 0 | W25: 0 | X25: 0.29032 | Y25: 0 | Z25: 0 | AA25: 20 | AB25: 20 | AC25: 10 | AD25: 68 | AE25: 43691 | AF25: 43741 | AH25: 0.292 | AI25: A | AJ25: 473 | AK25: 262 | AL25: 943 | AM25: 201 | AN25: 367 | AO25: 165 | AP25: 970 | AQ25: 836 | AR25: 809 | AS25: 597 | AT25: 690 | AU25: 306 | AV25: 671 | AW25: 837 | AX25: 74 | AY25: 693 | AZ25: 198 | BA25: 151 | BB25: 239 | BC25: 241 | BD25: 241 | BE25: 106 | BF25: 122 | BG25: 109 | BH25: 114 | BI25: 124 | BJ25: 102 | BK25: 113 | BL25: 130 | BM25: 25 | BN25: 25 | BO25: 25 | BP25: 25 | BQ25: 2 | BR25: 1 | BS25: 0 | BT25: 2 | BU25: 0 | BV25: 3 | BW25: 2 | BX25: 0 | BY25: 0 | BZ25: 3 | CA25: 1 | CB25: 1 | CC25: 0 | CD25: 3 | CE25: 0 | CF25: 1 | CG25: 26 | CH25: 96 | CI25: 100 | CJ25: 65 | CK25: 33 | CL25: 68 | CM25: 28 | CN25: 48 | CO25: 22 | CP25: 45 | CQ25: 49 | CR25: 77 | CS25: 98 | CT25: 95 | CU25: 8 | CV25: 92 | CW25: 100 | CX25: 84 | CY25: 8 | CZ25: 34 | DA25: 63 | DB25: 52 | DC25: 2 | DD25: 52 | DE25: 0 | DF25: 60 | DG25: 26 | DH25: 1 | DI25: 49 | DJ25: 43 | DK25: 49 | DL25: 64 | DM25: 114 | DN25: 265 | DO25: 964 | DP25: 388 | DQ25: 693 | DR25: 309 | DS25: 98 | DT25: 775 | DU25: 883 | DV25: 671 | DW25: 688 | DX25: 268 | DY25: 760 | DZ25: 312 | EA25: 470 | EB25: 763 | EC25: 329 | ED25: 658 | EE25: 104 | EF25: 503 | EG25: 249 | EH25: 481 | EI25: 675 | EJ25: 241 | EK25: 182 | EL25: 169 | EM25: 891 | EN25: 302 | EO25: 796 | EP25: 332 | EQ25: 619 | ER25: 40 | ES25: 477 | ET25: 257 | EU25: 651 | EV25: 406 | EW25: 139 | EX25: 775 | EY25: 737 | EZ25: 580 | FA25: 296 | FB25: 195 | FC25: 539 | FD25: 812 | FE25: 956 | FF25: 1 | FG25: 540 | FH25: 443 | FI25: 318 | FJ25: 50 | FK25: 50 | FL25: 50 | FM25: 50 | FN25: 37 | FO25: 25 | FP25: 68 | FQ25: 46 | FR25: 35 | FS25: 70 | FT25: 60 | FU25: 50 | FV25: 50 | FW25: 50 | FX25: 50 | FY25: 50 | FZ25: 50 | GA25: 50 | GB25: 50 | GC25: 50 | GD25: 50 | GE25: 32 | GF25: 35 | GG25: 45 | GH25: 65 | GI25: 38 | GJ25: 49 | GK25: 30 | GL25: 50 | GM25: 50 | GN25: 50 | GO25: 50 | GP25: 50 | GQ25: 50 | GR25: 0.97 | GS25: 1.263 | GT25: 0.829 | GU25: 1.158 | GV25: 0.604 | GW25: 1.003 | GX25: 0.749 | GY25: 0.981 | GZ25: 1.175 | HA25: 0.741 | HB25: 0.682 | HC25: 0.669 | HD25: 1.391 | HE25: 0.802 | HF25: 1.296 | HG25: 2 | HH25: 0.619 | HI25: 0.04 | HJ25: 0.477 | HK25: 0.257 | HL25: 0.651 | HM25: 0.406 | HN25: 0.139 | HO25: 0.775 | HP25: 0.737 | HQ25: 0.58 | HR25: 0.296 | HS25: 0.195 | HT25: 0.539 | HU25: 0.812 | HV25: 0.956 | HW25: 0.001 | HX25: NOK | HY25: 2 | HZ25: NOK | IA25: NOK | IB25: 64 | IC25: 0.29032 | ID25: NOK | IE25: NOK | IF25: =IFERROR(RANK(HX25,HX:HX,1),"") | IG25: =IFERROR(RANK(HY25,HY:HY,1),"") -> 2 | IH25: =IFERROR(RANK(HZ25,HZ:HZ,1),"") | II25: =IFERROR(RANK(IA25,IA:IA,1),"") | IJ25: =IFERROR(RANK(IB25,IB:IB,1),"") -> 131 | IK25: =IFERROR(RANK(IC25,IC:IC,1),"") -> 40 | IL25: =IFERROR(RANK(ID25,ID:ID,1),"") | IM25: =IFERROR(RANK(IE25,IE:IE,1),"")
A26: 141684 | E26: TRUE | H26: 30 | J26: 50 - B | K26: TRUE | N26: Buy | R26: 0 | S26: 0.517 | T26: FALSE | U26: 43734 | V26: 0 | W26: 0 | X26: 0.08871 | Y26: 0 | Z26: 0 | AA26: 0 | AB26: 1 | AC26: 1 | AD26: 1 | AE26: 43691 | AF26: 43734 | AH26: 0.517 | AI26: A | AJ26: 598 | AK26: 222 | AL26: 265 | AM26: 44 | AN26: 14 | AO26: 350 | AP26: 69 | AQ26: 702 | AR26: 331 | AS26: 782 | AT26: 958 | AU26: 375 | AV26: 24 | AW26: 968 | AX26: 842 | AY26: 193 | AZ26: 227 | BA26: 166 | BB26: 154 | BC26: 185 | BD26: 151 | BE26: 219 | BF26: 100 | BG26: 102 | BH26: 121 | BI26: 115 | BJ26: 112 | BK26: 100 | BL26: 112 | BM26: 25 | BN26: 25 | BO26: 25 | BP26: 25 | BQ26: 1 | BR26: 3 | BS26: 2 | BT26: 0 | BU26: 2 | BV26: 0 | BW26: 3 | BX26: 3 | BY26: 0 | BZ26: 2 | CA26: 0 | CB26: 2 | CC26: 1 | CD26: 0 | CE26: 1 | CF26: 1 | CG26: 38 | CH26: 10 | CI26: 85 | CJ26: 77 | CK26: 58 | CL26: 49 | CM26: 21 | CN26: 33 | CO26: 28 | CP26: 55 | CQ26: 89 | CR26: 13 | CS26: 30 | CT26: 41 | CU26: 1 | CV26: 31 | CW26: 49 | CX26: 3 | CY26: 23 | CZ26: 38 | DA26: 14 | DB26: 46 | DC26: 44 | DD26: 42 | DE26: 53 | DF26: 45 | DG26: 84 | DH26: 30 | DI26: 8 | DJ26: 74 | DK26: 37 | DL26: 26 | DM26: 219 | DN26: 473 | DO26: 938 | DP26: 462 | DQ26: 210 | DR26: 654 | DS26: 335 | DT26: 422 | DU26: 679 | DV26: 593 | DW26: 907 | DX26: 2 | DY26: 984 | DZ26: 439 | EA26: 435 | EB26: 101 | EC26: 595 | ED26: 653 | EE26: 368 | EF26: 717 | EG26: 432 | EH26: 8 | EI26: 34 | EJ26: 635 | EK26: 140 | EL26: 29 | EM26: 433 | EN26: 745 | EO26: 583 | EP26: 841 | EQ26: 356 | ER26: 842 | ES26: 109 | ET26: 849 | EU26: 142 | EV26: 553 | EW26: 821 | EX26: 867 | EY26: 278 | EZ26: 348 | FA26: 367 | FB26: 789 | FC26: 325 | FD26: 198 | FE26: 401 | FF26: 756 | FG26: 766 | FH26: 730 | FI26: 906 | FJ26: 50 | FK26: 50 | FL26: 50 | FM26: 50 | FN26: 33 | FO26: 30 | FP26: 37 | FQ26: 46 | FR26: 38 | FS26: 50 | FT26: 23 | FU26: 50 | FV26: 50 | FW26: 50 | FX26: 50 | FY26: 50 | FZ26: 50 | GA26: 50 | GB26: 50 | GC26: 50 | GD26: 50 | GE26: 31 | GF26: 43 | GG26: 64 | GH26: 51 | GI26: 63 | GJ26: 31 | GK26: 68 | GL26: 50 | GM26: 50 | GN26: 50 | GO26: 50 | GP26: 50 | GQ26: 50 | GR26: 0.935 | GS26: 0.601 | GT26: 1.095 | GU26: 1.153 | GV26: 0.868 | GW26: 1.217 | GX26: 0.932 | GY26: 0.508 | GZ26: 0.534 | HA26: 1.135 | HB26: 0.64 | HC26: 0.529 | HD26: 0.933 | HE26: 1.245 | HF26: 1.083 | HG26: 2 | HH26: 0.356 | HI26: 0.842 | HJ26: 0.109 | HK26: 0.849 | HL26: 0.142 | HM26: 0.553 | HN26: 0.821 | HO26: 0.867 | HP26: 0.278 | HQ26: 0.348 | HR26: 0.367 | HS26: 0.789 | HT26: 0.325 | HU26: 0.198 | HV26: 0.401 | HW26: 0.756 | HX26: NOK | HY26: 3 | HZ26: NOK | IA26: NOK | IB26: 26 | IC26: 0.08871 | ID26: NOK | IE26: NOK | IF26: =IFERROR(RANK(HX26,HX:HX,1),"") | IG26: =IFERROR(RANK(HY26,HY:HY,1),"") -> 4 | IH26: =IFERROR(RANK(HZ26,HZ:HZ,1),"") | II26: =IFERROR(RANK(IA26,IA:IA,1),"") | IJ26: =IFERROR(RANK(IB26,IB:IB,1),"") -> 62 | IK26: =IFERROR(RANK(IC26,IC:IC,1),"") -> 18 | IL26: =IFERROR(RANK(ID26,ID:ID,1),"") | IM26: =IFERROR(RANK(IE26,IE:IE,1),"")
A27: 143132 | E27: FALSE | H27: 30 | J27: 50 - B | K27: TRUE | N27: Buy | R27: 8.3400002 | S27: 0.008 | T27: FALSE | U27: 43734 | V27: 0 | W27: 0 | X27: 0 | Y27: 0 | Z27: 0 | AA27: 0 | AB27: 10 | AC27: 10 | AD27: 1250 | AE27: 43691 | AF27: 43734 | AH27: 0.008 | AI27: A | AJ27: 739 | AK27: 683 | AL27: 611 | AM27: 434 | AN27: 122 | AO27: 598 | AP27: 147 | AQ27: 916 | AR27: 811 | AS27: 476 | AT27: 516 | AU27: 365 | AV27: 47 | AW27: 727 | AX27: 255 | AY27: 696 | AZ27: 208 | BA27: 186 | BB27: 234 | BC27: 152 | BD27: 217 | BE27: 230 | BF27: 116 | BG27: 128 | BH27: 129 | BI27: 120 | BJ27: 129 | BK27: 104 | BL27: 115 | BM27: 25 | BN27: 25 | BO27: 25 | BP27: 25 | BQ27: 3 | BR27: 1 | BS27: 3 | BT27: 2 | BU27: 2 | BV27: 3 | BW27: 1 | BX27: 1 | BY27: 0 | BZ27: 2 | CA27: 3 | CB27: 0 | CC27: 0 | CD27: 2 | CE27: 1 | CF27: 2 | CG27: 53 | CH27: 13 | CI27: 86 | CJ27: 40 | CK27: 63 | CL27: 98 | CM27: 63 | CN27: 93 | CO27: 7 | CP27: 25 | CQ27: 9 | CR27: 43 | CS27: 11 | CT27: 19 | CU27: 7 | CV27: 4 | CW27: 24 | CX27: 46 | CY27: 47 | CZ27: 21 | DA27: 25 | DB27: 52 | DC27: 51 | DD27: 11 | DE27: 88 | DF27: 55 | DG27: 37 | DH27: 60 | DI27: 1 | DJ27: 13 | DK27: 79 | DL27: 88 | DM27: 237 | DN27: 394 | DO27: 144 | DP27: 625 | DQ27: 160 | DR27: 653 | DS27: 230 | DT27: 292 | DU27: 793 | DV27: 654 | DW27: 405 | DX27: 93 | DY27: 199 | DZ27: 747 | EA27: 70 | EB27: 535 | EC27: 42 | ED27: 981 | EE27: 331 | EF27: 662 | EG27: 203 | EH27: 242 | EI27: 525 | EJ27: 486 | EK27: 482 | EL27: 742 | EM27: 26 | EN27: 185 | EO27: 997 | EP27: 926 | EQ27: 473 | ER27: 321 | ES27: 411 | ET27: 75 | EU27: 689 | EV27: 35 | EW27: 878 | EX27: 697 | EY27: 185 | EZ27: 945 | FA27: 1000 | FB27: 735 | FC27: 697 | FD27: 514 | FE27: 796 | FF27: 274 | FG27: 166 | FH27: 782 | FI27: 791 | FJ27: 50 | FK27: 50 | FL27: 50 | FM27: 50 | FN27: 49 | FO27: 29 | FP27: 34 | FQ27: 23 | FR27: 60 | FS27: 40 | FT27: 62 | FU27: 50 | FV27: 50 | FW27: 50 | FX27: 50 | FY27: 50 | FZ27: 50 | GA27: 50 | GB27: 50 | GC27: 50 | GD27: 50 | GE27: 38 | GF27: 71 | GG27: 75 | GH27: 51 | GI27: 36 | GJ27: 37 | GK27: 55 | GL27: 50 | GM27: 50 | GN27: 50 | GO27: 50 | GP27: 50 | GQ27: 50 | GR27: 0.57 | GS27: 1.035 | GT27: 0.542 | GU27: 1.481 | GV27: 0.831 | GW27: 1.162 | GX27: 0.703 | GY27: 0.742 | GZ27: 1.025 | HA27: 0.986 | HB27: 0.982 | HC27: 1.242 | HD27: 0.526 | HE27: 0.685 | HF27: 1.497 | HG27: 2 | HH27: 0.473 | HI27: 0.321 | HJ27: 0.411 | HK27: 0.075 | HL27: 0.689 | HM27: 0.035 | HN27: 0.878 | HO27: 0.697 | HP27: 0.185 | HQ27: 0.945 | HR27: 1 | HS27: 0.735 | HT27: 0.697 | HU27: 0.514 | HV27: 0.796 | HW27: 0.274 | HX27: NOK | HY27: NOK | HZ27: NOK | IA27: NOK | IB27: 88 | IC27: NOK | ID27: NOK | IE27: NOK | IF27: =IFERROR(RANK(HX27,HX:HX,1),"") | IG27: =IFERROR(RANK(HY27,HY:HY,1),"") | IH27: =IFERROR(RANK(HZ27,HZ:HZ,1),"") | II27: =IFERROR(RANK(IA27,IA:IA,1),"") | IJ27: =IFERROR(RANK(IB27,IB:IB,1),"") -> 169 | IK27: =IFERROR(RANK(IC27,IC:IC,1),"") | IL27: =IFERROR(RANK(ID27,ID:ID,1),"") | IM27: =IFERROR(RANK(IE27,IE:IE,1),"")
A28: 602786 | E28: TRUE | H28: 40 | J28: 50 - B | K28: TRUE | N28: Buy | R28: 0 | S28: 0.017 | T28: FALSE | U28: 43748 | V28: 0 | W28: 0 | X28: 0 | Y28: 0 | Z28: 0 | AA28: 0 | AB28: 15 | AC28: 15 | AD28: 882 | AE28: 43691 | AF28: 43748 | AH28: 0.017 | AI28: A | AJ28: 211 | AK28: 136 | AL28: 656 | AM28: 95 | AN28: 298 | AO28: 15 | AP28: 799 | AQ28: 693 | AR28: 367 | AS28: 876 | AT28: 756 | AU28: 938 | AV28: 429 | AW28: 881 | AX28: 810 | AY28: 593 | AZ28: 107 | BA28: 235 | BB28: 171 | BC28: 233 | BD28: 126 | BE28: 235 | BF28: 120 | BG28: 108 | BH28: 115 | BI28: 130 | BJ28: 108 | BK28: 124 | BL28: 106 | BM28: 25 | BN28: 25 | BO28: 25 | BP28: 25 | BQ28: 0 | BR28: 3 | BS28: 0 | BT28: 2 | BU28: 0 | BV28: 1 | BW28: 0 | BX28: 2 | BY28: 2 | BZ28: 2 | CA28: 2 | CB28: 1 | CC28: 3 | CD28: 3 | CE28: 1 | CF28: 0 | CG28: 41 | CH28: 85 | CI28: 11 | CJ28: 6 | CK28: 72 | CL28: 99 | CM28: 76 | CN28: 97 | CO28: 44 | CP28: 7 | CQ28: 24 | CR28: 51 | CS28: 23 | CT28: 4 | CU28: 56 | CV28: 19 | CW28: 97 | CX28: 69 | CY28: 69 | CZ28: 55 | DA28: 48 | DB28: 69 | DC28: 87 | DD28: 90 | DE28: 30 | DF28: 27 | DG28: 3 | DH28: 83 | DI28: 35 | DJ28: 82 | DK28: 30 | DL28: 75 | DM28: 325 | DN28: 105 | DO28: 530 | DP28: 54 | DQ28: 222 | DR28: 197 | DS28: 216 | DT28: 0 | DU28: 152 | DV28: 469 | DW28: 559 | DX28: 174 | DY28: 930 | DZ28: 682 | EA28: 414 | EB28: 290 | EC28: 443 | ED28: 288 | EE28: 522 | EF28: 187 | EG28: 999 | EH28: 998 | EI28: 681 | EJ28: 519 | EK28: 248 | EL28: 576 | EM28: 293 | EN28: 43 | EO28: 911 | EP28: 848 | EQ28: 287 | ER28: 860 | ES28: 339 | ET28: 858 | EU28: 610 | EV28: 956 | EW28: 5 | EX28: 375 | EY28: 616 | EZ28: 337 | FA28: 632 | FB28: 626 | FC28: 993 | FD28: 163 | FE28: 318 | FF28: 84 | FG28: 95 | FH28: 591 | FI28: 419 | FJ28: 50 | FK28: 50 | FL28: 50 | FM28: 50 | FN28: 23 | FO28: 71 | FP28: 52 | FQ28: 63 | FR28: 64 | FS28: 37 | FT28: 70 | FU28: 50 | FV28: 50 | FW28: 50 | FX28: 50 | FY28: 50 | FZ28: 50 | GA28: 50 | GB28: 50 | GC28: 50 | GD28: 50 | GE28: 39 | GF28: 66 | GG28: 67 | GH28: 35 | GI28: 39 | GJ28: 30 | GK28: 46 | GL28: 50 | GM28: 50 | GN28: 50 | GO28: 50 | GP28: 50 | GQ28: 50 | GR28: 0.914 | GS28: 0.79 | GT28: 0.943 | GU28: 0.788 | GV28: 1.022 | GW28: 0.687 | GX28: 1.499 | GY28: 1.498 | GZ28: 1.181 | HA28: 1.019 | HB28: 0.748 | HC28: 1.076 | HD28: 0.793 | HE28: 0.543 | HF28: 1.411 | HG28: 2 | HH28: 0.287 | HI28: 0.86 | HJ28: 0.339 | HK28: 0.858 | HL28: 0.61 | HM28: 0.956 | HN28: 0.005 | HO28: 0.375 | HP28: 0.616 | HQ28: 0.337 | HR28: 0.632 | HS28: 0.626 | HT28: 0.993 | HU28: 0.163 | HV28: 0.318 | HW28: 0.084 | HX28: NOK | HY28: NOK | HZ28: NOK | IA28: NOK | IB28: 75 | IC28: NOK | ID28: NOK | IE28: NOK | IF28: =IFERROR(RANK(HX28,HX:HX,1),"") | IG28: =IFERROR(RANK(HY28,HY:HY,1),"") | IH28: =IFERROR(RANK(HZ28,HZ:HZ,1),"") | II28: =IFERROR(RANK(IA28,IA:IA,1),"") | IJ28: =IFERROR(RANK(IB28,IB:IB,1),"") -> 150 | IK28: =IFERROR(RANK(IC28,IC:IC,1),"") | IL28: =IFERROR(RANK(ID28,ID:ID,1),"") | IM28: =IFERROR(RANK(IE28,IE:IE,1),"")
A29: 801055 | E29: FALSE | H29: 40 | J29: 40 - G | K29: TRUE | N29: Buy | R29: 0 | S29: 12.15 | T29: FALSE | U29: 43748 | V29: 0 | W29: 0 | X29: 0 | Y29: 0 | Z29: 0 | AA29: 500 | AB29: 500 | AC29: 250 | AD29: 41 | AE29: 43691 | AF29: 43748 | AH29: 12.15 | AI29: A | AJ29: 38 | AK29: 914 | AL29: 169 | AM29: 228 | AN29: 865 | AO29: 929 | AP29: 904 | AQ29: 442 | AR29: 512 | AS29: 407 | AT29: 533 | AU29: 679 | AV29: 421 | AW29: 89 | AX29: 849 | AY29: 402 | AZ29: 187 | BA29: 231 | BB29: 243 | BC29: 211 | BD29: 238 | BE29: 181 | BF29: 112 | BG29: 109 | BH29: 102 | BI29: 112 | BJ29: 112 | BK29: 117 | BL29: 126 | BM29: 25 | BN29: 25 | BO29: 25 | BP29: 25 | BQ29: 0 | BR29: 3 | BS29: 0 | BT29: 0 | BU29: 2 | BV29: 0 | BW29: 0 | BX29: 3 | BY29: 1 | BZ29: 1 | CA29: 3 | CB29: 0 | CC29: 2 | CD29: 1 | CE29: 2 | CF29: 3 | CG29: 14 | CH29: 9 | CI29: 92 | CJ29: 23 | CK29: 13 | CL29: 7 | CM29: 96 | CN29: 87 | CO29: 28 | CP29: 63 | CQ29: 66 | CR29: 36 | CS29: 0 | CT29: 13 | CU29: 20 | CV29: 7 | CW29: 0 | CX29: 36 | CY29: 98 | CZ29: 46 | DA29: 51 | DB29: 87 | DC29: 4 | DD29: 60 | DE29: 89 | DF29: 47 | DG29: 3 | DH29: 50 | DI29: 64 | DJ29: 11 | DK29: 98 | DL29: 21 | DM29: 801 | DN29: 449 | DO29: 821 | DP29: 184 | DQ29: 439 | DR29: 7 | DS29: 306 | DT29: 82 | DU29: 128 | DV29: 351 | DW29: 290 | DX29: 679 | DY29: 557 | DZ29: 659 | EA29: 932 | EB29: 268 | EC29: 813 | ED29: 283 | EE29: 229 | EF29: 285 | EG29: 822 | EH29: 813 | EI29: 583 | EJ29: 827 | EK29: 264 | EL29: 417 | EM29: 201 | EN29: 502 | EO29: 347 | EP29: 984 | EQ29: 627 | ER29: 552 | ES29: 861 | ET29: 754 | EU29: 938 | EV29: 673 | EW29: 541 | EX29: 158 | EY29: 595 | EZ29: 311 | FA29: 687 | FB29: 937 | FC29: 744 | FD29: 426 | FE29: 309 | FF29: 366 | FG29: 982 | FH29: 261 | FI29: 358 | FJ29: 50 | FK29: 50 | FL29: 50 | FM29: 50 | FN29: 46 | FO29: 29 | FP29: 70 | FQ29: 40 | FR29: 53 | FS29: 27 | FT29: 24 | FU29: 50 | FV29: 50 | FW29: 50 | FX29: 50 | FY29: 50 | FZ29: 50 | GA29: 50 | GB29: 50 | GC29: 50 | GD29: 50 | GE29: 22 | GF29: 67 | GG29: 65 | GH29: 53 | GI29: 60 | GJ29: 55 | GK29: 59 | GL29: 50 | GM29: 50 | GN29: 50 | GO29: 50 | GP29: 50 | GQ29: 50 | GR29: 1.432 | GS29: 0.768 | GT29: 1.313 | GU29: 0.783 | GV29: 0.729 | GW29: 0.785 | GX29: 1.322 | GY29: 1.313 | GZ29: 1.083 | HA29: 1.327 | HB29: 0.764 | HC29: 0.917 | HD29: 0.701 | HE29: 1.002 | HF29: 0.847 | HG29: 1 | HH29: 0.627 | HI29: 0.552 | HJ29: 0.861 | HK29: 0.754 | HL29: 0.938 | HM29: 0.673 | HN29: 0.541 | HO29: 0.158 | HP29: 0.595 | HQ29: 0.311 | HR29: 0.687 | HS29: 0.937 | HT29: 0.744 | HU29: 0.426 | HV29: 0.309 | HW29: 0.366 | HX29: NOK | HY29: NOK | HZ29: NOK | IA29: NOK | IB29: NOK | IC29: NOK | ID29: NOK | IE29: NOK | IF29: =IFERROR(RANK(HX29,HX:HX,1),"") | IG29: =IFERROR(RANK(HY29,HY:HY,1),"") | IH29: =IFERROR(RANK(HZ29,HZ:HZ,1),"") | II29: =IFERROR(RANK(IA29,IA:IA,1),"") | IJ29: =IFERROR(RANK(IB29,IB:IB,1),"") | IK29: =IFERROR(RANK(IC29,IC:IC,1),"") | IL29: =IFERROR(RANK(ID29,ID:ID,1),"") | IM29: =IFERROR(RANK(IE29,IE:IE,1),"")
A30: 801294 | E30: FALSE | H30: 40 | J30: 50 - B | K30: TRUE | N30: Buy | R30: 0 | S30: 1.883 | T30: FALSE | U30: 43748 | V30: 0 | W30: 0 | X30: 0 | Y30: 0 | Z30: 0 | AA30: 30 | AB30: 10 | AC30: 5 | AD30: 5 | AE30: 43691 | AF30: 43748 | AH30: 1.883 | AI30: A | AJ30: 372 | AK30: 617 | AL30: 457 | AM30: 743 | AN30: 686 | AO30: 86 | AP30: 341 | AQ30: 467 | AR30: 747 | AS30: 206 | AT30: 797 | AU30: 811 | AV30: 709 | AW30: 784 | AX30: 932 | AY30: 127 | AZ30: 154 | BA30: 160 | BB30: 250 | BC30: 103 | BD30: 205 | BE30: 183 | BF30: 125 | BG30: 112 | BH30: 119 | BI30: 108 | BJ30: 113 | BK30: 120 | BL30: 102 | BM30: 25 | BN30: 25 | BO30: 25 | BP30: 25 | BQ30: 0 | BR30: 2 | BS30: 3 | BT30: 0 | BU30: 3 | BV30: 0 | BW30: 1 | BX30: 0 | BY30: 2 | BZ30: 0 | CA30: 0 | CB30: 0 | CC30: 1 | CD30: 2 | CE30: 2 | CF30: 3 | CG30: 98 | CH30: 89 | CI30: 74 | CJ30: 88 | CK30: 46 | CL30: 24 | CM30: 49 | CN30: 21 | CO30: 6 | CP30: 15 | CQ30: 61 | CR30: 47 | CS30: 22 | CT30: 24 | CU30: 70 | CV30: 19 | CW30: 55 | CX30: 94 | CY30: 48 | CZ30: 40 | DA30: 33 | DB30: 44 | DC30: 2 | DD30: 16 | DE30: 45 | DF30: 20 | DG30: 45 | DH30: 50 | DI30: 100 | DJ30: 42 | DK30: 21 | DL30: 32 | DM30: 7 | DN30: 908 | DO30: 993 | DP30: 677 | DQ30: 847 | DR30: 790 | DS30: 956 | DT30: 379 | DU30: 550 | DV30: 524 | DW30: 969 | DX30: 832 | DY30: 645 | DZ30: 218 | EA30: 919 | EB30: 700 | EC30: 359 | ED30: 978 | EE30: 858 | EF30: 82 | EG30: 694 | EH30: 742 | EI30: 310 | EJ30: 874 | EK30: 368 | EL30: 445 | EM30: 519 | EN30: 141 | EO30: 145 | EP30: 145 | EQ30: 282 | ER30: 741 | ES30: 489 | ET30: 788 | EU30: 492 | EV30: 56 | EW30: 612 | EX30: 689 | EY30: 425 | EZ30: 613 | FA30: 509 | FB30: 835 | FC30: 789 | FD30: 890 | FE30: 693 | FF30: 588 | FG30: 617 | FH30: 286 | FI30: 193 | FJ30: 50 | FK30: 50 | FL30: 50 | FM30: 50 | FN30: 43 | FO30: 32 | FP30: 51 | FQ30: 75 | FR30: 41 | FS30: 48 | FT30: 32 | FU30: 50 | FV30: 50 | FW30: 50 | FX30: 50 | FY30: 50 | FZ30: 50 | GA30: 50 | GB30: 50 | GC30: 50 | GD30: 50 | GE30: 20 | GF30: 40 | GG30: 45 | GH30: 23 | GI30: 28 | GJ30: 42 | GK30: 35 | GL30: 50 | GM30: 50 | GN30: 50 | GO30: 50 | GP30: 50 | GQ30: 50 | GR30: 1.419 | GS30: 1.2 | GT30: 0.859 | GU30: 1.478 | GV30: 1.358 | GW30: 0.582 | GX30: 1.194 | GY30: 1.242 | GZ30: 0.81 | HA30: 1.374 | HB30: 0.868 | HC30: 0.945 | HD30: 1.019 | HE30: 0.641 | HF30: 0.645 | HG30: 1 | HH30: 0.282 | HI30: 0.741 | HJ30: 0.489 | HK30: 0.788 | HL30: 0.492 | HM30: 0.056 | HN30: 0.612 | HO30: 0.689 | HP30: 0.425 | HQ30: 0.613 | HR30: 0.509 | HS30: 0.835 | HT30: 0.789 | HU30: 0.89 | HV30: 0.693 | HW30: 0.588 | HX30: NOK | HY30: NOK | HZ30: NOK | IA30: NOK | IB30: NOK | IC30: NOK | ID30: NOK | IE30: NOK | IF30: =IFERROR(RANK(HX30,HX:HX,1),"") | IG30: =IFERROR(RANK(HY30,HY:HY,1),"") | IH30: =IFERROR(RANK(HZ30,HZ:HZ,1),"") | II30: =IFERROR(RANK(IA30,IA:IA,1),"") | IJ30: =IFERROR(RANK(IB30,IB:IB,1),"") | IK30: =IFERROR(RANK(IC30,IC:IC,1),"") | IL30: =IFERROR(RANK(ID30,ID:ID,1),"") | IM30: =IFERROR(RANK(IE30,IE:IE,1),"")
A31: 801309 | E31: FALSE | H31: 40 | J31: 50 - B | K31: TRUE | N31: Buy | R31: 0 | S31: 0.267 | T31: FALSE | U31: 43748 | V31: 0 | W31: 0 | X31: 0.54032 | Y31: 0 | Z31: 0 | AA31: 10 | AB31: 1 | AC31: 1 | AD31: 3 | AE31: 43691 | AF31: 43748 | AH31: 0.267 | AI31: A | AJ31: 169 | AK31: 536 | AL31: 203 | AM31: 602 | AN31: 111 | AO31: 886 | AP31: 891 | AQ31: 237 | AR31: 33 | AS31: 489 | AT31: 413 | AU31: 361 | AV31: 586 | AW31: 133 | AX31: 673 | AY31: 76 | AZ31: 234 | BA31: 153 | BB31: 131 | BC31: 125 | BD31: 222 | BE31: 123 | BF31: 129 | BG31: 130 | BH31: 106 | BI31: 104 | BJ31: 129 | BK31: 115 | BL31: 120 | BM31: 25 | BN31: 25 | BO31: 25 | BP31: 25 | BQ31: 3 | BR31: 0 | BS31: 2 | BT31: 0 | BU31: 2 | BV31: 2 | BW31: 2 | BX31: 3 | BY31: 2 | BZ31: 3 | CA31: 2 | CB31: 0 | CC31: 2 | CD31: 3 | CE31: 0 | CF31: 3 | CG31: 50 | CH31: 98 | CI31: 78 | CJ31: 31 | CK31: 8 | CL31: 93 | CM31: 37 | CN31: 91 | CO31: 38 | CP31: 80 | CQ31: 82 | CR31: 57 | CS31: 32 | CT31: 48 | CU31: 72 | CV31: 92 | CW31: 52 | CX31: 15 | CY31: 20 | CZ31: 35 | DA31: 38 | DB31: 87 | DC31: 76 | DD31: 61 | DE31: 100 | DF31: 87 | DG31: 65 | DH31: 79 | DI31: 30 | DJ31: 12 | DK31: 38 | DL31: 60 | DM31: 970 | DN31: 935 | DO31: 726 | DP31: 903 | DQ31: 442 | DR31: 369 | DS31: 44 | DT31: 7 | DU31: 397 | DV31: 972 | DW31: 710 | DX31: 730 | DY31: 745 | DZ31: 51 | EA31: 743 | EB31: 370 | EC31: 372 | ED31: 160 | EE31: 443 | EF31: 759 | EG31: 328 | EH31: 78 | EI31: 627 | EJ31: 931 | EK31: 857 | EL31: 534 | EM31: 944 | EN31: 825 | EO31: 916 | EP31: 518 | EQ31: 500 | ER31: 668 | ES31: 841 | ET31: 726 | EU31: 915 | EV31: 699 | EW31: 729 | EX31: 841 | EY31: 703 | EZ31: 223 | FA31: 800 | FB31: 549 | FC31: 612 | FD31: 195 | FE31: 361 | FF31: 699 | FG31: 31 | FH31: 274 | FI31: 301 | FJ31: 50 | FK31: 50 | FL31: 50 | FM31: 50 | FN31: 37 | FO31: 61 | FP31: 55 | FQ31: 69 | FR31: 69 | FS31: 75 | FT31: 45 | FU31: 50 | FV31: 50 | FW31: 50 | FX31: 50 | FY31: 50 | FZ31: 50 | GA31: 50 | GB31: 50 | GC31: 50 | GD31: 50 | GE31: 30 | GF31: 41 | GG31: 54 | GH31: 27 | GI31: 37 | GJ31: 24 | GK31: 71 | GL31: 50 | GM31: 50 | GN31: 50 | GO31: 50 | GP31: 50 | GQ31: 50 | GR31: 1.243 | GS31: 0.87 | GT31: 0.872 | GU31: 0.66 | GV31: 0.943 | GW31: 1.259 | GX31: 0.828 | GY31: 0.578 | GZ31: 1.127 | HA31: 1.431 | HB31: 1.357 | HC31: 1.034 | HD31: 1.444 | HE31: 1.325 | HF31: 1.416 | HG31: 2 | HH31: 0.5 | HI31: 0.668 | HJ31: 0.841 | HK31: 0.726 | HL31: 0.915 | HM31: 0.699 | HN31: 0.729 | HO31: 0.841 | HP31: 0.703 | HQ31: 0.223 | HR31: 0.8 | HS31: 0.549 | HT31: 0.612 | HU31: 0.195 | HV31: 0.361 | HW31: 0.699 | HX31: NOK | HY31: NOK | HZ31: NOK | IA31: NOK | IB31: 60 | IC31: 0.54032 | ID31: NOK | IE31: NOK | IF31: =IFERROR(RANK(HX31,HX:HX,1),"") | IG31: =IFERROR(RANK(HY31,HY:HY,1),"") | IH31: =IFERROR(RANK(HZ31,HZ:HZ,1),"") | II31: =IFERROR(RANK(IA31,IA:IA,1),"") | IJ31: =IFERROR(RANK(IB31,IB:IB,1),"") -> 120 | IK31: =IFERROR(RANK(IC31,IC:IC,1),"") -> 48 | IL31: =IFERROR(RANK(ID31,ID:ID,1),"") | IM31: =IFERROR(RANK(IE31,IE:IE,1),"")
A32: 801486 | E32: TRUE | H32: 40 | J32: 50 - B | K32: TRUE | N32: Buy | R32: 0 | S32: 5.6 | T32: FALSE | U32: 43748 | V32: 0 | W32: 0 | X32: 0.04032 | Y32: 0 | Z32: 0 | AA32: 70 | AB32: 10 | AC32: 10 | AD32: 1 | AE32: 43691 | AF32: 43748 | AH32: 5.6 | AI32: A | AJ32: 910 | AK32: 296 | AL32: 240 | AM32: 969 | AN32: 732 | AO32: 229 | AP32: 866 | AQ32: 112 | AR32: 308 | AS32: 811 | AT32: 977 | AU32: 371 | AV32: 602 | AW32: 509 | AX32: 781 | AY32: 660 | AZ32: 128 | BA32: 216 | BB32: 225 | BC32: 113 | BD32: 140 | BE32: 205 | BF32: 114 | BG32: 127 | BH32: 106 | BI32: 114 | BJ32: 116 | BK32: 117 | BL32: 105 | BM32: 25 | BN32: 25 | BO32: 25 | BP32: 25 | BQ32: 2 | BR32: 2 | BS32: 3 | BT32: 3 | BU32: 1 | BV32: 1 | BW32: 2 | BX32: 2 | BY32: 3 | BZ32: 2 | CA32: 0 | CB32: 0 | CC32: 0 | CD32: 0 | CE32: 2 | CF32: 2 | CG32: 70 | CH32: 83 | CI32: 21 | CJ32: 17 | CK32: 5 | CL32: 47 | CM32: 8 | CN32: 73 | CO32: 73 | CP32: 42 | CQ32: 75 | CR32: 88 | CS32: 91 | CT32: 79 | CU32: 60 | CV32: 75 | CW32: 15 | CX32: 67 | CY32: 49 | CZ32: 39 | DA32: 91 | DB32: 99 | DC32: 27 | DD32: 40 | DE32: 25 | DF32: 29 | DG32: 49 | DH32: 37 | DI32: 1 | DJ32: 66 | DK32: 94 | DL32: 45 | DM32: 97 | DN32: 850 | DO32: 142 | DP32: 165 | DQ32: 720 | DR32: 486 | DS32: 401 | DT32: 9 | DU32: 454 | DV32: 651 | DW32: 573 | DX32: 118 | DY32: 691 | DZ32: 137 | EA32: 363 | EB32: 565 | EC32: 927 | ED32: 981 | EE32: 791 | EF32: 297 | EG32: 130 | EH32: 145 | EI32: 770 | EJ32: 765 | EK32: 271 | EL32: 395 | EM32: 21 | EN32: 145 | EO32: 242 | EP32: 190 | EQ32: 977 | ER32: 704 | ES32: 61 | ET32: 614 | EU32: 266 | EV32: 881 | EW32: 457 | EX32: 258 | EY32: 831 | EZ32: 87 | FA32: 426 | FB32: 558 | FC32: 43 | FD32: 731 | FE32: 417 | FF32: 934 | FG32: 703 | FH32: 856 | FI32: 875 | FJ32: 50 | FK32: 50 | FL32: 50 | FM32: 50 | FN32: 47 | FO32: 62 | FP32: 43 | FQ32: 51 | FR32: 74 | FS32: 35 | FT32: 52 | FU32: 50 | FV32: 50 | FW32: 50 | FX32: 50 | FY32: 50 | FZ32: 50 | GA32: 50 | GB32: 50 | GC32: 50 | GD32: 50 | GE32: 50 | GF32: 50 | GG32: 71 | GH32: 35 | GI32: 56 | GJ32: 25 | GK32: 21 | GL32: 50 | GM32: 50 | GN32: 50 | GO32: 50 | GP32: 50 | GQ32: 50 | GR32: 0.863 | GS32: 1.065 | GT32: 1.427 | GU32: 1.481 | GV32: 1.291 | GW32: 0.797 | GX32: 0.63 | GY32: 0.645 | GZ32: 1.27 | HA32: 1.265 | HB32: 0.771 | HC32: 0.895 | HD32: 0.521 | HE32: 0.645 | HF32: 0.742 | HG32: 1 | HH32: 0.977 | HI32: 0.704 | HJ32: 0.061 | HK32: 0.614 | HL32: 0.266 | HM32: 0.881 | HN32: 0.457 | HO32: 0.258 | HP32: 0.831 | HQ32: 0.087 | HR32: 0.426 | HS32: 0.558 | HT32: 0.043 | HU32: 0.731 | HV32: 0.417 | HW32: 0.934 | HX32: NOK | HY32: NOK | HZ32: NOK | IA32: NOK | IB32: NOK | IC32: NOK | ID32: NOK | IE32: NOK | IF32: =IFERROR(RANK(HX32,HX:HX,1),"") | IG32: =IFERROR(RANK(HY32,HY:HY,1),"") | IH32: =IFERROR(RANK(HZ32,HZ:HZ,1),"") | II32: =IFERROR(RANK(IA32,IA:IA,1),"") | IJ32: =IFERROR(RANK(IB32,IB:IB,1),"") | IK32: =IFERROR(RANK(IC32,IC:IC,1),"") | IL32: =IFERROR(RANK(ID32,ID:ID,1),"") | IM32: =IFERROR(RANK(IE32,IE:IE,1),"")
A33: 111685C | E33: FALSE | H33: 25 | J33: 40 - G | K33: TRUE | N33: Buy | R33: 0 | S33: 0.042 | T33: FALSE | U33: 43727 | V33: 0 | W33: 0 | X33: 0 | Y33: 0 | Z33: 0 | AA33: 0 | AB33: 10 | AC33: 5 | AD33: 238 | AE33: 43691 | AF33: 43727 | AH33: 0.042 | AI33: A | AJ33: 180 | AK33: 251 | AL33: 40 | AM33: 319 | AN33: 205 | AO33: 586 | AP33: 181 | AQ33: 66 | AR33: 184 | AS33: 257 | AT33: 731 | AU33: 734 | AV33: 500 | AW33: 146 | AX33: 875 | AY33: 759 | AZ33: 194 | BA33: 122 | BB33: 246 | BC33: 173 | BD33: 233 | BE33: 177 | BF33: 123 | BG33: 130 | BH33: 124 | BI33: 127 | BJ33: 118 | BK33: 123 | BL33: 103 | BM33: 25 | BN33: 25 | BO33: 25 | BP33: 25 | BQ33: 3 | BR33: 1 | BS33: 1 | BT33: 1 | BU33: 3 | BV33: 2 | BW33: 1 | BX33: 3 | BY33: 1 | BZ33: 3 | CA33: 1 | CB33: 0 | CC33: 2 | CD33: 1 | CE33: 2 | CF33: 3 | CG33: 24 | CH33: 26 | CI33: 99 | CJ33: 7 | CK33: 99 | CL33: 73 | CM33: 34 | CN33: 76 | CO33: 11 | CP33: 88 | CQ33: 69 | CR33: 90 | CS33: 75 | CT33: 36 | CU33: 88 | CV33: 50 | CW33: 16 | CX33: 9 | CY33: 11 | CZ33: 23 | DA33: 6 | DB33: 5 | DC33: 49 | DD33: 54 | DE33: 91 | DF33: 23 | DG33: 57 | DH33: 52 | DI33: 99 | DJ33: 40 | DK33: 8 | DL33: 87 | DM33: 742 | DN33: 732 | DO33: 220 | DP33: 326 | DQ33: 640 | DR33: 733 | DS33: 721 | DT33: 926 | DU33: 861 | DV33: 584 | DW33: 140 | DX33: 635 | DY33: 496 | DZ33: 510 | EA33: 599 | EB33: 978 | EC33: 713 | ED33: 834 | EE33: 474 | EF33: 965 | EG33: 397 | EH33: 574 | EI33: 851 | EJ33: 207 | EK33: 832 | EL33: 270 | EM33: 245 | EN33: 627 | EO33: 843 | EP33: 958 | EQ33: 596 | ER33: 284 | ES33: 845 | ET33: 720 | EU33: 28 | EV33: 215 | EW33: 990 | EX33: 578 | EY33: 821 | EZ33: 424 | FA33: 165 | FB33: 588 | FC33: 456 | FD33: 387 | FE33: 405 | FF33: 641 | FG33: 371 | FH33: 622 | FI33: 474 | FJ33: 50 | FK33: 50 | FL33: 50 | FM33: 50 | FN33: 34 | FO33: 56 | FP33: 45 | FQ33: 69 | FR33: 70 | FS33: 51 | FT33: 62 | FU33: 50 | FV33: 50 | FW33: 50 | FX33: 50 | FY33: 50 | FZ33: 50 | GA33: 50 | GB33: 50 | GC33: 50 | GD33: 50 | GE33: 28 | GF33: 29 | GG33: 34 | GH33: 70 | GI33: 40 | GJ33: 26 | GK33: 57 | GL33: 50 | GM33: 50 | GN33: 50 | GO33: 50 | GP33: 50 | GQ33: 50 | GR33: 1.099 | GS33: 1.478 | GT33: 1.213 | GU33: 1.334 | GV33: 0.974 | GW33: 1.465 | GX33: 0.897 | GY33: 1.074 | GZ33: 1.351 | HA33: 0.707 | HB33: 1.332 | HC33: 0.77 | HD33: 0.745 | HE33: 1.127 | HF33: 1.343 | HG33: 1 | HH33: 0.596 | HI33: 0.284 | HJ33: 0.845 | HK33: 0.72 | HL33: 0.028 | HM33: 0.215 | HN33: 0.99 | HO33: 0.578 | HP33: 0.821 | HQ33: 0.424 | HR33: 0.165 | HS33: 0.588 | HT33: 0.456 | HU33: 0.387 | HV33: 0.405 | HW33: 0.641 | HX33: NOK | HY33: NOK | HZ33: NOK | IA33: NOK | IB33: NOK | IC33: NOK | ID33: NOK | IE33: NOK | IF33: =IFERROR(RANK(HX33,HX:HX,1),"") | IG33: =IFERROR(RANK(HY33,HY:HY,1),"") | IH33: =IFERROR(RANK(HZ33,HZ:HZ,1),"") | II33: =IFERROR(RANK(IA33,IA:IA,1),"") | IJ33: =IFERROR(RANK(IB33,IB:IB,1),"") | IK33: =IFERROR(RANK(IC33,IC:IC,1),"") | IL33: =IFERROR(RANK(ID33,ID:ID,1),"") | IM33: =IFERROR(RANK(IE33,IE:IE,1),"")
A34: 111686C | E34: FALSE | H34: 25 | J34: 50 - B | K34: TRUE | N34: Buy | R34: 97.300003 | S34: 0 | T34: FALSE | U34: 43727 | V34: 0 | W34: 0 | X34: 0 | Y34: 0 | Z34: 0 | AA34: 0 | AB34: 10 | AC34: 5 | AD34: 9999 | AE34: 43691 | AF34: 43727 | AH34: 0 | AI34: A | AJ34: 626 | AK34: 35 | AL34: 151 | AM34: 964 | AN34: 368 | AO34: 427 | AP34: 409 | AQ34: 95 | AR34: 556 | AS34: 351 | AT34: 377 | AU34: 927 | AV34: 844 | AW34: 399 | AX34: 894 | AY34: 756 | AZ34: 169 | BA34: 153 | BB34: 188 | BC34: 172 | BD34: 147 | BE34: 223 | BF34: 113 | BG34: 105 | BH34: 123 | BI34: 113 | BJ34: 127 | BK34: 120 | BL34: 112 | BM34: 25 | BN34: 25 | BO34: 25 | BP34: 25 | BQ34: 0 | BR34: 0 | BS34: 3 | BT34: 1 | BU34: 2 | BV34: 1 | BW34: 3 | BX34: 3 | BY34: 0 | BZ34: 1 | CA34: 2 | CB34: 0 | CC34: 1 | CD34: 2 | CE34: 2 | CF34: 2 | CG34: 5 | CH34: 32 | CI34: 98 | CJ34: 19 | CK34: 95 | CL34: 33 | CM34: 49 | CN34: 49 | CO34: 88 | CP34: 16 | CQ34: 88 | CR34: 58 | CS34: 65 | CT34: 33 | CU34: 62 | CV34: 86 | CW34: 77 | CX34: 3 | CY34: 63 | CZ34: 72 | DA34: 17 | DB34: 11 | DC34: 50 | DD34: 48 | DE34: 23 | DF34: 40 | DG34: 7 | DH34: 37 | DI34: 49 | DJ34: 93 | DK34: 40 | DL34: 63 | DM34: 569 | DN34: 733 | DO34: 908 | DP34: 53 | DQ34: 653 | DR34: 561 | DS34: 873 | DT34: 503 | DU34: 220 | DV34: 683 | DW34: 605 | DX34: 512 | DY34: 587 | DZ34: 812 | EA34: 589 | EB34: 963 | EC34: 372 | ED34: 96 | EE34: 240 | EF34: 255 | EG34: 815 | EH34: 850 | EI34: 936 | EJ34: 493 | EK34: 952 | EL34: 270 | EM34: 360 | EN34: 697 | EO34: 491 | EP34: 66 | EQ34: 706 | ER34: 679 | ES34: 989 | ET34: 113 | EU34: 178 | EV34: 740 | EW34: 163 | EX34: 288 | EY34: 79 | EZ34: 1 | FA34: 901 | FB34: 517 | FC34: 386 | FD34: 38 | FE34: 534 | FF34: 66 | FG34: 195 | FH34: 589 | FI34: 610 | FJ34: 50 | FK34: 50 | FL34: 50 | FM34: 50 | FN34: 47 | FO34: 23 | FP34: 31 | FQ34: 56 | FR34: 26 | FS34: 41 | FT34: 74 | FU34: 50 | FV34: 50 | FW34: 50 | FX34: 50 | FY34: 50 | FZ34: 50 | GA34: 50 | GB34: 50 | GC34: 50 | GD34: 50 | GE34: 26 | GF34: 35 | GG34: 29 | GH34: 49 | GI34: 34 | GJ34: 55 | GK34: 54 | GL34: 50 | GM34: 50 | GN34: 50 | GO34: 50 | GP34: 50 | GQ34: 50 | GR34: 1.089 | GS34: 1.463 | GT34: 0.872 | GU34: 0.596 | GV34: 0.74 | GW34: 0.755 | GX34: 1.315 | GY34: 1.35 | GZ34: 1.436 | HA34: 0.993 | HB34: 1.452 | HC34: 0.77 | HD34: 0.86 | HE34: 1.197 | HF34: 0.991 | HG34: 2 | HH34: 0.706 | HI34: 0.679 | HJ34: 0.989 | HK34: 0.113 | HL34: 0.178 | HM34: 0.74 | HN34: 0.163 | HO34: 0.288 | HP34: 0.079 | HQ34: 0.001 | HR34: 0.901 | HS34: 0.517 | HT34: 0.386 | HU34: 0.038 | HV34: 0.534 | HW34: 0.066 | HX34: NOK | HY34: NOK | HZ34: NOK | IA34: NOK | IB34: 63 | IC34: NOK | ID34: NOK | IE34: NOK | IF34: =IFERROR(RANK(HX34,HX:HX,1),"") | IG34: =IFERROR(RANK(HY34,HY:HY,1),"") | IH34: =IFERROR(RANK(HZ34,HZ:HZ,1),"") | II34: =IFERROR(RANK(IA34,IA:IA,1),"") | IJ34: =IFERROR(RANK(IB34,IB:IB,1),"") -> 128 | IK34: =IFERROR(RANK(IC34,IC:IC,1),"") | IL34: =IFERROR(RANK(ID34,ID:ID,1),"") | IM34: =IFERROR(RANK(IE34,IE:IE,1),"")
A35: 111687C | E35: FALSE | H35: 40 | J35: 40 - G | K35: TRUE | N35: Buy | R35: 13.9 | S35: 0.008 | T35: FALSE | U35: 43748 | V35: 0 | W35: 0 | X35: 0 | Y35: 0 | Z35: 0 | AA35: 0 | AB35: 10 | AC35: 5 | AD35: 1250 | AE35: 43691 | AF35: 43748 | AH35: 0.008 | AI35: A | AJ35: 159 | AK35: 467 | AL35: 942 | AM35: 143 | AN35: 827 | AO35: 629 | AP35: 468 | AQ35: 324 | AR35: 491 | AS35: 315 | AT35: 78 | AU35: 867 | AV35: 194 | AW35: 685 | AX35: 371 | AY35: 901 | AZ35: 201 | BA35: 189 | BB35: 133 | BC35: 117 | BD35: 241 | BE35: 165 | BF35: 128 | BG35: 106 | BH35: 109 | BI35: 127 | BJ35: 120 | BK35: 107 | BL35: 105 | BM35: 25 | BN35: 25 | BO35: 25 | BP35: 25 | BQ35: 1 | BR35: 2 | BS35: 1 | BT35: 3 | BU35: 0 | BV35: 0 | BW35: 1 | BX35: 2 | BY35: 3 | BZ35: 2 | CA35: 3 | CB35: 1 | CC35: 3 | CD35: 1 | CE35: 1 | CF35: 3 | CG35: 48 | CH35: 76 | CI35: 41 | CJ35: 76 | CK35: 58 | CL35: 25 | CM35: 69 | CN35: 44 | CO35: 42 | CP35: 38 | CQ35: 31 | CR35: 97 | CS35: 33 | CT35: 33 | CU35: 42 | CV35: 42 | CW35: 95 | CX35: 84 | CY35: 54 | CZ35: 61 | DA35: 62 | DB35: 97 | DC35: 45 | DD35: 15 | DE35: 19 | DF35: 82 | DG35: 24 | DH35: 14 | DI35: 24 | DJ35: 37 | DK35: 94 | DL35: 37 | DM35: 451 | DN35: 765 | DO35: 838 | DP35: 613 | DQ35: 253 | DR35: 465 | DS35: 608 | DT35: 352 | DU35: 285 | DV35: 813 | DW35: 599 | DX35: 484 | DY35: 468 | DZ35: 411 | EA35: 982 | EB35: 155 | EC35: 507 | ED35: 863 | EE35: 821 | EF35: 922 | EG35: 925 | EH35: 699 | EI35: 604 | EJ35: 437 | EK35: 186 | EL35: 88 | EM35: 298 | EN35: 658 | EO35: 902 | EP35: 525 | EQ35: 997 | ER35: 852 | ES35: 449 | ET35: 601 | EU35: 405 | EV35: 824 | EW35: 866 | EX35: 330 | EY35: 135 | EZ35: 434 | FA35: 73 | FB35: 848 | FC35: 720 | FD35: 835 | FE35: 214 | FF35: 366 | FG35: 10 | FH35: 704 | FI35: 423 | FJ35: 50 | FK35: 50 | FL35: 50 | FM35: 50 | FN35: 39 | FO35: 54 | FP35: 33 | FQ35: 67 | FR35: 25 | FS35: 33 | FT35: 46 | FU35: 50 | FV35: 50 | FW35: 50 | FX35: 50 | FY35: 50 | FZ35: 50 | GA35: 50 | GB35: 50 | GC35: 50 | GD35: 50 | GE35: 39 | GF35: 73 | GG35: 30 | GH35: 44 | GI35: 74 | GJ35: 20 | GK35: 65 | GL35: 50 | GM35: 50 | GN35: 50 | GO35: 50 | GP35: 50 | GQ35: 50 | GR35: 1.482 | GS35: 0.655 | GT35: 1.007 | GU35: 1.363 | GV35: 1.321 | GW35: 1.422 | GX35: 1.425 | GY35: 1.199 | GZ35: 1.104 | HA35: 0.937 | HB35: 0.686 | HC35: 0.588 | HD35: 0.798 | HE35: 1.158 | HF35: 1.402 | HG35: 1 | HH35: 0.997 | HI35: 0.852 | HJ35: 0.449 | HK35: 0.601 | HL35: 0.405 | HM35: 0.824 | HN35: 0.866 | HO35: 0.33 | HP35: 0.135 | HQ35: 0.434 | HR35: 0.073 | HS35: 0.848 | HT35: 0.72 | HU35: 0.835 | HV35: 0.214 | HW35: 0.366 | HX35: NOK | HY35: NOK | HZ35: NOK | IA35: NOK | IB35: NOK | IC35: NOK | ID35: NOK | IE35: NOK | IF35: =IFERROR(RANK(HX35,HX:HX,1),"") | IG35: =IFERROR(RANK(HY35,HY:HY,1),"") | IH35: =IFERROR(RANK(HZ35,HZ:HZ,1),"") | II35: =IFERROR(RANK(IA35,IA:IA,1),"") | IJ35: =IFERROR(RANK(IB35,IB:IB,1),"") | IK35: =IFERROR(RANK(IC35,IC:IC,1),"") | IL35: =IFERROR(RANK(ID35,ID:ID,1),"") | IM35: =IFERROR(RANK(IE35,IE:IE,1),"")
A36: 111689C | E36: FALSE | H36: 80 | J36: 40 - G | K36: TRUE | N36: Buy | R36: 13.9 | S36: 0.033 | T36: FALSE | U36: 43804 | V36: 0 | W36: 0 | X36: 0 | Y36: 0 | Z36: 0 | AA36: 0 | AB36: 10 | AC36: 5 | AD36: 303 | AE36: 43691 | AF36: 43804 | AH36: 0.033 | AI36: A | AJ36: 668 | AK36: 736 | AL36: 957 | AM36: 234 | AN36: 87 | AO36: 169 | AP36: 976 | AQ36: 155 | AR36: 579 | AS36: 635 | AT36: 922 | AU36: 798 | AV36: 97 | AW36: 858 | AX36: 998 | AY36: 876 | AZ36: 106 | BA36: 168 | BB36: 143 | BC36: 178 | BD36: 164 | BE36: 222 | BF36: 104 | BG36: 105 | BH36: 102 | BI36: 128 | BJ36: 107 | BK36: 110 | BL36: 124 | BM36: 25 | BN36: 25 | BO36: 25 | BP36: 25 | BQ36: 1 | BR36: 1 | BS36: 2 | BT36: 0 | BU36: 0 | BV36: 0 | BW36: 1 | BX36: 2 | BY36: 3 | BZ36: 2 | CA36: 1 | CB36: 0 | CC36: 0 | CD36: 3 | CE36: 3 | CF36: 3 | CG36: 19 | CH36: 5 | CI36: 19 | CJ36: 74 | CK36: 25 | CL36: 56 | CM36: 57 | CN36: 24 | CO36: 41 | CP36: 48 | CQ36: 48 | CR36: 43 | CS36: 34 | CT36: 86 | CU36: 46 | CV36: 83 | CW36: 76 | CX36: 56 | CY36: 26 | CZ36: 97 | DA36: 97 | DB36: 94 | DC36: 65 | DD36: 18 | DE36: 41 | DF36: 86 | DG36: 92 | DH36: 24 | DI36: 25 | DJ36: 18 | DK36: 0 | DL36: 5 | DM36: 295 | DN36: 683 | DO36: 454 | DP36: 18 | DQ36: 564 | DR36: 157 | DS36: 967 | DT36: 731 | DU36: 211 | DV36: 956 | DW36: 63 | DX36: 163 | DY36: 290 | DZ36: 904 | EA36: 83 | EB36: 430 | EC36: 224 | ED36: 980 | EE36: 441 | EF36: 212 | EG36: 669 | EH36: 586 | EI36: 957 | EJ36: 617 | EK36: 122 | EL36: 957 | EM36: 468 | EN36: 469 | EO36: 665 | EP36: 464 | EQ36: 929 | ER36: 563 | ES36: 725 | ET36: 629 | EU36: 585 | EV36: 285 | EW36: 76 | EX36: 422 | EY36: 216 | EZ36: 347 | FA36: 195 | FB36: 52 | FC36: 930 | FD36: 770 | FE36: 909 | FF36: 230 | FG36: 591 | FH36: 788 | FI36: 846 | FJ36: 50 | FK36: 50 | FL36: 50 | FM36: 50 | FN36: 45 | FO36: 70 | FP36: 31 | FQ36: 55 | FR36: 47 | FS36: 32 | FT36: 47 | FU36: 50 | FV36: 50 | FW36: 50 | FX36: 50 | FY36: 50 | FZ36: 50 | GA36: 50 | GB36: 50 | GC36: 50 | GD36: 50 | GE36: 37 | GF36: 46 | GG36: 49 | GH36: 70 | GI36: 48 | GJ36: 52 | GK36: 24 | GL36: 50 | GM36: 50 | GN36: 50 | GO36: 50 | GP36: 50 | GQ36: 50 | GR36: 0.583 | GS36: 0.93 | GT36: 0.724 | GU36: 1.48 | GV36: 0.941 | GW36: 0.712 | GX36: 1.169 | GY36: 1.086 | GZ36: 1.457 | HA36: 1.117 | HB36: 0.622 | HC36: 1.457 | HD36: 0.968 | HE36: 0.969 | HF36: 1.165 | HG36: 2 | HH36: 0.929 | HI36: 0.563 | HJ36: 0.725 | HK36: 0.629 | HL36: 0.585 | HM36: 0.285 | HN36: 0.076 | HO36: 0.422 | HP36: 0.216 | HQ36: 0.347 | HR36: 0.195 | HS36: 0.052 | HT36: 0.93 | HU36: 0.77 | HV36: 0.909 | HW36: 0.23 | HX36: NOK | HY36: NOK | HZ36: NOK | IA36: NOK | IB36: 5 | IC36: NOK | ID36: NOK | IE36: NOK | IF36: =IFERROR(RANK(HX36,HX:HX,1),"") | IG36: =IFERROR(RANK(HY36,HY:HY,1),"") | IH36: =IFERROR(RANK(HZ36,HZ:HZ,1),"") | II36: =IFERROR(RANK(IA36,IA:IA,1),"") | IJ36: =IFERROR(RANK(IB36,IB:IB,1),"") -> 11 | IK36: =IFERROR(RANK(IC36,IC:IC,1),"") | IL36: =IFERROR(RANK(ID36,ID:ID,1),"") | IM36: =IFERROR(RANK(IE36,IE:IE,1),"")
A37: 111691C | E37: FALSE | H37: 35 | J37: 40 - G | K37: TRUE | N37: Buy | R37: 0 | S37: 0.108 | T37: FALSE | U37: 43741 | V37: 0 | W37: 0 | X37: 0 | Y37: 0 | Z37: 0 | AA37: 0 | AB37: 20 | AC37: 10 | AD37: 185 | AE37: 43691 | AF37: 43741 | AH37: 0.108 | AI37: A | AJ37: 990 | AK37: 33 | AL37: 495 | AM37: 349 | AN37: 474 | AO37: 400 | AP37: 591 | AQ37: 304 | AR37: 70 | AS37: 389 | AT37: 214 | AU37: 22 | AV37: 170 | AW37: 698 | AX37: 419 | AY37: 451 | AZ37: 139 | BA37: 233 | BB37: 111 | BC37: 180 | BD37: 174 | BE37: 121 | BF37: 122 | BG37: 117 | BH37: 107 | BI37: 114 | BJ37: 126 | BK37: 119 | BL37: 101 | BM37: 25 | BN37: 25 | BO37: 25 | BP37: 25 | BQ37: 1 | BR37: 3 | BS37: 3 | BT37: 0 | BU37: 1 | BV37: 1 | BW37: 3 | BX37: 3 | BY37: 3 | BZ37: 2 | CA37: 1 | CB37: 0 | CC37: 2 | CD37: 1 | CE37: 0 | CF37: 1 | CG37: 85 | CH37: 7 | CI37: 86 | CJ37: 50 | CK37: 66 | CL37: 23 | CM37: 62 | CN37: 2 | CO37: 3 | CP37: 88 | CQ37: 69 | CR37: 94 | CS37: 88 | CT37: 89 | CU37: 66 | CV37: 26 | CW37: 99 | CX37: 58 | CY37: 35 | CZ37: 95 | DA37: 11 | DB37: 5 | DC37: 42 | DD37: 10 | DE37: 96 | DF37: 71 | DG37: 14 | DH37: 81 | DI37: 65 | DJ37: 83 | DK37: 42 | DL37: 34 | DM37: 962 | DN37: 653 | DO37: 496 | DP37: 473 | DQ37: 724 | DR37: 32 | DS37: 206 | DT37: 81 | DU37: 381 | DV37: 557 | DW37: 34 | DX37: 166 | DY37: 409 | DZ37: 556 | EA37: 78 | EB37: 119 | EC37: 856 | ED37: 843 | EE37: 501 | EF37: 563 | EG37: 620 | EH37: 546 | EI37: 734 | EJ37: 71 | EK37: 915 | EL37: 2 | EM37: 915 | EN37: 821 | EO37: 83 | EP37: 784 | EQ37: 538 | ER37: 785 | ES37: 894 | ET37: 832 | EU37: 335 | EV37: 986 | EW37: 965 | EX37: 445 | EY37: 736 | EZ37: 913 | FA37: 121 | FB37: 884 | FC37: 509 | FD37: 911 | FE37: 697 | FF37: 320 | FG37: 383 | FH37: 160 | FI37: 598 | FJ37: 50 | FK37: 50 | FL37: 50 | FM37: 50 | FN37: 38 | FO37: 50 | FP37: 66 | FQ37: 28 | FR37: 20 | FS37: 24 | FT37: 69 | FU37: 50 | FV37: 50 | FW37: 50 | FX37: 50 | FY37: 50 | FZ37: 50 | GA37: 50 | GB37: 50 | GC37: 50 | GD37: 50 | GE37: 46 | GF37: 38 | GG37: 24 | GH37: 61 | GI37: 66 | GJ37: 29 | GK37: 35 | GL37: 50 | GM37: 50 | GN37: 50 | GO37: 50 | GP37: 50 | GQ37: 50 | GR37: 0.578 | GS37: 0.619 | GT37: 1.356 | GU37: 1.343 | GV37: 1.001 | GW37: 1.063 | GX37: 1.12 | GY37: 1.046 | GZ37: 1.234 | HA37: 0.571 | HB37: 1.415 | HC37: 0.502 | HD37: 1.415 | HE37: 1.321 | HF37: 0.583 | HG37: 1 | HH37: 0.538 | HI37: 0.785 | HJ37: 0.894 | HK37: 0.832 | HL37: 0.335 | HM37: 0.986 | HN37: 0.965 | HO37: 0.445 | HP37: 0.736 | HQ37: 0.913 | HR37: 0.121 | HS37: 0.884 | HT37: 0.509 | HU37: 0.911 | HV37: 0.697 | HW37: 0.32 | HX37: NOK | HY37: NOK | HZ37: NOK | IA37: NOK | IB37: NOK | IC37: NOK | ID37: NOK | IE37: NOK | IF37: =IFERROR(RANK(HX37,HX:HX,1),"") | IG37: =IFERROR(RANK(HY37,HY:HY,1),"") | IH37: =IFERROR(RANK(HZ37,HZ:HZ,1),"") | II37: =IFERROR(RANK(IA37,IA:IA,1),"") | IJ37: =IFERROR(RANK(IB37,IB:IB,1),"") | IK37: =IFERROR(RANK(IC37,IC:IC,1),"") | IL37: =IFERROR(RANK(ID37,ID:ID,1),"") | IM37: =IFERROR(RANK(IE37,IE:IE,1),"")
A38: 111692C | E38: FALSE | H38: 35 | J38: 50 - B | K38: TRUE | N38: Buy | R38: 0 | S38: 0.092 | T38: FALSE | U38: 43741 | V38: 0 | W38: 0 | X38: 0 | Y38: 0 | Z38: 0 | AA38: 0 | AB38: 10 | AC38: 5 | AD38: 108 | AE38: 43691 | AF38: 43741 | AH38: 0.092 | AI38: A | AJ38: 151 | AK38: 451 | AL38: 491 | AM38: 869 | AN38: 69 | AO38: 548 | AP38: 511 | AQ38: 895 | AR38: 266 | AS38: 160 | AT38: 52 | AU38: 206 | AV38: 641 | AW38: 353 | AX38: 766 | AY38: 240 | AZ38: 162 | BA38: 244 | BB38: 125 | BC38: 157 | BD38: 173 | BE38: 209 | BF38: 119 | BG38: 112 | BH38: 116 | BI38: 126 | BJ38: 111 | BK38: 106 | BL38: 110 | BM38: 25 | BN38: 25 | BO38: 25 | BP38: 25 | BQ38: 1 | BR38: 1 | BS38: 2 | BT38: 2 | BU38: 3 | BV38: 1 | BW38: 0 | BX38: 1 | BY38: 2 | BZ38: 1 | CA38: 3 | CB38: 2 | CC38: 3 | CD38: 1 | CE38: 1 | CF38: 3 | CG38: 34 | CH38: 60 | CI38: 35 | CJ38: 88 | CK38: 14 | CL38: 92 | CM38: 54 | CN38: 17 | CO38: 58 | CP38: 4 | CQ38: 7 | CR38: 87 | CS38: 95 | CT38: 78 | CU38: 21 | CV38: 35 | CW38: 76 | CX38: 64 | CY38: 97 | CZ38: 41 | DA38: 6 | DB38: 12 | DC38: 81 | DD38: 80 | DE38: 11 | DF38: 72 | DG38: 88 | DH38: 49 | DI38: 60 | DJ38: 6 | DK38: 77 | DL38: 55 | DM38: 161 | DN38: 534 | DO38: 217 | DP38: 409 | DQ38: 129 | DR38: 151 | DS38: 620 | DT38: 678 | DU38: 5 | DV38: 118 | DW38: 949 | DX38: 929 | DY38: 386 | DZ38: 705 | EA38: 434 | EB38: 290 | EC38: 726 | ED38: 575 | EE38: 670 | EF38: 551 | EG38: 919 | EH38: 703 | EI38: 428 | EJ38: 865 | EK38: 123 | EL38: 712 | EM38: 531 | EN38: 469 | EO38: 837 | EP38: 398 | EQ38: 545 | ER38: 797 | ES38: 251 | ET38: 353 | EU38: 969 | EV38: 876 | EW38: 317 | EX38: 595 | EY38: 716 | EZ38: 410 | FA38: 247 | FB38: 608 | FC38: 197 | FD38: 259 | FE38: 332 | FF38: 738 | FG38: 696 | FH38: 354 | FI38: 735 | FJ38: 50 | FK38: 50 | FL38: 50 | FM38: 50 | FN38: 47 | FO38: 68 | FP38: 52 | FQ38: 75 | FR38: 74 | FS38: 68 | FT38: 65 | FU38: 50 | FV38: 50 | FW38: 50 | FX38: 50 | FY38: 50 | FZ38: 50 | GA38: 50 | GB38: 50 | GC38: 50 | GD38: 50 | GE38: 31 | GF38: 24 | GG38: 34 | GH38: 65 | GI38: 37 | GJ38: 27 | GK38: 35 | GL38: 50 | GM38: 50 | GN38: 50 | GO38: 50 | GP38: 50 | GQ38: 50 | GR38: 0.934 | GS38: 0.79 | GT38: 1.226 | GU38: 1.075 | GV38: 1.17 | GW38: 1.051 | GX38: 1.419 | GY38: 1.203 | GZ38: 0.928 | HA38: 1.365 | HB38: 0.623 | HC38: 1.212 | HD38: 1.031 | HE38: 0.969 | HF38: 1.337 | HG38: 2 | HH38: 0.545 | HI38: 0.797 | HJ38: 0.251 | HK38: 0.353 | HL38: 0.969 | HM38: 0.876 | HN38: 0.317 | HO38: 0.595 | HP38: 0.716 | HQ38: 0.41 | HR38: 0.247 | HS38: 0.608 | HT38: 0.197 | HU38: 0.259 | HV38: 0.332 | HW38: 0.738 | HX38: NOK | HY38: NOK | HZ38: NOK | IA38: NOK | IB38: 55 | IC38: NOK | ID38: NOK | IE38: NOK | IF38: =IFERROR(RANK(HX38,HX:HX,1),"") | IG38: =IFERROR(RANK(HY38,HY:HY,1),"") | IH38: =IFERROR(RANK(HZ38,HZ:HZ,1),"") | II38: =IFERROR(RANK(IA38,IA:IA,1),"") | IJ38: =IFERROR(RANK(IB38,IB:IB,1),"") -> 114 | IK38: =IFERROR(RANK(IC38,IC:IC,1),"") | IL38: =IFERROR(RANK(ID38,ID:ID,1),"") | IM38: =IFERROR(RANK(IE38,IE:IE,1),"")
A39: 111693C | E39: FALSE | H39: 40 | J39: 40 - G | K39: TRUE | N39: Buy | R39: 0 | S39: 0.108 | T39: FALSE | U39: 43748 | V39: 0 | W39: 0 | X39: 0.06452 | Y39: 0 | Z39: 0 | AA39: 0 | AB39: 20 | AC39: 10 | AD39: 185 | AE39: 43691 | AF39: 43748 | AH39: 0.108 | AI39: A | AJ39: 693 | AK39: 261 | AL39: 183 | AM39: 299 | AN39: 734 | AO39: 224 | AP39: 422 | AQ39: 874 | AR39: 724 | AS39: 953 | AT39: 830 | AU39: 8 | AV39: 185 | AW39: 687 | AX39: 645 | AY39: 132 | AZ39: 134 | BA39: 180 | BB39: 107 | BC39: 152 | BD39: 105 | BE39: 208 | BF39: 120 | BG39: 107 | BH39: 130 | BI39: 112 | BJ39: 124 | BK39: 116 | BL39: 117 | BM39: 25 | BN39: 25 | BO39: 25 | BP39: 25 | BQ39: 0 | BR39: 1 | BS39: 1 | BT39: 2 | BU39: 3 | BV39: 1 | BW39: 1 | BX39: 0 | BY39: 1 | BZ39: 1 | CA39: 3 | CB39: 3 | CC39: 1 | CD39: 2 | CE39: 0 | CF39: 2 | CG39: 26 | CH39: 5 | CI39: 59 | CJ39: 30 | CK39: 12 | CL39: 79 | CM39: 42 | CN39: 56 | CO39: 15 | CP39: 66 | CQ39: 65 | CR39: 6 | CS39: 24 | CT39: 69 | CU39: 22 | CV39: 24 | CW39: 58 | CX39: 82 | CY39: 4 | CZ39: 37 | DA39: 20 | DB39: 9 | DC39: 37 | DD39: 85 | DE39: 42 | DF39: 29 | DG39: 6 | DH39: 20 | DI39: 48 | DJ39: 80 | DK39: 66 | DL39: 9 | DM39: 488 | DN39: 456 | DO39: 729 | DP39: 393 | DQ39: 412 | DR39: 777 | DS39: 321 | DT39: 172 | DU39: 991 | DV39: 243 | DW39: 94 | DX39: 743 | DY39: 608 | DZ39: 679 | EA39: 405 | EB39: 508 | EC39: 359 | ED39: 22 | EE39: 544 | EF39: 230 | EG39: 843 | EH39: 521 | EI39: 760 | EJ39: 295 | EK39: 428 | EL39: 219 | EM39: 911 | EN39: 111 | EO39: 684 | EP39: 905 | EQ39: 457 | ER39: 512 | ES39: 402 | ET39: 764 | EU39: 334 | EV39: 720 | EW39: 565 | EX39: 823 | EY39: 286 | EZ39: 290 | FA39: 862 | FB39: 486 | FC39: 383 | FD39: 380 | FE39: 855 | FF39: 729 | FG39: 44 | FH39: 633 | FI39: 371 | FJ39: 50 | FK39: 50 | FL39: 50 | FM39: 50 | FN39: 40 | FO39: 49 | FP39: 29 | FQ39: 72 | FR39: 67 | FS39: 22 | FT39: 21 | FU39: 50 | FV39: 50 | FW39: 50 | FX39: 50 | FY39: 50 | FZ39: 50 | GA39: 50 | GB39: 50 | GC39: 50 | GD39: 50 | GE39: 36 | GF39: 67 | GG39: 42 | GH39: 40 | GI39: 60 | GJ39: 42 | GK39: 60 | GL39: 50 | GM39: 50 | GN39: 50 | GO39: 50 | GP39: 50 | GQ39: 50 | GR39: 0.905 | GS39: 1.008 | GT39: 0.859 | GU39: 0.522 | GV39: 1.044 | GW39: 0.73 | GX39: 1.343 | GY39: 1.021 | GZ39: 1.26 | HA39: 0.795 | HB39: 0.928 | HC39: 0.719 | HD39: 1.411 | HE39: 0.611 | HF39: 1.184 | HG39: 2 | HH39: 0.457 | HI39: 0.512 | HJ39: 0.402 | HK39: 0.764 | HL39: 0.334 | HM39: 0.72 | HN39: 0.565 | HO39: 0.823 | HP39: 0.286 | HQ39: 0.29 | HR39: 0.862 | HS39: 0.486 | HT39: 0.383 | HU39: 0.38 | HV39: 0.855 | HW39: 0.729 | HX39: NOK | HY39: NOK | HZ39: NOK | IA39: NOK | IB39: 9 | IC39: 0.06452 | ID39: NOK | IE39: NOK | IF39: =IFERROR(RANK(HX39,HX:HX,1),"") | IG39: =IFERROR(RANK(HY39,HY:HY,1),"") | IH39: =IFERROR(RANK(HZ39,HZ:HZ,1),"") | II39: =IFERROR(RANK(IA39,IA:IA,1),"") | IJ39: =IFERROR(RANK(IB39,IB:IB,1),"") -> 22 | IK39: =IFERROR(RANK(IC39,IC:IC,1),"") -> 14 | IL39: =IFERROR(RANK(ID39,ID:ID,1),"") | IM39: =IFERROR(RANK(IE39,IE:IE,1),"")
A40: 112436 | E40: FALSE | H40: 40 | J40: 50 - B | K40: TRUE | N40: Buy | R40: 100 | S40: 0.013 | T40: FALSE | U40: 43748 | V40: 0 | W40: 0 | X40: 0 | Y40: 0 | Z40: 0 | AA40: 0 | AB40: 10 | AC40: 5 | AD40: 769 | AE40: 43691 | AF40: 43748 | AH40: 0.013 | AI40: A | AJ40: 655 | AK40: 139 | AL40: 513 | AM40: 271 | AN40: 77 | AO40: 870 | AP40: 651 | AQ40: 676 | AR40: 689 | AS40: 483 | AT40: 479 | AU40: 346 | AV40: 940 | AW40: 810 | AX40: 344 | AY40: 536 | AZ40: 154 | BA40: 192 | BB40: 123 | BC40: 193 | BD40: 181 | BE40: 225 | BF40: 118 | BG40: 111 | BH40: 100 | BI40: 115 | BJ40: 122 | BK40: 130 | BL40: 108 | BM40: 25 | BN40: 25 | BO40: 25 | BP40: 25 | BQ40: 1 | BR40: 3 | BS40: 2 | BT40: 3 | BU40: 0 | BV40: 1 | BW40: 1 | BX40: 0 | BY40: 1 | BZ40: 1 | CA40: 1 | CB40: 0 | CC40: 1 | CD40: 0 | CE40: 3 | CF40: 0 | CG40: 35 | CH40: 4 | CI40: 33 | CJ40: 15 | CK40: 82 | CL40: 78 | CM40: 34 | CN40: 88 | CO40: 93 | CP40: 22 | CQ40: 8 | CR40: 78 | CS40: 90 | CT40: 69 | CU40: 71 | CV40: 34 | CW40: 9 | CX40: 98 | CY40: 26 | CZ40: 17 | DA40: 37 | DB40: 1 | DC40: 13 | DD40: 20 | DE40: 79 | DF40: 27 | DG40: 81 | DH40: 51 | DI40: 75 | DJ40: 55 | DK40: 28 | DL40: 10 | DM40: 602 | DN40: 151 | DO40: 397 | DP40: 133 | DQ40: 194 | DR40: 836 | DS40: 793 | DT40: 98 | DU40: 481 | DV40: 730 | DW40: 887 | DX40: 882 | DY40: 334 | DZ40: 623 | EA40: 580 | EB40: 412 | EC40: 743 | ED40: 8 | EE40: 212 | EF40: 123 | EG40: 896 | EH40: 141 | EI40: 673 | EJ40: 359 | EK40: 627 | EL40: 947 | EM40: 436 | EN40: 783 | EO40: 214 | EP40: 299 | EQ40: 855 | ER40: 98 | ES40: 695 | ET40: 398 | EU40: 808 | EV40: 409 | EW40: 44 | EX40: 234 | EY40: 545 | EZ40: 94 | FA40: 913 | FB40: 737 | FC40: 124 | FD40: 429 | FE40: 724 | FF40: 48 | FG40: 770 | FH40: 625 | FI40: 291 | FJ40: 50 | FK40: 50 | FL40: 50 | FM40: 50 | FN40: 40 | FO40: 60 | FP40: 31 | FQ40: 75 | FR40: 65 | FS40: 36 | FT40: 71 | FU40: 50 | FV40: 50 | FW40: 50 | FX40: 50 | FY40: 50 | FZ40: 50 | GA40: 50 | GB40: 50 | GC40: 50 | GD40: 50 | GE40: 38 | GF40: 34 | GG40: 65 | GH40: 69 | GI40: 57 | GJ40: 73 | GK40: 25 | GL40: 50 | GM40: 50 | GN40: 50 | GO40: 50 | GP40: 50 | GQ40: 50 | GR40: 1.08 | GS40: 0.912 | GT40: 1.243 | GU40: 0.508 | GV40: 0.712 | GW40: 0.623 | GX40: 1.396 | GY40: 0.641 | GZ40: 1.173 | HA40: 0.859 | HB40: 1.127 | HC40: 1.447 | HD40: 0.936 | HE40: 1.283 | HF40: 0.714 | HG40: 1 | HH40: 0.855 | HI40: 0.098 | HJ40: 0.695 | HK40: 0.398 | HL40: 0.808 | HM40: 0.409 | HN40: 0.044 | HO40: 0.234 | HP40: 0.545 | HQ40: 0.094 | HR40: 0.913 | HS40: 0.737 | HT40: 0.124 | HU40: 0.429 | HV40: 0.724 | HW40: 0.048 | HX40: NOK | HY40: NOK | HZ40: NOK | IA40: NOK | IB40: NOK | IC40: NOK | ID40: NOK | IE40: NOK | IF40: =IFERROR(RANK(HX40,HX:HX,1),"") | IG40: =IFERROR(RANK(HY40,HY:HY,1),"") | IH40: =IFERROR(RANK(HZ40,HZ:HZ,1),"") | II40: =IFERROR(RANK(IA40,IA:IA,1),"") | IJ40: =IFERROR(RANK(IB40,IB:IB,1),"") | IK40: =IFERROR(RANK(IC40,IC:IC,1),"") | IL40: =IFERROR(RANK(ID40,ID:ID,1),"") | IM40: =IFERROR(RANK(IE40,IE:IE,1),"")
A41: 112443 | E41: FALSE | H41: 40 | J41: 40 - G | K41: TRUE | N41: Buy | R41: 0 | S41: 0.046 | T41: FALSE | U41: 43748 | V41: 0 | W41: 0 | X41: 0 | Y41: 0 | Z41: 0 | AA41: 0 | AB41: 10 | AC41: 5 | AD41: 217 | AE41: 43691 | AF41: 43748 | AH41: 0.046 | AI41: A | AJ41: 832 | AK41: 565 | AL41: 424 | AM41: 491 | AN41: 2 | AO41: 174 | AP41: 529 | AQ41: 134 | AR41: 63 | AS41: 189 | AT41: 932 | AU41: 513 | AV41: 916 | AW41: 525 | AX41: 526 | AY41: 47 | AZ41: 250 | BA41: 221 | BB41: 105 | BC41: 141 | BD41: 120 | BE41: 107 | BF41: 116 | BG41: 130 | BH41: 126 | BI41: 116 | BJ41: 129 | BK41: 128 | BL41: 126 | BM41: 25 | BN41: 25 | BO41: 25 | BP41: 25 | BQ41: 0 | BR41: 0 | BS41: 3 | BT41: 0 | BU41: 2 | BV41: 3 | BW41: 2 | BX41: 2 | BY41: 0 | BZ41: 2 | CA41: 0 | CB41: 3 | CC41: 3 | CD41: 3 | CE41: 1 | CF41: 2 | CG41: 88 | CH41: 7 | CI41: 43 | CJ41: 91 | CK41: 58 | CL41: 64 | CM41: 78 | CN41: 45 | CO41: 86 | CP41: 40 | CQ41: 33 | CR41: 37 | CS41: 56 | CT41: 31 | CU41: 27 | CV41: 35 | CW41: 5 | CX41: 39 | CY41: 72 | CZ41: 10 | DA41: 60 | DB41: 48 | DC41: 76 | DD41: 23 | DE41: 62 | DF41: 20 | DG41: 60 | DH41: 43 | DI41: 93 | DJ41: 5 | DK41: 95 | DL41: 58 | DM41: 980 | DN41: 142 | DO41: 957 | DP41: 601 | DQ41: 820 | DR41: 226 | DS41: 529 | DT41: 852 | DU41: 369 | DV41: 371 | DW41: 262 | DX41: 884 | DY41: 390 | DZ41: 421 | EA41: 187 | EB41: 148 | EC41: 708 | ED41: 499 | EE41: 83 | EF41: 120 | EG41: 978 | EH41: 260 | EI41: 250 | EJ41: 19 | EK41: 994 | EL41: 162 | EM41: 682 | EN41: 499 | EO41: 749 | EP41: 77 | EQ41: 646 | ER41: 680 | ES41: 561 | ET41: 444 | EU41: 141 | EV41: 739 | EW41: 900 | EX41: 369 | EY41: 78 | EZ41: 99 | FA41: 128 | FB41: 93 | FC41: 964 | FD41: 751 | FE41: 723 | FF41: 267 | FG41: 933 | FH41: 28 | FI41: 420 | FJ41: 50 | FK41: 50 | FL41: 50 | FM41: 50 | FN41: 37 | FO41: 47 | FP41: 67 | FQ41: 59 | FR41: 28 | FS41: 62 | FT41: 70 | FU41: 50 | FV41: 50 | FW41: 50 | FX41: 50 | FY41: 50 | FZ41: 50 | GA41: 50 | GB41: 50 | GC41: 50 | GD41: 50 | GE41: 24 | GF41: 36 | GG41: 24 | GH41: 45 | GI41: 48 | GJ41: 34 | GK41: 65 | GL41: 50 | GM41: 50 | GN41: 50 | GO41: 50 | GP41: 50 | GQ41: 50 | GR41: 0.687 | GS41: 0.648 | GT41: 1.208 | GU41: 0.999 | GV41: 0.583 | GW41: 0.62 | GX41: 1.478 | GY41: 0.76 | GZ41: 0.75 | HA41: 0.519 | HB41: 1.494 | HC41: 0.662 | HD41: 1.182 | HE41: 0.999 | HF41: 1.249 | HG41: 1 | HH41: 0.646 | HI41: 0.68 | HJ41: 0.561 | HK41: 0.444 | HL41: 0.141 | HM41: 0.739 | HN41: 0.9 | HO41: 0.369 | HP41: 0.078 | HQ41: 0.099 | HR41: 0.128 | HS41: 0.093 | HT41: 0.964 | HU41: 0.751 | HV41: 0.723 | HW41: 0.267 | HX41: NOK | HY41: NOK | HZ41: NOK | IA41: NOK | IB41: NOK | IC41: NOK | ID41: NOK | IE41: NOK | IF41: =IFERROR(RANK(HX41,HX:HX,1),"") | IG41: =IFERROR(RANK(HY41,HY:HY,1),"") | IH41: =IFERROR(RANK(HZ41,HZ:HZ,1),"") | II41: =IFERROR(RANK(IA41,IA:IA,1),"") | IJ41: =IFERROR(RANK(IB41,IB:IB,1),"") | IK41: =IFERROR(RANK(IC41,IC:IC,1),"") | IL41: =IFERROR(RANK(ID41,ID:ID,1),"") | IM41: =IFERROR(RANK(IE41,IE:IE,1),"")
A42: 112471 | E42: FALSE | H42: 40 | J42: 40 - G | K42: TRUE | N42: Buy | R42: 0 | S42: 0.033 | T42: FALSE | U42: 43748 | V42: 0 | W42: 0 | X42: 0.35484 | Y42: 0 | Z42: 0 | AA42: 0 | AB42: 10 | AC42: 5 | AD42: 303 | AE42: 43691 | AF42: 43748 | AH42: 0.033 | AI42: A | AJ42: 492 | AK42: 633 | AL42: 96 | AM42: 691 | AN42: 490 | AO42: 755 | AP42: 773 | AQ42: 738 | AR42: 123 | AS42: 77 | AT42: 168 | AU42: 273 | AV42: 372 | AW42: 855 | AX42: 779 | AY42: 161 | AZ42: 135 | BA42: 209 | BB42: 223 | BC42: 227 | BD42: 159 | BE42: 205 | BF42: 110 | BG42: 111 | BH42: 106 | BI42: 103 | BJ42: 113 | BK42: 100 | BL42: 112 | BM42: 25 | BN42: 25 | BO42: 25 | BP42: 25 | BQ42: 3 | BR42: 2 | BS42: 1 | BT42: 2 | BU42: 0 | BV42: 3 | BW42: 1 | BX42: 3 | BY42: 2 | BZ42: 1 | CA42: 3 | CB42: 2 | CC42: 0 | CD42: 2 | CE42: 2 | CF42: 0 | CG42: 62 | CH42: 36 | CI42: 67 | CJ42: 13 | CK42: 59 | CL42: 37 | CM42: 32 | CN42: 75 | CO42: 76 | CP42: 30 | CQ42: 60 | CR42: 1 | CS42: 35 | CT42: 64 | CU42: 89 | CV42: 43 | CW42: 38 | CX42: 40 | CY42: 82 | CZ42: 56 | DA42: 43 | DB42: 14 | DC42: 11 | DD42: 48 | DE42: 87 | DF42: 44 | DG42: 61 | DH42: 62 | DI42: 26 | DJ42: 51 | DK42: 56 | DL42: 83 | DM42: 17 | DN42: 868 | DO42: 231 | DP42: 616 | DQ42: 48 | DR42: 733 | DS42: 262 | DT42: 350 | DU42: 278 | DV42: 256 | DW42: 696 | DX42: 963 | DY42: 418 | DZ42: 82 | EA42: 361 | EB42: 57 | EC42: 229 | ED42: 357 | EE42: 611 | EF42: 732 | EG42: 212 | EH42: 994 | EI42: 981 | EJ42: 208 | EK42: 982 | EL42: 720 | EM42: 608 | EN42: 782 | EO42: 679 | EP42: 857 | EQ42: 880 | ER42: 412 | ES42: 245 | ET42: 587 | EU42: 36 | EV42: 574 | EW42: 693 | EX42: 517 | EY42: 921 | EZ42: 681 | FA42: 481 | FB42: 628 | FC42: 133 | FD42: 339 | FE42: 540 | FF42: 386 | FG42: 160 | FH42: 59 | FI42: 709 | FJ42: 50 | FK42: 50 | FL42: 50 | FM42: 50 | FN42: 43 | FO42: 36 | FP42: 59 | FQ42: 37 | FR42: 60 | FS42: 24 | FT42: 20 | FU42: 50 | FV42: 50 | FW42: 50 | FX42: 50 | FY42: 50 | FZ42: 50 | GA42: 50 | GB42: 50 | GC42: 50 | GD42: 50 | GE42: 46 | GF42: 61 | GG42: 65 | GH42: 64 | GI42: 28 | GJ42: 31 | GK42: 28 | GL42: 50 | GM42: 50 | GN42: 50 | GO42: 50 | GP42: 50 | GQ42: 50 | GR42: 0.861 | GS42: 0.557 | GT42: 0.729 | GU42: 0.857 | GV42: 1.111 | GW42: 1.232 | GX42: 0.712 | GY42: 1.494 | GZ42: 1.481 | HA42: 0.708 | HB42: 1.482 | HC42: 1.22 | HD42: 1.108 | HE42: 1.282 | HF42: 1.179 | HG42: 2 | HH42: 0.88 | HI42: 0.412 | HJ42: 0.245 | HK42: 0.587 | HL42: 0.036 | HM42: 0.574 | HN42: 0.693 | HO42: 0.517 | HP42: 0.921 | HQ42: 0.681 | HR42: 0.481 | HS42: 0.628 | HT42: 0.133 | HU42: 0.339 | HV42: 0.54 | HW42: 0.386 | HX42: NOK | HY42: NOK | HZ42: NOK | IA42: NOK | IB42: 83 | IC42: 0.35484 | ID42: NOK | IE42: NOK | IF42: =IFERROR(RANK(HX42,HX:HX,1),"") | IG42: =IFERROR(RANK(HY42,HY:HY,1),"") | IH42: =IFERROR(RANK(HZ42,HZ:HZ,1),"") | II42: =IFERROR(RANK(IA42,IA:IA,1),"") | IJ42: =IFERROR(RANK(IB42,IB:IB,1),"") -> 158 | IK42: =IFERROR(RANK(IC42,IC:IC,1),"") -> 44 | IL42: =IFERROR(RANK(ID42,ID:ID,1),"") | IM42: =IFERROR(RANK(IE42,IE:IE,1),"")
A43: 112487 | E43: FALSE | H43: 40 | J43: 40 - G | K43: TRUE | N43: Buy | R43: 0 | S43: 0.125 | T43: FALSE | U43: 43748 | V43: 0 | W43: 0 | X43: 0.20968 | Y43: 0 | Z43: 0 | AA43: 0 | AB43: 10 | AC43: 5 | AD43: 80 | AE43: 43691 | AF43: 43748 | AH43: 0.125 | AI43: A | AJ43: 926 | AK43: 65 | AL43: 935 | AM43: 626 | AN43: 364 | AO43: 868 | AP43: 585 | AQ43: 218 | AR43: 761 | AS43: 496 | AT43: 180 | AU43: 91 | AV43: 602 | AW43: 658 | AX43: 172 | AY43: 297 | AZ43: 160 | BA43: 250 | BB43: 175 | BC43: 164 | BD43: 236 | BE43: 181 | BF43: 127 | BG43: 104 | BH43: 106 | BI43: 126 | BJ43: 125 | BK43: 105 | BL43: 128 | BM43: 25 | BN43: 25 | BO43: 25 | BP43: 25 | BQ43: 3 | BR43: 0 | BS43: 0 | BT43: 0 | BU43: 1 | BV43: 3 | BW43: 1 | BX43: 1 | BY43: 2 | BZ43: 3 | CA43: 0 | CB43: 3 | CC43: 2 | CD43: 0 | CE43: 0 | CF43: 3 | CG43: 24 | CH43: 78 | CI43: 76 | CJ43: 2 | CK43: 32 | CL43: 13 | CM43: 20 | CN43: 45 | CO43: 66 | CP43: 58 | CQ43: 100 | CR43: 24 | CS43: 79 | CT43: 85 | CU43: 94 | CV43: 41 | CW43: 90 | CX43: 23 | CY43: 11 | CZ43: 97 | DA43: 67 | DB43: 53 | DC43: 72 | DD43: 84 | DE43: 82 | DF43: 65 | DG43: 37 | DH43: 90 | DI43: 67 | DJ43: 68 | DK43: 98 | DL43: 65 | DM43: 614 | DN43: 737 | DO43: 190 | DP43: 626 | DQ43: 974 | DR43: 267 | DS43: 187 | DT43: 729 | DU43: 379 | DV43: 194 | DW43: 980 | DX43: 199 | DY43: 824 | DZ43: 459 | EA43: 291 | EB43: 497 | EC43: 635 | ED43: 396 | EE43: 130 | EF43: 29 | EG43: 443 | EH43: 202 | EI43: 236 | EJ43: 625 | EK43: 324 | EL43: 965 | EM43: 616 | EN43: 255 | EO43: 878 | EP43: 432 | EQ43: 662 | ER43: 114 | ES43: 858 | ET43: 872 | EU43: 215 | EV43: 234 | EW43: 310 | EX43: 566 | EY43: 271 | EZ43: 337 | FA43: 815 | FB43: 142 | FC43: 388 | FD43: 703 | FE43: 631 | FF43: 577 | FG43: 313 | FH43: 659 | FI43: 959 | FJ43: 50 | FK43: 50 | FL43: 50 | FM43: 50 | FN43: 50 | FO43: 53 | FP43: 64 | FQ43: 39 | FR43: 68 | FS43: 43 | FT43: 68 | FU43: 50 | FV43: 50 | FW43: 50 | FX43: 50 | FY43: 50 | FZ43: 50 | GA43: 50 | GB43: 50 | GC43: 50 | GD43: 50 | GE43: 37 | GF43: 60 | GG43: 68 | GH43: 20 | GI43: 60 | GJ43: 31 | GK43: 56 | GL43: 50 | GM43: 50 | GN43: 50 | GO43: 50 | GP43: 50 | GQ43: 50 | GR43: 0.791 | GS43: 0.997 | GT43: 1.135 | GU43: 0.896 | GV43: 0.63 | GW43: 0.529 | GX43: 0.943 | GY43: 0.702 | GZ43: 0.736 | HA43: 1.125 | HB43: 0.824 | HC43: 1.465 | HD43: 1.116 | HE43: 0.755 | HF43: 1.378 | HG43: 2 | HH43: 0.662 | HI43: 0.114 | HJ43: 0.858 | HK43: 0.872 | HL43: 0.215 | HM43: 0.234 | HN43: 0.31 | HO43: 0.566 | HP43: 0.271 | HQ43: 0.337 | HR43: 0.815 | HS43: 0.142 | HT43: 0.388 | HU43: 0.703 | HV43: 0.631 | HW43: 0.577 | HX43: NOK | HY43: NOK | HZ43: NOK | IA43: NOK | IB43: 65 | IC43: 0.20968 | ID43: NOK | IE43: NOK | IF43: =IFERROR(RANK(HX43,HX:HX,1),"") | IG43: =IFERROR(RANK(HY43,HY:HY,1),"") | IH43: =IFERROR(RANK(HZ43,HZ:HZ,1),"") | II43: =IFERROR(RANK(IA43,IA:IA,1),"") | IJ43: =IFERROR(RANK(IB43,IB:IB,1),"") -> 135 | IK43: =IFERROR(RANK(IC43,IC:IC,1),"") -> 33 | IL43: =IFERROR(RANK(ID43,ID:ID,1),"") | IM43: =IFERROR(RANK(IE43,IE:IE,1),"")
A44: 114231 | E44: FALSE | H44: 40 | J44: 40 - G | K44: TRUE | N44: Buy | R44: 0 | S44: 0.292 | T44: FALSE | U44: 43748 | V44: 0 | W44: 0 | X44: 0 | Y44: 0 | Z44: 0 | AA44: 0 | AB44: 20 | AC44: 10 | AD44: 68 | AE44: 43691 | AF44: 43748 | AH44: 0.292 | AI44: A | AJ44: 404 | AK44: 60 | AL44: 175 | AM44: 303 | AN44: 373 | AO44: 851 | AP44: 348 | AQ44: 843 | AR44: 741 | AS44: 687 | AT44: 539 | AU44: 497 | AV44: 338 | AW44: 275 | AX44: 707 | AY44: 110 | AZ44: 233 | BA44: 159 | BB44: 111 | BC44: 206 | BD44: 145 | BE44: 178 | BF44: 127 | BG44: 102 | BH44: 120 | BI44: 125 | BJ44: 130 | BK44: 118 | BL44: 126 | BM44: 25 | BN44: 25 | BO44: 25 | BP44: 25 | BQ44: 0 | BR44: 1 | BS44: 3 | BT44: 2 | BU44: 2 | BV44: 3 | BW44: 1 | BX44: 0 | BY44: 1 | BZ44: 0 | CA44: 3 | CB44: 0 | CC44: 0 | CD44: 0 | CE44: 1 | CF44: 1 | CG44: 90 | CH44: 69 | CI44: 13 | CJ44: 15 | CK44: 75 | CL44: 70 | CM44: 7 | CN44: 90 | CO44: 87 | CP44: 6 | CQ44: 33 | CR44: 75 | CS44: 51 | CT44: 44 | CU44: 40 | CV44: 91 | CW44: 83 | CX44: 0 | CY44: 91 | CZ44: 98 | DA44: 83 | DB44: 50 | DC44: 84 | DD44: 76 | DE44: 2 | DF44: 31 | DG44: 61 | DH44: 54 | DI44: 64 | DJ44: 39 | DK44: 77 | DL44: 95 | DM44: 499 | DN44: 557 | DO44: 401 | DP44: 136 | DQ44: 658 | DR44: 114 | DS44: 450 | DT44: 670 | DU44: 137 | DV44: 219 | DW44: 712 | DX44: 874 | DY44: 301 | DZ44: 293 | EA44: 290 | EB44: 457 | EC44: 609 | ED44: 968 | EE44: 886 | EF44: 179 | EG44: 857 | EH44: 717 | EI44: 908 | EJ44: 624 | EK44: 825 | EL44: 335 | EM44: 847 | EN44: 565 | EO44: 799 | EP44: 561 | EQ44: 274 | ER44: 190 | ES44: 809 | ET44: 914 | EU44: 873 | EV44: 894 | EW44: 707 | EX44: 247 | EY44: 442 | EZ44: 31 | FA44: 907 | FB44: 442 | FC44: 621 | FD44: 426 | FE44: 318 | FF44: 933 | FG44: 260 | FH44: 266 | FI44: 643 | FJ44: 50 | FK44: 50 | FL44: 50 | FM44: 50 | FN44: 41 | FO44: 70 | FP44: 46 | FQ44: 41 | FR44: 47 | FS44: 39 | FT44: 51 | FU44: 50 | FV44: 50 | FW44: 50 | FX44: 50 | FY44: 50 | FZ44: 50 | GA44: 50 | GB44: 50 | GC44: 50 | GD44: 50 | GE44: 29 | GF44: 37 | GG44: 27 | GH44: 21 | GI44: 70 | GJ44: 29 | GK44: 29 | GL44: 50 | GM44: 50 | GN44: 50 | GO44: 50 | GP44: 50 | GQ44: 50 | GR44: 0.79 | GS44: 0.957 | GT44: 1.109 | GU44: 1.468 | GV44: 1.386 | GW44: 0.679 | GX44: 1.357 | GY44: 1.217 | GZ44: 1.408 | HA44: 1.124 | HB44: 1.325 | HC44: 0.835 | HD44: 1.347 | HE44: 1.065 | HF44: 1.299 | HG44: 2 | HH44: 0.274 | HI44: 0.19 | HJ44: 0.809 | HK44: 0.914 | HL44: 0.873 | HM44: 0.894 | HN44: 0.707 | HO44: 0.247 | HP44: 0.442 | HQ44: 0.031 | HR44: 0.907 | HS44: 0.442 | HT44: 0.621 | HU44: 0.426 | HV44: 0.318 | HW44: 0.933 | HX44: NOK | HY44: NOK | HZ44: NOK | IA44: NOK | IB44: 95 | IC44: NOK | ID44: NOK | IE44: NOK | IF44: =IFERROR(RANK(HX44,HX:HX,1),"") | IG44: =IFERROR(RANK(HY44,HY:HY,1),"") | IH44: =IFERROR(RANK(HZ44,HZ:HZ,1),"") | II44: =IFERROR(RANK(IA44,IA:IA,1),"") | IJ44: =IFERROR(RANK(IB44,IB:IB,1),"") -> 182 | IK44: =IFERROR(RANK(IC44,IC:IC,1),"") | IL44: =IFERROR(RANK(ID44,ID:ID,1),"") | IM44: =IFERROR(RANK(IE44,IE:IE,1),"")
A45: 114606 | E45: FALSE | H45: 25 | J45: 40 - G | K45: TRUE | N45: Buy | R45: 0 | S45: 0.133 | T45: FALSE | U45: 43727 | V45: 0 | W45: 0 | X45: 0 | Y45: 0 | Z45: 0 | AA45: 0 | AB45: 20 | AC45: 10 | AD45: 150 | AE45: 43691 | AF45: 43727 | AH45: 0.133 | AI45: A | AJ45: 246 | AK45: 257 | AL45: 317 | AM45: 810 | AN45: 55 | AO45: 284 | AP45: 695 | AQ45: 597 | AR45: 687 | AS45: 600 | AT45: 353 | AU45: 993 | AV45: 841 | AW45: 196 | AX45: 691 | AY45: 78 | AZ45: 249 | BA45: 236 | BB45: 132 | BC45: 219 | BD45: 143 | BE45: 223 | BF45: 126 | BG45: 129 | BH45: 101 | BI45: 104 | BJ45: 125 | BK45: 122 | BL45: 108 | BM45: 25 | BN45: 25 | BO45: 25 | BP45: 25 | BQ45: 0 | BR45: 0 | BS45: 0 | BT45: 3 | BU45: 2 | BV45: 2 | BW45: 0 | BX45: 1 | BY45: 0 | BZ45: 3 | CA45: 2 | CB45: 1 | CC45: 2 | CD45: 2 | CE45: 1 | CF45: 1 | CG45: 48 | CH45: 80 | CI45: 92 | CJ45: 99 | CK45: 46 | CL45: 27 | CM45: 35 | CN45: 23 | CO45: 95 | CP45: 92 | CQ45: 81 | CR45: 68 | CS45: 0 | CT45: 20 | CU45: 55 | CV45: 61 | CW45: 43 | CX45: 32 | CY45: 29 | CZ45: 4 | DA45: 7 | DB45: 45 | DC45: 30 | DD45: 48 | DE45: 45 | DF45: 47 | DG45: 81 | DH45: 29 | DI45: 38 | DJ45: 46 | DK45: 69 | DL45: 41 | DM45: 375 | DN45: 611 | DO45: 199 | DP45: 310 | DQ45: 328 | DR45: 993 | DS45: 113 | DT45: 49 | DU45: 447 | DV45: 573 | DW45: 827 | DX45: 362 | DY45: 585 | DZ45: 992 | EA45: 396 | EB45: 342 | EC45: 280 | ED45: 662 | EE45: 713 | EF45: 693 | EG45: 989 | EH45: 640 | EI45: 585 | EJ45: 436 | EK45: 478 | EL45: 911 | EM45: 418 | EN45: 315 | EO45: 481 | EP45: 218 | EQ45: 442 | ER45: 151 | ES45: 733 | ET45: 311 | EU45: 872 | EV45: 522 | EW45: 428 | EX45: 805 | EY45: 956 | EZ45: 450 | FA45: 259 | FB45: 536 | FC45: 356 | FD45: 381 | FE45: 758 | FF45: 822 | FG45: 420 | FH45: 1 | FI45: 247 | FJ45: 50 | FK45: 50 | FL45: 50 | FM45: 50 | FN45: 46 | FO45: 22 | FP45: 35 | FQ45: 68 | FR45: 32 | FS45: 41 | FT45: 43 | FU45: 50 | FV45: 50 | FW45: 50 | FX45: 50 | FY45: 50 | FZ45: 50 | GA45: 50 | GB45: 50 | GC45: 50 | GD45: 50 | GE45: 26 | GF45: 61 | GG45: 59 | GH45: 30 | GI45: 39 | GJ45: 28 | GK45: 66 | GL45: 50 | GM45: 50 | GN45: 50 | GO45: 50 | GP45: 50 | GQ45: 50 | GR45: 0.896 | GS45: 0.842 | GT45: 0.78 | GU45: 1.162 | GV45: 1.213 | GW45: 1.193 | GX45: 1.489 | GY45: 1.14 | GZ45: 1.085 | HA45: 0.936 | HB45: 0.978 | HC45: 1.411 | HD45: 0.918 | HE45: 0.815 | HF45: 0.981 | HG45: 1 | HH45: 0.442 | HI45: 0.151 | HJ45: 0.733 | HK45: 0.311 | HL45: 0.872 | HM45: 0.522 | HN45: 0.428 | HO45: 0.805 | HP45: 0.956 | HQ45: 0.45 | HR45: 0.259 | HS45: 0.536 | HT45: 0.356 | HU45: 0.381 | HV45: 0.758 | HW45: 0.822 | HX45: NOK | HY45: NOK | HZ45: NOK | IA45: NOK | IB45: NOK | IC45: NOK | ID45: NOK | IE45: NOK | IF45: =IFERROR(RANK(HX45,HX:HX,1),"") | IG45: =IFERROR(RANK(HY45,HY:HY,1),"") | IH45: =IFERROR(RANK(HZ45,HZ:HZ,1),"") | II45: =IFERROR(RANK(IA45,IA:IA,1),"") | IJ45: =IFERROR(RANK(IB45,IB:IB,1),"") | IK45: =IFERROR(RANK(IC45,IC:IC,1),"") | IL45: =IFERROR(RANK(ID45,ID:ID,1),"") | IM45: =IFERROR(RANK(IE45,IE:IE,1),"")
A46: 114607 | E46: FALSE | H46: 25 | J46: 40 - G | K46: TRUE | N46: Buy | R46: 0 | S46: 0.208 | T46: FALSE | U46: 43727 | V46: 0 | W46: 0 | X46: 0 | Y46: 0 | Z46: 0 | AA46: 0 | AB46: 20 | AC46: 10 | AD46: 96 | AE46: 43691 | AF46: 43727 | AH46: 0.208 | AI46: A | AJ46: 388 | AK46: 797 | AL46: 115 | AM46: 680 | AN46: 86 | AO46: 68 | AP46: 613 | AQ46: 641 | AR46: 1000 | AS46: 300 | AT46: 506 | AU46: 449 | AV46: 799 | AW46: 189 | AX46: 201 | AY46: 781 | AZ46: 104 | BA46: 198 | BB46: 208 | BC46: 162 | BD46: 209 | BE46: 212 | BF46: 114 | BG46: 128 | BH46: 106 | BI46: 107 | BJ46: 106 | BK46: 107 | BL46: 115 | BM46: 25 | BN46: 25 | BO46: 25 | BP46: 25 | BQ46: 0 | BR46: 0 | BS46: 3 | BT46: 1 | BU46: 1 | BV46: 1 | BW46: 0 | BX46: 3 | BY46: 0 | BZ46: 0 | CA46: 3 | CB46: 3 | CC46: 2 | CD46: 3 | CE46: 2 | CF46: 1 | CG46: 54 | CH46: 91 | CI46: 1 | CJ46: 91 | CK46: 38 | CL46: 80 | CM46: 29 | CN46: 58 | CO46: 83 | CP46: 40 | CQ46: 17 | CR46: 77 | CS46: 49 | CT46: 24 | CU46: 64 | CV46: 48 | CW46: 4 | CX46: 71 | CY46: 38 | CZ46: 59 | DA46: 55 | DB46: 80 | DC46: 93 | DD46: 5 | DE46: 77 | DF46: 63 | DG46: 93 | DH46: 36 | DI46: 47 | DJ46: 51 | DK46: 92 | DL46: 88 | DM46: 291 | DN46: 484 | DO46: 26 | DP46: 612 | DQ46: 366 | DR46: 449 | DS46: 982 | DT46: 12 | DU46: 221 | DV46: 197 | DW46: 836 | DX46: 918 | DY46: 255 | DZ46: 275 | EA46: 163 | EB46: 757 | EC46: 974 | ED46: 125 | EE46: 816 | EF46: 886 | EG46: 662 | EH46: 610 | EI46: 65 | EJ46: 148 | EK46: 764 | EL46: 597 | EM46: 637 | EN46: 228 | EO46: 265 | EP46: 461 | EQ46: 716 | ER46: 519 | ES46: 504 | ET46: 713 | EU46: 524 | EV46: 534 | EW46: 372 | EX46: 839 | EY46: 627 | EZ46: 19 | FA46: 900 | FB46: 460 | FC46: 198 | FD46: 736 | FE46: 673 | FF46: 217 | FG46: 689 | FH46: 53 | FI46: 452 | FJ46: 50 | FK46: 50 | FL46: 50 | FM46: 50 | FN46: 25 | FO46: 27 | FP46: 59 | FQ46: 24 | FR46: 56 | FS46: 65 | FT46: 49 | FU46: 50 | FV46: 50 | FW46: 50 | FX46: 50 | FY46: 50 | FZ46: 50 | GA46: 50 | GB46: 50 | GC46: 50 | GD46: 50 | GE46: 49 | GF46: 22 | GG46: 25 | GH46: 42 | GI46: 67 | GJ46: 46 | GK46: 35 | GL46: 50 | GM46: 50 | GN46: 50 | GO46: 50 | GP46: 50 | GQ46: 50 | GR46: 0.663 | GS46: 1.257 | GT46: 1.474 | GU46: 0.625 | GV46: 1.316 | GW46: 1.386 | GX46: 1.162 | GY46: 1.11 | GZ46: 0.565 | HA46: 0.648 | HB46: 1.264 | HC46: 1.097 | HD46: 1.137 | HE46: 0.728 | HF46: 0.765 | HG46: 1 | HH46: 0.716 | HI46: 0.519 | HJ46: 0.504 | HK46: 0.713 | HL46: 0.524 | HM46: 0.534 | HN46: 0.372 | HO46: 0.839 | HP46: 0.627 | HQ46: 0.019 | HR46: 0.9 | HS46: 0.46 | HT46: 0.198 | HU46: 0.736 | HV46: 0.673 | HW46: 0.217 | HX46: NOK | HY46: NOK | HZ46: NOK | IA46: NOK | IB46: NOK | IC46: NOK | ID46: NOK | IE46: NOK | IF46: =IFERROR(RANK(HX46,HX:HX,1),"") | IG46: =IFERROR(RANK(HY46,HY:HY,1),"") | IH46: =IFERROR(RANK(HZ46,HZ:HZ,1),"") | II46: =IFERROR(RANK(IA46,IA:IA,1),"") | IJ46: =IFERROR(RANK(IB46,IB:IB,1),"") | IK46: =IFERROR(RANK(IC46,IC:IC,1),"") | IL46: =IFERROR(RANK(ID46,ID:ID,1),"") | IM46: =IFERROR(RANK(IE46,IE:IE,1),"")
A47: 114608 | E47: FALSE | H47: 25 | J47: 40 - G | K47: TRUE | N47: Buy | R47: 0 | S47: 0.058 | T47: FALSE | U47: 43727 | V47: 0 | W47: 0 | X47: 0.12097 | Y47: 0 | Z47: 0 | AA47: 0 | AB47: 10 | AC47: 5 | AD47: 172 | AE47: 43691 | AF47: 43727 | AH47: 0.058 | AI47: A | AJ47: 332 | AK47: 625 | AL47: 519 | AM47: 697 | AN47: 712 | AO47: 732 | AP47: 933 | AQ47: 579 | AR47: 989 | AS47: 546 | AT47: 229 | AU47: 718 | AV47: 787 | AW47: 38 | AX47: 549 | AY47: 565 | AZ47: 239 | BA47: 107 | BB47: 156 | BC47: 247 | BD47: 179 | BE47: 202 | BF47: 121 | BG47: 100 | BH47: 113 | BI47: 108 | BJ47: 110 | BK47: 104 | BL47: 117 | BM47: 25 | BN47: 25 | BO47: 25 | BP47: 25 | BQ47: 0 | BR47: 2 | BS47: 3 | BT47: 2 | BU47: 3 | BV47: 0 | BW47: 0 | BX47: 1 | BY47: 0 | BZ47: 0 | CA47: 2 | CB47: 3 | CC47: 1 | CD47: 1 | CE47: 0 | CF47: 2 | CG47: 20 | CH47: 42 | CI47: 90 | CJ47: 0 | CK47: 67 | CL47: 22 | CM47: 14 | CN47: 31 | CO47: 1 | CP47: 1 | CQ47: 74 | CR47: 98 | CS47: 24 | CT47: 54 | CU47: 93 | CV47: 19 | CW47: 96 | CX47: 53 | CY47: 55 | CZ47: 48 | DA47: 55 | DB47: 24 | DC47: 69 | DD47: 28 | DE47: 79 | DF47: 86 | DG47: 82 | DH47: 19 | DI47: 21 | DJ47: 23 | DK47: 29 | DL47: 0 | DM47: 528 | DN47: 264 | DO47: 420 | DP47: 167 | DQ47: 441 | DR47: 214 | DS47: 610 | DT47: 352 | DU47: 756 | DV47: 551 | DW47: 499 | DX47: 151 | DY47: 538 | DZ47: 55 | EA47: 810 | EB47: 412 | EC47: 379 | ED47: 862 | EE47: 890 | EF47: 824 | EG47: 979 | EH47: 515 | EI47: 253 | EJ47: 510 | EK47: 304 | EL47: 873 | EM47: 970 | EN47: 426 | EO47: 53 | EP47: 270 | EQ47: 77 | ER47: 269 | ES47: 504 | ET47: 71 | EU47: 138 | EV47: 745 | EW47: 21 | EX47: 844 | EY47: 993 | EZ47: 341 | FA47: 541 | FB47: 468 | FC47: 11 | FD47: 887 | FE47: 729 | FF47: 240 | FG47: 819 | FH47: 363 | FI47: 723 | FJ47: 50 | FK47: 50 | FL47: 50 | FM47: 50 | FN47: 21 | FO47: 26 | FP47: 31 | FQ47: 56 | FR47: 21 | FS47: 63 | FT47: 69 | FU47: 50 | FV47: 50 | FW47: 50 | FX47: 50 | FY47: 50 | FZ47: 50 | GA47: 50 | GB47: 50 | GC47: 50 | GD47: 50 | GE47: 28 | GF47: 45 | GG47: 40 | GH47: 21 | GI47: 45 | GJ47: 65 | GK47: 54 | GL47: 50 | GM47: 50 | GN47: 50 | GO47: 50 | GP47: 50 | GQ47: 50 | GR47: 1.31 | GS47: 0.912 | GT47: 0.879 | GU47: 1.362 | GV47: 1.39 | GW47: 1.324 | GX47: 1.479 | GY47: 1.015 | GZ47: 0.753 | HA47: 1.01 | HB47: 0.804 | HC47: 1.373 | HD47: 1.47 | HE47: 0.926 | HF47: 0.553 | HG47: 2 | HH47: 0.077 | HI47: 0.269 | HJ47: 0.504 | HK47: 0.071 | HL47: 0.138 | HM47: 0.745 | HN47: 0.021 | HO47: 0.844 | HP47: 0.993 | HQ47: 0.341 | HR47: 0.541 | HS47: 0.468 | HT47: 0.011 | HU47: 0.887 | HV47: 0.729 | HW47: 0.24 | HX47: NOK | HY47: NOK | HZ47: NOK | IA47: NOK | IB47: 0 | IC47: 0.12097 | ID47: NOK | IE47: NOK | IF47: =IFERROR(RANK(HX47,HX:HX,1),"") | IG47: =IFERROR(RANK(HY47,HY:HY,1),"") | IH47: =IFERROR(RANK(HZ47,HZ:HZ,1),"") | II47: =IFERROR(RANK(IA47,IA:IA,1),"") | IJ47: =IFERROR(RANK(IB47,IB:IB,1),"") -> 1 | IK47: =IFERROR(RANK(IC47,IC:IC,1),"") -> 23 | IL47: =IFERROR(RANK(ID47,ID:ID,1),"") | IM47: =IFERROR(RANK(IE47,IE:IE,1),"")
A48: 114609 | E48: FALSE | H48: 25 | J48: 50 - B | K48: TRUE | N48: Buy | R48: 0 | S48: 0.125 | T48: FALSE | U48: 43727 | V48: 0 | W48: 0 | X48: 0.04839 | Y48: 0 | Z48: 0 | AA48: 0 | AB48: 10 | AC48: 5 | AD48: 80 | AE48: 43691 | AF48: 43727 | AH48: 0.125 | AI48: A | AJ48: 242 | AK48: 956 | AL48: 684 | AM48: 595 | AN48: 269 | AO48: 125 | AP48: 317 | AQ48: 948 | AR48: 280 | AS48: 194 | AT48: 421 | AU48: 475 | AV48: 111 | AW48: 852 | AX48: 511 | AY48: 347 | AZ48: 54 | BA48: 59 | BB48: 78 | BC48: 58 | BD48: 51 | BE48: 78 | BF48: 100 | BG48: 100 | BH48: 100 | BI48: 100 | BJ48: 100 | BK48: 100 | BL48: 100 | BM48: 25 | BN48: 25 | BO48: 25 | BP48: 25 | BQ48: 1 | BR48: 3 | BS48: 2 | BT48: 2 | BU48: 3 | BV48: 0 | BW48: 0 | BX48: 0 | BY48: 3 | BZ48: 1 | CA48: 1 | CB48: 1 | CC48: 0 | CD48: 2 | CE48: 1 | CF48: 0 | CG48: 18 | CH48: 31 | CI48: 73 | CJ48: 36 | CK48: 66 | CL48: 82 | CM48: 29 | CN48: 98 | CO48: 86 | CP48: 45 | CQ48: 85 | CR48: 75 | CS48: 71 | CT48: 66 | CU48: 21 | CV48: 85 | CW48: 73 | CX48: 47 | CY48: 60 | CZ48: 10 | DA48: 29 | DB48: 61 | DC48: 47 | DD48: 59 | DE48: 76 | DF48: 87 | DG48: 85 | DH48: 90 | DI48: 30 | DJ48: 28 | DK48: 42 | DL48: 67 | DM48: 754 | DN48: 439 | DO48: 842 | DP48: 903 | DQ48: 340 | DR48: 8 | DS48: 311 | DT48: 269 | DU48: 900 | DV48: 645 | DW48: 942 | DX48: 620 | DY48: 142 | DZ48: 558 | EA48: 619 | EB48: 119 | EC48: 868 | ED48: 767 | EE48: 956 | EF48: 745 | EG48: 237 | EH48: 199 | EI48: 581 | EJ48: 884 | EK48: 127 | EL48: 900 | EM48: 269 | EN48: 71 | EO48: 934 | EP48: 497 | EQ48: 231 | ER48: 22 | ES48: 18 | ET48: 43 | EU48: 804 | EV48: 385 | EW48: 585 | EX48: 674 | EY48: 413 | EZ48: 417 | FA48: 260 | FB48: 382 | FC48: 764 | FD48: 481 | FE48: 82 | FF48: 753 | FG48: 369 | FH48: 423 | FI48: 919 | FJ48: 50 | FK48: 50 | FL48: 50 | FM48: 50 | FN48: 50 | FO48: 53 | FP48: 34 | FQ48: 73 | FR48: 30 | FS48: 64 | FT48: 67 | FU48: 50 | FV48: 50 | FW48: 50 | FX48: 50 | FY48: 50 | FZ48: 50 | GA48: 50 | GB48: 50 | GC48: 50 | GD48: 50 | GE48: 38 | GF48: 63 | GG48: 71 | GH48: 27 | GI48: 42 | GJ48: 61 | GK48: 28 | GL48: 50 | GM48: 50 | GN48: 50 | GO48: 50 | GP48: 50 | GQ48: 50 | GR48: 1.119 | GS48: 0.619 | GT48: 1.368 | GU48: 1.267 | GV48: 1.456 | GW48: 1.245 | GX48: 0.737 | GY48: 0.699 | GZ48: 1.081 | HA48: 1.384 | HB48: 0.627 | HC48: 1.4 | HD48: 0.769 | HE48: 0.571 | HF48: 1.434 | HG48: 1 | HH48: 0.231 | HI48: 0.022 | HJ48: 0.018 | HK48: 0.043 | HL48: 0.804 | HM48: 0.385 | HN48: 0.585 | HO48: 0.674 | HP48: 0.413 | HQ48: 0.417 | HR48: 0.26 | HS48: 0.382 | HT48: 0.764 | HU48: 0.481 | HV48: 0.082 | HW48: 0.753 | HX48: NOK | HY48: NOK | HZ48: NOK | IA48: NOK | IB48: NOK | IC48: NOK | ID48: NOK | IE48: NOK | IF48: =IFERROR(RANK(HX48,HX:HX,1),"") | IG48: =IFERROR(RANK(HY48,HY:HY,1),"") | IH48: =IFERROR(RANK(HZ48,HZ:HZ,1),"") | II48: =IFERROR(RANK(IA48,IA:IA,1),"") | IJ48: =IFERROR(RANK(IB48,IB:IB,1),"") | IK48: =IFERROR(RANK(IC48,IC:IC,1),"") | IL48: =IFERROR(RANK(ID48,ID:ID,1),"") | IM48: =IFERROR(RANK(IE48,IE:IE,1),"")
A49: 114610 | E49: FALSE | H49: 25 | J49: 40 - G | K49: TRUE | N49: Buy | R49: 0 | S49: 0.042 | T49: FALSE | U49: 43727 | V49: 0 | W49: 0 | X49: 0 | Y49: 0 | Z49: 0 | AA49: 0 | AB49: 10 | AC49: 5 | AD49: 238 | AE49: 43691 | AF49: 43727 | AH49: 0.042 | AI49: A | AJ49: 316 | AK49: 366 | AL49: 727 | AM49: 849 | AN49: 0 | AO49: 227 | AP49: 58 | AQ49: 899 | AR49: 162 | AS49: 180 | AT49: 960 | AU49: 862 | AV49: 240 | AW49: 355 | AX49: 20 | AY49: 720 | AZ49: 78 | BA49: 66 | BB49: 83 | BC49: 92 | BD49: 90 | BE49: 82 | BF49: 100 | BG49: 100 | BH49: 100 | BI49: 100 | BJ49: 100 | BK49: 100 | BL49: 100 | BM49: 25 | BN49: 25 | BO49: 25 | BP49: 25 | BQ49: 3 | BR49: 1 | BS49: 0 | BT49: 0 | BU49: 0 | BV49: 1 | BW49: 2 | BX49: 2 | BY49: 2 | BZ49: 1 | CA49: 2 | CB49: 0 | CC49: 2 | CD49: 3 | CE49: 0 | CF49: 0 | CG49: 7 | CH49: 69 | CI49: 34 | CJ49: 18 | CK49: 46 | CL49: 13 | CM49: 1 | CN49: 59 | CO49: 72 | CP49: 52 | CQ49: 52 | CR49: 53 | CS49: 89 | CT49: 6 | CU49: 36 | CV49: 83 | CW49: 65 | CX49: 66 | CY49: 61 | CZ49: 1 | DA49: 86 | DB49: 60 | DC49: 10 | DD49: 85 | DE49: 98 | DF49: 13 | DG49: 92 | DH49: 41 | DI49: 70 | DJ49: 52 | DK49: 62 | DL49: 26 | DM49: 266 | DN49: 124 | DO49: 977 | DP49: 572 | DQ49: 328 | DR49: 374 | DS49: 276 | DT49: 188 | DU49: 699 | DV49: 94 | DW49: 823 | DX49: 635 | DY49: 143 | DZ49: 779 | EA49: 780 | EB49: 985 | EC49: 846 | ED49: 538 | EE49: 96 | EF49: 292 | EG49: 607 | EH49: 186 | EI49: 72 | EJ49: 784 | EK49: 438 | EL49: 387 | EM49: 380 | EN49: 825 | EO49: 211 | EP49: 661 | EQ49: 448 | ER49: 183 | ES49: 13 | ET49: 212 | EU49: 859 | EV49: 371 | EW49: 713 | EX49: 783 | EY49: 448 | EZ49: 154 | FA49: 696 | FB49: 180 | FC49: 703 | FD49: 987 | FE49: 391 | FF49: 681 | FG49: 133 | FH49: 191 | FI49: 413 | FJ49: 50 | FK49: 50 | FL49: 50 | FM49: 50 | FN49: 21 | FO49: 57 | FP49: 61 | FQ49: 42 | FR49: 22 | FS49: 32 | FT49: 59 | FU49: 50 | FV49: 50 | FW49: 50 | FX49: 50 | FY49: 50 | FZ49: 50 | GA49: 50 | GB49: 50 | GC49: 50 | GD49: 50 | GE49: 29 | GF49: 30 | GG49: 47 | GH49: 42 | GI49: 63 | GJ49: 48 | GK49: 41 | GL49: 50 | GM49: 50 | GN49: 50 | GO49: 50 | GP49: 50 | GQ49: 50 | GR49: 1.28 | GS49: 1.485 | GT49: 1.346 | GU49: 1.038 | GV49: 0.596 | GW49: 0.792 | GX49: 1.107 | GY49: 0.686 | GZ49: 0.572 | HA49: 1.284 | HB49: 0.938 | HC49: 0.887 | HD49: 0.88 | HE49: 1.325 | HF49: 0.711 | HG49: 2 | HH49: 0.448 | HI49: 0.183 | HJ49: 0.013 | HK49: 0.212 | HL49: 0.859 | HM49: 0.371 | HN49: 0.713 | HO49: 0.783 | HP49: 0.448 | HQ49: 0.154 | HR49: 0.696 | HS49: 0.18 | HT49: 0.703 | HU49: 0.987 | HV49: 0.391 | HW49: 0.681 | HX49: NOK | HY49: NOK | HZ49: NOK | IA49: NOK | IB49: 26 | IC49: NOK | ID49: NOK | IE49: NOK | IF49: =IFERROR(RANK(HX49,HX:HX,1),"") | IG49: =IFERROR(RANK(HY49,HY:HY,1),"") | IH49: =IFERROR(RANK(HZ49,HZ:HZ,1),"") | II49: =IFERROR(RANK(IA49,IA:IA,1),"") | IJ49: =IFERROR(RANK(IB49,IB:IB,1),"") -> 62 | IK49: =IFERROR(RANK(IC49,IC:IC,1),"") | IL49: =IFERROR(RANK(ID49,ID:ID,1),"") | IM49: =IFERROR(RANK(IE49,IE:IE,1),"")
A50: 114611 | E50: FALSE | H50: 40 | J50: 40 - G | K50: TRUE | N50: Buy | R50: 52.82 | S50: 0.017 | T50: FALSE | U50: 43748 | V50: 0 | W50: 0 | X50: 0 | Y50: 0 | Z50: 0 | AA50: 0 | AB50: 10 | AC50: 5 | AD50: 588 | AE50: 43691 | AF50: 43748 | AH50: 0.017 | AI50: A | AJ50: 195 | AK50: 595 | AL50: 90 | AM50: 674 | AN50: 847 | AO50: 192 | AP50: 683 | AQ50: 871 | AR50: 364 | AS50: 394 | AT50: 256 | AU50: 331 | AV50: 724 | AW50: 969 | AX50: 15 | AY50: 472 | AZ50: 62 | BA50: 60 | BB50: 61 | BC50: 86 | BD50: 89 | BE50: 95 | BF50: 100 | BG50: 100 | BH50: 100 | BI50: 100 | BJ50: 100 | BK50: 100 | BL50: 100 | BM50: 25 | BN50: 25 | BO50: 25 | BP50: 25 | BQ50: 3 | BR50: 3 | BS50: 2 | BT50: 1 | BU50: 3 | BV50: 0 | BW50: 0 | BX50: 1 | BY50: 3 | BZ50: 1 | CA50: 2 | CB50: 2 | CC50: 0 | CD50: 2 | CE50: 3 | CF50: 2 | CG50: 79 | CH50: 41 | CI50: 93 | CJ50: 73 | CK50: 66 | CL50: 77 | CM50: 7 | CN50: 23 | CO50: 8 | CP50: 29 | CQ50: 54 | CR50: 53 | CS50: 89 | CT50: 42 | CU50: 12 | CV50: 73 | CW50: 77 | CX50: 68 | CY50: 29 | CZ50: 5 | DA50: 47 | DB50: 18 | DC50: 90 | DD50: 47 | DE50: 17 | DF50: 76 | DG50: 75 | DH50: 42 | DI50: 92 | DJ50: 33 | DK50: 95 | DL50: 42 | DM50: 589 | DN50: 441 | DO50: 152 | DP50: 677 | DQ50: 951 | DR50: 7 | DS50: 464 | DT50: 225 | DU50: 996 | DV50: 481 | DW50: 30 | DX50: 170 | DY50: 879 | DZ50: 499 | EA50: 929 | EB50: 488 | EC50: 894 | ED50: 470 | EE50: 320 | EF50: 31 | EG50: 358 | EH50: 869 | EI50: 862 | EJ50: 817 | EK50: 197 | EL50: 617 | EM50: 671 | EN50: 191 | EO50: 908 | EP50: 628 | EQ50: 228 | ER50: 208 | ES50: 595 | ET50: 348 | EU50: 864 | EV50: 653 | EW50: 719 | EX50: 443 | EY50: 292 | EZ50: 211 | FA50: 76 | FB50: 464 | FC50: 165 | FD50: 516 | FE50: 327 | FF50: 744 | FG50: 148 | FH50: 559 | FI50: 995 | FJ50: 50 | FK50: 50 | FL50: 50 | FM50: 50 | FN50: 38 | FO50: 41 | FP50: 42 | FQ50: 72 | FR50: 58 | FS50: 36 | FT50: 50 | FU50: 50 | FV50: 50 | FW50: 50 | FX50: 50 | FY50: 50 | FZ50: 50 | GA50: 50 | GB50: 50 | GC50: 50 | GD50: 50 | GE50: 26 | GF50: 31 | GG50: 46 | GH50: 67 | GI50: 28 | GJ50: 63 | GK50: 44 | GL50: 50 | GM50: 50 | GN50: 50 | GO50: 50 | GP50: 50 | GQ50: 50 | GR50: 1.429 | GS50: 0.988 | GT50: 1.394 | GU50: 0.97 | GV50: 0.82 | GW50: 0.531 | GX50: 0.858 | GY50: 1.369 | GZ50: 1.362 | HA50: 1.317 | HB50: 0.697 | HC50: 1.117 | HD50: 1.171 | HE50: 0.691 | HF50: 1.408 | HG50: 2 | HH50: 0.228 | HI50: 0.208 | HJ50: 0.595 | HK50: 0.348 | HL50: 0.864 | HM50: 0.653 | HN50: 0.719 | HO50: 0.443 | HP50: 0.292 | HQ50: 0.211 | HR50: 0.076 | HS50: 0.464 | HT50: 0.165 | HU50: 0.516 | HV50: 0.327 | HW50: 0.744 | HX50: NOK | HY50: NOK | HZ50: NOK | IA50: NOK | IB50: 42 | IC50: NOK | ID50: NOK | IE50: NOK | IF50: =IFERROR(RANK(HX50,HX:HX,1),"") | IG50: =IFERROR(RANK(HY50,HY:HY,1),"") | IH50: =IFERROR(RANK(HZ50,HZ:HZ,1),"") | II50: =IFERROR(RANK(IA50,IA:IA,1),"") | IJ50: =IFERROR(RANK(IB50,IB:IB,1),"") -> 91 | IK50: =IFERROR(RANK(IC50,IC:IC,1),"") | IL50: =IFERROR(RANK(ID50,ID:ID,1),"") | IM50: =IFERROR(RANK(IE50,IE:IE,1),"")
A51: 114613 | E51: FALSE | H51: 40 | J51: 40 - G | K51: TRUE | N51: Buy | R51: 0 | S51: 0.05 | T51: FALSE | U51: 43748 | V51: 0 | W51: 0 | X51: 0.28226 | Y51: 0 | Z51: 0 | AA51: 0 | AB51: 20 | AC51: 10 | AD51: 400 | AE51: 43691 | AF51: 43748 | AH51: 0.05 | AI51: A | AJ51: 582 | AK51: 727 | AL51: 140 | AM51: 918 | AN51: 955 | AO51: 851 | AP51: 567 | AQ51: 216 | AR51: 93 | AS51: 585 | AT51: 739 | AU51: 452 | AV51: 725 | AW51: 559 | AX51: 106 | AY51: 555 | AZ51: 100 | BA51: 59 | BB51: 71 | BC51: 93 | BD51: 53 | BE51: 78 | BF51: 100 | BG51: 100 | BH51: 100 | BI51: 100 | BJ51: 100 | BK51: 100 | BL51: 100 | BM51: 25 | BN51: 25 | BO51: 25 | BP51: 25 | BQ51: 2 | BR51: 3 | BS51: 1 | BT51: 0 | BU51: 1 | BV51: 1 | BW51: 1 | BX51: 3 | BY51: 1 | BZ51: 2 | CA51: 1 | CB51: 2 | CC51: 3 | CD51: 3 | CE51: 0 | CF51: 3 | CG51: 37 | CH51: 58 | CI51: 9 | CJ51: 21 | CK51: 94 | CL51: 62 | CM51: 19 | CN51: 66 | CO51: 58 | CP51: 14 | CQ51: 50 | CR51: 24 | CS51: 33 | CT51: 69 | CU51: 3 | CV51: 53 | CW51: 4 | CX51: 36 | CY51: 61 | CZ51: 13 | DA51: 67 | DB51: 91 | DC51: 68 | DD51: 73 | DE51: 84 | DF51: 42 | DG51: 46 | DH51: 35 | DI51: 97 | DJ51: 71 | DK51: 52 | DL51: 94 | DM51: 15 | DN51: 12 | DO51: 249 | DP51: 572 | DQ51: 729 | DR51: 189 | DS51: 542 | DT51: 770 | DU51: 338 | DV51: 583 | DW51: 768 | DX51: 232 | DY51: 958 | DZ51: 373 | EA51: 503 | EB51: 942 | EC51: 887 | ED51: 603 | EE51: 96 | EF51: 204 | EG51: 230 | EH51: 532 | EI51: 149 | EJ51: 356 | EK51: 98 | EL51: 970 | EM51: 600 | EN51: 187 | EO51: 250 | EP51: 116 | EQ51: 123 | ER51: 294 | ES51: 391 | ET51: 178 | EU51: 618 | EV51: 184 | EW51: 116 | EX51: 507 | EY51: 93 | EZ51: 247 | FA51: 268 | FB51: 689 | FC51: 335 | FD51: 475 | FE51: 350 | FF51: 199 | FG51: 422 | FH51: 774 | FI51: 876 | FJ51: 50 | FK51: 50 | FL51: 50 | FM51: 50 | FN51: 39 | FO51: 22 | FP51: 70 | FQ51: 35 | FR51: 31 | FS51: 61 | FT51: 37 | FU51: 50 | FV51: 50 | FW51: 50 | FX51: 50 | FY51: 50 | FZ51: 50 | GA51: 50 | GB51: 50 | GC51: 50 | GD51: 50 | GE51: 45 | GF51: 24 | GG51: 46 | GH51: 28 | GI51: 21 | GJ51: 34 | GK51: 23 | GL51: 50 | GM51: 50 | GN51: 50 | GO51: 50 | GP51: 50 | GQ51: 50 | GR51: 1.003 | GS51: 1.442 | GT51: 1.387 | GU51: 1.103 | GV51: 0.596 | GW51: 0.704 | GX51: 0.73 | GY51: 1.032 | GZ51: 0.649 | HA51: 0.856 | HB51: 0.598 | HC51: 1.47 | HD51: 1.1 | HE51: 0.687 | HF51: 0.75 | HG51: 2 | HH51: 0.123 | HI51: 0.294 | HJ51: 0.391 | HK51: 0.178 | HL51: 0.618 | HM51: 0.184 | HN51: 0.116 | HO51: 0.507 | HP51: 0.093 | HQ51: 0.247 | HR51: 0.268 | HS51: 0.689 | HT51: 0.335 | HU51: 0.475 | HV51: 0.35 | HW51: 0.199 | HX51: NOK | HY51: NOK | HZ51: NOK | IA51: NOK | IB51: 94 | IC51: 0.28226 | ID51: NOK | IE51: NOK | IF51: =IFERROR(RANK(HX51,HX:HX,1),"") | IG51: =IFERROR(RANK(HY51,HY:HY,1),"") | IH51: =IFERROR(RANK(HZ51,HZ:HZ,1),"") | II51: =IFERROR(RANK(IA51,IA:IA,1),"") | IJ51: =IFERROR(RANK(IB51,IB:IB,1),"") -> 180 | IK51: =IFERROR(RANK(IC51,IC:IC,1),"") -> 39 | IL51: =IFERROR(RANK(ID51,ID:ID,1),"") | IM51: =IFERROR(RANK(IE51,IE:IE,1),"")
A52: 114623 | E52: FALSE | H52: 40 | J52: 40 - G | K52: TRUE | N52: Buy | R52: 0 | S52: 0.008 | T52: FALSE | U52: 43748 | V52: 0 | W52: 0 | X52: 0 | Y52: 0 | Z52: 0 | AA52: 0 | AB52: 20 | AC52: 10 | AD52: 2500 | AE52: 43691 | AF52: 43748 | AH52: 0.008 | AI52: A | AJ52: 122 | AK52: 594 | AL52: 849 | AM52: 932 | AN52: 381 | AO52: 580 | AP52: 426 | AQ52: 41 | AR52: 234 | AS52: 270 | AT52: 375 | AU52: 595 | AV52: 231 | AW52: 57 | AX52: 869 | AY52: 918 | AZ52: 73 | BA52: 78 | BB52: 62 | BC52: 73 | BD52: 90 | BE52: 95 | BF52: 100 | BG52: 100 | BH52: 100 | BI52: 100 | BJ52: 100 | BK52: 100 | BL52: 100 | BM52: 25 | BN52: 25 | BO52: 25 | BP52: 25 | BQ52: 1 | BR52: 0 | BS52: 2 | BT52: 2 | BU52: 0 | BV52: 3 | BW52: 0 | BX52: 2 | BY52: 1 | BZ52: 1 | CA52: 0 | CB52: 2 | CC52: 3 | CD52: 0 | CE52: 2 | CF52: 2 | CG52: 13 | CH52: 77 | CI52: 65 | CJ52: 56 | CK52: 66 | CL52: 49 | CM52: 88 | CN52: 76 | CO52: 40 | CP52: 55 | CQ52: 70 | CR52: 95 | CS52: 11 | CT52: 54 | CU52: 36 | CV52: 8 | CW52: 59 | CX52: 90 | CY52: 84 | CZ52: 61 | DA52: 37 | DB52: 100 | DC52: 63 | DD52: 100 | DE52: 14 | DF52: 78 | DG52: 41 | DH52: 87 | DI52: 72 | DJ52: 85 | DK52: 0 | DL52: 11 | DM52: 513 | DN52: 783 | DO52: 428 | DP52: 459 | DQ52: 205 | DR52: 457 | DS52: 483 | DT52: 133 | DU52: 50 | DV52: 270 | DW52: 358 | DX52: 994 | DY52: 639 | DZ52: 627 | EA52: 354 | EB52: 477 | EC52: 710 | ED52: 922 | EE52: 193 | EF52: 269 | EG52: 579 | EH52: 942 | EI52: 946 | EJ52: 272 | EK52: 626 | EL52: 919 | EM52: 309 | EN52: 154 | EO52: 743 | EP52: 61 | EQ52: 340 | ER52: 710 | ES52: 813 | ET52: 605 | EU52: 509 | EV52: 712 | EW52: 994 | EX52: 990 | EY52: 158 | EZ52: 653 | FA52: 23 | FB52: 658 | FC52: 172 | FD52: 269 | FE52: 765 | FF52: 407 | FG52: 122 | FH52: 87 | FI52: 733 | FJ52: 50 | FK52: 50 | FL52: 50 | FM52: 50 | FN52: 35 | FO52: 22 | FP52: 51 | FQ52: 48 | FR52: 26 | FS52: 74 | FT52: 27 | FU52: 50 | FV52: 50 | FW52: 50 | FX52: 50 | FY52: 50 | FZ52: 50 | GA52: 50 | GB52: 50 | GC52: 50 | GD52: 50 | GE52: 46 | GF52: 53 | GG52: 24 | GH52: 40 | GI52: 55 | GJ52: 43 | GK52: 55 | GL52: 50 | GM52: 50 | GN52: 50 | GO52: 50 | GP52: 50 | GQ52: 50 | GR52: 0.854 | GS52: 0.977 | GT52: 1.21 | GU52: 1.422 | GV52: 0.693 | GW52: 0.769 | GX52: 1.079 | GY52: 1.442 | GZ52: 1.446 | HA52: 0.772 | HB52: 1.126 | HC52: 1.419 | HD52: 0.809 | HE52: 0.654 | HF52: 1.243 | HG52: 2 | HH52: 0.34 | HI52: 0.71 | HJ52: 0.813 | HK52: 0.605 | HL52: 0.509 | HM52: 0.712 | HN52: 0.994 | HO52: 0.99 | HP52: 0.158 | HQ52: 0.653 | HR52: 0.023 | HS52: 0.658 | HT52: 0.172 | HU52: 0.269 | HV52: 0.765 | HW52: 0.407 | HX52: NOK | HY52: NOK | HZ52: NOK | IA52: NOK | IB52: 11 | IC52: NOK | ID52: NOK | IE52: NOK | IF52: =IFERROR(RANK(HX52,HX:HX,1),"") | IG52: =IFERROR(RANK(HY52,HY:HY,1),"") | IH52: =IFERROR(RANK(HZ52,HZ:HZ,1),"") | II52: =IFERROR(RANK(IA52,IA:IA,1),"") | IJ52: =IFERROR(RANK(IB52,IB:IB,1),"") -> 27 | IK52: =IFERROR(RANK(IC52,IC:IC,1),"") | IL52: =IFERROR(RANK(ID52,ID:ID,1),"") | IM52: =IFERROR(RANK(IE52,IE:IE,1),"")
A53: 114624 | E53: FALSE | H53: 40 | J53: 40 - G | K53: TRUE | N53: Buy | R53: 0 | S53: 0.233 | T53: FALSE | U53: 43748 | V53: 0 | W53: 0 | X53: 0 | Y53: 0 | Z53: 0 | AA53: 20 | AB53: 20 | AC53: 10 | AD53: 85 | AE53: 43691 | AF53: 43748 | AH53: 0.233 | AI53: A | AJ53: 104 | AK53: 95 | AL53: 736 | AM53: 967 | AN53: 182 | AO53: 193 | AP53: 61 | AQ53: 24 | AR53: 187 | AS53: 935 | AT53: 638 | AU53: 834 | AV53: 99 | AW53: 607 | AX53: 684 | AY53: 481 | AZ53: 74 | BA53: 50 | BB53: 65 | BC53: 88 | BD53: 62 | BE53: 65 | BF53: 100 | BG53: 100 | BH53: 100 | BI53: 100 | BJ53: 100 | BK53: 100 | BL53: 100 | BM53: 25 | BN53: 25 | BO53: 25 | BP53: 25 | BQ53: 1 | BR53: 0 | BS53: 1 | BT53: 1 | BU53: 0 | BV53: 2 | BW53: 3 | BX53: 2 | BY53: 2 | BZ53: 0 | CA53: 3 | CB53: 0 | CC53: 3 | CD53: 1 | CE53: 1 | CF53: 0 | CG53: 93 | CH53: 76 | CI53: 62 | CJ53: 35 | CK53: 1 | CL53: 97 | CM53: 48 | CN53: 12 | CO53: 76 | CP53: 22 | CQ53: 34 | CR53: 17 | CS53: 35 | CT53: 60 | CU53: 74 | CV53: 75 | CW53: 3 | CX53: 67 | CY53: 65 | CZ53: 57 | DA53: 78 | DB53: 0 | DC53: 93 | DD53: 55 | DE53: 90 | DF53: 0 | DG53: 72 | DH53: 82 | DI53: 98 | DJ53: 73 | DK53: 60 | DL53: 84 | DM53: 506 | DN53: 294 | DO53: 143 | DP53: 981 | DQ53: 860 | DR53: 13 | DS53: 363 | DT53: 212 | DU53: 942 | DV53: 961 | DW53: 544 | DX53: 873 | DY53: 544 | DZ53: 113 | EA53: 756 | EB53: 28 | EC53: 966 | ED53: 796 | EE53: 913 | EF53: 732 | EG53: 763 | EH53: 862 | EI53: 581 | EJ53: 907 | EK53: 175 | EL53: 875 | EM53: 167 | EN53: 490 | EO53: 833 | EP53: 311 | EQ53: 727 | ER53: 800 | ES53: 519 | ET53: 861 | EU53: 833 | EV53: 623 | EW53: 743 | EX53: 20 | EY53: 85 | EZ53: 752 | FA53: 976 | FB53: 458 | FC53: 469 | FD53: 445 | FE53: 221 | FF53: 809 | FG53: 821 | FH53: 500 | FI53: 747 | FJ53: 50 | FK53: 50 | FL53: 50 | FM53: 50 | FN53: 70 | FO53: 54 | FP53: 54 | FQ53: 51 | FR53: 64 | FS53: 63 | FT53: 79 | FU53: 50 | FV53: 50 | FW53: 50 | FX53: 50 | FY53: 50 | FZ53: 50 | GA53: 50 | GB53: 50 | GC53: 50 | GD53: 50 | GE53: 54 | GF53: 62 | GG53: 64 | GH53: 51 | GI53: 56 | GJ53: 70 | GK53: 61 | GL53: 50 | GM53: 50 | GN53: 50 | GO53: 50 | GP53: 50 | GQ53: 50 | GR53: 1.256 | GS53: 0.528 | GT53: 1.466 | GU53: 1.296 | GV53: 1.413 | GW53: 1.232 | GX53: 1.263 | GY53: 1.362 | GZ53: 1.081 | HA53: 1.407 | HB53: 0.675 | HC53: 1.375 | HD53: 0.667 | HE53: 0.99 | HF53: 1.333 | HG53: 1 | HH53: 0.727 | HI53: 0.8 | HJ53: 0.519 | HK53: 0.861 | HL53: 0.833 | HM53: 0.623 | HN53: 0.743 | HO53: 0.02 | HP53: 0.085 | HQ53: 0.752 | HR53: 0.976 | HS53: 0.458 | HT53: 0.469 | HU53: 0.445 | HV53: 0.221 | HW53: 0.809 | HX53: NOK | HY53: NOK | HZ53: NOK | IA53: NOK | IB53: NOK | IC53: NOK | ID53: NOK | IE53: NOK | IF53: =IFERROR(RANK(HX53,HX:HX,1),"") | IG53: =IFERROR(RANK(HY53,HY:HY,1),"") | IH53: =IFERROR(RANK(HZ53,HZ:HZ,1),"") | II53: =IFERROR(RANK(IA53,IA:IA,1),"") | IJ53: =IFERROR(RANK(IB53,IB:IB,1),"") | IK53: =IFERROR(RANK(IC53,IC:IC,1),"") | IL53: =IFERROR(RANK(ID53,ID:ID,1),"") | IM53: =IFERROR(RANK(IE53,IE:IE,1),"")
A54: 114625 | E54: FALSE | H54: 25 | J54: 40 - G | K54: TRUE | N54: Buy | R54: 0 | S54: 0.142 | T54: FALSE | U54: 43727 | V54: 0 | W54: 0 | X54: 0 | Y54: 0 | Z54: 0 | AA54: 0 | AB54: 30 | AC54: 10 | AD54: 211 | AE54: 43691 | AF54: 43727 | AH54: 0.142 | AI54: A | AJ54: 494 | AK54: 120 | AL54: 805 | AM54: 400 | AN54: 786 | AO54: 238 | AP54: 304 | AQ54: 31 | AR54: 193 | AS54: 620 | AT54: 618 | AU54: 45 | AV54: 224 | AW54: 879 | AX54: 849 | AY54: 113 | AZ54: 91 | BA54: 73 | BB54: 78 | BC54: 61 | BD54: 50 | BE54: 79 | BF54: 100 | BG54: 100 | BH54: 100 | BI54: 100 | BJ54: 100 | BK54: 100 | BL54: 100 | BM54: 25 | BN54: 25 | BO54: 25 | BP54: 25 | BQ54: 1 | BR54: 1 | BS54: 1 | BT54: 2 | BU54: 1 | BV54: 2 | BW54: 3 | BX54: 1 | BY54: 2 | BZ54: 3 | CA54: 3 | CB54: 0 | CC54: 2 | CD54: 3 | CE54: 1 | CF54: 0 | CG54: 22 | CH54: 16 | CI54: 8 | CJ54: 25 | CK54: 99 | CL54: 54 | CM54: 62 | CN54: 73 | CO54: 37 | CP54: 91 | CQ54: 20 | CR54: 41 | CS54: 75 | CT54: 48 | CU54: 73 | CV54: 82 | CW54: 12 | CX54: 55 | CY54: 4 | CZ54: 20 | DA54: 47 | DB54: 5 | DC54: 55 | DD54: 3 | DE54: 91 | DF54: 34 | DG54: 73 | DH54: 63 | DI54: 70 | DJ54: 42 | DK54: 77 | DL54: 29 | DM54: 578 | DN54: 325 | DO54: 635 | DP54: 311 | DQ54: 888 | DR54: 246 | DS54: 181 | DT54: 56 | DU54: 698 | DV54: 685 | DW54: 258 | DX54: 572 | DY54: 855 | DZ54: 223 | EA54: 108 | EB54: 982 | EC54: 991 | ED54: 511 | EE54: 288 | EF54: 220 | EG54: 816 | EH54: 86 | EI54: 385 | EJ54: 656 | EK54: 877 | EL54: 318 | EM54: 749 | EN54: 22 | EO54: 597 | EP54: 631 | EQ54: 646 | ER54: 427 | ES54: 766 | ET54: 299 | EU54: 64 | EV54: 593 | EW54: 57 | EX54: 427 | EY54: 972 | EZ54: 136 | FA54: 492 | FB54: 371 | FC54: 303 | FD54: 3 | FE54: 829 | FF54: 71 | FG54: 464 | FH54: 709 | FI54: 115 | FJ54: 50 | FK54: 50 | FL54: 50 | FM54: 50 | FN54: 50 | FO54: 50 | FP54: 72 | FQ54: 75 | FR54: 67 | FS54: 60 | FT54: 64 | FU54: 50 | FV54: 50 | FW54: 50 | FX54: 50 | FY54: 50 | FZ54: 50 | GA54: 50 | GB54: 50 | GC54: 50 | GD54: 50 | GE54: 66 | GF54: 55 | GG54: 80 | GH54: 70 | GI54: 65 | GJ54: 57 | GK54: 63 | GL54: 50 | GM54: 50 | GN54: 50 | GO54: 50 | GP54: 50 | GQ54: 50 | GR54: 0.608 | GS54: 1.482 | GT54: 1.491 | GU54: 1.011 | GV54: 0.788 | GW54: 0.72 | GX54: 1.316 | GY54: 0.586 | GZ54: 0.885 | HA54: 1.156 | HB54: 1.377 | HC54: 0.818 | HD54: 1.249 | HE54: 0.522 | HF54: 1.097 | HG54: 1 | HH54: 0.646 | HI54: 0.427 | HJ54: 0.766 | HK54: 0.299 | HL54: 0.064 | HM54: 0.593 | HN54: 0.057 | HO54: 0.427 | HP54: 0.972 | HQ54: 0.136 | HR54: 0.492 | HS54: 0.371 | HT54: 0.303 | HU54: 0.003 | HV54: 0.829 | HW54: 0.071 | HX54: NOK | HY54: NOK | HZ54: NOK | IA54: NOK | IB54: NOK | IC54: NOK | ID54: NOK | IE54: NOK | IF54: =IFERROR(RANK(HX54,HX:HX,1),"") | IG54: =IFERROR(RANK(HY54,HY:HY,1),"") | IH54: =IFERROR(RANK(HZ54,HZ:HZ,1),"") | II54: =IFERROR(RANK(IA54,IA:IA,1),"") | IJ54: =IFERROR(RANK(IB54,IB:IB,1),"") | IK54: =IFERROR(RANK(IC54,IC:IC,1),"") | IL54: =IFERROR(RANK(ID54,ID:ID,1),"") | IM54: =IFERROR(RANK(IE54,IE:IE,1),"")
A55: 114626 | E55: FALSE | H55: 25 | J55: 40 - G | K55: TRUE | N55: Buy | R55: 0 | S55: 0.133 | T55: FALSE | U55: 43727 | V55: 0 | W55: 0 | X55: 0 | Y55: 0 | Z55: 0 | AA55: 0 | AB55: 30 | AC55: 10 | AD55: 225 | AE55: 43691 | AF55: 43727 | AH55: 0.133 | AI55: A | AJ55: 567 | AK55: 256 | AL55: 603 | AM55: 839 | AN55: 946 | AO55: 666 | AP55: 649 | AQ55: 780 | AR55: 859 | AS55: 367 | AT55: 90 | AU55: 127 | AV55: 67 | AW55: 343 | AX55: 173 | AY55: 485 | AZ55: 62 | BA55: 53 | BB55: 65 | BC55: 92 | BD55: 67 | BE55: 51 | BF55: 100 | BG55: 100 | BH55: 100 | BI55: 100 | BJ55: 100 | BK55: 100 | BL55: 100 | BM55: 25 | BN55: 25 | BO55: 25 | BP55: 25 | BQ55: 0 | BR55: 2 | BS55: 1 | BT55: 1 | BU55: 0 | BV55: 0 | BW55: 2 | BX55: 3 | BY55: 3 | BZ55: 1 | CA55: 0 | CB55: 0 | CC55: 2 | CD55: 0 | CE55: 2 | CF55: 2 | CG55: 26 | CH55: 16 | CI55: 34 | CJ55: 30 | CK55: 65 | CL55: 4 | CM55: 32 | CN55: 61 | CO55: 12 | CP55: 10 | CQ55: 85 | CR55: 42 | CS55: 63 | CT55: 30 | CU55: 6 | CV55: 68 | CW55: 45 | CX55: 92 | CY55: 95 | CZ55: 35 | DA55: 88 | DB55: 55 | DC55: 25 | DD55: 29 | DE55: 38 | DF55: 43 | DG55: 55 | DH55: 27 | DI55: 87 | DJ55: 19 | DK55: 63 | DL55: 66 | DM55: 686 | DN55: 563 | DO55: 266 | DP55: 104 | DQ55: 927 | DR55: 634 | DS55: 853 | DT55: 769 | DU55: 11 | DV55: 280 | DW55: 845 | DX55: 390 | DY55: 293 | DZ55: 934 | EA55: 19 | EB55: 243 | EC55: 687 | ED55: 30 | EE55: 45 | EF55: 186 | EG55: 397 | EH55: 600 | EI55: 29 | EJ55: 574 | EK55: 183 | EL55: 637 | EM55: 885 | EN55: 975 | EO55: 629 | EP55: 533 | EQ55: 133 | ER55: 439 | ES55: 188 | ET55: 467 | EU55: 217 | EV55: 961 | EW55: 538 | EX55: 784 | EY55: 832 | EZ55: 422 | FA55: 119 | FB55: 292 | FC55: 738 | FD55: 69 | FE55: 155 | FF55: 366 | FG55: 99 | FH55: 962 | FI55: 536 | FJ55: 50 | FK55: 50 | FL55: 50 | FM55: 50 | FN55: 69 | FO55: 63 | FP55: 56 | FQ55: 76 | FR55: 69 | FS55: 76 | FT55: 53 | FU55: 50 | FV55: 50 | FW55: 50 | FX55: 50 | FY55: 50 | FZ55: 50 | GA55: 50 | GB55: 50 | GC55: 50 | GD55: 50 | GE55: 76 | GF55: 53 | GG55: 73 | GH55: 71 | GI55: 50 | GJ55: 53 | GK55: 51 | GL55: 50 | GM55: 50 | GN55: 50 | GO55: 50 | GP55: 50 | GQ55: 50 | GR55: 0.519 | GS55: 0.743 | GT55: 1.187 | GU55: 0.53 | GV55: 0.545 | GW55: 0.686 | GX55: 0.897 | GY55: 1.1 | GZ55: 0.529 | HA55: 1.074 | HB55: 0.683 | HC55: 1.137 | HD55: 1.385 | HE55: 1.475 | HF55: 1.129 | HG55: 1 | HH55: 0.133 | HI55: 0.439 | HJ55: 0.188 | HK55: 0.467 | HL55: 0.217 | HM55: 0.961 | HN55: 0.538 | HO55: 0.784 | HP55: 0.832 | HQ55: 0.422 | HR55: 0.119 | HS55: 0.292 | HT55: 0.738 | HU55: 0.069 | HV55: 0.155 | HW55: 0.366 | HX55: NOK | HY55: NOK | HZ55: NOK | IA55: NOK | IB55: NOK | IC55: NOK | ID55: NOK | IE55: NOK | IF55: =IFERROR(RANK(HX55,HX:HX,1),"") | IG55: =IFERROR(RANK(HY55,HY:HY,1),"") | IH55: =IFERROR(RANK(HZ55,HZ:HZ,1),"") | II55: =IFERROR(RANK(IA55,IA:IA,1),"") | IJ55: =IFERROR(RANK(IB55,IB:IB,1),"") | IK55: =IFERROR(RANK(IC55,IC:IC,1),"") | IL55: =IFERROR(RANK(ID55,ID:ID,1),"") | IM55: =IFERROR(RANK(IE55,IE:IE,1),"")
A56: 114627 | E56: FALSE | H56: 25 | J56: 40 - G | K56: TRUE | N56: Buy | R56: 0 | S56: 0.083 | T56: FALSE | U56: 43727 | V56: 0 | W56: 0 | X56: 0.20968 | Y56: 0 | Z56: 0 | AA56: 0 | AB56: 10 | AC56: 5 | AD56: 120 | AE56: 43691 | AF56: 43727 | AH56: 0.083 | AI56: A | AJ56: 807 | AK56: 971 | AL56: 564 | AM56: 798 | AN56: 491 | AO56: 167 | AP56: 381 | AQ56: 272 | AR56: 429 | AS56: 469 | AT56: 831 | AU56: 451 | AV56: 324 | AW56: 413 | AX56: 367 | AY56: 48 | AZ56: 56 | BA56: 91 | BB56: 52 | BC56: 73 | BD56: 72 | BE56: 90 | BF56: 100 | BG56: 100 | BH56: 100 | BI56: 100 | BJ56: 100 | BK56: 100 | BL56: 100 | BM56: 25 | BN56: 25 | BO56: 25 | BP56: 25 | BQ56: 1 | BR56: 3 | BS56: 2 | BT56: 1 | BU56: 0 | BV56: 3 | BW56: 3 | BX56: 3 | BY56: 0 | BZ56: 0 | CA56: 2 | CB56: 0 | CC56: 0 | CD56: 2 | CE56: 3 | CF56: 1 | CG56: 29 | CH56: 46 | CI56: 83 | CJ56: 67 | CK56: 30 | CL56: 42 | CM56: 6 | CN56: 49 | CO56: 10 | CP56: 17 | CQ56: 35 | CR56: 29 | CS56: 23 | CT56: 72 | CU56: 99 | CV56: 49 | CW56: 14 | CX56: 64 | CY56: 14 | CZ56: 54 | DA56: 4 | DB56: 99 | DC56: 39 | DD56: 10 | DE56: 94 | DF56: 50 | DG56: 51 | DH56: 95 | DI56: 52 | DJ56: 4 | DK56: 56 | DL56: 71 | DM56: 405 | DN56: 979 | DO56: 459 | DP56: 206 | DQ56: 792 | DR56: 943 | DS56: 653 | DT56: 683 | DU56: 926 | DV56: 144 | DW56: 701 | DX56: 574 | DY56: 546 | DZ56: 248 | EA56: 745 | EB56: 855 | EC56: 511 | ED56: 69 | EE56: 117 | EF56: 766 | EG56: 65 | EH56: 100 | EI56: 345 | EJ56: 199 | EK56: 363 | EL56: 810 | EM56: 34 | EN56: 448 | EO56: 480 | EP56: 460 | EQ56: 13 | ER56: 771 | ES56: 732 | ET56: 148 | EU56: 104 | EV56: 558 | EW56: 44 | EX56: 135 | EY56: 729 | EZ56: 728 | FA56: 726 | FB56: 148 | FC56: 503 | FD56: 31 | FE56: 407 | FF56: 887 | FG56: 134 | FH56: 177 | FI56: 309 | FJ56: 50 | FK56: 50 | FL56: 50 | FM56: 50 | FN56: 57 | FO56: 61 | FP56: 57 | FQ56: 51 | FR56: 50 | FS56: 73 | FT56: 53 | FU56: 50 | FV56: 50 | FW56: 50 | FX56: 50 | FY56: 50 | FZ56: 50 | GA56: 50 | GB56: 50 | GC56: 50 | GD56: 50 | GE56: 53 | GF56: 65 | GG56: 78 | GH56: 73 | GI56: 58 | GJ56: 69 | GK56: 78 | GL56: 50 | GM56: 50 | GN56: 50 | GO56: 50 | GP56: 50 | GQ56: 50 | GR56: 1.245 | GS56: 1.355 | GT56: 1.011 | GU56: 0.569 | GV56: 0.617 | GW56: 1.266 | GX56: 0.565 | GY56: 0.6 | GZ56: 0.845 | HA56: 0.699 | HB56: 0.863 | HC56: 1.31 | HD56: 0.534 | HE56: 0.948 | HF56: 0.98 | HG56: 1 | HH56: 0.013 | HI56: 0.771 | HJ56: 0.732 | HK56: 0.148 | HL56: 0.104 | HM56: 0.558 | HN56: 0.044 | HO56: 0.135 | HP56: 0.729 | HQ56: 0.728 | HR56: 0.726 | HS56: 0.148 | HT56: 0.503 | HU56: 0.031 | HV56: 0.407 | HW56: 0.887 | HX56: NOK | HY56: NOK | HZ56: NOK | IA56: NOK | IB56: NOK | IC56: NOK | ID56: NOK | IE56: NOK | IF56: =IFERROR(RANK(HX56,HX:HX,1),"") | IG56: =IFERROR(RANK(HY56,HY:HY,1),"") | IH56: =IFERROR(RANK(HZ56,HZ:HZ,1),"") | II56: =IFERROR(RANK(IA56,IA:IA,1),"") | IJ56: =IFERROR(RANK(IB56,IB:IB,1),"") | IK56: =IFERROR(RANK(IC56,IC:IC,1),"") | IL56: =IFERROR(RANK(ID56,ID:ID,1),"") | IM56: =IFERROR(RANK(IE56,IE:IE,1),"")
A57: 114628 | E57: FALSE | H57: 40 | J57: 40 - G | K57: TRUE | N57: Buy | R57: 0 | S57: 0.2 | T57: FALSE | U57: 43748 | V57: 0 | W57: 0 | X57: 0 | Y57: 0 | Z57: 0 | AA57: 0 | AB57: 20 | AC57: 10 | AD57: 100 | AE57: 43691 | AF57: 43748 | AH57: 0.2 | AI57: A | AJ57: 591 | AK57: 753 | AL57: 577 | AM57: 742 | AN57: 23 | AO57: 20 | AP57: 868 | AQ57: 925 | AR57: 135 | AS57: 888 | AT57: 367 | AU57: 982 | AV57: 385 | AW57: 183 | AX57: 838 | AY57: 229 | AZ57: 84 | BA57: 91 | BB57: 85 | BC57: 84 | BD57: 100 | BE57: 63 | BF57: 100 | BG57: 100 | BH57: 100 | BI57: 100 | BJ57: 100 | BK57: 100 | BL57: 100 | BM57: 25 | BN57: 25 | BO57: 25 | BP57: 25 | BQ57: 3 | BR57: 2 | BS57: 2 | BT57: 0 | BU57: 1 | BV57: 3 | BW57: 3 | BX57: 2 | BY57: 0 | BZ57: 1 | CA57: 1 | CB57: 3 | CC57: 0 | CD57: 1 | CE57: 2 | CF57: 3 | CG57: 95 | CH57: 96 | CI57: 88 | CJ57: 29 | CK57: 49 | CL57: 38 | CM57: 3 | CN57: 95 | CO57: 36 | CP57: 21 | CQ57: 55 | CR57: 52 | CS57: 10 | CT57: 0 | CU57: 64 | CV57: 40 | CW57: 21 | CX57: 87 | CY57: 92 | CZ57: 53 | DA57: 20 | DB57: 18 | DC57: 40 | DD57: 38 | DE57: 25 | DF57: 7 | DG57: 37 | DH57: 78 | DI57: 29 | DJ57: 21 | DK57: 56 | DL57: 8 | DM57: 278 | DN57: 47 | DO57: 677 | DP57: 423 | DQ57: 8 | DR57: 678 | DS57: 502 | DT57: 118 | DU57: 497 | DV57: 88 | DW57: 819 | DX57: 729 | DY57: 504 | DZ57: 458 | EA57: 107 | EB57: 536 | EC57: 874 | ED57: 978 | EE57: 467 | EF57: 223 | EG57: 649 | EH57: 364 | EI57: 87 | EJ57: 698 | EK57: 675 | EL57: 816 | EM57: 373 | EN57: 16 | EO57: 152 | EP57: 906 | EQ57: 787 | ER57: 363 | ES57: 150 | ET57: 879 | EU57: 217 | EV57: 878 | EW57: 662 | EX57: 230 | EY57: 943 | EZ57: 60 | FA57: 522 | FB57: 36 | FC57: 389 | FD57: 154 | FE57: 3 | FF57: 20 | FG57: 899 | FH57: 557 | FI57: 369 | FJ57: 50 | FK57: 50 | FL57: 50 | FM57: 50 | FN57: 68 | FO57: 61 | FP57: 56 | FQ57: 68 | FR57: 70 | FS57: 68 | FT57: 76 | FU57: 50 | FV57: 50 | FW57: 50 | FX57: 50 | FY57: 50 | FZ57: 50 | GA57: 50 | GB57: 50 | GC57: 50 | GD57: 50 | GE57: 68 | GF57: 60 | GG57: 80 | GH57: 58 | GI57: 56 | GJ57: 59 | GK57: 53 | GL57: 50 | GM57: 50 | GN57: 50 | GO57: 50 | GP57: 50 | GQ57: 50 | GR57: 0.607 | GS57: 1.036 | GT57: 1.374 | GU57: 1.478 | GV57: 0.967 | GW57: 0.723 | GX57: 1.149 | GY57: 0.864 | GZ57: 0.587 | HA57: 1.198 | HB57: 1.175 | HC57: 1.316 | HD57: 0.873 | HE57: 0.516 | HF57: 0.652 | HG57: 1 | HH57: 0.787 | HI57: 0.363 | HJ57: 0.15 | HK57: 0.879 | HL57: 0.217 | HM57: 0.878 | HN57: 0.662 | HO57: 0.23 | HP57: 0.943 | HQ57: 0.06 | HR57: 0.522 | HS57: 0.036 | HT57: 0.389 | HU57: 0.154 | HV57: 0.003 | HW57: 0.02 | HX57: NOK | HY57: NOK | HZ57: NOK | IA57: NOK | IB57: NOK | IC57: NOK | ID57: NOK | IE57: NOK | IF57: =IFERROR(RANK(HX57,HX:HX,1),"") | IG57: =IFERROR(RANK(HY57,HY:HY,1),"") | IH57: =IFERROR(RANK(HZ57,HZ:HZ,1),"") | II57: =IFERROR(RANK(IA57,IA:IA,1),"") | IJ57: =IFERROR(RANK(IB57,IB:IB,1),"") | IK57: =IFERROR(RANK(IC57,IC:IC,1),"") | IL57: =IFERROR(RANK(ID57,ID:ID,1),"") | IM57: =IFERROR(RANK(IE57,IE:IE,1),"")
A58: 116089 | E58: FALSE | H58: 25 | J58: 40 - G | K58: TRUE | N58: Buy | R58: 0 | S58: 0.042 | T58: FALSE | U58: 43727 | V58: 0 | W58: 0 | X58: 0 | Y58: 0 | Z58: 0 | AA58: 0 | AB58: 10 | AC58: 5 | AD58: 238 | AE58: 43691 | AF58: 43727 | AH58: 0.042 | AI58: A | AJ58: 146 | AK58: 616 | AL58: 909 | AM58: 47 | AN58: 260 | AO58: 315 | AP58: 24 | AQ58: 946 | AR58: 908 | AS58: 359 | AT58: 245 | AU58: 204 | AV58: 846 | AW58: 334 | AX58: 170 | AY58: 580 | AZ58: 75 | BA58: 81 | BB58: 76 | BC58: 92 | BD58: 52 | BE58: 80 | BF58: 100 | BG58: 100 | BH58: 100 | BI58: 100 | BJ58: 100 | BK58: 100 | BL58: 100 | BM58: 25 | BN58: 25 | BO58: 25 | BP58: 25 | BQ58: 2 | BR58: 2 | BS58: 1 | BT58: 0 | BU58: 3 | BV58: 3 | BW58: 2 | BX58: 3 | BY58: 0 | BZ58: 2 | CA58: 0 | CB58: 2 | CC58: 0 | CD58: 2 | CE58: 0 | CF58: 3 | CG58: 26 | CH58: 78 | CI58: 48 | CJ58: 11 | CK58: 82 | CL58: 26 | CM58: 70 | CN58: 37 | CO58: 99 | CP58: 69 | CQ58: 50 | CR58: 76 | CS58: 86 | CT58: 34 | CU58: 0 | CV58: 25 | CW58: 81 | CX58: 59 | CY58: 12 | CZ58: 20 | DA58: 70 | DB58: 2 | DC58: 19 | DD58: 80 | DE58: 90 | DF58: 75 | DG58: 90 | DH58: 67 | DI58: 21 | DJ58: 59 | DK58: 31 | DL58: 16 | DM58: 584 | DN58: 287 | DO58: 430 | DP58: 168 | DQ58: 148 | DR58: 712 | DS58: 746 | DT58: 384 | DU58: 448 | DV58: 475 | DW58: 350 | DX58: 302 | DY58: 338 | DZ58: 489 | EA58: 950 | EB58: 572 | EC58: 941 | ED58: 515 | EE58: 933 | EF58: 782 | EG58: 982 | EH58: 446 | EI58: 458 | EJ58: 961 | EK58: 171 | EL58: 45 | EM58: 201 | EN58: 802 | EO58: 781 | EP58: 617 | EQ58: 354 | ER58: 643 | ES58: 304 | ET58: 933 | EU58: 650 | EV58: 690 | EW58: 90 | EX58: 774 | EY58: 474 | EZ58: 306 | FA58: 839 | FB58: 413 | FC58: 228 | FD58: 48 | FE58: 988 | FF58: 285 | FG58: 156 | FH58: 275 | FI58: 970 | FJ58: 50 | FK58: 50 | FL58: 50 | FM58: 50 | FN58: 57 | FO58: 63 | FP58: 77 | FQ58: 52 | FR58: 59 | FS58: 55 | FT58: 80 | FU58: 50 | FV58: 50 | FW58: 50 | FX58: 50 | FY58: 50 | FZ58: 50 | GA58: 50 | GB58: 50 | GC58: 50 | GD58: 50 | GE58: 56 | GF58: 62 | GG58: 75 | GH58: 56 | GI58: 68 | GJ58: 56 | GK58: 66 | GL58: 50 | GM58: 50 | GN58: 50 | GO58: 50 | GP58: 50 | GQ58: 50 | GR58: 1.45 | GS58: 1.072 | GT58: 1.441 | GU58: 1.015 | GV58: 1.433 | GW58: 1.282 | GX58: 1.482 | GY58: 0.946 | GZ58: 0.958 | HA58: 1.461 | HB58: 0.671 | HC58: 0.545 | HD58: 0.701 | HE58: 1.302 | HF58: 1.281 | HG58: 2 | HH58: 0.354 | HI58: 0.643 | HJ58: 0.304 | HK58: 0.933 | HL58: 0.65 | HM58: 0.69 | HN58: 0.09 | HO58: 0.774 | HP58: 0.474 | HQ58: 0.306 | HR58: 0.839 | HS58: 0.413 | HT58: 0.228 | HU58: 0.048 | HV58: 0.988 | HW58: 0.285 | HX58: NOK | HY58: NOK | HZ58: NOK | IA58: NOK | IB58: 16 | IC58: NOK | ID58: NOK | IE58: NOK | IF58: =IFERROR(RANK(HX58,HX:HX,1),"") | IG58: =IFERROR(RANK(HY58,HY:HY,1),"") | IH58: =IFERROR(RANK(HZ58,HZ:HZ,1),"") | II58: =IFERROR(RANK(IA58,IA:IA,1),"") | IJ58: =IFERROR(RANK(IB58,IB:IB,1),"") -> 38 | IK58: =IFERROR(RANK(IC58,IC:IC,1),"") | IL58: =IFERROR(RANK(ID58,ID:ID,1),"") | IM58: =IFERROR(RANK(IE58,IE:IE,1),"")
A59: 116090 | E59: FALSE | H59: 25 | J59: 40 - G | K59: TRUE | N59: Buy | R59: 0 | S59: 0.742 | T59: FALSE | U59: 43727 | V59: 0 | W59: 0 | X59: 0 | Y59: 20 | Z59: 20 | AA59: 0 | AB59: 40 | AC59: 10 | AD59: 53 | AE59: 43691 | AF59: 43727 | AH59: 0.742 | AI59: A | AJ59: 560 | AK59: 492 | AL59: 884 | AM59: 200 | AN59: 252 | AO59: 132 | AP59: 952 | AQ59: 73 | AR59: 13 | AS59: 489 | AT59: 626 | AU59: 847 | AV59: 200 | AW59: 789 | AX59: 46 | AY59: 858 | AZ59: 66 | BA59: 61 | BB59: 58 | BC59: 85 | BD59: 57 | BE59: 96 | BF59: 100 | BG59: 100 | BH59: 100 | BI59: 100 | BJ59: 100 | BK59: 100 | BL59: 100 | BM59: 25 | BN59: 25 | BO59: 25 | BP59: 25 | BQ59: 1 | BR59: 1 | BS59: 1 | BT59: 3 | BU59: 3 | BV59: 1 | BW59: 3 | BX59: 1 | BY59: 0 | BZ59: 0 | CA59: 1 | CB59: 1 | CC59: 0 | CD59: 1 | CE59: 0 | CF59: 1 | CG59: 90 | CH59: 38 | CI59: 2 | CJ59: 66 | CK59: 20 | CL59: 3 | CM59: 47 | CN59: 81 | CO59: 18 | CP59: 79 | CQ59: 2 | CR59: 34 | CS59: 46 | CT59: 59 | CU59: 49 | CV59: 52 | CW59: 25 | CX59: 56 | CY59: 0 | CZ59: 13 | DA59: 44 | DB59: 47 | DC59: 28 | DD59: 35 | DE59: 3 | DF59: 91 | DG59: 29 | DH59: 44 | DI59: 4 | DJ59: 42 | DK59: 3 | DL59: 44 | DM59: 161 | DN59: 659 | DO59: 692 | DP59: 316 | DQ59: 410 | DR59: 131 | DS59: 430 | DT59: 39 | DU59: 440 | DV59: 523 | DW59: 389 | DX59: 950 | DY59: 732 | DZ59: 424 | EA59: 983 | EB59: 488 | EC59: 691 | ED59: 761 | EE59: 265 | EF59: 924 | EG59: 50 | EH59: 8 | EI59: 527 | EJ59: 543 | EK59: 787 | EL59: 324 | EM59: 419 | EN59: 158 | EO59: 428 | EP59: 728 | EQ59: 361 | ER59: 137 | ES59: 588 | ET59: 583 | EU59: 624 | EV59: 937 | EW59: 543 | EX59: 997 | EY59: 568 | EZ59: 808 | FA59: 52 | FB59: 331 | FC59: 637 | FD59: 197 | FE59: 773 | FF59: 584 | FG59: 654 | FH59: 846 | FI59: 903 | FJ59: 50 | FK59: 50 | FL59: 50 | FM59: 50 | FN59: 63 | FO59: 65 | FP59: 51 | FQ59: 51 | FR59: 73 | FS59: 67 | FT59: 77 | FU59: 50 | FV59: 50 | FW59: 50 | FX59: 50 | FY59: 50 | FZ59: 50 | GA59: 50 | GB59: 50 | GC59: 50 | GD59: 50 | GE59: 77 | GF59: 67 | GG59: 74 | GH59: 70 | GI59: 77 | GJ59: 58 | GK59: 59 | GL59: 50 | GM59: 50 | GN59: 50 | GO59: 50 | GP59: 50 | GQ59: 50 | GR59: 1.483 | GS59: 0.988 | GT59: 1.191 | GU59: 1.261 | GV59: 0.765 | GW59: 1.424 | GX59: 0.55 | GY59: 0.508 | GZ59: 1.027 | HA59: 1.043 | HB59: 1.287 | HC59: 0.824 | HD59: 0.919 | HE59: 0.658 | HF59: 0.928 | HG59: 1 | HH59: 0.361 | HI59: 0.137 | HJ59: 0.588 | HK59: 0.583 | HL59: 0.624 | HM59: 0.937 | HN59: 0.543 | HO59: 0.997 | HP59: 0.568 | HQ59: 0.808 | HR59: 0.052 | HS59: 0.331 | HT59: 0.637 | HU59: 0.197 | HV59: 0.773 | HW59: 0.584 | HX59: NOK | HY59: NOK | HZ59: NOK | IA59: NOK | IB59: NOK | IC59: NOK | ID59: NOK | IE59: NOK | IF59: =IFERROR(RANK(HX59,HX:HX,1),"") | IG59: =IFERROR(RANK(HY59,HY:HY,1),"") | IH59: =IFERROR(RANK(HZ59,HZ:HZ,1),"") | II59: =IFERROR(RANK(IA59,IA:IA,1),"") | IJ59: =IFERROR(RANK(IB59,IB:IB,1),"") | IK59: =IFERROR(RANK(IC59,IC:IC,1),"") | IL59: =IFERROR(RANK(ID59,ID:ID,1),"") | IM59: =IFERROR(RANK(IE59,IE:IE,1),"")
A60: 116091 | E60: FALSE | H60: 25 | J60: 40 - G | K60: TRUE | N60: Buy | R60: 0 | S60: 0.433 | T60: FALSE | U60: 43727 | V60: 0 | W60: 0 | X60: 0 | Y60: 0 | Z60: 0 | AA60: 0 | AB60: 30 | AC60: 10 | AD60: 69 | AE60: 43691 | AF60: 43727 | AH60: 0.433 | AI60: A | AJ60: 236 | AK60: 827 | AL60: 135 | AM60: 364 | AN60: 469 | AO60: 278 | AP60: 934 | AQ60: 38 | AR60: 657 | AS60: 543 | AT60: 558 | AU60: 156 | AV60: 108 | AW60: 311 | AX60: 732 | AY60: 379 | AZ60: 64 | BA60: 62 | BB60: 79 | BC60: 58 | BD60: 77 | BE60: 50 | BF60: 100 | BG60: 100 | BH60: 100 | BI60: 100 | BJ60: 100 | BK60: 100 | BL60: 100 | BM60: 25 | BN60: 25 | BO60: 25 | BP60: 25 | BQ60: 2 | BR60: 3 | BS60: 1 | BT60: 0 | BU60: 0 | BV60: 3 | BW60: 0 | BX60: 1 | BY60: 0 | BZ60: 1 | CA60: 1 | CB60: 2 | CC60: 3 | CD60: 2 | CE60: 0 | CF60: 3 | CG60: 75 | CH60: 34 | CI60: 41 | CJ60: 3 | CK60: 99 | CL60: 32 | CM60: 52 | CN60: 21 | CO60: 31 | CP60: 59 | CQ60: 23 | CR60: 66 | CS60: 58 | CT60: 91 | CU60: 2 | CV60: 48 | CW60: 91 | CX60: 52 | CY60: 23 | CZ60: 67 | DA60: 95 | DB60: 97 | DC60: 0 | DD60: 7 | DE60: 70 | DF60: 12 | DG60: 100 | DH60: 53 | DI60: 81 | DJ60: 21 | DK60: 92 | DL60: 39 | DM60: 405 | DN60: 944 | DO60: 958 | DP60: 669 | DQ60: 532 | DR60: 548 | DS60: 278 | DT60: 175 | DU60: 655 | DV60: 603 | DW60: 215 | DX60: 858 | DY60: 41 | DZ60: 821 | EA60: 842 | EB60: 863 | EC60: 553 | ED60: 653 | EE60: 769 | EF60: 128 | EG60: 313 | EH60: 301 | EI60: 971 | EJ60: 650 | EK60: 28 | EL60: 631 | EM60: 908 | EN60: 358 | EO60: 952 | EP60: 961 | EQ60: 11 | ER60: 569 | ES60: 219 | ET60: 387 | EU60: 388 | EV60: 38 | EW60: 955 | EX60: 299 | EY60: 660 | EZ60: 933 | FA60: 130 | FB60: 431 | FC60: 463 | FD60: 253 | FE60: 839 | FF60: 143 | FG60: 265 | FH60: 684 | FI60: 930 | FJ60: 50 | FK60: 50 | FL60: 50 | FM60: 50 | FN60: 52 | FO60: 67 | FP60: 56 | FQ60: 75 | FR60: 57 | FS60: 79 | FT60: 73 | FU60: 50 | FV60: 50 | FW60: 50 | FX60: 50 | FY60: 50 | FZ60: 50 | GA60: 50 | GB60: 50 | GC60: 50 | GD60: 50 | GE60: 76 | GF60: 53 | GG60: 77 | GH60: 72 | GI60: 60 | GJ60: 80 | GK60: 66 | GL60: 50 | GM60: 50 | GN60: 50 | GO60: 50 | GP60: 50 | GQ60: 50 | GR60: 1.342 | GS60: 1.363 | GT60: 1.053 | GU60: 1.153 | GV60: 1.269 | GW60: 0.628 | GX60: 0.813 | GY60: 0.801 | GZ60: 1.471 | HA60: 1.15 | HB60: 0.528 | HC60: 1.131 | HD60: 1.408 | HE60: 0.858 | HF60: 1.452 | HG60: 1 | HH60: 0.011 | HI60: 0.569 | HJ60: 0.219 | HK60: 0.387 | HL60: 0.388 | HM60: 0.038 | HN60: 0.955 | HO60: 0.299 | HP60: 0.66 | HQ60: 0.933 | HR60: 0.13 | HS60: 0.431 | HT60: 0.463 | HU60: 0.253 | HV60: 0.839 | HW60: 0.143 | HX60: NOK | HY60: NOK | HZ60: NOK | IA60: NOK | IB60: NOK | IC60: NOK | ID60: NOK | IE60: NOK | IF60: =IFERROR(RANK(HX60,HX:HX,1),"") | IG60: =IFERROR(RANK(HY60,HY:HY,1),"") | IH60: =IFERROR(RANK(HZ60,HZ:HZ,1),"") | II60: =IFERROR(RANK(IA60,IA:IA,1),"") | IJ60: =IFERROR(RANK(IB60,IB:IB,1),"") | IK60: =IFERROR(RANK(IC60,IC:IC,1),"") | IL60: =IFERROR(RANK(ID60,ID:ID,1),"") | IM60: =IFERROR(RANK(IE60,IE:IE,1),"")
A61: 116092 | E61: FALSE | H61: 25 | J61: 40 - G | K61: TRUE | N61: Buy | R61: 0 | S61: 0.417 | T61: FALSE | U61: 43727 | V61: 0 | W61: 0 | X61: 0 | Y61: 0 | Z61: 0 | AA61: 40 | AB61: 40 | AC61: 10 | AD61: 95 | AE61: 43691 | AF61: 43727 | AH61: 0.417 | AI61: A | AJ61: 984 | AK61: 638 | AL61: 603 | AM61: 885 | AN61: 64 | AO61: 696 | AP61: 657 | AQ61: 698 | AR61: 559 | AS61: 729 | AT61: 747 | AU61: 982 | AV61: 450 | AW61: 485 | AX61: 686 | AY61: 883 | AZ61: 60 | BA61: 82 | BB61: 66 | BC61: 91 | BD61: 77 | BE61: 79 | BF61: 100 | BG61: 100 | BH61: 100 | BI61: 100 | BJ61: 100 | BK61: 100 | BL61: 100 | BM61: 25 | BN61: 25 | BO61: 25 | BP61: 25 | BQ61: 3 | BR61: 0 | BS61: 1 | BT61: 1 | BU61: 2 | BV61: 1 | BW61: 1 | BX61: 1 | BY61: 2 | BZ61: 2 | CA61: 2 | CB61: 3 | CC61: 2 | CD61: 2 | CE61: 2 | CF61: 3 | CG61: 85 | CH61: 90 | CI61: 38 | CJ61: 35 | CK61: 51 | CL61: 95 | CM61: 71 | CN61: 51 | CO61: 63 | CP61: 47 | CQ61: 50 | CR61: 95 | CS61: 72 | CT61: 79 | CU61: 57 | CV61: 38 | CW61: 25 | CX61: 17 | CY61: 97 | CZ61: 54 | DA61: 41 | DB61: 72 | DC61: 91 | DD61: 76 | DE61: 16 | DF61: 79 | DG61: 84 | DH61: 3 | DI61: 17 | DJ61: 67 | DK61: 21 | DL61: 10 | DM61: 795 | DN61: 864 | DO61: 604 | DP61: 437 | DQ61: 711 | DR61: 41 | DS61: 395 | DT61: 330 | DU61: 420 | DV61: 952 | DW61: 413 | DX61: 349 | DY61: 359 | DZ61: 467 | EA61: 938 | EB61: 657 | EC61: 375 | ED61: 775 | EE61: 359 | EF61: 632 | EG61: 473 | EH61: 762 | EI61: 136 | EJ61: 779 | EK61: 14 | EL61: 47 | EM61: 357 | EN61: 147 | EO61: 877 | EP61: 302 | EQ61: 92 | ER61: 610 | ES61: 736 | ET61: 849 | EU61: 726 | EV61: 424 | EW61: 100 | EX61: 100 | EY61: 334 | EZ61: 288 | FA61: 814 | FB61: 700 | FC61: 254 | FD61: 823 | FE61: 272 | FF61: 756 | FG61: 908 | FH61: 411 | FI61: 536 | FJ61: 50 | FK61: 50 | FL61: 50 | FM61: 50 | FN61: 77 | FO61: 52 | FP61: 79 | FQ61: 74 | FR61: 57 | FS61: 71 | FT61: 67 | FU61: 50 | FV61: 50 | FW61: 50 | FX61: 50 | FY61: 50 | FZ61: 50 | GA61: 50 | GB61: 50 | GC61: 50 | GD61: 50 | GE61: 57 | GF61: 74 | GG61: 62 | GH61: 67 | GI61: 63 | GJ61: 57 | GK61: 52 | GL61: 50 | GM61: 50 | GN61: 50 | GO61: 50 | GP61: 50 | GQ61: 50 | GR61: 1.438 | GS61: 1.157 | GT61: 0.875 | GU61: 1.275 | GV61: 0.859 | GW61: 1.132 | GX61: 0.973 | GY61: 1.262 | GZ61: 0.636 | HA61: 1.279 | HB61: 0.514 | HC61: 0.547 | HD61: 0.857 | HE61: 0.647 | HF61: 1.377 | HG61: 2 | HH61: 0.092 | HI61: 0.61 | HJ61: 0.736 | HK61: 0.849 | HL61: 0.726 | HM61: 0.424 | HN61: 0.1 | HO61: 0.1 | HP61: 0.334 | HQ61: 0.288 | HR61: 0.814 | HS61: 0.7 | HT61: 0.254 | HU61: 0.823 | HV61: 0.272 | HW61: 0.756 | HX61: NOK | HY61: NOK | HZ61: NOK | IA61: NOK | IB61: 10 | IC61: NOK | ID61: NOK | IE61: NOK | IF61: =IFERROR(RANK(HX61,HX:HX,1),"") | IG61: =IFERROR(RANK(HY61,HY:HY,1),"") | IH61: =IFERROR(RANK(HZ61,HZ:HZ,1),"") | II61: =IFERROR(RANK(IA61,IA:IA,1),"") | IJ61: =IFERROR(RANK(IB61,IB:IB,1),"") -> 24 | IK61: =IFERROR(RANK(IC61,IC:IC,1),"") | IL61: =IFERROR(RANK(ID61,ID:ID,1),"") | IM61: =IFERROR(RANK(IE61,IE:IE,1),"")
A62: 116093 | E62: FALSE | H62: 25 | J62: 40 - G | K62: TRUE | N62: Buy | R62: 0 | S62: 0.092 | T62: FALSE | U62: 43727 | V62: 0 | W62: 0 | X62: 0 | Y62: 0 | Z62: 0 | AA62: 0 | AB62: 20 | AC62: 10 | AD62: 217 | AE62: 43691 | AF62: 43727 | AH62: 0.092 | AI62: A | AJ62: 215 | AK62: 344 | AL62: 375 | AM62: 835 | AN62: 979 | AO62: 164 | AP62: 975 | AQ62: 360 | AR62: 724 | AS62: 673 | AT62: 298 | AU62: 792 | AV62: 170 | AW62: 623 | AX62: 716 | AY62: 172 | AZ62: 95 | BA62: 54 | BB62: 87 | BC62: 84 | BD62: 80 | BE62: 58 | BF62: 100 | BG62: 100 | BH62: 100 | BI62: 100 | BJ62: 100 | BK62: 100 | BL62: 100 | BM62: 25 | BN62: 25 | BO62: 25 | BP62: 25 | BQ62: 1 | BR62: 1 | BS62: 2 | BT62: 2 | BU62: 1 | BV62: 3 | BW62: 3 | BX62: 3 | BY62: 2 | BZ62: 3 | CA62: 0 | CB62: 3 | CC62: 2 | CD62: 0 | CE62: 2 | CF62: 2 | CG62: 92 | CH62: 89 | CI62: 21 | CJ62: 63 | CK62: 83 | CL62: 78 | CM62: 89 | CN62: 42 | CO62: 92 | CP62: 94 | CQ62: 12 | CR62: 69 | CS62: 35 | CT62: 3 | CU62: 99 | CV62: 87 | CW62: 87 | CX62: 42 | CY62: 73 | CZ62: 90 | DA62: 99 | DB62: 35 | DC62: 97 | DD62: 16 | DE62: 33 | DF62: 5 | DG62: 61 | DH62: 14 | DI62: 4 | DJ62: 2 | DK62: 39 | DL62: 16 | DM62: 984 | DN62: 774 | DO62: 869 | DP62: 713 | DQ62: 840 | DR62: 789 | DS62: 932 | DT62: 887 | DU62: 59 | DV62: 204 | DW62: 745 | DX62: 231 | DY62: 973 | DZ62: 729 | EA62: 408 | EB62: 433 | EC62: 571 | ED62: 930 | EE62: 583 | EF62: 504 | EG62: 613 | EH62: 197 | EI62: 570 | EJ62: 313 | EK62: 121 | EL62: 21 | EM62: 682 | EN62: 794 | EO62: 71 | EP62: 915 | EQ62: 182 | ER62: 864 | ES62: 116 | ET62: 65 | EU62: 490 | EV62: 437 | EW62: 752 | EX62: 345 | EY62: 69 | EZ62: 177 | FA62: 856 | FB62: 577 | FC62: 469 | FD62: 420 | FE62: 422 | FF62: 581 | FG62: 666 | FH62: 281 | FI62: 184 | FJ62: 50 | FK62: 50 | FL62: 50 | FM62: 50 | FN62: 52 | FO62: 50 | FP62: 63 | FQ62: 71 | FR62: 60 | FS62: 62 | FT62: 70 | FU62: 50 | FV62: 50 | FW62: 50 | FX62: 50 | FY62: 50 | FZ62: 50 | GA62: 50 | GB62: 50 | GC62: 50 | GD62: 50 | GE62: 72 | GF62: 55 | GG62: 72 | GH62: 61 | GI62: 53 | GJ62: 52 | GK62: 53 | GL62: 50 | GM62: 50 | GN62: 50 | GO62: 50 | GP62: 50 | GQ62: 50 | GR62: 0.908 | GS62: 0.933 | GT62: 1.071 | GU62: 1.43 | GV62: 1.083 | GW62: 1.004 | GX62: 1.113 | GY62: 0.697 | GZ62: 1.07 | HA62: 0.813 | HB62: 0.621 | HC62: 0.521 | HD62: 1.182 | HE62: 1.294 | HF62: 0.571 | HG62: 2 | HH62: 0.182 | HI62: 0.864 | HJ62: 0.116 | HK62: 0.065 | HL62: 0.49 | HM62: 0.437 | HN62: 0.752 | HO62: 0.345 | HP62: 0.069 | HQ62: 0.177 | HR62: 0.856 | HS62: 0.577 | HT62: 0.469 | HU62: 0.42 | HV62: 0.422 | HW62: 0.581 | HX62: NOK | HY62: NOK | HZ62: NOK | IA62: NOK | IB62: 16 | IC62: NOK | ID62: NOK | IE62: NOK | IF62: =IFERROR(RANK(HX62,HX:HX,1),"") | IG62: =IFERROR(RANK(HY62,HY:HY,1),"") | IH62: =IFERROR(RANK(HZ62,HZ:HZ,1),"") | II62: =IFERROR(RANK(IA62,IA:IA,1),"") | IJ62: =IFERROR(RANK(IB62,IB:IB,1),"") -> 38 | IK62: =IFERROR(RANK(IC62,IC:IC,1),"") | IL62: =IFERROR(RANK(ID62,ID:ID,1),"") | IM62: =IFERROR(RANK(IE62,IE:IE,1),"")
A63: 119245 | E63: FALSE | H63: 40 | J63: 40 - G | K63: TRUE | N63: Buy | R63: 0 | S63: 0.615 | T63: FALSE | U63: 43748 | V63: 0 | W63: 0 | X63: 0 | Y63: 0 | Z63: 0 | AA63: 0 | AB63: 45 | AC63: 1 | AD63: 73 | AE63: 43691 | AF63: 43748 | AH63: 0.615 | AI63: A | AJ63: 427 | AK63: 802 | AL63: 870 | AM63: 438 | AN63: 463 | AO63: 292 | AP63: 441 | AQ63: 449 | AR63: 249 | AS63: 936 | AT63: 581 | AU63: 462 | AV63: 515 | AW63: 654 | AX63: 567 | AY63: 242 | AZ63: 58 | BA63: 79 | BB63: 99 | BC63: 92 | BD63: 62 | BE63: 89 | BF63: 100 | BG63: 100 | BH63: 100 | BI63: 100 | BJ63: 100 | BK63: 100 | BL63: 100 | BM63: 25 | BN63: 25 | BO63: 25 | BP63: 25 | BQ63: 3 | BR63: 0 | BS63: 2 | BT63: 3 | BU63: 0 | BV63: 0 | BW63: 1 | BX63: 3 | BY63: 1 | BZ63: 3 | CA63: 2 | CB63: 3 | CC63: 1 | CD63: 2 | CE63: 1 | CF63: 0 | CG63: 68 | CH63: 70 | CI63: 26 | CJ63: 28 | CK63: 37 | CL63: 26 | CM63: 61 | CN63: 81 | CO63: 85 | CP63: 50 | CQ63: 55 | CR63: 25 | CS63: 51 | CT63: 27 | CU63: 62 | CV63: 79 | CW63: 91 | CX63: 80 | CY63: 23 | CZ63: 35 | DA63: 71 | DB63: 53 | DC63: 38 | DD63: 31 | DE63: 7 | DF63: 61 | DG63: 11 | DH63: 97 | DI63: 18 | DJ63: 21 | DK63: 42 | DL63: 64 | DM63: 683 | DN63: 310 | DO63: 979 | DP63: 65 | DQ63: 836 | DR63: 553 | DS63: 666 | DT63: 515 | DU63: 90 | DV63: 959 | DW63: 645 | DX63: 173 | DY63: 829 | DZ63: 793 | EA63: 985 | EB63: 172 | EC63: 436 | ED63: 66 | EE63: 128 | EF63: 132 | EG63: 619 | EH63: 174 | EI63: 426 | EJ63: 9 | EK63: 360 | EL63: 66 | EM63: 898 | EN63: 710 | EO63: 617 | EP63: 660 | EQ63: 728 | ER63: 531 | ES63: 643 | ET63: 443 | EU63: 684 | EV63: 606 | EW63: 590 | EX63: 511 | EY63: 908 | EZ63: 404 | FA63: 761 | FB63: 38 | FC63: 39 | FD63: 79 | FE63: 655 | FF63: 603 | FG63: 770 | FH63: 403 | FI63: 1 | FJ63: 50 | FK63: 50 | FL63: 50 | FM63: 50 | FN63: 67 | FO63: 68 | FP63: 60 | FQ63: 61 | FR63: 76 | FS63: 51 | FT63: 52 | FU63: 50 | FV63: 50 | FW63: 50 | FX63: 50 | FY63: 50 | FZ63: 50 | GA63: 50 | GB63: 50 | GC63: 50 | GD63: 50 | GE63: 73 | GF63: 78 | GG63: 70 | GH63: 55 | GI63: 58 | GJ63: 53 | GK63: 50 | GL63: 50 | GM63: 50 | GN63: 50 | GO63: 50 | GP63: 50 | GQ63: 50 | GR63: 1.485 | GS63: 0.672 | GT63: 0.936 | GU63: 0.566 | GV63: 0.628 | GW63: 0.632 | GX63: 1.119 | GY63: 0.674 | GZ63: 0.926 | HA63: 0.509 | HB63: 0.86 | HC63: 0.566 | HD63: 1.398 | HE63: 1.21 | HF63: 1.117 | HG63: 2 | HH63: 0.728 | HI63: 0.531 | HJ63: 0.643 | HK63: 0.443 | HL63: 0.684 | HM63: 0.606 | HN63: 0.59 | HO63: 0.511 | HP63: 0.908 | HQ63: 0.404 | HR63: 0.761 | HS63: 0.038 | HT63: 0.039 | HU63: 0.079 | HV63: 0.655 | HW63: 0.603 | HX63: NOK | HY63: NOK | HZ63: NOK | IA63: NOK | IB63: 64 | IC63: NOK | ID63: NOK | IE63: NOK | IF63: =IFERROR(RANK(HX63,HX:HX,1),"") | IG63: =IFERROR(RANK(HY63,HY:HY,1),"") | IH63: =IFERROR(RANK(HZ63,HZ:HZ,1),"") | II63: =IFERROR(RANK(IA63,IA:IA,1),"") | IJ63: =IFERROR(RANK(IB63,IB:IB,1),"") -> 131 | IK63: =IFERROR(RANK(IC63,IC:IC,1),"") | IL63: =IFERROR(RANK(ID63,ID:ID,1),"") | IM63: =IFERROR(RANK(IE63,IE:IE,1),"")
A64: 119824 | E64: FALSE | H64: 25 | J64: 50 - B | K64: TRUE | N64: Buy | R64: 94.519997 | S64: 0 | T64: FALSE | U64: 43727 | V64: 0 | W64: 0 | X64: 0 | Y64: 0 | Z64: 0 | AA64: 0 | AB64: 10 | AC64: 5 | AD64: 9999 | AE64: 43691 | AF64: 43727 | AH64: 0 | AI64: A | AJ64: 784 | AK64: 380 | AL64: 345 | AM64: 66 | AN64: 920 | AO64: 551 | AP64: 363 | AQ64: 263 | AR64: 562 | AS64: 815 | AT64: 363 | AU64: 491 | AV64: 757 | AW64: 502 | AX64: 273 | AY64: 756 | AZ64: 67 | BA64: 56 | BB64: 87 | BC64: 61 | BD64: 66 | BE64: 79 | BF64: 100 | BG64: 100 | BH64: 100 | BI64: 100 | BJ64: 100 | BK64: 100 | BL64: 100 | BM64: 25 | BN64: 25 | BO64: 25 | BP64: 25 | BQ64: 3 | BR64: 2 | BS64: 1 | BT64: 1 | BU64: 2 | BV64: 3 | BW64: 3 | BX64: 0 | BY64: 0 | BZ64: 3 | CA64: 1 | CB64: 0 | CC64: 0 | CD64: 3 | CE64: 1 | CF64: 3 | CG64: 30 | CH64: 31 | CI64: 45 | CJ64: 82 | CK64: 26 | CL64: 11 | CM64: 64 | CN64: 8 | CO64: 24 | CP64: 100 | CQ64: 15 | CR64: 46 | CS64: 6 | CT64: 71 | CU64: 87 | CV64: 43 | CW64: 43 | CX64: 34 | CY64: 19 | CZ64: 43 | DA64: 67 | DB64: 95 | DC64: 62 | DD64: 47 | DE64: 56 | DF64: 47 | DG64: 24 | DH64: 7 | DI64: 41 | DJ64: 70 | DK64: 62 | DL64: 7 | DM64: 260 | DN64: 808 | DO64: 800 | DP64: 85 | DQ64: 873 | DR64: 379 | DS64: 371 | DT64: 128 | DU64: 709 | DV64: 559 | DW64: 532 | DX64: 874 | DY64: 549 | DZ64: 835 | EA64: 476 | EB64: 541 | EC64: 778 | ED64: 17 | EE64: 155 | EF64: 110 | EG64: 67 | EH64: 911 | EI64: 988 | EJ64: 576 | EK64: 341 | EL64: 611 | EM64: 633 | EN64: 375 | EO64: 354 | EP64: 69 | EQ64: 723 | ER64: 303 | ES64: 245 | ET64: 971 | EU64: 305 | EV64: 890 | EW64: 30 | EX64: 791 | EY64: 431 | EZ64: 326 | FA64: 716 | FB64: 774 | FC64: 470 | FD64: 977 | FE64: 260 | FF64: 436 | FG64: 459 | FH64: 919 | FI64: 633 | FJ64: 50 | FK64: 50 | FL64: 50 | FM64: 50 | FN64: 66 | FO64: 55 | FP64: 65 | FQ64: 77 | FR64: 58 | FS64: 65 | FT64: 66 | FU64: 50 | FV64: 50 | FW64: 50 | FX64: 50 | FY64: 50 | FZ64: 50 | GA64: 50 | GB64: 50 | GC64: 50 | GD64: 50 | GE64: 50 | GF64: 60 | GG64: 64 | GH64: 57 | GI64: 66 | GJ64: 66 | GK64: 53 | GL64: 50 | GM64: 50 | GN64: 50 | GO64: 50 | GP64: 50 | GQ64: 50 | GR64: 0.976 | GS64: 1.041 | GT64: 1.278 | GU64: 0.517 | GV64: 0.655 | GW64: 0.61 | GX64: 0.567 | GY64: 1.411 | GZ64: 1.488 | HA64: 1.076 | HB64: 0.841 | HC64: 1.111 | HD64: 1.133 | HE64: 0.875 | HF64: 0.854 | HG64: 2 | HH64: 0.723 | HI64: 0.303 | HJ64: 0.245 | HK64: 0.971 | HL64: 0.305 | HM64: 0.89 | HN64: 0.03 | HO64: 0.791 | HP64: 0.431 | HQ64: 0.326 | HR64: 0.716 | HS64: 0.774 | HT64: 0.47 | HU64: 0.977 | HV64: 0.26 | HW64: 0.436 | HX64: NOK | HY64: NOK | HZ64: NOK | IA64: NOK | IB64: 7 | IC64: NOK | ID64: NOK | IE64: NOK | IF64: =IFERROR(RANK(HX64,HX:HX,1),"") | IG64: =IFERROR(RANK(HY64,HY:HY,1),"") | IH64: =IFERROR(RANK(HZ64,HZ:HZ,1),"") | II64: =IFERROR(RANK(IA64,IA:IA,1),"") | IJ64: =IFERROR(RANK(IB64,IB:IB,1),"") -> 17 | IK64: =IFERROR(RANK(IC64,IC:IC,1),"") | IL64: =IFERROR(RANK(ID64,ID:ID,1),"") | IM64: =IFERROR(RANK(IE64,IE:IE,1),"")
A65: 120287 | E65: FALSE | H65: 55 | J65: 50 - B | K65: TRUE | N65: Buy | R65: 100 | S65: 0 | T65: FALSE | U65: 43769 | V65: 0 | W65: 0 | X65: 0 | Y65: 0 | Z65: 0 | AA65: 0 | AB65: 1 | AC65: 1 | AD65: 1 | AE65: 43691 | AF65: 43769 | AH65: 0 | AI65: A | AJ65: 390 | AK65: 759 | AL65: 337 | AM65: 415 | AN65: 976 | AO65: 653 | AP65: 681 | AQ65: 123 | AR65: 657 | AS65: 483 | AT65: 258 | AU65: 814 | AV65: 184 | AW65: 7 | AX65: 10 | AY65: 610 | AZ65: 89 | BA65: 74 | BB65: 70 | BC65: 55 | BD65: 73 | BE65: 63 | BF65: 100 | BG65: 100 | BH65: 100 | BI65: 100 | BJ65: 100 | BK65: 100 | BL65: 100 | BM65: 25 | BN65: 25 | BO65: 25 | BP65: 25 | BQ65: 1 | BR65: 1 | BS65: 3 | BT65: 0 | BU65: 3 | BV65: 0 | BW65: 0 | BX65: 2 | BY65: 1 | BZ65: 2 | CA65: 0 | CB65: 0 | CC65: 2 | CD65: 0 | CE65: 2 | CF65: 2 | CG65: 74 | CH65: 33 | CI65: 26 | CJ65: 15 | CK65: 34 | CL65: 97 | CM65: 32 | CN65: 13 | CO65: 18 | CP65: 94 | CQ65: 54 | CR65: 54 | CS65: 38 | CT65: 41 | CU65: 81 | CV65: 57 | CW65: 81 | CX65: 42 | CY65: 17 | CZ65: 89 | DA65: 98 | DB65: 57 | DC65: 66 | DD65: 13 | DE65: 49 | DF65: 18 | DG65: 58 | DH65: 29 | DI65: 94 | DJ65: 44 | DK65: 96 | DL65: 89 | DM65: 872 | DN65: 694 | DO65: 699 | DP65: 138 | DQ65: 693 | DR65: 497 | DS65: 578 | DT65: 847 | DU65: 469 | DV65: 65 | DW65: 393 | DX65: 89 | DY65: 859 | DZ65: 798 | EA65: 452 | EB65: 886 | EC65: 226 | ED65: 809 | EE65: 8 | EF65: 187 | EG65: 178 | EH65: 653 | EI65: 25 | EJ65: 948 | EK65: 318 | EL65: 997 | EM65: 330 | EN65: 883 | EO65: 877 | EP65: 576 | EQ65: 579 | ER65: 273 | ES65: 61 | ET65: 828 | EU65: 227 | EV65: 116 | EW65: 448 | EX65: 858 | EY65: 578 | EZ65: 456 | FA65: 589 | FB65: 250 | FC65: 373 | FD65: 389 | FE65: 293 | FF65: 341 | FG65: 122 | FH65: 666 | FI65: 50 | FJ65: 50 | FK65: 50 | FL65: 50 | FM65: 50 | FN65: 58 | FO65: 70 | FP65: 72 | FQ65: 65 | FR65: 77 | FS65: 67 | FT65: 55 | FU65: 50 | FV65: 50 | FW65: 50 | FX65: 50 | FY65: 50 | FZ65: 50 | GA65: 50 | GB65: 50 | GC65: 50 | GD65: 50 | GE65: 61 | GF65: 63 | GG65: 71 | GH65: 73 | GI65: 57 | GJ65: 66 | GK65: 68 | GL65: 50 | GM65: 50 | GN65: 50 | GO65: 50 | GP65: 50 | GQ65: 50 | GR65: 0.952 | GS65: 1.386 | GT65: 0.726 | GU65: 1.309 | GV65: 0.508 | GW65: 0.687 | GX65: 0.678 | GY65: 1.153 | GZ65: 0.525 | HA65: 1.448 | HB65: 0.818 | HC65: 1.497 | HD65: 0.83 | HE65: 1.383 | HF65: 1.377 | HG65: 1 | HH65: 0.579 | HI65: 0.273 | HJ65: 0.061 | HK65: 0.828 | HL65: 0.227 | HM65: 0.116 | HN65: 0.448 | HO65: 0.858 | HP65: 0.578 | HQ65: 0.456 | HR65: 0.589 | HS65: 0.25 | HT65: 0.373 | HU65: 0.389 | HV65: 0.293 | HW65: 0.341 | HX65: NOK | HY65: NOK | HZ65: NOK | IA65: NOK | IB65: NOK | IC65: NOK | ID65: NOK | IE65: NOK | IF65: =IFERROR(RANK(HX65,HX:HX,1),"") | IG65: =IFERROR(RANK(HY65,HY:HY,1),"") | IH65: =IFERROR(RANK(HZ65,HZ:HZ,1),"") | II65: =IFERROR(RANK(IA65,IA:IA,1),"") | IJ65: =IFERROR(RANK(IB65,IB:IB,1),"") | IK65: =IFERROR(RANK(IC65,IC:IC,1),"") | IL65: =IFERROR(RANK(ID65,ID:ID,1),"") | IM65: =IFERROR(RANK(IE65,IE:IE,1),"")
A66: 120299 | E66: FALSE | H66: 40 | J66: 40 - G | K66: TRUE | N66: Buy | R66: 0 | S66: 0.058 | T66: FALSE | U66: 43748 | V66: 0 | W66: 0 | X66: 0 | Y66: 0 | Z66: 0 | AA66: 0 | AB66: 10 | AC66: 5 | AD66: 172 | AE66: 43691 | AF66: 43748 | AH66: 0.058 | AI66: A | AJ66: 978 | AK66: 886 | AL66: 58 | AM66: 164 | AN66: 286 | AO66: 192 | AP66: 958 | AQ66: 252 | AR66: 400 | AS66: 720 | AT66: 385 | AU66: 329 | AV66: 905 | AW66: 747 | AX66: 52 | AY66: 922 | AZ66: 93 | BA66: 84 | BB66: 90 | BC66: 96 | BD66: 66 | BE66: 62 | BF66: 100 | BG66: 100 | BH66: 100 | BI66: 100 | BJ66: 100 | BK66: 100 | BL66: 100 | BM66: 25 | BN66: 25 | BO66: 25 | BP66: 25 | BQ66: 0 | BR66: 3 | BS66: 1 | BT66: 3 | BU66: 1 | BV66: 0 | BW66: 3 | BX66: 1 | BY66: 1 | BZ66: 0 | CA66: 1 | CB66: 1 | CC66: 3 | CD66: 3 | CE66: 0 | CF66: 1 | CG66: 92 | CH66: 16 | CI66: 25 | CJ66: 70 | CK66: 52 | CL66: 51 | CM66: 86 | CN66: 73 | CO66: 23 | CP66: 63 | CQ66: 57 | CR66: 97 | CS66: 25 | CT66: 19 | CU66: 0 | CV66: 24 | CW66: 52 | CX66: 37 | CY66: 14 | CZ66: 94 | DA66: 38 | DB66: 61 | DC66: 33 | DD66: 47 | DE66: 25 | DF66: 47 | DG66: 93 | DH66: 99 | DI66: 63 | DJ66: 87 | DK66: 74 | DL66: 39 | DM66: 987 | DN66: 601 | DO66: 528 | DP66: 617 | DQ66: 97 | DR66: 792 | DS66: 431 | DT66: 155 | DU66: 760 | DV66: 863 | DW66: 201 | DX66: 245 | DY66: 64 | DZ66: 783 | EA66: 711 | EB66: 22 | EC66: 721 | ED66: 878 | EE66: 445 | EF66: 806 | EG66: 492 | EH66: 581 | EI66: 433 | EJ66: 845 | EK66: 920 | EL66: 294 | EM66: 217 | EN66: 494 | EO66: 297 | EP66: 149 | EQ66: 543 | ER66: 690 | ES66: 46 | ET66: 225 | EU66: 121 | EV66: 555 | EW66: 871 | EX66: 56 | EY66: 133 | EZ66: 907 | FA66: 71 | FB66: 650 | FC66: 55 | FD66: 223 | FE66: 784 | FF66: 680 | FG66: 881 | FH66: 259 | FI66: 967 | FJ66: 50 | FK66: 50 | FL66: 50 | FM66: 50 | FN66: 76 | FO66: 51 | FP66: 64 | FQ66: 66 | FR66: 77 | FS66: 51 | FT66: 70 | FU66: 50 | FV66: 50 | FW66: 50 | FX66: 50 | FY66: 50 | FZ66: 50 | GA66: 50 | GB66: 50 | GC66: 50 | GD66: 50 | GE66: 53 | GF66: 76 | GG66: 62 | GH66: 63 | GI66: 67 | GJ66: 75 | GK66: 70 | GL66: 50 | GM66: 50 | GN66: 50 | GO66: 50 | GP66: 50 | GQ66: 50 | GR66: 1.211 | GS66: 0.522 | GT66: 1.221 | GU66: 1.378 | GV66: 0.945 | GW66: 1.306 | GX66: 0.992 | GY66: 1.081 | GZ66: 0.933 | HA66: 1.345 | HB66: 1.42 | HC66: 0.794 | HD66: 0.717 | HE66: 0.994 | HF66: 0.797 | HG66: 1 | HH66: 0.543 | HI66: 0.69 | HJ66: 0.046 | HK66: 0.225 | HL66: 0.121 | HM66: 0.555 | HN66: 0.871 | HO66: 0.056 | HP66: 0.133 | HQ66: 0.907 | HR66: 0.071 | HS66: 0.65 | HT66: 0.055 | HU66: 0.223 | HV66: 0.784 | HW66: 0.68 | HX66: NOK | HY66: NOK | HZ66: NOK | IA66: NOK | IB66: NOK | IC66: NOK | ID66: NOK | IE66: NOK | IF66: =IFERROR(RANK(HX66,HX:HX,1),"") | IG66: =IFERROR(RANK(HY66,HY:HY,1),"") | IH66: =IFERROR(RANK(HZ66,HZ:HZ,1),"") | II66: =IFERROR(RANK(IA66,IA:IA,1),"") | IJ66: =IFERROR(RANK(IB66,IB:IB,1),"") | IK66: =IFERROR(RANK(IC66,IC:IC,1),"") | IL66: =IFERROR(RANK(ID66,ID:ID,1),"") | IM66: =IFERROR(RANK(IE66,IE:IE,1),"")
A67: 120300 | E67: FALSE | H67: 25 | J67: 50 - B | K67: TRUE | N67: Buy | R67: 27.799999 | S67: 0 | T67: FALSE | U67: 43727 | V67: 0 | W67: 0 | X67: 0 | Y67: 0 | Z67: 0 | AA67: 0 | AB67: 10 | AC67: 5 | AD67: 9999 | AE67: 43691 | AF67: 43727 | AH67: 0 | AI67: A | AJ67: 684 | AK67: 869 | AL67: 975 | AM67: 302 | AN67: 342 | AO67: 701 | AP67: 392 | AQ67: 921 | AR67: 388 | AS67: 200 | AT67: 517 | AU67: 674 | AV67: 592 | AW67: 595 | AX67: 780 | AY67: 205 | AZ67: 75 | BA67: 79 | BB67: 95 | BC67: 53 | BD67: 80 | BE67: 86 | BF67: 100 | BG67: 100 | BH67: 100 | BI67: 100 | BJ67: 100 | BK67: 100 | BL67: 100 | BM67: 25 | BN67: 25 | BO67: 25 | BP67: 25 | BQ67: 1 | BR67: 1 | BS67: 1 | BT67: 3 | BU67: 3 | BV67: 3 | BW67: 2 | BX67: 3 | BY67: 3 | BZ67: 3 | CA67: 0 | CB67: 1 | CC67: 2 | CD67: 3 | CE67: 2 | CF67: 3 | CG67: 65 | CH67: 25 | CI67: 21 | CJ67: 70 | CK67: 83 | CL67: 96 | CM67: 32 | CN67: 34 | CO67: 70 | CP67: 66 | CQ67: 45 | CR67: 91 | CS67: 79 | CT67: 74 | CU67: 12 | CV67: 50 | CW67: 16 | CX67: 1 | CY67: 85 | CZ67: 70 | DA67: 18 | DB67: 86 | DC67: 6 | DD67: 42 | DE67: 38 | DF67: 42 | DG67: 57 | DH67: 56 | DI67: 37 | DJ67: 46 | DK67: 26 | DL67: 100 | DM67: 480 | DN67: 967 | DO67: 811 | DP67: 434 | DQ67: 27 | DR67: 995 | DS67: 713 | DT67: 218 | DU67: 829 | DV67: 152 | DW67: 675 | DX67: 900 | DY67: 10 | DZ67: 841 | EA67: 271 | EB67: 751 | EC67: 536 | ED67: 521 | EE67: 395 | EF67: 288 | EG67: 885 | EH67: 735 | EI67: 151 | EJ67: 920 | EK67: 710 | EL67: 814 | EM67: 14 | EN67: 824 | EO67: 544 | EP67: 583 | EQ67: 568 | ER67: 170 | ES67: 483 | ET67: 966 | EU67: 217 | EV67: 332 | EW67: 355 | EX67: 601 | EY67: 224 | EZ67: 598 | FA67: 715 | FB67: 843 | FC67: 620 | FD67: 578 | FE67: 586 | FF67: 14 | FG67: 509 | FH67: 553 | FI67: 414 | FJ67: 50 | FK67: 50 | FL67: 50 | FM67: 50 | FN67: 67 | FO67: 63 | FP67: 56 | FQ67: 69 | FR67: 58 | FS67: 70 | FT67: 80 | FU67: 50 | FV67: 50 | FW67: 50 | FX67: 50 | FY67: 50 | FZ67: 50 | GA67: 50 | GB67: 50 | GC67: 50 | GD67: 50 | GE67: 73 | GF67: 73 | GG67: 76 | GH67: 67 | GI67: 61 | GJ67: 63 | GK67: 69 | GL67: 50 | GM67: 50 | GN67: 50 | GO67: 50 | GP67: 50 | GQ67: 50 | GR67: 0.771 | GS67: 1.251 | GT67: 1.036 | GU67: 1.021 | GV67: 0.895 | GW67: 0.788 | GX67: 1.385 | GY67: 1.235 | GZ67: 0.651 | HA67: 1.42 | HB67: 1.21 | HC67: 1.314 | HD67: 0.514 | HE67: 1.324 | HF67: 1.044 | HG67: 2 | HH67: 0.568 | HI67: 0.17 | HJ67: 0.483 | HK67: 0.966 | HL67: 0.217 | HM67: 0.332 | HN67: 0.355 | HO67: 0.601 | HP67: 0.224 | HQ67: 0.598 | HR67: 0.715 | HS67: 0.843 | HT67: 0.62 | HU67: 0.578 | HV67: 0.586 | HW67: 0.014 | HX67: NOK | HY67: NOK | HZ67: NOK | IA67: NOK | IB67: 100 | IC67: NOK | ID67: NOK | IE67: NOK | IF67: =IFERROR(RANK(HX67,HX:HX,1),"") | IG67: =IFERROR(RANK(HY67,HY:HY,1),"") | IH67: =IFERROR(RANK(HZ67,HZ:HZ,1),"") | II67: =IFERROR(RANK(IA67,IA:IA,1),"") | IJ67: =IFERROR(RANK(IB67,IB:IB,1),"") -> 190 | IK67: =IFERROR(RANK(IC67,IC:IC,1),"") | IL67: =IFERROR(RANK(ID67,ID:ID,1),"") | IM67: =IFERROR(RANK(IE67,IE:IE,1),"")
