Workbook

Sheet Analyse
Y1: OPTIMISATION DU STOCK | Z1: 1 | AA1: Si la moyenne des consommations des trois derniers mois est inférieure de plus de 20% (buffer) (50% pour les Min/Max) à la moyenne des consommations des 12 derniers mois. | AC1: Rupture de stock
Y2: AMÉLIORATION SÉCURISATION | Z2: 2 | AA2: Si la moyenne des consommations des trois derniers mois est supérieure de plus de 20% à la moyenne des consommations des 12 derniers mois. | AB2: M-12 | AC2: =INDEX(MasterData!$A:$IV,MATCH($D$11,MasterData!$A:$A,0),70) -> 0
Y3: OPTIMISATION DU STOCK | Z3: 3 | AA3: La Demand Variance est faible et la zone de sécurité n’est jamais atteinte, cela sous-entend que la pièce est trop sécurisée. | AB3: M-11 | AC3: =INDEX(MasterData!$A:$IV,MATCH($D$11,MasterData!$A:$A,0),71) -> 2
Y4: AMÉLIORATION SÉCURISATION | Z4: 4 | AA4: La Demand Variance est faible et le flux physique de la pièce est régulièrement dans la zone rouge d’exécution, cela sous-entend que la pièce n’est certainement pas assez sécurisée. | AB4: M-10 | AC4: =INDEX(MasterData!$A:$IV,MATCH($D$11,MasterData!$A:$A,0),72) -> 1
Y5: OPTIMISATION DU STOCK | Z5: 5 | AA5: La Demand Variance est élevée mais la couverture de stock est importante. Cela sous-entend une sécurisation trop forte. | AB5: M-9 | AC5: =INDEX(MasterData!$A:$IV,MATCH($D$11,MasterData!$A:$A,0),73) -> 1
Y6: AMÉLIORATION SÉCURISATION | Z6: 6 | AA6: La Demand Variance est élevée et le flux physique de la pièce est régulièrement dans la zone rouge d’exécution, cela sous-entend que la pièce n’est certainement pas assez sécurisée. | AB6: M-8 | AC6: =INDEX(MasterData!$A:$IV,MATCH($D$11,MasterData!$A:$A,0),74) -> 1
C7: =INDEX($Y$1:$AA$8,MATCH($D$8,$Z$1:$Z$8,0),1) -> OPTIMISATION DU STOCK | Y7: OPTIMISATION DU STOCK | Z7: 7 | AA7: La moyenne des en-cours de commandes et des prévisions des six prochains mois est inférieure de 30% à la moyenne des consommations des six derniers mois. | AB7: M-7 | AC7: =INDEX(MasterData!$A:$IV,MATCH($D$11,MasterData!$A:$A,0),75) -> 1
C8: Alerte : | D8: 1 | Y8: AMÉLIORATION SÉCURISATION | Z8: 8 | AA8: La moyenne des en-cours de commandes et des prévisions des six prochains mois est supérieure de 30% à la moyenne des consommations des six derniers mois. | AB8: M-6 | AC8: =INDEX(MasterData!$A:$IV,MATCH($D$11,MasterData!$A:$A,0),76) -> 3
AB9: M-5 | AC9: =INDEX(MasterData!$A:$IV,MATCH($D$11,MasterData!$A:$A,0),77) -> 3
AB10: M-4 | AC10: =INDEX(MasterData!$A:$IV,MATCH($D$11,MasterData!$A:$A,0),78) -> 1
C11: Référence : | D11: =IF($D$8=$Z$1,INDEX(MasterData!$A:$A,MATCH(1,MasterData!$IF:$IF,0)),IF($D$8=$Z$2,INDEX(MasterData!$A:$A,MATCH(1,MasterData!$IG:$IG,0)),IF($D$8=$Z$3,INDEX(MasterData!$A:$A,MATCH(1,MasterData!$IH:$IH,0)),IF($D$8=$Z$4,INDEX(MasterData!$A:$A,MATCH(1,MasterData!$II:$II,0)),IF($D$8=$Z$5,INDEX(MasterData!$A:$A,MATCH(1,MasterData!$IJ:$IJ,0)),IF($D$8=$Z$6,INDEX(MasterData!$A:$A,MATCH(1,MasterData!$IK:$IK,0)),IF($D$8=$Z$7,INDEX(MasterData!$A:$A,MATCH(1,MasterData!$IL:$IL,0)),IF($D$8=$Z$8,INDEX(MasterData!$A:$A,MATCH(1,MasterData!$IM:$IM,0)),"")))))))) -> 112435 | AB11: M-3 | AC11: =INDEX(MasterData!$A:$IV,MATCH($D$11,MasterData!$A:$A,0),79) -> 1
AB12: M-2 | AC12: =INDEX(MasterData!$A:$IV,MATCH($D$11,MasterData!$A:$A,0),80) -> 3
AB13: M-1 | AC13: =INDEX(MasterData!$A:$IV,MATCH($D$11,MasterData!$A:$A,0),81) -> 2
AB14: M | AC14: =INDEX(MasterData!$A:$IV,MATCH($D$11,MasterData!$A:$A,0),82) -> 3
F35: Préconisation finale :

Sheet MasterData
A1: 1 | E1: 5 | H1: 8 | J1: 10 | K1: 11 | L1: 12 | M1: 13 | N1: 14 | P1: 16 | R1: 18 | S1: 19 | T1: 20 | U1: 21 | V1: 22 | W1: 23 | X1: 24 | Y1: 25 | Z1: 26 | AA1: 27 | AB1: 28 | AC1: 29 | AD1: 30 | AE1: 31 | AF1: 32 | AG1: 33 | AH1: 34 | AI1: 35 | AJ1: S | AK1: M-12 | AL1: M-11 | AM1: M-10 | AN1: M-9 | AO1: M-8 | AP1: M-7 | AQ1: M-6 | AR1: M-5 | AS1: M-4 | AT1: M-3 | AU1: M-2 | AV1: M-1 | AW1: S-3 | AX1: S-2 | AY1: S-1 | AZ1: S | BA1: M-12 | BB1: M-11 | BC1: M-10 | BD1: M-9 | BE1: M-8 | BF1: M-7 | BG1: M-6 | BH1: M-5 | BI1: M-4 | BJ1: M-3 | BK1: M-2 | BL1: M-1 | BM1: M | BN1: S-3 | BO1: S-2 | BP1: S-1 | BQ1: S | BR1: M-12 | BS1: M-11 | BT1: M-10 | BU1: M-9 | BV1: M-8 | BW1: M-7 | BX1: M-6 | BY1: M-5 | BZ1: M-4 | CA1: M-3 | CB1: M-2 | CC1: M-1 | CD1: S-3 | CE1: S-2 | CF1: S-1 | CG1: S | CH1: M-12 | CI1: M-11 | CJ1: M-10 | CK1: M-9 | CL1: M-8 | CM1: M-7 | CN1: M-6 | CO1: M-5 | CP1: M-4 | CQ1: M-3 | CR1: M-2 | CS1: M-1 | CT1: S-3 | CU1: S-2 | CV1: S-1 | CW1: S | CX1: M-12 | CY1: M-11 | CZ1: M-10 | DA1: M-9 | DB1: M-8 | DC1: M-7 | DD1: M-6 | DE1: M-5 | DF1: M-4 | DG1: M-3 | DH1: M-2 | DI1: M-1 | DJ1: S-3 | DK1: S-2 | DL1: S-1 | DM1: S | DN1: M-12 | DO1: M-11 | DP1: M-10 | DQ1: M-9 | DR1: M-8 | DS1: M-7 | DT1: M-6 | DU1: M-5 | DV1: M-4 | DW1: M-3 | DX1: M-2 | DY1: M-1 | DZ1: S-3 | EA1: S-2 | EB1: S-1 | EC1: S | ED1: M-12 | EE1: M-11 | EF1: M-10 | EG1: M-9 | EH1: M-8 | EI1: M-7 | EJ1: M-6 | EK1: M-5 | EL1: M-4 | EM1: M-3 | EN1: M-2 | EO1: M-1 | EP1: S-3 | EQ1: S-2 | ER1: S-1 | ES1: S | ET1: M-12 | EU1: M-11 | EV1: M-10 | EW1: M-9 | EX1: M-8 | EY1: M-7 | EZ1: M-6 | FA1: M-5 | FB1: M-4 | FC1: M-3 | FD1: M-2 | FE1: M-1 | FF1: S-3 | FG1: S-2 | FH1: S-1 | FI1: S | FJ1: S- | FK1: S | FL1: S+1 | FM1: S+2 | FN1: S+3 | FO1: M | FP1: M+1 | FQ1: M+2 | FR1: M+3 | FS1: M+4 | FT1: M+5 | FU1: M+6 | FV1: M+7 | FW1: M+8 | FX1: M+9 | FY1: M+10 | FZ1: M+11 | GA1: M+12 | GB1: S | GC1: S+1 | GD1: S+2 | GE1: S+3 | GF1: M | GG1: M+1 | GH1: M+2 | GI1: M+3 | GJ1: M+4 | GK1: M+5 | GL1: M+6 | GM1: M+7 | GN1: M+8 | GO1: M+9 | GP1: M+10 | GQ1: M+11 | GR1: M+12 | GS1: M-12 | GT1: M-11 | GU1: M-10 | GV1: M-9 | GW1: M-8 | GX1: M-7 | GY1: M-6 | GZ1: M-5 | HA1: M-4 | HB1: M-3 | HC1: M-2 | HD1: M-1 | HE1: S-3 | HF1: S-2 | HG1: S-1 | HH1: S | HI1: M-12 | HJ1: M-11 | HK1: M-10 | HL1: M-9 | HM1: M-8 | HN1: M-7 | HO1: M-6 | HP1: M-5 | HQ1: M-4 | HR1: M-3 | HS1: M-2 | HT1: M-1 | HU1: S-3 | HV1: S-2 | HW1: S-1 | HX1: S | IN1: EXCEPTION N°1 | IO1: EXCEPTION N°2 | IP1: EXCEPTION N°3 | IQ1: EXCEPTION N°4 | IR1: EXCEPTION N°5 | IS1: EXCEPTION N°6 | IT1: EXCEPTION N°7 | IU1: EXCEPTION N°8 | IV1: PRECO N°1 | IW1: PRECO N°2 | IX1: PRECO N°3 | IY1: PRECO N°4 | IZ1: PRECO N°5 | JA1: PRECO N°6 | JB1: PRECO N°7 | JC1: PRECO N°8
HX2: 1 | HY2: 2 | HZ2: 3 | IA2: 4 | IB2: 5 | IC2: 6 | ID2: 7 | IE2: 8 | IF2: Top Alerte 1 | IG2: Top Alerte 2 | IH2: Top Alerte 3 | II2: Top Alerte 4 | IJ2: Top Alerte 5 | IK2: Top Alerte 6 | IL2: Top Alerte 7 | IM2: Top Alerte 8 | IN2: 1 | IO2: 2 | IP2: 3 | IQ2: 4 | IR2: 5 | IS2: 6 | IT2: 7 | IU2: 8 | IV2: 1 | IW2: 2 | IX2: 3 | IY2: 4 | IZ2: 5 | JA2: 6 | JB2: 7 | JC2: 8
A3: 111688C | E3: FALSE | H3: 40 | J3: 40 - G | K3: TRUE | N3: Buy | R3: 11.12 | S3: 0.008 | T3: FALSE | U3: 43748 | V3: 0 | W3: 0 | X3: 0 | Y3: 0 | Z3: 0 | AA3: 0 | AB3: 10 | AC3: 5 | AD3: 1250 | AE3: 43691 | AF3: 43748 | AH3: 0.008 | AI3: A | AJ3: 700 | AK3: 700 | AL3: 700 | AM3: 700 | AN3: 700 | AO3: 700 | AP3: 700 | AQ3: 700 | AR3: 700 | AS3: 700 | AT3: 700 | AU3: 700 | AV3: 700 | AW3: 700 | AX3: 700 | AY3: 700 | AZ3: 100 | BA3: 100 | BB3: 100 | BC3: 100 | BD3: 100 | BE3: 100 | BF3: 100 | BG3: 100 | BH3: 100 | BI3: 100 | BJ3: 50 | BK3: 50 | BL3: 50 | BM3: 25 | BN3: 25 | BO3: 25 | BP3: 25 | BQ3: 1 | BR3: 3 | BS3: 0 | BT3: 0 | BU3: 2 | BV3: 0 | BW3: 1 | BX3: 0 | BY3: 2 | BZ3: 0 | CA3: 0 | CB3: 3 | CC3: 1 | CD3: 1 | CE3: 1 | CF3: 2 | CG3: 87 | CH3: 87 | CI3: 87 | CJ3: 87 | CK3: 87 | CL3: 87 | CM3: 87 | CN3: 87 | CO3: 87 | CP3: 87 | CQ3: 87 | CR3: 87 | CS3: 87 | CT3: 87 | CU3: 87 | CV3: 87 | CW3: 55 | CX3: 55 | CY3: 55 | CZ3: 55 | DA3: 55 | DB3: 55 | DC3: 55 | DD3: 55 | DE3: 55 | DF3: 55 | DG3: 55 | DH3: 55 | DI3: 55 | DJ3: 55 | DK3: 55 | DL3: 55 | DM3: 250 | DN3: 250 | DO3: 250 | DP3: 250 | DQ3: 250 | DR3: 250 | DS3: 250 | DT3: 250 | DU3: 250 | DV3: 250 | DW3: 250 | DX3: 250 | DY3: 250 | DZ3: 250 | EA3: 250 | EB3: 250 | EC3: 816 | ED3: 775 | EE3: 285 | EF3: 939 | EG3: 152 | EH3: 406 | EI3: 688 | EJ3: 611 | EK3: 446 | EL3: 170 | EM3: 942 | EN3: 914 | EO3: 802 | EP3: 915 | EQ3: 201 | ER3: 765 | ES3: 583 | ET3: 931 | EU3: 805 | EV3: 847 | EW3: 282 | EX3: 302 | EY3: 866 | EZ3: 60 | FA3: 9 | FB3: 946 | FC3: 921 | FD3: 419 | FE3: 66 | FF3: 26 | FG3: 687 | FH3: 459 | FI3: 0 | FJ3: 50 | FK3: 50 | FL3: 50 | FM3: 50 | FN3: 50 | FO3: 50 | FP3: 50 | FQ3: 50 | FR3: 50 | FS3: 50 | FT3: 50 | FU3: 50 | FV3: 50 | FW3: 50 | FX3: 50 | FY3: 50 | FZ3: 50 | GA3: 50 | GB3: 50 | GC3: 50 | GD3: 50 | GE3: 50 | GF3: 50 | GG3: 50 | GH3: 50 | GI3: 50 | GJ3: 50 | GK3: 50 | GL3: 50 | GM3: 50 | GN3: 50 | GO3: 50 | GP3: 50 | GQ3: 50 | GR3: 0.9 | GS3: 0.9 | GT3: 0.9 | GU3: 0.9 | GV3: 0.9 | GW3: 0.9 | GX3: 0.9 | GY3: 0.9 | GZ3: 0.9 | HA3: 0.9 | HB3: 0.9 | HC3: 0.9 | HD3: 0.9 | HE3: 0.9 | HF3: 0.9 | HG3: 2 | HH3: 0.1 | HI3: 0.1 | HJ3: 0.1 | HK3: 0.1 | HL3: 0.1 | HM3: 0.1 | HN3: 0.1 | HO3: 0.1 | HP3: 0.1 | HQ3: 0.1 | HR3: 0.1 | HS3: 0.1 | HT3: 0.1 | HU3: 0.1 | HV3: 0.1 | HW3: 0.1 | HX3: NOK | HY3: NOK | HZ3: NOK | IA3: NOK | IB3: 55 | IC3: NOK | ID3: NOK | IE3: NOK | IF3: =IFERROR(RANK(HX3,HX:HX,1),"") | IG3: =IFERROR(RANK(HY3,HY:HY,1),"") | IH3: =IFERROR(RANK(HZ3,HZ:HZ,1),"") | II3: =IFERROR(RANK(IA3,IA:IA,1),"") | IJ3: =IFERROR(RANK(IB3,IB:IB,1),"") -> 114 | IK3: =IFERROR(RANK(IC3,IC:IC,1),"") | IL3: =IFERROR(RANK(ID3,ID:ID,1),"") | IM3: =IFERROR(RANK(IE3,IE:IE,1),"")
A4: 111690C | E4: FALSE | H4: 35 | J4: 40 - G | K4: TRUE | N4: Buy | R4: 0 | S4: 0.092 | T4: FALSE | U4: 43741 | V4: 0 | W4: 0 | X4: 0.15323 | Y4: 7 | Z4: 0 | AA4: 20 | AB4: 10 | AC4: 5 | AD4: 108 | AE4: 43691 | AF4: 43741 | AH4: 0.092 | AI4: A | AJ4: 976 | AK4: 613 | AL4: 577 | AM4: 362 | AN4: 769 | AO4: 980 | AP4: 684 | AQ4: 379 | AR4: 1000 | AS4: 383 | AT4: 932 | AU4: 383 | AV4: 141 | AW4: 877 | AX4: 971 | AY4: 240 | AZ4: 100 | BA4: 100 | BB4: 100 | BC4: 100 | BD4: 100 | BE4: 100 | BF4: 100 | BG4: 100 | BH4: 100 | BI4: 100 | BJ4: 150 | BK4: 150 | BL4: 150 | BM4: 25 | BN4: 25 | BO4: 25 | BP4: 25 | BQ4: 3 | BR4: 3 | BS4: 0 | BT4: 3 | BU4: 0 | BV4: 3 | BW4: 2 | BX4: 2 | BY4: 0 | BZ4: 1 | CA4: 3 | CB4: 1 | CC4: 3 | CD4: 2 | CE4: 2 | CF4: 2 | CG4: 25 | CH4: 73 | CI4: 33 | CJ4: 83 | CK4: 4 | CL4: 99 | CM4: 45 | CN4: 89 | CO4: 64 | CP4: 19 | CQ4: 1 | CR4: 93 | CS4: 22 | CT4: 79 | CU4: 13 | CV4: 58 | CW4: 96 | CX4: 48 | CY4: 97 | CZ4: 76 | DA4: 26 | DB4: 0 | DC4: 78 | DD4: 0 | DE4: 85 | DF4: 68 | DG4: 35 | DH4: 80 | DI4: 74 | DJ4: 36 | DK4: 47 | DL4: 99 | DM4: 87 | DN4: 745 | DO4: 68 | DP4: 990 | DQ4: 630 | DR4: 981 | DS4: 660 | DT4: 919 | DU4: 648 | DV4: 138 | DW4: 767 | DX4: 182 | DY4: 140 | DZ4: 59 | EA4: 254 | EB4: 917 | EC4: 485 | ED4: 919 | EE4: 293 | EF4: 255 | EG4: 403 | EH4: 633 | EI4: 979 | EJ4: 692 | EK4: 270 | EL4: 803 | EM4: 48 | EN4: 113 | EO4: 476 | EP4: 846 | EQ4: 616 | ER4: 746 | ES4: 219 | ET4: 754 | EU4: 287 | EV4: 97 | EW4: 754 | EX4: 541 | EY4: 57 | EZ4: 358 | FA4: 618 | FB4: 992 | FC4: 756 | FD4: 303 | FE4: 668 | FF4: 212 | FG4: 140 | FH4: 962 | FI4: 905 | FJ4: 50 | FK4: 50 | FL4: 50 | FM4: 50 | FN4: 50 | FO4: 50 | FP4: 50 | FQ4: 50 | FR4: 50 | FS4: 50 | FT4: 50 | FU4: 50 | FV4: 50 | FW4: 50 | FX4: 50 | FY4: 50 | FZ4: 50 | GA4: 50 | GB4: 50 | GC4: 50 | GD4: 50 | GE4: 50 | GF4: 50 | GG4: 50 | GH4: 50 | GI4: 50 | GJ4: 50 | GK4: 50 | GL4: 50 | GM4: 50 | GN4: 50 | GO4: 50 | GP4: 50 | GQ4: 50 | GR4: 0.754 | GS4: 1.417 | GT4: 0.985 | GU4: 1.419 | GV4: 0.793 | GW4: 0.755 | GX4: 0.903 | GY4: 1.133 | GZ4: 1.479 | HA4: 1.192 | HB4: 0.77 | HC4: 1.303 | HD4: 0.548 | HE4: 0.613 | HF4: 0.976 | HG4: 1.346 | HH4: 0.616 | HI4: 0.746 | HJ4: 0.219 | HK4: 0.754 | HL4: 0.287 | HM4: 0.097 | HN4: 0.754 | HO4: 0.541 | HP4: 0.057 | HQ4: 0.358 | HR4: 0.618 | HS4: 0.992 | HT4: 0.756 | HU4: 0.303 | HV4: 0.668 | HW4: 0.212 | HX4: NOK | HY4: NOK | HZ4: NOK | IA4: NOK | IB4: 99 | IC4: 0.15323 | ID4: NOK | IE4: NOK | IF4: =IFERROR(RANK(HX4,HX:HX,1),"") | IG4: =IFERROR(RANK(HY4,HY:HY,1),"") | IH4: =IFERROR(RANK(HZ4,HZ:HZ,1),"") | II4: =IFERROR(RANK(IA4,IA:IA,1),"") | IJ4: =IFERROR(RANK(IB4,IB:IB,1),"") -> 185 | IK4: =IFERROR(RANK(IC4,IC:IC,1),"") -> 27 | IL4: =IFERROR(RANK(ID4,ID:ID,1),"") | IM4: =IFERROR(RANK(IE4,IE:IE,1),"")
A5: 112435 | E5: FALSE | H5: 40 | J5: 40 - G | K5: TRUE | N5: Buy | R5: 0 | S5: 0.067 | T5: FALSE | U5: 43748 | V5: 0 | W5: 0 | X5: 0 | Y5: 0 | Z5: 0 | AA5: 0 | AB5: 10 | AC5: 5 | AD5: 149 | AE5: 43691 | AF5: 43748 | AH5: 0.067 | AI5: A | AJ5: 380 | AK5: 524 | AL5: 70 | AM5: 294 | AN5: 362 | AO5: 975 | AP5: 787 | AQ5: 997 | AR5: 673 | AS5: 72 | AT5: 726 | AU5: 46 | AV5: 21 | AW5: 324 | AX5: 72 | AY5: 123 | AZ5: 100 | BA5: 100 | BB5: 100 | BC5: 100 | BD5: 100 | BE5: 100 | BF5: 100 | BG5: 100 | BH5: 100 | BI5: 100 | BJ5: 100 | BK5: 100 | BL5: 100 | BM5: 25 | BN5: 25 | BO5: 25 | BP5: 25 | BQ5: 0 | BR5: 0 | BS5: 2 | BT5: 1 | BU5: 1 | BV5: 1 | BW5: 1 | BX5: 3 | BY5: 3 | BZ5: 1 | CA5: 1 | CB5: 3 | CC5: 2 | CD5: 3 | CE5: 3 | CF5: 0 | CG5: 43 | CH5: 38 | CI5: 45 | CJ5: 18 | CK5: 73 | CL5: 2 | CM5: 28 | CN5: 57 | CO5: 77 | CP5: 54 | CQ5: 17 | CR5: 73 | CS5: 100 | CT5: 10 | CU5: 4 | CV5: 19 | CW5: 51 | CX5: 63 | CY5: 52 | CZ5: 3 | DA5: 68 | DB5: 0 | DC5: 19 | DD5: 94 | DE5: 23 | DF5: 19 | DG5: 79 | DH5: 30 | DI5: 1 | DJ5: 75 | DK5: 72 | DL5: 37 | DM5: 735 | DN5: 690 | DO5: 536 | DP5: 422 | DQ5: 737 | DR5: 991 | DS5: 662 | DT5: 851 | DU5: 584 | DV5: 80 | DW5: 672 | DX5: 226 | DY5: 621 | DZ5: 235 | EA5: 263 | EB5: 554 | EC5: 301 | ED5: 606 | EE5: 246 | EF5: 123 | EG5: 131 | EH5: 199 | EI5: 109 | EJ5: 881 | EK5: 181 | EL5: 708 | EM5: 62 | EN5: 859 | EO5: 349 | EP5: 199 | EQ5: 197 | ER5: 565 | ES5: 802 | ET5: 10 | EU5: 530 | EV5: 259 | EW5: 379 | EX5: 639 | EY5: 234 | EZ5: 1000 | FA5: 228 | FB5: 885 | FC5: 855 | FD5: 982 | FE5: 165 | FF5: 854 | FG5: 885 | FH5: 483 | FI5: 881 | FJ5: 50 | FK5: 50 | FL5: 50 | FM5: 50 | FN5: 50 | FO5: 50 | FP5: 50 | FQ5: 50 | FR5: 50 | FS5: 50 | FT5: 50 | FU5: 50 | FV5: 50 | FW5: 50 | FX5: 50 | FY5: 50 | FZ5: 50 | GA5: 50 | GB5: 50 | GC5: 50 | GD5: 50 | GE5: 50 | GF5: 50 | GG5: 50 | GH5: 50 | GI5: 50 | GJ5: 50 | GK5: 50 | GL5: 50 | GM5: 50 | GN5: 50 | GO5: 50 | GP5: 50 | GQ5: 50 | GR5: 0.763 | GS5: 1.054 | GT5: 0.801 | GU5: 1.106 | GV5: 0.746 | GW5: 0.623 | GX5: 0.631 | GY5: 0.699 | GZ5: 0.609 | HA5: 1.381 | HB5: 0.681 | HC5: 1.208 | HD5: 0.562 | HE5: 1.359 | HF5: 0.849 | HG5: 2 | HH5: 0.197 | HI5: 0.565 | HJ5: 0.802 | HK5: 0.01 | HL5: 0.53 | HM5: 0.259 | HN5: 0.379 | HO5: 0.639 | HP5: 0.234 | HQ5: 1 | HR5: 0 | HS5: 0 | HT5: 0 | HU5: 0 | HV5: 0 | HW5: 0 | HX5: 0 | HY5: NOK | HZ5: 37 | IA5: NOK | IB5: 37 | IC5: NOK | ID5: NOK | IE5: NOK | IF5: =IFERROR(RANK(HX5,HX:HX,1),"") -> 1 | IG5: =IFERROR(RANK(HY5,HY:HY,1),"") | IH5: =IFERROR(RANK(HZ5,HZ:HZ,1),"") -> 5 | II5: =IFERROR(RANK(IA5,IA:IA,1),"") | IJ5: =IFERROR(RANK(IB5,IB:IB,1),"") -> 83 | IK5: =IFERROR(RANK(IC5,IC:IC,1),"") | IL5: =IFERROR(RANK(ID5,ID:ID,1),"") | IM5: =IFERROR(RANK(IE5,IE:IE,1),"")
A6: 114612 | E6: FALSE | H6: 40 | J6: 50 - B | K6: TRUE | N6: Buy | R6: 0 | S6: 0.008 | T6: FALSE | U6: 43748 | V6: 0 | W6: 0 | X6: 0.58 | Y6: 0 | Z6: 0 | AA6: 0 | AB6: 10 | AC6: 5 | AD6: 1250 | AE6: 43691 | AF6: 43748 | AH6: 0.008 | AI6: A | AJ6: 937 | AK6: 274 | AL6: 403 | AM6: 223 | AN6: 875 | AO6: 256 | AP6: 663 | AQ6: 878 | AR6: 621 | AS6: 963 | AT6: 147 | AU6: 272 | AV6: 15 | AW6: 40 | AX6: 380 | AY6: 358 | AZ6: 100 | BA6: 100 | BB6: 100 | BC6: 100 | BD6: 100 | BE6: 100 | BF6: 100 | BG6: 100 | BH6: 100 | BI6: 100 | BJ6: 100 | BK6: 100 | BL6: 100 | BM6: 25 | BN6: 25 | BO6: 25 | BP6: 25 | BQ6: 2 | BR6: 2 | BS6: 2 | BT6: 0 | BU6: 2 | BV6: 1 | BW6: 3 | BX6: 1 | BY6: 2 | BZ6: 0 | CA6: 3 | CB6: 2 | CC6: 3 | CD6: 3 | CE6: 1 | CF6: 2 | CG6: 43 | CH6: 18 | CI6: 53 | CJ6: 66 | CK6: 82 | CL6: 81 | CM6: 14 | CN6: 70 | CO6: 29 | CP6: 69 | CQ6: 84 | CR6: 25 | CS6: 87 | CT6: 55 | CU6: 32 | CV6: 99 | CW6: 12 | CX6: 24 | CY6: 55 | CZ6: 68 | DA6: 9 | DB6: 21 | DC6: 28 | DD6: 41 | DE6: 42 | DF6: 97 | DG6: 20 | DH6: 34 | DI6: 79 | DJ6: 15 | DK6: 40 | DL6: 98 | DM6: 17 | DN6: 577 | DO6: 337 | DP6: 956 | DQ6: 822 | DR6: 233 | DS6: 77 | DT6: 680 | DU6: 855 | DV6: 763 | DW6: 921 | DX6: 770 | DY6: 531 | DZ6: 373 | EA6: 174 | EB6: 994 | EC6: 684 | ED6: 531 | EE6: 328 | EF6: 22 | EG6: 521 | EH6: 393 | EI6: 670 | EJ6: 759 | EK6: 305 | EL6: 71 | EM6: 464 | EN6: 428 | EO6: 328 | EP6: 491 | EQ6: 588 | ER6: 466 | ES6: 487 | ET6: 497 | EU6: 285 | EV6: 14 | EW6: 113 | EX6: 285 | EY6: 640 | EZ6: 733 | FA6: 831 | FB6: 116 | FC6: 117 | FD6: 480 | FE6: 361 | FF6: 87 | FG6: 967 | FH6: 816 | FI6: 666 | FJ6: 50 | FK6: 50 | FL6: 50 | FM6: 50 | FN6: 50 | FO6: 50 | FP6: 50 | FQ6: 50 | FR6: 50 | FS6: 50 | FT6: 50 | FU6: 50 | FV6: 50 | FW6: 50 | FX6: 50 | FY6: 50 | FZ6: 50 | GA6: 50 | GB6: 50 | GC6: 50 | GD6: 50 | GE6: 50 | GF6: 50 | GG6: 50 | GH6: 50 | GI6: 50 | GJ6: 50 | GK6: 50 | GL6: 50 | GM6: 50 | GN6: 50 | GO6: 50 | GP6: 50 | GQ6: 50 | GR6: 0.674 | GS6: 1.494 | GT6: 1.184 | GU6: 1.031 | GV6: 0.828 | GW6: 0.522 | GX6: 1.021 | GY6: 0.893 | GZ6: 1.17 | HA6: 1.259 | HB6: 0.805 | HC6: 0.571 | HD6: 0.964 | HE6: 0.928 | HF6: 0.828 | HG6: 0.7 | HH6: 0.588 | HI6: 0.466 | HJ6: 0.487 | HK6: 0.497 | HL6: 0.285 | HM6: 0.014 | HN6: 0.113 | HO6: 0.285 | HP6: 0.64 | HQ6: 0.733 | HR6: 0.831 | HS6: 0.116 | HT6: 0.117 | HU6: 0.48 | HV6: 0.361 | HW6: 0.087 | HX6: nok | HY6: NOK | HZ6: NOK | IA6: 0.58 | IB6: NOK | IC6: NOK | ID6: 1 | IE6: NOK | IF6: =IFERROR(RANK(HX6,HX:HX,1),"") | IG6: =IFERROR(RANK(HY6,HY:HY,1),"") | IH6: =IFERROR(RANK(HZ6,HZ:HZ,1),"") | II6: =IFERROR(RANK(IA6,IA:IA,1),"") -> 1 | IJ6: =IFERROR(RANK(IB6,IB:IB,1),"") | IK6: =IFERROR(RANK(IC6,IC:IC,1),"") | IL6: =IFERROR(RANK(ID6,ID:ID,1),"") -> 1 | IM6: =IFERROR(RANK(IE6,IE:IE,1),"")
A7: 114614 | E7: FALSE | H7: 40 | J7: 50 - B | K7: TRUE | N7: Buy | R7: 38.919998 | S7: 0.008 | T7: FALSE | U7: 43748 | V7: 0 | W7: 0 | X7: 0 | Y7: 0 | Z7: 0 | AA7: 0 | AB7: 1 | AC7: 1 | AD7: 125 | AE7: 43691 | AF7: 43748 | AH7: 0.008 | AI7: A | AJ7: 521 | AK7: 489 | AL7: 401 | AM7: 643 | AN7: 932 | AO7: 25 | AP7: 355 | AQ7: 168 | AR7: 881 | AS7: 627 | AT7: 607 | AU7: 180 | AV7: 165 | AW7: 846 | AX7: 269 | AY7: 613 | AZ7: 100 | BA7: 100 | BB7: 100 | BC7: 100 | BD7: 100 | BE7: 100 | BF7: 100 | BG7: 100 | BH7: 100 | BI7: 100 | BJ7: 100 | BK7: 100 | BL7: 100 | BM7: 25 | BN7: 25 | BO7: 25 | BP7: 25 | BQ7: 1 | BR7: 2 | BS7: 1 | BT7: 0 | BU7: 1 | BV7: 1 | BW7: 0 | BX7: 2 | BY7: 3 | BZ7: 2 | CA7: 2 | CB7: 0 | CC7: 2 | CD7: 3 | CE7: 2 | CF7: 0 | CG7: 74 | CH7: 8 | CI7: 67 | CJ7: 53 | CK7: 41 | CL7: 54 | CM7: 49 | CN7: 42 | CO7: 19 | CP7: 39 | CQ7: 21 | CR7: 3 | CS7: 99 | CT7: 32 | CU7: 13 | CV7: 77 | CW7: 68 | CX7: 59 | CY7: 35 | CZ7: 84 | DA7: 14 | DB7: 36 | DC7: 50 | DD7: 51 | DE7: 3 | DF7: 89 | DG7: 13 | DH7: 12 | DI7: 33 | DJ7: 98 | DK7: 94 | DL7: 25 | DM7: 620 | DN7: 821 | DO7: 894 | DP7: 597 | DQ7: 450 | DR7: 318 | DS7: 358 | DT7: 547 | DU7: 813 | DV7: 781 | DW7: 717 | DX7: 362 | DY7: 638 | DZ7: 515 | EA7: 805 | EB7: 590 | EC7: 469 | ED7: 106 | EE7: 93 | EF7: 613 | EG7: 663 | EH7: 633 | EI7: 899 | EJ7: 22 | EK7: 576 | EL7: 678 | EM7: 294 | EN7: 405 | EO7: 465 | EP7: 264 | EQ7: 180 | ER7: 922 | ES7: 578 | ET7: 684 | EU7: 401 | EV7: 504 | EW7: 466 | EX7: 903 | EY7: 222 | EZ7: 417 | FA7: 651 | FB7: 696 | FC7: 997 | FD7: 232 | FE7: 110 | FF7: 104 | FG7: 329 | FH7: 143 | FI7: 958 | FJ7: 50 | FK7: 50 | FL7: 50 | FM7: 50 | FN7: 50 | FO7: 50 | FP7: 50 | FQ7: 50 | FR7: 50 | FS7: 50 | FT7: 50 | FU7: 50 | FV7: 50 | FW7: 50 | FX7: 50 | FY7: 50 | FZ7: 50 | GA7: 50 | GB7: 50 | GC7: 50 | GD7: 50 | GE7: 50 | GF7: 50 | GG7: 50 | GH7: 50 | GI7: 50 | GJ7: 50 | GK7: 50 | GL7: 50 | GM7: 50 | GN7: 50 | GO7: 50 | GP7: 50 | GQ7: 50 | GR7: 1.305 | GS7: 1.09 | GT7: 0.969 | GU7: 0.606 | GV7: 0.593 | GW7: 1.113 | GX7: 1.163 | GY7: 1.133 | GZ7: 1.399 | HA7: 0.522 | HB7: 1.076 | HC7: 1.178 | HD7: 0.794 | HE7: 0.905 | HF7: 0.965 | HG7: 2 | HH7: 0.18 | HI7: 0.922 | HJ7: 0.578 | HK7: 0.684 | HL7: 0.401 | HM7: 0.504 | HN7: 0.466 | HO7: 0.903 | HP7: 0.222 | HQ7: 0.417 | HR7: 0.651 | HS7: 0.696 | HT7: 0.997 | HU7: 0.232 | HV7: 0.11 | HW7: 0.104 | HX7: NOK | HY7: NOK | HZ7: NOK | IA7: 1 | IB7: 25 | IC7: NOK | ID7: 2 | IE7: NOK | IF7: =IFERROR(RANK(HX7,HX:HX,1),"") | IG7: =IFERROR(RANK(HY7,HY:HY,1),"") | IH7: =IFERROR(RANK(HZ7,HZ:HZ,1),"") | II7: =IFERROR(RANK(IA7,IA:IA,1),"") -> 2 | IJ7: =IFERROR(RANK(IB7,IB:IB,1),"") -> 58 | IK7: =IFERROR(RANK(IC7,IC:IC,1),"") | IL7: =IFERROR(RANK(ID7,ID:ID,1),"") -> 2 | IM7: =IFERROR(RANK(IE7,IE:IE,1),"")
A8: 114622 | E8: FALSE | H8: 40 | J8: 40 - G | K8: TRUE | N8: Buy | R8: 0 | S8: 0.017 | T8: FALSE | U8: 43748 | V8: 0 | W8: 0 | X8: 2.25 | Y8: 0 | Z8: 0 | AA8: 0 | AB8: 10 | AC8: 5 | AD8: 588 | AE8: 43691 | AF8: 43748 | AH8: 0.017 | AI8: A | AJ8: 758 | AK8: 447 | AL8: 70 | AM8: 297 | AN8: 851 | AO8: 946 | AP8: 291 | AQ8: 891 | AR8: 234 | AS8: 556 | AT8: 324 | AU8: 777 | AV8: 373 | AW8: 303 | AX8: 946 | AY8: 871 | AZ8: 100 | BA8: 100 | BB8: 100 | BC8: 100 | BD8: 100 | BE8: 100 | BF8: 100 | BG8: 100 | BH8: 100 | BI8: 100 | BJ8: 100 | BK8: 100 | BL8: 100 | BM8: 25 | BN8: 25 | BO8: 25 | BP8: 25 | BQ8: 1 | BR8: 1 | BS8: 0 | BT8: 2 | BU8: 3 | BV8: 3 | BW8: 3 | BX8: 2 | BY8: 1 | BZ8: 3 | CA8: 1 | CB8: 0 | CC8: 0 | CD8: 0 | CE8: 1 | CF8: 1 | CG8: 59 | CH8: 79 | CI8: 9 | CJ8: 27 | CK8: 65 | CL8: 68 | CM8: 42 | CN8: 66 | CO8: 92 | CP8: 92 | CQ8: 41 | CR8: 70 | CS8: 96 | CT8: 15 | CU8: 50 | CV8: 78 | CW8: 38 | CX8: 80 | CY8: 95 | CZ8: 50 | DA8: 13 | DB8: 83 | DC8: 88 | DD8: 31 | DE8: 96 | DF8: 3 | DG8: 2 | DH8: 47 | DI8: 50 | DJ8: 36 | DK8: 56 | DL8: 21 | DM8: 63 | DN8: 430 | DO8: 262 | DP8: 133 | DQ8: 621 | DR8: 132 | DS8: 810 | DT8: 594 | DU8: 703 | DV8: 406 | DW8: 970 | DX8: 504 | DY8: 720 | DZ8: 355 | EA8: 299 | EB8: 806 | EC8: 569 | ED8: 394 | EE8: 185 | EF8: 732 | EG8: 933 | EH8: 928 | EI8: 697 | EJ8: 533 | EK8: 37 | EL8: 183 | EM8: 227 | EN8: 545 | EO8: 801 | EP8: 806 | EQ8: 935 | ER8: 372 | ES8: 144 | ET8: 424 | EU8: 462 | EV8: 26 | EW8: 811 | EX8: 621 | EY8: 851 | EZ8: 335 | FA8: 918 | FB8: 733 | FC8: 114 | FD8: 862 | FE8: 798 | FF8: 371 | FG8: 273 | FH8: 318 | FI8: 961 | FJ8: 50 | FK8: 50 | FL8: 50 | FM8: 50 | FN8: 50 | FO8: 50 | FP8: 50 | FQ8: 50 | FR8: 50 | FS8: 50 | FT8: 50 | FU8: 50 | FV8: 50 | FW8: 50 | FX8: 50 | FY8: 50 | FZ8: 50 | GA8: 50 | GB8: 50 | GC8: 50 | GD8: 50 | GE8: 50 | GF8: 50 | GG8: 50 | GH8: 50 | GI8: 50 | GJ8: 50 | GK8: 50 | GL8: 50 | GM8: 50 | GN8: 50 | GO8: 50 | GP8: 50 | GQ8: 50 | GR8: 0.799 | GS8: 1.306 | GT8: 1.069 | GU8: 0.894 | GV8: 0.685 | GW8: 1.232 | GX8: 1.433 | GY8: 1.428 | GZ8: 1.197 | HA8: 1.033 | HB8: 0.537 | HC8: 0.683 | HD8: 0.727 | HE8: 1.045 | HF8: 1.301 | HG8: 1.306 | HH8: 0.935 | HI8: 0.372 | HJ8: 0.144 | HK8: 0.424 | HL8: 0.462 | HM8: 0.026 | HN8: 0.811 | HO8: 0.621 | HP8: 0.851 | HQ8: 0.335 | HR8: 0.918 | HS8: 0.733 | HT8: 0.114 | HU8: 0.862 | HV8: 0.798 | HW8: 0.371 | HX8: NOK | HY8: NOK | HZ8: 1 | IA8: 2 | IB8: 21 | IC8: 2.25 | ID8: 3 | IE8: NOK | IF8: =IFERROR(RANK(HX8,HX:HX,1),"") | IG8: =IFERROR(RANK(HY8,HY:HY,1),"") | IH8: =IFERROR(RANK(HZ8,HZ:HZ,1),"") -> 1 | II8: =IFERROR(RANK(IA8,IA:IA,1),"") -> 3 | IJ8: =IFERROR(RANK(IB8,IB:IB,1),"") -> 50 | IK8: =IFERROR(RANK(IC8,IC:IC,1),"") -> 49 | IL8: =IFERROR(RANK(ID8,ID:ID,1),"") -> 3 | IM8: =IFERROR(RANK(IE8,IE:IE,1),"")
A9: 118574 | E9: FALSE | H9: 40 | J9: 50 - B | K9: TRUE | N9: Buy | R9: 0 | S9: 0.042 | T9: FALSE | U9: 43748 | V9: 0 | W9: 0 | X9: 0 | Y9: 0 | Z9: 0 | AA9: 0 | AB9: 1 | AC9: 1 | AD9: 1 | AE9: 43691 | AF9: 43748 | AH9: 0.042 | AI9: A | AJ9: 708 | AK9: 666 | AL9: 899 | AM9: 878 | AN9: 4 | AO9: 371 | AP9: 252 | AQ9: 836 | AR9: 761 | AS9: 157 | AT9: 200 | AU9: 434 | AV9: 4 | AW9: 572 | AX9: 225 | AY9: 320 | AZ9: 100 | BA9: 100 | BB9: 100 | BC9: 100 | BD9: 100 | BE9: 100 | BF9: 100 | BG9: 100 | BH9: 100 | BI9: 100 | BJ9: 100 | BK9: 100 | BL9: 100 | BM9: 25 | BN9: 25 | BO9: 25 | BP9: 25 | BQ9: 0 | BR9: 1 | BS9: 2 | BT9: 1 | BU9: 3 | BV9: 3 | BW9: 0 | BX9: 1 | BY9: 0 | BZ9: 3 | CA9: 3 | CB9: 2 | CC9: 2 | CD9: 1 | CE9: 0 | CF9: 2 | CG9: 20 | CH9: 85 | CI9: 43 | CJ9: 51 | CK9: 86 | CL9: 6 | CM9: 79 | CN9: 18 | CO9: 90 | CP9: 2 | CQ9: 84 | CR9: 79 | CS9: 3 | CT9: 11 | CU9: 83 | CV9: 77 | CW9: 13 | CX9: 35 | CY9: 46 | CZ9: 58 | DA9: 68 | DB9: 3 | DC9: 13 | DD9: 80 | DE9: 16 | DF9: 81 | DG9: 63 | DH9: 4 | DI9: 71 | DJ9: 84 | DK9: 30 | DL9: 83 | DM9: 383 | DN9: 843 | DO9: 150 | DP9: 765 | DQ9: 385 | DR9: 553 | DS9: 522 | DT9: 134 | DU9: 306 | DV9: 720 | DW9: 399 | DX9: 955 | DY9: 613 | DZ9: 453 | EA9: 785 | EB9: 342 | EC9: 429 | ED9: 376 | EE9: 481 | EF9: 969 | EG9: 903 | EH9: 820 | EI9: 465 | EJ9: 896 | EK9: 620 | EL9: 600 | EM9: 75 | EN9: 514 | EO9: 599 | EP9: 821 | EQ9: 424 | ER9: 737 | ES9: 439 | ET9: 867 | EU9: 12 | EV9: 629 | EW9: 11 | EX9: 946 | EY9: 735 | EZ9: 220 | FA9: 599 | FB9: 416 | FC9: 239 | FD9: 537 | FE9: 302 | FF9: 106 | FG9: 374 | FH9: 748 | FI9: 928 | FJ9: 50 | FK9: 50 | FL9: 50 | FM9: 50 | FN9: 20 | FO9: 20 | FP9: 20 | FQ9: 20 | FR9: 20 | FS9: 20 | FT9: 20 | FU9: 50 | FV9: 50 | FW9: 50 | FX9: 50 | FY9: 50 | FZ9: 50 | GA9: 50 | GB9: 50 | GC9: 50 | GD9: 50 | GE9: 20 | GF9: 20 | GG9: 20 | GH9: 20 | GI9: 20 | GJ9: 20 | GK9: 20 | GL9: 50 | GM9: 50 | GN9: 50 | GO9: 50 | GP9: 50 | GQ9: 50 | GR9: 1.285 | GS9: 0.842 | GT9: 0.929 | GU9: 0.876 | GV9: 0.981 | GW9: 1.469 | GX9: 1.403 | GY9: 1.32 | GZ9: 0.965 | HA9: 1.396 | HB9: 1.12 | HC9: 1.1 | HD9: 0.575 | HE9: 1.014 | HF9: 1.099 | HG9: 1.321 | HH9: 0.424 | HI9: 0.737 | HJ9: 0.439 | HK9: 0.867 | HL9: 0.012 | HM9: 0.629 | HN9: 0.011 | HO9: 0.946 | HP9: 0.735 | HQ9: 0.22 | HR9: 0.599 | HS9: 0.416 | HT9: 0.239 | HU9: 0.537 | HV9: 0.302 | HW9: 0.106 | HX9: 150 | HY9: NOK | HZ9: 2 | IA9: NOK | IB9: 83 | IC9: NOK | ID9: NOK | IE9: NOK | IF9: =IFERROR(RANK(HX9,HX:HX,1),"") -> 3 | IG9: =IFERROR(RANK(HY9,HY:HY,1),"") | IH9: =IFERROR(RANK(HZ9,HZ:HZ,1),"") -> 2 | II9: =IFERROR(RANK(IA9,IA:IA,1),"") | IJ9: =IFERROR(RANK(IB9,IB:IB,1),"") -> 158 | IK9: =IFERROR(RANK(IC9,IC:IC,1),"") | IL9: =IFERROR(RANK(ID9,ID:ID,1),"") | IM9: =IFERROR(RANK(IE9,IE:IE,1),"")
A10: 125185 | E10: FALSE | H10: 25 | J10: 40 - G | K10: TRUE | N10: Buy | R10: 0 | S10: 12.769 | T10: FALSE | U10: 43727 | V10: 0 | W10: 0 | X10: 0 | Y10: 56 | Z10: 0 | AA10: 0 | AB10: 300 | AC10: 1 | AD10: 23 | AE10: 43691 | AF10: 43727 | AH10: 12.769 | AI10: A | AJ10: 643 | AK10: 486 | AL10: 596 | AM10: 985 | AN10: 227 | AO10: 347 | AP10: 17 | AQ10: 994 | AR10: 8 | AS10: 509 | AT10: 880 | AU10: 764 | AV10: 623 | AW10: 305 | AX10: 926 | AY10: 127 | AZ10: 100 | BA10: 100 | BB10: 100 | BC10: 100 | BD10: 100 | BE10: 100 | BF10: 100 | BG10: 100 | BH10: 100 | BI10: 100 | BJ10: 100 | BK10: 100 | BL10: 100 | BM10: 25 | BN10: 25 | BO10: 25 | BP10: 25 | BQ10: 3 | BR10: 0 | BS10: 3 | BT10: 2 | BU10: 2 | BV10: 2 | BW10: 1 | BX10: 3 | BY10: 2 | BZ10: 1 | CA10: 1 | CB10: 1 | CC10: 1 | CD10: 3 | CE10: 1 | CF10: 3 | CG10: 51 | CH10: 16 | CI10: 85 | CJ10: 56 | CK10: 18 | CL10: 99 | CM10: 49 | CN10: 20 | CO10: 73 | CP10: 50 | CQ10: 95 | CR10: 12 | CS10: 92 | CT10: 71 | CU10: 35 | CV10: 72 | CW10: 66 | CX10: 86 | CY10: 22 | CZ10: 59 | DA10: 32 | DB10: 94 | DC10: 89 | DD10: 87 | DE10: 14 | DF10: 62 | DG10: 7 | DH10: 86 | DI10: 97 | DJ10: 18 | DK10: 29 | DL10: 35 | DM10: 958 | DN10: 670 | DO10: 491 | DP10: 396 | DQ10: 412 | DR10: 796 | DS10: 7 | DT10: 913 | DU10: 672 | DV10: 354 | DW10: 199 | DX10: 665 | DY10: 226 | DZ10: 316 | EA10: 801 | EB10: 701 | EC10: 16 | ED10: 864 | EE10: 281 | EF10: 79 | EG10: 702 | EH10: 693 | EI10: 788 | EJ10: 611 | EK10: 746 | EL10: 500 | EM10: 425 | EN10: 974 | EO10: 219 | EP10: 510 | EQ10: 368 | ER10: 383 | ES10: 856 | ET10: 562 | EU10: 327 | EV10: 949 | EW10: 44 | EX10: 947 | EY10: 954 | EZ10: 520 | FA10: 197 | FB10: 124 | FC10: 660 | FD10: 576 | FE10: 669 | FF10: 446 | FG10: 806 | FH10: 873 | FI10: 852 | FJ10: 50 | FK10: 50 | FL10: 50 | FM10: 50 | FN10: 75 | FO10: 75 | FP10: 75 | FQ10: 75 | FR10: 75 | FS10: 75 | FT10: 75 | FU10: 50 | FV10: 50 | FW10: 50 | FX10: 50 | FY10: 50 | FZ10: 50 | GA10: 50 | GB10: 50 | GC10: 50 | GD10: 50 | GE10: 75 | GF10: 75 | GG10: 75 | GH10: 75 | GI10: 75 | GJ10: 75 | GK10: 75 | GL10: 50 | GM10: 50 | GN10: 50 | GO10: 50 | GP10: 50 | GQ10: 50 | GR10: 1.301 | GS10: 1.201 | GT10: 0.516 | GU10: 1.364 | GV10: 0.781 | GW10: 0.579 | GX10: 1.202 | GY10: 1.193 | GZ10: 1.288 | HA10: 1.111 | HB10: 1.246 | HC10: 1 | HD10: 0.925 | HE10: 1.474 | HF10: 0.719 | HG10: 1.01 | HH10: 0.368 | HI10: 0.383 | HJ10: 0.856 | HK10: 0.562 | HL10: 0.327 | HM10: 0.949 | HN10: 0.044 | HO10: 0.947 | HP10: 0.954 | HQ10: 0.52 | HR10: 0.197 | HS10: 0.124 | HT10: 0.66 | HU10: 0.576 | HV10: 0.669 | HW10: 0.446 | HX10: NOK | HY10: NOK | HZ10: 3 | IA10: NOK | IB10: 35 | IC10: NOK | ID10: NOK | IE10: NOK | IF10: =IFERROR(RANK(HX10,HX:HX,1),"") | IG10: =IFERROR(RANK(HY10,HY:HY,1),"") | IH10: =IFERROR(RANK(HZ10,HZ:HZ,1),"") -> 3 | II10: =IFERROR(RANK(IA10,IA:IA,1),"") | IJ10: =IFERROR(RANK(IB10,IB:IB,1),"") -> 78 | IK10: =IFERROR(RANK(IC10,IC:IC,1),"") | IL10: =IFERROR(RANK(ID10,ID:ID,1),"") | IM10: =IFERROR(RANK(IE10,IE:IE,1),"")
A11: 125727 | E11: FALSE | H11: 35 | J11: 40 - G | K11: TRUE | N11: Buy | R11: 0 | S11: 0.15 | T11: FALSE | U11: 43741 | V11: 0 | W11: 0 | X11: 0 | Y11: 0 | Z11: 0 | AA11: 0 | AB11: 50 | AC11: 1 | AD11: 333 | AE11: 43691 | AF11: 43741 | AH11: 0.15 | AI11: A | AJ11: 160 | AK11: 677 | AL11: 641 | AM11: 638 | AN11: 675 | AO11: 850 | AP11: 292 | AQ11: 879 | AR11: 252 | AS11: 712 | AT11: 377 | AU11: 932 | AV11: 851 | AW11: 15 | AX11: 435 | AY11: 73 | AZ11: 167 | BA11: 217 | BB11: 145 | BC11: 212 | BD11: 146 | BE11: 241 | BF11: 126 | BG11: 119 | BH11: 120 | BI11: 120 | BJ11: 102 | BK11: 125 | BL11: 106 | BM11: 25 | BN11: 25 | BO11: 25 | BP11: 25 | BQ11: 3 | BR11: 1 | BS11: 0 | BT11: 1 | BU11: 1 | BV11: 1 | BW11: 2 | BX11: 0 | BY11: 2 | BZ11: 3 | CA11: 1 | CB11: 1 | CC11: 0 | CD11: 2 | CE11: 0 | CF11: 3 | CG11: 10 | CH11: 1 | CI11: 96 | CJ11: 79 | CK11: 68 | CL11: 71 | CM11: 66 | CN11: 49 | CO11: 82 | CP11: 54 | CQ11: 96 | CR11: 19 | CS11: 42 | CT11: 26 | CU11: 8 | CV11: 10 | CW11: 13 | CX11: 31 | CY11: 66 | CZ11: 25 | DA11: 48 | DB11: 74 | DC11: 59 | DD11: 71 | DE11: 20 | DF11: 57 | DG11: 96 | DH11: 43 | DI11: 24 | DJ11: 52 | DK11: 99 | DL11: 90 | DM11: 126 | DN11: 415 | DO11: 162 | DP11: 841 | DQ11: 381 | DR11: 242 | DS11: 364 | DT11: 125 | DU11: 899 | DV11: 516 | DW11: 600 | DX11: 807 | DY11: 398 | DZ11: 767 | EA11: 789 | EB11: 589 | EC11: 385 | ED11: 883 | EE11: 329 | EF11: 210 | EG11: 1 | EH11: 378 | EI11: 282 | EJ11: 458 | EK11: 192 | EL11: 978 | EM11: 412 | EN11: 872 | EO11: 353 | EP11: 825 | EQ11: 92 | ER11: 732 | ES11: 987 | ET11: 650 | EU11: 202 | EV11: 610 | EW11: 28 | EX11: 878 | EY11: 977 | EZ11: 717 | FA11: 214 | FB11: 954 | FC11: 41 | FD11: 594 | FE11: 863 | FF11: 599 | FG11: 777 | FH11: 253 | FI11: 716 | FJ11: 50 | FK11: 50 | FL11: 50 | FM11: 50 | FN11: 38 | FO11: 22 | FP11: 37 | FQ11: 65 | FR11: 64 | FS11: 72 | FT11: 28 | FU11: 50 | FV11: 50 | FW11: 50 | FX11: 50 | FY11: 50 | FZ11: 50 | GA11: 50 | GB11: 50 | GC11: 50 | GD11: 50 | GE11: 25 | GF11: 61 | GG11: 54 | GH11: 20 | GI11: 70 | GJ11: 50 | GK11: 43 | GL11: 50 | GM11: 50 | GN11: 50 | GO11: 50 | GP11: 50 | GQ11: 50 | GR11: 1.289 | GS11: 1.089 | GT11: 0.885 | GU11: 1.383 | GV11: 0.829 | GW11: 0.71 | GX11: 0.501 | GY11: 0.878 | GZ11: 0.782 | HA11: 0.958 | HB11: 0.692 | HC11: 1.478 | HD11: 0.912 | HE11: 1.372 | HF11: 0.853 | HG11: 1.325 | HH11: 0.092 | HI11: 0.732 | HJ11: 0.987 | HK11: 0.65 | HL11: 0.202 | HM11: 0.61 | HN11: 0.028 | HO11: 0.878 | HP11: 0.977 | HQ11: 0.717 | HR11: 0.214 | HS11: 0.954 | HT11: 0.041 | HU11: 0.594 | HV11: 0.863 | HW11: 0.599 | HX11: 200 | HY11: NOK | HZ11: NOK | IA11: NOK | IB11: 90 | IC11: NOK | ID11: NOK | IE11: NOK | IF11: =IFERROR(RANK(HX11,HX:HX,1),"") -> 4 | IG11: =IFERROR(RANK(HY11,HY:HY,1),"") | IH11: =IFERROR(RANK(HZ11,HZ:HZ,1),"") | II11: =IFERROR(RANK(IA11,IA:IA,1),"") | IJ11: =IFERROR(RANK(IB11,IB:IB,1),"") -> 173 | IK11: =IFERROR(RANK(IC11,IC:IC,1),"") | IL11: =IFERROR(RANK(ID11,ID:ID,1),"") | IM11: =IFERROR(RANK(IE11,IE:IE,1),"")
A12: 125728 | E12: FALSE | H12: 25 | J12: 40 - G | K12: TRUE | N12: Buy | R12: 0 | S12: 0.55 | T12: FALSE | U12: 43727 | V12: 0 | W12: 0 | X12: 0 | Y12: 8 | Z12: 0 | AA12: 0 | AB12: 100 | AC12: 1 | AD12: 181 | AE12: 43691 | AF12: 43727 | AH12: 0.55 | AI12: A | AJ12: 734 | AK12: 669 | AL12: 61 | AM12: 168 | AN12: 365 | AO12: 509 | AP12: 418 | AQ12: 770 | AR12: 507 | AS12: 595 | AT12: 813 | AU12: 728 | AV12: 14 | AW12: 314 | AX12: 562 | AY12: 888 | AZ12: 170 | BA12: 148 | BB12: 198 | BC12: 246 | BD12: 241 | BE12: 190 | BF12: 126 | BG12: 110 | BH12: 112 | BI12: 118 | BJ12: 123 | BK12: 129 | BL12: 104 | BM12: 25 | BN12: 25 | BO12: 25 | BP12: 25 | BQ12: 2 | BR12: 0 | BS12: 2 | BT12: 3 | BU12: 1 | BV12: 3 | BW12: 1 | BX12: 2 | BY12: 2 | BZ12: 2 | CA12: 1 | CB12: 0 | CC12: 0 | CD12: 3 | CE12: 2 | CF12: 0 | CG12: 36 | CH12: 63 | CI12: 26 | CJ12: 16 | CK12: 9 | CL12: 25 | CM12: 74 | CN12: 75 | CO12: 52 | CP12: 88 | CQ12: 18 | CR12: 77 | CS12: 79 | CT12: 55 | CU12: 56 | CV12: 48 | CW12: 41 | CX12: 79 | CY12: 77 | CZ12: 58 | DA12: 1 | DB12: 94 | DC12: 48 | DD12: 37 | DE12: 92 | DF12: 77 | DG12: 74 | DH12: 94 | DI12: 26 | DJ12: 79 | DK12: 15 | DL12: 5 | DM12: 885 | DN12: 328 | DO12: 422 | DP12: 456 | DQ12: 498 | DR12: 212 | DS12: 643 | DT12: 444 | DU12: 51 | DV12: 964 | DW12: 264 | DX12: 814 | DY12: 655 | DZ12: 526 | EA12: 66 | EB12: 955 | EC12: 762 | ED12: 163 | EE12: 277 | EF12: 430 | EG12: 109 | EH12: 55 | EI12: 936 | EJ12: 21 | EK12: 231 | EL12: 864 | EM12: 6 | EN12: 98 | EO12: 715 | EP12: 671 | EQ12: 96 | ER12: 846 | ES12: 249 | ET12: 0 | EU12: 871 | EV12: 967 | EW12: 592 | EX12: 635 | EY12: 418 | EZ12: 43 | FA12: 675 | FB12: 357 | FC12: 653 | FD12: 551 | FE12: 104 | FF12: 724 | FG12: 627 | FH12: 137 | FI12: 28 | FJ12: 50 | FK12: 50 | FL12: 50 | FM12: 50 | FN12: 30 | FO12: 30 | FP12: 64 | FQ12: 73 | FR12: 47 | FS12: 25 | FT12: 61 | FU12: 50 | FV12: 50 | FW12: 50 | FX12: 50 | FY12: 50 | FZ12: 50 | GA12: 50 | GB12: 50 | GC12: 50 | GD12: 50 | GE12: 38 | GF12: 38 | GG12: 66 | GH12: 26 | GI12: 51 | GJ12: 51 | GK12: 26 | GL12: 50 | GM12: 50 | GN12: 50 | GO12: 50 | GP12: 50 | GQ12: 50 | GR12: 0.566 | GS12: 1.455 | GT12: 1.262 | GU12: 0.663 | GV12: 0.777 | GW12: 0.93 | GX12: 0.609 | GY12: 0.555 | GZ12: 1.436 | HA12: 0.521 | HB12: 0.731 | HC12: 1.364 | HD12: 0.506 | HE12: 0.598 | HF12: 1.215 | HG12: 1.171 | HH12: 0.096 | HI12: 0.846 | HJ12: 0.249 | HK12: 0 | HL12: 0.871 | HM12: 0.967 | HN12: 0.592 | HO12: 0.635 | HP12: 0.418 | HQ12: 0.043 | HR12: 0.675 | HS12: 0.357 | HT12: 0.653 | HU12: 0.551 | HV12: 0.104 | HW12: 0.724 | HX12: NOK | HY12: NOK | HZ12: NOK | IA12: NOK | IB12: 5 | IC12: NOK | ID12: NOK | IE12: NOK | IF12: =IFERROR(RANK(HX12,HX:HX,1),"") | IG12: =IFERROR(RANK(HY12,HY:HY,1),"") | IH12: =IFERROR(RANK(HZ12,HZ:HZ,1),"") | II12: =IFERROR(RANK(IA12,IA:IA,1),"") | IJ12: =IFERROR(RANK(IB12,IB:IB,1),"") -> 11 | IK12: =IFERROR(RANK(IC12,IC:IC,1),"") | IL12: =IFERROR(RANK(ID12,ID:ID,1),"") | IM12: =IFERROR(RANK(IE12,IE:IE,1),"")
A13: 126278 | E13: FALSE | H13: 35 | J13: 40 - G | K13: TRUE | N13: Buy | R13: 0 | S13: 0.083 | T13: FALSE | U13: 43741 | V13: 0 | W13: 0 | X13: 0.10484 | Y13: 0 | Z13: 0 | AA13: 0 | AB13: 10 | AC13: 5 | AD13: 120 | AE13: 43691 | AF13: 43741 | AH13: 0.083 | AI13: A | AJ13: 580 | AK13: 18 | AL13: 690 | AM13: 718 | AN13: 494 | AO13: 302 | AP13: 590 | AQ13: 196 | AR13: 811 | AS13: 510 | AT13: 917 | AU13: 494 | AV13: 803 | AW13: 186 | AX13: 174 | AY13: 297 | AZ13: 119 | BA13: 181 | BB13: 212 | BC13: 110 | BD13: 160 | BE13: 188 | BF13: 105 | BG13: 120 | BH13: 123 | BI13: 119 | BJ13: 112 | BK13: 126 | BL13: 101 | BM13: 25 | BN13: 25 | BO13: 25 | BP13: 25 | BQ13: 3 | BR13: 2 | BS13: 0 | BT13: 2 | BU13: 1 | BV13: 0 | BW13: 0 | BX13: 0 | BY13: 0 | BZ13: 0 | CA13: 1 | CB13: 0 | CC13: 1 | CD13: 0 | CE13: 0 | CF13: 3 | CG13: 84 | CH13: 100 | CI13: 32 | CJ13: 18 | CK13: 21 | CL13: 47 | CM13: 40 | CN13: 63 | CO13: 99 | CP13: 18 | CQ13: 66 | CR13: 77 | CS13: 29 | CT13: 4 | CU13: 52 | CV13: 51 | CW13: 36 | CX13: 3 | CY13: 41 | CZ13: 88 | DA13: 62 | DB13: 69 | DC13: 56 | DD13: 11 | DE13: 93 | DF13: 22 | DG13: 82 | DH13: 45 | DI13: 83 | DJ13: 17 | DK13: 37 | DL13: 9 | DM13: 485 | DN13: 515 | DO13: 242 | DP13: 217 | DQ13: 565 | DR13: 311 | DS13: 515 | DT13: 338 | DU13: 97 | DV13: 932 | DW13: 774 | DX13: 280 | DY13: 321 | DZ13: 877 | EA13: 150 | EB13: 503 | EC13: 453 | ED13: 316 | EE13: 906 | EF13: 6 | EG13: 562 | EH13: 422 | EI13: 433 | EJ13: 769 | EK13: 664 | EL13: 174 | EM13: 664 | EN13: 159 | EO13: 247 | EP13: 130 | EQ13: 843 | ER13: 915 | ES13: 506 | ET13: 61 | EU13: 10 | EV13: 390 | EW13: 994 | EX13: 812 | EY13: 663 | EZ13: 694 | FA13: 404 | FB13: 447 | FC13: 419 | FD13: 679 | FE13: 818 | FF13: 588 | FG13: 701 | FH13: 414 | FI13: 456 | FJ13: 50 | FK13: 50 | FL13: 50 | FM13: 50 | FN13: 50 | FO13: 72 | FP13: 34 | FQ13: 27 | FR13: 26 | FS13: 70 | FT13: 32 | FU13: 50 | FV13: 50 | FW13: 50 | FX13: 50 | FY13: 50 | FZ13: 50 | GA13: 50 | GB13: 50 | GC13: 50 | GD13: 50 | GE13: 31 | GF13: 43 | GG13: 63 | GH13: 68 | GI13: 50 | GJ13: 29 | GK13: 42 | GL13: 50 | GM13: 50 | GN13: 50 | GO13: 50 | GP13: 50 | GQ13: 50 | GR13: 0.65 | GS13: 1.003 | GT13: 0.953 | GU13: 0.816 | GV13: 1.406 | GW13: 0.506 | GX13: 1.062 | GY13: 0.922 | GZ13: 0.933 | HA13: 1.269 | HB13: 1.164 | HC13: 0.674 | HD13: 1.164 | HE13: 0.659 | HF13: 0.747 | HG13: 1 | HH13: 0.843 | HI13: 0.915 | HJ13: 0.506 | HK13: 0.061 | HL13: 0.01 | HM13: 0.39 | HN13: 0.994 | HO13: 0.812 | HP13: 0.663 | HQ13: 0.694 | HR13: 0.404 | HS13: 0.447 | HT13: 0.419 | HU13: 0.679 | HV13: 0.818 | HW13: 0.588 | HX13: NOK | HY13: NOK | HZ13: NOK | IA13: NOK | IB13: NOK | IC13: NOK | ID13: NOK | IE13: NOK | IF13: =IFERROR(RANK(HX13,HX:HX,1),"") | IG13: =IFERROR(RANK(HY13,HY:HY,1),"") | IH13: =IFERROR(RANK(HZ13,HZ:HZ,1),"") | II13: =IFERROR(RANK(IA13,IA:IA,1),"") | IJ13: =IFERROR(RANK(IB13,IB:IB,1),"") | IK13: =IFERROR(RANK(IC13,IC:IC,1),"") | IL13: =IFERROR(RANK(ID13,ID:ID,1),"") | IM13: =IFERROR(RANK(IE13,IE:IE,1),"")
A14: 128701 | E14: FALSE | H14: 35 | J14: 40 - G | K14: TRUE | N14: Buy | R14: 0 | S14: 0.1 | T14: FALSE | U14: 43741 | V14: 0 | W14: 0 | X14: 0 | Y14: 0 | Z14: 0 | AA14: 0 | AB14: 10 | AC14: 5 | AD14: 100 | AE14: 43691 | AF14: 43741 | AH14: 0.1 | AI14: A | AJ14: 472 | AK14: 364 | AL14: 597 | AM14: 697 | AN14: 903 | AO14: 535 | AP14: 586 | AQ14: 696 | AR14: 80 | AS14: 80 | AT14: 224 | AU14: 612 | AV14: 241 | AW14: 484 | AX14: 799 | AY14: 215 | AZ14: 114 | BA14: 149 | BB14: 192 | BC14: 247 | BD14: 248 | BE14: 178 | BF14: 120 | BG14: 126 | BH14: 104 | BI14: 103 | BJ14: 100 | BK14: 104 | BL14: 123 | BM14: 25 | BN14: 25 | BO14: 25 | BP14: 25 | BQ14: 1 | BR14: 0 | BS14: 0 | BT14: 2 | BU14: 3 | BV14: 0 | BW14: 2 | BX14: 3 | BY14: 0 | BZ14: 3 | CA14: 2 | CB14: 2 | CC14: 2 | CD14: 0 | CE14: 1 | CF14: 0 | CG14: 39 | CH14: 51 | CI14: 90 | CJ14: 34 | CK14: 6 | CL14: 11 | CM14: 71 | CN14: 94 | CO14: 64 | CP14: 4 | CQ14: 25 | CR14: 1 | CS14: 14 | CT14: 48 | CU14: 8 | CV14: 73 | CW14: 74 | CX14: 58 | CY14: 74 | CZ14: 94 | DA14: 8 | DB14: 36 | DC14: 4 | DD14: 99 | DE14: 59 | DF14: 54 | DG14: 73 | DH14: 12 | DI14: 64 | DJ14: 30 | DK14: 84 | DL14: 21 | DM14: 881 | DN14: 807 | DO14: 827 | DP14: 516 | DQ14: 449 | DR14: 432 | DS14: 789 | DT14: 639 | DU14: 379 | DV14: 565 | DW14: 709 | DX14: 578 | DY14: 86 | DZ14: 722 | EA14: 644 | EB14: 567 | EC14: 611 | ED14: 192 | EE14: 438 | EF14: 248 | EG14: 624 | EH14: 297 | EI14: 436 | EJ14: 41 | EK14: 451 | EL14: 234 | EM14: 564 | EN14: 921 | EO14: 254 | EP14: 527 | EQ14: 970 | ER14: 989 | ES14: 287 | ET14: 190 | EU14: 757 | EV14: 947 | EW14: 877 | EX14: 700 | EY14: 862 | EZ14: 184 | FA14: 133 | FB14: 518 | FC14: 287 | FD14: 57 | FE14: 228 | FF14: 250 | FG14: 760 | FH14: 789 | FI14: 238 | FJ14: 50 | FK14: 50 | FL14: 50 | FM14: 50 | FN14: 43 | FO14: 43 | FP14: 51 | FQ14: 57 | FR14: 62 | FS14: 52 | FT14: 55 | FU14: 50 | FV14: 50 | FW14: 50 | FX14: 50 | FY14: 50 | FZ14: 50 | GA14: 50 | GB14: 50 | GC14: 50 | GD14: 50 | GE14: 45 | GF14: 62 | GG14: 74 | GH14: 70 | GI14: 38 | GJ14: 22 | GK14: 47 | GL14: 50 | GM14: 50 | GN14: 50 | GO14: 50 | GP14: 50 | GQ14: 50 | GR14: 1.144 | GS14: 1.067 | GT14: 1.111 | GU14: 0.692 | GV14: 0.938 | GW14: 0.748 | GX14: 1.124 | GY14: 0.797 | GZ14: 0.936 | HA14: 0.541 | HB14: 0.951 | HC14: 0.734 | HD14: 1.064 | HE14: 1.421 | HF14: 0.754 | HG14: 2 | HH14: 0.97 | HI14: 0.989 | HJ14: 0.287 | HK14: 0.19 | HL14: 0.757 | HM14: 0.947 | HN14: 0.877 | HO14: 0.7 | HP14: 0.862 | HQ14: 0.184 | HR14: 0.133 | HS14: 0.518 | HT14: 0.287 | HU14: 0.057 | HV14: 0.228 | HW14: 0.25 | HX14: NOK | HY14: NOK | HZ14: NOK | IA14: NOK | IB14: 21 | IC14: NOK | ID14: NOK | IE14: NOK | IF14: =IFERROR(RANK(HX14,HX:HX,1),"") | IG14: =IFERROR(RANK(HY14,HY:HY,1),"") | IH14: =IFERROR(RANK(HZ14,HZ:HZ,1),"") | II14: =IFERROR(RANK(IA14,IA:IA,1),"") | IJ14: =IFERROR(RANK(IB14,IB:IB,1),"") -> 50 | IK14: =IFERROR(RANK(IC14,IC:IC,1),"") | IL14: =IFERROR(RANK(ID14,ID:ID,1),"") | IM14: =IFERROR(RANK(IE14,IE:IE,1),"")
A15: 130182 | E15: FALSE | H15: 35 | J15: 40 - G | K15: TRUE | N15: Buy | R15: 0 | S15: 1.6 | T15: FALSE | U15: 43741 | V15: 0 | W15: 0 | X15: 0.16935 | Y15: 0 | Z15: 0 | AA15: 70 | AB15: 70 | AC15: 10 | AD15: 43 | AE15: 43691 | AF15: 43741 | AH15: 1.6 | AI15: A | AJ15: 852 | AK15: 115 | AL15: 7 | AM15: 173 | AN15: 668 | AO15: 781 | AP15: 497 | AQ15: 595 | AR15: 868 | AS15: 995 | AT15: 338 | AU15: 679 | AV15: 427 | AW15: 248 | AX15: 94 | AY15: 315 | AZ15: 174 | BA15: 158 | BB15: 195 | BC15: 185 | BD15: 207 | BE15: 115 | BF15: 108 | BG15: 129 | BH15: 130 | BI15: 119 | BJ15: 126 | BK15: 103 | BL15: 114 | BM15: 25 | BN15: 25 | BO15: 25 | BP15: 25 | BQ15: 2 | BR15: 0 | BS15: 1 | BT15: 0 | BU15: 1 | BV15: 2 | BW15: 1 | BX15: 3 | BY15: 2 | BZ15: 3 | CA15: 0 | CB15: 2 | CC15: 3 | CD15: 2 | CE15: 3 | CF15: 3 | CG15: 83 | CH15: 41 | CI15: 24 | CJ15: 34 | CK15: 59 | CL15: 96 | CM15: 47 | CN15: 20 | CO15: 33 | CP15: 6 | CQ15: 37 | CR15: 53 | CS15: 58 | CT15: 39 | CU15: 60 | CV15: 0 | CW15: 59 | CX15: 55 | CY15: 25 | CZ15: 46 | DA15: 62 | DB15: 91 | DC15: 83 | DD15: 2 | DE15: 56 | DF15: 12 | DG15: 55 | DH15: 69 | DI15: 79 | DJ15: 59 | DK15: 7 | DL15: 7 | DM15: 679 | DN15: 197 | DO15: 703 | DP15: 836 | DQ15: 100 | DR15: 596 | DS15: 433 | DT15: 225 | DU15: 690 | DV15: 512 | DW15: 942 | DX15: 666 | DY15: 28 | DZ15: 811 | EA15: 70 | EB15: 467 | EC15: 760 | ED15: 696 | EE15: 444 | EF15: 468 | EG15: 959 | EH15: 467 | EI15: 199 | EJ15: 559 | EK15: 858 | EL15: 52 | EM15: 848 | EN15: 999 | EO15: 316 | EP15: 540 | EQ15: 370 | ER15: 816 | ES15: 107 | ET15: 333 | EU15: 893 | EV15: 445 | EW15: 331 | EX15: 710 | EY15: 399 | EZ15: 200 | FA15: 80 | FB15: 917 | FC15: 790 | FD15: 606 | FE15: 35 | FF15: 250 | FG15: 859 | FH15: 564 | FI15: 870 | FJ15: 50 | FK15: 50 | FL15: 50 | FM15: 50 | FN15: 24 | FO15: 26 | FP15: 41 | FQ15: 70 | FR15: 53 | FS15: 66 | FT15: 68 | FU15: 50 | FV15: 50 | FW15: 50 | FX15: 50 | FY15: 50 | FZ15: 50 | GA15: 50 | GB15: 50 | GC15: 50 | GD15: 50 | GE15: 28 | GF15: 55 | GG15: 51 | GH15: 20 | GI15: 51 | GJ15: 53 | GK15: 38 | GL15: 50 | GM15: 50 | GN15: 50 | GO15: 50 | GP15: 50 | GQ15: 50 | GR15: 0.57 | GS15: 0.967 | GT15: 1.26 | GU15: 1.196 | GV15: 0.944 | GW15: 0.968 | GX15: 1.459 | GY15: 0.967 | GZ15: 0.699 | HA15: 1.059 | HB15: 1.358 | HC15: 0.552 | HD15: 1.348 | HE15: 1.499 | HF15: 0.816 | HG15: 1 | HH15: 0.37 | HI15: 0.816 | HJ15: 0.107 | HK15: 0.333 | HL15: 0.893 | HM15: 0.445 | HN15: 0.331 | HO15: 0.71 | HP15: 0.399 | HQ15: 0.2 | HR15: 0.08 | HS15: 0.917 | HT15: 0.79 | HU15: 0.606 | HV15: 0.035 | HW15: 0.25 | HX15: NOK | HY15: NOK | HZ15: NOK | IA15: NOK | IB15: NOK | IC15: NOK | ID15: NOK | IE15: NOK | IF15: =IFERROR(RANK(HX15,HX:HX,1),"") | IG15: =IFERROR(RANK(HY15,HY:HY,1),"") | IH15: =IFERROR(RANK(HZ15,HZ:HZ,1),"") | II15: =IFERROR(RANK(IA15,IA:IA,1),"") | IJ15: =IFERROR(RANK(IB15,IB:IB,1),"") | IK15: =IFERROR(RANK(IC15,IC:IC,1),"") | IL15: =IFERROR(RANK(ID15,ID:ID,1),"") | IM15: =IFERROR(RANK(IE15,IE:IE,1),"")
A16: 130189 | E16: FALSE | H16: 35 | J16: 50 - B | K16: TRUE | N16: Buy | R16: 44.48 | S16: 0.025 | T16: FALSE | U16: 43741 | V16: 0 | W16: 0 | X16: 0 | Y16: 0 | Z16: 0 | AA16: 0 | AB16: 30 | AC16: 10 | AD16: 1200 | AE16: 43691 | AF16: 43741 | AH16: 0.025 | AI16: A | AJ16: 422 | AK16: 708 | AL16: 449 | AM16: 459 | AN16: 343 | AO16: 553 | AP16: 396 | AQ16: 52 | AR16: 64 | AS16: 662 | AT16: 40 | AU16: 849 | AV16: 11 | AW16: 813 | AX16: 461 | AY16: 728 | AZ16: 190 | BA16: 180 | BB16: 119 | BC16: 160 | BD16: 151 | BE16: 231 | BF16: 127 | BG16: 118 | BH16: 118 | BI16: 110 | BJ16: 115 | BK16: 130 | BL16: 117 | BM16: 25 | BN16: 25 | BO16: 25 | BP16: 25 | BQ16: 1 | BR16: 1 | BS16: 0 | BT16: 3 | BU16: 1 | BV16: 3 | BW16: 1 | BX16: 0 | BY16: 1 | BZ16: 1 | CA16: 2 | CB16: 0 | CC16: 3 | CD16: 0 | CE16: 2 | CF16: 0 | CG16: 11 | CH16: 13 | CI16: 22 | CJ16: 73 | CK16: 16 | CL16: 14 | CM16: 38 | CN16: 35 | CO16: 87 | CP16: 85 | CQ16: 28 | CR16: 11 | CS16: 95 | CT16: 21 | CU16: 71 | CV16: 82 | CW16: 85 | CX16: 99 | CY16: 55 | CZ16: 30 | DA16: 9 | DB16: 34 | DC16: 41 | DD16: 75 | DE16: 34 | DF16: 41 | DG16: 26 | DH16: 41 | DI16: 64 | DJ16: 15 | DK16: 30 | DL16: 67 | DM16: 745 | DN16: 183 | DO16: 420 | DP16: 445 | DQ16: 785 | DR16: 871 | DS16: 74 | DT16: 267 | DU16: 454 | DV16: 231 | DW16: 729 | DX16: 318 | DY16: 487 | DZ16: 714 | EA16: 553 | EB16: 687 | EC16: 765 | ED16: 219 | EE16: 512 | EF16: 790 | EG16: 66 | EH16: 719 | EI16: 840 | EJ16: 424 | EK16: 888 | EL16: 249 | EM16: 601 | EN16: 418 | EO16: 864 | EP16: 229 | EQ16: 342 | ER16: 280 | ES16: 510 | ET16: 678 | EU16: 675 | EV16: 714 | EW16: 91 | EX16: 331 | EY16: 610 | EZ16: 59 | FA16: 693 | FB16: 682 | FC16: 655 | FD16: 142 | FE16: 841 | FF16: 403 | FG16: 350 | FH16: 560 | FI16: 563 | FJ16: 50 | FK16: 50 | FL16: 50 | FM16: 50 | FN16: 32 | FO16: 63 | FP16: 61 | FQ16: 31 | FR16: 36 | FS16: 21 | FT16: 49 | FU16: 50 | FV16: 50 | FW16: 50 | FX16: 50 | FY16: 50 | FZ16: 50 | GA16: 50 | GB16: 50 | GC16: 50 | GD16: 50 | GE16: 45 | GF16: 57 | GG16: 41 | GH16: 56 | GI16: 66 | GJ16: 70 | GK16: 23 | GL16: 50 | GM16: 50 | GN16: 50 | GO16: 50 | GP16: 50 | GQ16: 50 | GR16: 1.053 | GS16: 1.187 | GT16: 1.265 | GU16: 0.719 | GV16: 1.012 | GW16: 1.29 | GX16: 0.566 | GY16: 1.219 | GZ16: 1.34 | HA16: 0.924 | HB16: 1.388 | HC16: 0.749 | HD16: 1.101 | HE16: 0.918 | HF16: 1.364 | HG16: 1 | HH16: 0.342 | HI16: 0.28 | HJ16: 0.51 | HK16: 0.678 | HL16: 0.675 | HM16: 0.714 | HN16: 0.091 | HO16: 0.331 | HP16: 0.61 | HQ16: 0.059 | HR16: 0.693 | HS16: 0.682 | HT16: 0.655 | HU16: 0.142 | HV16: 0.841 | HW16: 0.403 | HX16: NOK | HY16: NOK | HZ16: NOK | IA16: NOK | IB16: NOK | IC16: NOK | ID16: NOK | IE16: NOK | IF16: =IFERROR(RANK(HX16,HX:HX,1),"") | IG16: =IFERROR(RANK(HY16,HY:HY,1),"") | IH16: =IFERROR(RANK(HZ16,HZ:HZ,1),"") | II16: =IFERROR(RANK(IA16,IA:IA,1),"") | IJ16: =IFERROR(RANK(IB16,IB:IB,1),"") | IK16: =IFERROR(RANK(IC16,IC:IC,1),"") | IL16: =IFERROR(RANK(ID16,ID:ID,1),"") | IM16: =IFERROR(RANK(IE16,IE:IE,1),"")
A17: 130911 | E17: FALSE | H17: 35 | J17: 40 - G | K17: TRUE | N17: Buy | R17: 0 | S17: 0.35 | T17: FALSE | U17: 43741 | V17: 0 | W17: 0 | X17: 0.22581 | Y17: 0 | Z17: 0 | AA17: 10 | AB17: 10 | AC17: 5 | AD17: 28 | AE17: 43691 | AF17: 43741 | AH17: 0.35 | AI17: A | AJ17: 583 | AK17: 213 | AL17: 179 | AM17: 35 | AN17: 754 | AO17: 66 | AP17: 61 | AQ17: 298 | AR17: 15 | AS17: 706 | AT17: 205 | AU17: 331 | AV17: 316 | AW17: 438 | AX17: 767 | AY17: 335 | AZ17: 216 | BA17: 135 | BB17: 167 | BC17: 249 | BD17: 109 | BE17: 125 | BF17: 123 | BG17: 117 | BH17: 100 | BI17: 130 | BJ17: 104 | BK17: 108 | BL17: 114 | BM17: 25 | BN17: 25 | BO17: 25 | BP17: 25 | BQ17: 1 | BR17: 1 | BS17: 0 | BT17: 2 | BU17: 1 | BV17: 1 | BW17: 2 | BX17: 0 | BY17: 0 | BZ17: 1 | CA17: 0 | CB17: 1 | CC17: 1 | CD17: 1 | CE17: 1 | CF17: 3 | CG17: 41 | CH17: 59 | CI17: 19 | CJ17: 14 | CK17: 34 | CL17: 71 | CM17: 59 | CN17: 89 | CO17: 4 | CP17: 40 | CQ17: 83 | CR17: 60 | CS17: 45 | CT17: 21 | CU17: 8 | CV17: 100 | CW17: 76 | CX17: 49 | CY17: 29 | CZ17: 38 | DA17: 9 | DB17: 37 | DC17: 95 | DD17: 39 | DE17: 20 | DF17: 30 | DG17: 22 | DH17: 72 | DI17: 67 | DJ17: 11 | DK17: 73 | DL17: 33 | DM17: 592 | DN17: 372 | DO17: 565 | DP17: 794 | DQ17: 342 | DR17: 16 | DS17: 441 | DT17: 30 | DU17: 686 | DV17: 890 | DW17: 937 | DX17: 254 | DY17: 241 | DZ17: 149 | EA17: 99 | EB17: 298 | EC17: 819 | ED17: 962 | EE17: 588 | EF17: 179 | EG17: 835 | EH17: 995 | EI17: 275 | EJ17: 899 | EK17: 517 | EL17: 510 | EM17: 867 | EN17: 957 | EO17: 753 | EP17: 190 | EQ17: 426 | ER17: 887 | ES17: 595 | ET17: 530 | EU17: 915 | EV17: 545 | EW17: 622 | EX17: 974 | EY17: 307 | EZ17: 168 | FA17: 361 | FB17: 799 | FC17: 748 | FD17: 848 | FE17: 691 | FF17: 541 | FG17: 204 | FH17: 173 | FI17: 140 | FJ17: 50 | FK17: 50 | FL17: 50 | FM17: 50 | FN17: 37 | FO17: 49 | FP17: 63 | FQ17: 74 | FR17: 29 | FS17: 21 | FT17: 25 | FU17: 50 | FV17: 50 | FW17: 50 | FX17: 50 | FY17: 50 | FZ17: 50 | GA17: 50 | GB17: 50 | GC17: 50 | GD17: 50 | GE17: 24 | GF17: 25 | GG17: 36 | GH17: 67 | GI17: 28 | GJ17: 46 | GK17: 41 | GL17: 50 | GM17: 50 | GN17: 50 | GO17: 50 | GP17: 50 | GQ17: 50 | GR17: 0.599 | GS17: 0.798 | GT17: 1.319 | GU17: 1.462 | GV17: 1.088 | GW17: 0.679 | GX17: 1.335 | GY17: 1.495 | GZ17: 0.775 | HA17: 1.399 | HB17: 1.017 | HC17: 1.01 | HD17: 1.367 | HE17: 1.457 | HF17: 1.253 | HG17: 1 | HH17: 0.426 | HI17: 0.887 | HJ17: 0.595 | HK17: 0.53 | HL17: 0.915 | HM17: 0.545 | HN17: 0.622 | HO17: 0.974 | HP17: 0.307 | HQ17: 0.168 | HR17: 0.361 | HS17: 0.799 | HT17: 0.748 | HU17: 0.848 | HV17: 0.691 | HW17: 0.541 | HX17: NOK | HY17: NOK | HZ17: NOK | IA17: NOK | IB17: NOK | IC17: NOK | ID17: NOK | IE17: NOK | IF17: =IFERROR(RANK(HX17,HX:HX,1),"") | IG17: =IFERROR(RANK(HY17,HY:HY,1),"") | IH17: =IFERROR(RANK(HZ17,HZ:HZ,1),"") | II17: =IFERROR(RANK(IA17,IA:IA,1),"") | IJ17: =IFERROR(RANK(IB17,IB:IB,1),"") | IK17: =IFERROR(RANK(IC17,IC:IC,1),"") | IL17: =IFERROR(RANK(ID17,ID:ID,1),"") | IM17: =IFERROR(RANK(IE17,IE:IE,1),"")
A18: 130974 | E18: FALSE | H18: 40 | J18: 40 - G | K18: TRUE | N18: Buy | R18: 0 | S18: 0.292 | T18: FALSE | U18: 43748 | V18: 0 | W18: 0 | X18: 0 | Y18: 0 | Z18: 0 | AA18: 40 | AB18: 20 | AC18: 10 | AD18: 68 | AE18: 43691 | AF18: 43748 | AH18: 0.292 | AI18: A | AJ18: 943 | AK18: 95 | AL18: 355 | AM18: 421 | AN18: 592 | AO18: 242 | AP18: 562 | AQ18: 292 | AR18: 797 | AS18: 108 | AT18: 891 | AU18: 334 | AV18: 257 | AW18: 379 | AX18: 56 | AY18: 202 | AZ18: 115 | BA18: 153 | BB18: 228 | BC18: 238 | BD18: 217 | BE18: 133 | BF18: 118 | BG18: 129 | BH18: 114 | BI18: 116 | BJ18: 102 | BK18: 130 | BL18: 117 | BM18: 25 | BN18: 25 | BO18: 25 | BP18: 25 | BQ18: 2 | BR18: 2 | BS18: 3 | BT18: 1 | BU18: 2 | BV18: 2 | BW18: 1 | BX18: 1 | BY18: 1 | BZ18: 3 | CA18: 1 | CB18: 2 | CC18: 2 | CD18: 0 | CE18: 2 | CF18: 0 | CG18: 23 | CH18: 84 | CI18: 73 | CJ18: 2 | CK18: 11 | CL18: 21 | CM18: 82 | CN18: 24 | CO18: 55 | CP18: 31 | CQ18: 42 | CR18: 30 | CS18: 74 | CT18: 48 | CU18: 75 | CV18: 76 | CW18: 30 | CX18: 16 | CY18: 19 | CZ18: 67 | DA18: 52 | DB18: 15 | DC18: 19 | DD18: 81 | DE18: 36 | DF18: 15 | DG18: 87 | DH18: 82 | DI18: 54 | DJ18: 83 | DK18: 99 | DL18: 47 | DM18: 315 | DN18: 144 | DO18: 811 | DP18: 701 | DQ18: 675 | DR18: 889 | DS18: 46 | DT18: 461 | DU18: 564 | DV18: 732 | DW18: 11 | DX18: 925 | DY18: 377 | DZ18: 334 | EA18: 641 | EB18: 431 | EC18: 527 | ED18: 124 | EE18: 740 | EF18: 592 | EG18: 378 | EH18: 324 | EI18: 932 | EJ18: 189 | EK18: 335 | EL18: 588 | EM18: 747 | EN18: 510 | EO18: 977 | EP18: 780 | EQ18: 90 | ER18: 425 | ES18: 603 | ET18: 849 | EU18: 211 | EV18: 600 | EW18: 557 | EX18: 742 | EY18: 713 | EZ18: 819 | FA18: 402 | FB18: 496 | FC18: 777 | FD18: 975 | FE18: 229 | FF18: 887 | FG18: 505 | FH18: 819 | FI18: 804 | FJ18: 50 | FK18: 50 | FL18: 50 | FM18: 50 | FN18: 34 | FO18: 46 | FP18: 60 | FQ18: 61 | FR18: 57 | FS18: 30 | FT18: 60 | FU18: 50 | FV18: 50 | FW18: 50 | FX18: 50 | FY18: 50 | FZ18: 50 | GA18: 50 | GB18: 50 | GC18: 50 | GD18: 50 | GE18: 28 | GF18: 23 | GG18: 61 | GH18: 52 | GI18: 36 | GJ18: 71 | GK18: 23 | GL18: 50 | GM18: 50 | GN18: 50 | GO18: 50 | GP18: 50 | GQ18: 50 | GR18: 1.141 | GS18: 0.931 | GT18: 1.027 | GU18: 0.624 | GV18: 1.24 | GW18: 1.092 | GX18: 0.878 | GY18: 0.824 | GZ18: 1.432 | HA18: 0.689 | HB18: 0.835 | HC18: 1.088 | HD18: 1.247 | HE18: 1.01 | HF18: 1.477 | HG18: 1 | HH18: 0.09 | HI18: 0.425 | HJ18: 0.603 | HK18: 0.849 | HL18: 0.211 | HM18: 0.6 | HN18: 0.557 | HO18: 0.742 | HP18: 0.713 | HQ18: 0.819 | HR18: 0.402 | HS18: 0.496 | HT18: 0.777 | HU18: 0.975 | HV18: 0.229 | HW18: 0.887 | HX18: NOK | HY18: NOK | HZ18: NOK | IA18: NOK | IB18: NOK | IC18: NOK | ID18: NOK | IE18: NOK | IF18: =IFERROR(RANK(HX18,HX:HX,1),"") | IG18: =IFERROR(RANK(HY18,HY:HY,1),"") | IH18: =IFERROR(RANK(HZ18,HZ:HZ,1),"") | II18: =IFERROR(RANK(IA18,IA:IA,1),"") | IJ18: =IFERROR(RANK(IB18,IB:IB,1),"") | IK18: =IFERROR(RANK(IC18,IC:IC,1),"") | IL18: =IFERROR(RANK(ID18,ID:ID,1),"") | IM18: =IFERROR(RANK(IE18,IE:IE,1),"")
A19: 133226 | E19: FALSE | H19: 35 | J19: 40 - G | K19: TRUE | N19: Buy | R19: 22.24 | S19: 0.029 | T19: FALSE | U19: 43741 | V19: 0 | W19: 0 | X19: 0 | Y19: 0 | Z19: 0 | AA19: 0 | AB19: 10 | AC19: 5 | AD19: 344 | AE19: 43691 | AF19: 43741 | AH19: 0.029 | AI19: A | AJ19: 639 | AK19: 119 | AL19: 775 | AM19: 141 | AN19: 59 | AO19: 440 | AP19: 353 | AQ19: 530 | AR19: 687 | AS19: 582 | AT19: 622 | AU19: 994 | AV19: 941 | AW19: 987 | AX19: 124 | AY19: 36 | AZ19: 243 | BA19: 214 | BB19: 118 | BC19: 146 | BD19: 116 | BE19: 130 | BF19: 116 | BG19: 115 | BH19: 102 | BI19: 103 | BJ19: 115 | BK19: 103 | BL19: 127 | BM19: 25 | BN19: 25 | BO19: 25 | BP19: 25 | BQ19: 3 | BR19: 2 | BS19: 3 | BT19: 2 | BU19: 0 | BV19: 3 | BW19: 1 | BX19: 3 | BY19: 0 | BZ19: 1 | CA19: 0 | CB19: 3 | CC19: 1 | CD19: 0 | CE19: 0 | CF19: 1 | CG19: 73 | CH19: 57 | CI19: 2 | CJ19: 19 | CK19: 86 | CL19: 88 | CM19: 67 | CN19: 40 | CO19: 94 | CP19: 71 | CQ19: 29 | CR19: 32 | CS19: 48 | CT19: 65 | CU19: 50 | CV19: 73 | CW19: 42 | CX19: 67 | CY19: 77 | CZ19: 43 | DA19: 71 | DB19: 63 | DC19: 92 | DD19: 7 | DE19: 75 | DF19: 82 | DG19: 8 | DH19: 91 | DI19: 100 | DJ19: 32 | DK19: 28 | DL19: 89 | DM19: 381 | DN19: 268 | DO19: 624 | DP19: 119 | DQ19: 444 | DR19: 638 | DS19: 884 | DT19: 489 | DU19: 653 | DV19: 670 | DW19: 631 | DX19: 236 | DY19: 846 | DZ19: 503 | EA19: 858 | EB19: 281 | EC19: 312 | ED19: 354 | EE19: 647 | EF19: 461 | EG19: 306 | EH19: 46 | EI19: 591 | EJ19: 459 | EK19: 101 | EL19: 986 | EM19: 504 | EN19: 787 | EO19: 432 | EP19: 211 | EQ19: 66 | ER19: 27 | ES19: 284 | ET19: 723 | EU19: 121 | EV19: 468 | EW19: 419 | EX19: 193 | EY19: 107 | EZ19: 839 | FA19: 963 | FB19: 842 | FC19: 782 | FD19: 331 | FE19: 560 | FF19: 37 | FG19: 107 | FH19: 986 | FI19: 981 | FJ19: 50 | FK19: 50 | FL19: 50 | FM19: 50 | FN19: 48 | FO19: 49 | FP19: 63 | FQ19: 22 | FR19: 25 | FS19: 32 | FT19: 21 | FU19: 50 | FV19: 50 | FW19: 50 | FX19: 50 | FY19: 50 | FZ19: 50 | GA19: 50 | GB19: 50 | GC19: 50 | GD19: 50 | GE19: 21 | GF19: 58 | GG19: 47 | GH19: 24 | GI19: 35 | GJ19: 35 | GK19: 49 | GL19: 50 | GM19: 50 | GN19: 50 | GO19: 50 | GP19: 50 | GQ19: 50 | GR19: 1.358 | GS19: 0.781 | GT19: 0.812 | GU19: 0.854 | GV19: 1.147 | GW19: 0.961 | GX19: 0.806 | GY19: 0.546 | GZ19: 1.091 | HA19: 0.959 | HB19: 0.601 | HC19: 1.486 | HD19: 1.004 | HE19: 1.287 | HF19: 0.932 | HG19: 2 | HH19: 0.066 | HI19: 0.027 | HJ19: 0.284 | HK19: 0.723 | HL19: 0.121 | HM19: 0.468 | HN19: 0.419 | HO19: 0.193 | HP19: 0.107 | HQ19: 0.839 | HR19: 0.963 | HS19: 0.842 | HT19: 0.782 | HU19: 0.331 | HV19: 0.56 | HW19: 0.037 | HX19: NOK | HY19: NOK | HZ19: NOK | IA19: NOK | IB19: 89 | IC19: NOK | ID19: NOK | IE19: 1 | IF19: =IFERROR(RANK(HX19,HX:HX,1),"") | IG19: =IFERROR(RANK(HY19,HY:HY,1),"") | IH19: =IFERROR(RANK(HZ19,HZ:HZ,1),"") | II19: =IFERROR(RANK(IA19,IA:IA,1),"") | IJ19: =IFERROR(RANK(IB19,IB:IB,1),"") -> 170 | IK19: =IFERROR(RANK(IC19,IC:IC,1),"") | IL19: =IFERROR(RANK(ID19,ID:ID,1),"") | IM19: =IFERROR(RANK(IE19,IE:IE,1),"") -> 1
A20: 135040 | E20: FALSE | H20: 25 | J20: 40 - G | K20: TRUE | N20: Buy | R20: 0 | S20: 0.067 | T20: FALSE | U20: 43727 | V20: 0 | W20: 0 | X20: 0 | Y20: 0 | Z20: 0 | AA20: 0 | AB20: 10 | AC20: 5 | AD20: 149 | AE20: 43691 | AF20: 43727 | AH20: 0.067 | AI20: A | AJ20: 952 | AK20: 633 | AL20: 397 | AM20: 90 | AN20: 974 | AO20: 177 | AP20: 525 | AQ20: 828 | AR20: 954 | AS20: 32 | AT20: 464 | AU20: 515 | AV20: 217 | AW20: 46 | AX20: 444 | AY20: 435 | AZ20: 175 | BA20: 129 | BB20: 203 | BC20: 196 | BD20: 194 | BE20: 168 | BF20: 112 | BG20: 122 | BH20: 109 | BI20: 124 | BJ20: 121 | BK20: 111 | BL20: 100 | BM20: 25 | BN20: 25 | BO20: 25 | BP20: 25 | BQ20: 2 | BR20: 1 | BS20: 3 | BT20: 1 | BU20: 3 | BV20: 1 | BW20: 1 | BX20: 3 | BY20: 1 | BZ20: 0 | CA20: 3 | CB20: 3 | CC20: 2 | CD20: 2 | CE20: 2 | CF20: 1 | CG20: 34 | CH20: 40 | CI20: 9 | CJ20: 0 | CK20: 11 | CL20: 93 | CM20: 54 | CN20: 16 | CO20: 66 | CP20: 72 | CQ20: 94 | CR20: 48 | CS20: 89 | CT20: 30 | CU20: 68 | CV20: 86 | CW20: 35 | CX20: 36 | CY20: 48 | CZ20: 74 | DA20: 6 | DB20: 25 | DC20: 4 | DD20: 56 | DE20: 17 | DF20: 90 | DG20: 10 | DH20: 54 | DI20: 81 | DJ20: 87 | DK20: 65 | DL20: 78 | DM20: 223 | DN20: 671 | DO20: 995 | DP20: 767 | DQ20: 816 | DR20: 969 | DS20: 848 | DT20: 304 | DU20: 670 | DV20: 32 | DW20: 140 | DX20: 292 | DY20: 798 | DZ20: 750 | EA20: 942 | EB20: 666 | EC20: 185 | ED20: 903 | EE20: 994 | EF20: 868 | EG20: 389 | EH20: 372 | EI20: 83 | EJ20: 709 | EK20: 166 | EL20: 484 | EM20: 697 | EN20: 692 | EO20: 798 | EP20: 688 | EQ20: 719 | ER20: 737 | ES20: 684 | ET20: 203 | EU20: 29 | EV20: 628 | EW20: 644 | EX20: 419 | EY20: 184 | EZ20: 827 | FA20: 86 | FB20: 839 | FC20: 537 | FD20: 597 | FE20: 712 | FF20: 302 | FG20: 725 | FH20: 552 | FI20: 660 | FJ20: 50 | FK20: 50 | FL20: 50 | FM20: 50 | FN20: 42 | FO20: 41 | FP20: 26 | FQ20: 43 | FR20: 68 | FS20: 26 | FT20: 23 | FU20: 50 | FV20: 50 | FW20: 50 | FX20: 50 | FY20: 50 | FZ20: 50 | GA20: 50 | GB20: 50 | GC20: 50 | GD20: 50 | GE20: 29 | GF20: 74 | GG20: 28 | GH20: 69 | GI20: 36 | GJ20: 36 | GK20: 22 | GL20: 50 | GM20: 50 | GN20: 50 | GO20: 50 | GP20: 50 | GQ20: 50 | GR20: 1.442 | GS20: 1.166 | GT20: 0.685 | GU20: 1.403 | GV20: 1.494 | GW20: 1.368 | GX20: 0.889 | GY20: 0.872 | GZ20: 0.583 | HA20: 1.209 | HB20: 0.666 | HC20: 0.984 | HD20: 1.197 | HE20: 1.192 | HF20: 1.298 | HG20: 1 | HH20: 0.719 | HI20: 0.737 | HJ20: 0.684 | HK20: 0.203 | HL20: 0.029 | HM20: 0.628 | HN20: 0.644 | HO20: 0.419 | HP20: 0.184 | HQ20: 0.827 | HR20: 0.086 | HS20: 0.839 | HT20: 0.537 | HU20: 0.597 | HV20: 0.712 | HW20: 0.302 | HX20: NOK | HY20: NOK | HZ20: NOK | IA20: NOK | IB20: NOK | IC20: NOK | ID20: NOK | IE20: 2 | IF20: =IFERROR(RANK(HX20,HX:HX,1),"") | IG20: =IFERROR(RANK(HY20,HY:HY,1),"") | IH20: =IFERROR(RANK(HZ20,HZ:HZ,1),"") | II20: =IFERROR(RANK(IA20,IA:IA,1),"") | IJ20: =IFERROR(RANK(IB20,IB:IB,1),"") | IK20: =IFERROR(RANK(IC20,IC:IC,1),"") | IL20: =IFERROR(RANK(ID20,ID:ID,1),"") | IM20: =IFERROR(RANK(IE20,IE:IE,1),"") -> 2
