Workbook
Name Noms: Tab!$A$2:$A$19
Name Postes: Tab!$B$1:$D$1
Name YN: Tab!$B$2:$D$19

Sheet Repart
A2: Renfort | B2: Poste 1
B4: =B2 -> Poste 1
B5: =INDEX(YN,MATCH(Repart!$B$2,Noms,0),MATCH("Oui",YN,0)) -> #N/A
B6: =INDEX(YN,MATCH(Repart!$B$2,Noms,0),MATCH("Oui",YN,0)) -> #N/A
B7: =INDEX(YN,MATCH(Repart!$B$2,Noms,0),MATCH("Oui",YN,0)) -> #N/A
B8: =INDEX(YN,MATCH(Repart!$B$2,Noms,0),MATCH("Oui",YN,0)) -> #N/A
B9: =INDEX(YN,MATCH(Repart!$B$2,Noms,0),MATCH("Oui",YN,0)) -> #N/A
B10: =INDEX(YN,MATCH(Repart!$B$2,Noms,0),MATCH("Oui",YN,0)) -> #N/A
B11: =INDEX(YN,MATCH(Repart!$B$2,Noms,0),MATCH("Oui",YN,0)) -> #N/A
B12: =INDEX(YN,MATCH(Repart!$B$2,Noms,0),MATCH("Oui",YN,0)) -> #N/A
B13: =INDEX(YN,MATCH(Repart!$B$2,Noms,0),MATCH("Oui",YN,0)) -> #N/A
B14: =INDEX(YN,MATCH(Repart!$B$2,Noms,0),MATCH("Oui",YN,0)) -> #N/A
B15: =INDEX(YN,MATCH(Repart!$B$2,Noms,0),MATCH("Oui",YN,0)) -> #N/A
B16: =INDEX(YN,MATCH(Repart!$B$2,Noms,0),MATCH("Oui",YN,0)) -> #N/A
... B22: =INDEX(YN,MATCH(Repart!$B$2,Noms,0),MATCH("Oui",YN,0)) -> #N/A
D25: =IF(ISNUMBER(SEARCH("toto",A25)),B25,"")
D26: =IF(ISNUMBER(SEARCH("toto",A26)),B26,"")

Sheet Tab
A1: NOMS | B1: Poste 1 | C1: Poste 2 | D1: Poste 3
A2: Nom, Prénom 1 | B2: Oui | C2: Non | D2: Non
A3: Nom, Prénom 2 | B3: Oui | C3: Oui | D3: Oui
A4: Nom, Prénom 3 | B4: Non | C4: Oui | D4: Non
A5: Nom, Prénom 4 | B5: Non | C5: Non | D5: Non
A6: Nom, Prénom 5 | B6: Oui | C6: Non | D6: Non
A7: Nom, Prénom 6 | B7: Oui | C7: Oui | D7: Oui
A8: Nom, Prénom 7 | B8: Non | C8: Oui | D8: Non
A9: Nom, Prénom 8 | B9: Non | C9: Non | D9: Non
A10: Nom, Prénom 9 | B10: Oui | C10: Non | D10: Non
A11: Nom, Prénom 10 | B11: Oui | C11: Oui | D11: Oui
A12: Nom, Prénom 11 | B12: Non | C12: Oui | D12: Non
... A19: Nom, Prénom 18 | B19: Non | C19: Oui | D19: Non
