Workbook

Sheet Juin
B1: 2019
B2: 6
C4: FICHE DE PRESENCE | Q4: MOIS | T4: JUIN | Y4: 2019
C6: 19 | D6: jours
C8: SEMAINES | H8: 23 | O8: 24 | V8: 25 | AC8: 26
F9: L | G9: M | H9: M | I9: J | J9: V | M9: L | N9: M | O9: M | P9: J | Q9: V | T9: L | U9: M | V9: M | W9: J | X9: V | AA9: L | AB9: M | AC9: M | AD9: J | AE9: V | AI9: H TOT | AJ9: CP | AK9: RTT
C10: JOURS | D10: 1 | E10: 2 | F10: 3 | G10: 4 | H10: 5 | I10: 6 | J10: 7 | K10: 8 | L10: 9 | M10: 10 | N10: 11 | O10: 12 | P10: 13 | Q10: 14 | R10: 15 | S10: 16 | T10: 17 | U10: 18 | V10: 19 | W10: 20 | X10: 21 | Y10: 22 | Z10: 23 | AA10: 24 | AB10: 25 | AC10: 26 | AD10: 27 | AE10: 28 | AF10: 29 | AG10: 30 | AI10: TRAVAIL | AJ10: jours | AK10: jours
A12: 01 | B12: ABELARD | C12: AURELIE | F12: 8 | G12: 8 | H12: 8 | I12: 8 | J12: 7 | N12: 8 | O12: 8 | P12: 8 | Q12: 7 | T12: 8 | U12: 8 | V12: 8 | W12: 8 | X12: 7 | AA12: 8 | AB12: 8 | AC12: 8 | AD12: 8 | AE12: 7 | AI12: =SUM(D12:AH12) -> 148 | AJ12: =IF(D12="CP",1,0)+IF(E12="CP",1,0)+IF(F12="CP",1,0)+IF(G12="CP",1,0)+IF(H12="CP",1,0)+IF(I12="CP",1,0)+IF(J12="CP",1,0)+IF(K12="CP",1,0)+IF(L12="CP",1,0)+IF(M12="CP",1,0)+IF(N12="CP",1,0)+IF(O12="CP",1,0)+IF(P12="CP",1,0)+IF(Q12="CP",1,0)+IF(R12="CP",1,0)+IF(S12="CP",1,0)+IF(T12="CP",1,0)+IF(U12="CP",1,0)+IF(V12="CP",1,0)+IF(W12="CP",1,0)+IF(X12="CP",1,0)+IF(Y12="CP",1,0)+IF(Z12="CP",1,0)+IF(AA12="CP",1,0)+IF(AB12="CP",1,0)+IF(AD12="CP",1,0)+IF(AE12="CP",1,0)+IF(AF12="CP",1,0)+IF(AG12="CP",1,0)+IF(AH12="CP",1,0)+IF(AC12="CP",1,0) -> 0 | AK12: =IF(E12="RTT",1,0)+IF(F12="RTT",1,0)+IF(G12="RTT",1,0)+IF(H12="RTT",1,0)+IF(I12="RTT",1,0)+IF(J12="RTT",1,0)+IF(K12="RTT",1,0)+IF(L12="RTT",1,0)+IF(M12="RTT",1,0)+IF(N12="RTT",1,0)+IF(O12="RTT",1,0)+IF(P12="RTT",1,0)+IF(Q12="RTT",1,0)+IF(R12="RTT",1,0)+IF(S12="RTT",1,0)+IF(T12="RTT",1,0)+IF(U12="RTT",1,0)+IF(V12="RTT",1,0)+IF(W12="RTT",1,0)+IF(X12="RTT",1,0)+IF(Y12="RTT",1,0)+IF(Z12="RTT",1,0)+IF(AA12="RTT",1,0)+IF(AB12="RTT",1,0)+IF(AC12="RTT",1,0)+IF(AE12="RTT",1,0)+IF(AF12="RTT",1,0)+IF(AG12="RTT",1,0)+IF(AH12="RTT",1,0)+IF(AD12="RTT",1,0)+IF(D12="RTT",1,0) -> 0
A13: 02 | B13: AGOT | C13: DOMINIQUE | F13: 8 | G13: 8 | H13: 8 | I13: 8 | J13: 7 | N13: 8 | O13: 8 | P13: 8 | Q13: 7 | T13: 8 | U13: 8 | V13: 8 | W13: 8 | X13: 7 | AA13: 8 | AB13: 8 | AC13: 8 | AD13: 8 | AE13: 7 | AI13: =SUM(D13:AH13) -> 148 | AJ13: =IF(D13="CP",1,0)+IF(E13="CP",1,0)+IF(F13="CP",1,0)+IF(G13="CP",1,0)+IF(H13="CP",1,0)+IF(I13="CP",1,0)+IF(J13="CP",1,0)+IF(K13="CP",1,0)+IF(L13="CP",1,0)+IF(M13="CP",1,0)+IF(N13="CP",1,0)+IF(O13="CP",1,0)+IF(P13="CP",1,0)+IF(Q13="CP",1,0)+IF(R13="CP",1,0)+IF(S13="CP",1,0)+IF(T13="CP",1,0)+IF(U13="CP",1,0)+IF(V13="CP",1,0)+IF(W13="CP",1,0)+IF(X13="CP",1,0)+IF(Y13="CP",1,0)+IF(Z13="CP",1,0)+IF(AA13="CP",1,0)+IF(AB13="CP",1,0)+IF(AD13="CP",1,0)+IF(AE13="CP",1,0)+IF(AF13="CP",1,0)+IF(AG13="CP",1,0)+IF(AH13="CP",1,0)+IF(AC13="CP",1,0) -> 0 | AK13: =IF(E13="RTT",1,0)+IF(F13="RTT",1,0)+IF(G13="RTT",1,0)+IF(H13="RTT",1,0)+IF(I13="RTT",1,0)+IF(J13="RTT",1,0)+IF(K13="RTT",1,0)+IF(L13="RTT",1,0)+IF(M13="RTT",1,0)+IF(N13="RTT",1,0)+IF(O13="RTT",1,0)+IF(P13="RTT",1,0)+IF(Q13="RTT",1,0)+IF(R13="RTT",1,0)+IF(S13="RTT",1,0)+IF(T13="RTT",1,0)+IF(U13="RTT",1,0)+IF(V13="RTT",1,0)+IF(W13="RTT",1,0)+IF(X13="RTT",1,0)+IF(Y13="RTT",1,0)+IF(Z13="RTT",1,0)+IF(AA13="RTT",1,0)+IF(AB13="RTT",1,0)+IF(AC13="RTT",1,0)+IF(AE13="RTT",1,0)+IF(AF13="RTT",1,0)+IF(AG13="RTT",1,0)+IF(AH13="RTT",1,0)+IF(AD13="RTT",1,0)+IF(D13="RTT",1,0) -> 0
A14: 03 | B14: BAUMARD | C14: YSABELLE | F14: 8 | G14: 8 | H14: 8 | I14: 8 | J14: 7 | N14: 8 | O14: 8 | P14: 8 | Q14: 7 | T14: 8 | U14: 8 | V14: 8 | W14: 8 | X14: 7 | AA14: 8 | AB14: 8 | AC14: 8 | AD14: 8 | AE14: 7 | AI14: =SUM(D14:AH14) -> 148 | AJ14: =IF(D14="CP",1,0)+IF(E14="CP",1,0)+IF(F14="CP",1,0)+IF(G14="CP",1,0)+IF(H14="CP",1,0)+IF(I14="CP",1,0)+IF(J14="CP",1,0)+IF(K14="CP",1,0)+IF(L14="CP",1,0)+IF(M14="CP",1,0)+IF(N14="CP",1,0)+IF(O14="CP",1,0)+IF(P14="CP",1,0)+IF(Q14="CP",1,0)+IF(R14="CP",1,0)+IF(S14="CP",1,0)+IF(T14="CP",1,0)+IF(U14="CP",1,0)+IF(V14="CP",1,0)+IF(W14="CP",1,0)+IF(X14="CP",1,0)+IF(Y14="CP",1,0)+IF(Z14="CP",1,0)+IF(AA14="CP",1,0)+IF(AB14="CP",1,0)+IF(AD14="CP",1,0)+IF(AE14="CP",1,0)+IF(AF14="CP",1,0)+IF(AG14="CP",1,0)+IF(AH14="CP",1,0)+IF(AC14="CP",1,0) -> 0 | AK14: =IF(E14="RTT",1,0)+IF(F14="RTT",1,0)+IF(G14="RTT",1,0)+IF(H14="RTT",1,0)+IF(I14="RTT",1,0)+IF(J14="RTT",1,0)+IF(K14="RTT",1,0)+IF(L14="RTT",1,0)+IF(M14="RTT",1,0)+IF(N14="RTT",1,0)+IF(O14="RTT",1,0)+IF(P14="RTT",1,0)+IF(Q14="RTT",1,0)+IF(R14="RTT",1,0)+IF(S14="RTT",1,0)+IF(T14="RTT",1,0)+IF(U14="RTT",1,0)+IF(V14="RTT",1,0)+IF(W14="RTT",1,0)+IF(X14="RTT",1,0)+IF(Y14="RTT",1,0)+IF(Z14="RTT",1,0)+IF(AA14="RTT",1,0)+IF(AB14="RTT",1,0)+IF(AC14="RTT",1,0)+IF(AE14="RTT",1,0)+IF(AF14="RTT",1,0)+IF(AG14="RTT",1,0)+IF(AH14="RTT",1,0)+IF(AD14="RTT",1,0)+IF(D14="RTT",1,0) -> 0
A15: 23 | B15: BLANLOEIL | C15: MYRIAM | F15: 8 | G15: 8 | H15: 8 | I15: 8 | J15: 7 | N15: 8 | O15: 8 | P15: 8 | Q15: 7 | T15: 8 | U15: 8 | V15: 8 | W15: 8 | X15: 7 | AA15: 8 | AB15: 8 | AC15: 8 | AD15: 8 | AE15: 7 | AI15: =SUM(D15:AH15) -> 148 | AJ15: =IF(D15="CP",1,0)+IF(E15="CP",1,0)+IF(F15="CP",1,0)+IF(G15="CP",1,0)+IF(H15="CP",1,0)+IF(I15="CP",1,0)+IF(J15="CP",1,0)+IF(K15="CP",1,0)+IF(L15="CP",1,0)+IF(M15="CP",1,0)+IF(N15="CP",1,0)+IF(O15="CP",1,0)+IF(P15="CP",1,0)+IF(Q15="CP",1,0)+IF(R15="CP",1,0)+IF(S15="CP",1,0)+IF(T15="CP",1,0)+IF(U15="CP",1,0)+IF(V15="CP",1,0)+IF(W15="CP",1,0)+IF(X15="CP",1,0)+IF(Y15="CP",1,0)+IF(Z15="CP",1,0)+IF(AA15="CP",1,0)+IF(AB15="CP",1,0)+IF(AD15="CP",1,0)+IF(AE15="CP",1,0)+IF(AF15="CP",1,0)+IF(AG15="CP",1,0)+IF(AH15="CP",1,0)+IF(AC15="CP",1,0) -> 0 | AK15: =IF(E15="RTT",1,0)+IF(F15="RTT",1,0)+IF(G15="RTT",1,0)+IF(H15="RTT",1,0)+IF(I15="RTT",1,0)+IF(J15="RTT",1,0)+IF(K15="RTT",1,0)+IF(L15="RTT",1,0)+IF(M15="RTT",1,0)+IF(N15="RTT",1,0)+IF(O15="RTT",1,0)+IF(P15="RTT",1,0)+IF(Q15="RTT",1,0)+IF(R15="RTT",1,0)+IF(S15="RTT",1,0)+IF(T15="RTT",1,0)+IF(U15="RTT",1,0)+IF(V15="RTT",1,0)+IF(W15="RTT",1,0)+IF(X15="RTT",1,0)+IF(Y15="RTT",1,0)+IF(Z15="RTT",1,0)+IF(AA15="RTT",1,0)+IF(AB15="RTT",1,0)+IF(AC15="RTT",1,0)+IF(AE15="RTT",1,0)+IF(AF15="RTT",1,0)+IF(AG15="RTT",1,0)+IF(AH15="RTT",1,0)+IF(AD15="RTT",1,0)+IF(D15="RTT",1,0) -> 0
A16: 05 | B16: BRETEAU | C16: CHRISTELLE | F16: 8 | G16: 8 | H16: 8 | I16: 8 | J16: 7 | N16: 8 | O16: 8 | P16: 8 | Q16: 7 | T16: 8 | U16: 8 | V16: 8 | W16: 8 | X16: 7 | AA16: 8 | AB16: 8 | AC16: 8 | AD16: 8 | AE16: 7 | AI16: =SUM(D16:AH16) -> 148 | AJ16: =IF(D16="CP",1,0)+IF(E16="CP",1,0)+IF(F16="CP",1,0)+IF(G16="CP",1,0)+IF(H16="CP",1,0)+IF(I16="CP",1,0)+IF(J16="CP",1,0)+IF(K16="CP",1,0)+IF(L16="CP",1,0)+IF(M16="CP",1,0)+IF(N16="CP",1,0)+IF(O16="CP",1,0)+IF(P16="CP",1,0)+IF(Q16="CP",1,0)+IF(R16="CP",1,0)+IF(S16="CP",1,0)+IF(T16="CP",1,0)+IF(U16="CP",1,0)+IF(V16="CP",1,0)+IF(W16="CP",1,0)+IF(X16="CP",1,0)+IF(Y16="CP",1,0)+IF(Z16="CP",1,0)+IF(AA16="CP",1,0)+IF(AB16="CP",1,0)+IF(AD16="CP",1,0)+IF(AE16="CP",1,0)+IF(AF16="CP",1,0)+IF(AG16="CP",1,0)+IF(AH16="CP",1,0)+IF(AC16="CP",1,0) -> 0 | AK16: =IF(E16="RTT",1,0)+IF(F16="RTT",1,0)+IF(G16="RTT",1,0)+IF(H16="RTT",1,0)+IF(I16="RTT",1,0)+IF(J16="RTT",1,0)+IF(K16="RTT",1,0)+IF(L16="RTT",1,0)+IF(M16="RTT",1,0)+IF(N16="RTT",1,0)+IF(O16="RTT",1,0)+IF(P16="RTT",1,0)+IF(Q16="RTT",1,0)+IF(R16="RTT",1,0)+IF(S16="RTT",1,0)+IF(T16="RTT",1,0)+IF(U16="RTT",1,0)+IF(V16="RTT",1,0)+IF(W16="RTT",1,0)+IF(X16="RTT",1,0)+IF(Y16="RTT",1,0)+IF(Z16="RTT",1,0)+IF(AA16="RTT",1,0)+IF(AB16="RTT",1,0)+IF(AC16="RTT",1,0)+IF(AE16="RTT",1,0)+IF(AF16="RTT",1,0)+IF(AG16="RTT",1,0)+IF(AH16="RTT",1,0)+IF(AD16="RTT",1,0)+IF(D16="RTT",1,0) -> 0
A17: 04 | B17: CHAUVIRE | C17: ALINE | F17: 8 | G17: 8 | H17: 8 | I17: 8 | J17: 7 | N17: 8 | O17: 8 | P17: 8 | Q17: 7 | T17: 8 | U17: 8 | V17: 8 | W17: 8 | X17: 7 | AA17: 8 | AB17: 8 | AC17: 8 | AD17: 8 | AE17: 7 | AI17: =SUM(D17:AH17) -> 148 | AJ17: =IF(D17="CP",1,0)+IF(E17="CP",1,0)+IF(F17="CP",1,0)+IF(G17="CP",1,0)+IF(H17="CP",1,0)+IF(I17="CP",1,0)+IF(J17="CP",1,0)+IF(K17="CP",1,0)+IF(L17="CP",1,0)+IF(M17="CP",1,0)+IF(N17="CP",1,0)+IF(O17="CP",1,0)+IF(P17="CP",1,0)+IF(Q17="CP",1,0)+IF(R17="CP",1,0)+IF(S17="CP",1,0)+IF(T17="CP",1,0)+IF(U17="CP",1,0)+IF(V17="CP",1,0)+IF(W17="CP",1,0)+IF(X17="CP",1,0)+IF(Y17="CP",1,0)+IF(Z17="CP",1,0)+IF(AA17="CP",1,0)+IF(AB17="CP",1,0)+IF(AD17="CP",1,0)+IF(AE17="CP",1,0)+IF(AF17="CP",1,0)+IF(AG17="CP",1,0)+IF(AH17="CP",1,0)+IF(AC17="CP",1,0) -> 0 | AK17: =IF(E17="RTT",1,0)+IF(F17="RTT",1,0)+IF(G17="RTT",1,0)+IF(H17="RTT",1,0)+IF(I17="RTT",1,0)+IF(J17="RTT",1,0)+IF(K17="RTT",1,0)+IF(L17="RTT",1,0)+IF(M17="RTT",1,0)+IF(N17="RTT",1,0)+IF(O17="RTT",1,0)+IF(P17="RTT",1,0)+IF(Q17="RTT",1,0)+IF(R17="RTT",1,0)+IF(S17="RTT",1,0)+IF(T17="RTT",1,0)+IF(U17="RTT",1,0)+IF(V17="RTT",1,0)+IF(W17="RTT",1,0)+IF(X17="RTT",1,0)+IF(Y17="RTT",1,0)+IF(Z17="RTT",1,0)+IF(AA17="RTT",1,0)+IF(AB17="RTT",1,0)+IF(AC17="RTT",1,0)+IF(AE17="RTT",1,0)+IF(AF17="RTT",1,0)+IF(AG17="RTT",1,0)+IF(AH17="RTT",1,0)+IF(AD17="RTT",1,0)+IF(D17="RTT",1,0) -> 0
A18: 07 | B18: CHIRON | C18: FRANCOISE | F18: 8 | G18: 8 | H18: 8 | I18: 8 | J18: 7 | N18: 8 | O18: 8 | P18: 8 | Q18: 7 | T18: 8 | U18: 8 | V18: 8 | W18: 8 | X18: 7 | AA18: 8 | AB18: 8 | AC18: 8 | AD18: 8 | AE18: 7 | AI18: =SUM(D18:AH18) -> 148 | AJ18: =IF(D18="CP",1,0)+IF(E18="CP",1,0)+IF(F18="CP",1,0)+IF(G18="CP",1,0)+IF(H18="CP",1,0)+IF(I18="CP",1,0)+IF(J18="CP",1,0)+IF(K18="CP",1,0)+IF(L18="CP",1,0)+IF(M18="CP",1,0)+IF(N18="CP",1,0)+IF(O18="CP",1,0)+IF(P18="CP",1,0)+IF(Q18="CP",1,0)+IF(R18="CP",1,0)+IF(S18="CP",1,0)+IF(T18="CP",1,0)+IF(U18="CP",1,0)+IF(V18="CP",1,0)+IF(W18="CP",1,0)+IF(X18="CP",1,0)+IF(Y18="CP",1,0)+IF(Z18="CP",1,0)+IF(AA18="CP",1,0)+IF(AB18="CP",1,0)+IF(AD18="CP",1,0)+IF(AE18="CP",1,0)+IF(AF18="CP",1,0)+IF(AG18="CP",1,0)+IF(AH18="CP",1,0)+IF(AC18="CP",1,0) -> 0 | AK18: =IF(E18="RTT",1,0)+IF(F18="RTT",1,0)+IF(G18="RTT",1,0)+IF(H18="RTT",1,0)+IF(I18="RTT",1,0)+IF(J18="RTT",1,0)+IF(K18="RTT",1,0)+IF(L18="RTT",1,0)+IF(M18="RTT",1,0)+IF(N18="RTT",1,0)+IF(O18="RTT",1,0)+IF(P18="RTT",1,0)+IF(Q18="RTT",1,0)+IF(R18="RTT",1,0)+IF(S18="RTT",1,0)+IF(T18="RTT",1,0)+IF(U18="RTT",1,0)+IF(V18="RTT",1,0)+IF(W18="RTT",1,0)+IF(X18="RTT",1,0)+IF(Y18="RTT",1,0)+IF(Z18="RTT",1,0)+IF(AA18="RTT",1,0)+IF(AB18="RTT",1,0)+IF(AC18="RTT",1,0)+IF(AE18="RTT",1,0)+IF(AF18="RTT",1,0)+IF(AG18="RTT",1,0)+IF(AH18="RTT",1,0)+IF(AD18="RTT",1,0)+IF(D18="RTT",1,0) -> 0
A19: 20 | B19: CHUDEAU | C19: ROMANE | F19: 8 | G19: 8 | H19: 8 | I19: 8 | J19: 7 | N19: 8 | O19: 8 | P19: 8 | Q19: 7 | T19: 8 | U19: 8 | V19: 8 | W19: 8 | X19: 7 | AA19: 8 | AB19: 8 | AC19: 8 | AD19: 8 | AE19: 7 | AI19: =SUM(D19:AH19) -> 148 | AJ19: =IF(D19="CP",1,0)+IF(E19="CP",1,0)+IF(F19="CP",1,0)+IF(G19="CP",1,0)+IF(H19="CP",1,0)+IF(I19="CP",1,0)+IF(J19="CP",1,0)+IF(K19="CP",1,0)+IF(L19="CP",1,0)+IF(M19="CP",1,0)+IF(N19="CP",1,0)+IF(O19="CP",1,0)+IF(P19="CP",1,0)+IF(Q19="CP",1,0)+IF(R19="CP",1,0)+IF(S19="CP",1,0)+IF(T19="CP",1,0)+IF(U19="CP",1,0)+IF(V19="CP",1,0)+IF(W19="CP",1,0)+IF(X19="CP",1,0)+IF(Y19="CP",1,0)+IF(Z19="CP",1,0)+IF(AA19="CP",1,0)+IF(AB19="CP",1,0)+IF(AD19="CP",1,0)+IF(AE19="CP",1,0)+IF(AF19="CP",1,0)+IF(AG19="CP",1,0)+IF(AH19="CP",1,0)+IF(AC19="CP",1,0) -> 0 | AK19: =IF(E19="RTT",1,0)+IF(F19="RTT",1,0)+IF(G19="RTT",1,0)+IF(H19="RTT",1,0)+IF(I19="RTT",1,0)+IF(J19="RTT",1,0)+IF(K19="RTT",1,0)+IF(L19="RTT",1,0)+IF(M19="RTT",1,0)+IF(N19="RTT",1,0)+IF(O19="RTT",1,0)+IF(P19="RTT",1,0)+IF(Q19="RTT",1,0)+IF(R19="RTT",1,0)+IF(S19="RTT",1,0)+IF(T19="RTT",1,0)+IF(U19="RTT",1,0)+IF(V19="RTT",1,0)+IF(W19="RTT",1,0)+IF(X19="RTT",1,0)+IF(Y19="RTT",1,0)+IF(Z19="RTT",1,0)+IF(AA19="RTT",1,0)+IF(AB19="RTT",1,0)+IF(AC19="RTT",1,0)+IF(AE19="RTT",1,0)+IF(AF19="RTT",1,0)+IF(AG19="RTT",1,0)+IF(AH19="RTT",1,0)+IF(AD19="RTT",1,0)+IF(D19="RTT",1,0) -> 0
A20: 21 | B20: CONTIN | C20: ARMAND | F20: 8 | G20: 8 | H20: 8 | I20: 8 | J20: 7 | N20: 8 | O20: 8 | P20: 8 | Q20: 7 | T20: 8 | U20: 8 | V20: 8 | W20: 8 | X20: 7 | AA20: 8 | AB20: 8 | AC20: 8 | AD20: 8 | AE20: 7 | AI20: =SUM(D20:AH20) -> 148 | AJ20: =IF(D20="CP",1,0)+IF(E20="CP",1,0)+IF(F20="CP",1,0)+IF(G20="CP",1,0)+IF(H20="CP",1,0)+IF(I20="CP",1,0)+IF(J20="CP",1,0)+IF(K20="CP",1,0)+IF(L20="CP",1,0)+IF(M20="CP",1,0)+IF(N20="CP",1,0)+IF(O20="CP",1,0)+IF(P20="CP",1,0)+IF(Q20="CP",1,0)+IF(R20="CP",1,0)+IF(S20="CP",1,0)+IF(T20="CP",1,0)+IF(U20="CP",1,0)+IF(V20="CP",1,0)+IF(W20="CP",1,0)+IF(X20="CP",1,0)+IF(Y20="CP",1,0)+IF(Z20="CP",1,0)+IF(AA20="CP",1,0)+IF(AB20="CP",1,0)+IF(AD20="CP",1,0)+IF(AE20="CP",1,0)+IF(AF20="CP",1,0)+IF(AG20="CP",1,0)+IF(AH20="CP",1,0)+IF(AC20="CP",1,0) -> 0 | AK20: =IF(E20="RTT",1,0)+IF(F20="RTT",1,0)+IF(G20="RTT",1,0)+IF(H20="RTT",1,0)+IF(I20="RTT",1,0)+IF(J20="RTT",1,0)+IF(K20="RTT",1,0)+IF(L20="RTT",1,0)+IF(M20="RTT",1,0)+IF(N20="RTT",1,0)+IF(O20="RTT",1,0)+IF(P20="RTT",1,0)+IF(Q20="RTT",1,0)+IF(R20="RTT",1,0)+IF(S20="RTT",1,0)+IF(T20="RTT",1,0)+IF(U20="RTT",1,0)+IF(V20="RTT",1,0)+IF(W20="RTT",1,0)+IF(X20="RTT",1,0)+IF(Y20="RTT",1,0)+IF(Z20="RTT",1,0)+IF(AA20="RTT",1,0)+IF(AB20="RTT",1,0)+IF(AC20="RTT",1,0)+IF(AE20="RTT",1,0)+IF(AF20="RTT",1,0)+IF(AG20="RTT",1,0)+IF(AH20="RTT",1,0)+IF(AD20="RTT",1,0)+IF(D20="RTT",1,0) -> 0
A21: 09 | B21: COUVREUX | C21: FLORA | F21: 8 | G21: 8 | H21: 8 | I21: 8 | J21: 7 | N21: 8 | O21: 8 | P21: 8 | Q21: 7 | T21: 8 | U21: 8 | V21: 8 | W21: 8 | X21: 7 | AA21: 8 | AB21: 8 | AC21: 8 | AD21: 8 | AE21: 7 | AI21: =SUM(D21:AH21) -> 148 | AJ21: =IF(D21="CP",1,0)+IF(E21="CP",1,0)+IF(F21="CP",1,0)+IF(G21="CP",1,0)+IF(H21="CP",1,0)+IF(I21="CP",1,0)+IF(J21="CP",1,0)+IF(K21="CP",1,0)+IF(L21="CP",1,0)+IF(M21="CP",1,0)+IF(N21="CP",1,0)+IF(O21="CP",1,0)+IF(P21="CP",1,0)+IF(Q21="CP",1,0)+IF(R21="CP",1,0)+IF(S21="CP",1,0)+IF(T21="CP",1,0)+IF(U21="CP",1,0)+IF(V21="CP",1,0)+IF(W21="CP",1,0)+IF(X21="CP",1,0)+IF(Y21="CP",1,0)+IF(Z21="CP",1,0)+IF(AA21="CP",1,0)+IF(AB21="CP",1,0)+IF(AD21="CP",1,0)+IF(AE21="CP",1,0)+IF(AF21="CP",1,0)+IF(AG21="CP",1,0)+IF(AH21="CP",1,0)+IF(AC21="CP",1,0) -> 0 | AK21: =IF(E21="RTT",1,0)+IF(F21="RTT",1,0)+IF(G21="RTT",1,0)+IF(H21="RTT",1,0)+IF(I21="RTT",1,0)+IF(J21="RTT",1,0)+IF(K21="RTT",1,0)+IF(L21="RTT",1,0)+IF(M21="RTT",1,0)+IF(N21="RTT",1,0)+IF(O21="RTT",1,0)+IF(P21="RTT",1,0)+IF(Q21="RTT",1,0)+IF(R21="RTT",1,0)+IF(S21="RTT",1,0)+IF(T21="RTT",1,0)+IF(U21="RTT",1,0)+IF(V21="RTT",1,0)+IF(W21="RTT",1,0)+IF(X21="RTT",1,0)+IF(Y21="RTT",1,0)+IF(Z21="RTT",1,0)+IF(AA21="RTT",1,0)+IF(AB21="RTT",1,0)+IF(AC21="RTT",1,0)+IF(AE21="RTT",1,0)+IF(AF21="RTT",1,0)+IF(AG21="RTT",1,0)+IF(AH21="RTT",1,0)+IF(AD21="RTT",1,0)+IF(D21="RTT",1,0) -> 0
A22: 10 | B22: DEKHIL | C22: HENNACHI | F22: 8 | G22: 8 | H22: 8 | I22: 8 | J22: 7 | N22: 8 | O22: 8 | P22: 8 | Q22: 7 | T22: 8 | U22: 8 | V22: 8 | W22: 8 | X22: 7 | AA22: 8 | AB22: 8 | AC22: 8 | AD22: 8 | AE22: 7 | AI22: =SUM(D22:AH22) -> 148 | AJ22: =IF(D22="CP",1,0)+IF(E22="CP",1,0)+IF(F22="CP",1,0)+IF(G22="CP",1,0)+IF(H22="CP",1,0)+IF(I22="CP",1,0)+IF(J22="CP",1,0)+IF(K22="CP",1,0)+IF(L22="CP",1,0)+IF(M22="CP",1,0)+IF(N22="CP",1,0)+IF(O22="CP",1,0)+IF(P22="CP",1,0)+IF(Q22="CP",1,0)+IF(R22="CP",1,0)+IF(S22="CP",1,0)+IF(T22="CP",1,0)+IF(U22="CP",1,0)+IF(V22="CP",1,0)+IF(W22="CP",1,0)+IF(X22="CP",1,0)+IF(Y22="CP",1,0)+IF(Z22="CP",1,0)+IF(AA22="CP",1,0)+IF(AB22="CP",1,0)+IF(AD22="CP",1,0)+IF(AE22="CP",1,0)+IF(AF22="CP",1,0)+IF(AG22="CP",1,0)+IF(AH22="CP",1,0)+IF(AC22="CP",1,0) -> 0 | AK22: =IF(E22="RTT",1,0)+IF(F22="RTT",1,0)+IF(G22="RTT",1,0)+IF(H22="RTT",1,0)+IF(I22="RTT",1,0)+IF(J22="RTT",1,0)+IF(K22="RTT",1,0)+IF(L22="RTT",1,0)+IF(M22="RTT",1,0)+IF(N22="RTT",1,0)+IF(O22="RTT",1,0)+IF(P22="RTT",1,0)+IF(Q22="RTT",1,0)+IF(R22="RTT",1,0)+IF(S22="RTT",1,0)+IF(T22="RTT",1,0)+IF(U22="RTT",1,0)+IF(V22="RTT",1,0)+IF(W22="RTT",1,0)+IF(X22="RTT",1,0)+IF(Y22="RTT",1,0)+IF(Z22="RTT",1,0)+IF(AA22="RTT",1,0)+IF(AB22="RTT",1,0)+IF(AC22="RTT",1,0)+IF(AE22="RTT",1,0)+IF(AF22="RTT",1,0)+IF(AG22="RTT",1,0)+IF(AH22="RTT",1,0)+IF(AD22="RTT",1,0)+IF(D22="RTT",1,0) -> 0
A23: 12 | B23: GOURDON | C23: KATIA | F23: 8 | G23: 8 | H23: 8 | I23: 8 | J23: 7 | N23: 8 | O23: 8 | P23: 8 | Q23: 7 | T23: 8 | U23: 8 | V23: 8 | W23: 8 | X23: 7 | AA23: 8 | AB23: 8 | AC23: 8 | AD23: 8 | AE23: 7 | AI23: =SUM(D23:AH23) -> 148 | AJ23: =IF(D23="CP",1,0)+IF(E23="CP",1,0)+IF(F23="CP",1,0)+IF(G23="CP",1,0)+IF(H23="CP",1,0)+IF(I23="CP",1,0)+IF(J23="CP",1,0)+IF(K23="CP",1,0)+IF(L23="CP",1,0)+IF(M23="CP",1,0)+IF(N23="CP",1,0)+IF(O23="CP",1,0)+IF(P23="CP",1,0)+IF(Q23="CP",1,0)+IF(R23="CP",1,0)+IF(S23="CP",1,0)+IF(T23="CP",1,0)+IF(U23="CP",1,0)+IF(V23="CP",1,0)+IF(W23="CP",1,0)+IF(X23="CP",1,0)+IF(Y23="CP",1,0)+IF(Z23="CP",1,0)+IF(AA23="CP",1,0)+IF(AB23="CP",1,0)+IF(AD23="CP",1,0)+IF(AE23="CP",1,0)+IF(AF23="CP",1,0)+IF(AG23="CP",1,0)+IF(AH23="CP",1,0)+IF(AC23="CP",1,0) -> 0 | AK23: =IF(E23="RTT",1,0)+IF(F23="RTT",1,0)+IF(G23="RTT",1,0)+IF(H23="RTT",1,0)+IF(I23="RTT",1,0)+IF(J23="RTT",1,0)+IF(K23="RTT",1,0)+IF(L23="RTT",1,0)+IF(M23="RTT",1,0)+IF(N23="RTT",1,0)+IF(O23="RTT",1,0)+IF(P23="RTT",1,0)+IF(Q23="RTT",1,0)+IF(R23="RTT",1,0)+IF(S23="RTT",1,0)+IF(T23="RTT",1,0)+IF(U23="RTT",1,0)+IF(V23="RTT",1,0)+IF(W23="RTT",1,0)+IF(X23="RTT",1,0)+IF(Y23="RTT",1,0)+IF(Z23="RTT",1,0)+IF(AA23="RTT",1,0)+IF(AB23="RTT",1,0)+IF(AC23="RTT",1,0)+IF(AE23="RTT",1,0)+IF(AF23="RTT",1,0)+IF(AG23="RTT",1,0)+IF(AH23="RTT",1,0)+IF(AD23="RTT",1,0)+IF(D23="RTT",1,0) -> 0
... A35: 14 | B35: VIAUD | C35: JEAN MARC | F35: 8 | G35: 8 | H35: 8 | I35: 8 | J35: 7 | N35: 8 | O35: 8 | P35: 8 | Q35: 7 | T35: 8 | U35: 8 | V35: 8 | W35: 8 | X35: 7 | AA35: 8 | AB35: 8 | AC35: 8 | AD35: 8 | AE35: 7 | AI35: =SUM(D35:AH35) -> 148 | AJ35: =IF(D35="CP",1,0)+IF(E35="CP",1,0)+IF(F35="CP",1,0)+IF(G35="CP",1,0)+IF(H35="CP",1,0)+IF(I35="CP",1,0)+IF(J35="CP",1,0)+IF(K35="CP",1,0)+IF(L35="CP",1,0)+IF(M35="CP",1,0)+IF(N35="CP",1,0)+IF(O35="CP",1,0)+IF(P35="CP",1,0)+IF(Q35="CP",1,0)+IF(R35="CP",1,0)+IF(S35="CP",1,0)+IF(T35="CP",1,0)+IF(U35="CP",1,0)+IF(V35="CP",1,0)+IF(W35="CP",1,0)+IF(X35="CP",1,0)+IF(Y35="CP",1,0)+IF(Z35="CP",1,0)+IF(AA35="CP",1,0)+IF(AB35="CP",1,0)+IF(AD35="CP",1,0)+IF(AE35="CP",1,0)+IF(AF35="CP",1,0)+IF(AG35="CP",1,0)+IF(AH35="CP",1,0)+IF(AC35="CP",1,0) -> 0 | AK35: =IF(E35="RTT",1,0)+IF(F35="RTT",1,0)+IF(G35="RTT",1,0)+IF(H35="RTT",1,0)+IF(I35="RTT",1,0)+IF(J35="RTT",1,0)+IF(K35="RTT",1,0)+IF(L35="RTT",1,0)+IF(M35="RTT",1,0)+IF(N35="RTT",1,0)+IF(O35="RTT",1,0)+IF(P35="RTT",1,0)+IF(Q35="RTT",1,0)+IF(R35="RTT",1,0)+IF(S35="RTT",1,0)+IF(T35="RTT",1,0)+IF(U35="RTT",1,0)+IF(V35="RTT",1,0)+IF(W35="RTT",1,0)+IF(X35="RTT",1,0)+IF(Y35="RTT",1,0)+IF(Z35="RTT",1,0)+IF(AA35="RTT",1,0)+IF(AB35="RTT",1,0)+IF(AC35="RTT",1,0)+IF(AE35="RTT",1,0)+IF(AF35="RTT",1,0)+IF(AG35="RTT",1,0)+IF(AH35="RTT",1,0)+IF(AD35="RTT",1,0)+IF(D35="RTT",1,0) -> 0
A37: SAISONNIERS
A38: z101 | B38: BIOTTEAU | C38: FLORIAN | F38: 8 | G38: 8 | H38: 8 | I38: 8 | J38: 7 | N38: 8 | O38: 8 | P38: 8 | Q38: 7 | T38: 8 | U38: 8 | V38: 8 | W38: 8 | X38: 7 | AA38: 8 | AB38: 8 | AC38: 8 | AD38: 8 | AE38: 7 | AI38: =SUM(D38:AH38) -> 148 | AJ38: =IF(D38="CP",1,0)+IF(E38="CP",1,0)+IF(F38="CP",1,0)+IF(G38="CP",1,0)+IF(H38="CP",1,0)+IF(I38="CP",1,0)+IF(J38="CP",1,0)+IF(K38="CP",1,0)+IF(L38="CP",1,0)+IF(M38="CP",1,0)+IF(N38="CP",1,0)+IF(O38="CP",1,0)+IF(P38="CP",1,0)+IF(Q38="CP",1,0)+IF(R38="CP",1,0)+IF(S38="CP",1,0)+IF(T38="CP",1,0)+IF(U38="CP",1,0)+IF(V38="CP",1,0)+IF(W38="CP",1,0)+IF(X38="CP",1,0)+IF(Y38="CP",1,0)+IF(Z38="CP",1,0)+IF(AA38="CP",1,0)+IF(AB38="CP",1,0)+IF(AD38="CP",1,0)+IF(AE38="CP",1,0)+IF(AF38="CP",1,0)+IF(AG38="CP",1,0)+IF(AH38="CP",1,0)+IF(AC38="CP",1,0) -> 0 | AK38: =IF(E38="RTT",1,0)+IF(F38="RTT",1,0)+IF(G38="RTT",1,0)+IF(H38="RTT",1,0)+IF(I38="RTT",1,0)+IF(J38="RTT",1,0)+IF(K38="RTT",1,0)+IF(L38="RTT",1,0)+IF(M38="RTT",1,0)+IF(N38="RTT",1,0)+IF(O38="RTT",1,0)+IF(P38="RTT",1,0)+IF(Q38="RTT",1,0)+IF(R38="RTT",1,0)+IF(S38="RTT",1,0)+IF(T38="RTT",1,0)+IF(U38="RTT",1,0)+IF(V38="RTT",1,0)+IF(W38="RTT",1,0)+IF(X38="RTT",1,0)+IF(Y38="RTT",1,0)+IF(Z38="RTT",1,0)+IF(AA38="RTT",1,0)+IF(AB38="RTT",1,0)+IF(AC38="RTT",1,0)+IF(AE38="RTT",1,0)+IF(AF38="RTT",1,0)+IF(AG38="RTT",1,0)+IF(AH38="RTT",1,0)+IF(AD38="RTT",1,0)+IF(D38="RTT",1,0) -> 0
A39: z102 | B39: ALLA | C39: CHIARA | F39: 8 | G39: 8 | H39: 8 | I39: 8 | J39: 7 | N39: 8 | O39: 8 | P39: 8 | Q39: 7 | T39: 8 | U39: 8 | V39: 8 | W39: 8 | X39: 7 | AA39: 8 | AB39: 8 | AC39: 8 | AD39: 8 | AE39: 7 | AI39: =SUM(D39:AH39) -> 148 | AJ39: =IF(D39="CP",1,0)+IF(E39="CP",1,0)+IF(F39="CP",1,0)+IF(G39="CP",1,0)+IF(H39="CP",1,0)+IF(I39="CP",1,0)+IF(J39="CP",1,0)+IF(K39="CP",1,0)+IF(L39="CP",1,0)+IF(M39="CP",1,0)+IF(N39="CP",1,0)+IF(O39="CP",1,0)+IF(P39="CP",1,0)+IF(Q39="CP",1,0)+IF(R39="CP",1,0)+IF(S39="CP",1,0)+IF(T39="CP",1,0)+IF(U39="CP",1,0)+IF(V39="CP",1,0)+IF(W39="CP",1,0)+IF(X39="CP",1,0)+IF(Y39="CP",1,0)+IF(Z39="CP",1,0)+IF(AA39="CP",1,0)+IF(AB39="CP",1,0)+IF(AD39="CP",1,0)+IF(AE39="CP",1,0)+IF(AF39="CP",1,0)+IF(AG39="CP",1,0)+IF(AH39="CP",1,0)+IF(AC39="CP",1,0) -> 0 | AK39: =IF(E39="RTT",1,0)+IF(F39="RTT",1,0)+IF(G39="RTT",1,0)+IF(H39="RTT",1,0)+IF(I39="RTT",1,0)+IF(J39="RTT",1,0)+IF(K39="RTT",1,0)+IF(L39="RTT",1,0)+IF(M39="RTT",1,0)+IF(N39="RTT",1,0)+IF(O39="RTT",1,0)+IF(P39="RTT",1,0)+IF(Q39="RTT",1,0)+IF(R39="RTT",1,0)+IF(S39="RTT",1,0)+IF(T39="RTT",1,0)+IF(U39="RTT",1,0)+IF(V39="RTT",1,0)+IF(W39="RTT",1,0)+IF(X39="RTT",1,0)+IF(Y39="RTT",1,0)+IF(Z39="RTT",1,0)+IF(AA39="RTT",1,0)+IF(AB39="RTT",1,0)+IF(AC39="RTT",1,0)+IF(AE39="RTT",1,0)+IF(AF39="RTT",1,0)+IF(AG39="RTT",1,0)+IF(AH39="RTT",1,0)+IF(AD39="RTT",1,0)+IF(D39="RTT",1,0) -> 0
A40: z103 | B40: BAUMARD | C40: CLEMENT | F40: 8 | G40: 8 | H40: 8 | I40: 8 | J40: 7 | N40: 8 | O40: 8 | P40: 8 | Q40: 7 | T40: 8 | U40: 8 | V40: 8 | W40: 8 | X40: 7 | AA40: 8 | AB40: 8 | AC40: 8 | AD40: 8 | AE40: 7 | AI40: =SUM(D40:AH40) -> 148 | AJ40: =IF(D40="CP",1,0)+IF(E40="CP",1,0)+IF(F40="CP",1,0)+IF(G40="CP",1,0)+IF(H40="CP",1,0)+IF(I40="CP",1,0)+IF(J40="CP",1,0)+IF(K40="CP",1,0)+IF(L40="CP",1,0)+IF(M40="CP",1,0)+IF(N40="CP",1,0)+IF(O40="CP",1,0)+IF(P40="CP",1,0)+IF(Q40="CP",1,0)+IF(R40="CP",1,0)+IF(S40="CP",1,0)+IF(T40="CP",1,0)+IF(U40="CP",1,0)+IF(V40="CP",1,0)+IF(W40="CP",1,0)+IF(X40="CP",1,0)+IF(Y40="CP",1,0)+IF(Z40="CP",1,0)+IF(AA40="CP",1,0)+IF(AB40="CP",1,0)+IF(AD40="CP",1,0)+IF(AE40="CP",1,0)+IF(AF40="CP",1,0)+IF(AG40="CP",1,0)+IF(AH40="CP",1,0)+IF(AC40="CP",1,0) -> 0 | AK40: =IF(E40="RTT",1,0)+IF(F40="RTT",1,0)+IF(G40="RTT",1,0)+IF(H40="RTT",1,0)+IF(I40="RTT",1,0)+IF(J40="RTT",1,0)+IF(K40="RTT",1,0)+IF(L40="RTT",1,0)+IF(M40="RTT",1,0)+IF(N40="RTT",1,0)+IF(O40="RTT",1,0)+IF(P40="RTT",1,0)+IF(Q40="RTT",1,0)+IF(R40="RTT",1,0)+IF(S40="RTT",1,0)+IF(T40="RTT",1,0)+IF(U40="RTT",1,0)+IF(V40="RTT",1,0)+IF(W40="RTT",1,0)+IF(X40="RTT",1,0)+IF(Y40="RTT",1,0)+IF(Z40="RTT",1,0)+IF(AA40="RTT",1,0)+IF(AB40="RTT",1,0)+IF(AC40="RTT",1,0)+IF(AE40="RTT",1,0)+IF(AF40="RTT",1,0)+IF(AG40="RTT",1,0)+IF(AH40="RTT",1,0)+IF(AD40="RTT",1,0)+IF(D40="RTT",1,0) -> 0
A41: z104 | B41: GRIMAULT | C41: EMMA | F41: 8 | G41: 8 | H41: 8 | I41: 8 | J41: 7 | N41: 8 | O41: 8 | P41: 8 | Q41: 7 | T41: 8 | U41: 8 | V41: 8 | W41: 8 | X41: 7 | AA41: 8 | AB41: 8 | AC41: 8 | AD41: 8 | AE41: 7 | AI41: =SUM(D41:AH41) -> 148 | AJ41: =IF(D41="CP",1,0)+IF(E41="CP",1,0)+IF(F41="CP",1,0)+IF(G41="CP",1,0)+IF(H41="CP",1,0)+IF(I41="CP",1,0)+IF(J41="CP",1,0)+IF(K41="CP",1,0)+IF(L41="CP",1,0)+IF(M41="CP",1,0)+IF(N41="CP",1,0)+IF(O41="CP",1,0)+IF(P41="CP",1,0)+IF(Q41="CP",1,0)+IF(R41="CP",1,0)+IF(S41="CP",1,0)+IF(T41="CP",1,0)+IF(U41="CP",1,0)+IF(V41="CP",1,0)+IF(W41="CP",1,0)+IF(X41="CP",1,0)+IF(Y41="CP",1,0)+IF(Z41="CP",1,0)+IF(AA41="CP",1,0)+IF(AB41="CP",1,0)+IF(AD41="CP",1,0)+IF(AE41="CP",1,0)+IF(AF41="CP",1,0)+IF(AG41="CP",1,0)+IF(AH41="CP",1,0)+IF(AC41="CP",1,0) -> 0 | AK41: =IF(E41="RTT",1,0)+IF(F41="RTT",1,0)+IF(G41="RTT",1,0)+IF(H41="RTT",1,0)+IF(I41="RTT",1,0)+IF(J41="RTT",1,0)+IF(K41="RTT",1,0)+IF(L41="RTT",1,0)+IF(M41="RTT",1,0)+IF(N41="RTT",1,0)+IF(O41="RTT",1,0)+IF(P41="RTT",1,0)+IF(Q41="RTT",1,0)+IF(R41="RTT",1,0)+IF(S41="RTT",1,0)+IF(T41="RTT",1,0)+IF(U41="RTT",1,0)+IF(V41="RTT",1,0)+IF(W41="RTT",1,0)+IF(X41="RTT",1,0)+IF(Y41="RTT",1,0)+IF(Z41="RTT",1,0)+IF(AA41="RTT",1,0)+IF(AB41="RTT",1,0)+IF(AC41="RTT",1,0)+IF(AE41="RTT",1,0)+IF(AF41="RTT",1,0)+IF(AG41="RTT",1,0)+IF(AH41="RTT",1,0)+IF(AD41="RTT",1,0)+IF(D41="RTT",1,0) -> 0
A42: z105 | B42: BRETEAU | C42: HELENA | F42: 8 | G42: 8 | H42: 8 | I42: 8 | J42: 7 | N42: 8 | O42: 8 | P42: 8 | Q42: 7 | T42: 8 | U42: 8 | V42: 8 | W42: 8 | X42: 7 | AA42: 8 | AB42: 8 | AC42: 8 | AD42: 8 | AE42: 7 | AI42: =SUM(D42:AH42) -> 148 | AJ42: =IF(D42="CP",1,0)+IF(E42="CP",1,0)+IF(F42="CP",1,0)+IF(G42="CP",1,0)+IF(H42="CP",1,0)+IF(I42="CP",1,0)+IF(J42="CP",1,0)+IF(K42="CP",1,0)+IF(L42="CP",1,0)+IF(M42="CP",1,0)+IF(N42="CP",1,0)+IF(O42="CP",1,0)+IF(P42="CP",1,0)+IF(Q42="CP",1,0)+IF(R42="CP",1,0)+IF(S42="CP",1,0)+IF(T42="CP",1,0)+IF(U42="CP",1,0)+IF(V42="CP",1,0)+IF(W42="CP",1,0)+IF(X42="CP",1,0)+IF(Y42="CP",1,0)+IF(Z42="CP",1,0)+IF(AA42="CP",1,0)+IF(AB42="CP",1,0)+IF(AD42="CP",1,0)+IF(AE42="CP",1,0)+IF(AF42="CP",1,0)+IF(AG42="CP",1,0)+IF(AH42="CP",1,0)+IF(AC42="CP",1,0) -> 0 | AK42: =IF(E42="RTT",1,0)+IF(F42="RTT",1,0)+IF(G42="RTT",1,0)+IF(H42="RTT",1,0)+IF(I42="RTT",1,0)+IF(J42="RTT",1,0)+IF(K42="RTT",1,0)+IF(L42="RTT",1,0)+IF(M42="RTT",1,0)+IF(N42="RTT",1,0)+IF(O42="RTT",1,0)+IF(P42="RTT",1,0)+IF(Q42="RTT",1,0)+IF(R42="RTT",1,0)+IF(S42="RTT",1,0)+IF(T42="RTT",1,0)+IF(U42="RTT",1,0)+IF(V42="RTT",1,0)+IF(W42="RTT",1,0)+IF(X42="RTT",1,0)+IF(Y42="RTT",1,0)+IF(Z42="RTT",1,0)+IF(AA42="RTT",1,0)+IF(AB42="RTT",1,0)+IF(AC42="RTT",1,0)+IF(AE42="RTT",1,0)+IF(AF42="RTT",1,0)+IF(AG42="RTT",1,0)+IF(AH42="RTT",1,0)+IF(AD42="RTT",1,0)+IF(D42="RTT",1,0) -> 0
A43: z106 | B43: BOULORD | C43: EVA | F43: 8 | G43: 8 | H43: 8 | I43: 8 | J43: 7 | N43: 8 | O43: 8 | P43: 8 | Q43: 7 | T43: 8 | U43: 8 | V43: 8 | W43: 8 | X43: 7 | AA43: 8 | AB43: 8 | AC43: 8 | AD43: 8 | AE43: 7 | AI43: =SUM(D43:AH43) -> 148 | AJ43: =IF(D43="CP",1,0)+IF(E43="CP",1,0)+IF(F43="CP",1,0)+IF(G43="CP",1,0)+IF(H43="CP",1,0)+IF(I43="CP",1,0)+IF(J43="CP",1,0)+IF(K43="CP",1,0)+IF(L43="CP",1,0)+IF(M43="CP",1,0)+IF(N43="CP",1,0)+IF(O43="CP",1,0)+IF(P43="CP",1,0)+IF(Q43="CP",1,0)+IF(R43="CP",1,0)+IF(S43="CP",1,0)+IF(T43="CP",1,0)+IF(U43="CP",1,0)+IF(V43="CP",1,0)+IF(W43="CP",1,0)+IF(X43="CP",1,0)+IF(Y43="CP",1,0)+IF(Z43="CP",1,0)+IF(AA43="CP",1,0)+IF(AB43="CP",1,0)+IF(AD43="CP",1,0)+IF(AE43="CP",1,0)+IF(AF43="CP",1,0)+IF(AG43="CP",1,0)+IF(AH43="CP",1,0)+IF(AC43="CP",1,0) -> 0 | AK43: =IF(E43="RTT",1,0)+IF(F43="RTT",1,0)+IF(G43="RTT",1,0)+IF(H43="RTT",1,0)+IF(I43="RTT",1,0)+IF(J43="RTT",1,0)+IF(K43="RTT",1,0)+IF(L43="RTT",1,0)+IF(M43="RTT",1,0)+IF(N43="RTT",1,0)+IF(O43="RTT",1,0)+IF(P43="RTT",1,0)+IF(Q43="RTT",1,0)+IF(R43="RTT",1,0)+IF(S43="RTT",1,0)+IF(T43="RTT",1,0)+IF(U43="RTT",1,0)+IF(V43="RTT",1,0)+IF(W43="RTT",1,0)+IF(X43="RTT",1,0)+IF(Y43="RTT",1,0)+IF(Z43="RTT",1,0)+IF(AA43="RTT",1,0)+IF(AB43="RTT",1,0)+IF(AC43="RTT",1,0)+IF(AE43="RTT",1,0)+IF(AF43="RTT",1,0)+IF(AG43="RTT",1,0)+IF(AH43="RTT",1,0)+IF(AD43="RTT",1,0)+IF(D43="RTT",1,0) -> 0
C46: NOTES SUPPLEMENTAIRES

Sheet Juillet
B1: 2019
B2: 7
C4: FICHE DE PRESENCE | Q4: MOIS | T4: JUILLET | Z4: 2019
C6: 23 | D6: jours
C8: SEMAINES | F8: 27 | M8: 28 | T8: 29 | AA8: 30 | AG8: 31
D9: L | E9: M | F9: M | G9: J | H9: V | K9: L | L9: M | M9: M | N9: J | O9: V | R9: L | S9: M | T9: M | U9: J | V9: V | Y9: L | Z9: M | AA9: M | AB9: J | AC9: V | AF9: L | AG9: M | AH9: M | AI9: H. TOT | AJ9: CP | AK9: RTT
C10: JOURS | D10: 1 | E10: 2 | F10: 3 | G10: 4 | H10: 5 | I10: 6 | J10: 7 | K10: 8 | L10: 9 | M10: 10 | N10: 11 | O10: 12 | P10: 13 | Q10: 14 | R10: 15 | S10: 16 | T10: 17 | U10: 18 | V10: 19 | W10: 20 | X10: 21 | Y10: 22 | Z10: 23 | AA10: 24 | AB10: 25 | AC10: 26 | AD10: 27 | AE10: 28 | AF10: 29 | AG10: 30 | AH10: 31 | AI10: TRAVAIL | AJ10: jours | AK10: jours
A12: 01 | B12: ABELARD | C12: AURELIE | D12: 8 | E12: 8 | F12: 8 | G12: 8 | H12: 7 | K12: 8 | L12: 8 | M12: 8 | N12: 8 | O12: 7 | R12: 8 | S12: 8 | T12: 8 | U12: 8 | V12: 7 | Y12: 8 | Z12: 8 | AA12: 8 | AB12: 8 | AC12: 7 | AF12: 8 | AG12: 8 | AH12: 8 | AI12: =SUM(D12:AH12) -> 180 | AJ12: =IF(D12="CP",1,0)+IF(E12="CP",1,0)+IF(F12="CP",1,0)+IF(G12="CP",1,0)+IF(H12="CP",1,0)+IF(I12="CP",1,0)+IF(J12="CP",1,0)+IF(K12="CP",1,0)+IF(L12="CP",1,0)+IF(M12="CP",1,0)+IF(N12="CP",1,0)+IF(O12="CP",1,0)+IF(P12="CP",1,0)+IF(Q12="CP",1,0)+IF(R12="CP",1,0)+IF(S12="CP",1,0)+IF(T12="CP",1,0)+IF(U12="CP",1,0)+IF(V12="CP",1,0)+IF(W12="CP",1,0)+IF(X12="CP",1,0)+IF(Y12="CP",1,0)+IF(Z12="CP",1,0)+IF(AA12="CP",1,0)+IF(AB12="CP",1,0)+IF(AD12="CP",1,0)+IF(AE12="CP",1,0)+IF(AF12="CP",1,0)+IF(AG12="CP",1,0)+IF(AH12="CP",1,0)+IF(AC12="CP",1,0) -> 0 | AK12: =IF(E12="RTT",1,0)+IF(F12="RTT",1,0)+IF(G12="RTT",1,0)+IF(H12="RTT",1,0)+IF(I12="RTT",1,0)+IF(J12="RTT",1,0)+IF(K12="RTT",1,0)+IF(L12="RTT",1,0)+IF(M12="RTT",1,0)+IF(N12="RTT",1,0)+IF(O12="RTT",1,0)+IF(P12="RTT",1,0)+IF(Q12="RTT",1,0)+IF(R12="RTT",1,0)+IF(S12="RTT",1,0)+IF(T12="RTT",1,0)+IF(U12="RTT",1,0)+IF(V12="RTT",1,0)+IF(W12="RTT",1,0)+IF(X12="RTT",1,0)+IF(Y12="RTT",1,0)+IF(Z12="RTT",1,0)+IF(AA12="RTT",1,0)+IF(AB12="RTT",1,0)+IF(AC12="RTT",1,0)+IF(AE12="RTT",1,0)+IF(AF12="RTT",1,0)+IF(AG12="RTT",1,0)+IF(AH12="RTT",1,0)+IF(AD12="RTT",1,0)+IF(D12="RTT",1,0) -> 0
A13: 02 | B13: AGOT | C13: DOMINIQUE | D13: 8 | E13: 8 | F13: 8 | G13: 8 | H13: 7 | K13: 8 | L13: 8 | M13: 8 | N13: 8 | O13: 7 | R13: 8 | S13: 8 | T13: 8 | U13: 8 | V13: 7 | Y13: 8 | Z13: 8 | AA13: 8 | AB13: 8 | AC13: 7 | AF13: 8 | AG13: 8 | AH13: 8 | AI13: =SUM(D13:AH13) -> 180 | AJ13: =IF(D13="CP",1,0)+IF(E13="CP",1,0)+IF(F13="CP",1,0)+IF(G13="CP",1,0)+IF(H13="CP",1,0)+IF(I13="CP",1,0)+IF(J13="CP",1,0)+IF(K13="CP",1,0)+IF(L13="CP",1,0)+IF(M13="CP",1,0)+IF(N13="CP",1,0)+IF(O13="CP",1,0)+IF(P13="CP",1,0)+IF(Q13="CP",1,0)+IF(R13="CP",1,0)+IF(S13="CP",1,0)+IF(T13="CP",1,0)+IF(U13="CP",1,0)+IF(V13="CP",1,0)+IF(W13="CP",1,0)+IF(X13="CP",1,0)+IF(Y13="CP",1,0)+IF(Z13="CP",1,0)+IF(AA13="CP",1,0)+IF(AB13="CP",1,0)+IF(AD13="CP",1,0)+IF(AE13="CP",1,0)+IF(AF13="CP",1,0)+IF(AG13="CP",1,0)+IF(AH13="CP",1,0)+IF(AC13="CP",1,0) -> 0 | AK13: =IF(E13="RTT",1,0)+IF(F13="RTT",1,0)+IF(G13="RTT",1,0)+IF(H13="RTT",1,0)+IF(I13="RTT",1,0)+IF(J13="RTT",1,0)+IF(K13="RTT",1,0)+IF(L13="RTT",1,0)+IF(M13="RTT",1,0)+IF(N13="RTT",1,0)+IF(O13="RTT",1,0)+IF(P13="RTT",1,0)+IF(Q13="RTT",1,0)+IF(R13="RTT",1,0)+IF(S13="RTT",1,0)+IF(T13="RTT",1,0)+IF(U13="RTT",1,0)+IF(V13="RTT",1,0)+IF(W13="RTT",1,0)+IF(X13="RTT",1,0)+IF(Y13="RTT",1,0)+IF(Z13="RTT",1,0)+IF(AA13="RTT",1,0)+IF(AB13="RTT",1,0)+IF(AC13="RTT",1,0)+IF(AE13="RTT",1,0)+IF(AF13="RTT",1,0)+IF(AG13="RTT",1,0)+IF(AH13="RTT",1,0)+IF(AD13="RTT",1,0)+IF(D13="RTT",1,0) -> 0
A14: 03 | B14: BAUMARD | C14: YSABELLE | D14: 8 | E14: 8 | F14: 8 | G14: 8 | H14: 7 | K14: 8 | L14: 8 | M14: 8 | N14: 8 | O14: 7 | R14: 8 | S14: 8 | T14: 8 | U14: 8 | V14: 7 | Y14: 8 | Z14: 8 | AA14: 8 | AB14: 8 | AC14: 7 | AF14: 8 | AG14: 8 | AH14: 8 | AI14: =SUM(D14:AH14) -> 180 | AJ14: =IF(D14="CP",1,0)+IF(E14="CP",1,0)+IF(F14="CP",1,0)+IF(G14="CP",1,0)+IF(H14="CP",1,0)+IF(I14="CP",1,0)+IF(J14="CP",1,0)+IF(K14="CP",1,0)+IF(L14="CP",1,0)+IF(M14="CP",1,0)+IF(N14="CP",1,0)+IF(O14="CP",1,0)+IF(P14="CP",1,0)+IF(Q14="CP",1,0)+IF(R14="CP",1,0)+IF(S14="CP",1,0)+IF(T14="CP",1,0)+IF(U14="CP",1,0)+IF(V14="CP",1,0)+IF(W14="CP",1,0)+IF(X14="CP",1,0)+IF(Y14="CP",1,0)+IF(Z14="CP",1,0)+IF(AA14="CP",1,0)+IF(AB14="CP",1,0)+IF(AD14="CP",1,0)+IF(AE14="CP",1,0)+IF(AF14="CP",1,0)+IF(AG14="CP",1,0)+IF(AH14="CP",1,0)+IF(AC14="CP",1,0) -> 0 | AK14: =IF(E14="RTT",1,0)+IF(F14="RTT",1,0)+IF(G14="RTT",1,0)+IF(H14="RTT",1,0)+IF(I14="RTT",1,0)+IF(J14="RTT",1,0)+IF(K14="RTT",1,0)+IF(L14="RTT",1,0)+IF(M14="RTT",1,0)+IF(N14="RTT",1,0)+IF(O14="RTT",1,0)+IF(P14="RTT",1,0)+IF(Q14="RTT",1,0)+IF(R14="RTT",1,0)+IF(S14="RTT",1,0)+IF(T14="RTT",1,0)+IF(U14="RTT",1,0)+IF(V14="RTT",1,0)+IF(W14="RTT",1,0)+IF(X14="RTT",1,0)+IF(Y14="RTT",1,0)+IF(Z14="RTT",1,0)+IF(AA14="RTT",1,0)+IF(AB14="RTT",1,0)+IF(AC14="RTT",1,0)+IF(AE14="RTT",1,0)+IF(AF14="RTT",1,0)+IF(AG14="RTT",1,0)+IF(AH14="RTT",1,0)+IF(AD14="RTT",1,0)+IF(D14="RTT",1,0) -> 0
A15: 23 | B15: BLANLOEIL | C15: MYRIAM | D15: 8 | E15: 8 | F15: 8 | G15: 8 | H15: 7 | K15: 8 | L15: 8 | M15: 8 | N15: 8 | O15: 7 | R15: 8 | S15: 8 | T15: 8 | U15: 8 | V15: 7 | Y15: 8 | Z15: 8 | AA15: 8 | AB15: 8 | AC15: 7 | AF15: 8 | AG15: 8 | AH15: 8 | AI15: =SUM(D15:AH15) -> 180 | AJ15: =IF(D15="CP",1,0)+IF(E15="CP",1,0)+IF(F15="CP",1,0)+IF(G15="CP",1,0)+IF(H15="CP",1,0)+IF(I15="CP",1,0)+IF(J15="CP",1,0)+IF(K15="CP",1,0)+IF(L15="CP",1,0)+IF(M15="CP",1,0)+IF(N15="CP",1,0)+IF(O15="CP",1,0)+IF(P15="CP",1,0)+IF(Q15="CP",1,0)+IF(R15="CP",1,0)+IF(S15="CP",1,0)+IF(T15="CP",1,0)+IF(U15="CP",1,0)+IF(V15="CP",1,0)+IF(W15="CP",1,0)+IF(X15="CP",1,0)+IF(Y15="CP",1,0)+IF(Z15="CP",1,0)+IF(AA15="CP",1,0)+IF(AB15="CP",1,0)+IF(AD15="CP",1,0)+IF(AE15="CP",1,0)+IF(AF15="CP",1,0)+IF(AG15="CP",1,0)+IF(AH15="CP",1,0)+IF(AC15="CP",1,0) -> 0 | AK15: =IF(E15="RTT",1,0)+IF(F15="RTT",1,0)+IF(G15="RTT",1,0)+IF(H15="RTT",1,0)+IF(I15="RTT",1,0)+IF(J15="RTT",1,0)+IF(K15="RTT",1,0)+IF(L15="RTT",1,0)+IF(M15="RTT",1,0)+IF(N15="RTT",1,0)+IF(O15="RTT",1,0)+IF(P15="RTT",1,0)+IF(Q15="RTT",1,0)+IF(R15="RTT",1,0)+IF(S15="RTT",1,0)+IF(T15="RTT",1,0)+IF(U15="RTT",1,0)+IF(V15="RTT",1,0)+IF(W15="RTT",1,0)+IF(X15="RTT",1,0)+IF(Y15="RTT",1,0)+IF(Z15="RTT",1,0)+IF(AA15="RTT",1,0)+IF(AB15="RTT",1,0)+IF(AC15="RTT",1,0)+IF(AE15="RTT",1,0)+IF(AF15="RTT",1,0)+IF(AG15="RTT",1,0)+IF(AH15="RTT",1,0)+IF(AD15="RTT",1,0)+IF(D15="RTT",1,0) -> 0
A16: 05 | B16: BRETEAU | C16: CHRISTELLE | D16: 8 | E16: 8 | F16: 8 | G16: 8 | H16: 7 | K16: 8 | L16: 8 | M16: 8 | N16: 8 | O16: 7 | R16: 8 | S16: 8 | T16: 8 | U16: 8 | V16: 7 | Y16: 8 | Z16: 8 | AA16: 8 | AB16: 8 | AC16: 7 | AF16: 8 | AG16: 8 | AH16: 8 | AI16: =SUM(D16:AH16) -> 180 | AJ16: =IF(D16="CP",1,0)+IF(E16="CP",1,0)+IF(F16="CP",1,0)+IF(G16="CP",1,0)+IF(H16="CP",1,0)+IF(I16="CP",1,0)+IF(J16="CP",1,0)+IF(K16="CP",1,0)+IF(L16="CP",1,0)+IF(M16="CP",1,0)+IF(N16="CP",1,0)+IF(O16="CP",1,0)+IF(P16="CP",1,0)+IF(Q16="CP",1,0)+IF(R16="CP",1,0)+IF(S16="CP",1,0)+IF(T16="CP",1,0)+IF(U16="CP",1,0)+IF(V16="CP",1,0)+IF(W16="CP",1,0)+IF(X16="CP",1,0)+IF(Y16="CP",1,0)+IF(Z16="CP",1,0)+IF(AA16="CP",1,0)+IF(AB16="CP",1,0)+IF(AD16="CP",1,0)+IF(AE16="CP",1,0)+IF(AF16="CP",1,0)+IF(AG16="CP",1,0)+IF(AH16="CP",1,0)+IF(AC16="CP",1,0) -> 0 | AK16: =IF(E16="RTT",1,0)+IF(F16="RTT",1,0)+IF(G16="RTT",1,0)+IF(H16="RTT",1,0)+IF(I16="RTT",1,0)+IF(J16="RTT",1,0)+IF(K16="RTT",1,0)+IF(L16="RTT",1,0)+IF(M16="RTT",1,0)+IF(N16="RTT",1,0)+IF(O16="RTT",1,0)+IF(P16="RTT",1,0)+IF(Q16="RTT",1,0)+IF(R16="RTT",1,0)+IF(S16="RTT",1,0)+IF(T16="RTT",1,0)+IF(U16="RTT",1,0)+IF(V16="RTT",1,0)+IF(W16="RTT",1,0)+IF(X16="RTT",1,0)+IF(Y16="RTT",1,0)+IF(Z16="RTT",1,0)+IF(AA16="RTT",1,0)+IF(AB16="RTT",1,0)+IF(AC16="RTT",1,0)+IF(AE16="RTT",1,0)+IF(AF16="RTT",1,0)+IF(AG16="RTT",1,0)+IF(AH16="RTT",1,0)+IF(AD16="RTT",1,0)+IF(D16="RTT",1,0) -> 0
A17: 04 | B17: CHAUVIRE | C17: ALINE | D17: 8 | E17: 8 | F17: 8 | G17: 8 | H17: 7 | K17: 8 | L17: 8 | M17: 8 | N17: 8 | O17: 7 | R17: 8 | S17: 8 | T17: 8 | U17: 8 | V17: 7 | Y17: 8 | Z17: 8 | AA17: 8 | AB17: 8 | AC17: 7 | AF17: 8 | AG17: 8 | AH17: 8 | AI17: =SUM(D17:AH17) -> 180 | AJ17: =IF(D17="CP",1,0)+IF(E17="CP",1,0)+IF(F17="CP",1,0)+IF(G17="CP",1,0)+IF(H17="CP",1,0)+IF(I17="CP",1,0)+IF(J17="CP",1,0)+IF(K17="CP",1,0)+IF(L17="CP",1,0)+IF(M17="CP",1,0)+IF(N17="CP",1,0)+IF(O17="CP",1,0)+IF(P17="CP",1,0)+IF(Q17="CP",1,0)+IF(R17="CP",1,0)+IF(S17="CP",1,0)+IF(T17="CP",1,0)+IF(U17="CP",1,0)+IF(V17="CP",1,0)+IF(W17="CP",1,0)+IF(X17="CP",1,0)+IF(Y17="CP",1,0)+IF(Z17="CP",1,0)+IF(AA17="CP",1,0)+IF(AB17="CP",1,0)+IF(AD17="CP",1,0)+IF(AE17="CP",1,0)+IF(AF17="CP",1,0)+IF(AG17="CP",1,0)+IF(AH17="CP",1,0)+IF(AC17="CP",1,0) -> 0 | AK17: =IF(E17="RTT",1,0)+IF(F17="RTT",1,0)+IF(G17="RTT",1,0)+IF(H17="RTT",1,0)+IF(I17="RTT",1,0)+IF(J17="RTT",1,0)+IF(K17="RTT",1,0)+IF(L17="RTT",1,0)+IF(M17="RTT",1,0)+IF(N17="RTT",1,0)+IF(O17="RTT",1,0)+IF(P17="RTT",1,0)+IF(Q17="RTT",1,0)+IF(R17="RTT",1,0)+IF(S17="RTT",1,0)+IF(T17="RTT",1,0)+IF(U17="RTT",1,0)+IF(V17="RTT",1,0)+IF(W17="RTT",1,0)+IF(X17="RTT",1,0)+IF(Y17="RTT",1,0)+IF(Z17="RTT",1,0)+IF(AA17="RTT",1,0)+IF(AB17="RTT",1,0)+IF(AC17="RTT",1,0)+IF(AE17="RTT",1,0)+IF(AF17="RTT",1,0)+IF(AG17="RTT",1,0)+IF(AH17="RTT",1,0)+IF(AD17="RTT",1,0)+IF(D17="RTT",1,0) -> 0
A18: 07 | B18: CHIRON | C18: FRANCOISE | D18: 8 | E18: 8 | F18: 8 | G18: 8 | H18: 7 | K18: 8 | L18: 8 | M18: 8 | N18: 8 | O18: 7 | R18: 8 | S18: 8 | T18: 8 | U18: 8 | V18: 7 | Y18: 8 | Z18: 8 | AA18: 8 | AB18: 8 | AC18: 7 | AF18: 8 | AG18: 8 | AH18: 8 | AI18: =SUM(D18:AH18) -> 180 | AJ18: =IF(D18="CP",1,0)+IF(E18="CP",1,0)+IF(F18="CP",1,0)+IF(G18="CP",1,0)+IF(H18="CP",1,0)+IF(I18="CP",1,0)+IF(J18="CP",1,0)+IF(K18="CP",1,0)+IF(L18="CP",1,0)+IF(M18="CP",1,0)+IF(N18="CP",1,0)+IF(O18="CP",1,0)+IF(P18="CP",1,0)+IF(Q18="CP",1,0)+IF(R18="CP",1,0)+IF(S18="CP",1,0)+IF(T18="CP",1,0)+IF(U18="CP",1,0)+IF(V18="CP",1,0)+IF(W18="CP",1,0)+IF(X18="CP",1,0)+IF(Y18="CP",1,0)+IF(Z18="CP",1,0)+IF(AA18="CP",1,0)+IF(AB18="CP",1,0)+IF(AD18="CP",1,0)+IF(AE18="CP",1,0)+IF(AF18="CP",1,0)+IF(AG18="CP",1,0)+IF(AH18="CP",1,0)+IF(AC18="CP",1,0) -> 0 | AK18: =IF(E18="RTT",1,0)+IF(F18="RTT",1,0)+IF(G18="RTT",1,0)+IF(H18="RTT",1,0)+IF(I18="RTT",1,0)+IF(J18="RTT",1,0)+IF(K18="RTT",1,0)+IF(L18="RTT",1,0)+IF(M18="RTT",1,0)+IF(N18="RTT",1,0)+IF(O18="RTT",1,0)+IF(P18="RTT",1,0)+IF(Q18="RTT",1,0)+IF(R18="RTT",1,0)+IF(S18="RTT",1,0)+IF(T18="RTT",1,0)+IF(U18="RTT",1,0)+IF(V18="RTT",1,0)+IF(W18="RTT",1,0)+IF(X18="RTT",1,0)+IF(Y18="RTT",1,0)+IF(Z18="RTT",1,0)+IF(AA18="RTT",1,0)+IF(AB18="RTT",1,0)+IF(AC18="RTT",1,0)+IF(AE18="RTT",1,0)+IF(AF18="RTT",1,0)+IF(AG18="RTT",1,0)+IF(AH18="RTT",1,0)+IF(AD18="RTT",1,0)+IF(D18="RTT",1,0) -> 0
A19: 20 | B19: CHUDEAU | C19: ROMANE | D19: 8 | E19: 8 | F19: 8 | G19: 8 | H19: 7 | K19: 8 | L19: 8 | M19: 8 | N19: 8 | O19: 7 | R19: 8 | S19: 8 | T19: 8 | U19: 8 | V19: 7 | Y19: 8 | Z19: 8 | AA19: 8 | AB19: 8 | AC19: 7 | AF19: 8 | AG19: 8 | AH19: 8 | AI19: =SUM(D19:AH19) -> 180 | AJ19: =IF(D19="CP",1,0)+IF(E19="CP",1,0)+IF(F19="CP",1,0)+IF(G19="CP",1,0)+IF(H19="CP",1,0)+IF(I19="CP",1,0)+IF(J19="CP",1,0)+IF(K19="CP",1,0)+IF(L19="CP",1,0)+IF(M19="CP",1,0)+IF(N19="CP",1,0)+IF(O19="CP",1,0)+IF(P19="CP",1,0)+IF(Q19="CP",1,0)+IF(R19="CP",1,0)+IF(S19="CP",1,0)+IF(T19="CP",1,0)+IF(U19="CP",1,0)+IF(V19="CP",1,0)+IF(W19="CP",1,0)+IF(X19="CP",1,0)+IF(Y19="CP",1,0)+IF(Z19="CP",1,0)+IF(AA19="CP",1,0)+IF(AB19="CP",1,0)+IF(AD19="CP",1,0)+IF(AE19="CP",1,0)+IF(AF19="CP",1,0)+IF(AG19="CP",1,0)+IF(AH19="CP",1,0)+IF(AC19="CP",1,0) -> 0 | AK19: =IF(E19="RTT",1,0)+IF(F19="RTT",1,0)+IF(G19="RTT",1,0)+IF(H19="RTT",1,0)+IF(I19="RTT",1,0)+IF(J19="RTT",1,0)+IF(K19="RTT",1,0)+IF(L19="RTT",1,0)+IF(M19="RTT",1,0)+IF(N19="RTT",1,0)+IF(O19="RTT",1,0)+IF(P19="RTT",1,0)+IF(Q19="RTT",1,0)+IF(R19="RTT",1,0)+IF(S19="RTT",1,0)+IF(T19="RTT",1,0)+IF(U19="RTT",1,0)+IF(V19="RTT",1,0)+IF(W19="RTT",1,0)+IF(X19="RTT",1,0)+IF(Y19="RTT",1,0)+IF(Z19="RTT",1,0)+IF(AA19="RTT",1,0)+IF(AB19="RTT",1,0)+IF(AC19="RTT",1,0)+IF(AE19="RTT",1,0)+IF(AF19="RTT",1,0)+IF(AG19="RTT",1,0)+IF(AH19="RTT",1,0)+IF(AD19="RTT",1,0)+IF(D19="RTT",1,0) -> 0
A20: 21 | B20: CONTIN | C20: ARMAND | D20: 8 | E20: 8 | F20: 8 | G20: 8 | H20: 7 | K20: 8 | L20: 8 | M20: 8 | N20: 8 | O20: 7 | R20: 8 | S20: 8 | T20: 8 | U20: 8 | V20: 7 | Y20: 8 | Z20: 8 | AA20: 8 | AB20: 8 | AC20: 7 | AF20: 8 | AG20: 8 | AH20: 8 | AI20: =SUM(D20:AH20) -> 180 | AJ20: =IF(D20="CP",1,0)+IF(E20="CP",1,0)+IF(F20="CP",1,0)+IF(G20="CP",1,0)+IF(H20="CP",1,0)+IF(I20="CP",1,0)+IF(J20="CP",1,0)+IF(K20="CP",1,0)+IF(L20="CP",1,0)+IF(M20="CP",1,0)+IF(N20="CP",1,0)+IF(O20="CP",1,0)+IF(P20="CP",1,0)+IF(Q20="CP",1,0)+IF(R20="CP",1,0)+IF(S20="CP",1,0)+IF(T20="CP",1,0)+IF(U20="CP",1,0)+IF(V20="CP",1,0)+IF(W20="CP",1,0)+IF(X20="CP",1,0)+IF(Y20="CP",1,0)+IF(Z20="CP",1,0)+IF(AA20="CP",1,0)+IF(AB20="CP",1,0)+IF(AD20="CP",1,0)+IF(AE20="CP",1,0)+IF(AF20="CP",1,0)+IF(AG20="CP",1,0)+IF(AH20="CP",1,0)+IF(AC20="CP",1,0) -> 0 | AK20: =IF(E20="RTT",1,0)+IF(F20="RTT",1,0)+IF(G20="RTT",1,0)+IF(H20="RTT",1,0)+IF(I20="RTT",1,0)+IF(J20="RTT",1,0)+IF(K20="RTT",1,0)+IF(L20="RTT",1,0)+IF(M20="RTT",1,0)+IF(N20="RTT",1,0)+IF(O20="RTT",1,0)+IF(P20="RTT",1,0)+IF(Q20="RTT",1,0)+IF(R20="RTT",1,0)+IF(S20="RTT",1,0)+IF(T20="RTT",1,0)+IF(U20="RTT",1,0)+IF(V20="RTT",1,0)+IF(W20="RTT",1,0)+IF(X20="RTT",1,0)+IF(Y20="RTT",1,0)+IF(Z20="RTT",1,0)+IF(AA20="RTT",1,0)+IF(AB20="RTT",1,0)+IF(AC20="RTT",1,0)+IF(AE20="RTT",1,0)+IF(AF20="RTT",1,0)+IF(AG20="RTT",1,0)+IF(AH20="RTT",1,0)+IF(AD20="RTT",1,0)+IF(D20="RTT",1,0) -> 0
A21: 09 | B21: COUVREUX | C21: FLORA | D21: 8 | E21: 8 | F21: 8 | G21: 8 | H21: 7 | K21: 8 | L21: 8 | M21: 8 | N21: 8 | O21: 7 | R21: 8 | S21: 8 | T21: 8 | U21: 8 | V21: 7 | Y21: 8 | Z21: 8 | AA21: 8 | AB21: 8 | AC21: 7 | AF21: 8 | AG21: 8 | AH21: 8 | AI21: =SUM(D21:AH21) -> 180 | AJ21: =IF(D21="CP",1,0)+IF(E21="CP",1,0)+IF(F21="CP",1,0)+IF(G21="CP",1,0)+IF(H21="CP",1,0)+IF(I21="CP",1,0)+IF(J21="CP",1,0)+IF(K21="CP",1,0)+IF(L21="CP",1,0)+IF(M21="CP",1,0)+IF(N21="CP",1,0)+IF(O21="CP",1,0)+IF(P21="CP",1,0)+IF(Q21="CP",1,0)+IF(R21="CP",1,0)+IF(S21="CP",1,0)+IF(T21="CP",1,0)+IF(U21="CP",1,0)+IF(V21="CP",1,0)+IF(W21="CP",1,0)+IF(X21="CP",1,0)+IF(Y21="CP",1,0)+IF(Z21="CP",1,0)+IF(AA21="CP",1,0)+IF(AB21="CP",1,0)+IF(AD21="CP",1,0)+IF(AE21="CP",1,0)+IF(AF21="CP",1,0)+IF(AG21="CP",1,0)+IF(AH21="CP",1,0)+IF(AC21="CP",1,0) -> 0 | AK21: =IF(E21="RTT",1,0)+IF(F21="RTT",1,0)+IF(G21="RTT",1,0)+IF(H21="RTT",1,0)+IF(I21="RTT",1,0)+IF(J21="RTT",1,0)+IF(K21="RTT",1,0)+IF(L21="RTT",1,0)+IF(M21="RTT",1,0)+IF(N21="RTT",1,0)+IF(O21="RTT",1,0)+IF(P21="RTT",1,0)+IF(Q21="RTT",1,0)+IF(R21="RTT",1,0)+IF(S21="RTT",1,0)+IF(T21="RTT",1,0)+IF(U21="RTT",1,0)+IF(V21="RTT",1,0)+IF(W21="RTT",1,0)+IF(X21="RTT",1,0)+IF(Y21="RTT",1,0)+IF(Z21="RTT",1,0)+IF(AA21="RTT",1,0)+IF(AB21="RTT",1,0)+IF(AC21="RTT",1,0)+IF(AE21="RTT",1,0)+IF(AF21="RTT",1,0)+IF(AG21="RTT",1,0)+IF(AH21="RTT",1,0)+IF(AD21="RTT",1,0)+IF(D21="RTT",1,0) -> 0
A22: 10 | B22: DEKHIL | C22: HENNACHI | D22: 8 | E22: 8 | F22: 8 | G22: 8 | H22: 7 | K22: 8 | L22: 8 | M22: 8 | N22: 8 | O22: 7 | R22: 8 | S22: 8 | T22: 8 | U22: 8 | V22: 7 | Y22: 8 | Z22: 8 | AA22: 8 | AB22: 8 | AC22: 7 | AF22: 8 | AG22: 8 | AH22: 8 | AI22: =SUM(D22:AH22) -> 180 | AJ22: =IF(D22="CP",1,0)+IF(E22="CP",1,0)+IF(F22="CP",1,0)+IF(G22="CP",1,0)+IF(H22="CP",1,0)+IF(I22="CP",1,0)+IF(J22="CP",1,0)+IF(K22="CP",1,0)+IF(L22="CP",1,0)+IF(M22="CP",1,0)+IF(N22="CP",1,0)+IF(O22="CP",1,0)+IF(P22="CP",1,0)+IF(Q22="CP",1,0)+IF(R22="CP",1,0)+IF(S22="CP",1,0)+IF(T22="CP",1,0)+IF(U22="CP",1,0)+IF(V22="CP",1,0)+IF(W22="CP",1,0)+IF(X22="CP",1,0)+IF(Y22="CP",1,0)+IF(Z22="CP",1,0)+IF(AA22="CP",1,0)+IF(AB22="CP",1,0)+IF(AD22="CP",1,0)+IF(AE22="CP",1,0)+IF(AF22="CP",1,0)+IF(AG22="CP",1,0)+IF(AH22="CP",1,0)+IF(AC22="CP",1,0) -> 0 | AK22: =IF(E22="RTT",1,0)+IF(F22="RTT",1,0)+IF(G22="RTT",1,0)+IF(H22="RTT",1,0)+IF(I22="RTT",1,0)+IF(J22="RTT",1,0)+IF(K22="RTT",1,0)+IF(L22="RTT",1,0)+IF(M22="RTT",1,0)+IF(N22="RTT",1,0)+IF(O22="RTT",1,0)+IF(P22="RTT",1,0)+IF(Q22="RTT",1,0)+IF(R22="RTT",1,0)+IF(S22="RTT",1,0)+IF(T22="RTT",1,0)+IF(U22="RTT",1,0)+IF(V22="RTT",1,0)+IF(W22="RTT",1,0)+IF(X22="RTT",1,0)+IF(Y22="RTT",1,0)+IF(Z22="RTT",1,0)+IF(AA22="RTT",1,0)+IF(AB22="RTT",1,0)+IF(AC22="RTT",1,0)+IF(AE22="RTT",1,0)+IF(AF22="RTT",1,0)+IF(AG22="RTT",1,0)+IF(AH22="RTT",1,0)+IF(AD22="RTT",1,0)+IF(D22="RTT",1,0) -> 0
A23: 12 | B23: GOURDON | C23: KATIA | D23: 8 | E23: 8 | F23: 8 | G23: 8 | H23: 7 | K23: 8 | L23: 8 | M23: 8 | N23: 8 | O23: 7 | R23: 8 | S23: 8 | T23: 8 | U23: 8 | V23: 7 | Y23: 8 | Z23: 8 | AA23: 8 | AB23: 8 | AC23: 7 | AF23: 8 | AG23: 8 | AH23: 8 | AI23: =SUM(D23:AH23) -> 180 | AJ23: =IF(D23="CP",1,0)+IF(E23="CP",1,0)+IF(F23="CP",1,0)+IF(G23="CP",1,0)+IF(H23="CP",1,0)+IF(I23="CP",1,0)+IF(J23="CP",1,0)+IF(K23="CP",1,0)+IF(L23="CP",1,0)+IF(M23="CP",1,0)+IF(N23="CP",1,0)+IF(O23="CP",1,0)+IF(P23="CP",1,0)+IF(Q23="CP",1,0)+IF(R23="CP",1,0)+IF(S23="CP",1,0)+IF(T23="CP",1,0)+IF(U23="CP",1,0)+IF(V23="CP",1,0)+IF(W23="CP",1,0)+IF(X23="CP",1,0)+IF(Y23="CP",1,0)+IF(Z23="CP",1,0)+IF(AA23="CP",1,0)+IF(AB23="CP",1,0)+IF(AD23="CP",1,0)+IF(AE23="CP",1,0)+IF(AF23="CP",1,0)+IF(AG23="CP",1,0)+IF(AH23="CP",1,0)+IF(AC23="CP",1,0) -> 0 | AK23: =IF(E23="RTT",1,0)+IF(F23="RTT",1,0)+IF(G23="RTT",1,0)+IF(H23="RTT",1,0)+IF(I23="RTT",1,0)+IF(J23="RTT",1,0)+IF(K23="RTT",1,0)+IF(L23="RTT",1,0)+IF(M23="RTT",1,0)+IF(N23="RTT",1,0)+IF(O23="RTT",1,0)+IF(P23="RTT",1,0)+IF(Q23="RTT",1,0)+IF(R23="RTT",1,0)+IF(S23="RTT",1,0)+IF(T23="RTT",1,0)+IF(U23="RTT",1,0)+IF(V23="RTT",1,0)+IF(W23="RTT",1,0)+IF(X23="RTT",1,0)+IF(Y23="RTT",1,0)+IF(Z23="RTT",1,0)+IF(AA23="RTT",1,0)+IF(AB23="RTT",1,0)+IF(AC23="RTT",1,0)+IF(AE23="RTT",1,0)+IF(AF23="RTT",1,0)+IF(AG23="RTT",1,0)+IF(AH23="RTT",1,0)+IF(AD23="RTT",1,0)+IF(D23="RTT",1,0) -> 0
... A35: 14 | B35: VIAUD | C35: JEAN MARC | D35: 8 | E35: 8 | F35: 8 | G35: 8 | H35: 7 | K35: 8 | L35: 8 | M35: 8 | N35: 8 | O35: 7 | R35: 8 | S35: 8 | T35: 8 | U35: 8 | V35: 7 | Y35: 8 | Z35: 8 | AA35: 8 | AB35: 8 | AC35: 7 | AF35: 8 | AG35: 8 | AH35: 8 | AI35: =SUM(D35:AH35) -> 180 | AJ35: =IF(D35="CP",1,0)+IF(E35="CP",1,0)+IF(F35="CP",1,0)+IF(G35="CP",1,0)+IF(H35="CP",1,0)+IF(I35="CP",1,0)+IF(J35="CP",1,0)+IF(K35="CP",1,0)+IF(L35="CP",1,0)+IF(M35="CP",1,0)+IF(N35="CP",1,0)+IF(O35="CP",1,0)+IF(P35="CP",1,0)+IF(Q35="CP",1,0)+IF(R35="CP",1,0)+IF(S35="CP",1,0)+IF(T35="CP",1,0)+IF(U35="CP",1,0)+IF(V35="CP",1,0)+IF(W35="CP",1,0)+IF(X35="CP",1,0)+IF(Y35="CP",1,0)+IF(Z35="CP",1,0)+IF(AA35="CP",1,0)+IF(AB35="CP",1,0)+IF(AD35="CP",1,0)+IF(AE35="CP",1,0)+IF(AF35="CP",1,0)+IF(AG35="CP",1,0)+IF(AH35="CP",1,0)+IF(AC35="CP",1,0) -> 0 | AK35: =IF(E35="RTT",1,0)+IF(F35="RTT",1,0)+IF(G35="RTT",1,0)+IF(H35="RTT",1,0)+IF(I35="RTT",1,0)+IF(J35="RTT",1,0)+IF(K35="RTT",1,0)+IF(L35="RTT",1,0)+IF(M35="RTT",1,0)+IF(N35="RTT",1,0)+IF(O35="RTT",1,0)+IF(P35="RTT",1,0)+IF(Q35="RTT",1,0)+IF(R35="RTT",1,0)+IF(S35="RTT",1,0)+IF(T35="RTT",1,0)+IF(U35="RTT",1,0)+IF(V35="RTT",1,0)+IF(W35="RTT",1,0)+IF(X35="RTT",1,0)+IF(Y35="RTT",1,0)+IF(Z35="RTT",1,0)+IF(AA35="RTT",1,0)+IF(AB35="RTT",1,0)+IF(AC35="RTT",1,0)+IF(AE35="RTT",1,0)+IF(AF35="RTT",1,0)+IF(AG35="RTT",1,0)+IF(AH35="RTT",1,0)+IF(AD35="RTT",1,0)+IF(D35="RTT",1,0) -> 0
A37: SAISONNIERS
A38: z101 | B38: BIOTTEAU | C38: FLORIAN | D38: 8 | E38: 8 | F38: 8 | G38: 8 | H38: 7 | K38: 8 | L38: 8 | M38: 8 | N38: 8 | O38: 7 | R38: 8 | S38: 8 | T38: 8 | U38: 8 | V38: 7 | Y38: 8 | Z38: 8 | AA38: 8 | AB38: 8 | AC38: 7 | AF38: 8 | AG38: 8 | AH38: 8 | AI38: =SUM(D38:AH38) -> 180 | AJ38: =IF(D38="CP",1,0)+IF(E38="CP",1,0)+IF(F38="CP",1,0)+IF(G38="CP",1,0)+IF(H38="CP",1,0)+IF(I38="CP",1,0)+IF(J38="CP",1,0)+IF(K38="CP",1,0)+IF(L38="CP",1,0)+IF(M38="CP",1,0)+IF(N38="CP",1,0)+IF(O38="CP",1,0)+IF(P38="CP",1,0)+IF(Q38="CP",1,0)+IF(R38="CP",1,0)+IF(S38="CP",1,0)+IF(T38="CP",1,0)+IF(U38="CP",1,0)+IF(V38="CP",1,0)+IF(W38="CP",1,0)+IF(X38="CP",1,0)+IF(Y38="CP",1,0)+IF(Z38="CP",1,0)+IF(AA38="CP",1,0)+IF(AB38="CP",1,0)+IF(AD38="CP",1,0)+IF(AE38="CP",1,0)+IF(AF38="CP",1,0)+IF(AG38="CP",1,0)+IF(AH38="CP",1,0)+IF(AC38="CP",1,0) -> 0 | AK38: =IF(E38="RTT",1,0)+IF(F38="RTT",1,0)+IF(G38="RTT",1,0)+IF(H38="RTT",1,0)+IF(I38="RTT",1,0)+IF(J38="RTT",1,0)+IF(K38="RTT",1,0)+IF(L38="RTT",1,0)+IF(M38="RTT",1,0)+IF(N38="RTT",1,0)+IF(O38="RTT",1,0)+IF(P38="RTT",1,0)+IF(Q38="RTT",1,0)+IF(R38="RTT",1,0)+IF(S38="RTT",1,0)+IF(T38="RTT",1,0)+IF(U38="RTT",1,0)+IF(V38="RTT",1,0)+IF(W38="RTT",1,0)+IF(X38="RTT",1,0)+IF(Y38="RTT",1,0)+IF(Z38="RTT",1,0)+IF(AA38="RTT",1,0)+IF(AB38="RTT",1,0)+IF(AC38="RTT",1,0)+IF(AE38="RTT",1,0)+IF(AF38="RTT",1,0)+IF(AG38="RTT",1,0)+IF(AH38="RTT",1,0)+IF(AD38="RTT",1,0)+IF(D38="RTT",1,0) -> 0
A39: z102 | B39: ALLA | C39: CHIARA | D39: 8 | E39: 8 | F39: 8 | G39: 8 | H39: 7 | K39: 8 | L39: 8 | M39: 8 | N39: 8 | O39: 7 | R39: 8 | S39: 8 | T39: 8 | U39: 8 | V39: 7 | Y39: 8 | Z39: 8 | AA39: 8 | AB39: 8 | AC39: 7 | AF39: 8 | AG39: 8 | AH39: 8 | AI39: =SUM(D39:AH39) -> 180 | AJ39: =IF(D39="CP",1,0)+IF(E39="CP",1,0)+IF(F39="CP",1,0)+IF(G39="CP",1,0)+IF(H39="CP",1,0)+IF(I39="CP",1,0)+IF(J39="CP",1,0)+IF(K39="CP",1,0)+IF(L39="CP",1,0)+IF(M39="CP",1,0)+IF(N39="CP",1,0)+IF(O39="CP",1,0)+IF(P39="CP",1,0)+IF(Q39="CP",1,0)+IF(R39="CP",1,0)+IF(S39="CP",1,0)+IF(T39="CP",1,0)+IF(U39="CP",1,0)+IF(V39="CP",1,0)+IF(W39="CP",1,0)+IF(X39="CP",1,0)+IF(Y39="CP",1,0)+IF(Z39="CP",1,0)+IF(AA39="CP",1,0)+IF(AB39="CP",1,0)+IF(AD39="CP",1,0)+IF(AE39="CP",1,0)+IF(AF39="CP",1,0)+IF(AG39="CP",1,0)+IF(AH39="CP",1,0)+IF(AC39="CP",1,0) -> 0 | AK39: =IF(E39="RTT",1,0)+IF(F39="RTT",1,0)+IF(G39="RTT",1,0)+IF(H39="RTT",1,0)+IF(I39="RTT",1,0)+IF(J39="RTT",1,0)+IF(K39="RTT",1,0)+IF(L39="RTT",1,0)+IF(M39="RTT",1,0)+IF(N39="RTT",1,0)+IF(O39="RTT",1,0)+IF(P39="RTT",1,0)+IF(Q39="RTT",1,0)+IF(R39="RTT",1,0)+IF(S39="RTT",1,0)+IF(T39="RTT",1,0)+IF(U39="RTT",1,0)+IF(V39="RTT",1,0)+IF(W39="RTT",1,0)+IF(X39="RTT",1,0)+IF(Y39="RTT",1,0)+IF(Z39="RTT",1,0)+IF(AA39="RTT",1,0)+IF(AB39="RTT",1,0)+IF(AC39="RTT",1,0)+IF(AE39="RTT",1,0)+IF(AF39="RTT",1,0)+IF(AG39="RTT",1,0)+IF(AH39="RTT",1,0)+IF(AD39="RTT",1,0)+IF(D39="RTT",1,0) -> 0
A40: z103 | B40: BAUMARD | C40: CLEMENT | D40: 8 | E40: 8 | F40: 8 | G40: 8 | H40: 7 | K40: 8 | L40: 8 | M40: 8 | N40: 8 | O40: 7 | R40: 8 | S40: 8 | T40: 8 | U40: 8 | V40: 7 | Y40: 8 | Z40: 8 | AA40: 8 | AB40: 8 | AC40: 7 | AF40: 8 | AG40: 8 | AH40: 8 | AI40: =SUM(D40:AH40) -> 180 | AJ40: =IF(D40="CP",1,0)+IF(E40="CP",1,0)+IF(F40="CP",1,0)+IF(G40="CP",1,0)+IF(H40="CP",1,0)+IF(I40="CP",1,0)+IF(J40="CP",1,0)+IF(K40="CP",1,0)+IF(L40="CP",1,0)+IF(M40="CP",1,0)+IF(N40="CP",1,0)+IF(O40="CP",1,0)+IF(P40="CP",1,0)+IF(Q40="CP",1,0)+IF(R40="CP",1,0)+IF(S40="CP",1,0)+IF(T40="CP",1,0)+IF(U40="CP",1,0)+IF(V40="CP",1,0)+IF(W40="CP",1,0)+IF(X40="CP",1,0)+IF(Y40="CP",1,0)+IF(Z40="CP",1,0)+IF(AA40="CP",1,0)+IF(AB40="CP",1,0)+IF(AD40="CP",1,0)+IF(AE40="CP",1,0)+IF(AF40="CP",1,0)+IF(AG40="CP",1,0)+IF(AH40="CP",1,0)+IF(AC40="CP",1,0) -> 0 | AK40: =IF(E40="RTT",1,0)+IF(F40="RTT",1,0)+IF(G40="RTT",1,0)+IF(H40="RTT",1,0)+IF(I40="RTT",1,0)+IF(J40="RTT",1,0)+IF(K40="RTT",1,0)+IF(L40="RTT",1,0)+IF(M40="RTT",1,0)+IF(N40="RTT",1,0)+IF(O40="RTT",1,0)+IF(P40="RTT",1,0)+IF(Q40="RTT",1,0)+IF(R40="RTT",1,0)+IF(S40="RTT",1,0)+IF(T40="RTT",1,0)+IF(U40="RTT",1,0)+IF(V40="RTT",1,0)+IF(W40="RTT",1,0)+IF(X40="RTT",1,0)+IF(Y40="RTT",1,0)+IF(Z40="RTT",1,0)+IF(AA40="RTT",1,0)+IF(AB40="RTT",1,0)+IF(AC40="RTT",1,0)+IF(AE40="RTT",1,0)+IF(AF40="RTT",1,0)+IF(AG40="RTT",1,0)+IF(AH40="RTT",1,0)+IF(AD40="RTT",1,0)+IF(D40="RTT",1,0) -> 0
A41: z104 | B41: GRIMAULT | C41: EMMA | D41: 8 | E41: 8 | F41: 8 | G41: 8 | H41: 7 | K41: 8 | L41: 8 | M41: 8 | N41: 8 | O41: 7 | R41: 8 | S41: 8 | T41: 8 | U41: 8 | V41: 7 | Y41: 8 | Z41: 8 | AA41: 8 | AB41: 8 | AC41: 7 | AF41: 8 | AG41: 8 | AH41: 8 | AI41: =SUM(D41:AH41) -> 180 | AJ41: =IF(D41="CP",1,0)+IF(E41="CP",1,0)+IF(F41="CP",1,0)+IF(G41="CP",1,0)+IF(H41="CP",1,0)+IF(I41="CP",1,0)+IF(J41="CP",1,0)+IF(K41="CP",1,0)+IF(L41="CP",1,0)+IF(M41="CP",1,0)+IF(N41="CP",1,0)+IF(O41="CP",1,0)+IF(P41="CP",1,0)+IF(Q41="CP",1,0)+IF(R41="CP",1,0)+IF(S41="CP",1,0)+IF(T41="CP",1,0)+IF(U41="CP",1,0)+IF(V41="CP",1,0)+IF(W41="CP",1,0)+IF(X41="CP",1,0)+IF(Y41="CP",1,0)+IF(Z41="CP",1,0)+IF(AA41="CP",1,0)+IF(AB41="CP",1,0)+IF(AD41="CP",1,0)+IF(AE41="CP",1,0)+IF(AF41="CP",1,0)+IF(AG41="CP",1,0)+IF(AH41="CP",1,0)+IF(AC41="CP",1,0) -> 0 | AK41: =IF(E41="RTT",1,0)+IF(F41="RTT",1,0)+IF(G41="RTT",1,0)+IF(H41="RTT",1,0)+IF(I41="RTT",1,0)+IF(J41="RTT",1,0)+IF(K41="RTT",1,0)+IF(L41="RTT",1,0)+IF(M41="RTT",1,0)+IF(N41="RTT",1,0)+IF(O41="RTT",1,0)+IF(P41="RTT",1,0)+IF(Q41="RTT",1,0)+IF(R41="RTT",1,0)+IF(S41="RTT",1,0)+IF(T41="RTT",1,0)+IF(U41="RTT",1,0)+IF(V41="RTT",1,0)+IF(W41="RTT",1,0)+IF(X41="RTT",1,0)+IF(Y41="RTT",1,0)+IF(Z41="RTT",1,0)+IF(AA41="RTT",1,0)+IF(AB41="RTT",1,0)+IF(AC41="RTT",1,0)+IF(AE41="RTT",1,0)+IF(AF41="RTT",1,0)+IF(AG41="RTT",1,0)+IF(AH41="RTT",1,0)+IF(AD41="RTT",1,0)+IF(D41="RTT",1,0) -> 0
A42: z105 | B42: BRETEAU | C42: HELENA | D42: 8 | E42: 8 | F42: 8 | G42: 8 | H42: 7 | K42: 8 | L42: 8 | M42: 8 | N42: 8 | O42: 7 | R42: 8 | S42: 8 | T42: 8 | U42: 8 | V42: 7 | Y42: 8 | Z42: 8 | AA42: 8 | AB42: 8 | AC42: 7 | AF42: 8 | AG42: 8 | AH42: 8 | AI42: =SUM(D42:AH42) -> 180 | AJ42: =IF(D42="CP",1,0)+IF(E42="CP",1,0)+IF(F42="CP",1,0)+IF(G42="CP",1,0)+IF(H42="CP",1,0)+IF(I42="CP",1,0)+IF(J42="CP",1,0)+IF(K42="CP",1,0)+IF(L42="CP",1,0)+IF(M42="CP",1,0)+IF(N42="CP",1,0)+IF(O42="CP",1,0)+IF(P42="CP",1,0)+IF(Q42="CP",1,0)+IF(R42="CP",1,0)+IF(S42="CP",1,0)+IF(T42="CP",1,0)+IF(U42="CP",1,0)+IF(V42="CP",1,0)+IF(W42="CP",1,0)+IF(X42="CP",1,0)+IF(Y42="CP",1,0)+IF(Z42="CP",1,0)+IF(AA42="CP",1,0)+IF(AB42="CP",1,0)+IF(AD42="CP",1,0)+IF(AE42="CP",1,0)+IF(AF42="CP",1,0)+IF(AG42="CP",1,0)+IF(AH42="CP",1,0)+IF(AC42="CP",1,0) -> 0 | AK42: =IF(E42="RTT",1,0)+IF(F42="RTT",1,0)+IF(G42="RTT",1,0)+IF(H42="RTT",1,0)+IF(I42="RTT",1,0)+IF(J42="RTT",1,0)+IF(K42="RTT",1,0)+IF(L42="RTT",1,0)+IF(M42="RTT",1,0)+IF(N42="RTT",1,0)+IF(O42="RTT",1,0)+IF(P42="RTT",1,0)+IF(Q42="RTT",1,0)+IF(R42="RTT",1,0)+IF(S42="RTT",1,0)+IF(T42="RTT",1,0)+IF(U42="RTT",1,0)+IF(V42="RTT",1,0)+IF(W42="RTT",1,0)+IF(X42="RTT",1,0)+IF(Y42="RTT",1,0)+IF(Z42="RTT",1,0)+IF(AA42="RTT",1,0)+IF(AB42="RTT",1,0)+IF(AC42="RTT",1,0)+IF(AE42="RTT",1,0)+IF(AF42="RTT",1,0)+IF(AG42="RTT",1,0)+IF(AH42="RTT",1,0)+IF(AD42="RTT",1,0)+IF(D42="RTT",1,0) -> 0
A43: z106 | B43: BOULORD | C43: EVA | D43: 8 | E43: 8 | F43: 8 | G43: 8 | H43: 7 | K43: 8 | L43: 8 | M43: 8 | N43: 8 | O43: 7 | R43: 8 | S43: 8 | T43: 8 | U43: 8 | V43: 7 | Y43: 8 | Z43: 8 | AA43: 8 | AB43: 8 | AC43: 7 | AF43: 8 | AG43: 8 | AH43: 8 | AI43: =SUM(D43:AH43) -> 180 | AJ43: =IF(D43="CP",1,0)+IF(E43="CP",1,0)+IF(F43="CP",1,0)+IF(G43="CP",1,0)+IF(H43="CP",1,0)+IF(I43="CP",1,0)+IF(J43="CP",1,0)+IF(K43="CP",1,0)+IF(L43="CP",1,0)+IF(M43="CP",1,0)+IF(N43="CP",1,0)+IF(O43="CP",1,0)+IF(P43="CP",1,0)+IF(Q43="CP",1,0)+IF(R43="CP",1,0)+IF(S43="CP",1,0)+IF(T43="CP",1,0)+IF(U43="CP",1,0)+IF(V43="CP",1,0)+IF(W43="CP",1,0)+IF(X43="CP",1,0)+IF(Y43="CP",1,0)+IF(Z43="CP",1,0)+IF(AA43="CP",1,0)+IF(AB43="CP",1,0)+IF(AD43="CP",1,0)+IF(AE43="CP",1,0)+IF(AF43="CP",1,0)+IF(AG43="CP",1,0)+IF(AH43="CP",1,0)+IF(AC43="CP",1,0) -> 0 | AK43: =IF(E43="RTT",1,0)+IF(F43="RTT",1,0)+IF(G43="RTT",1,0)+IF(H43="RTT",1,0)+IF(I43="RTT",1,0)+IF(J43="RTT",1,0)+IF(K43="RTT",1,0)+IF(L43="RTT",1,0)+IF(M43="RTT",1,0)+IF(N43="RTT",1,0)+IF(O43="RTT",1,0)+IF(P43="RTT",1,0)+IF(Q43="RTT",1,0)+IF(R43="RTT",1,0)+IF(S43="RTT",1,0)+IF(T43="RTT",1,0)+IF(U43="RTT",1,0)+IF(V43="RTT",1,0)+IF(W43="RTT",1,0)+IF(X43="RTT",1,0)+IF(Y43="RTT",1,0)+IF(Z43="RTT",1,0)+IF(AA43="RTT",1,0)+IF(AB43="RTT",1,0)+IF(AC43="RTT",1,0)+IF(AE43="RTT",1,0)+IF(AF43="RTT",1,0)+IF(AG43="RTT",1,0)+IF(AH43="RTT",1,0)+IF(AD43="RTT",1,0)+IF(D43="RTT",1,0) -> 0
C46: NOTES SUPPLEMENTAIRES

Sheet Août
B1: 2019
B2: 8
C4: FICHE DE PRESENCE | Q4: MOIS | T4: AOUT | Z4: 2019
C6: 21 | D6: jours
C8: SEMAINES | D8: 31 | J8: 32 | Q8: 33 | X8: 34 | AE8: 35
D9: J | E9: V | H9: L | I9: M | J9: M | K9: J | L9: V | O9: L | P9: M | Q9: M | R9: J | S9: V | V9: L | W9: M | X9: M | Y9: J | Z9: V | AC9: L | AD9: M | AE9: M | AF9: J | AI9: H. TOT | AJ9: CP | AK9: RTT | AL9: HEURES
C10: JOURS | D10: 1 | E10: 2 | F10: 3 | G10: 4 | H10: 5 | I10: 6 | J10: 7 | K10: 8 | L10: 9 | M10: 10 | N10: 11 | O10: 12 | P10: 13 | Q10: 14 | R10: 15 | S10: 16 | T10: 17 | U10: 18 | V10: 19 | W10: 20 | X10: 21 | Y10: 22 | Z10: 23 | AA10: 24 | AB10: 25 | AC10: 26 | AD10: 27 | AE10: 28 | AF10: 29 | AG10: 30 | AH10: 31 | AI10: TRAVAIL | AJ10: jours | AK10: jours | AL10: SILOG
A12: 01 | B12: ABELARD | C12: AURELIE | D12: 8 | E12: 7 | H12: CP | I12: CP | J12: CP | K12: CP | L12: CP | O12: CP | P12: CP | Q12: CP | S12: CP | V12: CP | W12: CP | X12: CP | Y12: CP | Z12: CP | AC12: 8 | AD12: 8 | AE12: 8 | AF12: 8 | AG12: 7 | AI12: =SUM(D12:AH12) -> 54 | AJ12: =IF(D12="CP",1,0)+IF(E12="CP",1,0)+IF(F12="CP",1,0)+IF(G12="CP",1,0)+IF(H12="CP",1,0)+IF(I12="CP",1,0)+IF(J12="CP",1,0)+IF(K12="CP",1,0)+IF(L12="CP",1,0)+IF(M12="CP",1,0)+IF(N12="CP",1,0)+IF(O12="CP",1,0)+IF(P12="CP",1,0)+IF(Q12="CP",1,0)+IF(R12="CP",1,0)+IF(S12="CP",1,0)+IF(T12="CP",1,0)+IF(U12="CP",1,0)+IF(V12="CP",1,0)+IF(W12="CP",1,0)+IF(X12="CP",1,0)+IF(Y12="CP",1,0)+IF(Z12="CP",1,0)+IF(AA12="CP",1,0)+IF(AB12="CP",1,0)+IF(AD12="CP",1,0)+IF(AE12="CP",1,0)+IF(AF12="CP",1,0)+IF(AG12="CP",1,0)+IF(AH12="CP",1,0)+IF(AC12="CP",1,0) -> 14 | AK12: =IF(E12="RTT",1,0)+IF(F12="RTT",1,0)+IF(G12="RTT",1,0)+IF(H12="RTT",1,0)+IF(I12="RTT",1,0)+IF(J12="RTT",1,0)+IF(K12="RTT",1,0)+IF(L12="RTT",1,0)+IF(M12="RTT",1,0)+IF(N12="RTT",1,0)+IF(O12="RTT",1,0)+IF(P12="RTT",1,0)+IF(Q12="RTT",1,0)+IF(R12="RTT",1,0)+IF(S12="RTT",1,0)+IF(T12="RTT",1,0)+IF(U12="RTT",1,0)+IF(V12="RTT",1,0)+IF(W12="RTT",1,0)+IF(X12="RTT",1,0)+IF(Y12="RTT",1,0)+IF(Z12="RTT",1,0)+IF(AA12="RTT",1,0)+IF(AB12="RTT",1,0)+IF(AC12="RTT",1,0)+IF(AE12="RTT",1,0)+IF(AF12="RTT",1,0)+IF(AG12="RTT",1,0)+IF(AH12="RTT",1,0)+IF(AD12="RTT",1,0)+IF(D12="RTT",1,0) -> 0
A13: 02 | B13: AGOT | C13: DOMINIQUE | D13: 8 | E13: 7 | H13: CP | I13: CP | J13: CP | K13: CP | L13: CP | O13: CP | P13: CP | Q13: CP | S13: CP | V13: CP | W13: CP | X13: CP | Y13: CP | Z13: CP | AC13: 8 | AD13: 8 | AE13: 8 | AF13: 8 | AG13: 7 | AI13: =SUM(D13:AH13) -> 54 | AJ13: =IF(D13="CP",1,0)+IF(E13="CP",1,0)+IF(F13="CP",1,0)+IF(G13="CP",1,0)+IF(H13="CP",1,0)+IF(I13="CP",1,0)+IF(J13="CP",1,0)+IF(K13="CP",1,0)+IF(L13="CP",1,0)+IF(M13="CP",1,0)+IF(N13="CP",1,0)+IF(O13="CP",1,0)+IF(P13="CP",1,0)+IF(Q13="CP",1,0)+IF(R13="CP",1,0)+IF(S13="CP",1,0)+IF(T13="CP",1,0)+IF(U13="CP",1,0)+IF(V13="CP",1,0)+IF(W13="CP",1,0)+IF(X13="CP",1,0)+IF(Y13="CP",1,0)+IF(Z13="CP",1,0)+IF(AA13="CP",1,0)+IF(AB13="CP",1,0)+IF(AD13="CP",1,0)+IF(AE13="CP",1,0)+IF(AF13="CP",1,0)+IF(AG13="CP",1,0)+IF(AH13="CP",1,0)+IF(AC13="CP",1,0) -> 14 | AK13: =IF(E13="RTT",1,0)+IF(F13="RTT",1,0)+IF(G13="RTT",1,0)+IF(H13="RTT",1,0)+IF(I13="RTT",1,0)+IF(J13="RTT",1,0)+IF(K13="RTT",1,0)+IF(L13="RTT",1,0)+IF(M13="RTT",1,0)+IF(N13="RTT",1,0)+IF(O13="RTT",1,0)+IF(P13="RTT",1,0)+IF(Q13="RTT",1,0)+IF(R13="RTT",1,0)+IF(S13="RTT",1,0)+IF(T13="RTT",1,0)+IF(U13="RTT",1,0)+IF(V13="RTT",1,0)+IF(W13="RTT",1,0)+IF(X13="RTT",1,0)+IF(Y13="RTT",1,0)+IF(Z13="RTT",1,0)+IF(AA13="RTT",1,0)+IF(AB13="RTT",1,0)+IF(AC13="RTT",1,0)+IF(AE13="RTT",1,0)+IF(AF13="RTT",1,0)+IF(AG13="RTT",1,0)+IF(AH13="RTT",1,0)+IF(AD13="RTT",1,0)+IF(D13="RTT",1,0) -> 0
A14: 03 | B14: BAUMARD | C14: YSABELLE | D14: 8 | E14: 7 | H14: CP | I14: CP | J14: CP | K14: CP | L14: CP | O14: CP | P14: CP | Q14: CP | S14: CP | V14: CP | W14: CP | X14: CP | Y14: CP | Z14: CP | AC14: 8 | AD14: 8 | AE14: 8 | AF14: 8 | AG14: 7 | AI14: =SUM(D14:AH14) -> 54 | AJ14: =IF(D14="CP",1,0)+IF(E14="CP",1,0)+IF(F14="CP",1,0)+IF(G14="CP",1,0)+IF(H14="CP",1,0)+IF(I14="CP",1,0)+IF(J14="CP",1,0)+IF(K14="CP",1,0)+IF(L14="CP",1,0)+IF(M14="CP",1,0)+IF(N14="CP",1,0)+IF(O14="CP",1,0)+IF(P14="CP",1,0)+IF(Q14="CP",1,0)+IF(R14="CP",1,0)+IF(S14="CP",1,0)+IF(T14="CP",1,0)+IF(U14="CP",1,0)+IF(V14="CP",1,0)+IF(W14="CP",1,0)+IF(X14="CP",1,0)+IF(Y14="CP",1,0)+IF(Z14="CP",1,0)+IF(AA14="CP",1,0)+IF(AB14="CP",1,0)+IF(AD14="CP",1,0)+IF(AE14="CP",1,0)+IF(AF14="CP",1,0)+IF(AG14="CP",1,0)+IF(AH14="CP",1,0)+IF(AC14="CP",1,0) -> 14 | AK14: =IF(E14="RTT",1,0)+IF(F14="RTT",1,0)+IF(G14="RTT",1,0)+IF(H14="RTT",1,0)+IF(I14="RTT",1,0)+IF(J14="RTT",1,0)+IF(K14="RTT",1,0)+IF(L14="RTT",1,0)+IF(M14="RTT",1,0)+IF(N14="RTT",1,0)+IF(O14="RTT",1,0)+IF(P14="RTT",1,0)+IF(Q14="RTT",1,0)+IF(R14="RTT",1,0)+IF(S14="RTT",1,0)+IF(T14="RTT",1,0)+IF(U14="RTT",1,0)+IF(V14="RTT",1,0)+IF(W14="RTT",1,0)+IF(X14="RTT",1,0)+IF(Y14="RTT",1,0)+IF(Z14="RTT",1,0)+IF(AA14="RTT",1,0)+IF(AB14="RTT",1,0)+IF(AC14="RTT",1,0)+IF(AE14="RTT",1,0)+IF(AF14="RTT",1,0)+IF(AG14="RTT",1,0)+IF(AH14="RTT",1,0)+IF(AD14="RTT",1,0)+IF(D14="RTT",1,0) -> 0
