Workbook

Sheet Juin
B1: 2019
B2: 6
C4: FICHE DE PRESENCE | Q4: MOIS | T4: JUIN | Y4: 2019
C6: 19 | D6: jours
C8: SEMAINES | H8: 23 | O8: 24 | V8: 25 | AC8: 26
F9: L | G9: M | H9: M | I9: J | J9: V | M9: L | N9: M | O9: M | P9: J | Q9: V | T9: L | U9: M | V9: M | W9: J | X9: V | AA9: L | AB9: M | AC9: M | AD9: J | AE9: V | AI9: H TOT | AJ9: CP | AK9: RTT
C10: JOURS | D10: 1 | E10: 2 | F10: 3 | G10: 4 | H10: 5 | I10: 6 | J10: 7 | K10: 8 | L10: 9 | M10: 10 | N10: 11 | O10: 12 | P10: 13 | Q10: 14 | R10: 15 | S10: 16 | T10: 17 | U10: 18 | V10: 19 | W10: 20 | X10: 21 | Y10: 22 | Z10: 23 | AA10: 24 | AB10: 25 | AC10: 26 | AD10: 27 | AE10: 28 | AF10: 29 | AG10: 30 | AI10: TRAVAIL | AJ10: jours | AK10: jours
A12: 01 | B12: ABELARD | C12: AURELIE | F12: 8 | G12: 8 | H12: 8 | I12: 8 | J12: 7 | N12: 8 | O12: 8 | P12: 8 | Q12: 7 | T12: 8 | U12: 8 | V12: 8 | W12: 8 | X12: 7 | AA12: 8 | AB12: 8 | AC12: 8 | AD12: 8 | AE12: 7 | AI12: =SUM(D12:AH12) -> 148 | AJ12: =IF(D12="CP",1,0)+IF(E12="CP",1,0)+IF(F12="CP",1,0)+IF(G12="CP",1,0)+IF(H12="CP",1,0)+IF(I12="CP",1,0)+IF(J12="CP",1,0)+IF(K12="CP",1,0)+IF(L12="CP",1,0)+IF(M12="CP",1,0)+IF(N12="CP",1,0)+IF(O12="CP",1,0)+IF(P12="CP",1,0)+IF(Q12="CP",1,0)+IF(R12="CP",1,0)+IF(S12="CP",1,0)+IF(T12="CP",1,0)+IF(U12="CP",1,0)+IF(V12="CP",1,0)+IF(W12="CP",1,0)+IF(X12="CP",1,0)+IF(Y12="CP",1,0)+IF(Z12="CP",1,0)+IF(AA12="CP",1,0)+IF(AB12="CP",1,0)+IF(AD12="CP",1,0)+IF(AE12="CP",1,0)+IF(AF12="CP",1,0)+IF(AG12="CP",1,0)+IF(AH12="CP",1,0)+IF(AC12="CP",1,0) -> 0 | AK12: =IF(E12="RTT",1,0)+IF(F12="RTT",1,0)+IF(G12="RTT",1,0)+IF(H12="RTT",1,0)+IF(I12="RTT",1,0)+IF(J12="RTT",1,0)+IF(K12="RTT",1,0)+IF(L12="RTT",1,0)+IF(M12="RTT",1,0)+IF(N12="RTT",1,0)+IF(O12="RTT",1,0)+IF(P12="RTT",1,0)+IF(Q12="RTT",1,0)+IF(R12="RTT",1,0)+IF(S12="RTT",1,0)+IF(T12="RTT",1,0)+IF(U12="RTT",1,0)+IF(V12="RTT",1,0)+IF(W12="RTT",1,0)+IF(X12="RTT",1,0)+IF(Y12="RTT",1,0)+IF(Z12="RTT",1,0)+IF(AA12="RTT",1,0)+IF(AB12="RTT",1,0)+IF(AC12="RTT",1,0)+IF(AE12="RTT",1,0)+IF(AF12="RTT",1,0)+IF(AG12="RTT",1,0)+IF(AH12="RTT",1,0)+IF(AD12="RTT",1,0)+IF(D12="RTT",1,0) -> 0
A13: 02 | B13: AGOT | C13: DOMINIQUE | F13: 8 | G13: 8 | H13: 8 | I13: 8 | J13: 7 | N13: 8 | O13: 8 | P13: 8 | Q13: 7 | T13: 8 | U13: 8 | V13: 8 | W13: 8 | X13: 7 | AA13: 8 | AB13: 8 | AC13: 8 | AD13: 8 | AE13: 7 | AI13: =SUM(D13:AH13) -> 148 | AJ13: =IF(D13="CP",1,0)+IF(E13="CP",1,0)+IF(F13="CP",1,0)+IF(G13="CP",1,0)+IF(H13="CP",1,0)+IF(I13="CP",1,0)+IF(J13="CP",1,0)+IF(K13="CP",1,0)+IF(L13="CP",1,0)+IF(M13="CP",1,0)+IF(N13="CP",1,0)+IF(O13="CP",1,0)+IF(P13="CP",1,0)+IF(Q13="CP",1,0)+IF(R13="CP",1,0)+IF(S13="CP",1,0)+IF(T13="CP",1,0)+IF(U13="CP",1,0)+IF(V13="CP",1,0)+IF(W13="CP",1,0)+IF(X13="CP",1,0)+IF(Y13="CP",1,0)+IF(Z13="CP",1,0)+IF(AA13="CP",1,0)+IF(AB13="CP",1,0)+IF(AD13="CP",1,0)+IF(AE13="CP",1,0)+IF(AF13="CP",1,0)+IF(AG13="CP",1,0)+IF(AH13="CP",1,0)+IF(AC13="CP",1,0) -> 0 | AK13: =IF(E13="RTT",1,0)+IF(F13="RTT",1,0)+IF(G13="RTT",1,0)+IF(H13="RTT",1,0)+IF(I13="RTT",1,0)+IF(J13="RTT",1,0)+IF(K13="RTT",1,0)+IF(L13="RTT",1,0)+IF(M13="RTT",1,0)+IF(N13="RTT",1,0)+IF(O13="RTT",1,0)+IF(P13="RTT",1,0)+IF(Q13="RTT",1,0)+IF(R13="RTT",1,0)+IF(S13="RTT",1,0)+IF(T13="RTT",1,0)+IF(U13="RTT",1,0)+IF(V13="RTT",1,0)+IF(W13="RTT",1,0)+IF(X13="RTT",1,0)+IF(Y13="RTT",1,0)+IF(Z13="RTT",1,0)+IF(AA13="RTT",1,0)+IF(AB13="RTT",1,0)+IF(AC13="RTT",1,0)+IF(AE13="RTT",1,0)+IF(AF13="RTT",1,0)+IF(AG13="RTT",1,0)+IF(AH13="RTT",1,0)+IF(AD13="RTT",1,0)+IF(D13="RTT",1,0) -> 0
A14: 03 | B14: BAUMARD | C14: YSABELLE | F14: 8 | G14: 8 | H14: 8 | I14: 8 | J14: 7 | N14: 8 | O14: 8 | P14: 8 | Q14: 7 | T14: 8 | U14: 8 | V14: 8 | W14: 8 | X14: 7 | AA14: 8 | AB14: 8 | AC14: 8 | AD14: 8 | AE14: 7 | AI14: =SUM(D14:AH14) -> 148 | AJ14: =IF(D14="CP",1,0)+IF(E14="CP",1,0)+IF(F14="CP",1,0)+IF(G14="CP",1,0)+IF(H14="CP",1,0)+IF(I14="CP",1,0)+IF(J14="CP",1,0)+IF(K14="CP",1,0)+IF(L14="CP",1,0)+IF(M14="CP",1,0)+IF(N14="CP",1,0)+IF(O14="CP",1,0)+IF(P14="CP",1,0)+IF(Q14="CP",1,0)+IF(R14="CP",1,0)+IF(S14="CP",1,0)+IF(T14="CP",1,0)+IF(U14="CP",1,0)+IF(V14="CP",1,0)+IF(W14="CP",1,0)+IF(X14="CP",1,0)+IF(Y14="CP",1,0)+IF(Z14="CP",1,0)+IF(AA14="CP",1,0)+IF(AB14="CP",1,0)+IF(AD14="CP",1,0)+IF(AE14="CP",1,0)+IF(AF14="CP",1,0)+IF(AG14="CP",1,0)+IF(AH14="CP",1,0)+IF(AC14="CP",1,0) -> 0 | AK14: =IF(E14="RTT",1,0)+IF(F14="RTT",1,0)+IF(G14="RTT",1,0)+IF(H14="RTT",1,0)+IF(I14="RTT",1,0)+IF(J14="RTT",1,0)+IF(K14="RTT",1,0)+IF(L14="RTT",1,0)+IF(M14="RTT",1,0)+IF(N14="RTT",1,0)+IF(O14="RTT",1,0)+IF(P14="RTT",1,0)+IF(Q14="RTT",1,0)+IF(R14="RTT",1,0)+IF(S14="RTT",1,0)+IF(T14="RTT",1,0)+IF(U14="RTT",1,0)+IF(V14="RTT",1,0)+IF(W14="RTT",1,0)+IF(X14="RTT",1,0)+IF(Y14="RTT",1,0)+IF(Z14="RTT",1,0)+IF(AA14="RTT",1,0)+IF(AB14="RTT",1,0)+IF(AC14="RTT",1,0)+IF(AE14="RTT",1,0)+IF(AF14="RTT",1,0)+IF(AG14="RTT",1,0)+IF(AH14="RTT",1,0)+IF(AD14="RTT",1,0)+IF(D14="RTT",1,0) -> 0
A15: 23 | B15: BLANLOEIL | C15: MYRIAM | F15: 8 | G15: 8 | H15: 8 | I15: 8 | J15: 7 | N15: 8 | O15: 8 | P15: 8 | Q15: 7 | T15: 8 | U15: 8 | V15: 8 | W15: 8 | X15: 7 | AA15: 8 | AB15: 8 | AC15: 8 | AD15: 8 | AE15: 7 | AI15: =SUM(D15:AH15) -> 148 | AJ15: =IF(D15="CP",1,0)+IF(E15="CP",1,0)+IF(F15="CP",1,0)+IF(G15="CP",1,0)+IF(H15="CP",1,0)+IF(I15="CP",1,0)+IF(J15="CP",1,0)+IF(K15="CP",1,0)+IF(L15="CP",1,0)+IF(M15="CP",1,0)+IF(N15="CP",1,0)+IF(O15="CP",1,0)+IF(P15="CP",1,0)+IF(Q15="CP",1,0)+IF(R15="CP",1,0)+IF(S15="CP",1,0)+IF(T15="CP",1,0)+IF(U15="CP",1,0)+IF(V15="CP",1,0)+IF(W15="CP",1,0)+IF(X15="CP",1,0)+IF(Y15="CP",1,0)+IF(Z15="CP",1,0)+IF(AA15="CP",1,0)+IF(AB15="CP",1,0)+IF(AD15="CP",1,0)+IF(AE15="CP",1,0)+IF(AF15="CP",1,0)+IF(AG15="CP",1,0)+IF(AH15="CP",1,0)+IF(AC15="CP",1,0) -> 0 | AK15: =IF(E15="RTT",1,0)+IF(F15="RTT",1,0)+IF(G15="RTT",1,0)+IF(H15="RTT",1,0)+IF(I15="RTT",1,0)+IF(J15="RTT",1,0)+IF(K15="RTT",1,0)+IF(L15="RTT",1,0)+IF(M15="RTT",1,0)+IF(N15="RTT",1,0)+IF(O15="RTT",1,0)+IF(P15="RTT",1,0)+IF(Q15="RTT",1,0)+IF(R15="RTT",1,0)+IF(S15="RTT",1,0)+IF(T15="RTT",1,0)+IF(U15="RTT",1,0)+IF(V15="RTT",1,0)+IF(W15="RTT",1,0)+IF(X15="RTT",1,0)+IF(Y15="RTT",1,0)+IF(Z15="RTT",1,0)+IF(AA15="RTT",1,0)+IF(AB15="RTT",1,0)+IF(AC15="RTT",1,0)+IF(AE15="RTT",1,0)+IF(AF15="RTT",1,0)+IF(AG15="RTT",1,0)+IF(AH15="RTT",1,0)+IF(AD15="RTT",1,0)+IF(D15="RTT",1,0) -> 0
A16: 05 | B16: BRETEAU | C16: CHRISTELLE | F16: 8 | G16: 8 | H16: 8 | I16: 8 | J16: 7 | N16: 8 | O16: 8 | P16: 8 | Q16: 7 | T16: 8 | U16: 8 | V16: 8 | W16: 8 | X16: 7 | AA16: 8 | AB16: 8 | AC16: 8 | AD16: 8 | AE16: 7 | AI16: =SUM(D16:AH16) -> 148 | AJ16: =IF(D16="CP",1,0)+IF(E16="CP",1,0)+IF(F16="CP",1,0)+IF(G16="CP",1,0)+IF(H16="CP",1,0)+IF(I16="CP",1,0)+IF(J16="CP",1,0)+IF(K16="CP",1,0)+IF(L16="CP",1,0)+IF(M16="CP",1,0)+IF(N16="CP",1,0)+IF(O16="CP",1,0)+IF(P16="CP",1,0)+IF(Q16="CP",1,0)+IF(R16="CP",1,0)+IF(S16="CP",1,0)+IF(T16="CP",1,0)+IF(U16="CP",1,0)+IF(V16="CP",1,0)+IF(W16="CP",1,0)+IF(X16="CP",1,0)+IF(Y16="CP",1,0)+IF(Z16="CP",1,0)+IF(AA16="CP",1,0)+IF(AB16="CP",1,0)+IF(AD16="CP",1,0)+IF(AE16="CP",1,0)+IF(AF16="CP",1,0)+IF(AG16="CP",1,0)+IF(AH16="CP",1,0)+IF(AC16="CP",1,0) -> 0 | AK16: =IF(E16="RTT",1,0)+IF(F16="RTT",1,0)+IF(G16="RTT",1,0)+IF(H16="RTT",1,0)+IF(I16="RTT",1,0)+IF(J16="RTT",1,0)+IF(K16="RTT",1,0)+IF(L16="RTT",1,0)+IF(M16="RTT",1,0)+IF(N16="RTT",1,0)+IF(O16="RTT",1,0)+IF(P16="RTT",1,0)+IF(Q16="RTT",1,0)+IF(R16="RTT",1,0)+IF(S16="RTT",1,0)+IF(T16="RTT",1,0)+IF(U16="RTT",1,0)+IF(V16="RTT",1,0)+IF(W16="RTT",1,0)+IF(X16="RTT",1,0)+IF(Y16="RTT",1,0)+IF(Z16="RTT",1,0)+IF(AA16="RTT",1,0)+IF(AB16="RTT",1,0)+IF(AC16="RTT",1,0)+IF(AE16="RTT",1,0)+IF(AF16="RTT",1,0)+IF(AG16="RTT",1,0)+IF(AH16="RTT",1,0)+IF(AD16="RTT",1,0)+IF(D16="RTT",1,0) -> 0
A17: 04 | B17: CHAUVIRE | C17: ALINE | F17: 8 | G17: 8 | H17: 8 | I17: 8 | J17: 7 | N17: 8 | O17: 8 | P17: 8 | Q17: 7 | T17: 8 | U17: 8 | V17: 8 | W17: 8 | X17: 7 | AA17: 8 | AB17: 8 | AC17: 8 | AD17: 8 | AE17: 7 | AI17: =SUM(D17:AH17) -> 148 | AJ17: =IF(D17="CP",1,0)+IF(E17="CP",1,0)+IF(F17="CP",1,0)+IF(G17="CP",1,0)+IF(H17="CP",1,0)+IF(I17="CP",1,0)+IF(J17="CP",1,0)+IF(K17="CP",1,0)+IF(L17="CP",1,0)+IF(M17="CP",1,0)+IF(N17="CP",1,0)+IF(O17="CP",1,0)+IF(P17="CP",1,0)+IF(Q17="CP",1,0)+IF(R17="CP",1,0)+IF(S17="CP",1,0)+IF(T17="CP",1,0)+IF(U17="CP",1,0)+IF(V17="CP",1,0)+IF(W17="CP",1,0)+IF(X17="CP",1,0)+IF(Y17="CP",1,0)+IF(Z17="CP",1,0)+IF(AA17="CP",1,0)+IF(AB17="CP",1,0)+IF(AD17="CP",1,0)+IF(AE17="CP",1,0)+IF(AF17="CP",1,0)+IF(AG17="CP",1,0)+IF(AH17="CP",1,0)+IF(AC17="CP",1,0) -> 0 | AK17: =IF(E17="RTT",1,0)+IF(F17="RTT",1,0)+IF(G17="RTT",1,0)+IF(H17="RTT",1,0)+IF(I17="RTT",1,0)+IF(J17="RTT",1,0)+IF(K17="RTT",1,0)+IF(L17="RTT",1,0)+IF(M17="RTT",1,0)+IF(N17="RTT",1,0)+IF(O17="RTT",1,0)+IF(P17="RTT",1,0)+IF(Q17="RTT",1,0)+IF(R17="RTT",1,0)+IF(S17="RTT",1,0)+IF(T17="RTT",1,0)+IF(U17="RTT",1,0)+IF(V17="RTT",1,0)+IF(W17="RTT",1,0)+IF(X17="RTT",1,0)+IF(Y17="RTT",1,0)+IF(Z17="RTT",1,0)+IF(AA17="RTT",1,0)+IF(AB17="RTT",1,0)+IF(AC17="RTT",1,0)+IF(AE17="RTT",1,0)+IF(AF17="RTT",1,0)+IF(AG17="RTT",1,0)+IF(AH17="RTT",1,0)+IF(AD17="RTT",1,0)+IF(D17="RTT",1,0) -> 0
A18: 07 | B18: CHIRON | C18: FRANCOISE | F18: 8 | G18: 8 | H18: 8 | I18: 8 | J18: 7 | N18: 8 | O18: 8 | P18: 8 | Q18: 7 | T18: 8 | U18: 8 | V18: 8 | W18: 8 | X18: 7 | AA18: 8 | AB18: 8 | AC18: 8 | AD18: 8 | AE18: 7 | AI18: =SUM(D18:AH18) -> 148 | AJ18: =IF(D18="CP",1,0)+IF(E18="CP",1,0)+IF(F18="CP",1,0)+IF(G18="CP",1,0)+IF(H18="CP",1,0)+IF(I18="CP",1,0)+IF(J18="CP",1,0)+IF(K18="CP",1,0)+IF(L18="CP",1,0)+IF(M18="CP",1,0)+IF(N18="CP",1,0)+IF(O18="CP",1,0)+IF(P18="CP",1,0)+IF(Q18="CP",1,0)+IF(R18="CP",1,0)+IF(S18="CP",1,0)+IF(T18="CP",1,0)+IF(U18="CP",1,0)+IF(V18="CP",1,0)+IF(W18="CP",1,0)+IF(X18="CP",1,0)+IF(Y18="CP",1,0)+IF(Z18="CP",1,0)+IF(AA18="CP",1,0)+IF(AB18="CP",1,0)+IF(AD18="CP",1,0)+IF(AE18="CP",1,0)+IF(AF18="CP",1,0)+IF(AG18="CP",1,0)+IF(AH18="CP",1,0)+IF(AC18="CP",1,0) -> 0 | AK18: =IF(E18="RTT",1,0)+IF(F18="RTT",1,0)+IF(G18="RTT",1,0)+IF(H18="RTT",1,0)+IF(I18="RTT",1,0)+IF(J18="RTT",1,0)+IF(K18="RTT",1,0)+IF(L18="RTT",1,0)+IF(M18="RTT",1,0)+IF(N18="RTT",1,0)+IF(O18="RTT",1,0)+IF(P18="RTT",1,0)+IF(Q18="RTT",1,0)+IF(R18="RTT",1,0)+IF(S18="RTT",1,0)+IF(T18="RTT",1,0)+IF(U18="RTT",1,0)+IF(V18="RTT",1,0)+IF(W18="RTT",1,0)+IF(X18="RTT",1,0)+IF(Y18="RTT",1,0)+IF(Z18="RTT",1,0)+IF(AA18="RTT",1,0)+IF(AB18="RTT",1,0)+IF(AC18="RTT",1,0)+IF(AE18="RTT",1,0)+IF(AF18="RTT",1,0)+IF(AG18="RTT",1,0)+IF(AH18="RTT",1,0)+IF(AD18="RTT",1,0)+IF(D18="RTT",1,0) -> 0
A19: 20 | B19: CHUDEAU | C19: ROMANE | F19: 8 | G19: 8 | H19: 8 | I19: 8 | J19: 7 | N19: 8 | O19: 8 | P19: 8 | Q19: 7 | T19: 8 | U19: 8 | V19: 8 | W19: 8 | X19: 7 | AA19: 8 | AB19: 8 | AC19: 8 | AD19: 8 | AE19: 7 | AI19: =SUM(D19:AH19) -> 148 | AJ19: =IF(D19="CP",1,0)+IF(E19="CP",1,0)+IF(F19="CP",1,0)+IF(G19="CP",1,0)+IF(H19="CP",1,0)+IF(I19="CP",1,0)+IF(J19="CP",1,0)+IF(K19="CP",1,0)+IF(L19="CP",1,0)+IF(M19="CP",1,0)+IF(N19="CP",1,0)+IF(O19="CP",1,0)+IF(P19="CP",1,0)+IF(Q19="CP",1,0)+IF(R19="CP",1,0)+IF(S19="CP",1,0)+IF(T19="CP",1,0)+IF(U19="CP",1,0)+IF(V19="CP",1,0)+IF(W19="CP",1,0)+IF(X19="CP",1,0)+IF(Y19="CP",1,0)+IF(Z19="CP",1,0)+IF(AA19="CP",1,0)+IF(AB19="CP",1,0)+IF(AD19="CP",1,0)+IF(AE19="CP",1,0)+IF(AF19="CP",1,0)+IF(AG19="CP",1,0)+IF(AH19="CP",1,0)+IF(AC19="CP",1,0) -> 0 | AK19: =IF(E19="RTT",1,0)+IF(F19="RTT",1,0)+IF(G19="RTT",1,0)+IF(H19="RTT",1,0)+IF(I19="RTT",1,0)+IF(J19="RTT",1,0)+IF(K19="RTT",1,0)+IF(L19="RTT",1,0)+IF(M19="RTT",1,0)+IF(N19="RTT",1,0)+IF(O19="RTT",1,0)+IF(P19="RTT",1,0)+IF(Q19="RTT",1,0)+IF(R19="RTT",1,0)+IF(S19="RTT",1,0)+IF(T19="RTT",1,0)+IF(U19="RTT",1,0)+IF(V19="RTT",1,0)+IF(W19="RTT",1,0)+IF(X19="RTT",1,0)+IF(Y19="RTT",1,0)+IF(Z19="RTT",1,0)+IF(AA19="RTT",1,0)+IF(AB19="RTT",1,0)+IF(AC19="RTT",1,0)+IF(AE19="RTT",1,0)+IF(AF19="RTT",1,0)+IF(AG19="RTT",1,0)+IF(AH19="RTT",1,0)+IF(AD19="RTT",1,0)+IF(D19="RTT",1,0) -> 0
A20: 21 | B20: CONTIN | C20: ARMAND | F20: 8 | G20: 8 | H20: 8 | I20: 8 | J20: 7 | N20: 8 | O20: 8 | P20: 8 | Q20: 7 | T20: 8 | U20: 8 | V20: 8 | W20: 8 | X20: 7 | AA20: 8 | AB20: 8 | AC20: 8 | AD20: 8 | AE20: 7 | AI20: =SUM(D20:AH20) -> 148 | AJ20: =IF(D20="CP",1,0)+IF(E20="CP",1,0)+IF(F20="CP",1,0)+IF(G20="CP",1,0)+IF(H20="CP",1,0)+IF(I20="CP",1,0)+IF(J20="CP",1,0)+IF(K20="CP",1,0)+IF(L20="CP",1,0)+IF(M20="CP",1,0)+IF(N20="CP",1,0)+IF(O20="CP",1,0)+IF(P20="CP",1,0)+IF(Q20="CP",1,0)+IF(R20="CP",1,0)+IF(S20="CP",1,0)+IF(T20="CP",1,0)+IF(U20="CP",1,0)+IF(V20="CP",1,0)+IF(W20="CP",1,0)+IF(X20="CP",1,0)+IF(Y20="CP",1,0)+IF(Z20="CP",1,0)+IF(AA20="CP",1,0)+IF(AB20="CP",1,0)+IF(AD20="CP",1,0)+IF(AE20="CP",1,0)+IF(AF20="CP",1,0)+IF(AG20="CP",1,0)+IF(AH20="CP",1,0)+IF(AC20="CP",1,0) -> 0 | AK20: =IF(E20="RTT",1,0)+IF(F20="RTT",1,0)+IF(G20="RTT",1,0)+IF(H20="RTT",1,0)+IF(I20="RTT",1,0)+IF(J20="RTT",1,0)+IF(K20="RTT",1,0)+IF(L20="RTT",1,0)+IF(M20="RTT",1,0)+IF(N20="RTT",1,0)+IF(O20="RTT",1,0)+IF(P20="RTT",1,0)+IF(Q20="RTT",1,0)+IF(R20="RTT",1,0)+IF(S20="RTT",1,0)+IF(T20="RTT",1,0)+IF(U20="RTT",1,0)+IF(V20="RTT",1,0)+IF(W20="RTT",1,0)+IF(X20="RTT",1,0)+IF(Y20="RTT",1,0)+IF(Z20="RTT",1,0)+IF(AA20="RTT",1,0)+IF(AB20="RTT",1,0)+IF(AC20="RTT",1,0)+IF(AE20="RTT",1,0)+IF(AF20="RTT",1,0)+IF(AG20="RTT",1,0)+IF(AH20="RTT",1,0)+IF(AD20="RTT",1,0)+IF(D20="RTT",1,0) -> 0
A21: 09 | B21: COUVREUX | C21: FLORA | F21: 8 | G21: 8 | H21: 8 | I21: 8 | J21: 7 | N21: 8 | O21: 8 | P21: 8 | Q21: 7 | T21: 8 | U21: 8 | V21: 8 | W21: 8 | X21: 7 | AA21: 8 | AB21: 8 | AC21: 8 | AD21: 8 | AE21: 7 | AI21: =SUM(D21:AH21) -> 148 | AJ21: =IF(D21="CP",1,0)+IF(E21="CP",1,0)+IF(F21="CP",1,0)+IF(G21="CP",1,0)+IF(H21="CP",1,0)+IF(I21="CP",1,0)+IF(J21="CP",1,0)+IF(K21="CP",1,0)+IF(L21="CP",1,0)+IF(M21="CP",1,0)+IF(N21="CP",1,0)+IF(O21="CP",1,0)+IF(P21="CP",1,0)+IF(Q21="CP",1,0)+IF(R21="CP",1,0)+IF(S21="CP",1,0)+IF(T21="CP",1,0)+IF(U21="CP",1,0)+IF(V21="CP",1,0)+IF(W21="CP",1,0)+IF(X21="CP",1,0)+IF(Y21="CP",1,0)+IF(Z21="CP",1,0)+IF(AA21="CP",1,0)+IF(AB21="CP",1,0)+IF(AD21="CP",1,0)+IF(AE21="CP",1,0)+IF(AF21="CP",1,0)+IF(AG21="CP",1,0)+IF(AH21="CP",1,0)+IF(AC21="CP",1,0) -> 0 | AK21: =IF(E21="RTT",1,0)+IF(F21="RTT",1,0)+IF(G21="RTT",1,0)+IF(H21="RTT",1,0)+IF(I21="RTT",1,0)+IF(J21="RTT",1,0)+IF(K21="RTT",1,0)+IF(L21="RTT",1,0)+IF(M21="RTT",1,0)+IF(N21="RTT",1,0)+IF(O21="RTT",1,0)+IF(P21="RTT",1,0)+IF(Q21="RTT",1,0)+IF(R21="RTT",1,0)+IF(S21="RTT",1,0)+IF(T21="RTT",1,0)+IF(U21="RTT",1,0)+IF(V21="RTT",1,0)+IF(W21="RTT",1,0)+IF(X21="RTT",1,0)+IF(Y21="RTT",1,0)+IF(Z21="RTT",1,0)+IF(AA21="RTT",1,0)+IF(AB21="RTT",1,0)+IF(AC21="RTT",1,0)+IF(AE21="RTT",1,0)+IF(AF21="RTT",1,0)+IF(AG21="RTT",1,0)+IF(AH21="RTT",1,0)+IF(AD21="RTT",1,0)+IF(D21="RTT",1,0) -> 0
A22: 10 | B22: DEKHIL | C22: HENNACHI | F22: 8 | G22: 8 | H22: 8 | I22: 8 | J22: 7 | N22: 8 | O22: 8 | P22: 8 | Q22: 7 | T22: 8 | U22: 8 | V22: 8 | W22: 8 | X22: 7 | AA22: 8 | AB22: 8 | AC22: 8 | AD22: 8 | AE22: 7 | AI22: =SUM(D22:AH22) -> 148 | AJ22: =IF(D22="CP",1,0)+IF(E22="CP",1,0)+IF(F22="CP",1,0)+IF(G22="CP",1,0)+IF(H22="CP",1,0)+IF(I22="CP",1,0)+IF(J22="CP",1,0)+IF(K22="CP",1,0)+IF(L22="CP",1,0)+IF(M22="CP",1,0)+IF(N22="CP",1,0)+IF(O22="CP",1,0)+IF(P22="CP",1,0)+IF(Q22="CP",1,0)+IF(R22="CP",1,0)+IF(S22="CP",1,0)+IF(T22="CP",1,0)+IF(U22="CP",1,0)+IF(V22="CP",1,0)+IF(W22="CP",1,0)+IF(X22="CP",1,0)+IF(Y22="CP",1,0)+IF(Z22="CP",1,0)+IF(AA22="CP",1,0)+IF(AB22="CP",1,0)+IF(AD22="CP",1,0)+IF(AE22="CP",1,0)+IF(AF22="CP",1,0)+IF(AG22="CP",1,0)+IF(AH22="CP",1,0)+IF(AC22="CP",1,0) -> 0 | AK22: =IF(E22="RTT",1,0)+IF(F22="RTT",1,0)+IF(G22="RTT",1,0)+IF(H22="RTT",1,0)+IF(I22="RTT",1,0)+IF(J22="RTT",1,0)+IF(K22="RTT",1,0)+IF(L22="RTT",1,0)+IF(M22="RTT",1,0)+IF(N22="RTT",1,0)+IF(O22="RTT",1,0)+IF(P22="RTT",1,0)+IF(Q22="RTT",1,0)+IF(R22="RTT",1,0)+IF(S22="RTT",1,0)+IF(T22="RTT",1,0)+IF(U22="RTT",1,0)+IF(V22="RTT",1,0)+IF(W22="RTT",1,0)+IF(X22="RTT",1,0)+IF(Y22="RTT",1,0)+IF(Z22="RTT",1,0)+IF(AA22="RTT",1,0)+IF(AB22="RTT",1,0)+IF(AC22="RTT",1,0)+IF(AE22="RTT",1,0)+IF(AF22="RTT",1,0)+IF(AG22="RTT",1,0)+IF(AH22="RTT",1,0)+IF(AD22="RTT",1,0)+IF(D22="RTT",1,0) -> 0
A23: 12 | B23: GOURDON | C23: KATIA | F23: 8 | G23: 8 | H23: 8 | I23: 8 | J23: 7 | N23: 8 | O23: 8 | P23: 8 | Q23: 7 | T23: 8 | U23: 8 | V23: 8 | W23: 8 | X23: 7 | AA23: 8 | AB23: 8 | AC23: 8 | AD23: 8 | AE23: 7 | AI23: =SUM(D23:AH23) -> 148 | AJ23: =IF(D23="CP",1,0)+IF(E23="CP",1,0)+IF(F23="CP",1,0)+IF(G23="CP",1,0)+IF(H23="CP",1,0)+IF(I23="CP",1,0)+IF(J23="CP",1,0)+IF(K23="CP",1,0)+IF(L23="CP",1,0)+IF(M23="CP",1,0)+IF(N23="CP",1,0)+IF(O23="CP",1,0)+IF(P23="CP",1,0)+IF(Q23="CP",1,0)+IF(R23="CP",1,0)+IF(S23="CP",1,0)+IF(T23="CP",1,0)+IF(U23="CP",1,0)+IF(V23="CP",1,0)+IF(W23="CP",1,0)+IF(X23="CP",1,0)+IF(Y23="CP",1,0)+IF(Z23="CP",1,0)+IF(AA23="CP",1,0)+IF(AB23="CP",1,0)+IF(AD23="CP",1,0)+IF(AE23="CP",1,0)+IF(AF23="CP",1,0)+IF(AG23="CP",1,0)+IF(AH23="CP",1,0)+IF(AC23="CP",1,0) -> 0 | AK23: =IF(E23="RTT",1,0)+IF(F23="RTT",1,0)+IF(G23="RTT",1,0)+IF(H23="RTT",1,0)+IF(I23="RTT",1,0)+IF(J23="RTT",1,0)+IF(K23="RTT",1,0)+IF(L23="RTT",1,0)+IF(M23="RTT",1,0)+IF(N23="RTT",1,0)+IF(O23="RTT",1,0)+IF(P23="RTT",1,0)+IF(Q23="RTT",1,0)+IF(R23="RTT",1,0)+IF(S23="RTT",1,0)+IF(T23="RTT",1,0)+IF(U23="RTT",1,0)+IF(V23="RTT",1,0)+IF(W23="RTT",1,0)+IF(X23="RTT",1,0)+IF(Y23="RTT",1,0)+IF(Z23="RTT",1,0)+IF(AA23="RTT",1,0)+IF(AB23="RTT",1,0)+IF(AC23="RTT",1,0)+IF(AE23="RTT",1,0)+IF(AF23="RTT",1,0)+IF(AG23="RTT",1,0)+IF(AH23="RTT",1,0)+IF(AD23="RTT",1,0)+IF(D23="RTT",1,0) -> 0
... A35: 14 | B35: VIAUD | C35: JEAN MARC | F35: 8 | G35: 8 | H35: 8 | I35: 8 | J35: 7 | N35: 8 | O35: 8 | P35: 8 | Q35: 7 | T35: 8 | U35: 8 | V35: 8 | W35: 8 | X35: 7 | AA35: 8 | AB35: 8 | AC35: 8 | AD35: 8 | AE35: 7 | AI35: =SUM(D35:AH35) -> 148 | AJ35: =IF(D35="CP",1,0)+IF(E35="CP",1,0)+IF(F35="CP",1,0)+IF(G35="CP",1,0)+IF(H35="CP",1,0)+IF(I35="CP",1,0)+IF(J35="CP",1,0)+IF(K35="CP",1,0)+IF(L35="CP",1,0)+IF(M35="CP",1,0)+IF(N35="CP",1,0)+IF(O35="CP",1,0)+IF(P35="CP",1,0)+IF(Q35="CP",1,0)+IF(R35="CP",1,0)+IF(S35="CP",1,0)+IF(T35="CP",1,0)+IF(U35="CP",1,0)+IF(V35="CP",1,0)+IF(W35="CP",1,0)+IF(X35="CP",1,0)+IF(Y35="CP",1,0)+IF(Z35="CP",1,0)+IF(AA35="CP",1,0)+IF(AB35="CP",1,0)+IF(AD35="CP",1,0)+IF(AE35="CP",1,0)+IF(AF35="CP",1,0)+IF(AG35="CP",1,0)+IF(AH35="CP",1,0)+IF(AC35="CP",1,0) -> 0 | AK35: =IF(E35="RTT",1,0)+IF(F35="RTT",1,0)+IF(G35="RTT",1,0)+IF(H35="RTT",1,0)+IF(I35="RTT",1,0)+IF(J35="RTT",1,0)+IF(K35="RTT",1,0)+IF(L35="RTT",1,0)+IF(M35="RTT",1,0)+IF(N35="RTT",1,0)+IF(O35="RTT",1,0)+IF(P35="RTT",1,0)+IF(Q35="RTT",1,0)+IF(R35="RTT",1,0)+IF(S35="RTT",1,0)+IF(T35="RTT",1,0)+IF(U35="RTT",1,0)+IF(V35="RTT",1,0)+IF(W35="RTT",1,0)+IF(X35="RTT",1,0)+IF(Y35="RTT",1,0)+IF(Z35="RTT",1,0)+IF(AA35="RTT",1,0)+IF(AB35="RTT",1,0)+IF(AC35="RTT",1,0)+IF(AE35="RTT",1,0)+IF(AF35="RTT",1,0)+IF(AG35="RTT",1,0)+IF(AH35="RTT",1,0)+IF(AD35="RTT",1,0)+IF(D35="RTT",1,0) -> 0
A37: SAISONNIERS
A38: z101 | B38: BIOTTEAU | C38: FLORIAN | F38: 8 | G38: 8 | H38: 8 | I38: 8 | J38: 7 | N38: 8 | O38: 8 | P38: 8 | Q38: 7 | T38: 8 | U38: 8 | V38: 8 | W38: 8 | X38: 7 | AA38: 8 | AB38: 8 | AC38: 8 | AD38: 8 | AE38: 7 | AI38: =SUM(D38:AH38) -> 148 | AJ38: =IF(D38="CP",1,0)+IF(E38="CP",1,0)+IF(F38="CP",1,0)+IF(G38="CP",1,0)+IF(H38="CP",1,0)+IF(I38="CP",1,0)+IF(J38="CP",1,0)+IF(K38="CP",1,0)+IF(L38="CP",1,0)+IF(M38="CP",1,0)+IF(N38="CP",1,0)+IF(O38="CP",1,0)+IF(P38="CP",1,0)+IF(Q38="CP",1,0)+IF(R38="CP",1,0)+IF(S38="CP",1,0)+IF(T38="CP",1,0)+IF(U38="CP",1,0)+IF(V38="CP",1,0)+IF(W38="CP",1,0)+IF(X38="CP",1,0)+IF(Y38="CP",1,0)+IF(Z38="CP",1,0)+IF(AA38="CP",1,0)+IF(AB38="CP",1,0)+IF(AD38="CP",1,0)+IF(AE38="CP",1,0)+IF(AF38="CP",1,0)+IF(AG38="CP",1,0)+IF(AH38="CP",1,0)+IF(AC38="CP",1,0) -> 0 | AK38: =IF(E38="RTT",1,0)+IF(F38="RTT",1,0)+IF(G38="RTT",1,0)+IF(H38="RTT",1,0)+IF(I38="RTT",1,0)+IF(J38="RTT",1,0)+IF(K38="RTT",1,0)+IF(L38="RTT",1,0)+IF(M38="RTT",1,0)+IF(N38="RTT",1,0)+IF(O38="RTT",1,0)+IF(P38="RTT",1,0)+IF(Q38="RTT",1,0)+IF(R38="RTT",1,0)+IF(S38="RTT",1,0)+IF(T38="RTT",1,0)+IF(U38="RTT",1,0)+IF(V38="RTT",1,0)+IF(W38="RTT",1,0)+IF(X38="RTT",1,0)+IF(Y38="RTT",1,0)+IF(Z38="RTT",1,0)+IF(AA38="RTT",1,0)+IF(AB38="RTT",1,0)+IF(AC38="RTT",1,0)+IF(AE38="RTT",1,0)+IF(AF38="RTT",1,0)+IF(AG38="RTT",1,0)+IF(AH38="RTT",1,0)+IF(AD38="RTT",1,0)+IF(D38="RTT",1,0) -> 0
A39: z102 | B39: ALLA | C39: CHIARA | F39: 8 | G39: 8 | H39: 8 | I39: 8 | J39: 7 | N39: 8 | O39: 8 | P39: 8 | Q39: 7 | T39: 8 | U39: 8 | V39: 8 | W39: 8 | X39: 7 | AA39: 8 | AB39: 8 | AC39: 8 | AD39: 8 | AE39: 7 | AI39: =SUM(D39:AH39) -> 148 | AJ39: =IF(D39="CP",1,0)+IF(E39="CP",1,0)+IF(F39="CP",1,0)+IF(G39="CP",1,0)+IF(H39="CP",1,0)+IF(I39="CP",1,0)+IF(J39="CP",1,0)+IF(K39="CP",1,0)+IF(L39="CP",1,0)+IF(M39="CP",1,0)+IF(N39="CP",1,0)+IF(O39="CP",1,0)+IF(P39="CP",1,0)+IF(Q39="CP",1,0)+IF(R39="CP",1,0)+IF(S39="CP",1,0)+IF(T39="CP",1,0)+IF(U39="CP",1,0)+IF(V39="CP",1,0)+IF(W39="CP",1,0)+IF(X39="CP",1,0)+IF(Y39="CP",1,0)+IF(Z39="CP",1,0)+IF(AA39="CP",1,0)+IF(AB39="CP",1,0)+IF(AD39="CP",1,0)+IF(AE39="CP",1,0)+IF(AF39="CP",1,0)+IF(AG39="CP",1,0)+IF(AH39="CP",1,0)+IF(AC39="CP",1,0) -> 0 | AK39: =IF(E39="RTT",1,0)+IF(F39="RTT",1,0)+IF(G39="RTT",1,0)+IF(H39="RTT",1,0)+IF(I39="RTT",1,0)+IF(J39="RTT",1,0)+IF(K39="RTT",1,0)+IF(L39="RTT",1,0)+IF(M39="RTT",1,0)+IF(N39="RTT",1,0)+IF(O39="RTT",1,0)+IF(P39="RTT",1,0)+IF(Q39="RTT",1,0)+IF(R39="RTT",1,0)+IF(S39="RTT",1,0)+IF(T39="RTT",1,0)+IF(U39="RTT",1,0)+IF(V39="RTT",1,0)+IF(W39="RTT",1,0)+IF(X39="RTT",1,0)+IF(Y39="RTT",1,0)+IF(Z39="RTT",1,0)+IF(AA39="RTT",1,0)+IF(AB39="RTT",1,0)+IF(AC39="RTT",1,0)+IF(AE39="RTT",1,0)+IF(AF39="RTT",1,0)+IF(AG39="RTT",1,0)+IF(AH39="RTT",1,0)+IF(AD39="RTT",1,0)+IF(D39="RTT",1,0) -> 0
A40: z103 | B40: BAUMARD | C40: CLEMENT | F40: 8 | G40: 8 | H40: 8 | I40: 8 | J40: 7 | N40: 8 | O40: 8 | P40: 8 | Q40: 7 | T40: 8 | U40: 8 | V40: 8 | W40: 8 | X40: 7 | AA40: 8 | AB40: 8 | AC40: 8 | AD40: 8 | AE40: 7 | AI40: =SUM(D40:AH40) -> 148 | AJ40: =IF(D40="CP",1,0)+IF(E40="CP",1,0)+IF(F40="CP",1,0)+IF(G40="CP",1,0)+IF(H40="CP",1,0)+IF(I40="CP",1,0)+IF(J40="CP",1,0)+IF(K40="CP",1,0)+IF(L40="CP",1,0)+IF(M40="CP",1,0)+IF(N40="CP",1,0)+IF(O40="CP",1,0)+IF(P40="CP",1,0)+IF(Q40="CP",1,0)+IF(R40="CP",1,0)+IF(S40="CP",1,0)+IF(T40="CP",1,0)+IF(U40="CP",1,0)+IF(V40="CP",1,0)+IF(W40="CP",1,0)+IF(X40="CP",1,0)+IF(Y40="CP",1,0)+IF(Z40="CP",1,0)+IF(AA40="CP",1,0)+IF(AB40="CP",1,0)+IF(AD40="CP",1,0)+IF(AE40="CP",1,0)+IF(AF40="CP",1,0)+IF(AG40="CP",1,0)+IF(AH40="CP",1,0)+IF(AC40="CP",1,0) -> 0 | AK40: =IF(E40="RTT",1,0)+IF(F40="RTT",1,0)+IF(G40="RTT",1,0)+IF(H40="RTT",1,0)+IF(I40="RTT",1,0)+IF(J40="RTT",1,0)+IF(K40="RTT",1,0)+IF(L40="RTT",1,0)+IF(M40="RTT",1,0)+IF(N40="RTT",1,0)+IF(O40="RTT",1,0)+IF(P40="RTT",1,0)+IF(Q40="RTT",1,0)+IF(R40="RTT",1,0)+IF(S40="RTT",1,0)+IF(T40="RTT",1,0)+IF(U40="RTT",1,0)+IF(V40="RTT",1,0)+IF(W40="RTT",1,0)+IF(X40="RTT",1,0)+IF(Y40="RTT",1,0)+IF(Z40="RTT",1,0)+IF(AA40="RTT",1,0)+IF(AB40="RTT",1,0)+IF(AC40="RTT",1,0)+IF(AE40="RTT",1,0)+IF(AF40="RTT",1,0)+IF(AG40="RTT",1,0)+IF(AH40="RTT",1,0)+IF(AD40="RTT",1,0)+IF(D40="RTT",1,0) -> 0
A41: z104 | B41: GRIMAULT | C41: EMMA | F41: 8 | G41: 8 | H41: 8 | I41: 8 | J41: 7 | N41: 8 | O41: 8 | P41: 8 | Q41: 7 | T41: 8 | U41: 8 | V41: 8 | W41: 8 | X41: 7 | AA41: 8 | AB41: 8 | AC41: 8 | AD41: 8 | AE41: 7 | AI41: =SUM(D41:AH41) -> 148 | AJ41: =IF(D41="CP",1,0)+IF(E41="CP",1,0)+IF(F41="CP",1,0)+IF(G41="CP",1,0)+IF(H41="CP",1,0)+IF(I41="CP",1,0)+IF(J41="CP",1,0)+IF(K41="CP",1,0)+IF(L41="CP",1,0)+IF(M41="CP",1,0)+IF(N41="CP",1,0)+IF(O41="CP",1,0)+IF(P41="CP",1,0)+IF(Q41="CP",1,0)+IF(R41="CP",1,0)+IF(S41="CP",1,0)+IF(T41="CP",1,0)+IF(U41="CP",1,0)+IF(V41="CP",1,0)+IF(W41="CP",1,0)+IF(X41="CP",1,0)+IF(Y41="CP",1,0)+IF(Z41="CP",1,0)+IF(AA41="CP",1,0)+IF(AB41="CP",1,0)+IF(AD41="CP",1,0)+IF(AE41="CP",1,0)+IF(AF41="CP",1,0)+IF(AG41="CP",1,0)+IF(AH41="CP",1,0)+IF(AC41="CP",1,0) -> 0 | AK41: =IF(E41="RTT",1,0)+IF(F41="RTT",1,0)+IF(G41="RTT",1,0)+IF(H41="RTT",1,0)+IF(I41="RTT",1,0)+IF(J41="RTT",1,0)+IF(K41="RTT",1,0)+IF(L41="RTT",1,0)+IF(M41="RTT",1,0)+IF(N41="RTT",1,0)+IF(O41="RTT",1,0)+IF(P41="RTT",1,0)+IF(Q41="RTT",1,0)+IF(R41="RTT",1,0)+IF(S41="RTT",1,0)+IF(T41="RTT",1,0)+IF(U41="RTT",1,0)+IF(V41="RTT",1,0)+IF(W41="RTT",1,0)+IF(X41="RTT",1,0)+IF(Y41="RTT",1,0)+IF(Z41="RTT",1,0)+IF(AA41="RTT",1,0)+IF(AB41="RTT",1,0)+IF(AC41="RTT",1,0)+IF(AE41="RTT",1,0)+IF(AF41="RTT",1,0)+IF(AG41="RTT",1,0)+IF(AH41="RTT",1,0)+IF(AD41="RTT",1,0)+IF(D41="RTT",1,0) -> 0
A42: z105 | B42: BRETEAU | C42: HELENA | F42: 8 | G42: 8 | H42: 8 | I42: 8 | J42: 7 | N42: 8 | O42: 8 | P42: 8 | Q42: 7 | T42: 8 | U42: 8 | V42: 8 | W42: 8 | X42: 7 | AA42: 8 | AB42: 8 | AC42: 8 | AD42: 8 | AE42: 7 | AI42: =SUM(D42:AH42) -> 148 | AJ42: =IF(D42="CP",1,0)+IF(E42="CP",1,0)+IF(F42="CP",1,0)+IF(G42="CP",1,0)+IF(H42="CP",1,0)+IF(I42="CP",1,0)+IF(J42="CP",1,0)+IF(K42="CP",1,0)+IF(L42="CP",1,0)+IF(M42="CP",1,0)+IF(N42="CP",1,0)+IF(O42="CP",1,0)+IF(P42="CP",1,0)+IF(Q42="CP",1,0)+IF(R42="CP",1,0)+IF(S42="CP",1,0)+IF(T42="CP",1,0)+IF(U42="CP",1,0)+IF(V42="CP",1,0)+IF(W42="CP",1,0)+IF(X42="CP",1,0)+IF(Y42="CP",1,0)+IF(Z42="CP",1,0)+IF(AA42="CP",1,0)+IF(AB42="CP",1,0)+IF(AD42="CP",1,0)+IF(AE42="CP",1,0)+IF(AF42="CP",1,0)+IF(AG42="CP",1,0)+IF(AH42="CP",1,0)+IF(AC42="CP",1,0) -> 0 | AK42: =IF(E42="RTT",1,0)+IF(F42="RTT",1,0)+IF(G42="RTT",1,0)+IF(H42="RTT",1,0)+IF(I42="RTT",1,0)+IF(J42="RTT",1,0)+IF(K42="RTT",1,0)+IF(L42="RTT",1,0)+IF(M42="RTT",1,0)+IF(N42="RTT",1,0)+IF(O42="RTT",1,0)+IF(P42="RTT",1,0)+IF(Q42="RTT",1,0)+IF(R42="RTT",1,0)+IF(S42="RTT",1,0)+IF(T42="RTT",1,0)+IF(U42="RTT",1,0)+IF(V42="RTT",1,0)+IF(W42="RTT",1,0)+IF(X42="RTT",1,0)+IF(Y42="RTT",1,0)+IF(Z42="RTT",1,0)+IF(AA42="RTT",1,0)+IF(AB42="RTT",1,0)+IF(AC42="RTT",1,0)+IF(AE42="RTT",1,0)+IF(AF42="RTT",1,0)+IF(AG42="RTT",1,0)+IF(AH42="RTT",1,0)+IF(AD42="RTT",1,0)+IF(D42="RTT",1,0) -> 0
A43: z106 | B43: BOULORD | C43: EVA | F43: 8 | G43: 8 | H43: 8 | I43: 8 | J43: 7 | N43: 8 | O43: 8 | P43: 8 | Q43: 7 | T43: 8 | U43: 8 | V43: 8 | W43: 8 | X43: 7 | AA43: 8 | AB43: 8 | AC43: 8 | AD43: 8 | AE43: 7 | AI43: =SUM(D43:AH43) -> 148 | AJ43: =IF(D43="CP",1,0)+IF(E43="CP",1,0)+IF(F43="CP",1,0)+IF(G43="CP",1,0)+IF(H43="CP",1,0)+IF(I43="CP",1,0)+IF(J43="CP",1,0)+IF(K43="CP",1,0)+IF(L43="CP",1,0)+IF(M43="CP",1,0)+IF(N43="CP",1,0)+IF(O43="CP",1,0)+IF(P43="CP",1,0)+IF(Q43="CP",1,0)+IF(R43="CP",1,0)+IF(S43="CP",1,0)+IF(T43="CP",1,0)+IF(U43="CP",1,0)+IF(V43="CP",1,0)+IF(W43="CP",1,0)+IF(X43="CP",1,0)+IF(Y43="CP",1,0)+IF(Z43="CP",1,0)+IF(AA43="CP",1,0)+IF(AB43="CP",1,0)+IF(AD43="CP",1,0)+IF(AE43="CP",1,0)+IF(AF43="CP",1,0)+IF(AG43="CP",1,0)+IF(AH43="CP",1,0)+IF(AC43="CP",1,0) -> 0 | AK43: =IF(E43="RTT",1,0)+IF(F43="RTT",1,0)+IF(G43="RTT",1,0)+IF(H43="RTT",1,0)+IF(I43="RTT",1,0)+IF(J43="RTT",1,0)+IF(K43="RTT",1,0)+IF(L43="RTT",1,0)+IF(M43="RTT",1,0)+IF(N43="RTT",1,0)+IF(O43="RTT",1,0)+IF(P43="RTT",1,0)+IF(Q43="RTT",1,0)+IF(R43="RTT",1,0)+IF(S43="RTT",1,0)+IF(T43="RTT",1,0)+IF(U43="RTT",1,0)+IF(V43="RTT",1,0)+IF(W43="RTT",1,0)+IF(X43="RTT",1,0)+IF(Y43="RTT",1,0)+IF(Z43="RTT",1,0)+IF(AA43="RTT",1,0)+IF(AB43="RTT",1,0)+IF(AC43="RTT",1,0)+IF(AE43="RTT",1,0)+IF(AF43="RTT",1,0)+IF(AG43="RTT",1,0)+IF(AH43="RTT",1,0)+IF(AD43="RTT",1,0)+IF(D43="RTT",1,0) -> 0
C46: NOTES SUPPLEMENTAIRES

Sheet Juillet
B1: 2019
B2: 7
C4: FICHE DE PRESENCE | Q4: MOIS | T4: JUILLET | Z4: 2019
C6: 23 | D6: jours
C8: SEMAINES | F8: 27 | M8: 28 | T8: 29 | AA8: 30 | AG8: 31
D9: L | E9: M | F9: M | G9: J | H9: V | K9: L | L9: M | M9: M | N9: J | O9: V | R9: L | S9: M | T9: M | U9: J | V9: V | Y9: L | Z9: M | AA9: M | AB9: J | AC9: V | AF9: L | AG9: M | AH9: M | AI9: H. TOT | AJ9: CP | AK9: RTT
C10: JOURS | D10: 1 | E10: 2 | F10: 3 | G10: 4 | H10: 5 | I10: 6 | J10: 7 | K10: 8 | L10: 9 | M10: 10 | N10: 11 | O10: 12 | P10: 13 | Q10: 14 | R10: 15 | S10: 16 | T10: 17 | U10: 18 | V10: 19 | W10: 20 | X10: 21 | Y10: 22 | Z10: 23 | AA10: 24 | AB10: 25 | AC10: 26 | AD10: 27 | AE10: 28 | AF10: 29 | AG10: 30 | AH10: 31 | AI10: TRAVAIL | AJ10: jours | AK10: jours
A12: 01 | B12: ABELARD | C12: AURELIE | D12: 8 | E12: 8 | F12: 8 | G12: 8 | H12: 7 | K12: 8 | L12: 8 | M12: 8 | N12: 8 | O12: 7 | R12: 8 | S12: 8 | T12: 8 | U12: 8 | V12: 7 | Y12: 8 | Z12: 8 | AA12: 8 | AB12: 8 | AC12: 7 | AF12: 8 | AG12: 8 | AH12: 8 | AI12: =SUM(D12:AH12) -> 180 | AJ12: =IF(D12="CP",1,0)+IF(E12="CP",1,0)+IF(F12="CP",1,0)+IF(G12="CP",1,0)+IF(H12="CP",1,0)+IF(I12="CP",1,0)+IF(J12="CP",1,0)+IF(K12="CP",1,0)+IF(L12="CP",1,0)+IF(M12="CP",1,0)+IF(N12="CP",1,0)+IF(O12="CP",1,0)+IF(P12="CP",1,0)+IF(Q12="CP",1,0)+IF(R12="CP",1,0)+IF(S12="CP",1,0)+IF(T12="CP",1,0)+IF(U12="CP",1,0)+IF(V12="CP",1,0)+IF(W12="CP",1,0)+IF(X12="CP",1,0)+IF(Y12="CP",1,0)+IF(Z12="CP",1,0)+IF(AA12="CP",1,0)+IF(AB12="CP",1,0)+IF(AD12="CP",1,0)+IF(AE12="CP",1,0)+IF(AF12="CP",1,0)+IF(AG12="CP",1,0)+IF(AH12="CP",1,0)+IF(AC12="CP",1,0) -> 0 | AK12: =IF(E12="RTT",1,0)+IF(F12="RTT",1,0)+IF(G12="RTT",1,0)+IF(H12="RTT",1,0)+IF(I12="RTT",1,0)+IF(J12="RTT",1,0)+IF(K12="RTT",1,0)+IF(L12="RTT",1,0)+IF(M12="RTT",1,0)+IF(N12="RTT",1,0)+IF(O12="RTT",1,0)+IF(P12="RTT",1,0)+IF(Q12="RTT",1,0)+IF(R12="RTT",1,0)+IF(S12="RTT",1,0)+IF(T12="RTT",1,0)+IF(U12="RTT",1,0)+IF(V12="RTT",1,0)+IF(W12="RTT",1,0)+IF(X12="RTT",1,0)+IF(Y12="RTT",1,0)+IF(Z12="RTT",1,0)+IF(AA12="RTT",1,0)+IF(AB12="RTT",1,0)+IF(AC12="RTT",1,0)+IF(AE12="RTT",1,0)+IF(AF12="RTT",1,0)+IF(AG12="RTT",1,0)+IF(AH12="RTT",1,0)+IF(AD12="RTT",1,0)+IF(D12="RTT",1,0) -> 0
A13: 02 | B13: AGOT | C13: DOMINIQUE | D13: 8 | E13: 8 | F13: 8 | G13: 8 | H13: 7 | K13: 8 | L13: 8 | M13: 8 | N13: 8 | O13: 7 | R13: 8 | S13: 8 | T13: 8 | U13: 8 | V13: 7 | Y13: 8 | Z13: 8 | AA13: 8 | AB13: 8 | AC13: 7 | AF13: 8 | AG13: 8 | AH13: 8 | AI13: =SUM(D13:AH13) -> 180 | AJ13: =IF(D13="CP",1,0)+IF(E13="CP",1,0)+IF(F13="CP",1,0)+IF(G13="CP",1,0)+IF(H13="CP",1,0)+IF(I13="CP",1,0)+IF(J13="CP",1,0)+IF(K13="CP",1,0)+IF(L13="CP",1,0)+IF(M13="CP",1,0)+IF(N13="CP",1,0)+IF(O13="CP",1,0)+IF(P13="CP",1,0)+IF(Q13="CP",1,0)+IF(R13="CP",1,0)+IF(S13="CP",1,0)+IF(T13="CP",1,0)+IF(U13="CP",1,0)+IF(V13="CP",1,0)+IF(W13="CP",1,0)+IF(X13="CP",1,0)+IF(Y13="CP",1,0)+IF(Z13="CP",1,0)+IF(AA13="CP",1,0)+IF(AB13="CP",1,0)+IF(AD13="CP",1,0)+IF(AE13="CP",1,0)+IF(AF13="CP",1,0)+IF(AG13="CP",1,0)+IF(AH13="CP",1,0)+IF(AC13="CP",1,0) -> 0 | AK13: =IF(E13="RTT",1,0)+IF(F13="RTT",1,0)+IF(G13="RTT",1,0)+IF(H13="RTT",1,0)+IF(I13="RTT",1,0)+IF(J13="RTT",1,0)+IF(K13="RTT",1,0)+IF(L13="RTT",1,0)+IF(M13="RTT",1,0)+IF(N13="RTT",1,0)+IF(O13="RTT",1,0)+IF(P13="RTT",1,0)+IF(Q13="RTT",1,0)+IF(R13="RTT",1,0)+IF(S13="RTT",1,0)+IF(T13="RTT",1,0)+IF(U13="RTT",1,0)+IF(V13="RTT",1,0)+IF(W13="RTT",1,0)+IF(X13="RTT",1,0)+IF(Y13="RTT",1,0)+IF(Z13="RTT",1,0)+IF(AA13="RTT",1,0)+IF(AB13="RTT",1,0)+IF(AC13="RTT",1,0)+IF(AE13="RTT",1,0)+IF(AF13="RTT",1,0)+IF(AG13="RTT",1,0)+IF(AH13="RTT",1,0)+IF(AD13="RTT",1,0)+IF(D13="RTT",1,0) -> 0
A14: 03 | B14: BAUMARD | C14: YSABELLE | D14: 8 | E14: 8 | F14: 8 | G14: 8 | H14: 7 | K14: 8 | L14: 8 | M14: 8 | N14: 8 | O14: 7 | R14: 8 | S14: 8 | T14: 8 | U14: 8 | V14: 7 | Y14: 8 | Z14: 8 | AA14: 8 | AB14: 8 | AC14: 7 | AF14: 8 | AG14: 8 | AH14: 8 | AI14: =SUM(D14:AH14) -> 180 | AJ14: =IF(D14="CP",1,0)+IF(E14="CP",1,0)+IF(F14="CP",1,0)+IF(G14="CP",1,0)+IF(H14="CP",1,0)+IF(I14="CP",1,0)+IF(J14="CP",1,0)+IF(K14="CP",1,0)+IF(L14="CP",1,0)+IF(M14="CP",1,0)+IF(N14="CP",1,0)+IF(O14="CP",1,0)+IF(P14="CP",1,0)+IF(Q14="CP",1,0)+IF(R14="CP",1,0)+IF(S14="CP",1,0)+IF(T14="CP",1,0)+IF(U14="CP",1,0)+IF(V14="CP",1,0)+IF(W14="CP",1,0)+IF(X14="CP",1,0)+IF(Y14="CP",1,0)+IF(Z14="CP",1,0)+IF(AA14="CP",1,0)+IF(AB14="CP",1,0)+IF(AD14="CP",1,0)+IF(AE14="CP",1,0)+IF(AF14="CP",1,0)+IF(AG14="CP",1,0)+IF(AH14="CP",1,0)+IF(AC14="CP",1,0) -> 0 | AK14: =IF(E14="RTT",1,0)+IF(F14="RTT",1,0)+IF(G14="RTT",1,0)+IF(H14="RTT",1,0)+IF(I14="RTT",1,0)+IF(J14="RTT",1,0)+IF(K14="RTT",1,0)+IF(L14="RTT",1,0)+IF(M14="RTT",1,0)+IF(N14="RTT",1,0)+IF(O14="RTT",1,0)+IF(P14="RTT",1,0)+IF(Q14="RTT",1,0)+IF(R14="RTT",1,0)+IF(S14="RTT",1,0)+IF(T14="RTT",1,0)+IF(U14="RTT",1,0)+IF(V14="RTT",1,0)+IF(W14="RTT",1,0)+IF(X14="RTT",1,0)+IF(Y14="RTT",1,0)+IF(Z14="RTT",1,0)+IF(AA14="RTT",1,0)+IF(AB14="RTT",1,0)+IF(AC14="RTT",1,0)+IF(AE14="RTT",1,0)+IF(AF14="RTT",1,0)+IF(AG14="RTT",1,0)+IF(AH14="RTT",1,0)+IF(AD14="RTT",1,0)+IF(D14="RTT",1,0) -> 0
A15: 23 | B15: BLANLOEIL | C15: MYRIAM | D15: 8 | E15: 8 | F15: 8 | G15: 8 | H15: 7 | K15: 8 | L15: 8 | M15: 8 | N15: 8 | O15: 7 | R15: 8 | S15: 8 | T15: 8 | U15: 8 | V15: 7 | Y15: 8 | Z15: 8 | AA15: 8 | AB15: 8 | AC15: 7 | AF15: 8 | AG15: 8 | AH15: 8 | AI15: =SUM(D15:AH15) -> 180 | AJ15: =IF(D15="CP",1,0)+IF(E15="CP",1,0)+IF(F15="CP",1,0)+IF(G15="CP",1,0)+IF(H15="CP",1,0)+IF(I15="CP",1,0)+IF(J15="CP",1,0)+IF(K15="CP",1,0)+IF(L15="CP",1,0)+IF(M15="CP",1,0)+IF(N15="CP",1,0)+IF(O15="CP",1,0)+IF(P15="CP",1,0)+IF(Q15="CP",1,0)+IF(R15="CP",1,0)+IF(S15="CP",1,0)+IF(T15="CP",1,0)+IF(U15="CP",1,0)+IF(V15="CP",1,0)+IF(W15="CP",1,0)+IF(X15="CP",1,0)+IF(Y15="CP",1,0)+IF(Z15="CP",1,0)+IF(AA15="CP",1,0)+IF(AB15="CP",1,0)+IF(AD15="CP",1,0)+IF(AE15="CP",1,0)+IF(AF15="CP",1,0)+IF(AG15="CP",1,0)+IF(AH15="CP",1,0)+IF(AC15="CP",1,0) -> 0 | AK15: =IF(E15="RTT",1,0)+IF(F15="RTT",1,0)+IF(G15="RTT",1,0)+IF(H15="RTT",1,0)+IF(I15="RTT",1,0)+IF(J15="RTT",1,0)+IF(K15="RTT",1,0)+IF(L15="RTT",1,0)+IF(M15="RTT",1,0)+IF(N15="RTT",1,0)+IF(O15="RTT",1,0)+IF(P15="RTT",1,0)+IF(Q15="RTT",1,0)+IF(R15="RTT",1,0)+IF(S15="RTT",1,0)+IF(T15="RTT",1,0)+IF(U15="RTT",1,0)+IF(V15="RTT",1,0)+IF(W15="RTT",1,0)+IF(X15="RTT",1,0)+IF(Y15="RTT",1,0)+IF(Z15="RTT",1,0)+IF(AA15="RTT",1,0)+IF(AB15="RTT",1,0)+IF(AC15="RTT",1,0)+IF(AE15="RTT",1,0)+IF(AF15="RTT",1,0)+IF(AG15="RTT",1,0)+IF(AH15="RTT",1,0)+IF(AD15="RTT",1,0)+IF(D15="RTT",1,0) -> 0
A16: 05 | B16: BRETEAU | C16: CHRISTELLE | D16: 8 | E16: 8 | F16: 8 | G16: 8 | H16: 7 | K16: 8 | L16: 8 | M16: 8 | N16: 8 | O16: 7 | R16: 8 | S16: 8 | T16: 8 | U16: 8 | V16: 7 | Y16: 8 | Z16: 8 | AA16: 8 | AB16: 8 | AC16: 7 | AF16: 8 | AG16: 8 | AH16: 8 | AI16: =SUM(D16:AH16) -> 180 | AJ16: =IF(D16="CP",1,0)+IF(E16="CP",1,0)+IF(F16="CP",1,0)+IF(G16="CP",1,0)+IF(H16="CP",1,0)+IF(I16="CP",1,0)+IF(J16="CP",1,0)+IF(K16="CP",1,0)+IF(L16="CP",1,0)+IF(M16="CP",1,0)+IF(N16="CP",1,0)+IF(O16="CP",1,0)+IF(P16="CP",1,0)+IF(Q16="CP",1,0)+IF(R16="CP",1,0)+IF(S16="CP",1,0)+IF(T16="CP",1,0)+IF(U16="CP",1,0)+IF(V16="CP",1,0)+IF(W16="CP",1,0)+IF(X16="CP",1,0)+IF(Y16="CP",1,0)+IF(Z16="CP",1,0)+IF(AA16="CP",1,0)+IF(AB16="CP",1,0)+IF(AD16="CP",1,0)+IF(AE16="CP",1,0)+IF(AF16="CP",1,0)+IF(AG16="CP",1,0)+IF(AH16="CP",1,0)+IF(AC16="CP",1,0) -> 0 | AK16: =IF(E16="RTT",1,0)+IF(F16="RTT",1,0)+IF(G16="RTT",1,0)+IF(H16="RTT",1,0)+IF(I16="RTT",1,0)+IF(J16="RTT",1,0)+IF(K16="RTT",1,0)+IF(L16="RTT",1,0)+IF(M16="RTT",1,0)+IF(N16="RTT",1,0)+IF(O16="RTT",1,0)+IF(P16="RTT",1,0)+IF(Q16="RTT",1,0)+IF(R16="RTT",1,0)+IF(S16="RTT",1,0)+IF(T16="RTT",1,0)+IF(U16="RTT",1,0)+IF(V16="RTT",1,0)+IF(W16="RTT",1,0)+IF(X16="RTT",1,0)+IF(Y16="RTT",1,0)+IF(Z16="RTT",1,0)+IF(AA16="RTT",1,0)+IF(AB16="RTT",1,0)+IF(AC16="RTT",1,0)+IF(AE16="RTT",1,0)+IF(AF16="RTT",1,0)+IF(AG16="RTT",1,0)+IF(AH16="RTT",1,0)+IF(AD16="RTT",1,0)+IF(D16="RTT",1,0) -> 0
A17: 04 | B17: CHAUVIRE | C17: ALINE | D17: 8 | E17: 8 | F17: 8 | G17: 8 | H17: 7 | K17: 8 | L17: 8 | M17: 8 | N17: 8 | O17: 7 | R17: 8 | S17: 8 | T17: 8 | U17: 8 | V17: 7 | Y17: 8 | Z17: 8 | AA17: 8 | AB17: 8 | AC17: 7 | AF17: 8 | AG17: 8 | AH17: 8 | AI17: =SUM(D17:AH17) -> 180 | AJ17: =IF(D17="CP",1,0)+IF(E17="CP",1,0)+IF(F17="CP",1,0)+IF(G17="CP",1,0)+IF(H17="CP",1,0)+IF(I17="CP",1,0)+IF(J17="CP",1,0)+IF(K17="CP",1,0)+IF(L17="CP",1,0)+IF(M17="CP",1,0)+IF(N17="CP",1,0)+IF(O17="CP",1,0)+IF(P17="CP",1,0)+IF(Q17="CP",1,0)+IF(R17="CP",1,0)+IF(S17="CP",1,0)+IF(T17="CP",1,0)+IF(U17="CP",1,0)+IF(V17="CP",1,0)+IF(W17="CP",1,0)+IF(X17="CP",1,0)+IF(Y17="CP",1,0)+IF(Z17="CP",1,0)+IF(AA17="CP",1,0)+IF(AB17="CP",1,0)+IF(AD17="CP",1,0)+IF(AE17="CP",1,0)+IF(AF17="CP",1,0)+IF(AG17="CP",1,0)+IF(AH17="CP",1,0)+IF(AC17="CP",1,0) -> 0 | AK17: =IF(E17="RTT",1,0)+IF(F17="RTT",1,0)+IF(G17="RTT",1,0)+IF(H17="RTT",1,0)+IF(I17="RTT",1,0)+IF(J17="RTT",1,0)+IF(K17="RTT",1,0)+IF(L17="RTT",1,0)+IF(M17="RTT",1,0)+IF(N17="RTT",1,0)+IF(O17="RTT",1,0)+IF(P17="RTT",1,0)+IF(Q17="RTT",1,0)+IF(R17="RTT",1,0)+IF(S17="RTT",1,0)+IF(T17="RTT",1,0)+IF(U17="RTT",1,0)+IF(V17="RTT",1,0)+IF(W17="RTT",1,0)+IF(X17="RTT",1,0)+IF(Y17="RTT",1,0)+IF(Z17="RTT",1,0)+IF(AA17="RTT",1,0)+IF(AB17="RTT",1,0)+IF(AC17="RTT",1,0)+IF(AE17="RTT",1,0)+IF(AF17="RTT",1,0)+IF(AG17="RTT",1,0)+IF(AH17="RTT",1,0)+IF(AD17="RTT",1,0)+IF(D17="RTT",1,0) -> 0
A18: 07 | B18: CHIRON | C18: FRANCOISE | D18: 8 | E18: 8 | F18: 8 | G18: 8 | H18: 7 | K18: 8 | L18: 8 | M18: 8 | N18: 8 | O18: 7 | R18: 8 | S18: 8 | T18: 8 | U18: 8 | V18: 7 | Y18: 8 | Z18: 8 | AA18: 8 | AB18: 8 | AC18: 7 | AF18: 8 | AG18: 8 | AH18: 8 | AI18: =SUM(D18:AH18) -> 180 | AJ18: =IF(D18="CP",1,0)+IF(E18="CP",1,0)+IF(F18="CP",1,0)+IF(G18="CP",1,0)+IF(H18="CP",1,0)+IF(I18="CP",1,0)+IF(J18="CP",1,0)+IF(K18="CP",1,0)+IF(L18="CP",1,0)+IF(M18="CP",1,0)+IF(N18="CP",1,0)+IF(O18="CP",1,0)+IF(P18="CP",1,0)+IF(Q18="CP",1,0)+IF(R18="CP",1,0)+IF(S18="CP",1,0)+IF(T18="CP",1,0)+IF(U18="CP",1,0)+IF(V18="CP",1,0)+IF(W18="CP",1,0)+IF(X18="CP",1,0)+IF(Y18="CP",1,0)+IF(Z18="CP",1,0)+IF(AA18="CP",1,0)+IF(AB18="CP",1,0)+IF(AD18="CP",1,0)+IF(AE18="CP",1,0)+IF(AF18="CP",1,0)+IF(AG18="CP",1,0)+IF(AH18="CP",1,0)+IF(AC18="CP",1,0) -> 0 | AK18: =IF(E18="RTT",1,0)+IF(F18="RTT",1,0)+IF(G18="RTT",1,0)+IF(H18="RTT",1,0)+IF(I18="RTT",1,0)+IF(J18="RTT",1,0)+IF(K18="RTT",1,0)+IF(L18="RTT",1,0)+IF(M18="RTT",1,0)+IF(N18="RTT",1,0)+IF(O18="RTT",1,0)+IF(P18="RTT",1,0)+IF(Q18="RTT",1,0)+IF(R18="RTT",1,0)+IF(S18="RTT",1,0)+IF(T18="RTT",1,0)+IF(U18="RTT",1,0)+IF(V18="RTT",1,0)+IF(W18="RTT",1,0)+IF(X18="RTT",1,0)+IF(Y18="RTT",1,0)+IF(Z18="RTT",1,0)+IF(AA18="RTT",1,0)+IF(AB18="RTT",1,0)+IF(AC18="RTT",1,0)+IF(AE18="RTT",1,0)+IF(AF18="RTT",1,0)+IF(AG18="RTT",1,0)+IF(AH18="RTT",1,0)+IF(AD18="RTT",1,0)+IF(D18="RTT",1,0) -> 0
A19: 20 | B19: CHUDEAU | C19: ROMANE | D19: 8 | E19: 8 | F19: 8 | G19: 8 | H19: 7 | K19: 8 | L19: 8 | M19: 8 | N19: 8 | O19: 7 | R19: 8 | S19: 8 | T19: 8 | U19: 8 | V19: 7 | Y19: 8 | Z19: 8 | AA19: 8 | AB19: 8 | AC19: 7 | AF19: 8 | AG19: 8 | AH19: 8 | AI19: =SUM(D19:AH19) -> 180 | AJ19: =IF(D19="CP",1,0)+IF(E19="CP",1,0)+IF(F19="CP",1,0)+IF(G19="CP",1,0)+IF(H19="CP",1,0)+IF(I19="CP",1,0)+IF(J19="CP",1,0)+IF(K19="CP",1,0)+IF(L19="CP",1,0)+IF(M19="CP",1,0)+IF(N19="CP",1,0)+IF(O19="CP",1,0)+IF(P19="CP",1,0)+IF(Q19="CP",1,0)+IF(R19="CP",1,0)+IF(S19="CP",1,0)+IF(T19="CP",1,0)+IF(U19="CP",1,0)+IF(V19="CP",1,0)+IF(W19="CP",1,0)+IF(X19="CP",1,0)+IF(Y19="CP",1,0)+IF(Z19="CP",1,0)+IF(AA19="CP",1,0)+IF(AB19="CP",1,0)+IF(AD19="CP",1,0)+IF(AE19="CP",1,0)+IF(AF19="CP",1,0)+IF(AG19="CP",1,0)+IF(AH19="CP",1,0)+IF(AC19="CP",1,0) -> 0 | AK19: =IF(E19="RTT",1,0)+IF(F19="RTT",1,0)+IF(G19="RTT",1,0)+IF(H19="RTT",1,0)+IF(I19="RTT",1,0)+IF(J19="RTT",1,0)+IF(K19="RTT",1,0)+IF(L19="RTT",1,0)+IF(M19="RTT",1,0)+IF(N19="RTT",1,0)+IF(O19="RTT",1,0)+IF(P19="RTT",1,0)+IF(Q19="RTT",1,0)+IF(R19="RTT",1,0)+IF(S19="RTT",1,0)+IF(T19="RTT",1,0)+IF(U19="RTT",1,0)+IF(V19="RTT",1,0)+IF(W19="RTT",1,0)+IF(X19="RTT",1,0)+IF(Y19="RTT",1,0)+IF(Z19="RTT",1,0)+IF(AA19="RTT",1,0)+IF(AB19="RTT",1,0)+IF(AC19="RTT",1,0)+IF(AE19="RTT",1,0)+IF(AF19="RTT",1,0)+IF(AG19="RTT",1,0)+IF(AH19="RTT",1,0)+IF(AD19="RTT",1,0)+IF(D19="RTT",1,0) -> 0
A20: 21 | B20: CONTIN | C20: ARMAND | D20: 8 | E20: 8 | F20: 8 | G20: 8 | H20: 7 | K20: 8 | L20: 8 | M20: 8 | N20: 8 | O20: 7 | R20: 8 | S20: 8 | T20: 8 | U20: 8 | V20: 7 | Y20: 8 | Z20: 8 | AA20: 8 | AB20: 8 | AC20: 7 | AF20: 8 | AG20: 8 | AH20: 8 | AI20: =SUM(D20:AH20) -> 180 | AJ20: =IF(D20="CP",1,0)+IF(E20="CP",1,0)+IF(F20="CP",1,0)+IF(G20="CP",1,0)+IF(H20="CP",1,0)+IF(I20="CP",1,0)+IF(J20="CP",1,0)+IF(K20="CP",1,0)+IF(L20="CP",1,0)+IF(M20="CP",1,0)+IF(N20="CP",1,0)+IF(O20="CP",1,0)+IF(P20="CP",1,0)+IF(Q20="CP",1,0)+IF(R20="CP",1,0)+IF(S20="CP",1,0)+IF(T20="CP",1,0)+IF(U20="CP",1,0)+IF(V20="CP",1,0)+IF(W20="CP",1,0)+IF(X20="CP",1,0)+IF(Y20="CP",1,0)+IF(Z20="CP",1,0)+IF(AA20="CP",1,0)+IF(AB20="CP",1,0)+IF(AD20="CP",1,0)+IF(AE20="CP",1,0)+IF(AF20="CP",1,0)+IF(AG20="CP",1,0)+IF(AH20="CP",1,0)+IF(AC20="CP",1,0) -> 0 | AK20: =IF(E20="RTT",1,0)+IF(F20="RTT",1,0)+IF(G20="RTT",1,0)+IF(H20="RTT",1,0)+IF(I20="RTT",1,0)+IF(J20="RTT",1,0)+IF(K20="RTT",1,0)+IF(L20="RTT",1,0)+IF(M20="RTT",1,0)+IF(N20="RTT",1,0)+IF(O20="RTT",1,0)+IF(P20="RTT",1,0)+IF(Q20="RTT",1,0)+IF(R20="RTT",1,0)+IF(S20="RTT",1,0)+IF(T20="RTT",1,0)+IF(U20="RTT",1,0)+IF(V20="RTT",1,0)+IF(W20="RTT",1,0)+IF(X20="RTT",1,0)+IF(Y20="RTT",1,0)+IF(Z20="RTT",1,0)+IF(AA20="RTT",1,0)+IF(AB20="RTT",1,0)+IF(AC20="RTT",1,0)+IF(AE20="RTT",1,0)+IF(AF20="RTT",1,0)+IF(AG20="RTT",1,0)+IF(AH20="RTT",1,0)+IF(AD20="RTT",1,0)+IF(D20="RTT",1,0) -> 0
A21: 09 | B21: COUVREUX | C21: FLORA | D21: 8 | E21: 8 | F21: 8 | G21: 8 | H21: 7 | K21: 8 | L21: 8 | M21: 8 | N21: 8 | O21: 7 | R21: 8 | S21: 8 | T21: 8 | U21: 8 | V21: 7 | Y21: 8 | Z21: 8 | AA21: 8 | AB21: 8 | AC21: 7 | AF21: 8 | AG21: 8 | AH21: 8 | AI21: =SUM(D21:AH21) -> 180 | AJ21: =IF(D21="CP",1,0)+IF(E21="CP",1,0)+IF(F21="CP",1,0)+IF(G21="CP",1,0)+IF(H21="CP",1,0)+IF(I21="CP",1,0)+IF(J21="CP",1,0)+IF(K21="CP",1,0)+IF(L21="CP",1,0)+IF(M21="CP",1,0)+IF(N21="CP",1,0)+IF(O21="CP",1,0)+IF(P21="CP",1,0)+IF(Q21="CP",1,0)+IF(R21="CP",1,0)+IF(S21="CP",1,0)+IF(T21="CP",1,0)+IF(U21="CP",1,0)+IF(V21="CP",1,0)+IF(W21="CP",1,0)+IF(X21="CP",1,0)+IF(Y21="CP",1,0)+IF(Z21="CP",1,0)+IF(AA21="CP",1,0)+IF(AB21="CP",1,0)+IF(AD21="CP",1,0)+IF(AE21="CP",1,0)+IF(AF21="CP",1,0)+IF(AG21="CP",1,0)+IF(AH21="CP",1,0)+IF(AC21="CP",1,0) -> 0 | AK21: =IF(E21="RTT",1,0)+IF(F21="RTT",1,0)+IF(G21="RTT",1,0)+IF(H21="RTT",1,0)+IF(I21="RTT",1,0)+IF(J21="RTT",1,0)+IF(K21="RTT",1,0)+IF(L21="RTT",1,0)+IF(M21="RTT",1,0)+IF(N21="RTT",1,0)+IF(O21="RTT",1,0)+IF(P21="RTT",1,0)+IF(Q21="RTT",1,0)+IF(R21="RTT",1,0)+IF(S21="RTT",1,0)+IF(T21="RTT",1,0)+IF(U21="RTT",1,0)+IF(V21="RTT",1,0)+IF(W21="RTT",1,0)+IF(X21="RTT",1,0)+IF(Y21="RTT",1,0)+IF(Z21="RTT",1,0)+IF(AA21="RTT",1,0)+IF(AB21="RTT",1,0)+IF(AC21="RTT",1,0)+IF(AE21="RTT",1,0)+IF(AF21="RTT",1,0)+IF(AG21="RTT",1,0)+IF(AH21="RTT",1,0)+IF(AD21="RTT",1,0)+IF(D21="RTT",1,0) -> 0
A22: 10 | B22: DEKHIL | C22: HENNACHI | D22: 8 | E22: 8 | F22: 8 | G22: 8 | H22: 7 | K22: 8 | L22: 8 | M22: 8 | N22: 8 | O22: 7 | R22: 8 | S22: 8 | T22: 8 | U22: 8 | V22: 7 | Y22: 8 | Z22: 8 | AA22: 8 | AB22: 8 | AC22: 7 | AF22: 8 | AG22: 8 | AH22: 8 | AI22: =SUM(D22:AH22) -> 180 | AJ22: =IF(D22="CP",1,0)+IF(E22="CP",1,0)+IF(F22="CP",1,0)+IF(G22="CP",1,0)+IF(H22="CP",1,0)+IF(I22="CP",1,0)+IF(J22="CP",1,0)+IF(K22="CP",1,0)+IF(L22="CP",1,0)+IF(M22="CP",1,0)+IF(N22="CP",1,0)+IF(O22="CP",1,0)+IF(P22="CP",1,0)+IF(Q22="CP",1,0)+IF(R22="CP",1,0)+IF(S22="CP",1,0)+IF(T22="CP",1,0)+IF(U22="CP",1,0)+IF(V22="CP",1,0)+IF(W22="CP",1,0)+IF(X22="CP",1,0)+IF(Y22="CP",1,0)+IF(Z22="CP",1,0)+IF(AA22="CP",1,0)+IF(AB22="CP",1,0)+IF(AD22="CP",1,0)+IF(AE22="CP",1,0)+IF(AF22="CP",1,0)+IF(AG22="CP",1,0)+IF(AH22="CP",1,0)+IF(AC22="CP",1,0) -> 0 | AK22: =IF(E22="RTT",1,0)+IF(F22="RTT",1,0)+IF(G22="RTT",1,0)+IF(H22="RTT",1,0)+IF(I22="RTT",1,0)+IF(J22="RTT",1,0)+IF(K22="RTT",1,0)+IF(L22="RTT",1,0)+IF(M22="RTT",1,0)+IF(N22="RTT",1,0)+IF(O22="RTT",1,0)+IF(P22="RTT",1,0)+IF(Q22="RTT",1,0)+IF(R22="RTT",1,0)+IF(S22="RTT",1,0)+IF(T22="RTT",1,0)+IF(U22="RTT",1,0)+IF(V22="RTT",1,0)+IF(W22="RTT",1,0)+IF(X22="RTT",1,0)+IF(Y22="RTT",1,0)+IF(Z22="RTT",1,0)+IF(AA22="RTT",1,0)+IF(AB22="RTT",1,0)+IF(AC22="RTT",1,0)+IF(AE22="RTT",1,0)+IF(AF22="RTT",1,0)+IF(AG22="RTT",1,0)+IF(AH22="RTT",1,0)+IF(AD22="RTT",1,0)+IF(D22="RTT",1,0) -> 0
A23: 12 | B23: GOURDON | C23: KATIA | D23: 8 | E23: 8 | F23: 8 | G23: 8 | H23: 7 | K23: 8 | L23: 8 | M23: 8 | N23: 8 | O23: 7 | R23: 8 | S23: 8 | T23: 8 | U23: 8 | V23: 7 | Y23: 8 | Z23: 8 | AA23: 8 | AB23: 8 | AC23: 7 | AF23: 8 | AG23: 8 | AH23: 8 | AI23: =SUM(D23:AH23) -> 180 | AJ23: =IF(D23="CP",1,0)+IF(E23="CP",1,0)+IF(F23="CP",1,0)+IF(G23="CP",1,0)+IF(H23="CP",1,0)+IF(I23="CP",1,0)+IF(J23="CP",1,0)+IF(K23="CP",1,0)+IF(L23="CP",1,0)+IF(M23="CP",1,0)+IF(N23="CP",1,0)+IF(O23="CP",1,0)+IF(P23="CP",1,0)+IF(Q23="CP",1,0)+IF(R23="CP",1,0)+IF(S23="CP",1,0)+IF(T23="CP",1,0)+IF(U23="CP",1,0)+IF(V23="CP",1,0)+IF(W23="CP",1,0)+IF(X23="CP",1,0)+IF(Y23="CP",1,0)+IF(Z23="CP",1,0)+IF(AA23="CP",1,0)+IF(AB23="CP",1,0)+IF(AD23="CP",1,0)+IF(AE23="CP",1,0)+IF(AF23="CP",1,0)+IF(AG23="CP",1,0)+IF(AH23="CP",1,0)+IF(AC23="CP",1,0) -> 0 | AK23: =IF(E23="RTT",1,0)+IF(F23="RTT",1,0)+IF(G23="RTT",1,0)+IF(H23="RTT",1,0)+IF(I23="RTT",1,0)+IF(J23="RTT",1,0)+IF(K23="RTT",1,0)+IF(L23="RTT",1,0)+IF(M23="RTT",1,0)+IF(N23="RTT",1,0)+IF(O23="RTT",1,0)+IF(P23="RTT",1,0)+IF(Q23="RTT",1,0)+IF(R23="RTT",1,0)+IF(S23="RTT",1,0)+IF(T23="RTT",1,0)+IF(U23="RTT",1,0)+IF(V23="RTT",1,0)+IF(W23="RTT",1,0)+IF(X23="RTT",1,0)+IF(Y23="RTT",1,0)+IF(Z23="RTT",1,0)+IF(AA23="RTT",1,0)+IF(AB23="RTT",1,0)+IF(AC23="RTT",1,0)+IF(AE23="RTT",1,0)+IF(AF23="RTT",1,0)+IF(AG23="RTT",1,0)+IF(AH23="RTT",1,0)+IF(AD23="RTT",1,0)+IF(D23="RTT",1,0) -> 0
... A35: 14 | B35: VIAUD | C35: JEAN MARC | D35: 8 | E35: 8 | F35: 8 | G35: 8 | H35: 7 | K35: 8 | L35: 8 | M35: 8 | N35: 8 | O35: 7 | R35: 8 | S35: 8 | T35: 8 | U35: 8 | V35: 7 | Y35: 8 | Z35: 8 | AA35: 8 | AB35: 8 | AC35: 7 | AF35: 8 | AG35: 8 | AH35: 8 | AI35: =SUM(D35:AH35) -> 180 | AJ35: =IF(D35="CP",1,0)+IF(E35="CP",1,0)+IF(F35="CP",1,0)+IF(G35="CP",1,0)+IF(H35="CP",1,0)+IF(I35="CP",1,0)+IF(J35="CP",1,0)+IF(K35="CP",1,0)+IF(L35="CP",1,0)+IF(M35="CP",1,0)+IF(N35="CP",1,0)+IF(O35="CP",1,0)+IF(P35="CP",1,0)+IF(Q35="CP",1,0)+IF(R35="CP",1,0)+IF(S35="CP",1,0)+IF(T35="CP",1,0)+IF(U35="CP",1,0)+IF(V35="CP",1,0)+IF(W35="CP",1,0)+IF(X35="CP",1,0)+IF(Y35="CP",1,0)+IF(Z35="CP",1,0)+IF(AA35="CP",1,0)+IF(AB35="CP",1,0)+IF(AD35="CP",1,0)+IF(AE35="CP",1,0)+IF(AF35="CP",1,0)+IF(AG35="CP",1,0)+IF(AH35="CP",1,0)+IF(AC35="CP",1,0) -> 0 | AK35: =IF(E35="RTT",1,0)+IF(F35="RTT",1,0)+IF(G35="RTT",1,0)+IF(H35="RTT",1,0)+IF(I35="RTT",1,0)+IF(J35="RTT",1,0)+IF(K35="RTT",1,0)+IF(L35="RTT",1,0)+IF(M35="RTT",1,0)+IF(N35="RTT",1,0)+IF(O35="RTT",1,0)+IF(P35="RTT",1,0)+IF(Q35="RTT",1,0)+IF(R35="RTT",1,0)+IF(S35="RTT",1,0)+IF(T35="RTT",1,0)+IF(U35="RTT",1,0)+IF(V35="RTT",1,0)+IF(W35="RTT",1,0)+IF(X35="RTT",1,0)+IF(Y35="RTT",1,0)+IF(Z35="RTT",1,0)+IF(AA35="RTT",1,0)+IF(AB35="RTT",1,0)+IF(AC35="RTT",1,0)+IF(AE35="RTT",1,0)+IF(AF35="RTT",1,0)+IF(AG35="RTT",1,0)+IF(AH35="RTT",1,0)+IF(AD35="RTT",1,0)+IF(D35="RTT",1,0) -> 0
A37: SAISONNIERS
A38: z101 | B38: BIOTTEAU | C38: FLORIAN | D38: 8 | E38: 8 | F38: 8 | G38: 8 | H38: 7 | K38: 8 | L38: 8 | M38: 8 | N38: 8 | O38: 7 | R38: 8 | S38: 8 | T38: 8 | U38: 8 | V38: 7 | Y38: 8 | Z38: 8 | AA38: 8 | AB38: 8 | AC38: 7 | AF38: 8 | AG38: 8 | AH38: 8 | AI38: =SUM(D38:AH38) -> 180 | AJ38: =IF(D38="CP",1,0)+IF(E38="CP",1,0)+IF(F38="CP",1,0)+IF(G38="CP",1,0)+IF(H38="CP",1,0)+IF(I38="CP",1,0)+IF(J38="CP",1,0)+IF(K38="CP",1,0)+IF(L38="CP",1,0)+IF(M38="CP",1,0)+IF(N38="CP",1,0)+IF(O38="CP",1,0)+IF(P38="CP",1,0)+IF(Q38="CP",1,0)+IF(R38="CP",1,0)+IF(S38="CP",1,0)+IF(T38="CP",1,0)+IF(U38="CP",1,0)+IF(V38="CP",1,0)+IF(W38="CP",1,0)+IF(X38="CP",1,0)+IF(Y38="CP",1,0)+IF(Z38="CP",1,0)+IF(AA38="CP",1,0)+IF(AB38="CP",1,0)+IF(AD38="CP",1,0)+IF(AE38="CP",1,0)+IF(AF38="CP",1,0)+IF(AG38="CP",1,0)+IF(AH38="CP",1,0)+IF(AC38="CP",1,0) -> 0 | AK38: =IF(E38="RTT",1,0)+IF(F38="RTT",1,0)+IF(G38="RTT",1,0)+IF(H38="RTT",1,0)+IF(I38="RTT",1,0)+IF(J38="RTT",1,0)+IF(K38="RTT",1,0)+IF(L38="RTT",1,0)+IF(M38="RTT",1,0)+IF(N38="RTT",1,0)+IF(O38="RTT",1,0)+IF(P38="RTT",1,0)+IF(Q38="RTT",1,0)+IF(R38="RTT",1,0)+IF(S38="RTT",1,0)+IF(T38="RTT",1,0)+IF(U38="RTT",1,0)+IF(V38="RTT",1,0)+IF(W38="RTT",1,0)+IF(X38="RTT",1,0)+IF(Y38="RTT",1,0)+IF(Z38="RTT",1,0)+IF(AA38="RTT",1,0)+IF(AB38="RTT",1,0)+IF(AC38="RTT",1,0)+IF(AE38="RTT",1,0)+IF(AF38="RTT",1,0)+IF(AG38="RTT",1,0)+IF(AH38="RTT",1,0)+IF(AD38="RTT",1,0)+IF(D38="RTT",1,0) -> 0
A39: z102 | B39: ALLA | C39: CHIARA | D39: 8 | E39: 8 | F39: 8 | G39: 8 | H39: 7 | K39: 8 | L39: 8 | M39: 8 | N39: 8 | O39: 7 | R39: 8 | S39: 8 | T39: 8 | U39: 8 | V39: 7 | Y39: 8 | Z39: 8 | AA39: 8 | AB39: 8 | AC39: 7 | AF39: 8 | AG39: 8 | AH39: 8 | AI39: =SUM(D39:AH39) -> 180 | AJ39: =IF(D39="CP",1,0)+IF(E39="CP",1,0)+IF(F39="CP",1,0)+IF(G39="CP",1,0)+IF(H39="CP",1,0)+IF(I39="CP",1,0)+IF(J39="CP",1,0)+IF(K39="CP",1,0)+IF(L39="CP",1,0)+IF(M39="CP",1,0)+IF(N39="CP",1,0)+IF(O39="CP",1,0)+IF(P39="CP",1,0)+IF(Q39="CP",1,0)+IF(R39="CP",1,0)+IF(S39="CP",1,0)+IF(T39="CP",1,0)+IF(U39="CP",1,0)+IF(V39="CP",1,0)+IF(W39="CP",1,0)+IF(X39="CP",1,0)+IF(Y39="CP",1,0)+IF(Z39="CP",1,0)+IF(AA39="CP",1,0)+IF(AB39="CP",1,0)+IF(AD39="CP",1,0)+IF(AE39="CP",1,0)+IF(AF39="CP",1,0)+IF(AG39="CP",1,0)+IF(AH39="CP",1,0)+IF(AC39="CP",1,0) -> 0 | AK39: =IF(E39="RTT",1,0)+IF(F39="RTT",1,0)+IF(G39="RTT",1,0)+IF(H39="RTT",1,0)+IF(I39="RTT",1,0)+IF(J39="RTT",1,0)+IF(K39="RTT",1,0)+IF(L39="RTT",1,0)+IF(M39="RTT",1,0)+IF(N39="RTT",1,0)+IF(O39="RTT",1,0)+IF(P39="RTT",1,0)+IF(Q39="RTT",1,0)+IF(R39="RTT",1,0)+IF(S39="RTT",1,0)+IF(T39="RTT",1,0)+IF(U39="RTT",1,0)+IF(V39="RTT",1,0)+IF(W39="RTT",1,0)+IF(X39="RTT",1,0)+IF(Y39="RTT",1,0)+IF(Z39="RTT",1,0)+IF(AA39="RTT",1,0)+IF(AB39="RTT",1,0)+IF(AC39="RTT",1,0)+IF(AE39="RTT",1,0)+IF(AF39="RTT",1,0)+IF(AG39="RTT",1,0)+IF(AH39="RTT",1,0)+IF(AD39="RTT",1,0)+IF(D39="RTT",1,0) -> 0
A40: z103 | B40: BAUMARD | C40: CLEMENT | D40: 8 | E40: 8 | F40: 8 | G40: 8 | H40: 7 | K40: 8 | L40: 8 | M40: 8 | N40: 8 | O40: 7 | R40: 8 | S40: 8 | T40: 8 | U40: 8 | V40: 7 | Y40: 8 | Z40: 8 | AA40: 8 | AB40: 8 | AC40: 7 | AF40: 8 | AG40: 8 | AH40: 8 | AI40: =SUM(D40:AH40) -> 180 | AJ40: =IF(D40="CP",1,0)+IF(E40="CP",1,0)+IF(F40="CP",1,0)+IF(G40="CP",1,0)+IF(H40="CP",1,0)+IF(I40="CP",1,0)+IF(J40="CP",1,0)+IF(K40="CP",1,0)+IF(L40="CP",1,0)+IF(M40="CP",1,0)+IF(N40="CP",1,0)+IF(O40="CP",1,0)+IF(P40="CP",1,0)+IF(Q40="CP",1,0)+IF(R40="CP",1,0)+IF(S40="CP",1,0)+IF(T40="CP",1,0)+IF(U40="CP",1,0)+IF(V40="CP",1,0)+IF(W40="CP",1,0)+IF(X40="CP",1,0)+IF(Y40="CP",1,0)+IF(Z40="CP",1,0)+IF(AA40="CP",1,0)+IF(AB40="CP",1,0)+IF(AD40="CP",1,0)+IF(AE40="CP",1,0)+IF(AF40="CP",1,0)+IF(AG40="CP",1,0)+IF(AH40="CP",1,0)+IF(AC40="CP",1,0) -> 0 | AK40: =IF(E40="RTT",1,0)+IF(F40="RTT",1,0)+IF(G40="RTT",1,0)+IF(H40="RTT",1,0)+IF(I40="RTT",1,0)+IF(J40="RTT",1,0)+IF(K40="RTT",1,0)+IF(L40="RTT",1,0)+IF(M40="RTT",1,0)+IF(N40="RTT",1,0)+IF(O40="RTT",1,0)+IF(P40="RTT",1,0)+IF(Q40="RTT",1,0)+IF(R40="RTT",1,0)+IF(S40="RTT",1,0)+IF(T40="RTT",1,0)+IF(U40="RTT",1,0)+IF(V40="RTT",1,0)+IF(W40="RTT",1,0)+IF(X40="RTT",1,0)+IF(Y40="RTT",1,0)+IF(Z40="RTT",1,0)+IF(AA40="RTT",1,0)+IF(AB40="RTT",1,0)+IF(AC40="RTT",1,0)+IF(AE40="RTT",1,0)+IF(AF40="RTT",1,0)+IF(AG40="RTT",1,0)+IF(AH40="RTT",1,0)+IF(AD40="RTT",1,0)+IF(D40="RTT",1,0) -> 0
A41: z104 | B41: GRIMAULT | C41: EMMA | D41: 8 | E41: 8 | F41: 8 | G41: 8 | H41: 7 | K41: 8 | L41: 8 | M41: 8 | N41: 8 | O41: 7 | R41: 8 | S41: 8 | T41: 8 | U41: 8 | V41: 7 | Y41: 8 | Z41: 8 | AA41: 8 | AB41: 8 | AC41: 7 | AF41: 8 | AG41: 8 | AH41: 8 | AI41: =SUM(D41:AH41) -> 180 | AJ41: =IF(D41="CP",1,0)+IF(E41="CP",1,0)+IF(F41="CP",1,0)+IF(G41="CP",1,0)+IF(H41="CP",1,0)+IF(I41="CP",1,0)+IF(J41="CP",1,0)+IF(K41="CP",1,0)+IF(L41="CP",1,0)+IF(M41="CP",1,0)+IF(N41="CP",1,0)+IF(O41="CP",1,0)+IF(P41="CP",1,0)+IF(Q41="CP",1,0)+IF(R41="CP",1,0)+IF(S41="CP",1,0)+IF(T41="CP",1,0)+IF(U41="CP",1,0)+IF(V41="CP",1,0)+IF(W41="CP",1,0)+IF(X41="CP",1,0)+IF(Y41="CP",1,0)+IF(Z41="CP",1,0)+IF(AA41="CP",1,0)+IF(AB41="CP",1,0)+IF(AD41="CP",1,0)+IF(AE41="CP",1,0)+IF(AF41="CP",1,0)+IF(AG41="CP",1,0)+IF(AH41="CP",1,0)+IF(AC41="CP",1,0) -> 0 | AK41: =IF(E41="RTT",1,0)+IF(F41="RTT",1,0)+IF(G41="RTT",1,0)+IF(H41="RTT",1,0)+IF(I41="RTT",1,0)+IF(J41="RTT",1,0)+IF(K41="RTT",1,0)+IF(L41="RTT",1,0)+IF(M41="RTT",1,0)+IF(N41="RTT",1,0)+IF(O41="RTT",1,0)+IF(P41="RTT",1,0)+IF(Q41="RTT",1,0)+IF(R41="RTT",1,0)+IF(S41="RTT",1,0)+IF(T41="RTT",1,0)+IF(U41="RTT",1,0)+IF(V41="RTT",1,0)+IF(W41="RTT",1,0)+IF(X41="RTT",1,0)+IF(Y41="RTT",1,0)+IF(Z41="RTT",1,0)+IF(AA41="RTT",1,0)+IF(AB41="RTT",1,0)+IF(AC41="RTT",1,0)+IF(AE41="RTT",1,0)+IF(AF41="RTT",1,0)+IF(AG41="RTT",1,0)+IF(AH41="RTT",1,0)+IF(AD41="RTT",1,0)+IF(D41="RTT",1,0) -> 0
A42: z105 | B42: BRETEAU | C42: HELENA | D42: 8 | E42: 8 | F42: 8 | G42: 8 | H42: 7 | K42: 8 | L42: 8 | M42: 8 | N42: 8 | O42: 7 | R42: 8 | S42: 8 | T42: 8 | U42: 8 | V42: 7 | Y42: 8 | Z42: 8 | AA42: 8 | AB42: 8 | AC42: 7 | AF42: 8 | AG42: 8 | AH42: 8 | AI42: =SUM(D42:AH42) -> 180 | AJ42: =IF(D42="CP",1,0)+IF(E42="CP",1,0)+IF(F42="CP",1,0)+IF(G42="CP",1,0)+IF(H42="CP",1,0)+IF(I42="CP",1,0)+IF(J42="CP",1,0)+IF(K42="CP",1,0)+IF(L42="CP",1,0)+IF(M42="CP",1,0)+IF(N42="CP",1,0)+IF(O42="CP",1,0)+IF(P42="CP",1,0)+IF(Q42="CP",1,0)+IF(R42="CP",1,0)+IF(S42="CP",1,0)+IF(T42="CP",1,0)+IF(U42="CP",1,0)+IF(V42="CP",1,0)+IF(W42="CP",1,0)+IF(X42="CP",1,0)+IF(Y42="CP",1,0)+IF(Z42="CP",1,0)+IF(AA42="CP",1,0)+IF(AB42="CP",1,0)+IF(AD42="CP",1,0)+IF(AE42="CP",1,0)+IF(AF42="CP",1,0)+IF(AG42="CP",1,0)+IF(AH42="CP",1,0)+IF(AC42="CP",1,0) -> 0 | AK42: =IF(E42="RTT",1,0)+IF(F42="RTT",1,0)+IF(G42="RTT",1,0)+IF(H42="RTT",1,0)+IF(I42="RTT",1,0)+IF(J42="RTT",1,0)+IF(K42="RTT",1,0)+IF(L42="RTT",1,0)+IF(M42="RTT",1,0)+IF(N42="RTT",1,0)+IF(O42="RTT",1,0)+IF(P42="RTT",1,0)+IF(Q42="RTT",1,0)+IF(R42="RTT",1,0)+IF(S42="RTT",1,0)+IF(T42="RTT",1,0)+IF(U42="RTT",1,0)+IF(V42="RTT",1,0)+IF(W42="RTT",1,0)+IF(X42="RTT",1,0)+IF(Y42="RTT",1,0)+IF(Z42="RTT",1,0)+IF(AA42="RTT",1,0)+IF(AB42="RTT",1,0)+IF(AC42="RTT",1,0)+IF(AE42="RTT",1,0)+IF(AF42="RTT",1,0)+IF(AG42="RTT",1,0)+IF(AH42="RTT",1,0)+IF(AD42="RTT",1,0)+IF(D42="RTT",1,0) -> 0
A43: z106 | B43: BOULORD | C43: EVA | D43: 8 | E43: 8 | F43: 8 | G43: 8 | H43: 7 | K43: 8 | L43: 8 | M43: 8 | N43: 8 | O43: 7 | R43: 8 | S43: 8 | T43: 8 | U43: 8 | V43: 7 | Y43: 8 | Z43: 8 | AA43: 8 | AB43: 8 | AC43: 7 | AF43: 8 | AG43: 8 | AH43: 8 | AI43: =SUM(D43:AH43) -> 180 | AJ43: =IF(D43="CP",1,0)+IF(E43="CP",1,0)+IF(F43="CP",1,0)+IF(G43="CP",1,0)+IF(H43="CP",1,0)+IF(I43="CP",1,0)+IF(J43="CP",1,0)+IF(K43="CP",1,0)+IF(L43="CP",1,0)+IF(M43="CP",1,0)+IF(N43="CP",1,0)+IF(O43="CP",1,0)+IF(P43="CP",1,0)+IF(Q43="CP",1,0)+IF(R43="CP",1,0)+IF(S43="CP",1,0)+IF(T43="CP",1,0)+IF(U43="CP",1,0)+IF(V43="CP",1,0)+IF(W43="CP",1,0)+IF(X43="CP",1,0)+IF(Y43="CP",1,0)+IF(Z43="CP",1,0)+IF(AA43="CP",1,0)+IF(AB43="CP",1,0)+IF(AD43="CP",1,0)+IF(AE43="CP",1,0)+IF(AF43="CP",1,0)+IF(AG43="CP",1,0)+IF(AH43="CP",1,0)+IF(AC43="CP",1,0) -> 0 | AK43: =IF(E43="RTT",1,0)+IF(F43="RTT",1,0)+IF(G43="RTT",1,0)+IF(H43="RTT",1,0)+IF(I43="RTT",1,0)+IF(J43="RTT",1,0)+IF(K43="RTT",1,0)+IF(L43="RTT",1,0)+IF(M43="RTT",1,0)+IF(N43="RTT",1,0)+IF(O43="RTT",1,0)+IF(P43="RTT",1,0)+IF(Q43="RTT",1,0)+IF(R43="RTT",1,0)+IF(S43="RTT",1,0)+IF(T43="RTT",1,0)+IF(U43="RTT",1,0)+IF(V43="RTT",1,0)+IF(W43="RTT",1,0)+IF(X43="RTT",1,0)+IF(Y43="RTT",1,0)+IF(Z43="RTT",1,0)+IF(AA43="RTT",1,0)+IF(AB43="RTT",1,0)+IF(AC43="RTT",1,0)+IF(AE43="RTT",1,0)+IF(AF43="RTT",1,0)+IF(AG43="RTT",1,0)+IF(AH43="RTT",1,0)+IF(AD43="RTT",1,0)+IF(D43="RTT",1,0) -> 0
C46: NOTES SUPPLEMENTAIRES

Sheet Août
B1: 2019
B2: 8
C4: FICHE DE PRESENCE | Q4: MOIS | T4: AOUT | Z4: 2019
C6: 21 | D6: jours
C8: SEMAINES | D8: 31 | J8: 32 | Q8: 33 | X8: 34 | AE8: 35
D9: J | E9: V | H9: L | I9: M | J9: M | K9: J | L9: V | O9: L | P9: M | Q9: M | R9: J | S9: V | V9: L | W9: M | X9: M | Y9: J | Z9: V | AC9: L | AD9: M | AE9: M | AF9: J | AI9: H. TOT | AJ9: CP | AK9: RTT | AL9: HEURES
C10: JOURS | D10: 1 | E10: 2 | F10: 3 | G10: 4 | H10: 5 | I10: 6 | J10: 7 | K10: 8 | L10: 9 | M10: 10 | N10: 11 | O10: 12 | P10: 13 | Q10: 14 | R10: 15 | S10: 16 | T10: 17 | U10: 18 | V10: 19 | W10: 20 | X10: 21 | Y10: 22 | Z10: 23 | AA10: 24 | AB10: 25 | AC10: 26 | AD10: 27 | AE10: 28 | AF10: 29 | AG10: 30 | AH10: 31 | AI10: TRAVAIL | AJ10: jours | AK10: jours | AL10: SILOG
A12: 01 | B12: ABELARD | C12: AURELIE | D12: 8 | E12: 7 | H12: CP | I12: CP | J12: CP | K12: CP | L12: CP | O12: CP | P12: CP | Q12: CP | S12: CP | V12: CP | W12: CP | X12: CP | Y12: CP | Z12: CP | AC12: 8 | AD12: 8 | AE12: 8 | AF12: 8 | AG12: 7 | AI12: =SUM(D12:AH12) -> 54 | AJ12: =IF(D12="CP",1,0)+IF(E12="CP",1,0)+IF(F12="CP",1,0)+IF(G12="CP",1,0)+IF(H12="CP",1,0)+IF(I12="CP",1,0)+IF(J12="CP",1,0)+IF(K12="CP",1,0)+IF(L12="CP",1,0)+IF(M12="CP",1,0)+IF(N12="CP",1,0)+IF(O12="CP",1,0)+IF(P12="CP",1,0)+IF(Q12="CP",1,0)+IF(R12="CP",1,0)+IF(S12="CP",1,0)+IF(T12="CP",1,0)+IF(U12="CP",1,0)+IF(V12="CP",1,0)+IF(W12="CP",1,0)+IF(X12="CP",1,0)+IF(Y12="CP",1,0)+IF(Z12="CP",1,0)+IF(AA12="CP",1,0)+IF(AB12="CP",1,0)+IF(AD12="CP",1,0)+IF(AE12="CP",1,0)+IF(AF12="CP",1,0)+IF(AG12="CP",1,0)+IF(AH12="CP",1,0)+IF(AC12="CP",1,0) -> 14 | AK12: =IF(E12="RTT",1,0)+IF(F12="RTT",1,0)+IF(G12="RTT",1,0)+IF(H12="RTT",1,0)+IF(I12="RTT",1,0)+IF(J12="RTT",1,0)+IF(K12="RTT",1,0)+IF(L12="RTT",1,0)+IF(M12="RTT",1,0)+IF(N12="RTT",1,0)+IF(O12="RTT",1,0)+IF(P12="RTT",1,0)+IF(Q12="RTT",1,0)+IF(R12="RTT",1,0)+IF(S12="RTT",1,0)+IF(T12="RTT",1,0)+IF(U12="RTT",1,0)+IF(V12="RTT",1,0)+IF(W12="RTT",1,0)+IF(X12="RTT",1,0)+IF(Y12="RTT",1,0)+IF(Z12="RTT",1,0)+IF(AA12="RTT",1,0)+IF(AB12="RTT",1,0)+IF(AC12="RTT",1,0)+IF(AE12="RTT",1,0)+IF(AF12="RTT",1,0)+IF(AG12="RTT",1,0)+IF(AH12="RTT",1,0)+IF(AD12="RTT",1,0)+IF(D12="RTT",1,0) -> 0
A13: 02 | B13: AGOT | C13: DOMINIQUE | D13: 8 | E13: 7 | H13: CP | I13: CP | J13: CP | K13: CP | L13: CP | O13: CP | P13: CP | Q13: CP | S13: CP | V13: CP | W13: CP | X13: CP | Y13: CP | Z13: CP | AC13: 8 | AD13: 8 | AE13: 8 | AF13: 8 | AG13: 7 | AI13: =SUM(D13:AH13) -> 54 | AJ13: =IF(D13="CP",1,0)+IF(E13="CP",1,0)+IF(F13="CP",1,0)+IF(G13="CP",1,0)+IF(H13="CP",1,0)+IF(I13="CP",1,0)+IF(J13="CP",1,0)+IF(K13="CP",1,0)+IF(L13="CP",1,0)+IF(M13="CP",1,0)+IF(N13="CP",1,0)+IF(O13="CP",1,0)+IF(P13="CP",1,0)+IF(Q13="CP",1,0)+IF(R13="CP",1,0)+IF(S13="CP",1,0)+IF(T13="CP",1,0)+IF(U13="CP",1,0)+IF(V13="CP",1,0)+IF(W13="CP",1,0)+IF(X13="CP",1,0)+IF(Y13="CP",1,0)+IF(Z13="CP",1,0)+IF(AA13="CP",1,0)+IF(AB13="CP",1,0)+IF(AD13="CP",1,0)+IF(AE13="CP",1,0)+IF(AF13="CP",1,0)+IF(AG13="CP",1,0)+IF(AH13="CP",1,0)+IF(AC13="CP",1,0) -> 14 | AK13: =IF(E13="RTT",1,0)+IF(F13="RTT",1,0)+IF(G13="RTT",1,0)+IF(H13="RTT",1,0)+IF(I13="RTT",1,0)+IF(J13="RTT",1,0)+IF(K13="RTT",1,0)+IF(L13="RTT",1,0)+IF(M13="RTT",1,0)+IF(N13="RTT",1,0)+IF(O13="RTT",1,0)+IF(P13="RTT",1,0)+IF(Q13="RTT",1,0)+IF(R13="RTT",1,0)+IF(S13="RTT",1,0)+IF(T13="RTT",1,0)+IF(U13="RTT",1,0)+IF(V13="RTT",1,0)+IF(W13="RTT",1,0)+IF(X13="RTT",1,0)+IF(Y13="RTT",1,0)+IF(Z13="RTT",1,0)+IF(AA13="RTT",1,0)+IF(AB13="RTT",1,0)+IF(AC13="RTT",1,0)+IF(AE13="RTT",1,0)+IF(AF13="RTT",1,0)+IF(AG13="RTT",1,0)+IF(AH13="RTT",1,0)+IF(AD13="RTT",1,0)+IF(D13="RTT",1,0) -> 0
A14: 03 | B14: BAUMARD | C14: YSABELLE | D14: 8 | E14: 7 | H14: CP | I14: CP | J14: CP | K14: CP | L14: CP | O14: CP | P14: CP | Q14: CP | S14: CP | V14: CP | W14: CP | X14: CP | Y14: CP | Z14: CP | AC14: 8 | AD14: 8 | AE14: 8 | AF14: 8 | AG14: 7 | AI14: =SUM(D14:AH14) -> 54 | AJ14: =IF(D14="CP",1,0)+IF(E14="CP",1,0)+IF(F14="CP",1,0)+IF(G14="CP",1,0)+IF(H14="CP",1,0)+IF(I14="CP",1,0)+IF(J14="CP",1,0)+IF(K14="CP",1,0)+IF(L14="CP",1,0)+IF(M14="CP",1,0)+IF(N14="CP",1,0)+IF(O14="CP",1,0)+IF(P14="CP",1,0)+IF(Q14="CP",1,0)+IF(R14="CP",1,0)+IF(S14="CP",1,0)+IF(T14="CP",1,0)+IF(U14="CP",1,0)+IF(V14="CP",1,0)+IF(W14="CP",1,0)+IF(X14="CP",1,0)+IF(Y14="CP",1,0)+IF(Z14="CP",1,0)+IF(AA14="CP",1,0)+IF(AB14="CP",1,0)+IF(AD14="CP",1,0)+IF(AE14="CP",1,0)+IF(AF14="CP",1,0)+IF(AG14="CP",1,0)+IF(AH14="CP",1,0)+IF(AC14="CP",1,0) -> 14 | AK14: =IF(E14="RTT",1,0)+IF(F14="RTT",1,0)+IF(G14="RTT",1,0)+IF(H14="RTT",1,0)+IF(I14="RTT",1,0)+IF(J14="RTT",1,0)+IF(K14="RTT",1,0)+IF(L14="RTT",1,0)+IF(M14="RTT",1,0)+IF(N14="RTT",1,0)+IF(O14="RTT",1,0)+IF(P14="RTT",1,0)+IF(Q14="RTT",1,0)+IF(R14="RTT",1,0)+IF(S14="RTT",1,0)+IF(T14="RTT",1,0)+IF(U14="RTT",1,0)+IF(V14="RTT",1,0)+IF(W14="RTT",1,0)+IF(X14="RTT",1,0)+IF(Y14="RTT",1,0)+IF(Z14="RTT",1,0)+IF(AA14="RTT",1,0)+IF(AB14="RTT",1,0)+IF(AC14="RTT",1,0)+IF(AE14="RTT",1,0)+IF(AF14="RTT",1,0)+IF(AG14="RTT",1,0)+IF(AH14="RTT",1,0)+IF(AD14="RTT",1,0)+IF(D14="RTT",1,0) -> 0
A15: 23 | B15: BLANLOEIL | C15: MYRIAM | D15: 8 | E15: 7 | H15: CP | I15: CP | J15: CP | K15: CP | L15: CP | O15: CP | P15: CP | Q15: CP | S15: CP | V15: CP | W15: CP | X15: CP | Y15: CP | Z15: CP | AC15: 8 | AD15: 8 | AE15: 8 | AF15: 8 | AG15: 7 | AI15: =SUM(D15:AH15) -> 54 | AJ15: =IF(D15="CP",1,0)+IF(E15="CP",1,0)+IF(F15="CP",1,0)+IF(G15="CP",1,0)+IF(H15="CP",1,0)+IF(I15="CP",1,0)+IF(J15="CP",1,0)+IF(K15="CP",1,0)+IF(L15="CP",1,0)+IF(M15="CP",1,0)+IF(N15="CP",1,0)+IF(O15="CP",1,0)+IF(P15="CP",1,0)+IF(Q15="CP",1,0)+IF(R15="CP",1,0)+IF(S15="CP",1,0)+IF(T15="CP",1,0)+IF(U15="CP",1,0)+IF(V15="CP",1,0)+IF(W15="CP",1,0)+IF(X15="CP",1,0)+IF(Y15="CP",1,0)+IF(Z15="CP",1,0)+IF(AA15="CP",1,0)+IF(AB15="CP",1,0)+IF(AD15="CP",1,0)+IF(AE15="CP",1,0)+IF(AF15="CP",1,0)+IF(AG15="CP",1,0)+IF(AH15="CP",1,0)+IF(AC15="CP",1,0) -> 14 | AK15: =IF(E15="RTT",1,0)+IF(F15="RTT",1,0)+IF(G15="RTT",1,0)+IF(H15="RTT",1,0)+IF(I15="RTT",1,0)+IF(J15="RTT",1,0)+IF(K15="RTT",1,0)+IF(L15="RTT",1,0)+IF(M15="RTT",1,0)+IF(N15="RTT",1,0)+IF(O15="RTT",1,0)+IF(P15="RTT",1,0)+IF(Q15="RTT",1,0)+IF(R15="RTT",1,0)+IF(S15="RTT",1,0)+IF(T15="RTT",1,0)+IF(U15="RTT",1,0)+IF(V15="RTT",1,0)+IF(W15="RTT",1,0)+IF(X15="RTT",1,0)+IF(Y15="RTT",1,0)+IF(Z15="RTT",1,0)+IF(AA15="RTT",1,0)+IF(AB15="RTT",1,0)+IF(AC15="RTT",1,0)+IF(AE15="RTT",1,0)+IF(AF15="RTT",1,0)+IF(AG15="RTT",1,0)+IF(AH15="RTT",1,0)+IF(AD15="RTT",1,0)+IF(D15="RTT",1,0) -> 0
A16: 05 | B16: BRETEAU | C16: CHRISTELLE | D16: 8 | E16: 7 | H16: CP | I16: CP | J16: CP | K16: CP | L16: CP | O16: CP | P16: CP | Q16: CP | S16: CP | V16: CP | W16: CP | X16: CP | Y16: CP | Z16: CP | AC16: 8 | AD16: 8 | AE16: 8 | AF16: 8 | AG16: 7 | AI16: =SUM(D16:AH16) -> 54 | AJ16: =IF(D16="CP",1,0)+IF(E16="CP",1,0)+IF(F16="CP",1,0)+IF(G16="CP",1,0)+IF(H16="CP",1,0)+IF(I16="CP",1,0)+IF(J16="CP",1,0)+IF(K16="CP",1,0)+IF(L16="CP",1,0)+IF(M16="CP",1,0)+IF(N16="CP",1,0)+IF(O16="CP",1,0)+IF(P16="CP",1,0)+IF(Q16="CP",1,0)+IF(R16="CP",1,0)+IF(S16="CP",1,0)+IF(T16="CP",1,0)+IF(U16="CP",1,0)+IF(V16="CP",1,0)+IF(W16="CP",1,0)+IF(X16="CP",1,0)+IF(Y16="CP",1,0)+IF(Z16="CP",1,0)+IF(AA16="CP",1,0)+IF(AB16="CP",1,0)+IF(AD16="CP",1,0)+IF(AE16="CP",1,0)+IF(AF16="CP",1,0)+IF(AG16="CP",1,0)+IF(AH16="CP",1,0)+IF(AC16="CP",1,0) -> 14 | AK16: =IF(E16="RTT",1,0)+IF(F16="RTT",1,0)+IF(G16="RTT",1,0)+IF(H16="RTT",1,0)+IF(I16="RTT",1,0)+IF(J16="RTT",1,0)+IF(K16="RTT",1,0)+IF(L16="RTT",1,0)+IF(M16="RTT",1,0)+IF(N16="RTT",1,0)+IF(O16="RTT",1,0)+IF(P16="RTT",1,0)+IF(Q16="RTT",1,0)+IF(R16="RTT",1,0)+IF(S16="RTT",1,0)+IF(T16="RTT",1,0)+IF(U16="RTT",1,0)+IF(V16="RTT",1,0)+IF(W16="RTT",1,0)+IF(X16="RTT",1,0)+IF(Y16="RTT",1,0)+IF(Z16="RTT",1,0)+IF(AA16="RTT",1,0)+IF(AB16="RTT",1,0)+IF(AC16="RTT",1,0)+IF(AE16="RTT",1,0)+IF(AF16="RTT",1,0)+IF(AG16="RTT",1,0)+IF(AH16="RTT",1,0)+IF(AD16="RTT",1,0)+IF(D16="RTT",1,0) -> 0
A17: 04 | B17: CHAUVIRE | C17: ALINE | D17: 8 | E17: 7 | H17: CP | I17: CP | J17: CP | K17: CP | L17: CP | O17: CP | P17: CP | Q17: CP | S17: CP | V17: CP | W17: CP | X17: CP | Y17: CP | Z17: CP | AC17: 8 | AD17: 8 | AE17: 8 | AF17: 8 | AG17: 7 | AI17: =SUM(D17:AH17) -> 54 | AJ17: =IF(D17="CP",1,0)+IF(E17="CP",1,0)+IF(F17="CP",1,0)+IF(G17="CP",1,0)+IF(H17="CP",1,0)+IF(I17="CP",1,0)+IF(J17="CP",1,0)+IF(K17="CP",1,0)+IF(L17="CP",1,0)+IF(M17="CP",1,0)+IF(N17="CP",1,0)+IF(O17="CP",1,0)+IF(P17="CP",1,0)+IF(Q17="CP",1,0)+IF(R17="CP",1,0)+IF(S17="CP",1,0)+IF(T17="CP",1,0)+IF(U17="CP",1,0)+IF(V17="CP",1,0)+IF(W17="CP",1,0)+IF(X17="CP",1,0)+IF(Y17="CP",1,0)+IF(Z17="CP",1,0)+IF(AA17="CP",1,0)+IF(AB17="CP",1,0)+IF(AD17="CP",1,0)+IF(AE17="CP",1,0)+IF(AF17="CP",1,0)+IF(AG17="CP",1,0)+IF(AH17="CP",1,0)+IF(AC17="CP",1,0) -> 14 | AK17: =IF(E17="RTT",1,0)+IF(F17="RTT",1,0)+IF(G17="RTT",1,0)+IF(H17="RTT",1,0)+IF(I17="RTT",1,0)+IF(J17="RTT",1,0)+IF(K17="RTT",1,0)+IF(L17="RTT",1,0)+IF(M17="RTT",1,0)+IF(N17="RTT",1,0)+IF(O17="RTT",1,0)+IF(P17="RTT",1,0)+IF(Q17="RTT",1,0)+IF(R17="RTT",1,0)+IF(S17="RTT",1,0)+IF(T17="RTT",1,0)+IF(U17="RTT",1,0)+IF(V17="RTT",1,0)+IF(W17="RTT",1,0)+IF(X17="RTT",1,0)+IF(Y17="RTT",1,0)+IF(Z17="RTT",1,0)+IF(AA17="RTT",1,0)+IF(AB17="RTT",1,0)+IF(AC17="RTT",1,0)+IF(AE17="RTT",1,0)+IF(AF17="RTT",1,0)+IF(AG17="RTT",1,0)+IF(AH17="RTT",1,0)+IF(AD17="RTT",1,0)+IF(D17="RTT",1,0) -> 0
A18: 07 | B18: CHIRON | C18: FRANCOISE | D18: 8 | E18: 7 | H18: CP | I18: CP | J18: CP | K18: CP | L18: CP | O18: CP | P18: CP | Q18: CP | S18: CP | V18: CP | W18: CP | X18: CP | Y18: CP | Z18: CP | AC18: 8 | AD18: 8 | AE18: 8 | AF18: 8 | AG18: 7 | AI18: =SUM(D18:AH18) -> 54 | AJ18: =IF(D18="CP",1,0)+IF(E18="CP",1,0)+IF(F18="CP",1,0)+IF(G18="CP",1,0)+IF(H18="CP",1,0)+IF(I18="CP",1,0)+IF(J18="CP",1,0)+IF(K18="CP",1,0)+IF(L18="CP",1,0)+IF(M18="CP",1,0)+IF(N18="CP",1,0)+IF(O18="CP",1,0)+IF(P18="CP",1,0)+IF(Q18="CP",1,0)+IF(R18="CP",1,0)+IF(S18="CP",1,0)+IF(T18="CP",1,0)+IF(U18="CP",1,0)+IF(V18="CP",1,0)+IF(W18="CP",1,0)+IF(X18="CP",1,0)+IF(Y18="CP",1,0)+IF(Z18="CP",1,0)+IF(AA18="CP",1,0)+IF(AB18="CP",1,0)+IF(AD18="CP",1,0)+IF(AE18="CP",1,0)+IF(AF18="CP",1,0)+IF(AG18="CP",1,0)+IF(AH18="CP",1,0)+IF(AC18="CP",1,0) -> 14 | AK18: =IF(E18="RTT",1,0)+IF(F18="RTT",1,0)+IF(G18="RTT",1,0)+IF(H18="RTT",1,0)+IF(I18="RTT",1,0)+IF(J18="RTT",1,0)+IF(K18="RTT",1,0)+IF(L18="RTT",1,0)+IF(M18="RTT",1,0)+IF(N18="RTT",1,0)+IF(O18="RTT",1,0)+IF(P18="RTT",1,0)+IF(Q18="RTT",1,0)+IF(R18="RTT",1,0)+IF(S18="RTT",1,0)+IF(T18="RTT",1,0)+IF(U18="RTT",1,0)+IF(V18="RTT",1,0)+IF(W18="RTT",1,0)+IF(X18="RTT",1,0)+IF(Y18="RTT",1,0)+IF(Z18="RTT",1,0)+IF(AA18="RTT",1,0)+IF(AB18="RTT",1,0)+IF(AC18="RTT",1,0)+IF(AE18="RTT",1,0)+IF(AF18="RTT",1,0)+IF(AG18="RTT",1,0)+IF(AH18="RTT",1,0)+IF(AD18="RTT",1,0)+IF(D18="RTT",1,0) -> 0
A19: 20 | B19: CHUDEAU | C19: ROMANE | D19: 8 | E19: 7 | H19: CP | I19: CP | J19: CP | K19: CP | L19: CP | O19: CP | P19: CP | Q19: CP | S19: CP | V19: CP | W19: CP | X19: CP | Y19: CP | Z19: CP | AC19: 8 | AD19: 8 | AE19: 8 | AF19: 8 | AG19: 7 | AI19: =SUM(D19:AH19) -> 54 | AJ19: =IF(D19="CP",1,0)+IF(E19="CP",1,0)+IF(F19="CP",1,0)+IF(G19="CP",1,0)+IF(H19="CP",1,0)+IF(I19="CP",1,0)+IF(J19="CP",1,0)+IF(K19="CP",1,0)+IF(L19="CP",1,0)+IF(M19="CP",1,0)+IF(N19="CP",1,0)+IF(O19="CP",1,0)+IF(P19="CP",1,0)+IF(Q19="CP",1,0)+IF(R19="CP",1,0)+IF(S19="CP",1,0)+IF(T19="CP",1,0)+IF(U19="CP",1,0)+IF(V19="CP",1,0)+IF(W19="CP",1,0)+IF(X19="CP",1,0)+IF(Y19="CP",1,0)+IF(Z19="CP",1,0)+IF(AA19="CP",1,0)+IF(AB19="CP",1,0)+IF(AD19="CP",1,0)+IF(AE19="CP",1,0)+IF(AF19="CP",1,0)+IF(AG19="CP",1,0)+IF(AH19="CP",1,0)+IF(AC19="CP",1,0) -> 14 | AK19: =IF(E19="RTT",1,0)+IF(F19="RTT",1,0)+IF(G19="RTT",1,0)+IF(H19="RTT",1,0)+IF(I19="RTT",1,0)+IF(J19="RTT",1,0)+IF(K19="RTT",1,0)+IF(L19="RTT",1,0)+IF(M19="RTT",1,0)+IF(N19="RTT",1,0)+IF(O19="RTT",1,0)+IF(P19="RTT",1,0)+IF(Q19="RTT",1,0)+IF(R19="RTT",1,0)+IF(S19="RTT",1,0)+IF(T19="RTT",1,0)+IF(U19="RTT",1,0)+IF(V19="RTT",1,0)+IF(W19="RTT",1,0)+IF(X19="RTT",1,0)+IF(Y19="RTT",1,0)+IF(Z19="RTT",1,0)+IF(AA19="RTT",1,0)+IF(AB19="RTT",1,0)+IF(AC19="RTT",1,0)+IF(AE19="RTT",1,0)+IF(AF19="RTT",1,0)+IF(AG19="RTT",1,0)+IF(AH19="RTT",1,0)+IF(AD19="RTT",1,0)+IF(D19="RTT",1,0) -> 0
A20: 21 | B20: CONTIN | C20: ARMAND | D20: 8 | E20: 7 | H20: CP | I20: CP | J20: CP | K20: CP | L20: CP | O20: CP | P20: CP | Q20: CP | S20: CP | V20: CP | W20: CP | X20: CP | Y20: CP | Z20: CP | AC20: 8 | AD20: 8 | AE20: 8 | AF20: 8 | AG20: 7 | AI20: =SUM(D20:AH20) -> 54 | AJ20: =IF(D20="CP",1,0)+IF(E20="CP",1,0)+IF(F20="CP",1,0)+IF(G20="CP",1,0)+IF(H20="CP",1,0)+IF(I20="CP",1,0)+IF(J20="CP",1,0)+IF(K20="CP",1,0)+IF(L20="CP",1,0)+IF(M20="CP",1,0)+IF(N20="CP",1,0)+IF(O20="CP",1,0)+IF(P20="CP",1,0)+IF(Q20="CP",1,0)+IF(R20="CP",1,0)+IF(S20="CP",1,0)+IF(T20="CP",1,0)+IF(U20="CP",1,0)+IF(V20="CP",1,0)+IF(W20="CP",1,0)+IF(X20="CP",1,0)+IF(Y20="CP",1,0)+IF(Z20="CP",1,0)+IF(AA20="CP",1,0)+IF(AB20="CP",1,0)+IF(AD20="CP",1,0)+IF(AE20="CP",1,0)+IF(AF20="CP",1,0)+IF(AG20="CP",1,0)+IF(AH20="CP",1,0)+IF(AC20="CP",1,0) -> 14 | AK20: =IF(E20="RTT",1,0)+IF(F20="RTT",1,0)+IF(G20="RTT",1,0)+IF(H20="RTT",1,0)+IF(I20="RTT",1,0)+IF(J20="RTT",1,0)+IF(K20="RTT",1,0)+IF(L20="RTT",1,0)+IF(M20="RTT",1,0)+IF(N20="RTT",1,0)+IF(O20="RTT",1,0)+IF(P20="RTT",1,0)+IF(Q20="RTT",1,0)+IF(R20="RTT",1,0)+IF(S20="RTT",1,0)+IF(T20="RTT",1,0)+IF(U20="RTT",1,0)+IF(V20="RTT",1,0)+IF(W20="RTT",1,0)+IF(X20="RTT",1,0)+IF(Y20="RTT",1,0)+IF(Z20="RTT",1,0)+IF(AA20="RTT",1,0)+IF(AB20="RTT",1,0)+IF(AC20="RTT",1,0)+IF(AE20="RTT",1,0)+IF(AF20="RTT",1,0)+IF(AG20="RTT",1,0)+IF(AH20="RTT",1,0)+IF(AD20="RTT",1,0)+IF(D20="RTT",1,0) -> 0
A21: 09 | B21: COUVREUX | C21: FLORA | D21: 8 | E21: 7 | H21: CP | I21: CP | J21: CP | K21: CP | L21: CP | O21: CP | P21: CP | Q21: CP | S21: CP | V21: CP | W21: CP | X21: CP | Y21: CP | Z21: CP | AC21: 8 | AD21: 8 | AE21: 8 | AF21: 8 | AG21: 7 | AI21: =SUM(D21:AH21) -> 54 | AJ21: =IF(D21="CP",1,0)+IF(E21="CP",1,0)+IF(F21="CP",1,0)+IF(G21="CP",1,0)+IF(H21="CP",1,0)+IF(I21="CP",1,0)+IF(J21="CP",1,0)+IF(K21="CP",1,0)+IF(L21="CP",1,0)+IF(M21="CP",1,0)+IF(N21="CP",1,0)+IF(O21="CP",1,0)+IF(P21="CP",1,0)+IF(Q21="CP",1,0)+IF(R21="CP",1,0)+IF(S21="CP",1,0)+IF(T21="CP",1,0)+IF(U21="CP",1,0)+IF(V21="CP",1,0)+IF(W21="CP",1,0)+IF(X21="CP",1,0)+IF(Y21="CP",1,0)+IF(Z21="CP",1,0)+IF(AA21="CP",1,0)+IF(AB21="CP",1,0)+IF(AD21="CP",1,0)+IF(AE21="CP",1,0)+IF(AF21="CP",1,0)+IF(AG21="CP",1,0)+IF(AH21="CP",1,0)+IF(AC21="CP",1,0) -> 14 | AK21: =IF(E21="RTT",1,0)+IF(F21="RTT",1,0)+IF(G21="RTT",1,0)+IF(H21="RTT",1,0)+IF(I21="RTT",1,0)+IF(J21="RTT",1,0)+IF(K21="RTT",1,0)+IF(L21="RTT",1,0)+IF(M21="RTT",1,0)+IF(N21="RTT",1,0)+IF(O21="RTT",1,0)+IF(P21="RTT",1,0)+IF(Q21="RTT",1,0)+IF(R21="RTT",1,0)+IF(S21="RTT",1,0)+IF(T21="RTT",1,0)+IF(U21="RTT",1,0)+IF(V21="RTT",1,0)+IF(W21="RTT",1,0)+IF(X21="RTT",1,0)+IF(Y21="RTT",1,0)+IF(Z21="RTT",1,0)+IF(AA21="RTT",1,0)+IF(AB21="RTT",1,0)+IF(AC21="RTT",1,0)+IF(AE21="RTT",1,0)+IF(AF21="RTT",1,0)+IF(AG21="RTT",1,0)+IF(AH21="RTT",1,0)+IF(AD21="RTT",1,0)+IF(D21="RTT",1,0) -> 0
A22: 10 | B22: DEKHIL | C22: HENNACHI | D22: 8 | E22: 7 | H22: CP | I22: CP | J22: CP | K22: CP | L22: CP | O22: CP | P22: CP | Q22: CP | S22: CP | V22: CP | W22: CP | X22: CP | Y22: CP | Z22: CP | AC22: 8 | AD22: 8 | AE22: 8 | AF22: 8 | AG22: 7 | AI22: =SUM(D22:AH22) -> 54 | AJ22: =IF(D22="CP",1,0)+IF(E22="CP",1,0)+IF(F22="CP",1,0)+IF(G22="CP",1,0)+IF(H22="CP",1,0)+IF(I22="CP",1,0)+IF(J22="CP",1,0)+IF(K22="CP",1,0)+IF(L22="CP",1,0)+IF(M22="CP",1,0)+IF(N22="CP",1,0)+IF(O22="CP",1,0)+IF(P22="CP",1,0)+IF(Q22="CP",1,0)+IF(R22="CP",1,0)+IF(S22="CP",1,0)+IF(T22="CP",1,0)+IF(U22="CP",1,0)+IF(V22="CP",1,0)+IF(W22="CP",1,0)+IF(X22="CP",1,0)+IF(Y22="CP",1,0)+IF(Z22="CP",1,0)+IF(AA22="CP",1,0)+IF(AB22="CP",1,0)+IF(AD22="CP",1,0)+IF(AE22="CP",1,0)+IF(AF22="CP",1,0)+IF(AG22="CP",1,0)+IF(AH22="CP",1,0)+IF(AC22="CP",1,0) -> 14 | AK22: =IF(E22="RTT",1,0)+IF(F22="RTT",1,0)+IF(G22="RTT",1,0)+IF(H22="RTT",1,0)+IF(I22="RTT",1,0)+IF(J22="RTT",1,0)+IF(K22="RTT",1,0)+IF(L22="RTT",1,0)+IF(M22="RTT",1,0)+IF(N22="RTT",1,0)+IF(O22="RTT",1,0)+IF(P22="RTT",1,0)+IF(Q22="RTT",1,0)+IF(R22="RTT",1,0)+IF(S22="RTT",1,0)+IF(T22="RTT",1,0)+IF(U22="RTT",1,0)+IF(V22="RTT",1,0)+IF(W22="RTT",1,0)+IF(X22="RTT",1,0)+IF(Y22="RTT",1,0)+IF(Z22="RTT",1,0)+IF(AA22="RTT",1,0)+IF(AB22="RTT",1,0)+IF(AC22="RTT",1,0)+IF(AE22="RTT",1,0)+IF(AF22="RTT",1,0)+IF(AG22="RTT",1,0)+IF(AH22="RTT",1,0)+IF(AD22="RTT",1,0)+IF(D22="RTT",1,0) -> 0
A23: 12 | B23: GOURDON | C23: KATIA | D23: 8 | E23: 7 | H23: CP | I23: CP | J23: CP | K23: CP | L23: CP | O23: CP | P23: CP | Q23: CP | S23: CP | V23: CP | W23: CP | X23: CP | Y23: CP | Z23: CP | AC23: 8 | AD23: 8 | AE23: 8 | AF23: 8 | AG23: 7 | AI23: =SUM(D23:AH23) -> 54 | AJ23: =IF(D23="CP",1,0)+IF(E23="CP",1,0)+IF(F23="CP",1,0)+IF(G23="CP",1,0)+IF(H23="CP",1,0)+IF(I23="CP",1,0)+IF(J23="CP",1,0)+IF(K23="CP",1,0)+IF(L23="CP",1,0)+IF(M23="CP",1,0)+IF(N23="CP",1,0)+IF(O23="CP",1,0)+IF(P23="CP",1,0)+IF(Q23="CP",1,0)+IF(R23="CP",1,0)+IF(S23="CP",1,0)+IF(T23="CP",1,0)+IF(U23="CP",1,0)+IF(V23="CP",1,0)+IF(W23="CP",1,0)+IF(X23="CP",1,0)+IF(Y23="CP",1,0)+IF(Z23="CP",1,0)+IF(AA23="CP",1,0)+IF(AB23="CP",1,0)+IF(AD23="CP",1,0)+IF(AE23="CP",1,0)+IF(AF23="CP",1,0)+IF(AG23="CP",1,0)+IF(AH23="CP",1,0)+IF(AC23="CP",1,0) -> 14 | AK23: =IF(E23="RTT",1,0)+IF(F23="RTT",1,0)+IF(G23="RTT",1,0)+IF(H23="RTT",1,0)+IF(I23="RTT",1,0)+IF(J23="RTT",1,0)+IF(K23="RTT",1,0)+IF(L23="RTT",1,0)+IF(M23="RTT",1,0)+IF(N23="RTT",1,0)+IF(O23="RTT",1,0)+IF(P23="RTT",1,0)+IF(Q23="RTT",1,0)+IF(R23="RTT",1,0)+IF(S23="RTT",1,0)+IF(T23="RTT",1,0)+IF(U23="RTT",1,0)+IF(V23="RTT",1,0)+IF(W23="RTT",1,0)+IF(X23="RTT",1,0)+IF(Y23="RTT",1,0)+IF(Z23="RTT",1,0)+IF(AA23="RTT",1,0)+IF(AB23="RTT",1,0)+IF(AC23="RTT",1,0)+IF(AE23="RTT",1,0)+IF(AF23="RTT",1,0)+IF(AG23="RTT",1,0)+IF(AH23="RTT",1,0)+IF(AD23="RTT",1,0)+IF(D23="RTT",1,0) -> 0
... A34: 16 | B34: TRIOLET | C34: FANNY | D34: 8 | E34: 7 | H34: CP | I34: CP | J34: CP | K34: CP | L34: CP | O34: CP | P34: CP | Q34: CP | S34: CP | V34: CP | W34: CP | X34: CP | Y34: CP | Z34: CP | AC34: 8 | AD34: 8 | AE34: 8 | AF34: 8 | AG34: 7 | AI34: =SUM(D34:AH34) -> 54 | AJ34: =IF(D34="CP",1,0)+IF(E34="CP",1,0)+IF(F34="CP",1,0)+IF(G34="CP",1,0)+IF(H34="CP",1,0)+IF(I34="CP",1,0)+IF(J34="CP",1,0)+IF(K34="CP",1,0)+IF(L34="CP",1,0)+IF(M34="CP",1,0)+IF(N34="CP",1,0)+IF(O34="CP",1,0)+IF(P34="CP",1,0)+IF(Q34="CP",1,0)+IF(R34="CP",1,0)+IF(S34="CP",1,0)+IF(T34="CP",1,0)+IF(U34="CP",1,0)+IF(V34="CP",1,0)+IF(W34="CP",1,0)+IF(X34="CP",1,0)+IF(Y34="CP",1,0)+IF(Z34="CP",1,0)+IF(AA34="CP",1,0)+IF(AB34="CP",1,0)+IF(AD34="CP",1,0)+IF(AE34="CP",1,0)+IF(AF34="CP",1,0)+IF(AG34="CP",1,0)+IF(AH34="CP",1,0)+IF(AC34="CP",1,0) -> 14 | AK34: =IF(E34="RTT",1,0)+IF(F34="RTT",1,0)+IF(G34="RTT",1,0)+IF(H34="RTT",1,0)+IF(I34="RTT",1,0)+IF(J34="RTT",1,0)+IF(K34="RTT",1,0)+IF(L34="RTT",1,0)+IF(M34="RTT",1,0)+IF(N34="RTT",1,0)+IF(O34="RTT",1,0)+IF(P34="RTT",1,0)+IF(Q34="RTT",1,0)+IF(R34="RTT",1,0)+IF(S34="RTT",1,0)+IF(T34="RTT",1,0)+IF(U34="RTT",1,0)+IF(V34="RTT",1,0)+IF(W34="RTT",1,0)+IF(X34="RTT",1,0)+IF(Y34="RTT",1,0)+IF(Z34="RTT",1,0)+IF(AA34="RTT",1,0)+IF(AB34="RTT",1,0)+IF(AC34="RTT",1,0)+IF(AE34="RTT",1,0)+IF(AF34="RTT",1,0)+IF(AG34="RTT",1,0)+IF(AH34="RTT",1,0)+IF(AD34="RTT",1,0)+IF(D34="RTT",1,0) -> 0
A37: SAISONNIERS
A38: z101 | B38: BIOTTEAU | C38: FLORIAN | D38: 8 | E38: 7 | H38: CP | I38: CP | J38: CP | K38: CP | L38: CP | O38: CP | P38: CP | Q38: CP | S38: CP | V38: CP | W38: CP | X38: CP | Y38: CP | Z38: CP | AC38: 8 | AD38: 8 | AE38: 8 | AF38: 8 | AG38: 7 | AI38: =SUM(D38:AH38) -> 54 | AJ38: =IF(D38="CP",1,0)+IF(E38="CP",1,0)+IF(F38="CP",1,0)+IF(G38="CP",1,0)+IF(H38="CP",1,0)+IF(I38="CP",1,0)+IF(J38="CP",1,0)+IF(K38="CP",1,0)+IF(L38="CP",1,0)+IF(M38="CP",1,0)+IF(N38="CP",1,0)+IF(O38="CP",1,0)+IF(P38="CP",1,0)+IF(Q38="CP",1,0)+IF(R38="CP",1,0)+IF(S38="CP",1,0)+IF(T38="CP",1,0)+IF(U38="CP",1,0)+IF(V38="CP",1,0)+IF(W38="CP",1,0)+IF(X38="CP",1,0)+IF(Y38="CP",1,0)+IF(Z38="CP",1,0)+IF(AA38="CP",1,0)+IF(AB38="CP",1,0)+IF(AD38="CP",1,0)+IF(AE38="CP",1,0)+IF(AF38="CP",1,0)+IF(AG38="CP",1,0)+IF(AH38="CP",1,0)+IF(AC38="CP",1,0) -> 14 | AK38: =IF(E38="RTT",1,0)+IF(F38="RTT",1,0)+IF(G38="RTT",1,0)+IF(H38="RTT",1,0)+IF(I38="RTT",1,0)+IF(J38="RTT",1,0)+IF(K38="RTT",1,0)+IF(L38="RTT",1,0)+IF(M38="RTT",1,0)+IF(N38="RTT",1,0)+IF(O38="RTT",1,0)+IF(P38="RTT",1,0)+IF(Q38="RTT",1,0)+IF(R38="RTT",1,0)+IF(S38="RTT",1,0)+IF(T38="RTT",1,0)+IF(U38="RTT",1,0)+IF(V38="RTT",1,0)+IF(W38="RTT",1,0)+IF(X38="RTT",1,0)+IF(Y38="RTT",1,0)+IF(Z38="RTT",1,0)+IF(AA38="RTT",1,0)+IF(AB38="RTT",1,0)+IF(AC38="RTT",1,0)+IF(AE38="RTT",1,0)+IF(AF38="RTT",1,0)+IF(AG38="RTT",1,0)+IF(AH38="RTT",1,0)+IF(AD38="RTT",1,0)+IF(D38="RTT",1,0) -> 0
A39: z102 | B39: ALLA | C39: CHIARA | D39: 8 | E39: 7 | H39: CP | I39: CP | J39: CP | K39: CP | L39: CP | O39: CP | P39: CP | Q39: CP | S39: CP | V39: CP | W39: CP | X39: CP | Y39: CP | Z39: CP | AC39: 8 | AD39: 8 | AE39: 8 | AF39: 8 | AG39: 7 | AI39: =SUM(D39:AH39) -> 54 | AJ39: =IF(D39="CP",1,0)+IF(E39="CP",1,0)+IF(F39="CP",1,0)+IF(G39="CP",1,0)+IF(H39="CP",1,0)+IF(I39="CP",1,0)+IF(J39="CP",1,0)+IF(K39="CP",1,0)+IF(L39="CP",1,0)+IF(M39="CP",1,0)+IF(N39="CP",1,0)+IF(O39="CP",1,0)+IF(P39="CP",1,0)+IF(Q39="CP",1,0)+IF(R39="CP",1,0)+IF(S39="CP",1,0)+IF(T39="CP",1,0)+IF(U39="CP",1,0)+IF(V39="CP",1,0)+IF(W39="CP",1,0)+IF(X39="CP",1,0)+IF(Y39="CP",1,0)+IF(Z39="CP",1,0)+IF(AA39="CP",1,0)+IF(AB39="CP",1,0)+IF(AD39="CP",1,0)+IF(AE39="CP",1,0)+IF(AF39="CP",1,0)+IF(AG39="CP",1,0)+IF(AH39="CP",1,0)+IF(AC39="CP",1,0) -> 14 | AK39: =IF(E39="RTT",1,0)+IF(F39="RTT",1,0)+IF(G39="RTT",1,0)+IF(H39="RTT",1,0)+IF(I39="RTT",1,0)+IF(J39="RTT",1,0)+IF(K39="RTT",1,0)+IF(L39="RTT",1,0)+IF(M39="RTT",1,0)+IF(N39="RTT",1,0)+IF(O39="RTT",1,0)+IF(P39="RTT",1,0)+IF(Q39="RTT",1,0)+IF(R39="RTT",1,0)+IF(S39="RTT",1,0)+IF(T39="RTT",1,0)+IF(U39="RTT",1,0)+IF(V39="RTT",1,0)+IF(W39="RTT",1,0)+IF(X39="RTT",1,0)+IF(Y39="RTT",1,0)+IF(Z39="RTT",1,0)+IF(AA39="RTT",1,0)+IF(AB39="RTT",1,0)+IF(AC39="RTT",1,0)+IF(AE39="RTT",1,0)+IF(AF39="RTT",1,0)+IF(AG39="RTT",1,0)+IF(AH39="RTT",1,0)+IF(AD39="RTT",1,0)+IF(D39="RTT",1,0) -> 0
A40: z103 | B40: BAUMARD | C40: CLEMENT | D40: 8 | E40: 7 | H40: CP | I40: CP | J40: CP | K40: CP | L40: CP | O40: CP | P40: CP | Q40: CP | S40: CP | V40: CP | W40: CP | X40: CP | Y40: CP | Z40: CP | AC40: 8 | AD40: 8 | AE40: 8 | AF40: 8 | AG40: 7 | AI40: =SUM(D40:AH40) -> 54 | AJ40: =IF(D40="CP",1,0)+IF(E40="CP",1,0)+IF(F40="CP",1,0)+IF(G40="CP",1,0)+IF(H40="CP",1,0)+IF(I40="CP",1,0)+IF(J40="CP",1,0)+IF(K40="CP",1,0)+IF(L40="CP",1,0)+IF(M40="CP",1,0)+IF(N40="CP",1,0)+IF(O40="CP",1,0)+IF(P40="CP",1,0)+IF(Q40="CP",1,0)+IF(R40="CP",1,0)+IF(S40="CP",1,0)+IF(T40="CP",1,0)+IF(U40="CP",1,0)+IF(V40="CP",1,0)+IF(W40="CP",1,0)+IF(X40="CP",1,0)+IF(Y40="CP",1,0)+IF(Z40="CP",1,0)+IF(AA40="CP",1,0)+IF(AB40="CP",1,0)+IF(AD40="CP",1,0)+IF(AE40="CP",1,0)+IF(AF40="CP",1,0)+IF(AG40="CP",1,0)+IF(AH40="CP",1,0)+IF(AC40="CP",1,0) -> 14 | AK40: =IF(E40="RTT",1,0)+IF(F40="RTT",1,0)+IF(G40="RTT",1,0)+IF(H40="RTT",1,0)+IF(I40="RTT",1,0)+IF(J40="RTT",1,0)+IF(K40="RTT",1,0)+IF(L40="RTT",1,0)+IF(M40="RTT",1,0)+IF(N40="RTT",1,0)+IF(O40="RTT",1,0)+IF(P40="RTT",1,0)+IF(Q40="RTT",1,0)+IF(R40="RTT",1,0)+IF(S40="RTT",1,0)+IF(T40="RTT",1,0)+IF(U40="RTT",1,0)+IF(V40="RTT",1,0)+IF(W40="RTT",1,0)+IF(X40="RTT",1,0)+IF(Y40="RTT",1,0)+IF(Z40="RTT",1,0)+IF(AA40="RTT",1,0)+IF(AB40="RTT",1,0)+IF(AC40="RTT",1,0)+IF(AE40="RTT",1,0)+IF(AF40="RTT",1,0)+IF(AG40="RTT",1,0)+IF(AH40="RTT",1,0)+IF(AD40="RTT",1,0)+IF(D40="RTT",1,0) -> 0
A41: z104 | B41: GRIMAULT | C41: EMMA | D41: 8 | E41: 7 | H41: CP | I41: CP | J41: CP | K41: CP | L41: CP | O41: CP | P41: CP | Q41: CP | S41: CP | V41: CP | W41: CP | X41: CP | Y41: CP | Z41: CP | AC41: 8 | AD41: 8 | AE41: 8 | AF41: 8 | AG41: 7 | AI41: =SUM(D41:AH41) -> 54 | AJ41: =IF(D41="CP",1,0)+IF(E41="CP",1,0)+IF(F41="CP",1,0)+IF(G41="CP",1,0)+IF(H41="CP",1,0)+IF(I41="CP",1,0)+IF(J41="CP",1,0)+IF(K41="CP",1,0)+IF(L41="CP",1,0)+IF(M41="CP",1,0)+IF(N41="CP",1,0)+IF(O41="CP",1,0)+IF(P41="CP",1,0)+IF(Q41="CP",1,0)+IF(R41="CP",1,0)+IF(S41="CP",1,0)+IF(T41="CP",1,0)+IF(U41="CP",1,0)+IF(V41="CP",1,0)+IF(W41="CP",1,0)+IF(X41="CP",1,0)+IF(Y41="CP",1,0)+IF(Z41="CP",1,0)+IF(AA41="CP",1,0)+IF(AB41="CP",1,0)+IF(AD41="CP",1,0)+IF(AE41="CP",1,0)+IF(AF41="CP",1,0)+IF(AG41="CP",1,0)+IF(AH41="CP",1,0)+IF(AC41="CP",1,0) -> 14 | AK41: =IF(E41="RTT",1,0)+IF(F41="RTT",1,0)+IF(G41="RTT",1,0)+IF(H41="RTT",1,0)+IF(I41="RTT",1,0)+IF(J41="RTT",1,0)+IF(K41="RTT",1,0)+IF(L41="RTT",1,0)+IF(M41="RTT",1,0)+IF(N41="RTT",1,0)+IF(O41="RTT",1,0)+IF(P41="RTT",1,0)+IF(Q41="RTT",1,0)+IF(R41="RTT",1,0)+IF(S41="RTT",1,0)+IF(T41="RTT",1,0)+IF(U41="RTT",1,0)+IF(V41="RTT",1,0)+IF(W41="RTT",1,0)+IF(X41="RTT",1,0)+IF(Y41="RTT",1,0)+IF(Z41="RTT",1,0)+IF(AA41="RTT",1,0)+IF(AB41="RTT",1,0)+IF(AC41="RTT",1,0)+IF(AE41="RTT",1,0)+IF(AF41="RTT",1,0)+IF(AG41="RTT",1,0)+IF(AH41="RTT",1,0)+IF(AD41="RTT",1,0)+IF(D41="RTT",1,0) -> 0
A42: z105 | B42: BRETEAU | C42: HELENA | D42: 8 | E42: 7 | H42: CP | I42: CP | J42: CP | K42: CP | L42: CP | O42: CP | P42: CP | Q42: CP | S42: CP | V42: CP | W42: CP | X42: CP | Y42: CP | Z42: CP | AC42: 8 | AD42: 8 | AE42: 8 | AF42: 8 | AG42: 7 | AI42: =SUM(D42:AH42) -> 54 | AJ42: =IF(D42="CP",1,0)+IF(E42="CP",1,0)+IF(F42="CP",1,0)+IF(G42="CP",1,0)+IF(H42="CP",1,0)+IF(I42="CP",1,0)+IF(J42="CP",1,0)+IF(K42="CP",1,0)+IF(L42="CP",1,0)+IF(M42="CP",1,0)+IF(N42="CP",1,0)+IF(O42="CP",1,0)+IF(P42="CP",1,0)+IF(Q42="CP",1,0)+IF(R42="CP",1,0)+IF(S42="CP",1,0)+IF(T42="CP",1,0)+IF(U42="CP",1,0)+IF(V42="CP",1,0)+IF(W42="CP",1,0)+IF(X42="CP",1,0)+IF(Y42="CP",1,0)+IF(Z42="CP",1,0)+IF(AA42="CP",1,0)+IF(AB42="CP",1,0)+IF(AD42="CP",1,0)+IF(AE42="CP",1,0)+IF(AF42="CP",1,0)+IF(AG42="CP",1,0)+IF(AH42="CP",1,0)+IF(AC42="CP",1,0) -> 14 | AK42: =IF(E42="RTT",1,0)+IF(F42="RTT",1,0)+IF(G42="RTT",1,0)+IF(H42="RTT",1,0)+IF(I42="RTT",1,0)+IF(J42="RTT",1,0)+IF(K42="RTT",1,0)+IF(L42="RTT",1,0)+IF(M42="RTT",1,0)+IF(N42="RTT",1,0)+IF(O42="RTT",1,0)+IF(P42="RTT",1,0)+IF(Q42="RTT",1,0)+IF(R42="RTT",1,0)+IF(S42="RTT",1,0)+IF(T42="RTT",1,0)+IF(U42="RTT",1,0)+IF(V42="RTT",1,0)+IF(W42="RTT",1,0)+IF(X42="RTT",1,0)+IF(Y42="RTT",1,0)+IF(Z42="RTT",1,0)+IF(AA42="RTT",1,0)+IF(AB42="RTT",1,0)+IF(AC42="RTT",1,0)+IF(AE42="RTT",1,0)+IF(AF42="RTT",1,0)+IF(AG42="RTT",1,0)+IF(AH42="RTT",1,0)+IF(AD42="RTT",1,0)+IF(D42="RTT",1,0) -> 0
A43: z106 | B43: BOULORD | C43: EVA | D43: 8 | E43: 7 | H43: CP | I43: CP | J43: CP | K43: CP | L43: CP | O43: CP | P43: CP | Q43: CP | S43: CP | V43: CP | W43: CP | X43: CP | Y43: CP | Z43: CP | AC43: 8 | AD43: 8 | AE43: 8 | AF43: 8 | AG43: 7 | AI43: =SUM(D43:AH43) -> 54 | AJ43: =IF(D43="CP",1,0)+IF(E43="CP",1,0)+IF(F43="CP",1,0)+IF(G43="CP",1,0)+IF(H43="CP",1,0)+IF(I43="CP",1,0)+IF(J43="CP",1,0)+IF(K43="CP",1,0)+IF(L43="CP",1,0)+IF(M43="CP",1,0)+IF(N43="CP",1,0)+IF(O43="CP",1,0)+IF(P43="CP",1,0)+IF(Q43="CP",1,0)+IF(R43="CP",1,0)+IF(S43="CP",1,0)+IF(T43="CP",1,0)+IF(U43="CP",1,0)+IF(V43="CP",1,0)+IF(W43="CP",1,0)+IF(X43="CP",1,0)+IF(Y43="CP",1,0)+IF(Z43="CP",1,0)+IF(AA43="CP",1,0)+IF(AB43="CP",1,0)+IF(AD43="CP",1,0)+IF(AE43="CP",1,0)+IF(AF43="CP",1,0)+IF(AG43="CP",1,0)+IF(AH43="CP",1,0)+IF(AC43="CP",1,0) -> 14 | AK43: =IF(E43="RTT",1,0)+IF(F43="RTT",1,0)+IF(G43="RTT",1,0)+IF(H43="RTT",1,0)+IF(I43="RTT",1,0)+IF(J43="RTT",1,0)+IF(K43="RTT",1,0)+IF(L43="RTT",1,0)+IF(M43="RTT",1,0)+IF(N43="RTT",1,0)+IF(O43="RTT",1,0)+IF(P43="RTT",1,0)+IF(Q43="RTT",1,0)+IF(R43="RTT",1,0)+IF(S43="RTT",1,0)+IF(T43="RTT",1,0)+IF(U43="RTT",1,0)+IF(V43="RTT",1,0)+IF(W43="RTT",1,0)+IF(X43="RTT",1,0)+IF(Y43="RTT",1,0)+IF(Z43="RTT",1,0)+IF(AA43="RTT",1,0)+IF(AB43="RTT",1,0)+IF(AC43="RTT",1,0)+IF(AE43="RTT",1,0)+IF(AF43="RTT",1,0)+IF(AG43="RTT",1,0)+IF(AH43="RTT",1,0)+IF(AD43="RTT",1,0)+IF(D43="RTT",1,0) -> 0
C46: NOTES SUPPLEMENTAIRES

Sheet Sept.
B1: 2019
B2: 9
C4: FICHE DE PRESENCE | Q4: MOIS | T4: SEPTEMBRE | Z4: 2019
C6: 21 | D6: jours
C8: SEMAINES | G8: 36 | N8: 37 | U8: 38 | AB8: 39 | AG8: 40
E9: L | F9: M | G9: M | H9: J | I9: V | L9: L | M9: M | N9: M | O9: J | P9: V | S9: L | T9: M | U9: M | V9: J | W9: V | Z9: L | AA9: M | AB9: M | AC9: J | AD9: V | AG9: L | AI9: H. TOT | AJ9: CP | AK9: RTT
C10: JOURS | D10: 1 | E10: 2 | F10: 3 | G10: 4 | H10: 5 | I10: 6 | J10: 7 | K10: 8 | L10: 9 | M10: 10 | N10: 11 | O10: 12 | P10: 13 | Q10: 14 | R10: 15 | S10: 16 | T10: 17 | U10: 18 | V10: 19 | W10: 20 | X10: 21 | Y10: 22 | Z10: 23 | AA10: 24 | AB10: 25 | AC10: 26 | AD10: 27 | AE10: 28 | AF10: 29 | AG10: 30 | AI10: TRAVAIL | AJ10: jours | AK10: jours
A12: 01 | B12: ABELARD | C12: AURELIE | E12: 8 | F12: 8 | G12: 8 | H12: 8 | I12: 7 | L12: 8 | M12: 8 | N12: 8 | O12: 8 | P12: 7 | S12: 8 | T12: 8 | U12: 8 | V12: 8 | W12: 7 | Z12: 8 | AA12: 8 | AB12: 8 | AC12: 8 | AD12: 7 | AG12: 8 | AI12: =SUM(D12:AH12) -> 164 | AJ12: =IF(D12="CP",1,0)+IF(E12="CP",1,0)+IF(F12="CP",1,0)+IF(G12="CP",1,0)+IF(H12="CP",1,0)+IF(I12="CP",1,0)+IF(J12="CP",1,0)+IF(K12="CP",1,0)+IF(L12="CP",1,0)+IF(M12="CP",1,0)+IF(N12="CP",1,0)+IF(O12="CP",1,0)+IF(P12="CP",1,0)+IF(Q12="CP",1,0)+IF(R12="CP",1,0)+IF(S12="CP",1,0)+IF(T12="CP",1,0)+IF(U12="CP",1,0)+IF(V12="CP",1,0)+IF(W12="CP",1,0)+IF(X12="CP",1,0)+IF(Y12="CP",1,0)+IF(Z12="CP",1,0)+IF(AA12="CP",1,0)+IF(AB12="CP",1,0)+IF(AD12="CP",1,0)+IF(AE12="CP",1,0)+IF(AF12="CP",1,0)+IF(AG12="CP",1,0)+IF(AH12="CP",1,0)+IF(AC12="CP",1,0) -> 0 | AK12: =IF(E12="RTT",1,0)+IF(F12="RTT",1,0)+IF(G12="RTT",1,0)+IF(H12="RTT",1,0)+IF(I12="RTT",1,0)+IF(J12="RTT",1,0)+IF(K12="RTT",1,0)+IF(L12="RTT",1,0)+IF(M12="RTT",1,0)+IF(N12="RTT",1,0)+IF(O12="RTT",1,0)+IF(P12="RTT",1,0)+IF(Q12="RTT",1,0)+IF(R12="RTT",1,0)+IF(S12="RTT",1,0)+IF(T12="RTT",1,0)+IF(U12="RTT",1,0)+IF(V12="RTT",1,0)+IF(W12="RTT",1,0)+IF(X12="RTT",1,0)+IF(Y12="RTT",1,0)+IF(Z12="RTT",1,0)+IF(AA12="RTT",1,0)+IF(AB12="RTT",1,0)+IF(AC12="RTT",1,0)+IF(AE12="RTT",1,0)+IF(AF12="RTT",1,0)+IF(AG12="RTT",1,0)+IF(AH12="RTT",1,0)+IF(AD12="RTT",1,0)+IF(D12="RTT",1,0) -> 0
A13: 02 | B13: AGOT | C13: DOMINIQUE | E13: 8 | F13: 8 | G13: 8 | H13: 8 | I13: 7 | L13: 8 | M13: 8 | N13: 8 | O13: 8 | P13: 7 | S13: 8 | T13: 8 | U13: 8 | V13: 8 | W13: 7 | Z13: 8 | AA13: 8 | AB13: 8 | AC13: 8 | AD13: 7 | AG13: 8 | AI13: =SUM(D13:AH13) -> 164 | AJ13: =IF(D13="CP",1,0)+IF(E13="CP",1,0)+IF(F13="CP",1,0)+IF(G13="CP",1,0)+IF(H13="CP",1,0)+IF(I13="CP",1,0)+IF(J13="CP",1,0)+IF(K13="CP",1,0)+IF(L13="CP",1,0)+IF(M13="CP",1,0)+IF(N13="CP",1,0)+IF(O13="CP",1,0)+IF(P13="CP",1,0)+IF(Q13="CP",1,0)+IF(R13="CP",1,0)+IF(S13="CP",1,0)+IF(T13="CP",1,0)+IF(U13="CP",1,0)+IF(V13="CP",1,0)+IF(W13="CP",1,0)+IF(X13="CP",1,0)+IF(Y13="CP",1,0)+IF(Z13="CP",1,0)+IF(AA13="CP",1,0)+IF(AB13="CP",1,0)+IF(AD13="CP",1,0)+IF(AE13="CP",1,0)+IF(AF13="CP",1,0)+IF(AG13="CP",1,0)+IF(AH13="CP",1,0)+IF(AC13="CP",1,0) -> 0 | AK13: =IF(E13="RTT",1,0)+IF(F13="RTT",1,0)+IF(G13="RTT",1,0)+IF(H13="RTT",1,0)+IF(I13="RTT",1,0)+IF(J13="RTT",1,0)+IF(K13="RTT",1,0)+IF(L13="RTT",1,0)+IF(M13="RTT",1,0)+IF(N13="RTT",1,0)+IF(O13="RTT",1,0)+IF(P13="RTT",1,0)+IF(Q13="RTT",1,0)+IF(R13="RTT",1,0)+IF(S13="RTT",1,0)+IF(T13="RTT",1,0)+IF(U13="RTT",1,0)+IF(V13="RTT",1,0)+IF(W13="RTT",1,0)+IF(X13="RTT",1,0)+IF(Y13="RTT",1,0)+IF(Z13="RTT",1,0)+IF(AA13="RTT",1,0)+IF(AB13="RTT",1,0)+IF(AC13="RTT",1,0)+IF(AE13="RTT",1,0)+IF(AF13="RTT",1,0)+IF(AG13="RTT",1,0)+IF(AH13="RTT",1,0)+IF(AD13="RTT",1,0)+IF(D13="RTT",1,0) -> 0
A14: 03 | B14: BAUMARD | C14: YSABELLE | E14: 8 | F14: 8 | G14: 8 | H14: 8 | I14: 7 | L14: 8 | M14: 8 | N14: 8 | O14: 8 | P14: 7 | S14: 8 | T14: 8 | U14: 8 | V14: 8 | W14: 7 | Z14: 8 | AA14: 8 | AB14: 8 | AC14: 8 | AD14: 7 | AG14: 8 | AI14: =SUM(D14:AH14) -> 164 | AJ14: =IF(D14="CP",1,0)+IF(E14="CP",1,0)+IF(F14="CP",1,0)+IF(G14="CP",1,0)+IF(H14="CP",1,0)+IF(I14="CP",1,0)+IF(J14="CP",1,0)+IF(K14="CP",1,0)+IF(L14="CP",1,0)+IF(M14="CP",1,0)+IF(N14="CP",1,0)+IF(O14="CP",1,0)+IF(P14="CP",1,0)+IF(Q14="CP",1,0)+IF(R14="CP",1,0)+IF(S14="CP",1,0)+IF(T14="CP",1,0)+IF(U14="CP",1,0)+IF(V14="CP",1,0)+IF(W14="CP",1,0)+IF(X14="CP",1,0)+IF(Y14="CP",1,0)+IF(Z14="CP",1,0)+IF(AA14="CP",1,0)+IF(AB14="CP",1,0)+IF(AD14="CP",1,0)+IF(AE14="CP",1,0)+IF(AF14="CP",1,0)+IF(AG14="CP",1,0)+IF(AH14="CP",1,0)+IF(AC14="CP",1,0) -> 0 | AK14: =IF(E14="RTT",1,0)+IF(F14="RTT",1,0)+IF(G14="RTT",1,0)+IF(H14="RTT",1,0)+IF(I14="RTT",1,0)+IF(J14="RTT",1,0)+IF(K14="RTT",1,0)+IF(L14="RTT",1,0)+IF(M14="RTT",1,0)+IF(N14="RTT",1,0)+IF(O14="RTT",1,0)+IF(P14="RTT",1,0)+IF(Q14="RTT",1,0)+IF(R14="RTT",1,0)+IF(S14="RTT",1,0)+IF(T14="RTT",1,0)+IF(U14="RTT",1,0)+IF(V14="RTT",1,0)+IF(W14="RTT",1,0)+IF(X14="RTT",1,0)+IF(Y14="RTT",1,0)+IF(Z14="RTT",1,0)+IF(AA14="RTT",1,0)+IF(AB14="RTT",1,0)+IF(AC14="RTT",1,0)+IF(AE14="RTT",1,0)+IF(AF14="RTT",1,0)+IF(AG14="RTT",1,0)+IF(AH14="RTT",1,0)+IF(AD14="RTT",1,0)+IF(D14="RTT",1,0) -> 0
A15: 23 | B15: BLANLOEIL | C15: MYRIAM | E15: 8 | F15: 8 | G15: 8 | H15: 8 | I15: 7 | L15: 8 | M15: 8 | N15: 8 | O15: 8 | P15: 7 | S15: 8 | T15: 8 | U15: 8 | V15: 8 | W15: 7 | Z15: 8 | AA15: 8 | AB15: 8 | AC15: 8 | AD15: 7 | AG15: 8 | AI15: =SUM(D15:AH15) -> 164 | AJ15: =IF(D15="CP",1,0)+IF(E15="CP",1,0)+IF(F15="CP",1,0)+IF(G15="CP",1,0)+IF(H15="CP",1,0)+IF(I15="CP",1,0)+IF(J15="CP",1,0)+IF(K15="CP",1,0)+IF(L15="CP",1,0)+IF(M15="CP",1,0)+IF(N15="CP",1,0)+IF(O15="CP",1,0)+IF(P15="CP",1,0)+IF(Q15="CP",1,0)+IF(R15="CP",1,0)+IF(S15="CP",1,0)+IF(T15="CP",1,0)+IF(U15="CP",1,0)+IF(V15="CP",1,0)+IF(W15="CP",1,0)+IF(X15="CP",1,0)+IF(Y15="CP",1,0)+IF(Z15="CP",1,0)+IF(AA15="CP",1,0)+IF(AB15="CP",1,0)+IF(AD15="CP",1,0)+IF(AE15="CP",1,0)+IF(AF15="CP",1,0)+IF(AG15="CP",1,0)+IF(AH15="CP",1,0)+IF(AC15="CP",1,0) -> 0 | AK15: =IF(E15="RTT",1,0)+IF(F15="RTT",1,0)+IF(G15="RTT",1,0)+IF(H15="RTT",1,0)+IF(I15="RTT",1,0)+IF(J15="RTT",1,0)+IF(K15="RTT",1,0)+IF(L15="RTT",1,0)+IF(M15="RTT",1,0)+IF(N15="RTT",1,0)+IF(O15="RTT",1,0)+IF(P15="RTT",1,0)+IF(Q15="RTT",1,0)+IF(R15="RTT",1,0)+IF(S15="RTT",1,0)+IF(T15="RTT",1,0)+IF(U15="RTT",1,0)+IF(V15="RTT",1,0)+IF(W15="RTT",1,0)+IF(X15="RTT",1,0)+IF(Y15="RTT",1,0)+IF(Z15="RTT",1,0)+IF(AA15="RTT",1,0)+IF(AB15="RTT",1,0)+IF(AC15="RTT",1,0)+IF(AE15="RTT",1,0)+IF(AF15="RTT",1,0)+IF(AG15="RTT",1,0)+IF(AH15="RTT",1,0)+IF(AD15="RTT",1,0)+IF(D15="RTT",1,0) -> 0
A16: 05 | B16: BRETEAU | C16: CHRISTELLE | E16: 8 | F16: 8 | G16: 8 | H16: 8 | I16: 7 | L16: 8 | M16: 8 | N16: 8 | O16: 8 | P16: 7 | S16: 8 | T16: 8 | U16: 8 | V16: 8 | W16: 7 | Z16: 8 | AA16: 8 | AB16: 8 | AC16: 8 | AD16: 7 | AG16: 8 | AI16: =SUM(D16:AH16) -> 164 | AJ16: =IF(D16="CP",1,0)+IF(E16="CP",1,0)+IF(F16="CP",1,0)+IF(G16="CP",1,0)+IF(H16="CP",1,0)+IF(I16="CP",1,0)+IF(J16="CP",1,0)+IF(K16="CP",1,0)+IF(L16="CP",1,0)+IF(M16="CP",1,0)+IF(N16="CP",1,0)+IF(O16="CP",1,0)+IF(P16="CP",1,0)+IF(Q16="CP",1,0)+IF(R16="CP",1,0)+IF(S16="CP",1,0)+IF(T16="CP",1,0)+IF(U16="CP",1,0)+IF(V16="CP",1,0)+IF(W16="CP",1,0)+IF(X16="CP",1,0)+IF(Y16="CP",1,0)+IF(Z16="CP",1,0)+IF(AA16="CP",1,0)+IF(AB16="CP",1,0)+IF(AD16="CP",1,0)+IF(AE16="CP",1,0)+IF(AF16="CP",1,0)+IF(AG16="CP",1,0)+IF(AH16="CP",1,0)+IF(AC16="CP",1,0) -> 0 | AK16: =IF(E16="RTT",1,0)+IF(F16="RTT",1,0)+IF(G16="RTT",1,0)+IF(H16="RTT",1,0)+IF(I16="RTT",1,0)+IF(J16="RTT",1,0)+IF(K16="RTT",1,0)+IF(L16="RTT",1,0)+IF(M16="RTT",1,0)+IF(N16="RTT",1,0)+IF(O16="RTT",1,0)+IF(P16="RTT",1,0)+IF(Q16="RTT",1,0)+IF(R16="RTT",1,0)+IF(S16="RTT",1,0)+IF(T16="RTT",1,0)+IF(U16="RTT",1,0)+IF(V16="RTT",1,0)+IF(W16="RTT",1,0)+IF(X16="RTT",1,0)+IF(Y16="RTT",1,0)+IF(Z16="RTT",1,0)+IF(AA16="RTT",1,0)+IF(AB16="RTT",1,0)+IF(AC16="RTT",1,0)+IF(AE16="RTT",1,0)+IF(AF16="RTT",1,0)+IF(AG16="RTT",1,0)+IF(AH16="RTT",1,0)+IF(AD16="RTT",1,0)+IF(D16="RTT",1,0) -> 0
A17: 04 | B17: CHAUVIRE | C17: ALINE | E17: 8 | F17: 8 | G17: 8 | H17: 8 | I17: 7 | L17: 8 | M17: 8 | N17: 8 | O17: 8 | P17: 7 | S17: 8 | T17: 8 | U17: 8 | V17: 8 | W17: 7 | Z17: 8 | AA17: 8 | AB17: 8 | AC17: 8 | AD17: 7 | AG17: 8 | AI17: =SUM(D17:AH17) -> 164 | AJ17: =IF(D17="CP",1,0)+IF(E17="CP",1,0)+IF(F17="CP",1,0)+IF(G17="CP",1,0)+IF(H17="CP",1,0)+IF(I17="CP",1,0)+IF(J17="CP",1,0)+IF(K17="CP",1,0)+IF(L17="CP",1,0)+IF(M17="CP",1,0)+IF(N17="CP",1,0)+IF(O17="CP",1,0)+IF(P17="CP",1,0)+IF(Q17="CP",1,0)+IF(R17="CP",1,0)+IF(S17="CP",1,0)+IF(T17="CP",1,0)+IF(U17="CP",1,0)+IF(V17="CP",1,0)+IF(W17="CP",1,0)+IF(X17="CP",1,0)+IF(Y17="CP",1,0)+IF(Z17="CP",1,0)+IF(AA17="CP",1,0)+IF(AB17="CP",1,0)+IF(AD17="CP",1,0)+IF(AE17="CP",1,0)+IF(AF17="CP",1,0)+IF(AG17="CP",1,0)+IF(AH17="CP",1,0)+IF(AC17="CP",1,0) -> 0 | AK17: =IF(E17="RTT",1,0)+IF(F17="RTT",1,0)+IF(G17="RTT",1,0)+IF(H17="RTT",1,0)+IF(I17="RTT",1,0)+IF(J17="RTT",1,0)+IF(K17="RTT",1,0)+IF(L17="RTT",1,0)+IF(M17="RTT",1,0)+IF(N17="RTT",1,0)+IF(O17="RTT",1,0)+IF(P17="RTT",1,0)+IF(Q17="RTT",1,0)+IF(R17="RTT",1,0)+IF(S17="RTT",1,0)+IF(T17="RTT",1,0)+IF(U17="RTT",1,0)+IF(V17="RTT",1,0)+IF(W17="RTT",1,0)+IF(X17="RTT",1,0)+IF(Y17="RTT",1,0)+IF(Z17="RTT",1,0)+IF(AA17="RTT",1,0)+IF(AB17="RTT",1,0)+IF(AC17="RTT",1,0)+IF(AE17="RTT",1,0)+IF(AF17="RTT",1,0)+IF(AG17="RTT",1,0)+IF(AH17="RTT",1,0)+IF(AD17="RTT",1,0)+IF(D17="RTT",1,0) -> 0
A18: 07 | B18: CHIRON | C18: FRANCOISE | E18: 8 | F18: 8 | G18: 8 | H18: 8 | I18: 7 | L18: 8 | M18: 8 | N18: 8 | O18: 8 | P18: 7 | S18: 8 | T18: 8 | U18: 8 | V18: 8 | W18: 7 | Z18: 8 | AA18: 8 | AB18: 8 | AC18: 8 | AD18: 7 | AG18: 8 | AI18: =SUM(D18:AH18) -> 164 | AJ18: =IF(D18="CP",1,0)+IF(E18="CP",1,0)+IF(F18="CP",1,0)+IF(G18="CP",1,0)+IF(H18="CP",1,0)+IF(I18="CP",1,0)+IF(J18="CP",1,0)+IF(K18="CP",1,0)+IF(L18="CP",1,0)+IF(M18="CP",1,0)+IF(N18="CP",1,0)+IF(O18="CP",1,0)+IF(P18="CP",1,0)+IF(Q18="CP",1,0)+IF(R18="CP",1,0)+IF(S18="CP",1,0)+IF(T18="CP",1,0)+IF(U18="CP",1,0)+IF(V18="CP",1,0)+IF(W18="CP",1,0)+IF(X18="CP",1,0)+IF(Y18="CP",1,0)+IF(Z18="CP",1,0)+IF(AA18="CP",1,0)+IF(AB18="CP",1,0)+IF(AD18="CP",1,0)+IF(AE18="CP",1,0)+IF(AF18="CP",1,0)+IF(AG18="CP",1,0)+IF(AH18="CP",1,0)+IF(AC18="CP",1,0) -> 0 | AK18: =IF(E18="RTT",1,0)+IF(F18="RTT",1,0)+IF(G18="RTT",1,0)+IF(H18="RTT",1,0)+IF(I18="RTT",1,0)+IF(J18="RTT",1,0)+IF(K18="RTT",1,0)+IF(L18="RTT",1,0)+IF(M18="RTT",1,0)+IF(N18="RTT",1,0)+IF(O18="RTT",1,0)+IF(P18="RTT",1,0)+IF(Q18="RTT",1,0)+IF(R18="RTT",1,0)+IF(S18="RTT",1,0)+IF(T18="RTT",1,0)+IF(U18="RTT",1,0)+IF(V18="RTT",1,0)+IF(W18="RTT",1,0)+IF(X18="RTT",1,0)+IF(Y18="RTT",1,0)+IF(Z18="RTT",1,0)+IF(AA18="RTT",1,0)+IF(AB18="RTT",1,0)+IF(AC18="RTT",1,0)+IF(AE18="RTT",1,0)+IF(AF18="RTT",1,0)+IF(AG18="RTT",1,0)+IF(AH18="RTT",1,0)+IF(AD18="RTT",1,0)+IF(D18="RTT",1,0) -> 0
A19: 20 | B19: CHUDEAU | C19: ROMANE | E19: 8 | F19: 8 | G19: 8 | H19: 8 | I19: 7 | L19: 8 | M19: 8 | N19: 8 | O19: 8 | P19: 7 | S19: 8 | T19: 8 | U19: 8 | V19: 8 | W19: 7 | Z19: 8 | AA19: 8 | AB19: 8 | AC19: 8 | AD19: 7 | AG19: 8 | AI19: =SUM(D19:AH19) -> 164 | AJ19: =IF(D19="CP",1,0)+IF(E19="CP",1,0)+IF(F19="CP",1,0)+IF(G19="CP",1,0)+IF(H19="CP",1,0)+IF(I19="CP",1,0)+IF(J19="CP",1,0)+IF(K19="CP",1,0)+IF(L19="CP",1,0)+IF(M19="CP",1,0)+IF(N19="CP",1,0)+IF(O19="CP",1,0)+IF(P19="CP",1,0)+IF(Q19="CP",1,0)+IF(R19="CP",1,0)+IF(S19="CP",1,0)+IF(T19="CP",1,0)+IF(U19="CP",1,0)+IF(V19="CP",1,0)+IF(W19="CP",1,0)+IF(X19="CP",1,0)+IF(Y19="CP",1,0)+IF(Z19="CP",1,0)+IF(AA19="CP",1,0)+IF(AB19="CP",1,0)+IF(AD19="CP",1,0)+IF(AE19="CP",1,0)+IF(AF19="CP",1,0)+IF(AG19="CP",1,0)+IF(AH19="CP",1,0)+IF(AC19="CP",1,0) -> 0 | AK19: =IF(E19="RTT",1,0)+IF(F19="RTT",1,0)+IF(G19="RTT",1,0)+IF(H19="RTT",1,0)+IF(I19="RTT",1,0)+IF(J19="RTT",1,0)+IF(K19="RTT",1,0)+IF(L19="RTT",1,0)+IF(M19="RTT",1,0)+IF(N19="RTT",1,0)+IF(O19="RTT",1,0)+IF(P19="RTT",1,0)+IF(Q19="RTT",1,0)+IF(R19="RTT",1,0)+IF(S19="RTT",1,0)+IF(T19="RTT",1,0)+IF(U19="RTT",1,0)+IF(V19="RTT",1,0)+IF(W19="RTT",1,0)+IF(X19="RTT",1,0)+IF(Y19="RTT",1,0)+IF(Z19="RTT",1,0)+IF(AA19="RTT",1,0)+IF(AB19="RTT",1,0)+IF(AC19="RTT",1,0)+IF(AE19="RTT",1,0)+IF(AF19="RTT",1,0)+IF(AG19="RTT",1,0)+IF(AH19="RTT",1,0)+IF(AD19="RTT",1,0)+IF(D19="RTT",1,0) -> 0
A20: 21 | B20: CONTIN | C20: ARMAND | E20: 8 | F20: 8 | G20: 8 | H20: 8 | I20: 7 | L20: 8 | M20: 8 | N20: 8 | O20: 8 | P20: 7 | S20: 8 | T20: 8 | U20: 8 | V20: 8 | W20: 7 | Z20: 8 | AA20: 8 | AB20: 8 | AC20: 8 | AD20: 7 | AG20: 8 | AI20: =SUM(D20:AH20) -> 164 | AJ20: =IF(D20="CP",1,0)+IF(E20="CP",1,0)+IF(F20="CP",1,0)+IF(G20="CP",1,0)+IF(H20="CP",1,0)+IF(I20="CP",1,0)+IF(J20="CP",1,0)+IF(K20="CP",1,0)+IF(L20="CP",1,0)+IF(M20="CP",1,0)+IF(N20="CP",1,0)+IF(O20="CP",1,0)+IF(P20="CP",1,0)+IF(Q20="CP",1,0)+IF(R20="CP",1,0)+IF(S20="CP",1,0)+IF(T20="CP",1,0)+IF(U20="CP",1,0)+IF(V20="CP",1,0)+IF(W20="CP",1,0)+IF(X20="CP",1,0)+IF(Y20="CP",1,0)+IF(Z20="CP",1,0)+IF(AA20="CP",1,0)+IF(AB20="CP",1,0)+IF(AD20="CP",1,0)+IF(AE20="CP",1,0)+IF(AF20="CP",1,0)+IF(AG20="CP",1,0)+IF(AH20="CP",1,0)+IF(AC20="CP",1,0) -> 0 | AK20: =IF(E20="RTT",1,0)+IF(F20="RTT",1,0)+IF(G20="RTT",1,0)+IF(H20="RTT",1,0)+IF(I20="RTT",1,0)+IF(J20="RTT",1,0)+IF(K20="RTT",1,0)+IF(L20="RTT",1,0)+IF(M20="RTT",1,0)+IF(N20="RTT",1,0)+IF(O20="RTT",1,0)+IF(P20="RTT",1,0)+IF(Q20="RTT",1,0)+IF(R20="RTT",1,0)+IF(S20="RTT",1,0)+IF(T20="RTT",1,0)+IF(U20="RTT",1,0)+IF(V20="RTT",1,0)+IF(W20="RTT",1,0)+IF(X20="RTT",1,0)+IF(Y20="RTT",1,0)+IF(Z20="RTT",1,0)+IF(AA20="RTT",1,0)+IF(AB20="RTT",1,0)+IF(AC20="RTT",1,0)+IF(AE20="RTT",1,0)+IF(AF20="RTT",1,0)+IF(AG20="RTT",1,0)+IF(AH20="RTT",1,0)+IF(AD20="RTT",1,0)+IF(D20="RTT",1,0) -> 0
A21: 09 | B21: COUVREUX | C21: FLORA | E21: 8 | F21: 8 | G21: 8 | H21: 8 | I21: 7 | L21: 8 | M21: 8 | N21: 8 | O21: 8 | P21: 7 | S21: 8 | T21: 8 | U21: 8 | V21: 8 | W21: 7 | Z21: 8 | AA21: 8 | AB21: 8 | AC21: 8 | AD21: 7 | AG21: 8 | AI21: =SUM(D21:AH21) -> 164 | AJ21: =IF(D21="CP",1,0)+IF(E21="CP",1,0)+IF(F21="CP",1,0)+IF(G21="CP",1,0)+IF(H21="CP",1,0)+IF(I21="CP",1,0)+IF(J21="CP",1,0)+IF(K21="CP",1,0)+IF(L21="CP",1,0)+IF(M21="CP",1,0)+IF(N21="CP",1,0)+IF(O21="CP",1,0)+IF(P21="CP",1,0)+IF(Q21="CP",1,0)+IF(R21="CP",1,0)+IF(S21="CP",1,0)+IF(T21="CP",1,0)+IF(U21="CP",1,0)+IF(V21="CP",1,0)+IF(W21="CP",1,0)+IF(X21="CP",1,0)+IF(Y21="CP",1,0)+IF(Z21="CP",1,0)+IF(AA21="CP",1,0)+IF(AB21="CP",1,0)+IF(AD21="CP",1,0)+IF(AE21="CP",1,0)+IF(AF21="CP",1,0)+IF(AG21="CP",1,0)+IF(AH21="CP",1,0)+IF(AC21="CP",1,0) -> 0 | AK21: =IF(E21="RTT",1,0)+IF(F21="RTT",1,0)+IF(G21="RTT",1,0)+IF(H21="RTT",1,0)+IF(I21="RTT",1,0)+IF(J21="RTT",1,0)+IF(K21="RTT",1,0)+IF(L21="RTT",1,0)+IF(M21="RTT",1,0)+IF(N21="RTT",1,0)+IF(O21="RTT",1,0)+IF(P21="RTT",1,0)+IF(Q21="RTT",1,0)+IF(R21="RTT",1,0)+IF(S21="RTT",1,0)+IF(T21="RTT",1,0)+IF(U21="RTT",1,0)+IF(V21="RTT",1,0)+IF(W21="RTT",1,0)+IF(X21="RTT",1,0)+IF(Y21="RTT",1,0)+IF(Z21="RTT",1,0)+IF(AA21="RTT",1,0)+IF(AB21="RTT",1,0)+IF(AC21="RTT",1,0)+IF(AE21="RTT",1,0)+IF(AF21="RTT",1,0)+IF(AG21="RTT",1,0)+IF(AH21="RTT",1,0)+IF(AD21="RTT",1,0)+IF(D21="RTT",1,0) -> 0
A22: 10 | B22: DEKHIL | C22: HENNACHI | E22: 8 | F22: 8 | G22: 8 | H22: 8 | I22: 7 | L22: 8 | M22: 8 | N22: 8 | O22: 8 | P22: 7 | S22: 8 | T22: 8 | U22: 8 | V22: 8 | W22: 7 | Z22: 8 | AA22: 8 | AB22: 8 | AC22: 8 | AD22: 7 | AG22: 8 | AI22: =SUM(D22:AH22) -> 164 | AJ22: =IF(D22="CP",1,0)+IF(E22="CP",1,0)+IF(F22="CP",1,0)+IF(G22="CP",1,0)+IF(H22="CP",1,0)+IF(I22="CP",1,0)+IF(J22="CP",1,0)+IF(K22="CP",1,0)+IF(L22="CP",1,0)+IF(M22="CP",1,0)+IF(N22="CP",1,0)+IF(O22="CP",1,0)+IF(P22="CP",1,0)+IF(Q22="CP",1,0)+IF(R22="CP",1,0)+IF(S22="CP",1,0)+IF(T22="CP",1,0)+IF(U22="CP",1,0)+IF(V22="CP",1,0)+IF(W22="CP",1,0)+IF(X22="CP",1,0)+IF(Y22="CP",1,0)+IF(Z22="CP",1,0)+IF(AA22="CP",1,0)+IF(AB22="CP",1,0)+IF(AD22="CP",1,0)+IF(AE22="CP",1,0)+IF(AF22="CP",1,0)+IF(AG22="CP",1,0)+IF(AH22="CP",1,0)+IF(AC22="CP",1,0) -> 0 | AK22: =IF(E22="RTT",1,0)+IF(F22="RTT",1,0)+IF(G22="RTT",1,0)+IF(H22="RTT",1,0)+IF(I22="RTT",1,0)+IF(J22="RTT",1,0)+IF(K22="RTT",1,0)+IF(L22="RTT",1,0)+IF(M22="RTT",1,0)+IF(N22="RTT",1,0)+IF(O22="RTT",1,0)+IF(P22="RTT",1,0)+IF(Q22="RTT",1,0)+IF(R22="RTT",1,0)+IF(S22="RTT",1,0)+IF(T22="RTT",1,0)+IF(U22="RTT",1,0)+IF(V22="RTT",1,0)+IF(W22="RTT",1,0)+IF(X22="RTT",1,0)+IF(Y22="RTT",1,0)+IF(Z22="RTT",1,0)+IF(AA22="RTT",1,0)+IF(AB22="RTT",1,0)+IF(AC22="RTT",1,0)+IF(AE22="RTT",1,0)+IF(AF22="RTT",1,0)+IF(AG22="RTT",1,0)+IF(AH22="RTT",1,0)+IF(AD22="RTT",1,0)+IF(D22="RTT",1,0) -> 0
A23: 12 | B23: GOURDON | C23: KATIA | E23: 8 | F23: 8 | G23: 8 | H23: 8 | I23: 7 | L23: 8 | M23: 8 | N23: 8 | O23: 8 | P23: 7 | S23: 8 | T23: 8 | U23: 8 | V23: 8 | W23: 7 | Z23: 8 | AA23: 8 | AB23: 8 | AC23: 8 | AD23: 7 | AG23: 8 | AI23: =SUM(D23:AH23) -> 164 | AJ23: =IF(D23="CP",1,0)+IF(E23="CP",1,0)+IF(F23="CP",1,0)+IF(G23="CP",1,0)+IF(H23="CP",1,0)+IF(I23="CP",1,0)+IF(J23="CP",1,0)+IF(K23="CP",1,0)+IF(L23="CP",1,0)+IF(M23="CP",1,0)+IF(N23="CP",1,0)+IF(O23="CP",1,0)+IF(P23="CP",1,0)+IF(Q23="CP",1,0)+IF(R23="CP",1,0)+IF(S23="CP",1,0)+IF(T23="CP",1,0)+IF(U23="CP",1,0)+IF(V23="CP",1,0)+IF(W23="CP",1,0)+IF(X23="CP",1,0)+IF(Y23="CP",1,0)+IF(Z23="CP",1,0)+IF(AA23="CP",1,0)+IF(AB23="CP",1,0)+IF(AD23="CP",1,0)+IF(AE23="CP",1,0)+IF(AF23="CP",1,0)+IF(AG23="CP",1,0)+IF(AH23="CP",1,0)+IF(AC23="CP",1,0) -> 0 | AK23: =IF(E23="RTT",1,0)+IF(F23="RTT",1,0)+IF(G23="RTT",1,0)+IF(H23="RTT",1,0)+IF(I23="RTT",1,0)+IF(J23="RTT",1,0)+IF(K23="RTT",1,0)+IF(L23="RTT",1,0)+IF(M23="RTT",1,0)+IF(N23="RTT",1,0)+IF(O23="RTT",1,0)+IF(P23="RTT",1,0)+IF(Q23="RTT",1,0)+IF(R23="RTT",1,0)+IF(S23="RTT",1,0)+IF(T23="RTT",1,0)+IF(U23="RTT",1,0)+IF(V23="RTT",1,0)+IF(W23="RTT",1,0)+IF(X23="RTT",1,0)+IF(Y23="RTT",1,0)+IF(Z23="RTT",1,0)+IF(AA23="RTT",1,0)+IF(AB23="RTT",1,0)+IF(AC23="RTT",1,0)+IF(AE23="RTT",1,0)+IF(AF23="RTT",1,0)+IF(AG23="RTT",1,0)+IF(AH23="RTT",1,0)+IF(AD23="RTT",1,0)+IF(D23="RTT",1,0) -> 0
... A34: 16 | B34: TRIOLET | C34: FANNY | E34: 8 | F34: 8 | G34: 8 | H34: 8 | I34: 7 | L34: 8 | M34: 8 | N34: 8 | O34: 8 | P34: 7 | S34: 8 | T34: 8 | U34: 8 | V34: 8 | W34: 7 | Z34: 8 | AA34: 8 | AB34: 8 | AC34: 8 | AD34: 7 | AG34: 8 | AI34: =SUM(D34:AH34) -> 164 | AJ34: =IF(D34="CP",1,0)+IF(E34="CP",1,0)+IF(F34="CP",1,0)+IF(G34="CP",1,0)+IF(H34="CP",1,0)+IF(I34="CP",1,0)+IF(J34="CP",1,0)+IF(K34="CP",1,0)+IF(L34="CP",1,0)+IF(M34="CP",1,0)+IF(N34="CP",1,0)+IF(O34="CP",1,0)+IF(P34="CP",1,0)+IF(Q34="CP",1,0)+IF(R34="CP",1,0)+IF(S34="CP",1,0)+IF(T34="CP",1,0)+IF(U34="CP",1,0)+IF(V34="CP",1,0)+IF(W34="CP",1,0)+IF(X34="CP",1,0)+IF(Y34="CP",1,0)+IF(Z34="CP",1,0)+IF(AA34="CP",1,0)+IF(AB34="CP",1,0)+IF(AD34="CP",1,0)+IF(AE34="CP",1,0)+IF(AF34="CP",1,0)+IF(AG34="CP",1,0)+IF(AH34="CP",1,0)+IF(AC34="CP",1,0) -> 0 | AK34: =IF(E34="RTT",1,0)+IF(F34="RTT",1,0)+IF(G34="RTT",1,0)+IF(H34="RTT",1,0)+IF(I34="RTT",1,0)+IF(J34="RTT",1,0)+IF(K34="RTT",1,0)+IF(L34="RTT",1,0)+IF(M34="RTT",1,0)+IF(N34="RTT",1,0)+IF(O34="RTT",1,0)+IF(P34="RTT",1,0)+IF(Q34="RTT",1,0)+IF(R34="RTT",1,0)+IF(S34="RTT",1,0)+IF(T34="RTT",1,0)+IF(U34="RTT",1,0)+IF(V34="RTT",1,0)+IF(W34="RTT",1,0)+IF(X34="RTT",1,0)+IF(Y34="RTT",1,0)+IF(Z34="RTT",1,0)+IF(AA34="RTT",1,0)+IF(AB34="RTT",1,0)+IF(AC34="RTT",1,0)+IF(AE34="RTT",1,0)+IF(AF34="RTT",1,0)+IF(AG34="RTT",1,0)+IF(AH34="RTT",1,0)+IF(AD34="RTT",1,0)+IF(D34="RTT",1,0) -> 0
A37: SAISONNIERS
A38: z101 | AI38: =SUM(D38:AH38) -> 0 | AJ38: =IF(D38="CP",1,0)+IF(E38="CP",1,0)+IF(F38="CP",1,0)+IF(G38="CP",1,0)+IF(H38="CP",1,0)+IF(I38="CP",1,0)+IF(J38="CP",1,0)+IF(K38="CP",1,0)+IF(L38="CP",1,0)+IF(M38="CP",1,0)+IF(N38="CP",1,0)+IF(O38="CP",1,0)+IF(P38="CP",1,0)+IF(Q38="CP",1,0)+IF(R38="CP",1,0)+IF(S38="CP",1,0)+IF(T38="CP",1,0)+IF(U38="CP",1,0)+IF(V38="CP",1,0)+IF(W38="CP",1,0)+IF(X38="CP",1,0)+IF(Y38="CP",1,0)+IF(Z38="CP",1,0)+IF(AA38="CP",1,0)+IF(AB38="CP",1,0)+IF(AD38="CP",1,0)+IF(AE38="CP",1,0)+IF(AF38="CP",1,0)+IF(AG38="CP",1,0)+IF(AH38="CP",1,0)+IF(AC38="CP",1,0) -> 0 | AK38: =IF(E38="RTT",1,0)+IF(F38="RTT",1,0)+IF(G38="RTT",1,0)+IF(H38="RTT",1,0)+IF(I38="RTT",1,0)+IF(J38="RTT",1,0)+IF(K38="RTT",1,0)+IF(L38="RTT",1,0)+IF(M38="RTT",1,0)+IF(N38="RTT",1,0)+IF(O38="RTT",1,0)+IF(P38="RTT",1,0)+IF(Q38="RTT",1,0)+IF(R38="RTT",1,0)+IF(S38="RTT",1,0)+IF(T38="RTT",1,0)+IF(U38="RTT",1,0)+IF(V38="RTT",1,0)+IF(W38="RTT",1,0)+IF(X38="RTT",1,0)+IF(Y38="RTT",1,0)+IF(Z38="RTT",1,0)+IF(AA38="RTT",1,0)+IF(AB38="RTT",1,0)+IF(AC38="RTT",1,0)+IF(AE38="RTT",1,0)+IF(AF38="RTT",1,0)+IF(AG38="RTT",1,0)+IF(AH38="RTT",1,0)+IF(AD38="RTT",1,0)+IF(D38="RTT",1,0) -> 0
A39: z102 | AI39: =SUM(D39:AH39) -> 0 | AJ39: =IF(D39="CP",1,0)+IF(E39="CP",1,0)+IF(F39="CP",1,0)+IF(G39="CP",1,0)+IF(H39="CP",1,0)+IF(I39="CP",1,0)+IF(J39="CP",1,0)+IF(K39="CP",1,0)+IF(L39="CP",1,0)+IF(M39="CP",1,0)+IF(N39="CP",1,0)+IF(O39="CP",1,0)+IF(P39="CP",1,0)+IF(Q39="CP",1,0)+IF(R39="CP",1,0)+IF(S39="CP",1,0)+IF(T39="CP",1,0)+IF(U39="CP",1,0)+IF(V39="CP",1,0)+IF(W39="CP",1,0)+IF(X39="CP",1,0)+IF(Y39="CP",1,0)+IF(Z39="CP",1,0)+IF(AA39="CP",1,0)+IF(AB39="CP",1,0)+IF(AD39="CP",1,0)+IF(AE39="CP",1,0)+IF(AF39="CP",1,0)+IF(AG39="CP",1,0)+IF(AH39="CP",1,0)+IF(AC39="CP",1,0) -> 0 | AK39: =IF(E39="RTT",1,0)+IF(F39="RTT",1,0)+IF(G39="RTT",1,0)+IF(H39="RTT",1,0)+IF(I39="RTT",1,0)+IF(J39="RTT",1,0)+IF(K39="RTT",1,0)+IF(L39="RTT",1,0)+IF(M39="RTT",1,0)+IF(N39="RTT",1,0)+IF(O39="RTT",1,0)+IF(P39="RTT",1,0)+IF(Q39="RTT",1,0)+IF(R39="RTT",1,0)+IF(S39="RTT",1,0)+IF(T39="RTT",1,0)+IF(U39="RTT",1,0)+IF(V39="RTT",1,0)+IF(W39="RTT",1,0)+IF(X39="RTT",1,0)+IF(Y39="RTT",1,0)+IF(Z39="RTT",1,0)+IF(AA39="RTT",1,0)+IF(AB39="RTT",1,0)+IF(AC39="RTT",1,0)+IF(AE39="RTT",1,0)+IF(AF39="RTT",1,0)+IF(AG39="RTT",1,0)+IF(AH39="RTT",1,0)+IF(AD39="RTT",1,0)+IF(D39="RTT",1,0) -> 0
A40: z103 | AI40: =SUM(D40:AH40) -> 0 | AJ40: =IF(D40="CP",1,0)+IF(E40="CP",1,0)+IF(F40="CP",1,0)+IF(G40="CP",1,0)+IF(H40="CP",1,0)+IF(I40="CP",1,0)+IF(J40="CP",1,0)+IF(K40="CP",1,0)+IF(L40="CP",1,0)+IF(M40="CP",1,0)+IF(N40="CP",1,0)+IF(O40="CP",1,0)+IF(P40="CP",1,0)+IF(Q40="CP",1,0)+IF(R40="CP",1,0)+IF(S40="CP",1,0)+IF(T40="CP",1,0)+IF(U40="CP",1,0)+IF(V40="CP",1,0)+IF(W40="CP",1,0)+IF(X40="CP",1,0)+IF(Y40="CP",1,0)+IF(Z40="CP",1,0)+IF(AA40="CP",1,0)+IF(AB40="CP",1,0)+IF(AD40="CP",1,0)+IF(AE40="CP",1,0)+IF(AF40="CP",1,0)+IF(AG40="CP",1,0)+IF(AH40="CP",1,0)+IF(AC40="CP",1,0) -> 0 | AK40: =IF(E40="RTT",1,0)+IF(F40="RTT",1,0)+IF(G40="RTT",1,0)+IF(H40="RTT",1,0)+IF(I40="RTT",1,0)+IF(J40="RTT",1,0)+IF(K40="RTT",1,0)+IF(L40="RTT",1,0)+IF(M40="RTT",1,0)+IF(N40="RTT",1,0)+IF(O40="RTT",1,0)+IF(P40="RTT",1,0)+IF(Q40="RTT",1,0)+IF(R40="RTT",1,0)+IF(S40="RTT",1,0)+IF(T40="RTT",1,0)+IF(U40="RTT",1,0)+IF(V40="RTT",1,0)+IF(W40="RTT",1,0)+IF(X40="RTT",1,0)+IF(Y40="RTT",1,0)+IF(Z40="RTT",1,0)+IF(AA40="RTT",1,0)+IF(AB40="RTT",1,0)+IF(AC40="RTT",1,0)+IF(AE40="RTT",1,0)+IF(AF40="RTT",1,0)+IF(AG40="RTT",1,0)+IF(AH40="RTT",1,0)+IF(AD40="RTT",1,0)+IF(D40="RTT",1,0) -> 0
A41: z104 | AI41: =SUM(D41:AH41) -> 0 | AJ41: =IF(D41="CP",1,0)+IF(E41="CP",1,0)+IF(F41="CP",1,0)+IF(G41="CP",1,0)+IF(H41="CP",1,0)+IF(I41="CP",1,0)+IF(J41="CP",1,0)+IF(K41="CP",1,0)+IF(L41="CP",1,0)+IF(M41="CP",1,0)+IF(N41="CP",1,0)+IF(O41="CP",1,0)+IF(P41="CP",1,0)+IF(Q41="CP",1,0)+IF(R41="CP",1,0)+IF(S41="CP",1,0)+IF(T41="CP",1,0)+IF(U41="CP",1,0)+IF(V41="CP",1,0)+IF(W41="CP",1,0)+IF(X41="CP",1,0)+IF(Y41="CP",1,0)+IF(Z41="CP",1,0)+IF(AA41="CP",1,0)+IF(AB41="CP",1,0)+IF(AD41="CP",1,0)+IF(AE41="CP",1,0)+IF(AF41="CP",1,0)+IF(AG41="CP",1,0)+IF(AH41="CP",1,0)+IF(AC41="CP",1,0) -> 0 | AK41: =IF(E41="RTT",1,0)+IF(F41="RTT",1,0)+IF(G41="RTT",1,0)+IF(H41="RTT",1,0)+IF(I41="RTT",1,0)+IF(J41="RTT",1,0)+IF(K41="RTT",1,0)+IF(L41="RTT",1,0)+IF(M41="RTT",1,0)+IF(N41="RTT",1,0)+IF(O41="RTT",1,0)+IF(P41="RTT",1,0)+IF(Q41="RTT",1,0)+IF(R41="RTT",1,0)+IF(S41="RTT",1,0)+IF(T41="RTT",1,0)+IF(U41="RTT",1,0)+IF(V41="RTT",1,0)+IF(W41="RTT",1,0)+IF(X41="RTT",1,0)+IF(Y41="RTT",1,0)+IF(Z41="RTT",1,0)+IF(AA41="RTT",1,0)+IF(AB41="RTT",1,0)+IF(AC41="RTT",1,0)+IF(AE41="RTT",1,0)+IF(AF41="RTT",1,0)+IF(AG41="RTT",1,0)+IF(AH41="RTT",1,0)+IF(AD41="RTT",1,0)+IF(D41="RTT",1,0) -> 0
A42: z105 | AI42: =SUM(D42:AH42) -> 0 | AJ42: =IF(D42="CP",1,0)+IF(E42="CP",1,0)+IF(F42="CP",1,0)+IF(G42="CP",1,0)+IF(H42="CP",1,0)+IF(I42="CP",1,0)+IF(J42="CP",1,0)+IF(K42="CP",1,0)+IF(L42="CP",1,0)+IF(M42="CP",1,0)+IF(N42="CP",1,0)+IF(O42="CP",1,0)+IF(P42="CP",1,0)+IF(Q42="CP",1,0)+IF(R42="CP",1,0)+IF(S42="CP",1,0)+IF(T42="CP",1,0)+IF(U42="CP",1,0)+IF(V42="CP",1,0)+IF(W42="CP",1,0)+IF(X42="CP",1,0)+IF(Y42="CP",1,0)+IF(Z42="CP",1,0)+IF(AA42="CP",1,0)+IF(AB42="CP",1,0)+IF(AD42="CP",1,0)+IF(AE42="CP",1,0)+IF(AF42="CP",1,0)+IF(AG42="CP",1,0)+IF(AH42="CP",1,0)+IF(AC42="CP",1,0) -> 0 | AK42: =IF(E42="RTT",1,0)+IF(F42="RTT",1,0)+IF(G42="RTT",1,0)+IF(H42="RTT",1,0)+IF(I42="RTT",1,0)+IF(J42="RTT",1,0)+IF(K42="RTT",1,0)+IF(L42="RTT",1,0)+IF(M42="RTT",1,0)+IF(N42="RTT",1,0)+IF(O42="RTT",1,0)+IF(P42="RTT",1,0)+IF(Q42="RTT",1,0)+IF(R42="RTT",1,0)+IF(S42="RTT",1,0)+IF(T42="RTT",1,0)+IF(U42="RTT",1,0)+IF(V42="RTT",1,0)+IF(W42="RTT",1,0)+IF(X42="RTT",1,0)+IF(Y42="RTT",1,0)+IF(Z42="RTT",1,0)+IF(AA42="RTT",1,0)+IF(AB42="RTT",1,0)+IF(AC42="RTT",1,0)+IF(AE42="RTT",1,0)+IF(AF42="RTT",1,0)+IF(AG42="RTT",1,0)+IF(AH42="RTT",1,0)+IF(AD42="RTT",1,0)+IF(D42="RTT",1,0) -> 0
A43: z106 | AI43: =SUM(D43:AH43) -> 0 | AJ43: =IF(D43="CP",1,0)+IF(E43="CP",1,0)+IF(F43="CP",1,0)+IF(G43="CP",1,0)+IF(H43="CP",1,0)+IF(I43="CP",1,0)+IF(J43="CP",1,0)+IF(K43="CP",1,0)+IF(L43="CP",1,0)+IF(M43="CP",1,0)+IF(N43="CP",1,0)+IF(O43="CP",1,0)+IF(P43="CP",1,0)+IF(Q43="CP",1,0)+IF(R43="CP",1,0)+IF(S43="CP",1,0)+IF(T43="CP",1,0)+IF(U43="CP",1,0)+IF(V43="CP",1,0)+IF(W43="CP",1,0)+IF(X43="CP",1,0)+IF(Y43="CP",1,0)+IF(Z43="CP",1,0)+IF(AA43="CP",1,0)+IF(AB43="CP",1,0)+IF(AD43="CP",1,0)+IF(AE43="CP",1,0)+IF(AF43="CP",1,0)+IF(AG43="CP",1,0)+IF(AH43="CP",1,0)+IF(AC43="CP",1,0) -> 0 | AK43: =IF(E43="RTT",1,0)+IF(F43="RTT",1,0)+IF(G43="RTT",1,0)+IF(H43="RTT",1,0)+IF(I43="RTT",1,0)+IF(J43="RTT",1,0)+IF(K43="RTT",1,0)+IF(L43="RTT",1,0)+IF(M43="RTT",1,0)+IF(N43="RTT",1,0)+IF(O43="RTT",1,0)+IF(P43="RTT",1,0)+IF(Q43="RTT",1,0)+IF(R43="RTT",1,0)+IF(S43="RTT",1,0)+IF(T43="RTT",1,0)+IF(U43="RTT",1,0)+IF(V43="RTT",1,0)+IF(W43="RTT",1,0)+IF(X43="RTT",1,0)+IF(Y43="RTT",1,0)+IF(Z43="RTT",1,0)+IF(AA43="RTT",1,0)+IF(AB43="RTT",1,0)+IF(AC43="RTT",1,0)+IF(AE43="RTT",1,0)+IF(AF43="RTT",1,0)+IF(AG43="RTT",1,0)+IF(AH43="RTT",1,0)+IF(AD43="RTT",1,0)+IF(D43="RTT",1,0) -> 0
C46: NOTES SUPPLEMENTAIRES

Sheet Oct.
B1: 2019
B2: 10
C4: FICHE DE PRESENCE | Q4: MOIS | T4: OCTOBRE | Z4: 2019
C6: 23 | D6: jours
C8: SEMAINES | E8: 40 | L8: 41 | S8: 42 | Z8: 43 | AG8: 44
D9: M | E9: M | F9: J | G9: V | J9: L | K9: M | L9: M | M9: J | N9: V | Q9: L | R9: M | S9: M | T9: J | U9: V | X9: L | Y9: M | Z9: M | AA9: J | AB9: V | AE9: L | AF9: M | AG9: M | AH9: J | AI9: H. TOT | AJ9: CP | AK9: RTT
C10: JOURS | D10: 1 | E10: 2 | F10: 3 | G10: 4 | H10: 5 | I10: 6 | J10: 7 | K10: 8 | L10: 9 | M10: 10 | N10: 11 | O10: 12 | P10: 13 | Q10: 14 | R10: 15 | S10: 16 | T10: 17 | U10: 18 | V10: 19 | W10: 20 | X10: 21 | Y10: 22 | Z10: 23 | AA10: 24 | AB10: 25 | AC10: 26 | AD10: 27 | AE10: 28 | AF10: 29 | AG10: 30 | AH10: 31 | AI10: TRAVAIL | AJ10: jours | AK10: jours
A12: 01 | B12: ABELARD | C12: AURELIE | D12: 8 | E12: 8 | F12: 8 | G12: 7 | J12: 8 | K12: 8 | L12: 8 | M12: 8 | N12: 7 | Q12: 8 | R12: 8 | S12: 8 | T12: 8 | U12: 7 | X12: 8 | Y12: 8 | Z12: 8 | AA12: 8 | AB12: 7 | AE12: 8 | AF12: 8 | AG12: 8 | AH12: 8 | AI12: =SUM(D12:AH12) -> 180 | AJ12: =IF(D12="CP",1,0)+IF(E12="CP",1,0)+IF(F12="CP",1,0)+IF(G12="CP",1,0)+IF(H12="CP",1,0)+IF(I12="CP",1,0)+IF(J12="CP",1,0)+IF(K12="CP",1,0)+IF(L12="CP",1,0)+IF(M12="CP",1,0)+IF(N12="CP",1,0)+IF(O12="CP",1,0)+IF(P12="CP",1,0)+IF(Q12="CP",1,0)+IF(R12="CP",1,0)+IF(S12="CP",1,0)+IF(T12="CP",1,0)+IF(U12="CP",1,0)+IF(V12="CP",1,0)+IF(W12="CP",1,0)+IF(X12="CP",1,0)+IF(Y12="CP",1,0)+IF(Z12="CP",1,0)+IF(AA12="CP",1,0)+IF(AB12="CP",1,0)+IF(AD12="CP",1,0)+IF(AE12="CP",1,0)+IF(AF12="CP",1,0)+IF(AG12="CP",1,0)+IF(AH12="CP",1,0)+IF(AC12="CP",1,0) -> 0 | AK12: =IF(E12="RTT",1,0)+IF(F12="RTT",1,0)+IF(G12="RTT",1,0)+IF(H12="RTT",1,0)+IF(I12="RTT",1,0)+IF(J12="RTT",1,0)+IF(K12="RTT",1,0)+IF(L12="RTT",1,0)+IF(M12="RTT",1,0)+IF(N12="RTT",1,0)+IF(O12="RTT",1,0)+IF(P12="RTT",1,0)+IF(Q12="RTT",1,0)+IF(R12="RTT",1,0)+IF(S12="RTT",1,0)+IF(T12="RTT",1,0)+IF(U12="RTT",1,0)+IF(V12="RTT",1,0)+IF(W12="RTT",1,0)+IF(X12="RTT",1,0)+IF(Y12="RTT",1,0)+IF(Z12="RTT",1,0)+IF(AA12="RTT",1,0)+IF(AB12="RTT",1,0)+IF(AC12="RTT",1,0)+IF(AE12="RTT",1,0)+IF(AF12="RTT",1,0)+IF(AG12="RTT",1,0)+IF(AH12="RTT",1,0)+IF(AD12="RTT",1,0)+IF(D12="RTT",1,0) -> 0
A13: 02 | B13: AGOT | C13: DOMINIQUE | D13: 8 | E13: 8 | F13: 8 | G13: 7 | J13: 8 | K13: 8 | L13: 8 | M13: 8 | N13: 7 | Q13: 8 | R13: 8 | S13: 8 | T13: 8 | U13: 7 | X13: 8 | Y13: 8 | Z13: 8 | AA13: 8 | AB13: 7 | AE13: 8 | AF13: 8 | AG13: 8 | AH13: 8 | AI13: =SUM(D13:AH13) -> 180 | AJ13: =IF(D13="CP",1,0)+IF(E13="CP",1,0)+IF(F13="CP",1,0)+IF(G13="CP",1,0)+IF(H13="CP",1,0)+IF(I13="CP",1,0)+IF(J13="CP",1,0)+IF(K13="CP",1,0)+IF(L13="CP",1,0)+IF(M13="CP",1,0)+IF(N13="CP",1,0)+IF(O13="CP",1,0)+IF(P13="CP",1,0)+IF(Q13="CP",1,0)+IF(R13="CP",1,0)+IF(S13="CP",1,0)+IF(T13="CP",1,0)+IF(U13="CP",1,0)+IF(V13="CP",1,0)+IF(W13="CP",1,0)+IF(X13="CP",1,0)+IF(Y13="CP",1,0)+IF(Z13="CP",1,0)+IF(AA13="CP",1,0)+IF(AB13="CP",1,0)+IF(AD13="CP",1,0)+IF(AE13="CP",1,0)+IF(AF13="CP",1,0)+IF(AG13="CP",1,0)+IF(AH13="CP",1,0)+IF(AC13="CP",1,0) -> 0 | AK13: =IF(E13="RTT",1,0)+IF(F13="RTT",1,0)+IF(G13="RTT",1,0)+IF(H13="RTT",1,0)+IF(I13="RTT",1,0)+IF(J13="RTT",1,0)+IF(K13="RTT",1,0)+IF(L13="RTT",1,0)+IF(M13="RTT",1,0)+IF(N13="RTT",1,0)+IF(O13="RTT",1,0)+IF(P13="RTT",1,0)+IF(Q13="RTT",1,0)+IF(R13="RTT",1,0)+IF(S13="RTT",1,0)+IF(T13="RTT",1,0)+IF(U13="RTT",1,0)+IF(V13="RTT",1,0)+IF(W13="RTT",1,0)+IF(X13="RTT",1,0)+IF(Y13="RTT",1,0)+IF(Z13="RTT",1,0)+IF(AA13="RTT",1,0)+IF(AB13="RTT",1,0)+IF(AC13="RTT",1,0)+IF(AE13="RTT",1,0)+IF(AF13="RTT",1,0)+IF(AG13="RTT",1,0)+IF(AH13="RTT",1,0)+IF(AD13="RTT",1,0)+IF(D13="RTT",1,0) -> 0
A14: 03 | B14: BAUMARD | C14: YSABELLE | D14: 8 | E14: 8 | F14: 8 | G14: 7 | J14: 8 | K14: 8 | L14: 8 | M14: 8 | N14: 7 | Q14: 8 | R14: 8 | S14: 8 | T14: 8 | U14: 7 | X14: 8 | Y14: 8 | Z14: 8 | AA14: 8 | AB14: 7 | AE14: 8 | AF14: 8 | AG14: 8 | AH14: 8 | AI14: =SUM(D14:AH14) -> 180 | AJ14: =IF(D14="CP",1,0)+IF(E14="CP",1,0)+IF(F14="CP",1,0)+IF(G14="CP",1,0)+IF(H14="CP",1,0)+IF(I14="CP",1,0)+IF(J14="CP",1,0)+IF(K14="CP",1,0)+IF(L14="CP",1,0)+IF(M14="CP",1,0)+IF(N14="CP",1,0)+IF(O14="CP",1,0)+IF(P14="CP",1,0)+IF(Q14="CP",1,0)+IF(R14="CP",1,0)+IF(S14="CP",1,0)+IF(T14="CP",1,0)+IF(U14="CP",1,0)+IF(V14="CP",1,0)+IF(W14="CP",1,0)+IF(X14="CP",1,0)+IF(Y14="CP",1,0)+IF(Z14="CP",1,0)+IF(AA14="CP",1,0)+IF(AB14="CP",1,0)+IF(AD14="CP",1,0)+IF(AE14="CP",1,0)+IF(AF14="CP",1,0)+IF(AG14="CP",1,0)+IF(AH14="CP",1,0)+IF(AC14="CP",1,0) -> 0 | AK14: =IF(E14="RTT",1,0)+IF(F14="RTT",1,0)+IF(G14="RTT",1,0)+IF(H14="RTT",1,0)+IF(I14="RTT",1,0)+IF(J14="RTT",1,0)+IF(K14="RTT",1,0)+IF(L14="RTT",1,0)+IF(M14="RTT",1,0)+IF(N14="RTT",1,0)+IF(O14="RTT",1,0)+IF(P14="RTT",1,0)+IF(Q14="RTT",1,0)+IF(R14="RTT",1,0)+IF(S14="RTT",1,0)+IF(T14="RTT",1,0)+IF(U14="RTT",1,0)+IF(V14="RTT",1,0)+IF(W14="RTT",1,0)+IF(X14="RTT",1,0)+IF(Y14="RTT",1,0)+IF(Z14="RTT",1,0)+IF(AA14="RTT",1,0)+IF(AB14="RTT",1,0)+IF(AC14="RTT",1,0)+IF(AE14="RTT",1,0)+IF(AF14="RTT",1,0)+IF(AG14="RTT",1,0)+IF(AH14="RTT",1,0)+IF(AD14="RTT",1,0)+IF(D14="RTT",1,0) -> 0
A15: 23 | B15: BLANLOEIL | C15: MYRIAM | D15: 8 | E15: 8 | F15: 8 | G15: 7 | J15: 8 | K15: 8 | L15: 8 | M15: 8 | N15: 7 | Q15: 8 | R15: 8 | S15: 8 | T15: 8 | U15: 7 | X15: 8 | Y15: 8 | Z15: 8 | AA15: 8 | AB15: 7 | AE15: 8 | AF15: 8 | AG15: 8 | AH15: 8 | AI15: =SUM(D15:AH15) -> 180 | AJ15: =IF(D15="CP",1,0)+IF(E15="CP",1,0)+IF(F15="CP",1,0)+IF(G15="CP",1,0)+IF(H15="CP",1,0)+IF(I15="CP",1,0)+IF(J15="CP",1,0)+IF(K15="CP",1,0)+IF(L15="CP",1,0)+IF(M15="CP",1,0)+IF(N15="CP",1,0)+IF(O15="CP",1,0)+IF(P15="CP",1,0)+IF(Q15="CP",1,0)+IF(R15="CP",1,0)+IF(S15="CP",1,0)+IF(T15="CP",1,0)+IF(U15="CP",1,0)+IF(V15="CP",1,0)+IF(W15="CP",1,0)+IF(X15="CP",1,0)+IF(Y15="CP",1,0)+IF(Z15="CP",1,0)+IF(AA15="CP",1,0)+IF(AB15="CP",1,0)+IF(AD15="CP",1,0)+IF(AE15="CP",1,0)+IF(AF15="CP",1,0)+IF(AG15="CP",1,0)+IF(AH15="CP",1,0)+IF(AC15="CP",1,0) -> 0 | AK15: =IF(E15="RTT",1,0)+IF(F15="RTT",1,0)+IF(G15="RTT",1,0)+IF(H15="RTT",1,0)+IF(I15="RTT",1,0)+IF(J15="RTT",1,0)+IF(K15="RTT",1,0)+IF(L15="RTT",1,0)+IF(M15="RTT",1,0)+IF(N15="RTT",1,0)+IF(O15="RTT",1,0)+IF(P15="RTT",1,0)+IF(Q15="RTT",1,0)+IF(R15="RTT",1,0)+IF(S15="RTT",1,0)+IF(T15="RTT",1,0)+IF(U15="RTT",1,0)+IF(V15="RTT",1,0)+IF(W15="RTT",1,0)+IF(X15="RTT",1,0)+IF(Y15="RTT",1,0)+IF(Z15="RTT",1,0)+IF(AA15="RTT",1,0)+IF(AB15="RTT",1,0)+IF(AC15="RTT",1,0)+IF(AE15="RTT",1,0)+IF(AF15="RTT",1,0)+IF(AG15="RTT",1,0)+IF(AH15="RTT",1,0)+IF(AD15="RTT",1,0)+IF(D15="RTT",1,0) -> 0
A16: 05 | B16: BRETEAU | C16: CHRISTELLE | D16: 8 | E16: 8 | F16: 8 | G16: 7 | J16: 8 | K16: 8 | L16: 8 | M16: 8 | N16: 7 | Q16: 8 | R16: 8 | S16: 8 | T16: 8 | U16: 7 | X16: 8 | Y16: 8 | Z16: 8 | AA16: 8 | AB16: 7 | AE16: 8 | AF16: 8 | AG16: 8 | AH16: 8 | AI16: =SUM(D16:AH16) -> 180 | AJ16: =IF(D16="CP",1,0)+IF(E16="CP",1,0)+IF(F16="CP",1,0)+IF(G16="CP",1,0)+IF(H16="CP",1,0)+IF(I16="CP",1,0)+IF(J16="CP",1,0)+IF(K16="CP",1,0)+IF(L16="CP",1,0)+IF(M16="CP",1,0)+IF(N16="CP",1,0)+IF(O16="CP",1,0)+IF(P16="CP",1,0)+IF(Q16="CP",1,0)+IF(R16="CP",1,0)+IF(S16="CP",1,0)+IF(T16="CP",1,0)+IF(U16="CP",1,0)+IF(V16="CP",1,0)+IF(W16="CP",1,0)+IF(X16="CP",1,0)+IF(Y16="CP",1,0)+IF(Z16="CP",1,0)+IF(AA16="CP",1,0)+IF(AB16="CP",1,0)+IF(AD16="CP",1,0)+IF(AE16="CP",1,0)+IF(AF16="CP",1,0)+IF(AG16="CP",1,0)+IF(AH16="CP",1,0)+IF(AC16="CP",1,0) -> 0 | AK16: =IF(E16="RTT",1,0)+IF(F16="RTT",1,0)+IF(G16="RTT",1,0)+IF(H16="RTT",1,0)+IF(I16="RTT",1,0)+IF(J16="RTT",1,0)+IF(K16="RTT",1,0)+IF(L16="RTT",1,0)+IF(M16="RTT",1,0)+IF(N16="RTT",1,0)+IF(O16="RTT",1,0)+IF(P16="RTT",1,0)+IF(Q16="RTT",1,0)+IF(R16="RTT",1,0)+IF(S16="RTT",1,0)+IF(T16="RTT",1,0)+IF(U16="RTT",1,0)+IF(V16="RTT",1,0)+IF(W16="RTT",1,0)+IF(X16="RTT",1,0)+IF(Y16="RTT",1,0)+IF(Z16="RTT",1,0)+IF(AA16="RTT",1,0)+IF(AB16="RTT",1,0)+IF(AC16="RTT",1,0)+IF(AE16="RTT",1,0)+IF(AF16="RTT",1,0)+IF(AG16="RTT",1,0)+IF(AH16="RTT",1,0)+IF(AD16="RTT",1,0)+IF(D16="RTT",1,0) -> 0
A17: 04 | B17: CHAUVIRE | C17: ALINE | D17: 8 | E17: 8 | F17: 8 | G17: 7 | J17: 8 | K17: 8 | L17: 8 | M17: 8 | N17: 7 | Q17: 8 | R17: 8 | S17: 8 | T17: 8 | U17: 7 | X17: 8 | Y17: 8 | Z17: 8 | AA17: 8 | AB17: 7 | AE17: 8 | AF17: 8 | AG17: 8 | AH17: 8 | AI17: =SUM(D17:AH17) -> 180 | AJ17: =IF(D17="CP",1,0)+IF(E17="CP",1,0)+IF(F17="CP",1,0)+IF(G17="CP",1,0)+IF(H17="CP",1,0)+IF(I17="CP",1,0)+IF(J17="CP",1,0)+IF(K17="CP",1,0)+IF(L17="CP",1,0)+IF(M17="CP",1,0)+IF(N17="CP",1,0)+IF(O17="CP",1,0)+IF(P17="CP",1,0)+IF(Q17="CP",1,0)+IF(R17="CP",1,0)+IF(S17="CP",1,0)+IF(T17="CP",1,0)+IF(U17="CP",1,0)+IF(V17="CP",1,0)+IF(W17="CP",1,0)+IF(X17="CP",1,0)+IF(Y17="CP",1,0)+IF(Z17="CP",1,0)+IF(AA17="CP",1,0)+IF(AB17="CP",1,0)+IF(AD17="CP",1,0)+IF(AE17="CP",1,0)+IF(AF17="CP",1,0)+IF(AG17="CP",1,0)+IF(AH17="CP",1,0)+IF(AC17="CP",1,0) -> 0 | AK17: =IF(E17="RTT",1,0)+IF(F17="RTT",1,0)+IF(G17="RTT",1,0)+IF(H17="RTT",1,0)+IF(I17="RTT",1,0)+IF(J17="RTT",1,0)+IF(K17="RTT",1,0)+IF(L17="RTT",1,0)+IF(M17="RTT",1,0)+IF(N17="RTT",1,0)+IF(O17="RTT",1,0)+IF(P17="RTT",1,0)+IF(Q17="RTT",1,0)+IF(R17="RTT",1,0)+IF(S17="RTT",1,0)+IF(T17="RTT",1,0)+IF(U17="RTT",1,0)+IF(V17="RTT",1,0)+IF(W17="RTT",1,0)+IF(X17="RTT",1,0)+IF(Y17="RTT",1,0)+IF(Z17="RTT",1,0)+IF(AA17="RTT",1,0)+IF(AB17="RTT",1,0)+IF(AC17="RTT",1,0)+IF(AE17="RTT",1,0)+IF(AF17="RTT",1,0)+IF(AG17="RTT",1,0)+IF(AH17="RTT",1,0)+IF(AD17="RTT",1,0)+IF(D17="RTT",1,0) -> 0
A18: 07 | B18: CHIRON | C18: FRANCOISE | D18: 8 | E18: 8 | F18: 8 | G18: 7 | J18: 8 | K18: 8 | L18: 8 | M18: 8 | N18: 7 | Q18: 8 | R18: 8 | S18: 8 | T18: 8 | U18: 7 | X18: 8 | Y18: 8 | Z18: 8 | AA18: 8 | AB18: 7 | AE18: 8 | AF18: 8 | AG18: 8 | AH18: 8 | AI18: =SUM(D18:AH18) -> 180 | AJ18: =IF(D18="CP",1,0)+IF(E18="CP",1,0)+IF(F18="CP",1,0)+IF(G18="CP",1,0)+IF(H18="CP",1,0)+IF(I18="CP",1,0)+IF(J18="CP",1,0)+IF(K18="CP",1,0)+IF(L18="CP",1,0)+IF(M18="CP",1,0)+IF(N18="CP",1,0)+IF(O18="CP",1,0)+IF(P18="CP",1,0)+IF(Q18="CP",1,0)+IF(R18="CP",1,0)+IF(S18="CP",1,0)+IF(T18="CP",1,0)+IF(U18="CP",1,0)+IF(V18="CP",1,0)+IF(W18="CP",1,0)+IF(X18="CP",1,0)+IF(Y18="CP",1,0)+IF(Z18="CP",1,0)+IF(AA18="CP",1,0)+IF(AB18="CP",1,0)+IF(AD18="CP",1,0)+IF(AE18="CP",1,0)+IF(AF18="CP",1,0)+IF(AG18="CP",1,0)+IF(AH18="CP",1,0)+IF(AC18="CP",1,0) -> 0 | AK18: =IF(E18="RTT",1,0)+IF(F18="RTT",1,0)+IF(G18="RTT",1,0)+IF(H18="RTT",1,0)+IF(I18="RTT",1,0)+IF(J18="RTT",1,0)+IF(K18="RTT",1,0)+IF(L18="RTT",1,0)+IF(M18="RTT",1,0)+IF(N18="RTT",1,0)+IF(O18="RTT",1,0)+IF(P18="RTT",1,0)+IF(Q18="RTT",1,0)+IF(R18="RTT",1,0)+IF(S18="RTT",1,0)+IF(T18="RTT",1,0)+IF(U18="RTT",1,0)+IF(V18="RTT",1,0)+IF(W18="RTT",1,0)+IF(X18="RTT",1,0)+IF(Y18="RTT",1,0)+IF(Z18="RTT",1,0)+IF(AA18="RTT",1,0)+IF(AB18="RTT",1,0)+IF(AC18="RTT",1,0)+IF(AE18="RTT",1,0)+IF(AF18="RTT",1,0)+IF(AG18="RTT",1,0)+IF(AH18="RTT",1,0)+IF(AD18="RTT",1,0)+IF(D18="RTT",1,0) -> 0
A19: 20 | B19: CHUDEAU | C19: ROMANE | D19: 8 | E19: 8 | F19: 8 | G19: 7 | J19: 8 | K19: 8 | L19: 8 | M19: 8 | N19: 7 | Q19: 8 | R19: 8 | S19: 8 | T19: 8 | U19: 7 | X19: 8 | Y19: 8 | Z19: 8 | AA19: 8 | AB19: 7 | AE19: 8 | AF19: 8 | AG19: 8 | AH19: 8 | AI19: =SUM(D19:AH19) -> 180 | AJ19: =IF(D19="CP",1,0)+IF(E19="CP",1,0)+IF(F19="CP",1,0)+IF(G19="CP",1,0)+IF(H19="CP",1,0)+IF(I19="CP",1,0)+IF(J19="CP",1,0)+IF(K19="CP",1,0)+IF(L19="CP",1,0)+IF(M19="CP",1,0)+IF(N19="CP",1,0)+IF(O19="CP",1,0)+IF(P19="CP",1,0)+IF(Q19="CP",1,0)+IF(R19="CP",1,0)+IF(S19="CP",1,0)+IF(T19="CP",1,0)+IF(U19="CP",1,0)+IF(V19="CP",1,0)+IF(W19="CP",1,0)+IF(X19="CP",1,0)+IF(Y19="CP",1,0)+IF(Z19="CP",1,0)+IF(AA19="CP",1,0)+IF(AB19="CP",1,0)+IF(AD19="CP",1,0)+IF(AE19="CP",1,0)+IF(AF19="CP",1,0)+IF(AG19="CP",1,0)+IF(AH19="CP",1,0)+IF(AC19="CP",1,0) -> 0 | AK19: =IF(E19="RTT",1,0)+IF(F19="RTT",1,0)+IF(G19="RTT",1,0)+IF(H19="RTT",1,0)+IF(I19="RTT",1,0)+IF(J19="RTT",1,0)+IF(K19="RTT",1,0)+IF(L19="RTT",1,0)+IF(M19="RTT",1,0)+IF(N19="RTT",1,0)+IF(O19="RTT",1,0)+IF(P19="RTT",1,0)+IF(Q19="RTT",1,0)+IF(R19="RTT",1,0)+IF(S19="RTT",1,0)+IF(T19="RTT",1,0)+IF(U19="RTT",1,0)+IF(V19="RTT",1,0)+IF(W19="RTT",1,0)+IF(X19="RTT",1,0)+IF(Y19="RTT",1,0)+IF(Z19="RTT",1,0)+IF(AA19="RTT",1,0)+IF(AB19="RTT",1,0)+IF(AC19="RTT",1,0)+IF(AE19="RTT",1,0)+IF(AF19="RTT",1,0)+IF(AG19="RTT",1,0)+IF(AH19="RTT",1,0)+IF(AD19="RTT",1,0)+IF(D19="RTT",1,0) -> 0
A20: 21 | B20: CONTIN | C20: ARMAND | D20: 8 | E20: 8 | F20: 8 | G20: 7 | J20: 8 | K20: 8 | L20: 8 | M20: 8 | N20: 7 | Q20: 8 | R20: 8 | S20: 8 | T20: 8 | U20: 7 | X20: 8 | Y20: 8 | Z20: 8 | AA20: 8 | AB20: 7 | AE20: 8 | AF20: 8 | AG20: 8 | AH20: 8 | AI20: =SUM(D20:AH20) -> 180 | AJ20: =IF(D20="CP",1,0)+IF(E20="CP",1,0)+IF(F20="CP",1,0)+IF(G20="CP",1,0)+IF(H20="CP",1,0)+IF(I20="CP",1,0)+IF(J20="CP",1,0)+IF(K20="CP",1,0)+IF(L20="CP",1,0)+IF(M20="CP",1,0)+IF(N20="CP",1,0)+IF(O20="CP",1,0)+IF(P20="CP",1,0)+IF(Q20="CP",1,0)+IF(R20="CP",1,0)+IF(S20="CP",1,0)+IF(T20="CP",1,0)+IF(U20="CP",1,0)+IF(V20="CP",1,0)+IF(W20="CP",1,0)+IF(X20="CP",1,0)+IF(Y20="CP",1,0)+IF(Z20="CP",1,0)+IF(AA20="CP",1,0)+IF(AB20="CP",1,0)+IF(AD20="CP",1,0)+IF(AE20="CP",1,0)+IF(AF20="CP",1,0)+IF(AG20="CP",1,0)+IF(AH20="CP",1,0)+IF(AC20="CP",1,0) -> 0 | AK20: =IF(E20="RTT",1,0)+IF(F20="RTT",1,0)+IF(G20="RTT",1,0)+IF(H20="RTT",1,0)+IF(I20="RTT",1,0)+IF(J20="RTT",1,0)+IF(K20="RTT",1,0)+IF(L20="RTT",1,0)+IF(M20="RTT",1,0)+IF(N20="RTT",1,0)+IF(O20="RTT",1,0)+IF(P20="RTT",1,0)+IF(Q20="RTT",1,0)+IF(R20="RTT",1,0)+IF(S20="RTT",1,0)+IF(T20="RTT",1,0)+IF(U20="RTT",1,0)+IF(V20="RTT",1,0)+IF(W20="RTT",1,0)+IF(X20="RTT",1,0)+IF(Y20="RTT",1,0)+IF(Z20="RTT",1,0)+IF(AA20="RTT",1,0)+IF(AB20="RTT",1,0)+IF(AC20="RTT",1,0)+IF(AE20="RTT",1,0)+IF(AF20="RTT",1,0)+IF(AG20="RTT",1,0)+IF(AH20="RTT",1,0)+IF(AD20="RTT",1,0)+IF(D20="RTT",1,0) -> 0
A21: 09 | B21: COUVREUX | C21: FLORA | D21: 8 | E21: 8 | F21: 8 | G21: 7 | J21: 8 | K21: 8 | L21: 8 | M21: 8 | N21: 7 | Q21: 8 | R21: 8 | S21: 8 | T21: 8 | U21: 7 | X21: 8 | Y21: 8 | Z21: 8 | AA21: 8 | AB21: 7 | AE21: 8 | AF21: 8 | AG21: 8 | AH21: 8 | AI21: =SUM(D21:AH21) -> 180 | AJ21: =IF(D21="CP",1,0)+IF(E21="CP",1,0)+IF(F21="CP",1,0)+IF(G21="CP",1,0)+IF(H21="CP",1,0)+IF(I21="CP",1,0)+IF(J21="CP",1,0)+IF(K21="CP",1,0)+IF(L21="CP",1,0)+IF(M21="CP",1,0)+IF(N21="CP",1,0)+IF(O21="CP",1,0)+IF(P21="CP",1,0)+IF(Q21="CP",1,0)+IF(R21="CP",1,0)+IF(S21="CP",1,0)+IF(T21="CP",1,0)+IF(U21="CP",1,0)+IF(V21="CP",1,0)+IF(W21="CP",1,0)+IF(X21="CP",1,0)+IF(Y21="CP",1,0)+IF(Z21="CP",1,0)+IF(AA21="CP",1,0)+IF(AB21="CP",1,0)+IF(AD21="CP",1,0)+IF(AE21="CP",1,0)+IF(AF21="CP",1,0)+IF(AG21="CP",1,0)+IF(AH21="CP",1,0)+IF(AC21="CP",1,0) -> 0 | AK21: =IF(E21="RTT",1,0)+IF(F21="RTT",1,0)+IF(G21="RTT",1,0)+IF(H21="RTT",1,0)+IF(I21="RTT",1,0)+IF(J21="RTT",1,0)+IF(K21="RTT",1,0)+IF(L21="RTT",1,0)+IF(M21="RTT",1,0)+IF(N21="RTT",1,0)+IF(O21="RTT",1,0)+IF(P21="RTT",1,0)+IF(Q21="RTT",1,0)+IF(R21="RTT",1,0)+IF(S21="RTT",1,0)+IF(T21="RTT",1,0)+IF(U21="RTT",1,0)+IF(V21="RTT",1,0)+IF(W21="RTT",1,0)+IF(X21="RTT",1,0)+IF(Y21="RTT",1,0)+IF(Z21="RTT",1,0)+IF(AA21="RTT",1,0)+IF(AB21="RTT",1,0)+IF(AC21="RTT",1,0)+IF(AE21="RTT",1,0)+IF(AF21="RTT",1,0)+IF(AG21="RTT",1,0)+IF(AH21="RTT",1,0)+IF(AD21="RTT",1,0)+IF(D21="RTT",1,0) -> 0
A22: 10 | B22: DEKHIL | C22: HENNACHI | D22: 8 | E22: 8 | F22: 8 | G22: 7 | J22: 8 | K22: 8 | L22: 8 | M22: 8 | N22: 7 | Q22: 8 | R22: 8 | S22: 8 | T22: 8 | U22: 7 | X22: 8 | Y22: 8 | Z22: 8 | AA22: 8 | AB22: 7 | AE22: 8 | AF22: 8 | AG22: 8 | AH22: 8 | AI22: =SUM(D22:AH22) -> 180 | AJ22: =IF(D22="CP",1,0)+IF(E22="CP",1,0)+IF(F22="CP",1,0)+IF(G22="CP",1,0)+IF(H22="CP",1,0)+IF(I22="CP",1,0)+IF(J22="CP",1,0)+IF(K22="CP",1,0)+IF(L22="CP",1,0)+IF(M22="CP",1,0)+IF(N22="CP",1,0)+IF(O22="CP",1,0)+IF(P22="CP",1,0)+IF(Q22="CP",1,0)+IF(R22="CP",1,0)+IF(S22="CP",1,0)+IF(T22="CP",1,0)+IF(U22="CP",1,0)+IF(V22="CP",1,0)+IF(W22="CP",1,0)+IF(X22="CP",1,0)+IF(Y22="CP",1,0)+IF(Z22="CP",1,0)+IF(AA22="CP",1,0)+IF(AB22="CP",1,0)+IF(AD22="CP",1,0)+IF(AE22="CP",1,0)+IF(AF22="CP",1,0)+IF(AG22="CP",1,0)+IF(AH22="CP",1,0)+IF(AC22="CP",1,0) -> 0 | AK22: =IF(E22="RTT",1,0)+IF(F22="RTT",1,0)+IF(G22="RTT",1,0)+IF(H22="RTT",1,0)+IF(I22="RTT",1,0)+IF(J22="RTT",1,0)+IF(K22="RTT",1,0)+IF(L22="RTT",1,0)+IF(M22="RTT",1,0)+IF(N22="RTT",1,0)+IF(O22="RTT",1,0)+IF(P22="RTT",1,0)+IF(Q22="RTT",1,0)+IF(R22="RTT",1,0)+IF(S22="RTT",1,0)+IF(T22="RTT",1,0)+IF(U22="RTT",1,0)+IF(V22="RTT",1,0)+IF(W22="RTT",1,0)+IF(X22="RTT",1,0)+IF(Y22="RTT",1,0)+IF(Z22="RTT",1,0)+IF(AA22="RTT",1,0)+IF(AB22="RTT",1,0)+IF(AC22="RTT",1,0)+IF(AE22="RTT",1,0)+IF(AF22="RTT",1,0)+IF(AG22="RTT",1,0)+IF(AH22="RTT",1,0)+IF(AD22="RTT",1,0)+IF(D22="RTT",1,0) -> 0
A23: 12 | B23: GOURDON | C23: KATIA | D23: 8 | E23: 8 | F23: 8 | G23: 7 | J23: 8 | K23: 8 | L23: 8 | M23: 8 | N23: 7 | Q23: 8 | R23: 8 | S23: 8 | T23: 8 | U23: 7 | X23: 8 | Y23: 8 | Z23: 8 | AA23: 8 | AB23: 7 | AE23: 8 | AF23: 8 | AG23: 8 | AH23: 8 | AI23: =SUM(D23:AH23) -> 180 | AJ23: =IF(D23="CP",1,0)+IF(E23="CP",1,0)+IF(F23="CP",1,0)+IF(G23="CP",1,0)+IF(H23="CP",1,0)+IF(I23="CP",1,0)+IF(J23="CP",1,0)+IF(K23="CP",1,0)+IF(L23="CP",1,0)+IF(M23="CP",1,0)+IF(N23="CP",1,0)+IF(O23="CP",1,0)+IF(P23="CP",1,0)+IF(Q23="CP",1,0)+IF(R23="CP",1,0)+IF(S23="CP",1,0)+IF(T23="CP",1,0)+IF(U23="CP",1,0)+IF(V23="CP",1,0)+IF(W23="CP",1,0)+IF(X23="CP",1,0)+IF(Y23="CP",1,0)+IF(Z23="CP",1,0)+IF(AA23="CP",1,0)+IF(AB23="CP",1,0)+IF(AD23="CP",1,0)+IF(AE23="CP",1,0)+IF(AF23="CP",1,0)+IF(AG23="CP",1,0)+IF(AH23="CP",1,0)+IF(AC23="CP",1,0) -> 0 | AK23: =IF(E23="RTT",1,0)+IF(F23="RTT",1,0)+IF(G23="RTT",1,0)+IF(H23="RTT",1,0)+IF(I23="RTT",1,0)+IF(J23="RTT",1,0)+IF(K23="RTT",1,0)+IF(L23="RTT",1,0)+IF(M23="RTT",1,0)+IF(N23="RTT",1,0)+IF(O23="RTT",1,0)+IF(P23="RTT",1,0)+IF(Q23="RTT",1,0)+IF(R23="RTT",1,0)+IF(S23="RTT",1,0)+IF(T23="RTT",1,0)+IF(U23="RTT",1,0)+IF(V23="RTT",1,0)+IF(W23="RTT",1,0)+IF(X23="RTT",1,0)+IF(Y23="RTT",1,0)+IF(Z23="RTT",1,0)+IF(AA23="RTT",1,0)+IF(AB23="RTT",1,0)+IF(AC23="RTT",1,0)+IF(AE23="RTT",1,0)+IF(AF23="RTT",1,0)+IF(AG23="RTT",1,0)+IF(AH23="RTT",1,0)+IF(AD23="RTT",1,0)+IF(D23="RTT",1,0) -> 0
... A34: 16 | B34: TRIOLET | C34: FANNY | D34: 8 | E34: 8 | F34: 8 | G34: 7 | J34: 8 | K34: 8 | L34: 8 | M34: 8 | N34: 7 | Q34: 8 | R34: 8 | S34: 8 | T34: 8 | U34: 7 | X34: 8 | Y34: 8 | Z34: 8 | AA34: 8 | AB34: 7 | AE34: 8 | AF34: 8 | AG34: 8 | AH34: 8 | AI34: =SUM(D34:AH34) -> 180 | AJ34: =IF(D34="CP",1,0)+IF(E34="CP",1,0)+IF(F34="CP",1,0)+IF(G34="CP",1,0)+IF(H34="CP",1,0)+IF(I34="CP",1,0)+IF(J34="CP",1,0)+IF(K34="CP",1,0)+IF(L34="CP",1,0)+IF(M34="CP",1,0)+IF(N34="CP",1,0)+IF(O34="CP",1,0)+IF(P34="CP",1,0)+IF(Q34="CP",1,0)+IF(R34="CP",1,0)+IF(S34="CP",1,0)+IF(T34="CP",1,0)+IF(U34="CP",1,0)+IF(V34="CP",1,0)+IF(W34="CP",1,0)+IF(X34="CP",1,0)+IF(Y34="CP",1,0)+IF(Z34="CP",1,0)+IF(AA34="CP",1,0)+IF(AB34="CP",1,0)+IF(AD34="CP",1,0)+IF(AE34="CP",1,0)+IF(AF34="CP",1,0)+IF(AG34="CP",1,0)+IF(AH34="CP",1,0)+IF(AC34="CP",1,0) -> 0 | AK34: =IF(E34="RTT",1,0)+IF(F34="RTT",1,0)+IF(G34="RTT",1,0)+IF(H34="RTT",1,0)+IF(I34="RTT",1,0)+IF(J34="RTT",1,0)+IF(K34="RTT",1,0)+IF(L34="RTT",1,0)+IF(M34="RTT",1,0)+IF(N34="RTT",1,0)+IF(O34="RTT",1,0)+IF(P34="RTT",1,0)+IF(Q34="RTT",1,0)+IF(R34="RTT",1,0)+IF(S34="RTT",1,0)+IF(T34="RTT",1,0)+IF(U34="RTT",1,0)+IF(V34="RTT",1,0)+IF(W34="RTT",1,0)+IF(X34="RTT",1,0)+IF(Y34="RTT",1,0)+IF(Z34="RTT",1,0)+IF(AA34="RTT",1,0)+IF(AB34="RTT",1,0)+IF(AC34="RTT",1,0)+IF(AE34="RTT",1,0)+IF(AF34="RTT",1,0)+IF(AG34="RTT",1,0)+IF(AH34="RTT",1,0)+IF(AD34="RTT",1,0)+IF(D34="RTT",1,0) -> 0
A37: SAISONNIERS
A38: z101
A39: z102
A40: z103
A41: z104
A42: z105
A43: z106
C46: NOTES SUPPLEMENTAIRES

Sheet Nov
B1: 2019
B2: 11
C4: FICHE DE PRESENCE | Q4: MOIS | T4: NOVEMBRE | Z4: 2019
C6: 19 | D6: jours
C8: SEMAINES | D8: 44 | I8: 45 | P8: 46 | W8: 47 | AD8: 48
D9: V | G9: L | H9: M | I9: M | J9: J | K9: V | N9: L | O9: M | P9: M | Q9: J | R9: V | U9: L | V9: M | W9: M | X9: J | Y9: V | AB9: L | AC9: M | AD9: M | AE9: J | AF9: V | AI9: H. TOT | AJ9: CP | AK9: RTT
C10: JOURS | D10: 1 | E10: 2 | F10: 3 | G10: 4 | H10: 5 | I10: 6 | J10: 7 | K10: 8 | L10: 9 | M10: 10 | N10: 11 | O10: 12 | P10: 13 | Q10: 14 | R10: 15 | S10: 16 | T10: 17 | U10: 18 | V10: 19 | W10: 20 | X10: 21 | Y10: 22 | Z10: 23 | AA10: 24 | AB10: 25 | AC10: 26 | AD10: 27 | AE10: 28 | AF10: 29 | AG10: 30 | AI10: TRAVAIL | AJ10: jours | AK10: jours
A12: 01 | B12: ABELARD | C12: AURELIE | G12: 8 | H12: 8 | I12: 8 | J12: 8 | K12: 7 | O12: 8 | P12: 8 | Q12: 8 | R12: 7 | U12: 8 | V12: 8 | W12: 8 | X12: 8 | Y12: 7 | AB12: 8 | AC12: 8 | AD12: 8 | AE12: 8 | AF12: 7 | AI12: =SUM(D12:AH12) -> 148 | AJ12: =IF(D12="CP",1,0)+IF(E12="CP",1,0)+IF(F12="CP",1,0)+IF(G12="CP",1,0)+IF(H12="CP",1,0)+IF(I12="CP",1,0)+IF(J12="CP",1,0)+IF(K12="CP",1,0)+IF(L12="CP",1,0)+IF(M12="CP",1,0)+IF(N12="CP",1,0)+IF(O12="CP",1,0)+IF(P12="CP",1,0)+IF(Q12="CP",1,0)+IF(R12="CP",1,0)+IF(S12="CP",1,0)+IF(T12="CP",1,0)+IF(U12="CP",1,0)+IF(V12="CP",1,0)+IF(W12="CP",1,0)+IF(X12="CP",1,0)+IF(Y12="CP",1,0)+IF(Z12="CP",1,0)+IF(AA12="CP",1,0)+IF(AB12="CP",1,0)+IF(AD12="CP",1,0)+IF(AE12="CP",1,0)+IF(AF12="CP",1,0)+IF(AG12="CP",1,0)+IF(AH12="CP",1,0)+IF(AC12="CP",1,0) -> 0 | AK12: =IF(E12="RTT",1,0)+IF(F12="RTT",1,0)+IF(G12="RTT",1,0)+IF(H12="RTT",1,0)+IF(I12="RTT",1,0)+IF(J12="RTT",1,0)+IF(K12="RTT",1,0)+IF(L12="RTT",1,0)+IF(M12="RTT",1,0)+IF(N12="RTT",1,0)+IF(O12="RTT",1,0)+IF(P12="RTT",1,0)+IF(Q12="RTT",1,0)+IF(R12="RTT",1,0)+IF(S12="RTT",1,0)+IF(T12="RTT",1,0)+IF(U12="RTT",1,0)+IF(V12="RTT",1,0)+IF(W12="RTT",1,0)+IF(X12="RTT",1,0)+IF(Y12="RTT",1,0)+IF(Z12="RTT",1,0)+IF(AA12="RTT",1,0)+IF(AB12="RTT",1,0)+IF(AC12="RTT",1,0)+IF(AE12="RTT",1,0)+IF(AF12="RTT",1,0)+IF(AG12="RTT",1,0)+IF(AH12="RTT",1,0)+IF(AD12="RTT",1,0)+IF(D12="RTT",1,0) -> 0
A13: 02 | B13: AGOT | C13: DOMINIQUE | G13: 8 | H13: 8 | I13: 8 | J13: 8 | K13: 7 | O13: 8 | P13: 8 | Q13: 8 | R13: 7 | U13: 8 | V13: 8 | W13: 8 | X13: 8 | Y13: 7 | AB13: 8 | AC13: 8 | AD13: 8 | AE13: 8 | AF13: 7 | AI13: =SUM(D13:AH13) -> 148 | AJ13: =IF(D13="CP",1,0)+IF(E13="CP",1,0)+IF(F13="CP",1,0)+IF(G13="CP",1,0)+IF(H13="CP",1,0)+IF(I13="CP",1,0)+IF(J13="CP",1,0)+IF(K13="CP",1,0)+IF(L13="CP",1,0)+IF(M13="CP",1,0)+IF(N13="CP",1,0)+IF(O13="CP",1,0)+IF(P13="CP",1,0)+IF(Q13="CP",1,0)+IF(R13="CP",1,0)+IF(S13="CP",1,0)+IF(T13="CP",1,0)+IF(U13="CP",1,0)+IF(V13="CP",1,0)+IF(W13="CP",1,0)+IF(X13="CP",1,0)+IF(Y13="CP",1,0)+IF(Z13="CP",1,0)+IF(AA13="CP",1,0)+IF(AB13="CP",1,0)+IF(AD13="CP",1,0)+IF(AE13="CP",1,0)+IF(AF13="CP",1,0)+IF(AG13="CP",1,0)+IF(AH13="CP",1,0)+IF(AC13="CP",1,0) -> 0 | AK13: =IF(E13="RTT",1,0)+IF(F13="RTT",1,0)+IF(G13="RTT",1,0)+IF(H13="RTT",1,0)+IF(I13="RTT",1,0)+IF(J13="RTT",1,0)+IF(K13="RTT",1,0)+IF(L13="RTT",1,0)+IF(M13="RTT",1,0)+IF(N13="RTT",1,0)+IF(O13="RTT",1,0)+IF(P13="RTT",1,0)+IF(Q13="RTT",1,0)+IF(R13="RTT",1,0)+IF(S13="RTT",1,0)+IF(T13="RTT",1,0)+IF(U13="RTT",1,0)+IF(V13="RTT",1,0)+IF(W13="RTT",1,0)+IF(X13="RTT",1,0)+IF(Y13="RTT",1,0)+IF(Z13="RTT",1,0)+IF(AA13="RTT",1,0)+IF(AB13="RTT",1,0)+IF(AC13="RTT",1,0)+IF(AE13="RTT",1,0)+IF(AF13="RTT",1,0)+IF(AG13="RTT",1,0)+IF(AH13="RTT",1,0)+IF(AD13="RTT",1,0)+IF(D13="RTT",1,0) -> 0
A14: 03 | B14: BAUMARD | C14: YSABELLE | G14: 8 | H14: 8 | I14: 8 | J14: 8 | K14: 7 | O14: 8 | P14: 8 | Q14: 8 | R14: 7 | U14: 8 | V14: 8 | W14: 8 | X14: 8 | Y14: 7 | AB14: 8 | AC14: 8 | AD14: 8 | AE14: 8 | AF14: 7 | AI14: =SUM(D14:AH14) -> 148 | AJ14: =IF(D14="CP",1,0)+IF(E14="CP",1,0)+IF(F14="CP",1,0)+IF(G14="CP",1,0)+IF(H14="CP",1,0)+IF(I14="CP",1,0)+IF(J14="CP",1,0)+IF(K14="CP",1,0)+IF(L14="CP",1,0)+IF(M14="CP",1,0)+IF(N14="CP",1,0)+IF(O14="CP",1,0)+IF(P14="CP",1,0)+IF(Q14="CP",1,0)+IF(R14="CP",1,0)+IF(S14="CP",1,0)+IF(T14="CP",1,0)+IF(U14="CP",1,0)+IF(V14="CP",1,0)+IF(W14="CP",1,0)+IF(X14="CP",1,0)+IF(Y14="CP",1,0)+IF(Z14="CP",1,0)+IF(AA14="CP",1,0)+IF(AB14="CP",1,0)+IF(AD14="CP",1,0)+IF(AE14="CP",1,0)+IF(AF14="CP",1,0)+IF(AG14="CP",1,0)+IF(AH14="CP",1,0)+IF(AC14="CP",1,0) -> 0 | AK14: =IF(E14="RTT",1,0)+IF(F14="RTT",1,0)+IF(G14="RTT",1,0)+IF(H14="RTT",1,0)+IF(I14="RTT",1,0)+IF(J14="RTT",1,0)+IF(K14="RTT",1,0)+IF(L14="RTT",1,0)+IF(M14="RTT",1,0)+IF(N14="RTT",1,0)+IF(O14="RTT",1,0)+IF(P14="RTT",1,0)+IF(Q14="RTT",1,0)+IF(R14="RTT",1,0)+IF(S14="RTT",1,0)+IF(T14="RTT",1,0)+IF(U14="RTT",1,0)+IF(V14="RTT",1,0)+IF(W14="RTT",1,0)+IF(X14="RTT",1,0)+IF(Y14="RTT",1,0)+IF(Z14="RTT",1,0)+IF(AA14="RTT",1,0)+IF(AB14="RTT",1,0)+IF(AC14="RTT",1,0)+IF(AE14="RTT",1,0)+IF(AF14="RTT",1,0)+IF(AG14="RTT",1,0)+IF(AH14="RTT",1,0)+IF(AD14="RTT",1,0)+IF(D14="RTT",1,0) -> 0
A15: 23 | B15: BLANLOEIL | C15: MYRIAM | G15: 8 | H15: 8 | I15: 8 | J15: 8 | K15: 7 | O15: 8 | P15: 8 | Q15: 8 | R15: 7 | U15: 8 | V15: 8 | W15: 8 | X15: 8 | Y15: 7 | AB15: 8 | AC15: 8 | AD15: 8 | AE15: 8 | AF15: 7 | AI15: =SUM(D15:AH15) -> 148 | AJ15: =IF(D15="CP",1,0)+IF(E15="CP",1,0)+IF(F15="CP",1,0)+IF(G15="CP",1,0)+IF(H15="CP",1,0)+IF(I15="CP",1,0)+IF(J15="CP",1,0)+IF(K15="CP",1,0)+IF(L15="CP",1,0)+IF(M15="CP",1,0)+IF(N15="CP",1,0)+IF(O15="CP",1,0)+IF(P15="CP",1,0)+IF(Q15="CP",1,0)+IF(R15="CP",1,0)+IF(S15="CP",1,0)+IF(T15="CP",1,0)+IF(U15="CP",1,0)+IF(V15="CP",1,0)+IF(W15="CP",1,0)+IF(X15="CP",1,0)+IF(Y15="CP",1,0)+IF(Z15="CP",1,0)+IF(AA15="CP",1,0)+IF(AB15="CP",1,0)+IF(AD15="CP",1,0)+IF(AE15="CP",1,0)+IF(AF15="CP",1,0)+IF(AG15="CP",1,0)+IF(AH15="CP",1,0)+IF(AC15="CP",1,0) -> 0 | AK15: =IF(E15="RTT",1,0)+IF(F15="RTT",1,0)+IF(G15="RTT",1,0)+IF(H15="RTT",1,0)+IF(I15="RTT",1,0)+IF(J15="RTT",1,0)+IF(K15="RTT",1,0)+IF(L15="RTT",1,0)+IF(M15="RTT",1,0)+IF(N15="RTT",1,0)+IF(O15="RTT",1,0)+IF(P15="RTT",1,0)+IF(Q15="RTT",1,0)+IF(R15="RTT",1,0)+IF(S15="RTT",1,0)+IF(T15="RTT",1,0)+IF(U15="RTT",1,0)+IF(V15="RTT",1,0)+IF(W15="RTT",1,0)+IF(X15="RTT",1,0)+IF(Y15="RTT",1,0)+IF(Z15="RTT",1,0)+IF(AA15="RTT",1,0)+IF(AB15="RTT",1,0)+IF(AC15="RTT",1,0)+IF(AE15="RTT",1,0)+IF(AF15="RTT",1,0)+IF(AG15="RTT",1,0)+IF(AH15="RTT",1,0)+IF(AD15="RTT",1,0)+IF(D15="RTT",1,0) -> 0
A16: 05 | B16: BRETEAU | C16: CHRISTELLE | G16: 8 | H16: 8 | I16: 8 | J16: 8 | K16: 7 | O16: 8 | P16: 8 | Q16: 8 | R16: 7 | U16: 8 | V16: 8 | W16: 8 | X16: 8 | Y16: 7 | AB16: 8 | AC16: 8 | AD16: 8 | AE16: 8 | AF16: 7 | AI16: =SUM(D16:AH16) -> 148 | AJ16: =IF(D16="CP",1,0)+IF(E16="CP",1,0)+IF(F16="CP",1,0)+IF(G16="CP",1,0)+IF(H16="CP",1,0)+IF(I16="CP",1,0)+IF(J16="CP",1,0)+IF(K16="CP",1,0)+IF(L16="CP",1,0)+IF(M16="CP",1,0)+IF(N16="CP",1,0)+IF(O16="CP",1,0)+IF(P16="CP",1,0)+IF(Q16="CP",1,0)+IF(R16="CP",1,0)+IF(S16="CP",1,0)+IF(T16="CP",1,0)+IF(U16="CP",1,0)+IF(V16="CP",1,0)+IF(W16="CP",1,0)+IF(X16="CP",1,0)+IF(Y16="CP",1,0)+IF(Z16="CP",1,0)+IF(AA16="CP",1,0)+IF(AB16="CP",1,0)+IF(AD16="CP",1,0)+IF(AE16="CP",1,0)+IF(AF16="CP",1,0)+IF(AG16="CP",1,0)+IF(AH16="CP",1,0)+IF(AC16="CP",1,0) -> 0 | AK16: =IF(E16="RTT",1,0)+IF(F16="RTT",1,0)+IF(G16="RTT",1,0)+IF(H16="RTT",1,0)+IF(I16="RTT",1,0)+IF(J16="RTT",1,0)+IF(K16="RTT",1,0)+IF(L16="RTT",1,0)+IF(M16="RTT",1,0)+IF(N16="RTT",1,0)+IF(O16="RTT",1,0)+IF(P16="RTT",1,0)+IF(Q16="RTT",1,0)+IF(R16="RTT",1,0)+IF(S16="RTT",1,0)+IF(T16="RTT",1,0)+IF(U16="RTT",1,0)+IF(V16="RTT",1,0)+IF(W16="RTT",1,0)+IF(X16="RTT",1,0)+IF(Y16="RTT",1,0)+IF(Z16="RTT",1,0)+IF(AA16="RTT",1,0)+IF(AB16="RTT",1,0)+IF(AC16="RTT",1,0)+IF(AE16="RTT",1,0)+IF(AF16="RTT",1,0)+IF(AG16="RTT",1,0)+IF(AH16="RTT",1,0)+IF(AD16="RTT",1,0)+IF(D16="RTT",1,0) -> 0
A17: 04 | B17: CHAUVIRE | C17: ALINE | G17: 8 | H17: 8 | I17: 8 | J17: 8 | K17: 7 | O17: 8 | P17: 8 | Q17: 8 | R17: 7 | U17: 8 | V17: 8 | W17: 8 | X17: 8 | Y17: 7 | AB17: 8 | AC17: 8 | AD17: 8 | AE17: 8 | AF17: 7 | AI17: =SUM(D17:AH17) -> 148 | AJ17: =IF(D17="CP",1,0)+IF(E17="CP",1,0)+IF(F17="CP",1,0)+IF(G17="CP",1,0)+IF(H17="CP",1,0)+IF(I17="CP",1,0)+IF(J17="CP",1,0)+IF(K17="CP",1,0)+IF(L17="CP",1,0)+IF(M17="CP",1,0)+IF(N17="CP",1,0)+IF(O17="CP",1,0)+IF(P17="CP",1,0)+IF(Q17="CP",1,0)+IF(R17="CP",1,0)+IF(S17="CP",1,0)+IF(T17="CP",1,0)+IF(U17="CP",1,0)+IF(V17="CP",1,0)+IF(W17="CP",1,0)+IF(X17="CP",1,0)+IF(Y17="CP",1,0)+IF(Z17="CP",1,0)+IF(AA17="CP",1,0)+IF(AB17="CP",1,0)+IF(AD17="CP",1,0)+IF(AE17="CP",1,0)+IF(AF17="CP",1,0)+IF(AG17="CP",1,0)+IF(AH17="CP",1,0)+IF(AC17="CP",1,0) -> 0 | AK17: =IF(E17="RTT",1,0)+IF(F17="RTT",1,0)+IF(G17="RTT",1,0)+IF(H17="RTT",1,0)+IF(I17="RTT",1,0)+IF(J17="RTT",1,0)+IF(K17="RTT",1,0)+IF(L17="RTT",1,0)+IF(M17="RTT",1,0)+IF(N17="RTT",1,0)+IF(O17="RTT",1,0)+IF(P17="RTT",1,0)+IF(Q17="RTT",1,0)+IF(R17="RTT",1,0)+IF(S17="RTT",1,0)+IF(T17="RTT",1,0)+IF(U17="RTT",1,0)+IF(V17="RTT",1,0)+IF(W17="RTT",1,0)+IF(X17="RTT",1,0)+IF(Y17="RTT",1,0)+IF(Z17="RTT",1,0)+IF(AA17="RTT",1,0)+IF(AB17="RTT",1,0)+IF(AC17="RTT",1,0)+IF(AE17="RTT",1,0)+IF(AF17="RTT",1,0)+IF(AG17="RTT",1,0)+IF(AH17="RTT",1,0)+IF(AD17="RTT",1,0)+IF(D17="RTT",1,0) -> 0
A18: 07 | B18: CHIRON | C18: FRANCOISE | G18: 8 | H18: 8 | I18: 8 | J18: 8 | K18: 7 | O18: 8 | P18: 8 | Q18: 8 | R18: 7 | U18: 8 | V18: 8 | W18: 8 | X18: 8 | Y18: 7 | AB18: 8 | AC18: 8 | AD18: 8 | AE18: 8 | AF18: 7 | AI18: =SUM(D18:AH18) -> 148 | AJ18: =IF(D18="CP",1,0)+IF(E18="CP",1,0)+IF(F18="CP",1,0)+IF(G18="CP",1,0)+IF(H18="CP",1,0)+IF(I18="CP",1,0)+IF(J18="CP",1,0)+IF(K18="CP",1,0)+IF(L18="CP",1,0)+IF(M18="CP",1,0)+IF(N18="CP",1,0)+IF(O18="CP",1,0)+IF(P18="CP",1,0)+IF(Q18="CP",1,0)+IF(R18="CP",1,0)+IF(S18="CP",1,0)+IF(T18="CP",1,0)+IF(U18="CP",1,0)+IF(V18="CP",1,0)+IF(W18="CP",1,0)+IF(X18="CP",1,0)+IF(Y18="CP",1,0)+IF(Z18="CP",1,0)+IF(AA18="CP",1,0)+IF(AB18="CP",1,0)+IF(AD18="CP",1,0)+IF(AE18="CP",1,0)+IF(AF18="CP",1,0)+IF(AG18="CP",1,0)+IF(AH18="CP",1,0)+IF(AC18="CP",1,0) -> 0 | AK18: =IF(E18="RTT",1,0)+IF(F18="RTT",1,0)+IF(G18="RTT",1,0)+IF(H18="RTT",1,0)+IF(I18="RTT",1,0)+IF(J18="RTT",1,0)+IF(K18="RTT",1,0)+IF(L18="RTT",1,0)+IF(M18="RTT",1,0)+IF(N18="RTT",1,0)+IF(O18="RTT",1,0)+IF(P18="RTT",1,0)+IF(Q18="RTT",1,0)+IF(R18="RTT",1,0)+IF(S18="RTT",1,0)+IF(T18="RTT",1,0)+IF(U18="RTT",1,0)+IF(V18="RTT",1,0)+IF(W18="RTT",1,0)+IF(X18="RTT",1,0)+IF(Y18="RTT",1,0)+IF(Z18="RTT",1,0)+IF(AA18="RTT",1,0)+IF(AB18="RTT",1,0)+IF(AC18="RTT",1,0)+IF(AE18="RTT",1,0)+IF(AF18="RTT",1,0)+IF(AG18="RTT",1,0)+IF(AH18="RTT",1,0)+IF(AD18="RTT",1,0)+IF(D18="RTT",1,0) -> 0
A19: 20 | B19: CHUDEAU | C19: ROMANE | G19: 8 | H19: 8 | I19: 8 | J19: 8 | K19: 7 | O19: 8 | P19: 8 | Q19: 8 | R19: 7 | U19: 8 | V19: 8 | W19: 8 | X19: 8 | Y19: 7 | AB19: 8 | AC19: 8 | AD19: 8 | AE19: 8 | AF19: 7 | AI19: =SUM(D19:AH19) -> 148 | AJ19: =IF(D19="CP",1,0)+IF(E19="CP",1,0)+IF(F19="CP",1,0)+IF(G19="CP",1,0)+IF(H19="CP",1,0)+IF(I19="CP",1,0)+IF(J19="CP",1,0)+IF(K19="CP",1,0)+IF(L19="CP",1,0)+IF(M19="CP",1,0)+IF(N19="CP",1,0)+IF(O19="CP",1,0)+IF(P19="CP",1,0)+IF(Q19="CP",1,0)+IF(R19="CP",1,0)+IF(S19="CP",1,0)+IF(T19="CP",1,0)+IF(U19="CP",1,0)+IF(V19="CP",1,0)+IF(W19="CP",1,0)+IF(X19="CP",1,0)+IF(Y19="CP",1,0)+IF(Z19="CP",1,0)+IF(AA19="CP",1,0)+IF(AB19="CP",1,0)+IF(AD19="CP",1,0)+IF(AE19="CP",1,0)+IF(AF19="CP",1,0)+IF(AG19="CP",1,0)+IF(AH19="CP",1,0)+IF(AC19="CP",1,0) -> 0 | AK19: =IF(E19="RTT",1,0)+IF(F19="RTT",1,0)+IF(G19="RTT",1,0)+IF(H19="RTT",1,0)+IF(I19="RTT",1,0)+IF(J19="RTT",1,0)+IF(K19="RTT",1,0)+IF(L19="RTT",1,0)+IF(M19="RTT",1,0)+IF(N19="RTT",1,0)+IF(O19="RTT",1,0)+IF(P19="RTT",1,0)+IF(Q19="RTT",1,0)+IF(R19="RTT",1,0)+IF(S19="RTT",1,0)+IF(T19="RTT",1,0)+IF(U19="RTT",1,0)+IF(V19="RTT",1,0)+IF(W19="RTT",1,0)+IF(X19="RTT",1,0)+IF(Y19="RTT",1,0)+IF(Z19="RTT",1,0)+IF(AA19="RTT",1,0)+IF(AB19="RTT",1,0)+IF(AC19="RTT",1,0)+IF(AE19="RTT",1,0)+IF(AF19="RTT",1,0)+IF(AG19="RTT",1,0)+IF(AH19="RTT",1,0)+IF(AD19="RTT",1,0)+IF(D19="RTT",1,0) -> 0
A20: 21 | B20: CONTIN | C20: ARMAND | G20: 8 | H20: 8 | I20: 8 | J20: 8 | K20: 7 | O20: 8 | P20: 8 | Q20: 8 | R20: 7 | U20: 8 | V20: 8 | W20: 8 | X20: 8 | Y20: 7 | AB20: 8 | AC20: 8 | AD20: 8 | AE20: 8 | AF20: 7 | AI20: =SUM(D20:AH20) -> 148 | AJ20: =IF(D20="CP",1,0)+IF(E20="CP",1,0)+IF(F20="CP",1,0)+IF(G20="CP",1,0)+IF(H20="CP",1,0)+IF(I20="CP",1,0)+IF(J20="CP",1,0)+IF(K20="CP",1,0)+IF(L20="CP",1,0)+IF(M20="CP",1,0)+IF(N20="CP",1,0)+IF(O20="CP",1,0)+IF(P20="CP",1,0)+IF(Q20="CP",1,0)+IF(R20="CP",1,0)+IF(S20="CP",1,0)+IF(T20="CP",1,0)+IF(U20="CP",1,0)+IF(V20="CP",1,0)+IF(W20="CP",1,0)+IF(X20="CP",1,0)+IF(Y20="CP",1,0)+IF(Z20="CP",1,0)+IF(AA20="CP",1,0)+IF(AB20="CP",1,0)+IF(AD20="CP",1,0)+IF(AE20="CP",1,0)+IF(AF20="CP",1,0)+IF(AG20="CP",1,0)+IF(AH20="CP",1,0)+IF(AC20="CP",1,0) -> 0 | AK20: =IF(E20="RTT",1,0)+IF(F20="RTT",1,0)+IF(G20="RTT",1,0)+IF(H20="RTT",1,0)+IF(I20="RTT",1,0)+IF(J20="RTT",1,0)+IF(K20="RTT",1,0)+IF(L20="RTT",1,0)+IF(M20="RTT",1,0)+IF(N20="RTT",1,0)+IF(O20="RTT",1,0)+IF(P20="RTT",1,0)+IF(Q20="RTT",1,0)+IF(R20="RTT",1,0)+IF(S20="RTT",1,0)+IF(T20="RTT",1,0)+IF(U20="RTT",1,0)+IF(V20="RTT",1,0)+IF(W20="RTT",1,0)+IF(X20="RTT",1,0)+IF(Y20="RTT",1,0)+IF(Z20="RTT",1,0)+IF(AA20="RTT",1,0)+IF(AB20="RTT",1,0)+IF(AC20="RTT",1,0)+IF(AE20="RTT",1,0)+IF(AF20="RTT",1,0)+IF(AG20="RTT",1,0)+IF(AH20="RTT",1,0)+IF(AD20="RTT",1,0)+IF(D20="RTT",1,0) -> 0
A21: 09 | B21: COUVREUX | C21: FLORA | G21: 8 | H21: 8 | I21: 8 | J21: 8 | K21: 7 | O21: 8 | P21: 8 | Q21: 8 | R21: 7 | U21: 8 | V21: 8 | W21: 8 | X21: 8 | Y21: 7 | AB21: 8 | AC21: 8 | AD21: 8 | AE21: 8 | AF21: 7 | AI21: =SUM(D21:AH21) -> 148 | AJ21: =IF(D21="CP",1,0)+IF(E21="CP",1,0)+IF(F21="CP",1,0)+IF(G21="CP",1,0)+IF(H21="CP",1,0)+IF(I21="CP",1,0)+IF(J21="CP",1,0)+IF(K21="CP",1,0)+IF(L21="CP",1,0)+IF(M21="CP",1,0)+IF(N21="CP",1,0)+IF(O21="CP",1,0)+IF(P21="CP",1,0)+IF(Q21="CP",1,0)+IF(R21="CP",1,0)+IF(S21="CP",1,0)+IF(T21="CP",1,0)+IF(U21="CP",1,0)+IF(V21="CP",1,0)+IF(W21="CP",1,0)+IF(X21="CP",1,0)+IF(Y21="CP",1,0)+IF(Z21="CP",1,0)+IF(AA21="CP",1,0)+IF(AB21="CP",1,0)+IF(AD21="CP",1,0)+IF(AE21="CP",1,0)+IF(AF21="CP",1,0)+IF(AG21="CP",1,0)+IF(AH21="CP",1,0)+IF(AC21="CP",1,0) -> 0 | AK21: =IF(E21="RTT",1,0)+IF(F21="RTT",1,0)+IF(G21="RTT",1,0)+IF(H21="RTT",1,0)+IF(I21="RTT",1,0)+IF(J21="RTT",1,0)+IF(K21="RTT",1,0)+IF(L21="RTT",1,0)+IF(M21="RTT",1,0)+IF(N21="RTT",1,0)+IF(O21="RTT",1,0)+IF(P21="RTT",1,0)+IF(Q21="RTT",1,0)+IF(R21="RTT",1,0)+IF(S21="RTT",1,0)+IF(T21="RTT",1,0)+IF(U21="RTT",1,0)+IF(V21="RTT",1,0)+IF(W21="RTT",1,0)+IF(X21="RTT",1,0)+IF(Y21="RTT",1,0)+IF(Z21="RTT",1,0)+IF(AA21="RTT",1,0)+IF(AB21="RTT",1,0)+IF(AC21="RTT",1,0)+IF(AE21="RTT",1,0)+IF(AF21="RTT",1,0)+IF(AG21="RTT",1,0)+IF(AH21="RTT",1,0)+IF(AD21="RTT",1,0)+IF(D21="RTT",1,0) -> 0
A22: 10 | B22: DEKHIL | C22: HENNACHI | G22: 8 | H22: 8 | I22: 8 | J22: 8 | K22: 7 | O22: 8 | P22: 8 | Q22: 8 | R22: 7 | U22: 8 | V22: 8 | W22: 8 | X22: 8 | Y22: 7 | AB22: 8 | AC22: 8 | AD22: 8 | AE22: 8 | AF22: 7 | AI22: =SUM(D22:AH22) -> 148 | AJ22: =IF(D22="CP",1,0)+IF(E22="CP",1,0)+IF(F22="CP",1,0)+IF(G22="CP",1,0)+IF(H22="CP",1,0)+IF(I22="CP",1,0)+IF(J22="CP",1,0)+IF(K22="CP",1,0)+IF(L22="CP",1,0)+IF(M22="CP",1,0)+IF(N22="CP",1,0)+IF(O22="CP",1,0)+IF(P22="CP",1,0)+IF(Q22="CP",1,0)+IF(R22="CP",1,0)+IF(S22="CP",1,0)+IF(T22="CP",1,0)+IF(U22="CP",1,0)+IF(V22="CP",1,0)+IF(W22="CP",1,0)+IF(X22="CP",1,0)+IF(Y22="CP",1,0)+IF(Z22="CP",1,0)+IF(AA22="CP",1,0)+IF(AB22="CP",1,0)+IF(AD22="CP",1,0)+IF(AE22="CP",1,0)+IF(AF22="CP",1,0)+IF(AG22="CP",1,0)+IF(AH22="CP",1,0)+IF(AC22="CP",1,0) -> 0 | AK22: =IF(E22="RTT",1,0)+IF(F22="RTT",1,0)+IF(G22="RTT",1,0)+IF(H22="RTT",1,0)+IF(I22="RTT",1,0)+IF(J22="RTT",1,0)+IF(K22="RTT",1,0)+IF(L22="RTT",1,0)+IF(M22="RTT",1,0)+IF(N22="RTT",1,0)+IF(O22="RTT",1,0)+IF(P22="RTT",1,0)+IF(Q22="RTT",1,0)+IF(R22="RTT",1,0)+IF(S22="RTT",1,0)+IF(T22="RTT",1,0)+IF(U22="RTT",1,0)+IF(V22="RTT",1,0)+IF(W22="RTT",1,0)+IF(X22="RTT",1,0)+IF(Y22="RTT",1,0)+IF(Z22="RTT",1,0)+IF(AA22="RTT",1,0)+IF(AB22="RTT",1,0)+IF(AC22="RTT",1,0)+IF(AE22="RTT",1,0)+IF(AF22="RTT",1,0)+IF(AG22="RTT",1,0)+IF(AH22="RTT",1,0)+IF(AD22="RTT",1,0)+IF(D22="RTT",1,0) -> 0
A23: 12 | B23: GOURDON | C23: KATIA | G23: 8 | H23: 8 | I23: 8 | J23: 8 | K23: 7 | O23: 8 | P23: 8 | Q23: 8 | R23: 7 | U23: 8 | V23: 8 | W23: 8 | X23: 8 | Y23: 7 | AB23: 8 | AC23: 8 | AD23: 8 | AE23: 8 | AF23: 7 | AI23: =SUM(D23:AH23) -> 148 | AJ23: =IF(D23="CP",1,0)+IF(E23="CP",1,0)+IF(F23="CP",1,0)+IF(G23="CP",1,0)+IF(H23="CP",1,0)+IF(I23="CP",1,0)+IF(J23="CP",1,0)+IF(K23="CP",1,0)+IF(L23="CP",1,0)+IF(M23="CP",1,0)+IF(N23="CP",1,0)+IF(O23="CP",1,0)+IF(P23="CP",1,0)+IF(Q23="CP",1,0)+IF(R23="CP",1,0)+IF(S23="CP",1,0)+IF(T23="CP",1,0)+IF(U23="CP",1,0)+IF(V23="CP",1,0)+IF(W23="CP",1,0)+IF(X23="CP",1,0)+IF(Y23="CP",1,0)+IF(Z23="CP",1,0)+IF(AA23="CP",1,0)+IF(AB23="CP",1,0)+IF(AD23="CP",1,0)+IF(AE23="CP",1,0)+IF(AF23="CP",1,0)+IF(AG23="CP",1,0)+IF(AH23="CP",1,0)+IF(AC23="CP",1,0) -> 0 | AK23: =IF(E23="RTT",1,0)+IF(F23="RTT",1,0)+IF(G23="RTT",1,0)+IF(H23="RTT",1,0)+IF(I23="RTT",1,0)+IF(J23="RTT",1,0)+IF(K23="RTT",1,0)+IF(L23="RTT",1,0)+IF(M23="RTT",1,0)+IF(N23="RTT",1,0)+IF(O23="RTT",1,0)+IF(P23="RTT",1,0)+IF(Q23="RTT",1,0)+IF(R23="RTT",1,0)+IF(S23="RTT",1,0)+IF(T23="RTT",1,0)+IF(U23="RTT",1,0)+IF(V23="RTT",1,0)+IF(W23="RTT",1,0)+IF(X23="RTT",1,0)+IF(Y23="RTT",1,0)+IF(Z23="RTT",1,0)+IF(AA23="RTT",1,0)+IF(AB23="RTT",1,0)+IF(AC23="RTT",1,0)+IF(AE23="RTT",1,0)+IF(AF23="RTT",1,0)+IF(AG23="RTT",1,0)+IF(AH23="RTT",1,0)+IF(AD23="RTT",1,0)+IF(D23="RTT",1,0) -> 0
... A34: 16 | B34: TRIOLET | C34: FANNY | G34: 8 | H34: 8 | I34: 8 | J34: 8 | K34: 7 | O34: 8 | P34: 8 | Q34: 8 | R34: 7 | U34: 8 | V34: 8 | W34: 8 | X34: 8 | Y34: 7 | AB34: 8 | AC34: 8 | AD34: 8 | AE34: 8 | AF34: 7 | AI34: =SUM(D34:AH34) -> 148 | AJ34: =IF(D34="CP",1,0)+IF(E34="CP",1,0)+IF(F34="CP",1,0)+IF(G34="CP",1,0)+IF(H34="CP",1,0)+IF(I34="CP",1,0)+IF(J34="CP",1,0)+IF(K34="CP",1,0)+IF(L34="CP",1,0)+IF(M34="CP",1,0)+IF(N34="CP",1,0)+IF(O34="CP",1,0)+IF(P34="CP",1,0)+IF(Q34="CP",1,0)+IF(R34="CP",1,0)+IF(S34="CP",1,0)+IF(T34="CP",1,0)+IF(U34="CP",1,0)+IF(V34="CP",1,0)+IF(W34="CP",1,0)+IF(X34="CP",1,0)+IF(Y34="CP",1,0)+IF(Z34="CP",1,0)+IF(AA34="CP",1,0)+IF(AB34="CP",1,0)+IF(AD34="CP",1,0)+IF(AE34="CP",1,0)+IF(AF34="CP",1,0)+IF(AG34="CP",1,0)+IF(AH34="CP",1,0)+IF(AC34="CP",1,0) -> 0 | AK34: =IF(E34="RTT",1,0)+IF(F34="RTT",1,0)+IF(G34="RTT",1,0)+IF(H34="RTT",1,0)+IF(I34="RTT",1,0)+IF(J34="RTT",1,0)+IF(K34="RTT",1,0)+IF(L34="RTT",1,0)+IF(M34="RTT",1,0)+IF(N34="RTT",1,0)+IF(O34="RTT",1,0)+IF(P34="RTT",1,0)+IF(Q34="RTT",1,0)+IF(R34="RTT",1,0)+IF(S34="RTT",1,0)+IF(T34="RTT",1,0)+IF(U34="RTT",1,0)+IF(V34="RTT",1,0)+IF(W34="RTT",1,0)+IF(X34="RTT",1,0)+IF(Y34="RTT",1,0)+IF(Z34="RTT",1,0)+IF(AA34="RTT",1,0)+IF(AB34="RTT",1,0)+IF(AC34="RTT",1,0)+IF(AE34="RTT",1,0)+IF(AF34="RTT",1,0)+IF(AG34="RTT",1,0)+IF(AH34="RTT",1,0)+IF(AD34="RTT",1,0)+IF(D34="RTT",1,0) -> 0
A37: SAISONNIERS
A38: z101
A39: z102
A40: z103
A41: z104
A42: z105
A43: z106
C46: NOTES SUPPLEMENTAIRES

Sheet Déc
B1: 2019
B2: 12
C4: FICHE DE PRESENCE | Q4: MOIS | T4: DECEMBRE | Z4: 2019
C6: 21 | D6: jours
C8: SEMAINES | G8: 49 | N8: 50 | U8: 51 | AB8: 52
E9: L | F9: M | G9: M | H9: J | I9: V | L9: L | M9: M | N9: M | O9: J | P9: V | S9: L | T9: M | U9: M | V9: J | W9: V | Z9: L | AA9: M | AB9: M | AC9: J | AD9: V | AG9: L | AH9: M | AI9: H. TOT | AJ9: CP | AK9: RTT
C10: JOURS | D10: 1 | E10: 2 | F10: 3 | G10: 4 | H10: 5 | I10: 6 | J10: 7 | K10: 8 | L10: 9 | M10: 10 | N10: 11 | O10: 12 | P10: 13 | Q10: 14 | R10: 15 | S10: 16 | T10: 17 | U10: 18 | V10: 19 | W10: 20 | X10: 21 | Y10: 22 | Z10: 23 | AA10: 24 | AB10: 25 | AC10: 26 | AD10: 27 | AE10: 28 | AF10: 29 | AG10: 30 | AH10: 31 | AI10: TRAVAIL | AJ10: jours | AK10: jours
A12: 01 | B12: ABELARD | C12: AURELIE | E12: 8 | F12: 8 | G12: 8 | H12: 8 | I12: 7 | L12: 8 | M12: 8 | N12: 8 | O12: 8 | P12: 7 | S12: 8 | T12: 8 | U12: 8 | V12: 8 | W12: 7 | Z12: CP | AA12: CP | AC12: CP | AD12: CP | AG12: CP | AH12: CP | AI12: =SUM(D12:AH12) -> 117 | AJ12: =IF(D12="CP",1,0)+IF(E12="CP",1,0)+IF(F12="CP",1,0)+IF(G12="CP",1,0)+IF(H12="CP",1,0)+IF(I12="CP",1,0)+IF(J12="CP",1,0)+IF(K12="CP",1,0)+IF(L12="CP",1,0)+IF(M12="CP",1,0)+IF(N12="CP",1,0)+IF(O12="CP",1,0)+IF(P12="CP",1,0)+IF(Q12="CP",1,0)+IF(R12="CP",1,0)+IF(S12="CP",1,0)+IF(T12="CP",1,0)+IF(U12="CP",1,0)+IF(V12="CP",1,0)+IF(W12="CP",1,0)+IF(X12="CP",1,0)+IF(Y12="CP",1,0)+IF(Z12="CP",1,0)+IF(AA12="CP",1,0)+IF(AB12="CP",1,0)+IF(AD12="CP",1,0)+IF(AE12="CP",1,0)+IF(AF12="CP",1,0)+IF(AG12="CP",1,0)+IF(AH12="CP",1,0)+IF(AC12="CP",1,0) -> 6 | AK12: =IF(E12="RTT",1,0)+IF(F12="RTT",1,0)+IF(G12="RTT",1,0)+IF(H12="RTT",1,0)+IF(I12="RTT",1,0)+IF(J12="RTT",1,0)+IF(K12="RTT",1,0)+IF(L12="RTT",1,0)+IF(M12="RTT",1,0)+IF(N12="RTT",1,0)+IF(O12="RTT",1,0)+IF(P12="RTT",1,0)+IF(Q12="RTT",1,0)+IF(R12="RTT",1,0)+IF(S12="RTT",1,0)+IF(T12="RTT",1,0)+IF(U12="RTT",1,0)+IF(V12="RTT",1,0)+IF(W12="RTT",1,0)+IF(X12="RTT",1,0)+IF(Y12="RTT",1,0)+IF(Z12="RTT",1,0)+IF(AA12="RTT",1,0)+IF(AB12="RTT",1,0)+IF(AC12="RTT",1,0)+IF(AE12="RTT",1,0)+IF(AF12="RTT",1,0)+IF(AG12="RTT",1,0)+IF(AH12="RTT",1,0)+IF(AD12="RTT",1,0)+IF(D12="RTT",1,0) -> 0
A13: 02 | B13: AGOT | C13: DOMINIQUE | E13: 8 | F13: 8 | G13: 8 | H13: 8 | I13: 7 | L13: 8 | M13: 8 | N13: 8 | O13: 8 | P13: 7 | S13: 8 | T13: 8 | U13: 8 | V13: 8 | W13: 7 | Z13: CP | AA13: CP | AC13: CP | AD13: CP | AG13: CP | AH13: CP | AI13: =SUM(D13:AH13) -> 117 | AJ13: =IF(D13="CP",1,0)+IF(E13="CP",1,0)+IF(F13="CP",1,0)+IF(G13="CP",1,0)+IF(H13="CP",1,0)+IF(I13="CP",1,0)+IF(J13="CP",1,0)+IF(K13="CP",1,0)+IF(L13="CP",1,0)+IF(M13="CP",1,0)+IF(N13="CP",1,0)+IF(O13="CP",1,0)+IF(P13="CP",1,0)+IF(Q13="CP",1,0)+IF(R13="CP",1,0)+IF(S13="CP",1,0)+IF(T13="CP",1,0)+IF(U13="CP",1,0)+IF(V13="CP",1,0)+IF(W13="CP",1,0)+IF(X13="CP",1,0)+IF(Y13="CP",1,0)+IF(Z13="CP",1,0)+IF(AA13="CP",1,0)+IF(AB13="CP",1,0)+IF(AD13="CP",1,0)+IF(AE13="CP",1,0)+IF(AF13="CP",1,0)+IF(AG13="CP",1,0)+IF(AH13="CP",1,0)+IF(AC13="CP",1,0) -> 6 | AK13: =IF(E13="RTT",1,0)+IF(F13="RTT",1,0)+IF(G13="RTT",1,0)+IF(H13="RTT",1,0)+IF(I13="RTT",1,0)+IF(J13="RTT",1,0)+IF(K13="RTT",1,0)+IF(L13="RTT",1,0)+IF(M13="RTT",1,0)+IF(N13="RTT",1,0)+IF(O13="RTT",1,0)+IF(P13="RTT",1,0)+IF(Q13="RTT",1,0)+IF(R13="RTT",1,0)+IF(S13="RTT",1,0)+IF(T13="RTT",1,0)+IF(U13="RTT",1,0)+IF(V13="RTT",1,0)+IF(W13="RTT",1,0)+IF(X13="RTT",1,0)+IF(Y13="RTT",1,0)+IF(Z13="RTT",1,0)+IF(AA13="RTT",1,0)+IF(AB13="RTT",1,0)+IF(AC13="RTT",1,0)+IF(AE13="RTT",1,0)+IF(AF13="RTT",1,0)+IF(AG13="RTT",1,0)+IF(AH13="RTT",1,0)+IF(AD13="RTT",1,0)+IF(D13="RTT",1,0) -> 0
A14: 03 | B14: BAUMARD | C14: YSABELLE | E14: 8 | F14: 8 | G14: 8 | H14: 8 | I14: 7 | L14: 8 | M14: 8 | N14: 8 | O14: 8 | P14: 7 | S14: 8 | T14: 8 | U14: 8 | V14: 8 | W14: 7 | Z14: CP | AA14: CP | AC14: CP | AD14: CP | AG14: CP | AH14: CP | AI14: =SUM(D14:AH14) -> 117 | AJ14: =IF(D14="CP",1,0)+IF(E14="CP",1,0)+IF(F14="CP",1,0)+IF(G14="CP",1,0)+IF(H14="CP",1,0)+IF(I14="CP",1,0)+IF(J14="CP",1,0)+IF(K14="CP",1,0)+IF(L14="CP",1,0)+IF(M14="CP",1,0)+IF(N14="CP",1,0)+IF(O14="CP",1,0)+IF(P14="CP",1,0)+IF(Q14="CP",1,0)+IF(R14="CP",1,0)+IF(S14="CP",1,0)+IF(T14="CP",1,0)+IF(U14="CP",1,0)+IF(V14="CP",1,0)+IF(W14="CP",1,0)+IF(X14="CP",1,0)+IF(Y14="CP",1,0)+IF(Z14="CP",1,0)+IF(AA14="CP",1,0)+IF(AB14="CP",1,0)+IF(AD14="CP",1,0)+IF(AE14="CP",1,0)+IF(AF14="CP",1,0)+IF(AG14="CP",1,0)+IF(AH14="CP",1,0)+IF(AC14="CP",1,0) -> 6 | AK14: =IF(E14="RTT",1,0)+IF(F14="RTT",1,0)+IF(G14="RTT",1,0)+IF(H14="RTT",1,0)+IF(I14="RTT",1,0)+IF(J14="RTT",1,0)+IF(K14="RTT",1,0)+IF(L14="RTT",1,0)+IF(M14="RTT",1,0)+IF(N14="RTT",1,0)+IF(O14="RTT",1,0)+IF(P14="RTT",1,0)+IF(Q14="RTT",1,0)+IF(R14="RTT",1,0)+IF(S14="RTT",1,0)+IF(T14="RTT",1,0)+IF(U14="RTT",1,0)+IF(V14="RTT",1,0)+IF(W14="RTT",1,0)+IF(X14="RTT",1,0)+IF(Y14="RTT",1,0)+IF(Z14="RTT",1,0)+IF(AA14="RTT",1,0)+IF(AB14="RTT",1,0)+IF(AC14="RTT",1,0)+IF(AE14="RTT",1,0)+IF(AF14="RTT",1,0)+IF(AG14="RTT",1,0)+IF(AH14="RTT",1,0)+IF(AD14="RTT",1,0)+IF(D14="RTT",1,0) -> 0
A15: 23 | B15: BLANLOEIL | C15: MYRIAM | E15: 8 | F15: 8 | G15: 8 | H15: 8 | I15: 7 | L15: 8 | M15: 8 | N15: 8 | O15: 8 | P15: 7 | S15: 8 | T15: 8 | U15: 8 | V15: 8 | W15: 7 | Z15: CP | AA15: CP | AC15: CP | AD15: CP | AG15: CP | AH15: CP | AI15: =SUM(D15:AH15) -> 117 | AJ15: =IF(D15="CP",1,0)+IF(E15="CP",1,0)+IF(F15="CP",1,0)+IF(G15="CP",1,0)+IF(H15="CP",1,0)+IF(I15="CP",1,0)+IF(J15="CP",1,0)+IF(K15="CP",1,0)+IF(L15="CP",1,0)+IF(M15="CP",1,0)+IF(N15="CP",1,0)+IF(O15="CP",1,0)+IF(P15="CP",1,0)+IF(Q15="CP",1,0)+IF(R15="CP",1,0)+IF(S15="CP",1,0)+IF(T15="CP",1,0)+IF(U15="CP",1,0)+IF(V15="CP",1,0)+IF(W15="CP",1,0)+IF(X15="CP",1,0)+IF(Y15="CP",1,0)+IF(Z15="CP",1,0)+IF(AA15="CP",1,0)+IF(AB15="CP",1,0)+IF(AD15="CP",1,0)+IF(AE15="CP",1,0)+IF(AF15="CP",1,0)+IF(AG15="CP",1,0)+IF(AH15="CP",1,0)+IF(AC15="CP",1,0) -> 6 | AK15: =IF(E15="RTT",1,0)+IF(F15="RTT",1,0)+IF(G15="RTT",1,0)+IF(H15="RTT",1,0)+IF(I15="RTT",1,0)+IF(J15="RTT",1,0)+IF(K15="RTT",1,0)+IF(L15="RTT",1,0)+IF(M15="RTT",1,0)+IF(N15="RTT",1,0)+IF(O15="RTT",1,0)+IF(P15="RTT",1,0)+IF(Q15="RTT",1,0)+IF(R15="RTT",1,0)+IF(S15="RTT",1,0)+IF(T15="RTT",1,0)+IF(U15="RTT",1,0)+IF(V15="RTT",1,0)+IF(W15="RTT",1,0)+IF(X15="RTT",1,0)+IF(Y15="RTT",1,0)+IF(Z15="RTT",1,0)+IF(AA15="RTT",1,0)+IF(AB15="RTT",1,0)+IF(AC15="RTT",1,0)+IF(AE15="RTT",1,0)+IF(AF15="RTT",1,0)+IF(AG15="RTT",1,0)+IF(AH15="RTT",1,0)+IF(AD15="RTT",1,0)+IF(D15="RTT",1,0) -> 0
A16: 05 | B16: BRETEAU | C16: CHRISTELLE | E16: 8 | F16: 8 | G16: 8 | H16: 8 | I16: 7 | L16: 8 | M16: 8 | N16: 8 | O16: 8 | P16: 7 | S16: 8 | T16: 8 | U16: 8 | V16: 8 | W16: 7 | Z16: CP | AA16: CP | AC16: CP | AD16: CP | AG16: CP | AH16: CP | AI16: =SUM(D16:AH16) -> 117 | AJ16: =IF(D16="CP",1,0)+IF(E16="CP",1,0)+IF(F16="CP",1,0)+IF(G16="CP",1,0)+IF(H16="CP",1,0)+IF(I16="CP",1,0)+IF(J16="CP",1,0)+IF(K16="CP",1,0)+IF(L16="CP",1,0)+IF(M16="CP",1,0)+IF(N16="CP",1,0)+IF(O16="CP",1,0)+IF(P16="CP",1,0)+IF(Q16="CP",1,0)+IF(R16="CP",1,0)+IF(S16="CP",1,0)+IF(T16="CP",1,0)+IF(U16="CP",1,0)+IF(V16="CP",1,0)+IF(W16="CP",1,0)+IF(X16="CP",1,0)+IF(Y16="CP",1,0)+IF(Z16="CP",1,0)+IF(AA16="CP",1,0)+IF(AB16="CP",1,0)+IF(AD16="CP",1,0)+IF(AE16="CP",1,0)+IF(AF16="CP",1,0)+IF(AG16="CP",1,0)+IF(AH16="CP",1,0)+IF(AC16="CP",1,0) -> 6 | AK16: =IF(E16="RTT",1,0)+IF(F16="RTT",1,0)+IF(G16="RTT",1,0)+IF(H16="RTT",1,0)+IF(I16="RTT",1,0)+IF(J16="RTT",1,0)+IF(K16="RTT",1,0)+IF(L16="RTT",1,0)+IF(M16="RTT",1,0)+IF(N16="RTT",1,0)+IF(O16="RTT",1,0)+IF(P16="RTT",1,0)+IF(Q16="RTT",1,0)+IF(R16="RTT",1,0)+IF(S16="RTT",1,0)+IF(T16="RTT",1,0)+IF(U16="RTT",1,0)+IF(V16="RTT",1,0)+IF(W16="RTT",1,0)+IF(X16="RTT",1,0)+IF(Y16="RTT",1,0)+IF(Z16="RTT",1,0)+IF(AA16="RTT",1,0)+IF(AB16="RTT",1,0)+IF(AC16="RTT",1,0)+IF(AE16="RTT",1,0)+IF(AF16="RTT",1,0)+IF(AG16="RTT",1,0)+IF(AH16="RTT",1,0)+IF(AD16="RTT",1,0)+IF(D16="RTT",1,0) -> 0
A17: 04 | B17: CHAUVIRE | C17: ALINE | E17: 8 | F17: 8 | G17: 8 | H17: 8 | I17: 7 | L17: 8 | M17: 8 | N17: 8 | O17: 8 | P17: 7 | S17: 8 | T17: 8 | U17: 8 | V17: 8 | W17: 7 | Z17: CP | AA17: CP | AC17: CP | AD17: CP | AG17: CP | AH17: CP | AI17: =SUM(D17:AH17) -> 117 | AJ17: =IF(D17="CP",1,0)+IF(E17="CP",1,0)+IF(F17="CP",1,0)+IF(G17="CP",1,0)+IF(H17="CP",1,0)+IF(I17="CP",1,0)+IF(J17="CP",1,0)+IF(K17="CP",1,0)+IF(L17="CP",1,0)+IF(M17="CP",1,0)+IF(N17="CP",1,0)+IF(O17="CP",1,0)+IF(P17="CP",1,0)+IF(Q17="CP",1,0)+IF(R17="CP",1,0)+IF(S17="CP",1,0)+IF(T17="CP",1,0)+IF(U17="CP",1,0)+IF(V17="CP",1,0)+IF(W17="CP",1,0)+IF(X17="CP",1,0)+IF(Y17="CP",1,0)+IF(Z17="CP",1,0)+IF(AA17="CP",1,0)+IF(AB17="CP",1,0)+IF(AD17="CP",1,0)+IF(AE17="CP",1,0)+IF(AF17="CP",1,0)+IF(AG17="CP",1,0)+IF(AH17="CP",1,0)+IF(AC17="CP",1,0) -> 6 | AK17: =IF(E17="RTT",1,0)+IF(F17="RTT",1,0)+IF(G17="RTT",1,0)+IF(H17="RTT",1,0)+IF(I17="RTT",1,0)+IF(J17="RTT",1,0)+IF(K17="RTT",1,0)+IF(L17="RTT",1,0)+IF(M17="RTT",1,0)+IF(N17="RTT",1,0)+IF(O17="RTT",1,0)+IF(P17="RTT",1,0)+IF(Q17="RTT",1,0)+IF(R17="RTT",1,0)+IF(S17="RTT",1,0)+IF(T17="RTT",1,0)+IF(U17="RTT",1,0)+IF(V17="RTT",1,0)+IF(W17="RTT",1,0)+IF(X17="RTT",1,0)+IF(Y17="RTT",1,0)+IF(Z17="RTT",1,0)+IF(AA17="RTT",1,0)+IF(AB17="RTT",1,0)+IF(AC17="RTT",1,0)+IF(AE17="RTT",1,0)+IF(AF17="RTT",1,0)+IF(AG17="RTT",1,0)+IF(AH17="RTT",1,0)+IF(AD17="RTT",1,0)+IF(D17="RTT",1,0) -> 0
A18: 07 | B18: CHIRON | C18: FRANCOISE | E18: 8 | F18: 8 | G18: 8 | H18: 8 | I18: 7 | L18: 8 | M18: 8 | N18: 8 | O18: 8 | P18: 7 | S18: 8 | T18: 8 | U18: 8 | V18: 8 | W18: 7 | Z18: CP | AA18: CP | AC18: CP | AD18: CP | AG18: CP | AH18: CP | AI18: =SUM(D18:AH18) -> 117 | AJ18: =IF(D18="CP",1,0)+IF(E18="CP",1,0)+IF(F18="CP",1,0)+IF(G18="CP",1,0)+IF(H18="CP",1,0)+IF(I18="CP",1,0)+IF(J18="CP",1,0)+IF(K18="CP",1,0)+IF(L18="CP",1,0)+IF(M18="CP",1,0)+IF(N18="CP",1,0)+IF(O18="CP",1,0)+IF(P18="CP",1,0)+IF(Q18="CP",1,0)+IF(R18="CP",1,0)+IF(S18="CP",1,0)+IF(T18="CP",1,0)+IF(U18="CP",1,0)+IF(V18="CP",1,0)+IF(W18="CP",1,0)+IF(X18="CP",1,0)+IF(Y18="CP",1,0)+IF(Z18="CP",1,0)+IF(AA18="CP",1,0)+IF(AB18="CP",1,0)+IF(AD18="CP",1,0)+IF(AE18="CP",1,0)+IF(AF18="CP",1,0)+IF(AG18="CP",1,0)+IF(AH18="CP",1,0)+IF(AC18="CP",1,0) -> 6 | AK18: =IF(E18="RTT",1,0)+IF(F18="RTT",1,0)+IF(G18="RTT",1,0)+IF(H18="RTT",1,0)+IF(I18="RTT",1,0)+IF(J18="RTT",1,0)+IF(K18="RTT",1,0)+IF(L18="RTT",1,0)+IF(M18="RTT",1,0)+IF(N18="RTT",1,0)+IF(O18="RTT",1,0)+IF(P18="RTT",1,0)+IF(Q18="RTT",1,0)+IF(R18="RTT",1,0)+IF(S18="RTT",1,0)+IF(T18="RTT",1,0)+IF(U18="RTT",1,0)+IF(V18="RTT",1,0)+IF(W18="RTT",1,0)+IF(X18="RTT",1,0)+IF(Y18="RTT",1,0)+IF(Z18="RTT",1,0)+IF(AA18="RTT",1,0)+IF(AB18="RTT",1,0)+IF(AC18="RTT",1,0)+IF(AE18="RTT",1,0)+IF(AF18="RTT",1,0)+IF(AG18="RTT",1,0)+IF(AH18="RTT",1,0)+IF(AD18="RTT",1,0)+IF(D18="RTT",1,0) -> 0
A19: 20 | B19: CHUDEAU | C19: ROMANE | E19: 8 | F19: 8 | G19: 8 | H19: 8 | I19: 7 | L19: 8 | M19: 8 | N19: 8 | O19: 8 | P19: 7 | S19: 8 | T19: 8 | U19: 8 | V19: 8 | W19: 7 | Z19: CP | AA19: CP | AC19: CP | AD19: CP | AG19: CP | AH19: CP | AI19: =SUM(D19:AH19) -> 117 | AJ19: =IF(D19="CP",1,0)+IF(E19="CP",1,0)+IF(F19="CP",1,0)+IF(G19="CP",1,0)+IF(H19="CP",1,0)+IF(I19="CP",1,0)+IF(J19="CP",1,0)+IF(K19="CP",1,0)+IF(L19="CP",1,0)+IF(M19="CP",1,0)+IF(N19="CP",1,0)+IF(O19="CP",1,0)+IF(P19="CP",1,0)+IF(Q19="CP",1,0)+IF(R19="CP",1,0)+IF(S19="CP",1,0)+IF(T19="CP",1,0)+IF(U19="CP",1,0)+IF(V19="CP",1,0)+IF(W19="CP",1,0)+IF(X19="CP",1,0)+IF(Y19="CP",1,0)+IF(Z19="CP",1,0)+IF(AA19="CP",1,0)+IF(AB19="CP",1,0)+IF(AD19="CP",1,0)+IF(AE19="CP",1,0)+IF(AF19="CP",1,0)+IF(AG19="CP",1,0)+IF(AH19="CP",1,0)+IF(AC19="CP",1,0) -> 6 | AK19: =IF(E19="RTT",1,0)+IF(F19="RTT",1,0)+IF(G19="RTT",1,0)+IF(H19="RTT",1,0)+IF(I19="RTT",1,0)+IF(J19="RTT",1,0)+IF(K19="RTT",1,0)+IF(L19="RTT",1,0)+IF(M19="RTT",1,0)+IF(N19="RTT",1,0)+IF(O19="RTT",1,0)+IF(P19="RTT",1,0)+IF(Q19="RTT",1,0)+IF(R19="RTT",1,0)+IF(S19="RTT",1,0)+IF(T19="RTT",1,0)+IF(U19="RTT",1,0)+IF(V19="RTT",1,0)+IF(W19="RTT",1,0)+IF(X19="RTT",1,0)+IF(Y19="RTT",1,0)+IF(Z19="RTT",1,0)+IF(AA19="RTT",1,0)+IF(AB19="RTT",1,0)+IF(AC19="RTT",1,0)+IF(AE19="RTT",1,0)+IF(AF19="RTT",1,0)+IF(AG19="RTT",1,0)+IF(AH19="RTT",1,0)+IF(AD19="RTT",1,0)+IF(D19="RTT",1,0) -> 0
A20: 21 | B20: CONTIN | C20: ARMAND | E20: 8 | F20: 8 | G20: 8 | H20: 8 | I20: 7 | L20: 8 | M20: 8 | N20: 8 | O20: 8 | P20: 7 | S20: 8 | T20: 8 | U20: 8 | V20: 8 | W20: 7 | Z20: CP | AA20: CP | AC20: CP | AD20: CP | AG20: CP | AH20: CP | AI20: =SUM(D20:AH20) -> 117 | AJ20: =IF(D20="CP",1,0)+IF(E20="CP",1,0)+IF(F20="CP",1,0)+IF(G20="CP",1,0)+IF(H20="CP",1,0)+IF(I20="CP",1,0)+IF(J20="CP",1,0)+IF(K20="CP",1,0)+IF(L20="CP",1,0)+IF(M20="CP",1,0)+IF(N20="CP",1,0)+IF(O20="CP",1,0)+IF(P20="CP",1,0)+IF(Q20="CP",1,0)+IF(R20="CP",1,0)+IF(S20="CP",1,0)+IF(T20="CP",1,0)+IF(U20="CP",1,0)+IF(V20="CP",1,0)+IF(W20="CP",1,0)+IF(X20="CP",1,0)+IF(Y20="CP",1,0)+IF(Z20="CP",1,0)+IF(AA20="CP",1,0)+IF(AB20="CP",1,0)+IF(AD20="CP",1,0)+IF(AE20="CP",1,0)+IF(AF20="CP",1,0)+IF(AG20="CP",1,0)+IF(AH20="CP",1,0)+IF(AC20="CP",1,0) -> 6 | AK20: =IF(E20="RTT",1,0)+IF(F20="RTT",1,0)+IF(G20="RTT",1,0)+IF(H20="RTT",1,0)+IF(I20="RTT",1,0)+IF(J20="RTT",1,0)+IF(K20="RTT",1,0)+IF(L20="RTT",1,0)+IF(M20="RTT",1,0)+IF(N20="RTT",1,0)+IF(O20="RTT",1,0)+IF(P20="RTT",1,0)+IF(Q20="RTT",1,0)+IF(R20="RTT",1,0)+IF(S20="RTT",1,0)+IF(T20="RTT",1,0)+IF(U20="RTT",1,0)+IF(V20="RTT",1,0)+IF(W20="RTT",1,0)+IF(X20="RTT",1,0)+IF(Y20="RTT",1,0)+IF(Z20="RTT",1,0)+IF(AA20="RTT",1,0)+IF(AB20="RTT",1,0)+IF(AC20="RTT",1,0)+IF(AE20="RTT",1,0)+IF(AF20="RTT",1,0)+IF(AG20="RTT",1,0)+IF(AH20="RTT",1,0)+IF(AD20="RTT",1,0)+IF(D20="RTT",1,0) -> 0
A21: 09 | B21: COUVREUX | C21: FLORA | E21: 8 | F21: 8 | G21: 8 | H21: 8 | I21: 7 | L21: 8 | M21: 8 | N21: 8 | O21: 8 | P21: 7 | S21: 8 | T21: 8 | U21: 8 | V21: 8 | W21: 7 | Z21: CP | AA21: CP | AC21: CP | AD21: CP | AG21: CP | AH21: CP | AI21: =SUM(D21:AH21) -> 117 | AJ21: =IF(D21="CP",1,0)+IF(E21="CP",1,0)+IF(F21="CP",1,0)+IF(G21="CP",1,0)+IF(H21="CP",1,0)+IF(I21="CP",1,0)+IF(J21="CP",1,0)+IF(K21="CP",1,0)+IF(L21="CP",1,0)+IF(M21="CP",1,0)+IF(N21="CP",1,0)+IF(O21="CP",1,0)+IF(P21="CP",1,0)+IF(Q21="CP",1,0)+IF(R21="CP",1,0)+IF(S21="CP",1,0)+IF(T21="CP",1,0)+IF(U21="CP",1,0)+IF(V21="CP",1,0)+IF(W21="CP",1,0)+IF(X21="CP",1,0)+IF(Y21="CP",1,0)+IF(Z21="CP",1,0)+IF(AA21="CP",1,0)+IF(AB21="CP",1,0)+IF(AD21="CP",1,0)+IF(AE21="CP",1,0)+IF(AF21="CP",1,0)+IF(AG21="CP",1,0)+IF(AH21="CP",1,0)+IF(AC21="CP",1,0) -> 6 | AK21: =IF(E21="RTT",1,0)+IF(F21="RTT",1,0)+IF(G21="RTT",1,0)+IF(H21="RTT",1,0)+IF(I21="RTT",1,0)+IF(J21="RTT",1,0)+IF(K21="RTT",1,0)+IF(L21="RTT",1,0)+IF(M21="RTT",1,0)+IF(N21="RTT",1,0)+IF(O21="RTT",1,0)+IF(P21="RTT",1,0)+IF(Q21="RTT",1,0)+IF(R21="RTT",1,0)+IF(S21="RTT",1,0)+IF(T21="RTT",1,0)+IF(U21="RTT",1,0)+IF(V21="RTT",1,0)+IF(W21="RTT",1,0)+IF(X21="RTT",1,0)+IF(Y21="RTT",1,0)+IF(Z21="RTT",1,0)+IF(AA21="RTT",1,0)+IF(AB21="RTT",1,0)+IF(AC21="RTT",1,0)+IF(AE21="RTT",1,0)+IF(AF21="RTT",1,0)+IF(AG21="RTT",1,0)+IF(AH21="RTT",1,0)+IF(AD21="RTT",1,0)+IF(D21="RTT",1,0) -> 0
A22: 10 | B22: DEKHIL | C22: HENNACHI | E22: 8 | F22: 8 | G22: 8 | H22: 8 | I22: 7 | L22: 8 | M22: 8 | N22: 8 | O22: 8 | P22: 7 | S22: 8 | T22: 8 | U22: 8 | V22: 8 | W22: 7 | Z22: CP | AA22: CP | AC22: CP | AD22: CP | AG22: CP | AH22: CP | AI22: =SUM(D22:AH22) -> 117 | AJ22: =IF(D22="CP",1,0)+IF(E22="CP",1,0)+IF(F22="CP",1,0)+IF(G22="CP",1,0)+IF(H22="CP",1,0)+IF(I22="CP",1,0)+IF(J22="CP",1,0)+IF(K22="CP",1,0)+IF(L22="CP",1,0)+IF(M22="CP",1,0)+IF(N22="CP",1,0)+IF(O22="CP",1,0)+IF(P22="CP",1,0)+IF(Q22="CP",1,0)+IF(R22="CP",1,0)+IF(S22="CP",1,0)+IF(T22="CP",1,0)+IF(U22="CP",1,0)+IF(V22="CP",1,0)+IF(W22="CP",1,0)+IF(X22="CP",1,0)+IF(Y22="CP",1,0)+IF(Z22="CP",1,0)+IF(AA22="CP",1,0)+IF(AB22="CP",1,0)+IF(AD22="CP",1,0)+IF(AE22="CP",1,0)+IF(AF22="CP",1,0)+IF(AG22="CP",1,0)+IF(AH22="CP",1,0)+IF(AC22="CP",1,0) -> 6 | AK22: =IF(E22="RTT",1,0)+IF(F22="RTT",1,0)+IF(G22="RTT",1,0)+IF(H22="RTT",1,0)+IF(I22="RTT",1,0)+IF(J22="RTT",1,0)+IF(K22="RTT",1,0)+IF(L22="RTT",1,0)+IF(M22="RTT",1,0)+IF(N22="RTT",1,0)+IF(O22="RTT",1,0)+IF(P22="RTT",1,0)+IF(Q22="RTT",1,0)+IF(R22="RTT",1,0)+IF(S22="RTT",1,0)+IF(T22="RTT",1,0)+IF(U22="RTT",1,0)+IF(V22="RTT",1,0)+IF(W22="RTT",1,0)+IF(X22="RTT",1,0)+IF(Y22="RTT",1,0)+IF(Z22="RTT",1,0)+IF(AA22="RTT",1,0)+IF(AB22="RTT",1,0)+IF(AC22="RTT",1,0)+IF(AE22="RTT",1,0)+IF(AF22="RTT",1,0)+IF(AG22="RTT",1,0)+IF(AH22="RTT",1,0)+IF(AD22="RTT",1,0)+IF(D22="RTT",1,0) -> 0
A23: 12 | B23: GOURDON | C23: KATIA | E23: 8 | F23: 8 | G23: 8 | H23: 8 | I23: 7 | L23: 8 | M23: 8 | N23: 8 | O23: 8 | P23: 7 | S23: 8 | T23: 8 | U23: 8 | V23: 8 | W23: 7 | Z23: CP | AA23: CP | AC23: CP | AD23: CP | AG23: CP | AH23: CP | AI23: =SUM(D23:AH23) -> 117 | AJ23: =IF(D23="CP",1,0)+IF(E23="CP",1,0)+IF(F23="CP",1,0)+IF(G23="CP",1,0)+IF(H23="CP",1,0)+IF(I23="CP",1,0)+IF(J23="CP",1,0)+IF(K23="CP",1,0)+IF(L23="CP",1,0)+IF(M23="CP",1,0)+IF(N23="CP",1,0)+IF(O23="CP",1,0)+IF(P23="CP",1,0)+IF(Q23="CP",1,0)+IF(R23="CP",1,0)+IF(S23="CP",1,0)+IF(T23="CP",1,0)+IF(U23="CP",1,0)+IF(V23="CP",1,0)+IF(W23="CP",1,0)+IF(X23="CP",1,0)+IF(Y23="CP",1,0)+IF(Z23="CP",1,0)+IF(AA23="CP",1,0)+IF(AB23="CP",1,0)+IF(AD23="CP",1,0)+IF(AE23="CP",1,0)+IF(AF23="CP",1,0)+IF(AG23="CP",1,0)+IF(AH23="CP",1,0)+IF(AC23="CP",1,0) -> 6 | AK23: =IF(E23="RTT",1,0)+IF(F23="RTT",1,0)+IF(G23="RTT",1,0)+IF(H23="RTT",1,0)+IF(I23="RTT",1,0)+IF(J23="RTT",1,0)+IF(K23="RTT",1,0)+IF(L23="RTT",1,0)+IF(M23="RTT",1,0)+IF(N23="RTT",1,0)+IF(O23="RTT",1,0)+IF(P23="RTT",1,0)+IF(Q23="RTT",1,0)+IF(R23="RTT",1,0)+IF(S23="RTT",1,0)+IF(T23="RTT",1,0)+IF(U23="RTT",1,0)+IF(V23="RTT",1,0)+IF(W23="RTT",1,0)+IF(X23="RTT",1,0)+IF(Y23="RTT",1,0)+IF(Z23="RTT",1,0)+IF(AA23="RTT",1,0)+IF(AB23="RTT",1,0)+IF(AC23="RTT",1,0)+IF(AE23="RTT",1,0)+IF(AF23="RTT",1,0)+IF(AG23="RTT",1,0)+IF(AH23="RTT",1,0)+IF(AD23="RTT",1,0)+IF(D23="RTT",1,0) -> 0
... A34: 16 | B34: TRIOLET | C34: FANNY | E34: 8 | F34: 8 | G34: 8 | H34: 8 | I34: 7 | L34: 8 | M34: 8 | N34: 8 | O34: 8 | P34: 7 | S34: 8 | T34: 8 | U34: 8 | V34: 8 | W34: 7 | Z34: CP | AA34: CP | AC34: CP | AD34: CP | AG34: CP | AH34: CP | AI34: =SUM(D34:AH34) -> 117 | AJ34: =IF(D34="CP",1,0)+IF(E34="CP",1,0)+IF(F34="CP",1,0)+IF(G34="CP",1,0)+IF(H34="CP",1,0)+IF(I34="CP",1,0)+IF(J34="CP",1,0)+IF(K34="CP",1,0)+IF(L34="CP",1,0)+IF(M34="CP",1,0)+IF(N34="CP",1,0)+IF(O34="CP",1,0)+IF(P34="CP",1,0)+IF(Q34="CP",1,0)+IF(R34="CP",1,0)+IF(S34="CP",1,0)+IF(T34="CP",1,0)+IF(U34="CP",1,0)+IF(V34="CP",1,0)+IF(W34="CP",1,0)+IF(X34="CP",1,0)+IF(Y34="CP",1,0)+IF(Z34="CP",1,0)+IF(AA34="CP",1,0)+IF(AB34="CP",1,0)+IF(AD34="CP",1,0)+IF(AE34="CP",1,0)+IF(AF34="CP",1,0)+IF(AG34="CP",1,0)+IF(AH34="CP",1,0)+IF(AC34="CP",1,0) -> 6 | AK34: =IF(E34="RTT",1,0)+IF(F34="RTT",1,0)+IF(G34="RTT",1,0)+IF(H34="RTT",1,0)+IF(I34="RTT",1,0)+IF(J34="RTT",1,0)+IF(K34="RTT",1,0)+IF(L34="RTT",1,0)+IF(M34="RTT",1,0)+IF(N34="RTT",1,0)+IF(O34="RTT",1,0)+IF(P34="RTT",1,0)+IF(Q34="RTT",1,0)+IF(R34="RTT",1,0)+IF(S34="RTT",1,0)+IF(T34="RTT",1,0)+IF(U34="RTT",1,0)+IF(V34="RTT",1,0)+IF(W34="RTT",1,0)+IF(X34="RTT",1,0)+IF(Y34="RTT",1,0)+IF(Z34="RTT",1,0)+IF(AA34="RTT",1,0)+IF(AB34="RTT",1,0)+IF(AC34="RTT",1,0)+IF(AE34="RTT",1,0)+IF(AF34="RTT",1,0)+IF(AG34="RTT",1,0)+IF(AH34="RTT",1,0)+IF(AD34="RTT",1,0)+IF(D34="RTT",1,0) -> 0
A37: SAISONNIERS
A38: z101
A39: z102
A40: z103
A41: z104
A42: z105
A43: z106
C46: NOTES SUPPLEMENTAIRES

Sheet Janv
B1: 2020
B2: 1
C4: FICHE DE PRESENCE | Q4: MOIS | T4: JANVIER | Z4: 2020
C6: 22 | D6: jours
C8: SEMAINES | D8: 1 | K8: 2 | R8: 3 | Y8: 4 | AF8: 5
D9: M | E9: J | F9: V | I9: L | J9: M | K9: M | L9: J | M9: V | P9: L | Q9: M | R9: M | S9: J | T9: V | W9: L | X9: M | Y9: M | Z9: J | AA9: V | AD9: L | AE9: M | AF9: M | AG9: J | AH9: V | AI9: H. TOT | AJ9: CP | AK9: RTT
C10: JOURS | D10: 1 | E10: 2 | F10: 3 | G10: 4 | H10: 5 | I10: 6 | J10: 7 | K10: 8 | L10: 9 | M10: 10 | N10: 11 | O10: 12 | P10: 13 | Q10: 14 | R10: 15 | S10: 16 | T10: 17 | U10: 18 | V10: 19 | W10: 20 | X10: 21 | Y10: 22 | Z10: 23 | AA10: 24 | AB10: 25 | AC10: 26 | AD10: 27 | AE10: 28 | AF10: 29 | AG10: 30 | AH10: 31 | AI10: TRAVAIL | AJ10: jours | AK10: jours
A12: 01 | B12: ABELARD | C12: AURELIE | E12: CP | F12: CP | I12: 8 | J12: 8 | K12: 8 | L12: 8 | M12: 7 | P12: 8 | Q12: 8 | R12: 8 | S12: 8 | T12: 7 | W12: 8 | X12: 8 | Y12: 8 | Z12: 8 | AA12: 7 | AD12: 8 | AE12: 8 | AF12: 8 | AG12: 8 | AH12: 7 | AI12: =SUM(D12:AH12) -> 156 | AJ12: =IF(D12="CP",1,0)+IF(E12="CP",1,0)+IF(F12="CP",1,0)+IF(G12="CP",1,0)+IF(H12="CP",1,0)+IF(I12="CP",1,0)+IF(J12="CP",1,0)+IF(K12="CP",1,0)+IF(L12="CP",1,0)+IF(M12="CP",1,0)+IF(N12="CP",1,0)+IF(O12="CP",1,0)+IF(P12="CP",1,0)+IF(Q12="CP",1,0)+IF(R12="CP",1,0)+IF(S12="CP",1,0)+IF(T12="CP",1,0)+IF(U12="CP",1,0)+IF(V12="CP",1,0)+IF(W12="CP",1,0)+IF(X12="CP",1,0)+IF(Y12="CP",1,0)+IF(Z12="CP",1,0)+IF(AA12="CP",1,0)+IF(AB12="CP",1,0)+IF(AD12="CP",1,0)+IF(AE12="CP",1,0)+IF(AF12="CP",1,0)+IF(AG12="CP",1,0)+IF(AH12="CP",1,0)+IF(AC12="CP",1,0) -> 2 | AK12: =IF(E12="RTT",1,0)+IF(F12="RTT",1,0)+IF(G12="RTT",1,0)+IF(H12="RTT",1,0)+IF(I12="RTT",1,0)+IF(J12="RTT",1,0)+IF(K12="RTT",1,0)+IF(L12="RTT",1,0)+IF(M12="RTT",1,0)+IF(N12="RTT",1,0)+IF(O12="RTT",1,0)+IF(P12="RTT",1,0)+IF(Q12="RTT",1,0)+IF(R12="RTT",1,0)+IF(S12="RTT",1,0)+IF(T12="RTT",1,0)+IF(U12="RTT",1,0)+IF(V12="RTT",1,0)+IF(W12="RTT",1,0)+IF(X12="RTT",1,0)+IF(Y12="RTT",1,0)+IF(Z12="RTT",1,0)+IF(AA12="RTT",1,0)+IF(AB12="RTT",1,0)+IF(AC12="RTT",1,0)+IF(AE12="RTT",1,0)+IF(AF12="RTT",1,0)+IF(AG12="RTT",1,0)+IF(AH12="RTT",1,0)+IF(AD12="RTT",1,0)+IF(D12="RTT",1,0) -> 0
A13: 02 | B13: AGOT | C13: DOMINIQUE | E13: CP | F13: CP | I13: 8 | J13: 8 | K13: 8 | L13: 8 | M13: 7 | P13: 8 | Q13: 8 | R13: 8 | S13: 8 | T13: 7 | W13: 8 | X13: 8 | Y13: 8 | Z13: 8 | AA13: 7 | AD13: 8 | AE13: 8 | AF13: 8 | AG13: 8 | AH13: 7 | AI13: =SUM(D13:AH13) -> 156 | AJ13: =IF(D13="CP",1,0)+IF(E13="CP",1,0)+IF(F13="CP",1,0)+IF(G13="CP",1,0)+IF(H13="CP",1,0)+IF(I13="CP",1,0)+IF(J13="CP",1,0)+IF(K13="CP",1,0)+IF(L13="CP",1,0)+IF(M13="CP",1,0)+IF(N13="CP",1,0)+IF(O13="CP",1,0)+IF(P13="CP",1,0)+IF(Q13="CP",1,0)+IF(R13="CP",1,0)+IF(S13="CP",1,0)+IF(T13="CP",1,0)+IF(U13="CP",1,0)+IF(V13="CP",1,0)+IF(W13="CP",1,0)+IF(X13="CP",1,0)+IF(Y13="CP",1,0)+IF(Z13="CP",1,0)+IF(AA13="CP",1,0)+IF(AB13="CP",1,0)+IF(AD13="CP",1,0)+IF(AE13="CP",1,0)+IF(AF13="CP",1,0)+IF(AG13="CP",1,0)+IF(AH13="CP",1,0)+IF(AC13="CP",1,0) -> 2 | AK13: =IF(E13="RTT",1,0)+IF(F13="RTT",1,0)+IF(G13="RTT",1,0)+IF(H13="RTT",1,0)+IF(I13="RTT",1,0)+IF(J13="RTT",1,0)+IF(K13="RTT",1,0)+IF(L13="RTT",1,0)+IF(M13="RTT",1,0)+IF(N13="RTT",1,0)+IF(O13="RTT",1,0)+IF(P13="RTT",1,0)+IF(Q13="RTT",1,0)+IF(R13="RTT",1,0)+IF(S13="RTT",1,0)+IF(T13="RTT",1,0)+IF(U13="RTT",1,0)+IF(V13="RTT",1,0)+IF(W13="RTT",1,0)+IF(X13="RTT",1,0)+IF(Y13="RTT",1,0)+IF(Z13="RTT",1,0)+IF(AA13="RTT",1,0)+IF(AB13="RTT",1,0)+IF(AC13="RTT",1,0)+IF(AE13="RTT",1,0)+IF(AF13="RTT",1,0)+IF(AG13="RTT",1,0)+IF(AH13="RTT",1,0)+IF(AD13="RTT",1,0)+IF(D13="RTT",1,0) -> 0
A14: 03 | B14: BAUMARD | C14: YSABELLE | E14: CP | F14: CP | I14: 8 | J14: 8 | K14: 8 | L14: 8 | M14: 7 | P14: 8 | Q14: 8 | R14: 8 | S14: 8 | T14: 7 | W14: 8 | X14: 8 | Y14: 8 | Z14: 8 | AA14: 7 | AD14: 8 | AE14: 8 | AF14: 8 | AG14: 8 | AH14: 7 | AI14: =SUM(D14:AH14) -> 156 | AJ14: =IF(D14="CP",1,0)+IF(E14="CP",1,0)+IF(F14="CP",1,0)+IF(G14="CP",1,0)+IF(H14="CP",1,0)+IF(I14="CP",1,0)+IF(J14="CP",1,0)+IF(K14="CP",1,0)+IF(L14="CP",1,0)+IF(M14="CP",1,0)+IF(N14="CP",1,0)+IF(O14="CP",1,0)+IF(P14="CP",1,0)+IF(Q14="CP",1,0)+IF(R14="CP",1,0)+IF(S14="CP",1,0)+IF(T14="CP",1,0)+IF(U14="CP",1,0)+IF(V14="CP",1,0)+IF(W14="CP",1,0)+IF(X14="CP",1,0)+IF(Y14="CP",1,0)+IF(Z14="CP",1,0)+IF(AA14="CP",1,0)+IF(AB14="CP",1,0)+IF(AD14="CP",1,0)+IF(AE14="CP",1,0)+IF(AF14="CP",1,0)+IF(AG14="CP",1,0)+IF(AH14="CP",1,0)+IF(AC14="CP",1,0) -> 2 | AK14: =IF(E14="RTT",1,0)+IF(F14="RTT",1,0)+IF(G14="RTT",1,0)+IF(H14="RTT",1,0)+IF(I14="RTT",1,0)+IF(J14="RTT",1,0)+IF(K14="RTT",1,0)+IF(L14="RTT",1,0)+IF(M14="RTT",1,0)+IF(N14="RTT",1,0)+IF(O14="RTT",1,0)+IF(P14="RTT",1,0)+IF(Q14="RTT",1,0)+IF(R14="RTT",1,0)+IF(S14="RTT",1,0)+IF(T14="RTT",1,0)+IF(U14="RTT",1,0)+IF(V14="RTT",1,0)+IF(W14="RTT",1,0)+IF(X14="RTT",1,0)+IF(Y14="RTT",1,0)+IF(Z14="RTT",1,0)+IF(AA14="RTT",1,0)+IF(AB14="RTT",1,0)+IF(AC14="RTT",1,0)+IF(AE14="RTT",1,0)+IF(AF14="RTT",1,0)+IF(AG14="RTT",1,0)+IF(AH14="RTT",1,0)+IF(AD14="RTT",1,0)+IF(D14="RTT",1,0) -> 0
A15: 23 | B15: BLANLOEIL | C15: MYRIAM | E15: CP | F15: CP | I15: 8 | J15: 8 | K15: 8 | L15: 8 | M15: 7 | P15: 8 | Q15: 8 | R15: 8 | S15: 8 | T15: 7 | W15: 8 | X15: 8 | Y15: 8 | Z15: 8 | AA15: 7 | AD15: 8 | AE15: 8 | AF15: 8 | AG15: 8 | AH15: 7 | AI15: =SUM(D15:AH15) -> 156 | AJ15: =IF(D15="CP",1,0)+IF(E15="CP",1,0)+IF(F15="CP",1,0)+IF(G15="CP",1,0)+IF(H15="CP",1,0)+IF(I15="CP",1,0)+IF(J15="CP",1,0)+IF(K15="CP",1,0)+IF(L15="CP",1,0)+IF(M15="CP",1,0)+IF(N15="CP",1,0)+IF(O15="CP",1,0)+IF(P15="CP",1,0)+IF(Q15="CP",1,0)+IF(R15="CP",1,0)+IF(S15="CP",1,0)+IF(T15="CP",1,0)+IF(U15="CP",1,0)+IF(V15="CP",1,0)+IF(W15="CP",1,0)+IF(X15="CP",1,0)+IF(Y15="CP",1,0)+IF(Z15="CP",1,0)+IF(AA15="CP",1,0)+IF(AB15="CP",1,0)+IF(AD15="CP",1,0)+IF(AE15="CP",1,0)+IF(AF15="CP",1,0)+IF(AG15="CP",1,0)+IF(AH15="CP",1,0)+IF(AC15="CP",1,0) -> 2 | AK15: =IF(E15="RTT",1,0)+IF(F15="RTT",1,0)+IF(G15="RTT",1,0)+IF(H15="RTT",1,0)+IF(I15="RTT",1,0)+IF(J15="RTT",1,0)+IF(K15="RTT",1,0)+IF(L15="RTT",1,0)+IF(M15="RTT",1,0)+IF(N15="RTT",1,0)+IF(O15="RTT",1,0)+IF(P15="RTT",1,0)+IF(Q15="RTT",1,0)+IF(R15="RTT",1,0)+IF(S15="RTT",1,0)+IF(T15="RTT",1,0)+IF(U15="RTT",1,0)+IF(V15="RTT",1,0)+IF(W15="RTT",1,0)+IF(X15="RTT",1,0)+IF(Y15="RTT",1,0)+IF(Z15="RTT",1,0)+IF(AA15="RTT",1,0)+IF(AB15="RTT",1,0)+IF(AC15="RTT",1,0)+IF(AE15="RTT",1,0)+IF(AF15="RTT",1,0)+IF(AG15="RTT",1,0)+IF(AH15="RTT",1,0)+IF(AD15="RTT",1,0)+IF(D15="RTT",1,0) -> 0
A16: 05 | B16: BRETEAU | C16: CHRISTELLE | E16: CP | F16: CP | I16: 8 | J16: 8 | K16: 8 | L16: 8 | M16: 7 | P16: 8 | Q16: 8 | R16: 8 | S16: 8 | T16: 7 | W16: 8 | X16: 8 | Y16: 8 | Z16: 8 | AA16: 7 | AD16: 8 | AE16: 8 | AF16: 8 | AG16: 8 | AH16: 7 | AI16: =SUM(D16:AH16) -> 156 | AJ16: =IF(D16="CP",1,0)+IF(E16="CP",1,0)+IF(F16="CP",1,0)+IF(G16="CP",1,0)+IF(H16="CP",1,0)+IF(I16="CP",1,0)+IF(J16="CP",1,0)+IF(K16="CP",1,0)+IF(L16="CP",1,0)+IF(M16="CP",1,0)+IF(N16="CP",1,0)+IF(O16="CP",1,0)+IF(P16="CP",1,0)+IF(Q16="CP",1,0)+IF(R16="CP",1,0)+IF(S16="CP",1,0)+IF(T16="CP",1,0)+IF(U16="CP",1,0)+IF(V16="CP",1,0)+IF(W16="CP",1,0)+IF(X16="CP",1,0)+IF(Y16="CP",1,0)+IF(Z16="CP",1,0)+IF(AA16="CP",1,0)+IF(AB16="CP",1,0)+IF(AD16="CP",1,0)+IF(AE16="CP",1,0)+IF(AF16="CP",1,0)+IF(AG16="CP",1,0)+IF(AH16="CP",1,0)+IF(AC16="CP",1,0) -> 2 | AK16: =IF(E16="RTT",1,0)+IF(F16="RTT",1,0)+IF(G16="RTT",1,0)+IF(H16="RTT",1,0)+IF(I16="RTT",1,0)+IF(J16="RTT",1,0)+IF(K16="RTT",1,0)+IF(L16="RTT",1,0)+IF(M16="RTT",1,0)+IF(N16="RTT",1,0)+IF(O16="RTT",1,0)+IF(P16="RTT",1,0)+IF(Q16="RTT",1,0)+IF(R16="RTT",1,0)+IF(S16="RTT",1,0)+IF(T16="RTT",1,0)+IF(U16="RTT",1,0)+IF(V16="RTT",1,0)+IF(W16="RTT",1,0)+IF(X16="RTT",1,0)+IF(Y16="RTT",1,0)+IF(Z16="RTT",1,0)+IF(AA16="RTT",1,0)+IF(AB16="RTT",1,0)+IF(AC16="RTT",1,0)+IF(AE16="RTT",1,0)+IF(AF16="RTT",1,0)+IF(AG16="RTT",1,0)+IF(AH16="RTT",1,0)+IF(AD16="RTT",1,0)+IF(D16="RTT",1,0) -> 0
A17: 04 | B17: CHAUVIRE | C17: ALINE | E17: CP | F17: CP | I17: 8 | J17: 8 | K17: 8 | L17: 8 | M17: 7 | P17: 8 | Q17: 8 | R17: 8 | S17: 8 | T17: 7 | W17: 8 | X17: 8 | Y17: 8 | Z17: 8 | AA17: 7 | AD17: 8 | AE17: 8 | AF17: 8 | AG17: 8 | AH17: 7 | AI17: =SUM(D17:AH17) -> 156 | AJ17: =IF(D17="CP",1,0)+IF(E17="CP",1,0)+IF(F17="CP",1,0)+IF(G17="CP",1,0)+IF(H17="CP",1,0)+IF(I17="CP",1,0)+IF(J17="CP",1,0)+IF(K17="CP",1,0)+IF(L17="CP",1,0)+IF(M17="CP",1,0)+IF(N17="CP",1,0)+IF(O17="CP",1,0)+IF(P17="CP",1,0)+IF(Q17="CP",1,0)+IF(R17="CP",1,0)+IF(S17="CP",1,0)+IF(T17="CP",1,0)+IF(U17="CP",1,0)+IF(V17="CP",1,0)+IF(W17="CP",1,0)+IF(X17="CP",1,0)+IF(Y17="CP",1,0)+IF(Z17="CP",1,0)+IF(AA17="CP",1,0)+IF(AB17="CP",1,0)+IF(AD17="CP",1,0)+IF(AE17="CP",1,0)+IF(AF17="CP",1,0)+IF(AG17="CP",1,0)+IF(AH17="CP",1,0)+IF(AC17="CP",1,0) -> 2 | AK17: =IF(E17="RTT",1,0)+IF(F17="RTT",1,0)+IF(G17="RTT",1,0)+IF(H17="RTT",1,0)+IF(I17="RTT",1,0)+IF(J17="RTT",1,0)+IF(K17="RTT",1,0)+IF(L17="RTT",1,0)+IF(M17="RTT",1,0)+IF(N17="RTT",1,0)+IF(O17="RTT",1,0)+IF(P17="RTT",1,0)+IF(Q17="RTT",1,0)+IF(R17="RTT",1,0)+IF(S17="RTT",1,0)+IF(T17="RTT",1,0)+IF(U17="RTT",1,0)+IF(V17="RTT",1,0)+IF(W17="RTT",1,0)+IF(X17="RTT",1,0)+IF(Y17="RTT",1,0)+IF(Z17="RTT",1,0)+IF(AA17="RTT",1,0)+IF(AB17="RTT",1,0)+IF(AC17="RTT",1,0)+IF(AE17="RTT",1,0)+IF(AF17="RTT",1,0)+IF(AG17="RTT",1,0)+IF(AH17="RTT",1,0)+IF(AD17="RTT",1,0)+IF(D17="RTT",1,0) -> 0
A18: 07 | B18: CHIRON | C18: FRANCOISE | E18: CP | F18: CP | I18: 8 | J18: 8 | K18: 8 | L18: 8 | M18: 7 | P18: 8 | Q18: 8 | R18: 8 | S18: 8 | T18: 7 | W18: 8 | X18: 8 | Y18: 8 | Z18: 8 | AA18: 7 | AD18: 8 | AE18: 8 | AF18: 8 | AG18: 8 | AH18: 7 | AI18: =SUM(D18:AH18) -> 156 | AJ18: =IF(D18="CP",1,0)+IF(E18="CP",1,0)+IF(F18="CP",1,0)+IF(G18="CP",1,0)+IF(H18="CP",1,0)+IF(I18="CP",1,0)+IF(J18="CP",1,0)+IF(K18="CP",1,0)+IF(L18="CP",1,0)+IF(M18="CP",1,0)+IF(N18="CP",1,0)+IF(O18="CP",1,0)+IF(P18="CP",1,0)+IF(Q18="CP",1,0)+IF(R18="CP",1,0)+IF(S18="CP",1,0)+IF(T18="CP",1,0)+IF(U18="CP",1,0)+IF(V18="CP",1,0)+IF(W18="CP",1,0)+IF(X18="CP",1,0)+IF(Y18="CP",1,0)+IF(Z18="CP",1,0)+IF(AA18="CP",1,0)+IF(AB18="CP",1,0)+IF(AD18="CP",1,0)+IF(AE18="CP",1,0)+IF(AF18="CP",1,0)+IF(AG18="CP",1,0)+IF(AH18="CP",1,0)+IF(AC18="CP",1,0) -> 2 | AK18: =IF(E18="RTT",1,0)+IF(F18="RTT",1,0)+IF(G18="RTT",1,0)+IF(H18="RTT",1,0)+IF(I18="RTT",1,0)+IF(J18="RTT",1,0)+IF(K18="RTT",1,0)+IF(L18="RTT",1,0)+IF(M18="RTT",1,0)+IF(N18="RTT",1,0)+IF(O18="RTT",1,0)+IF(P18="RTT",1,0)+IF(Q18="RTT",1,0)+IF(R18="RTT",1,0)+IF(S18="RTT",1,0)+IF(T18="RTT",1,0)+IF(U18="RTT",1,0)+IF(V18="RTT",1,0)+IF(W18="RTT",1,0)+IF(X18="RTT",1,0)+IF(Y18="RTT",1,0)+IF(Z18="RTT",1,0)+IF(AA18="RTT",1,0)+IF(AB18="RTT",1,0)+IF(AC18="RTT",1,0)+IF(AE18="RTT",1,0)+IF(AF18="RTT",1,0)+IF(AG18="RTT",1,0)+IF(AH18="RTT",1,0)+IF(AD18="RTT",1,0)+IF(D18="RTT",1,0) -> 0
A19: 20 | B19: CHUDEAU | C19: ROMANE | E19: CP | F19: CP | I19: 8 | J19: 8 | K19: 8 | L19: 8 | M19: 7 | P19: 8 | Q19: 8 | R19: 8 | S19: 8 | T19: 7 | W19: 8 | X19: 8 | Y19: 8 | Z19: 8 | AA19: 7 | AD19: 8 | AE19: 8 | AF19: 8 | AG19: 8 | AH19: 7 | AI19: =SUM(D19:AH19) -> 156 | AJ19: =IF(D19="CP",1,0)+IF(E19="CP",1,0)+IF(F19="CP",1,0)+IF(G19="CP",1,0)+IF(H19="CP",1,0)+IF(I19="CP",1,0)+IF(J19="CP",1,0)+IF(K19="CP",1,0)+IF(L19="CP",1,0)+IF(M19="CP",1,0)+IF(N19="CP",1,0)+IF(O19="CP",1,0)+IF(P19="CP",1,0)+IF(Q19="CP",1,0)+IF(R19="CP",1,0)+IF(S19="CP",1,0)+IF(T19="CP",1,0)+IF(U19="CP",1,0)+IF(V19="CP",1,0)+IF(W19="CP",1,0)+IF(X19="CP",1,0)+IF(Y19="CP",1,0)+IF(Z19="CP",1,0)+IF(AA19="CP",1,0)+IF(AB19="CP",1,0)+IF(AD19="CP",1,0)+IF(AE19="CP",1,0)+IF(AF19="CP",1,0)+IF(AG19="CP",1,0)+IF(AH19="CP",1,0)+IF(AC19="CP",1,0) -> 2 | AK19: =IF(E19="RTT",1,0)+IF(F19="RTT",1,0)+IF(G19="RTT",1,0)+IF(H19="RTT",1,0)+IF(I19="RTT",1,0)+IF(J19="RTT",1,0)+IF(K19="RTT",1,0)+IF(L19="RTT",1,0)+IF(M19="RTT",1,0)+IF(N19="RTT",1,0)+IF(O19="RTT",1,0)+IF(P19="RTT",1,0)+IF(Q19="RTT",1,0)+IF(R19="RTT",1,0)+IF(S19="RTT",1,0)+IF(T19="RTT",1,0)+IF(U19="RTT",1,0)+IF(V19="RTT",1,0)+IF(W19="RTT",1,0)+IF(X19="RTT",1,0)+IF(Y19="RTT",1,0)+IF(Z19="RTT",1,0)+IF(AA19="RTT",1,0)+IF(AB19="RTT",1,0)+IF(AC19="RTT",1,0)+IF(AE19="RTT",1,0)+IF(AF19="RTT",1,0)+IF(AG19="RTT",1,0)+IF(AH19="RTT",1,0)+IF(AD19="RTT",1,0)+IF(D19="RTT",1,0) -> 0
A20: 21 | B20: CONTIN | C20: ARMAND | E20: CP | F20: CP | I20: 8 | J20: 8 | K20: 8 | L20: 8 | M20: 7 | P20: 8 | Q20: 8 | R20: 8 | S20: 8 | T20: 7 | W20: 8 | X20: 8 | Y20: 8 | Z20: 8 | AA20: 7 | AD20: 8 | AE20: 8 | AF20: 8 | AG20: 8 | AH20: 7 | AI20: =SUM(D20:AH20) -> 156 | AJ20: =IF(D20="CP",1,0)+IF(E20="CP",1,0)+IF(F20="CP",1,0)+IF(G20="CP",1,0)+IF(H20="CP",1,0)+IF(I20="CP",1,0)+IF(J20="CP",1,0)+IF(K20="CP",1,0)+IF(L20="CP",1,0)+IF(M20="CP",1,0)+IF(N20="CP",1,0)+IF(O20="CP",1,0)+IF(P20="CP",1,0)+IF(Q20="CP",1,0)+IF(R20="CP",1,0)+IF(S20="CP",1,0)+IF(T20="CP",1,0)+IF(U20="CP",1,0)+IF(V20="CP",1,0)+IF(W20="CP",1,0)+IF(X20="CP",1,0)+IF(Y20="CP",1,0)+IF(Z20="CP",1,0)+IF(AA20="CP",1,0)+IF(AB20="CP",1,0)+IF(AD20="CP",1,0)+IF(AE20="CP",1,0)+IF(AF20="CP",1,0)+IF(AG20="CP",1,0)+IF(AH20="CP",1,0)+IF(AC20="CP",1,0) -> 2 | AK20: =IF(E20="RTT",1,0)+IF(F20="RTT",1,0)+IF(G20="RTT",1,0)+IF(H20="RTT",1,0)+IF(I20="RTT",1,0)+IF(J20="RTT",1,0)+IF(K20="RTT",1,0)+IF(L20="RTT",1,0)+IF(M20="RTT",1,0)+IF(N20="RTT",1,0)+IF(O20="RTT",1,0)+IF(P20="RTT",1,0)+IF(Q20="RTT",1,0)+IF(R20="RTT",1,0)+IF(S20="RTT",1,0)+IF(T20="RTT",1,0)+IF(U20="RTT",1,0)+IF(V20="RTT",1,0)+IF(W20="RTT",1,0)+IF(X20="RTT",1,0)+IF(Y20="RTT",1,0)+IF(Z20="RTT",1,0)+IF(AA20="RTT",1,0)+IF(AB20="RTT",1,0)+IF(AC20="RTT",1,0)+IF(AE20="RTT",1,0)+IF(AF20="RTT",1,0)+IF(AG20="RTT",1,0)+IF(AH20="RTT",1,0)+IF(AD20="RTT",1,0)+IF(D20="RTT",1,0) -> 0
A21: 09 | B21: COUVREUX | C21: FLORA | E21: CP | F21: CP | I21: 8 | J21: 8 | K21: 8 | L21: 8 | M21: 7 | P21: 8 | Q21: 8 | R21: 8 | S21: 8 | T21: 7 | W21: 8 | X21: 8 | Y21: 8 | Z21: 8 | AA21: 7 | AD21: 8 | AE21: 8 | AF21: 8 | AG21: 8 | AH21: 7 | AI21: =SUM(D21:AH21) -> 156 | AJ21: =IF(D21="CP",1,0)+IF(E21="CP",1,0)+IF(F21="CP",1,0)+IF(G21="CP",1,0)+IF(H21="CP",1,0)+IF(I21="CP",1,0)+IF(J21="CP",1,0)+IF(K21="CP",1,0)+IF(L21="CP",1,0)+IF(M21="CP",1,0)+IF(N21="CP",1,0)+IF(O21="CP",1,0)+IF(P21="CP",1,0)+IF(Q21="CP",1,0)+IF(R21="CP",1,0)+IF(S21="CP",1,0)+IF(T21="CP",1,0)+IF(U21="CP",1,0)+IF(V21="CP",1,0)+IF(W21="CP",1,0)+IF(X21="CP",1,0)+IF(Y21="CP",1,0)+IF(Z21="CP",1,0)+IF(AA21="CP",1,0)+IF(AB21="CP",1,0)+IF(AD21="CP",1,0)+IF(AE21="CP",1,0)+IF(AF21="CP",1,0)+IF(AG21="CP",1,0)+IF(AH21="CP",1,0)+IF(AC21="CP",1,0) -> 2 | AK21: =IF(E21="RTT",1,0)+IF(F21="RTT",1,0)+IF(G21="RTT",1,0)+IF(H21="RTT",1,0)+IF(I21="RTT",1,0)+IF(J21="RTT",1,0)+IF(K21="RTT",1,0)+IF(L21="RTT",1,0)+IF(M21="RTT",1,0)+IF(N21="RTT",1,0)+IF(O21="RTT",1,0)+IF(P21="RTT",1,0)+IF(Q21="RTT",1,0)+IF(R21="RTT",1,0)+IF(S21="RTT",1,0)+IF(T21="RTT",1,0)+IF(U21="RTT",1,0)+IF(V21="RTT",1,0)+IF(W21="RTT",1,0)+IF(X21="RTT",1,0)+IF(Y21="RTT",1,0)+IF(Z21="RTT",1,0)+IF(AA21="RTT",1,0)+IF(AB21="RTT",1,0)+IF(AC21="RTT",1,0)+IF(AE21="RTT",1,0)+IF(AF21="RTT",1,0)+IF(AG21="RTT",1,0)+IF(AH21="RTT",1,0)+IF(AD21="RTT",1,0)+IF(D21="RTT",1,0) -> 0
A22: 10 | B22: DEKHIL | C22: HENNACHI | E22: CP | F22: CP | I22: 8 | J22: 8 | K22: 8 | L22: 8 | M22: 7 | P22: 8 | Q22: 8 | R22: 8 | S22: 8 | T22: 7 | W22: 8 | X22: 8 | Y22: 8 | Z22: 8 | AA22: 7 | AD22: 8 | AE22: 8 | AF22: 8 | AG22: 8 | AH22: 7 | AI22: =SUM(D22:AH22) -> 156 | AJ22: =IF(D22="CP",1,0)+IF(E22="CP",1,0)+IF(F22="CP",1,0)+IF(G22="CP",1,0)+IF(H22="CP",1,0)+IF(I22="CP",1,0)+IF(J22="CP",1,0)+IF(K22="CP",1,0)+IF(L22="CP",1,0)+IF(M22="CP",1,0)+IF(N22="CP",1,0)+IF(O22="CP",1,0)+IF(P22="CP",1,0)+IF(Q22="CP",1,0)+IF(R22="CP",1,0)+IF(S22="CP",1,0)+IF(T22="CP",1,0)+IF(U22="CP",1,0)+IF(V22="CP",1,0)+IF(W22="CP",1,0)+IF(X22="CP",1,0)+IF(Y22="CP",1,0)+IF(Z22="CP",1,0)+IF(AA22="CP",1,0)+IF(AB22="CP",1,0)+IF(AD22="CP",1,0)+IF(AE22="CP",1,0)+IF(AF22="CP",1,0)+IF(AG22="CP",1,0)+IF(AH22="CP",1,0)+IF(AC22="CP",1,0) -> 2 | AK22: =IF(E22="RTT",1,0)+IF(F22="RTT",1,0)+IF(G22="RTT",1,0)+IF(H22="RTT",1,0)+IF(I22="RTT",1,0)+IF(J22="RTT",1,0)+IF(K22="RTT",1,0)+IF(L22="RTT",1,0)+IF(M22="RTT",1,0)+IF(N22="RTT",1,0)+IF(O22="RTT",1,0)+IF(P22="RTT",1,0)+IF(Q22="RTT",1,0)+IF(R22="RTT",1,0)+IF(S22="RTT",1,0)+IF(T22="RTT",1,0)+IF(U22="RTT",1,0)+IF(V22="RTT",1,0)+IF(W22="RTT",1,0)+IF(X22="RTT",1,0)+IF(Y22="RTT",1,0)+IF(Z22="RTT",1,0)+IF(AA22="RTT",1,0)+IF(AB22="RTT",1,0)+IF(AC22="RTT",1,0)+IF(AE22="RTT",1,0)+IF(AF22="RTT",1,0)+IF(AG22="RTT",1,0)+IF(AH22="RTT",1,0)+IF(AD22="RTT",1,0)+IF(D22="RTT",1,0) -> 0
A23: 12 | B23: GOURDON | C23: KATIA | E23: CP | F23: CP | I23: 8 | J23: 8 | K23: 8 | L23: 8 | M23: 7 | P23: 8 | Q23: 8 | R23: 8 | S23: 8 | T23: 7 | W23: 8 | X23: 8 | Y23: 8 | Z23: 8 | AA23: 7 | AD23: 8 | AE23: 8 | AF23: 8 | AG23: 8 | AH23: 7 | AI23: =SUM(D23:AH23) -> 156 | AJ23: =IF(D23="CP",1,0)+IF(E23="CP",1,0)+IF(F23="CP",1,0)+IF(G23="CP",1,0)+IF(H23="CP",1,0)+IF(I23="CP",1,0)+IF(J23="CP",1,0)+IF(K23="CP",1,0)+IF(L23="CP",1,0)+IF(M23="CP",1,0)+IF(N23="CP",1,0)+IF(O23="CP",1,0)+IF(P23="CP",1,0)+IF(Q23="CP",1,0)+IF(R23="CP",1,0)+IF(S23="CP",1,0)+IF(T23="CP",1,0)+IF(U23="CP",1,0)+IF(V23="CP",1,0)+IF(W23="CP",1,0)+IF(X23="CP",1,0)+IF(Y23="CP",1,0)+IF(Z23="CP",1,0)+IF(AA23="CP",1,0)+IF(AB23="CP",1,0)+IF(AD23="CP",1,0)+IF(AE23="CP",1,0)+IF(AF23="CP",1,0)+IF(AG23="CP",1,0)+IF(AH23="CP",1,0)+IF(AC23="CP",1,0) -> 2 | AK23: =IF(E23="RTT",1,0)+IF(F23="RTT",1,0)+IF(G23="RTT",1,0)+IF(H23="RTT",1,0)+IF(I23="RTT",1,0)+IF(J23="RTT",1,0)+IF(K23="RTT",1,0)+IF(L23="RTT",1,0)+IF(M23="RTT",1,0)+IF(N23="RTT",1,0)+IF(O23="RTT",1,0)+IF(P23="RTT",1,0)+IF(Q23="RTT",1,0)+IF(R23="RTT",1,0)+IF(S23="RTT",1,0)+IF(T23="RTT",1,0)+IF(U23="RTT",1,0)+IF(V23="RTT",1,0)+IF(W23="RTT",1,0)+IF(X23="RTT",1,0)+IF(Y23="RTT",1,0)+IF(Z23="RTT",1,0)+IF(AA23="RTT",1,0)+IF(AB23="RTT",1,0)+IF(AC23="RTT",1,0)+IF(AE23="RTT",1,0)+IF(AF23="RTT",1,0)+IF(AG23="RTT",1,0)+IF(AH23="RTT",1,0)+IF(AD23="RTT",1,0)+IF(D23="RTT",1,0) -> 0
... A34: 16 | B34: TRIOLET | C34: FANNY | E34: CP | F34: CP | I34: 8 | J34: 8 | K34: 8 | L34: 8 | M34: 7 | P34: 8 | Q34: 8 | R34: 8 | S34: 8 | T34: 7 | W34: 8 | X34: 8 | Y34: 8 | Z34: 8 | AA34: 7 | AD34: 8 | AE34: 8 | AF34: 8 | AG34: 8 | AH34: 7 | AI34: =SUM(D34:AH34) -> 156 | AJ34: =IF(D34="CP",1,0)+IF(E34="CP",1,0)+IF(F34="CP",1,0)+IF(G34="CP",1,0)+IF(H34="CP",1,0)+IF(I34="CP",1,0)+IF(J34="CP",1,0)+IF(K34="CP",1,0)+IF(L34="CP",1,0)+IF(M34="CP",1,0)+IF(N34="CP",1,0)+IF(O34="CP",1,0)+IF(P34="CP",1,0)+IF(Q34="CP",1,0)+IF(R34="CP",1,0)+IF(S34="CP",1,0)+IF(T34="CP",1,0)+IF(U34="CP",1,0)+IF(V34="CP",1,0)+IF(W34="CP",1,0)+IF(X34="CP",1,0)+IF(Y34="CP",1,0)+IF(Z34="CP",1,0)+IF(AA34="CP",1,0)+IF(AB34="CP",1,0)+IF(AD34="CP",1,0)+IF(AE34="CP",1,0)+IF(AF34="CP",1,0)+IF(AG34="CP",1,0)+IF(AH34="CP",1,0)+IF(AC34="CP",1,0) -> 2 | AK34: =IF(E34="RTT",1,0)+IF(F34="RTT",1,0)+IF(G34="RTT",1,0)+IF(H34="RTT",1,0)+IF(I34="RTT",1,0)+IF(J34="RTT",1,0)+IF(K34="RTT",1,0)+IF(L34="RTT",1,0)+IF(M34="RTT",1,0)+IF(N34="RTT",1,0)+IF(O34="RTT",1,0)+IF(P34="RTT",1,0)+IF(Q34="RTT",1,0)+IF(R34="RTT",1,0)+IF(S34="RTT",1,0)+IF(T34="RTT",1,0)+IF(U34="RTT",1,0)+IF(V34="RTT",1,0)+IF(W34="RTT",1,0)+IF(X34="RTT",1,0)+IF(Y34="RTT",1,0)+IF(Z34="RTT",1,0)+IF(AA34="RTT",1,0)+IF(AB34="RTT",1,0)+IF(AC34="RTT",1,0)+IF(AE34="RTT",1,0)+IF(AF34="RTT",1,0)+IF(AG34="RTT",1,0)+IF(AH34="RTT",1,0)+IF(AD34="RTT",1,0)+IF(D34="RTT",1,0) -> 0
A37: SAISONNIERS
A38: z101
A39: z102
A40: z103
A41: z104
A42: z105
A43: z106
C46: NOTES SUPPLEMENTAIRES

Sheet Fév
B1: 2020
B2: 2
C4: FICHE DE PRESENCE | Q4: MOIS | T4: FEVRIER | Z4: 2020
C6: 20 | D6: jours
C8: SEMAINES | H8: 6 | O8: 7 | V8: 8 | AB8: 9
F9: L | G9: M | H9: M | I9: J | J9: V | M9: L | N9: M | O9: M | P9: J | Q9: V | T9: L | U9: M | V9: M | W9: J | X9: V | AA9: L | AB9: M | AC9: M | AD9: J | AE9: V | AI9: H. TOT | AJ9: CP | AK9: RTT
C10: JOURS | D10: 1 | E10: 2 | F10: 3 | G10: 4 | H10: 5 | I10: 6 | J10: 7 | K10: 8 | L10: 9 | M10: 10 | N10: 11 | O10: 12 | P10: 13 | Q10: 14 | R10: 15 | S10: 16 | T10: 17 | U10: 18 | V10: 19 | W10: 20 | X10: 21 | Y10: 22 | Z10: 23 | AA10: 24 | AB10: 25 | AC10: 26 | AD10: 27 | AE10: 28 | AF10: 29 | AI10: TRAVAIL | AJ10: jours | AK10: jours
A12: 01 | B12: ABELARD | C12: AURELIE | F12: 8 | G12: 8 | H12: 8 | I12: 8 | J12: 7 | M12: 8 | N12: 8 | O12: 8 | P12: 8 | Q12: 7 | T12: 8 | U12: 8 | V12: 8 | W12: 8 | X12: 7 | AA12: 8 | AB12: 8 | AC12: 8 | AD12: 8 | AE12: 7 | AI12: =SUM(D12:AH12) -> 156 | AJ12: =IF(D12="CP",1,0)+IF(E12="CP",1,0)+IF(F12="CP",1,0)+IF(G12="CP",1,0)+IF(H12="CP",1,0)+IF(I12="CP",1,0)+IF(J12="CP",1,0)+IF(K12="CP",1,0)+IF(L12="CP",1,0)+IF(M12="CP",1,0)+IF(N12="CP",1,0)+IF(O12="CP",1,0)+IF(P12="CP",1,0)+IF(Q12="CP",1,0)+IF(R12="CP",1,0)+IF(S12="CP",1,0)+IF(T12="CP",1,0)+IF(U12="CP",1,0)+IF(V12="CP",1,0)+IF(W12="CP",1,0)+IF(X12="CP",1,0)+IF(Y12="CP",1,0)+IF(Z12="CP",1,0)+IF(AA12="CP",1,0)+IF(AB12="CP",1,0)+IF(AD12="CP",1,0)+IF(AE12="CP",1,0)+IF(AF12="CP",1,0)+IF(AG12="CP",1,0)+IF(AH12="CP",1,0)+IF(AC12="CP",1,0) -> 0 | AK12: =IF(E12="RTT",1,0)+IF(F12="RTT",1,0)+IF(G12="RTT",1,0)+IF(H12="RTT",1,0)+IF(I12="RTT",1,0)+IF(J12="RTT",1,0)+IF(K12="RTT",1,0)+IF(L12="RTT",1,0)+IF(M12="RTT",1,0)+IF(N12="RTT",1,0)+IF(O12="RTT",1,0)+IF(P12="RTT",1,0)+IF(Q12="RTT",1,0)+IF(R12="RTT",1,0)+IF(S12="RTT",1,0)+IF(T12="RTT",1,0)+IF(U12="RTT",1,0)+IF(V12="RTT",1,0)+IF(W12="RTT",1,0)+IF(X12="RTT",1,0)+IF(Y12="RTT",1,0)+IF(Z12="RTT",1,0)+IF(AA12="RTT",1,0)+IF(AB12="RTT",1,0)+IF(AC12="RTT",1,0)+IF(AE12="RTT",1,0)+IF(AF12="RTT",1,0)+IF(AG12="RTT",1,0)+IF(AH12="RTT",1,0)+IF(AD12="RTT",1,0)+IF(D12="RTT",1,0) -> 0
A13: 02 | B13: AGOT | C13: DOMINIQUE | F13: 8 | G13: 8 | H13: 8 | I13: 8 | J13: 7 | M13: 8 | N13: 8 | O13: 8 | P13: 8 | Q13: 7 | T13: 8 | U13: 8 | V13: 8 | W13: 8 | X13: 7 | AA13: 8 | AB13: 8 | AC13: 8 | AD13: 8 | AE13: 7 | AI13: =SUM(D13:AH13) -> 156 | AJ13: =IF(D13="CP",1,0)+IF(E13="CP",1,0)+IF(F13="CP",1,0)+IF(G13="CP",1,0)+IF(H13="CP",1,0)+IF(I13="CP",1,0)+IF(J13="CP",1,0)+IF(K13="CP",1,0)+IF(L13="CP",1,0)+IF(M13="CP",1,0)+IF(N13="CP",1,0)+IF(O13="CP",1,0)+IF(P13="CP",1,0)+IF(Q13="CP",1,0)+IF(R13="CP",1,0)+IF(S13="CP",1,0)+IF(T13="CP",1,0)+IF(U13="CP",1,0)+IF(V13="CP",1,0)+IF(W13="CP",1,0)+IF(X13="CP",1,0)+IF(Y13="CP",1,0)+IF(Z13="CP",1,0)+IF(AA13="CP",1,0)+IF(AB13="CP",1,0)+IF(AD13="CP",1,0)+IF(AE13="CP",1,0)+IF(AF13="CP",1,0)+IF(AG13="CP",1,0)+IF(AH13="CP",1,0)+IF(AC13="CP",1,0) -> 0 | AK13: =IF(E13="RTT",1,0)+IF(F13="RTT",1,0)+IF(G13="RTT",1,0)+IF(H13="RTT",1,0)+IF(I13="RTT",1,0)+IF(J13="RTT",1,0)+IF(K13="RTT",1,0)+IF(L13="RTT",1,0)+IF(M13="RTT",1,0)+IF(N13="RTT",1,0)+IF(O13="RTT",1,0)+IF(P13="RTT",1,0)+IF(Q13="RTT",1,0)+IF(R13="RTT",1,0)+IF(S13="RTT",1,0)+IF(T13="RTT",1,0)+IF(U13="RTT",1,0)+IF(V13="RTT",1,0)+IF(W13="RTT",1,0)+IF(X13="RTT",1,0)+IF(Y13="RTT",1,0)+IF(Z13="RTT",1,0)+IF(AA13="RTT",1,0)+IF(AB13="RTT",1,0)+IF(AC13="RTT",1,0)+IF(AE13="RTT",1,0)+IF(AF13="RTT",1,0)+IF(AG13="RTT",1,0)+IF(AH13="RTT",1,0)+IF(AD13="RTT",1,0)+IF(D13="RTT",1,0) -> 0
A14: 03 | B14: BAUMARD | C14: YSABELLE | F14: 8 | G14: 8 | H14: 8 | I14: 8 | J14: 7 | M14: 8 | N14: 8 | O14: 8 | P14: 8 | Q14: 7 | T14: 8 | U14: 8 | V14: 8 | W14: 8 | X14: 7 | AA14: 8 | AB14: 8 | AC14: 8 | AD14: 8 | AE14: 7 | AI14: =SUM(D14:AH14) -> 156 | AJ14: =IF(D14="CP",1,0)+IF(E14="CP",1,0)+IF(F14="CP",1,0)+IF(G14="CP",1,0)+IF(H14="CP",1,0)+IF(I14="CP",1,0)+IF(J14="CP",1,0)+IF(K14="CP",1,0)+IF(L14="CP",1,0)+IF(M14="CP",1,0)+IF(N14="CP",1,0)+IF(O14="CP",1,0)+IF(P14="CP",1,0)+IF(Q14="CP",1,0)+IF(R14="CP",1,0)+IF(S14="CP",1,0)+IF(T14="CP",1,0)+IF(U14="CP",1,0)+IF(V14="CP",1,0)+IF(W14="CP",1,0)+IF(X14="CP",1,0)+IF(Y14="CP",1,0)+IF(Z14="CP",1,0)+IF(AA14="CP",1,0)+IF(AB14="CP",1,0)+IF(AD14="CP",1,0)+IF(AE14="CP",1,0)+IF(AF14="CP",1,0)+IF(AG14="CP",1,0)+IF(AH14="CP",1,0)+IF(AC14="CP",1,0) -> 0 | AK14: =IF(E14="RTT",1,0)+IF(F14="RTT",1,0)+IF(G14="RTT",1,0)+IF(H14="RTT",1,0)+IF(I14="RTT",1,0)+IF(J14="RTT",1,0)+IF(K14="RTT",1,0)+IF(L14="RTT",1,0)+IF(M14="RTT",1,0)+IF(N14="RTT",1,0)+IF(O14="RTT",1,0)+IF(P14="RTT",1,0)+IF(Q14="RTT",1,0)+IF(R14="RTT",1,0)+IF(S14="RTT",1,0)+IF(T14="RTT",1,0)+IF(U14="RTT",1,0)+IF(V14="RTT",1,0)+IF(W14="RTT",1,0)+IF(X14="RTT",1,0)+IF(Y14="RTT",1,0)+IF(Z14="RTT",1,0)+IF(AA14="RTT",1,0)+IF(AB14="RTT",1,0)+IF(AC14="RTT",1,0)+IF(AE14="RTT",1,0)+IF(AF14="RTT",1,0)+IF(AG14="RTT",1,0)+IF(AH14="RTT",1,0)+IF(AD14="RTT",1,0)+IF(D14="RTT",1,0) -> 0
A15: 23 | B15: BLANLOEIL | C15: MYRIAM | F15: 8 | G15: 8 | H15: 8 | I15: 8 | J15: 7 | M15: 8 | N15: 8 | O15: 8 | P15: 8 | Q15: 7 | T15: 8 | U15: 8 | V15: 8 | W15: 8 | X15: 7 | AA15: 8 | AB15: 8 | AC15: 8 | AD15: 8 | AE15: 7 | AI15: =SUM(D15:AH15) -> 156 | AJ15: =IF(D15="CP",1,0)+IF(E15="CP",1,0)+IF(F15="CP",1,0)+IF(G15="CP",1,0)+IF(H15="CP",1,0)+IF(I15="CP",1,0)+IF(J15="CP",1,0)+IF(K15="CP",1,0)+IF(L15="CP",1,0)+IF(M15="CP",1,0)+IF(N15="CP",1,0)+IF(O15="CP",1,0)+IF(P15="CP",1,0)+IF(Q15="CP",1,0)+IF(R15="CP",1,0)+IF(S15="CP",1,0)+IF(T15="CP",1,0)+IF(U15="CP",1,0)+IF(V15="CP",1,0)+IF(W15="CP",1,0)+IF(X15="CP",1,0)+IF(Y15="CP",1,0)+IF(Z15="CP",1,0)+IF(AA15="CP",1,0)+IF(AB15="CP",1,0)+IF(AD15="CP",1,0)+IF(AE15="CP",1,0)+IF(AF15="CP",1,0)+IF(AG15="CP",1,0)+IF(AH15="CP",1,0)+IF(AC15="CP",1,0) -> 0 | AK15: =IF(E15="RTT",1,0)+IF(F15="RTT",1,0)+IF(G15="RTT",1,0)+IF(H15="RTT",1,0)+IF(I15="RTT",1,0)+IF(J15="RTT",1,0)+IF(K15="RTT",1,0)+IF(L15="RTT",1,0)+IF(M15="RTT",1,0)+IF(N15="RTT",1,0)+IF(O15="RTT",1,0)+IF(P15="RTT",1,0)+IF(Q15="RTT",1,0)+IF(R15="RTT",1,0)+IF(S15="RTT",1,0)+IF(T15="RTT",1,0)+IF(U15="RTT",1,0)+IF(V15="RTT",1,0)+IF(W15="RTT",1,0)+IF(X15="RTT",1,0)+IF(Y15="RTT",1,0)+IF(Z15="RTT",1,0)+IF(AA15="RTT",1,0)+IF(AB15="RTT",1,0)+IF(AC15="RTT",1,0)+IF(AE15="RTT",1,0)+IF(AF15="RTT",1,0)+IF(AG15="RTT",1,0)+IF(AH15="RTT",1,0)+IF(AD15="RTT",1,0)+IF(D15="RTT",1,0) -> 0
A16: 05 | B16: BRETEAU | C16: CHRISTELLE | F16: 8 | G16: 8 | H16: 8 | I16: 8 | J16: 7 | M16: 8 | N16: 8 | O16: 8 | P16: 8 | Q16: 7 | T16: 8 | U16: 8 | V16: 8 | W16: 8 | X16: 7 | AA16: 8 | AB16: 8 | AC16: 8 | AD16: 8 | AE16: 7 | AI16: =SUM(D16:AH16) -> 156 | AJ16: =IF(D16="CP",1,0)+IF(E16="CP",1,0)+IF(F16="CP",1,0)+IF(G16="CP",1,0)+IF(H16="CP",1,0)+IF(I16="CP",1,0)+IF(J16="CP",1,0)+IF(K16="CP",1,0)+IF(L16="CP",1,0)+IF(M16="CP",1,0)+IF(N16="CP",1,0)+IF(O16="CP",1,0)+IF(P16="CP",1,0)+IF(Q16="CP",1,0)+IF(R16="CP",1,0)+IF(S16="CP",1,0)+IF(T16="CP",1,0)+IF(U16="CP",1,0)+IF(V16="CP",1,0)+IF(W16="CP",1,0)+IF(X16="CP",1,0)+IF(Y16="CP",1,0)+IF(Z16="CP",1,0)+IF(AA16="CP",1,0)+IF(AB16="CP",1,0)+IF(AD16="CP",1,0)+IF(AE16="CP",1,0)+IF(AF16="CP",1,0)+IF(AG16="CP",1,0)+IF(AH16="CP",1,0)+IF(AC16="CP",1,0) -> 0 | AK16: =IF(E16="RTT",1,0)+IF(F16="RTT",1,0)+IF(G16="RTT",1,0)+IF(H16="RTT",1,0)+IF(I16="RTT",1,0)+IF(J16="RTT",1,0)+IF(K16="RTT",1,0)+IF(L16="RTT",1,0)+IF(M16="RTT",1,0)+IF(N16="RTT",1,0)+IF(O16="RTT",1,0)+IF(P16="RTT",1,0)+IF(Q16="RTT",1,0)+IF(R16="RTT",1,0)+IF(S16="RTT",1,0)+IF(T16="RTT",1,0)+IF(U16="RTT",1,0)+IF(V16="RTT",1,0)+IF(W16="RTT",1,0)+IF(X16="RTT",1,0)+IF(Y16="RTT",1,0)+IF(Z16="RTT",1,0)+IF(AA16="RTT",1,0)+IF(AB16="RTT",1,0)+IF(AC16="RTT",1,0)+IF(AE16="RTT",1,0)+IF(AF16="RTT",1,0)+IF(AG16="RTT",1,0)+IF(AH16="RTT",1,0)+IF(AD16="RTT",1,0)+IF(D16="RTT",1,0) -> 0
A17: 04 | B17: CHAUVIRE | C17: ALINE | F17: 8 | G17: 8 | H17: 8 | I17: 8 | J17: 7 | M17: 8 | N17: 8 | O17: 8 | P17: 8 | Q17: 7 | T17: 8 | U17: 8 | V17: 8 | W17: 8 | X17: 7 | AA17: 8 | AB17: 8 | AC17: 8 | AD17: 8 | AE17: 7 | AI17: =SUM(D17:AH17) -> 156 | AJ17: =IF(D17="CP",1,0)+IF(E17="CP",1,0)+IF(F17="CP",1,0)+IF(G17="CP",1,0)+IF(H17="CP",1,0)+IF(I17="CP",1,0)+IF(J17="CP",1,0)+IF(K17="CP",1,0)+IF(L17="CP",1,0)+IF(M17="CP",1,0)+IF(N17="CP",1,0)+IF(O17="CP",1,0)+IF(P17="CP",1,0)+IF(Q17="CP",1,0)+IF(R17="CP",1,0)+IF(S17="CP",1,0)+IF(T17="CP",1,0)+IF(U17="CP",1,0)+IF(V17="CP",1,0)+IF(W17="CP",1,0)+IF(X17="CP",1,0)+IF(Y17="CP",1,0)+IF(Z17="CP",1,0)+IF(AA17="CP",1,0)+IF(AB17="CP",1,0)+IF(AD17="CP",1,0)+IF(AE17="CP",1,0)+IF(AF17="CP",1,0)+IF(AG17="CP",1,0)+IF(AH17="CP",1,0)+IF(AC17="CP",1,0) -> 0 | AK17: =IF(E17="RTT",1,0)+IF(F17="RTT",1,0)+IF(G17="RTT",1,0)+IF(H17="RTT",1,0)+IF(I17="RTT",1,0)+IF(J17="RTT",1,0)+IF(K17="RTT",1,0)+IF(L17="RTT",1,0)+IF(M17="RTT",1,0)+IF(N17="RTT",1,0)+IF(O17="RTT",1,0)+IF(P17="RTT",1,0)+IF(Q17="RTT",1,0)+IF(R17="RTT",1,0)+IF(S17="RTT",1,0)+IF(T17="RTT",1,0)+IF(U17="RTT",1,0)+IF(V17="RTT",1,0)+IF(W17="RTT",1,0)+IF(X17="RTT",1,0)+IF(Y17="RTT",1,0)+IF(Z17="RTT",1,0)+IF(AA17="RTT",1,0)+IF(AB17="RTT",1,0)+IF(AC17="RTT",1,0)+IF(AE17="RTT",1,0)+IF(AF17="RTT",1,0)+IF(AG17="RTT",1,0)+IF(AH17="RTT",1,0)+IF(AD17="RTT",1,0)+IF(D17="RTT",1,0) -> 0
A18: 07 | B18: CHIRON | C18: FRANCOISE | F18: 8 | G18: 8 | H18: 8 | I18: 8 | J18: 7 | M18: 8 | N18: 8 | O18: 8 | P18: 8 | Q18: 7 | T18: 8 | U18: 8 | V18: 8 | W18: 8 | X18: 7 | AA18: 8 | AB18: 8 | AC18: 8 | AD18: 8 | AE18: 7 | AI18: =SUM(D18:AH18) -> 156 | AJ18: =IF(D18="CP",1,0)+IF(E18="CP",1,0)+IF(F18="CP",1,0)+IF(G18="CP",1,0)+IF(H18="CP",1,0)+IF(I18="CP",1,0)+IF(J18="CP",1,0)+IF(K18="CP",1,0)+IF(L18="CP",1,0)+IF(M18="CP",1,0)+IF(N18="CP",1,0)+IF(O18="CP",1,0)+IF(P18="CP",1,0)+IF(Q18="CP",1,0)+IF(R18="CP",1,0)+IF(S18="CP",1,0)+IF(T18="CP",1,0)+IF(U18="CP",1,0)+IF(V18="CP",1,0)+IF(W18="CP",1,0)+IF(X18="CP",1,0)+IF(Y18="CP",1,0)+IF(Z18="CP",1,0)+IF(AA18="CP",1,0)+IF(AB18="CP",1,0)+IF(AD18="CP",1,0)+IF(AE18="CP",1,0)+IF(AF18="CP",1,0)+IF(AG18="CP",1,0)+IF(AH18="CP",1,0)+IF(AC18="CP",1,0) -> 0 | AK18: =IF(E18="RTT",1,0)+IF(F18="RTT",1,0)+IF(G18="RTT",1,0)+IF(H18="RTT",1,0)+IF(I18="RTT",1,0)+IF(J18="RTT",1,0)+IF(K18="RTT",1,0)+IF(L18="RTT",1,0)+IF(M18="RTT",1,0)+IF(N18="RTT",1,0)+IF(O18="RTT",1,0)+IF(P18="RTT",1,0)+IF(Q18="RTT",1,0)+IF(R18="RTT",1,0)+IF(S18="RTT",1,0)+IF(T18="RTT",1,0)+IF(U18="RTT",1,0)+IF(V18="RTT",1,0)+IF(W18="RTT",1,0)+IF(X18="RTT",1,0)+IF(Y18="RTT",1,0)+IF(Z18="RTT",1,0)+IF(AA18="RTT",1,0)+IF(AB18="RTT",1,0)+IF(AC18="RTT",1,0)+IF(AE18="RTT",1,0)+IF(AF18="RTT",1,0)+IF(AG18="RTT",1,0)+IF(AH18="RTT",1,0)+IF(AD18="RTT",1,0)+IF(D18="RTT",1,0) -> 0
A19: 20 | B19: CHUDEAU | C19: ROMANE | F19: 8 | G19: 8 | H19: 8 | I19: 8 | J19: 7 | M19: 8 | N19: 8 | O19: 8 | P19: 8 | Q19: 7 | T19: 8 | U19: 8 | V19: 8 | W19: 8 | X19: 7 | AA19: 8 | AB19: 8 | AC19: 8 | AD19: 8 | AE19: 7 | AI19: =SUM(D19:AH19) -> 156 | AJ19: =IF(D19="CP",1,0)+IF(E19="CP",1,0)+IF(F19="CP",1,0)+IF(G19="CP",1,0)+IF(H19="CP",1,0)+IF(I19="CP",1,0)+IF(J19="CP",1,0)+IF(K19="CP",1,0)+IF(L19="CP",1,0)+IF(M19="CP",1,0)+IF(N19="CP",1,0)+IF(O19="CP",1,0)+IF(P19="CP",1,0)+IF(Q19="CP",1,0)+IF(R19="CP",1,0)+IF(S19="CP",1,0)+IF(T19="CP",1,0)+IF(U19="CP",1,0)+IF(V19="CP",1,0)+IF(W19="CP",1,0)+IF(X19="CP",1,0)+IF(Y19="CP",1,0)+IF(Z19="CP",1,0)+IF(AA19="CP",1,0)+IF(AB19="CP",1,0)+IF(AD19="CP",1,0)+IF(AE19="CP",1,0)+IF(AF19="CP",1,0)+IF(AG19="CP",1,0)+IF(AH19="CP",1,0)+IF(AC19="CP",1,0) -> 0 | AK19: =IF(E19="RTT",1,0)+IF(F19="RTT",1,0)+IF(G19="RTT",1,0)+IF(H19="RTT",1,0)+IF(I19="RTT",1,0)+IF(J19="RTT",1,0)+IF(K19="RTT",1,0)+IF(L19="RTT",1,0)+IF(M19="RTT",1,0)+IF(N19="RTT",1,0)+IF(O19="RTT",1,0)+IF(P19="RTT",1,0)+IF(Q19="RTT",1,0)+IF(R19="RTT",1,0)+IF(S19="RTT",1,0)+IF(T19="RTT",1,0)+IF(U19="RTT",1,0)+IF(V19="RTT",1,0)+IF(W19="RTT",1,0)+IF(X19="RTT",1,0)+IF(Y19="RTT",1,0)+IF(Z19="RTT",1,0)+IF(AA19="RTT",1,0)+IF(AB19="RTT",1,0)+IF(AC19="RTT",1,0)+IF(AE19="RTT",1,0)+IF(AF19="RTT",1,0)+IF(AG19="RTT",1,0)+IF(AH19="RTT",1,0)+IF(AD19="RTT",1,0)+IF(D19="RTT",1,0) -> 0
A20: 21 | B20: CONTIN | C20: ARMAND | F20: 8 | G20: 8 | H20: 8 | I20: 8 | J20: 7 | M20: 8 | N20: 8 | O20: 8 | P20: 8 | Q20: 7 | T20: 8 | U20: 8 | V20: 8 | W20: 8 | X20: 7 | AA20: 8 | AB20: 8 | AC20: 8 | AD20: 8 | AE20: 7 | AI20: =SUM(D20:AH20) -> 156 | AJ20: =IF(D20="CP",1,0)+IF(E20="CP",1,0)+IF(F20="CP",1,0)+IF(G20="CP",1,0)+IF(H20="CP",1,0)+IF(I20="CP",1,0)+IF(J20="CP",1,0)+IF(K20="CP",1,0)+IF(L20="CP",1,0)+IF(M20="CP",1,0)+IF(N20="CP",1,0)+IF(O20="CP",1,0)+IF(P20="CP",1,0)+IF(Q20="CP",1,0)+IF(R20="CP",1,0)+IF(S20="CP",1,0)+IF(T20="CP",1,0)+IF(U20="CP",1,0)+IF(V20="CP",1,0)+IF(W20="CP",1,0)+IF(X20="CP",1,0)+IF(Y20="CP",1,0)+IF(Z20="CP",1,0)+IF(AA20="CP",1,0)+IF(AB20="CP",1,0)+IF(AD20="CP",1,0)+IF(AE20="CP",1,0)+IF(AF20="CP",1,0)+IF(AG20="CP",1,0)+IF(AH20="CP",1,0)+IF(AC20="CP",1,0) -> 0 | AK20: =IF(E20="RTT",1,0)+IF(F20="RTT",1,0)+IF(G20="RTT",1,0)+IF(H20="RTT",1,0)+IF(I20="RTT",1,0)+IF(J20="RTT",1,0)+IF(K20="RTT",1,0)+IF(L20="RTT",1,0)+IF(M20="RTT",1,0)+IF(N20="RTT",1,0)+IF(O20="RTT",1,0)+IF(P20="RTT",1,0)+IF(Q20="RTT",1,0)+IF(R20="RTT",1,0)+IF(S20="RTT",1,0)+IF(T20="RTT",1,0)+IF(U20="RTT",1,0)+IF(V20="RTT",1,0)+IF(W20="RTT",1,0)+IF(X20="RTT",1,0)+IF(Y20="RTT",1,0)+IF(Z20="RTT",1,0)+IF(AA20="RTT",1,0)+IF(AB20="RTT",1,0)+IF(AC20="RTT",1,0)+IF(AE20="RTT",1,0)+IF(AF20="RTT",1,0)+IF(AG20="RTT",1,0)+IF(AH20="RTT",1,0)+IF(AD20="RTT",1,0)+IF(D20="RTT",1,0) -> 0
A21: 09 | B21: COUVREUX | C21: FLORA | F21: 8 | G21: 8 | H21: 8 | I21: 8 | J21: 7 | M21: 8 | N21: 8 | O21: 8 | P21: 8 | Q21: 7 | T21: 8 | U21: 8 | V21: 8 | W21: 8 | X21: 7 | AA21: 8 | AB21: 8 | AC21: 8 | AD21: 8 | AE21: 7 | AI21: =SUM(D21:AH21) -> 156 | AJ21: =IF(D21="CP",1,0)+IF(E21="CP",1,0)+IF(F21="CP",1,0)+IF(G21="CP",1,0)+IF(H21="CP",1,0)+IF(I21="CP",1,0)+IF(J21="CP",1,0)+IF(K21="CP",1,0)+IF(L21="CP",1,0)+IF(M21="CP",1,0)+IF(N21="CP",1,0)+IF(O21="CP",1,0)+IF(P21="CP",1,0)+IF(Q21="CP",1,0)+IF(R21="CP",1,0)+IF(S21="CP",1,0)+IF(T21="CP",1,0)+IF(U21="CP",1,0)+IF(V21="CP",1,0)+IF(W21="CP",1,0)+IF(X21="CP",1,0)+IF(Y21="CP",1,0)+IF(Z21="CP",1,0)+IF(AA21="CP",1,0)+IF(AB21="CP",1,0)+IF(AD21="CP",1,0)+IF(AE21="CP",1,0)+IF(AF21="CP",1,0)+IF(AG21="CP",1,0)+IF(AH21="CP",1,0)+IF(AC21="CP",1,0) -> 0 | AK21: =IF(E21="RTT",1,0)+IF(F21="RTT",1,0)+IF(G21="RTT",1,0)+IF(H21="RTT",1,0)+IF(I21="RTT",1,0)+IF(J21="RTT",1,0)+IF(K21="RTT",1,0)+IF(L21="RTT",1,0)+IF(M21="RTT",1,0)+IF(N21="RTT",1,0)+IF(O21="RTT",1,0)+IF(P21="RTT",1,0)+IF(Q21="RTT",1,0)+IF(R21="RTT",1,0)+IF(S21="RTT",1,0)+IF(T21="RTT",1,0)+IF(U21="RTT",1,0)+IF(V21="RTT",1,0)+IF(W21="RTT",1,0)+IF(X21="RTT",1,0)+IF(Y21="RTT",1,0)+IF(Z21="RTT",1,0)+IF(AA21="RTT",1,0)+IF(AB21="RTT",1,0)+IF(AC21="RTT",1,0)+IF(AE21="RTT",1,0)+IF(AF21="RTT",1,0)+IF(AG21="RTT",1,0)+IF(AH21="RTT",1,0)+IF(AD21="RTT",1,0)+IF(D21="RTT",1,0) -> 0
A22: 10 | B22: DEKHIL | C22: HENNACHI | F22: 8 | G22: 8 | H22: 8 | I22: 8 | J22: 7 | M22: 8 | N22: 8 | O22: 8 | P22: 8 | Q22: 7 | T22: 8 | U22: 8 | V22: 8 | W22: 8 | X22: 7 | AA22: 8 | AB22: 8 | AC22: 8 | AD22: 8 | AE22: 7 | AI22: =SUM(D22:AH22) -> 156 | AJ22: =IF(D22="CP",1,0)+IF(E22="CP",1,0)+IF(F22="CP",1,0)+IF(G22="CP",1,0)+IF(H22="CP",1,0)+IF(I22="CP",1,0)+IF(J22="CP",1,0)+IF(K22="CP",1,0)+IF(L22="CP",1,0)+IF(M22="CP",1,0)+IF(N22="CP",1,0)+IF(O22="CP",1,0)+IF(P22="CP",1,0)+IF(Q22="CP",1,0)+IF(R22="CP",1,0)+IF(S22="CP",1,0)+IF(T22="CP",1,0)+IF(U22="CP",1,0)+IF(V22="CP",1,0)+IF(W22="CP",1,0)+IF(X22="CP",1,0)+IF(Y22="CP",1,0)+IF(Z22="CP",1,0)+IF(AA22="CP",1,0)+IF(AB22="CP",1,0)+IF(AD22="CP",1,0)+IF(AE22="CP",1,0)+IF(AF22="CP",1,0)+IF(AG22="CP",1,0)+IF(AH22="CP",1,0)+IF(AC22="CP",1,0) -> 0 | AK22: =IF(E22="RTT",1,0)+IF(F22="RTT",1,0)+IF(G22="RTT",1,0)+IF(H22="RTT",1,0)+IF(I22="RTT",1,0)+IF(J22="RTT",1,0)+IF(K22="RTT",1,0)+IF(L22="RTT",1,0)+IF(M22="RTT",1,0)+IF(N22="RTT",1,0)+IF(O22="RTT",1,0)+IF(P22="RTT",1,0)+IF(Q22="RTT",1,0)+IF(R22="RTT",1,0)+IF(S22="RTT",1,0)+IF(T22="RTT",1,0)+IF(U22="RTT",1,0)+IF(V22="RTT",1,0)+IF(W22="RTT",1,0)+IF(X22="RTT",1,0)+IF(Y22="RTT",1,0)+IF(Z22="RTT",1,0)+IF(AA22="RTT",1,0)+IF(AB22="RTT",1,0)+IF(AC22="RTT",1,0)+IF(AE22="RTT",1,0)+IF(AF22="RTT",1,0)+IF(AG22="RTT",1,0)+IF(AH22="RTT",1,0)+IF(AD22="RTT",1,0)+IF(D22="RTT",1,0) -> 0
