Workbook

Sheet Statistiques générales
A1: Aujourd'hui : | B1: =TODAY() -> 43725
B2: PAR TRIMESTRE
B3: Accueil de loisirs | D3: Accueil jeunes | F3: Projets | H3: Lycée pro | J3: Collège
A5: Année civile 2019 | B5: Nombre de jeunes | C5: Heures | D5: Nombre de jeunes | E5: Heures | F5: Nombre de jeunes | G5: Heures | H5: Nombre de jeunes | I5: Heures | J5: Nombre de jeunes | K5: Heures
A6: 1er trimestre | B6: =B25+B26 -> 0 | C6: =B55+B56 -> 0 | D6: ='Heures accueil jeunes'!A37+'Heures accueil jeunes'!A71+'Heures accueil jeunes'!A105 -> 0 | E6: ='Heures accueil jeunes'!M36+'Heures accueil jeunes'!M70+'Heures accueil jeunes'!M104 -> 0 | F6: ='Heures projets'!C26+'Heures projets'!C49+'Heures projets'!C72 -> 0 | G6: ='Heures projets'!H25+'Heures projets'!H48+'Heures projets'!H71 -> 0 | H6: ='Heures lycée pro'!B11+'Heures lycée pro'!B18+'Heures lycée pro'!B25 -> 0 | I6: ='Heures lycée pro'!F10+'Heures lycée pro'!F17+'Heures lycée pro'!F24 -> 0 | J6: ='Heures collège'!B16+'Heures collège'!B29+'Heures collège'!B42 -> 0 | K6: ='Heures collège'!F15+'Heures collège'!F28+'Heures collège'!F41 -> 0
A7: 2ème trimestre | B7: =B27 -> 0 | C7: =B57 -> 0 | D7: ='Heures accueil jeunes'!A139+'Heures accueil jeunes'!A173+'Heures accueil jeunes'!A207 -> 0 | E7: ='Heures accueil jeunes'!M138+'Heures accueil jeunes'!M172+'Heures accueil jeunes'!M206 -> 0 | F7: ='Heures projets'!C95+'Heures projets'!C118+'Heures projets'!C141 -> 0 | G7: ='Heures projets'!H94+'Heures projets'!H117+'Heures projets'!H140 -> 0 | H7: ='Heures lycée pro'!B33+'Heures lycée pro'!B41+'Heures lycée pro'!B48 -> 0 | I7: ='Heures lycée pro'!F32+'Heures lycée pro'!F40+'Heures lycée pro'!F47 -> 0 | J7: ='Heures collège'!B55+'Heures collège'!B68+'Heures collège'!B81 -> 0 | K7: ='Heures collège'!F54+'Heures collège'!F67+'Heures collège'!F80 -> 0
A8: 3ème trimestre | B8: =B28 -> 0 | C8: =B58 -> 0 | D8: ='Heures accueil jeunes'!A241+'Heures accueil jeunes'!A275+'Heures accueil jeunes'!A309 -> 0 | E8: ='Heures accueil jeunes'!M240+'Heures accueil jeunes'!M274+'Heures accueil jeunes'!M308 -> 0 | F8: ='Heures projets'!C164+'Heures projets'!C187+'Heures projets'!C210 -> 0 | G8: ='Heures projets'!H163+'Heures projets'!H186+'Heures projets'!H209 -> 0 | H8: ='Heures lycée pro'!B56+'Heures lycée pro'!B63+'Heures lycée pro'!B71 -> 0 | I8: ='Heures lycée pro'!F55+'Heures lycée pro'!F62+'Heures lycée pro'!F70 -> 0 | J8: ='Heures collège'!B94+'Heures collège'!B107+'Heures collège'!B120 -> 0 | K8: ='Heures collège'!F93+'Heures collège'!F106+'Heures collège'!F119 -> 0
A9: 4ème trimestre | B9: =B29 -> 0 | C9: =B59 -> 0 | D9: ='Heures accueil jeunes'!A343+'Heures accueil jeunes'!A377+'Heures accueil jeunes'!A411 -> 0 | E9: ='Heures accueil jeunes'!M342+'Heures accueil jeunes'!M376+'Heures accueil jeunes'!M410 -> 0 | F9: ='Heures projets'!C233+'Heures projets'!C256+'Heures projets'!C279 -> 0 | G9: ='Heures projets'!H232+'Heures projets'!H255+'Heures projets'!H278 -> 0 | H9: ='Heures lycée pro'!B79+'Heures lycée pro'!B86+'Heures lycée pro'!B94 -> 0 | I9: ='Heures lycée pro'!F78+'Heures lycée pro'!F85+'Heures lycée pro'!F93 -> 0 | J9: ='Heures collège'!B133+'Heures collège'!B146+'Heures collège'!B159 -> 0 | K9: ='Heures collège'!F132+'Heures collège'!F145+'Heures collège'!F158 -> 0
A10: Année civile 2020 | B10: Nombre de jeunes | C10: Heures | D10: Nombre de jeunes | E10: Heures | F10: Nombre de jeunes | G10: Heures | H10: Nombre de jeunes | I10: Heures | J10: Nombre de jeunes | K10: Heures
A11: 1er trimestre | B11: =B39+B40 -> 0 | C11: =B69+B70 -> 0 | D11: ='Heures accueil jeunes'!P37+'Heures accueil jeunes'!P71+'Heures accueil jeunes'!P105 -> 0 | E11: ='Heures accueil jeunes'!AB36+'Heures accueil jeunes'!AB70+'Heures accueil jeunes'!AB104 -> 0 | F11: ='Heures projets'!M26+'Heures projets'!M49+'Heures projets'!M72 -> 0 | G11: ='Heures projets'!R25+'Heures projets'!R48+'Heures projets'!R71 -> 0 | H11: ='Heures lycée pro'!J11+'Heures lycée pro'!J18+'Heures lycée pro'!J25 -> 0 | I11: ='Heures lycée pro'!N10+'Heures lycée pro'!N17+'Heures lycée pro'!N24 -> 0 | J11: ='Heures collège'!J16+'Heures collège'!J29+'Heures collège'!J42 -> 0 | K11: ='Heures collège'!N15+'Heures collège'!N28+'Heures collège'!N41 -> 0
A12: 2ème trimestre | B12: =B41 -> 0 | C12: =B71 -> 0 | D12: ='Heures accueil jeunes'!P139+'Heures accueil jeunes'!P173+'Heures accueil jeunes'!P207 -> 0 | E12: ='Heures accueil jeunes'!AB138+'Heures accueil jeunes'!AB172+'Heures accueil jeunes'!AB206 -> 0 | F12: ='Heures projets'!M95+'Heures projets'!M118+'Heures projets'!M141 -> 0 | G12: ='Heures projets'!R94+'Heures projets'!R117+'Heures projets'!R140 -> 0 | H12: ='Heures lycée pro'!J33+'Heures lycée pro'!J41+'Heures lycée pro'!J48 -> 0 | I12: ='Heures lycée pro'!N32+'Heures lycée pro'!N40+'Heures lycée pro'!N47 -> 0 | J12: ='Heures collège'!J55+'Heures collège'!J68+'Heures collège'!J81 -> 0 | K12: ='Heures collège'!N54+'Heures collège'!N67+'Heures collège'!N80 -> 0
A13: 3ème trimestre | B13: =B42 -> 0 | C13: =B72 -> 0 | D13: ='Heures accueil jeunes'!P241+'Heures accueil jeunes'!P275+'Heures accueil jeunes'!P309 -> 0 | E13: ='Heures accueil jeunes'!AB240+'Heures accueil jeunes'!AB274+'Heures accueil jeunes'!AB308 -> 0 | F13: ='Heures projets'!M164+'Heures projets'!M187+'Heures projets'!M210 -> 0 | G13: ='Heures projets'!R163+'Heures projets'!R186+'Heures projets'!R209 -> 0 | H13: ='Heures lycée pro'!J56+'Heures lycée pro'!J63+'Heures lycée pro'!J71 -> 0 | I13: ='Heures lycée pro'!N55+'Heures lycée pro'!N62+'Heures lycée pro'!N70 -> 0 | J13: ='Heures collège'!J94+'Heures collège'!J107+'Heures collège'!J120 -> 0 | K13: ='Heures collège'!N93+'Heures collège'!N106+'Heures collège'!N119 -> 0
A14: 4ème trimestre | B14: =B43 -> 0 | C14: =B73 -> 0 | D14: ='Heures accueil jeunes'!P343+'Heures accueil jeunes'!P377+'Heures accueil jeunes'!P411 -> 0 | E14: ='Heures accueil jeunes'!AB342+'Heures accueil jeunes'!AB376+'Heures accueil jeunes'!AB410 -> 0 | F14: ='Heures projets'!M233+'Heures projets'!M256+'Heures projets'!M279 -> 0 | G14: ='Heures projets'!R232+'Heures projets'!R255+'Heures projets'!R278 -> 0 | H14: ='Heures lycée pro'!J79+'Heures lycée pro'!J86+'Heures lycée pro'!J94 -> 0 | I14: ='Heures lycée pro'!N78+'Heures lycée pro'!N85+'Heures lycée pro'!N93 -> 0 | J14: ='Heures collège'!J133+'Heures collège'!J146+'Heures collège'!J159 -> 0 | K14: ='Heures collège'!N132+'Heures collège'!N145+'Heures collège'!N158 -> 0
B16: NOMBRE DE JEUNES
A17: Année scolaire 2018/2019 | B17: Accueil de loisirs | C17: Accueil jeunes | D17: Projets | E17: Lycée pro | F17: Collège | G17: Age | H17: Sexe
A18: Toussaint
A19: Noël | B19: ='Heures accueil de loisirs'!A37 -> 0
A20: Février | B20: ='Heures accueil de loisirs'!A121 -> 0
A21: Avril | B21: ='Heures accueil de loisirs'!A205 -> 0
A22: Eté | B22: ='Heures accueil de loisirs'!A299 -> 0
A23: Hors vacances | C23: ='Heures accueil jeunes'!A37+'Heures accueil jeunes'!A71+'Heures accueil jeunes'!A105+'Heures accueil jeunes'!A139+'Heures accueil jeunes'!A173+'Heures accueil jeunes'!A207+'Heures accueil jeunes'!A241+'Heures accueil jeunes'!A275 -> 0 | D23: ='Heures projets'!C26+'Heures projets'!C49+'Heures projets'!C72+'Heures projets'!C95+'Heures projets'!C118+'Heures projets'!C141+'Heures projets'!C164+'Heures projets'!C187 -> 0 | E23: ='Heures lycée pro'!B11+'Heures lycée pro'!B18+'Heures lycée pro'!B25+'Heures lycée pro'!B33+'Heures lycée pro'!B41+'Heures lycée pro'!B48+'Heures lycée pro'!B56+'Heures lycée pro'!B63 -> 0 | F23: ='Heures collège'!B16+'Heures collège'!B29+'Heures collège'!B42+'Heures collège'!B55+'Heures collège'!B68+'Heures collège'!B81+'Heures collège'!B94+'Heures collège'!B107 -> 0
A24: Année civile 2019 | B24: Accueil de loisirs | C24: Accueil jeunes | D24: Projets | E24: Lycée pro | F24: Collège
A25: Noël | B25: =B19 -> 0
A26: Février | B26: =B20 -> 0
A27: Avril | B27: =B21 -> 0
A28: Eté | B28: =B22 -> 0
A29: Toussaint | B29: =B32 -> 0
A30: Hors vacances | C30: ='Heures accueil jeunes'!A37+'Heures accueil jeunes'!A71+'Heures accueil jeunes'!A105+'Heures accueil jeunes'!A139+'Heures accueil jeunes'!A173+'Heures accueil jeunes'!A207+'Heures accueil jeunes'!A241+'Heures accueil jeunes'!A275+'Heures accueil jeunes'!A309+'Heures accueil jeunes'!A343+'Heures accueil jeunes'!A377+'Heures accueil jeunes'!A411 -> 0 | D30: ='Heures projets'!C26+'Heures projets'!C49+'Heures projets'!C72+'Heures projets'!C95+'Heures projets'!C118+'Heures projets'!C141+'Heures projets'!C164+'Heures projets'!C187+'Heures projets'!C210+'Heures projets'!C233+'Heures projets'!C256+'Heures projets'!C279 -> 0 | E30: ='Heures lycée pro'!B11+'Heures lycée pro'!B18+'Heures lycée pro'!B25+'Heures lycée pro'!B33+'Heures lycée pro'!B41+'Heures lycée pro'!B48+'Heures lycée pro'!B56+'Heures lycée pro'!B63+'Heures lycée pro'!B71+'Heures lycée pro'!B79+'Heures lycée pro'!B86+'Heures lycée pro'!B94 -> 0 | F30: ='Heures collège'!B16+'Heures collège'!B29+'Heures collège'!B42+'Heures collège'!B55+'Heures collège'!B68+'Heures collège'!B81+'Heures collège'!B94+'Heures collège'!B107+'Heures collège'!B120+'Heures collège'!B133+'Heures collège'!B146+'Heures collège'!B159 -> 0
A31: Année scolaire 2019/2020 | B31: Accueil de loisirs | C31: Accueil jeunes | D31: Projets | E31: Lycée pro | F31: Collège
A32: Toussaint | B32: ='Heures accueil de loisirs'!A373 -> 0
A33: Noël | B33: ='Heures accueil de loisirs'!O37 -> 0
A34: Février | B34: ='Heures accueil de loisirs'!O121 -> 0
A35: Avril | B35: ='Heures accueil de loisirs'!O205 -> 0
A36: Eté | B36: ='Heures accueil de loisirs'!O299 -> 0
A37: Hors vacances | C37: ='Heures accueil jeunes'!A309+'Heures accueil jeunes'!A343+'Heures accueil jeunes'!A377+'Heures accueil jeunes'!A411+'Heures accueil jeunes'!P37+'Heures accueil jeunes'!P71+'Heures accueil jeunes'!P105+'Heures accueil jeunes'!P139+'Heures accueil jeunes'!P173+'Heures accueil jeunes'!P207+'Heures accueil jeunes'!P241+'Heures accueil jeunes'!P275 -> 0 | D37: ='Heures projets'!C210+'Heures projets'!C233+'Heures projets'!C256+'Heures projets'!C279+'Heures projets'!M26+'Heures projets'!M49+'Heures projets'!M72+'Heures projets'!M95+'Heures projets'!M118+'Heures projets'!M141+'Heures projets'!M164+'Heures projets'!M187 -> 0 | E37: ='Heures lycée pro'!B71+'Heures lycée pro'!B79+'Heures lycée pro'!B86+'Heures lycée pro'!B94+'Heures lycée pro'!J11+'Heures lycée pro'!J18+'Heures lycée pro'!J25+'Heures lycée pro'!J33+'Heures lycée pro'!J41+'Heures lycée pro'!J48+'Heures lycée pro'!J56+'Heures lycée pro'!J63 -> 0 | F37: ='Heures collège'!B120+'Heures collège'!B133+'Heures collège'!B146+'Heures collège'!B159+'Heures collège'!J16+'Heures collège'!J29+'Heures collège'!J42+'Heures collège'!J55+'Heures collège'!J68+'Heures collège'!J81+'Heures collège'!J94+'Heures collège'!J107 -> 0
A38: Année civile 2020 | B38: Accueil de loisirs | C38: Accueil jeunes | D38: Projets | E38: Lycée pro | F38: Collège
A39: Noël | B39: =B33 -> 0
A40: Février | B40: =B34 -> 0
A41: Avril | B41: =B35 -> 0
A42: Eté | B42: =B36 -> 0
A43: Toussaint | B43: ='Heures accueil de loisirs'!O373 -> 0
A44: Hors vacances | C44: ='Heures accueil jeunes'!P37+'Heures accueil jeunes'!P71+'Heures accueil jeunes'!P105+'Heures accueil jeunes'!P139+'Heures accueil jeunes'!P173+'Heures accueil jeunes'!P207+'Heures accueil jeunes'!P241+'Heures accueil jeunes'!P275+'Heures accueil jeunes'!P309+'Heures accueil jeunes'!P343+'Heures accueil jeunes'!P377+'Heures accueil jeunes'!P411 -> 0 | D44: ='Heures projets'!M26+'Heures projets'!M49+'Heures projets'!M72+'Heures projets'!M95+'Heures projets'!M118+'Heures projets'!M141+'Heures projets'!M164+'Heures projets'!M187+'Heures projets'!M210+'Heures projets'!M233+'Heures projets'!M256+'Heures projets'!M279 -> 0 | E44: ='Heures lycée pro'!J11+'Heures lycée pro'!J18+'Heures lycée pro'!J25+'Heures lycée pro'!J33+'Heures lycée pro'!J41+'Heures lycée pro'!J48+'Heures lycée pro'!J56+'Heures lycée pro'!J63+'Heures lycée pro'!J71+'Heures lycée pro'!J79+'Heures lycée pro'!J86+'Heures lycée pro'!J94 -> 0 | F44: ='Heures collège'!J16+'Heures collège'!J29+'Heures collège'!J42+'Heures collège'!J55+'Heures collège'!J68+'Heures collège'!J81+'Heures collège'!J94+'Heures collège'!J107+'Heures collège'!J120+'Heures collège'!J133+'Heures collège'!J146+'Heures collège'!J159 -> 0
B46: HEURES
A47: Année scolaire 2018/2019 | B47: Accueil de loisirs | C47: Accueil jeunes | D47: Projets | E47: Lycée pro | F47: Collège
A48: Toussaint
A49: Noël | B49: ='Heures accueil de loisirs'!L36 -> 0
A50: Février | B50: ='Heures accueil de loisirs'!L120 -> 0
A51: Avril | B51: ='Heures accueil de loisirs'!L204 -> 0
A52: Eté | B52: ='Heures accueil de loisirs'!L298 -> 0
A53: Hors vacances | C53: ='Heures accueil jeunes'!M36+'Heures accueil jeunes'!M70+'Heures accueil jeunes'!M104+'Heures accueil jeunes'!M138+'Heures accueil jeunes'!M172+'Heures accueil jeunes'!M206+'Heures accueil jeunes'!M240+'Heures accueil jeunes'!M274 -> 0 | D53: ='Heures projets'!H25+'Heures projets'!H48+'Heures projets'!H71+'Heures projets'!H94+'Heures projets'!H117+'Heures projets'!H140+'Heures projets'!H163+'Heures projets'!H186 -> 0 | E53: ='Heures lycée pro'!F10+'Heures lycée pro'!F17+'Heures lycée pro'!F24+'Heures lycée pro'!F32+'Heures lycée pro'!F40+'Heures lycée pro'!F47+'Heures lycée pro'!F55+'Heures lycée pro'!F62 -> 0 | F53: ='Heures collège'!F15+'Heures collège'!F28+'Heures collège'!F41+'Heures collège'!F54+'Heures collège'!F67+'Heures collège'!F80+'Heures collège'!F93+'Heures collège'!F106 -> 0
A54: Année civile 2019 | B54: Accueil de loisirs | C54: Accueil jeunes | D54: Projets | E54: Lycée pro | F54: Collège
A55: Noël | B55: =B49 -> 0
A56: Février | B56: =B50 -> 0
A57: Avril | B57: =B51 -> 0
A58: Eté | B58: =B52 -> 0
A59: Toussaint | B59: =B62 -> 0
A60: Hors vacances | C60: ='Heures accueil jeunes'!M36+'Heures accueil jeunes'!M70+'Heures accueil jeunes'!M104+'Heures accueil jeunes'!M138+'Heures accueil jeunes'!M172+'Heures accueil jeunes'!M206+'Heures accueil jeunes'!M240+'Heures accueil jeunes'!M274+'Heures accueil jeunes'!M308+'Heures accueil jeunes'!M342+'Heures accueil jeunes'!M376+'Heures accueil jeunes'!M410 -> 0 | D60: ='Heures projets'!H25+'Heures projets'!H48+'Heures projets'!H71+'Heures projets'!H94+'Heures projets'!H117+'Heures projets'!H140+'Heures projets'!H163+'Heures projets'!H186+'Heures projets'!H209+'Heures projets'!H232+'Heures projets'!H255+'Heures projets'!H278 -> 0 | E60: ='Heures lycée pro'!F10+'Heures lycée pro'!F17+'Heures lycée pro'!F24+'Heures lycée pro'!F32+'Heures lycée pro'!F40+'Heures lycée pro'!F47+'Heures lycée pro'!F55+'Heures lycée pro'!F62+'Heures lycée pro'!F70+'Heures lycée pro'!F78+'Heures lycée pro'!F85+'Heures lycée pro'!F93 -> 0 | F60: ='Heures collège'!F15+'Heures collège'!F28+'Heures collège'!F41+'Heures collège'!F54+'Heures collège'!F67+'Heures collège'!F80+'Heures collège'!F93+'Heures collège'!F106+'Heures collège'!F119+'Heures collège'!F132+'Heures collège'!F145+'Heures collège'!F158 -> 0
A61: Année scolaire 2019/2020 | B61: Accueil de loisirs | C61: Accueil jeunes | D61: Projets | E61: Lycée pro | F61: Collège
A62: Toussaint | B62: ='Heures accueil de loisirs'!L372 -> 0
A63: Noël | B63: ='Heures accueil de loisirs'!Z36 -> 0
A64: Février | B64: ='Heures accueil de loisirs'!Z120 -> 0
A65: Avril | B65: ='Heures accueil de loisirs'!Z204 -> 0
A66: Eté | B66: ='Heures accueil de loisirs'!Z298 -> 0
A67: Hors vacances | C67: ='Heures accueil jeunes'!M308+'Heures accueil jeunes'!M342+'Heures accueil jeunes'!M376+'Heures accueil jeunes'!M410+'Heures accueil jeunes'!AB36+'Heures accueil jeunes'!AB70+'Heures accueil jeunes'!AB104+'Heures accueil jeunes'!AB138+'Heures accueil jeunes'!AB172+'Heures accueil jeunes'!AB206+'Heures accueil jeunes'!AB240+'Heures accueil jeunes'!AB274 -> 0 | D67: ='Heures projets'!H209+'Heures projets'!H232+'Heures projets'!H255+'Heures projets'!H278+'Heures projets'!R25+'Heures projets'!R48+'Heures projets'!R71+'Heures projets'!R94+'Heures projets'!R117+'Heures projets'!R140+'Heures projets'!R163+'Heures projets'!R186 -> 0 | E67: ='Heures lycée pro'!F70+'Heures lycée pro'!F78+'Heures lycée pro'!F85+'Heures lycée pro'!F93+'Heures lycée pro'!N10+'Heures lycée pro'!N17+'Heures lycée pro'!N24+'Heures lycée pro'!N32+'Heures lycée pro'!N40+'Heures lycée pro'!N47+'Heures lycée pro'!N55+'Heures lycée pro'!N62 -> 0 | F67: ='Heures collège'!F119+'Heures collège'!F132+'Heures collège'!F145+'Heures collège'!F158+'Heures collège'!N15+'Heures collège'!N28+'Heures collège'!N41+'Heures collège'!N54+'Heures collège'!N67+'Heures collège'!N80+'Heures collège'!N93+'Heures collège'!N106 -> 0
A68: Année civile 2020 | B68: Accueil de loisirs | C68: Accueil jeunes | D68: Projets | E68: Lycée pro | F68: Collège
A69: Noël | B69: =B63 -> 0
A70: Février | B70: =B64 -> 0
A71: Avril | B71: =B65 -> 0
A72: Eté | B72: =B66 -> 0
A73: Toussaint | B73: ='Heures accueil de loisirs'!Z372 -> 0
A74: Hors vacances | C74: ='Heures accueil jeunes'!AB36+'Heures accueil jeunes'!AB70+'Heures accueil jeunes'!AB104+'Heures accueil jeunes'!AB138+'Heures accueil jeunes'!AB172+'Heures accueil jeunes'!AB206+'Heures accueil jeunes'!AB240+'Heures accueil jeunes'!AB274+'Heures accueil jeunes'!AB308+'Heures accueil jeunes'!AB342+'Heures accueil jeunes'!AB376+'Heures accueil jeunes'!AB410 -> 0 | D74: ='Heures projets'!R25+'Heures projets'!R48+'Heures projets'!R71+'Heures projets'!R94+'Heures projets'!R117+'Heures projets'!R140+'Heures projets'!R163+'Heures projets'!R186+'Heures projets'!R209+'Heures projets'!R232+'Heures projets'!R255+'Heures projets'!R278 -> 0 | E74: ='Heures lycée pro'!N10+'Heures lycée pro'!N17+'Heures lycée pro'!N24+'Heures lycée pro'!N32+'Heures lycée pro'!N40+'Heures lycée pro'!N47+'Heures lycée pro'!N55+'Heures lycée pro'!N62+'Heures lycée pro'!N70+'Heures lycée pro'!N78+'Heures lycée pro'!N85+'Heures lycée pro'!N93 -> 0 | F74: ='Heures collège'!N15+'Heures collège'!N28+'Heures collège'!N41+'Heures collège'!N54+'Heures collège'!N67+'Heures collège'!N80+'Heures collège'!N93+'Heures collège'!N106+'Heures collège'!N119+'Heures collège'!N132+'Heures collège'!N145+'Heures collège'!N158 -> 0
B76: FINANCES
B77: Accueil de loisirs | H77: Projets
B78: Noël | C78: Février | D78: Avril | E78: Eté | F78: Toussaint
A79: Année scolaire 2018/2019 | B79: =Budget!E10 -> -104.43 | C79: =Budget!E11 -> 266.97 | D79: =Budget!E12 -> -357.44 | E79: =Budget!E13 -> -3118.25 | G79: =SUM(B79:F79) -> -3313.15 | I79: =G79+H79 -> -3313.15
A80: Année civile 2019 | B80: =B79 -> -104.43 | C80: =C79 -> 266.97 | D80: =D79 -> -357.44 | E80: =E79 -> -3118.25 | F80: =Budget!E14 -> 0 | G80: =SUM(B80:F80) -> -3313.15 | I80: =G80+H80 -> -3313.15
A81: Année scolaire 2019/2020 | B81: =Budget!L10 -> 0 | C81: =Budget!L11 -> 0 | D81: =Budget!L12 -> 0 | E81: =Budget!L13 -> 0 | F81: =F80 -> 0 | G81: =SUM(B81:F81) -> 0 | I81: =G81+H81 -> 0
A82: Année civile 2020 | B82: =B81 -> 0 | C82: =C81 -> 0 | D82: =D81 -> 0 | E82: =E81 -> 0 | G82: =SUM(B82:F82) -> 0 | I82: =G82+H82 -> 0

Sheet Heures accueil jeunes
B1: Aujourd'hui : | C1: =TODAY() -> 43725
B3: NOM | C3: Prénom | D3: Sexe | E3: Date de naissance | F3: Age | G3: Présence à la MJC | I3: Date | J3: Heure d'arrivée | K3: Heure de départ | Q3: NOM | R3: Prénom | S3: Sexe | T3: Date de naissance | U3: Age | V3: Présence à la MJC | X3: Date | Y3: Heure d'arrivée | Z3: Heure de départ
G4: Mois | H4: Année | V4: Mois | W4: Année
B5: 2019 | Q5: 2020
B6: Janvier | Q6: Janvier
F7: =INT(($C$1-E7)/365.25) -> 119 | L7: =K7-J7 -> 0 | U7: =INT(($C$1-T7)/365.25) -> 119 | AA7: =Z7-Y7 -> 0
F8: =INT(($C$1-E8)/365.25) -> 119 | L8: =K8-J8 -> 0 | U8: =INT(($C$1-T8)/365.25) -> 119 | AA8: =Z8-Y8 -> 0
F9: =INT(($C$1-E9)/365.25) -> 119 | L9: =K9-J9 -> 0 | U9: =INT(($C$1-T9)/365.25) -> 119 | AA9: =Z9-Y9 -> 0
F10: =INT(($C$1-E10)/365.25) -> 119 | L10: =K10-J10 -> 0 | U10: =INT(($C$1-T10)/365.25) -> 119 | AA10: =Z10-Y10 -> 0
F11: =INT(($C$1-E11)/365.25) -> 119 | L11: =K11-J11 -> 0 | U11: =INT(($C$1-T11)/365.25) -> 119 | AA11: =Z11-Y11 -> 0
F12: =INT(($C$1-E12)/365.25) -> 119 | L12: =K12-J12 -> 0 | U12: =INT(($C$1-T12)/365.25) -> 119 | AA12: =Z12-Y12 -> 0
F13: =INT(($C$1-E13)/365.25) -> 119 | L13: =K13-J13 -> 0 | U13: =INT(($C$1-T13)/365.25) -> 119 | AA13: =Z13-Y13 -> 0
F14: =INT(($C$1-E14)/365.25) -> 119 | L14: =K14-J14 -> 0 | U14: =INT(($C$1-T14)/365.25) -> 119 | AA14: =Z14-Y14 -> 0
F15: =INT(($C$1-E15)/365.25) -> 119 | L15: =K15-J15 -> 0 | U15: =INT(($C$1-T15)/365.25) -> 119 | AA15: =Z15-Y15 -> 0
F16: =INT(($C$1-E16)/365.25) -> 119 | L16: =K16-J16 -> 0 | U16: =INT(($C$1-T16)/365.25) -> 119 | AA16: =Z16-Y16 -> 0
F17: =INT(($C$1-E17)/365.25) -> 119 | L17: =K17-J17 -> 0 | U17: =INT(($C$1-T17)/365.25) -> 119 | AA17: =Z17-Y17 -> 0
F18: =INT(($C$1-E18)/365.25) -> 119 | L18: =K18-J18 -> 0 | U18: =INT(($C$1-T18)/365.25) -> 119 | AA18: =Z18-Y18 -> 0
... F35: =INT(($C$1-E35)/365.25) -> 119 | L35: =K35-J35 -> 0 | U35: =INT(($C$1-T35)/365.25) -> 119 | AA35: =Z35-Y35 -> 0
F36: =INT(($C$1-E36)/365.25) -> 119 | L36: =K36-J36 -> 0 | M36: =SUM(L7:L36) -> 0 | U36: =INT(($C$1-T36)/365.25) -> 119 | AA36: =Z36-Y36 -> 0 | AB36: =SUM(AA7:AA36) -> 0
A37: =SUM(A7:A36) -> 0 | P37: =SUM(P7:P36) -> 0
B38: NOM | C38: Prénom | D38: Sexe | E38: Date de naissance | F38: Age | G38: Présence à la MJC | I38: Date | J38: Heure d'arrivée | K38: Heure de départ | Q38: NOM | R38: Prénom | S38: Sexe | T38: Date de naissance | U38: Age | V38: Présence à la MJC | X38: Date | Y38: Heure d'arrivée | Z38: Heure de départ
G39: Mois | H39: Année | V39: Mois | W39: Année
B40: Février | Q40: Février
F41: =INT(($C$1-E41)/365.25) -> 119 | L41: =K41-J41 -> 0 | U41: =INT(($C$1-T41)/365.25) -> 119 | AA41: =Z41-Y41 -> 0
F42: =INT(($C$1-E42)/365.25) -> 119 | L42: =K42-J42 -> 0 | U42: =INT(($C$1-T42)/365.25) -> 119 | AA42: =Z42-Y42 -> 0
F43: =INT(($C$1-E43)/365.25) -> 119 | L43: =K43-J43 -> 0 | U43: =INT(($C$1-T43)/365.25) -> 119 | AA43: =Z43-Y43 -> 0
F44: =INT(($C$1-E44)/365.25) -> 119 | L44: =K44-J44 -> 0 | U44: =INT(($C$1-T44)/365.25) -> 119 | AA44: =Z44-Y44 -> 0
F45: =INT(($C$1-E45)/365.25) -> 119 | L45: =K45-J45 -> 0 | U45: =INT(($C$1-T45)/365.25) -> 119 | AA45: =Z45-Y45 -> 0
F46: =INT(($C$1-E46)/365.25) -> 119 | L46: =K46-J46 -> 0 | U46: =INT(($C$1-T46)/365.25) -> 119 | AA46: =Z46-Y46 -> 0
F47: =INT(($C$1-E47)/365.25) -> 119 | L47: =K47-J47 -> 0 | U47: =INT(($C$1-T47)/365.25) -> 119 | AA47: =Z47-Y47 -> 0
F48: =INT(($C$1-E48)/365.25) -> 119 | L48: =K48-J48 -> 0 | U48: =INT(($C$1-T48)/365.25) -> 119 | AA48: =Z48-Y48 -> 0
F49: =INT(($C$1-E49)/365.25) -> 119 | L49: =K49-J49 -> 0 | U49: =INT(($C$1-T49)/365.25) -> 119 | AA49: =Z49-Y49 -> 0
F50: =INT(($C$1-E50)/365.25) -> 119 | L50: =K50-J50 -> 0 | U50: =INT(($C$1-T50)/365.25) -> 119 | AA50: =Z50-Y50 -> 0
F51: =INT(($C$1-E51)/365.25) -> 119 | L51: =K51-J51 -> 0 | U51: =INT(($C$1-T51)/365.25) -> 119 | AA51: =Z51-Y51 -> 0
F52: =INT(($C$1-E52)/365.25) -> 119 | L52: =K52-J52 -> 0 | U52: =INT(($C$1-T52)/365.25) -> 119 | AA52: =Z52-Y52 -> 0
... F69: =INT(($C$1-E69)/365.25) -> 119 | L69: =K69-J69 -> 0 | U69: =INT(($C$1-T69)/365.25) -> 119 | AA69: =Z69-Y69 -> 0
F70: =INT(($C$1-E70)/365.25) -> 119 | L70: =K70-J70 -> 0 | M70: =SUM(L41:L70) -> 0 | U70: =INT(($C$1-T70)/365.25) -> 119 | AA70: =Z70-Y70 -> 0 | AB70: =SUM(AA41:AA70) -> 0
A71: =SUM(A41:A70) -> 0 | P71: =SUM(P41:P70) -> 0
B72: NOM | C72: Prénom | D72: Sexe | E72: Date de naissance | F72: Age | G72: Présence à la MJC | I72: Date | J72: Heure d'arrivée | K72: Heure de départ | Q72: NOM | R72: Prénom | S72: Sexe | T72: Date de naissance | U72: Age | V72: Présence à la MJC | X72: Date | Y72: Heure d'arrivée | Z72: Heure de départ
G73: Mois | H73: Année | V73: Mois | W73: Année
B74: Mars | Q74: Mars
F75: =INT(($C$1-E75)/365.25) -> 119 | L75: =K75-J75 -> 0 | U75: =INT(($C$1-T75)/365.25) -> 119 | AA75: =Z75-Y75 -> 0
F76: =INT(($C$1-E76)/365.25) -> 119 | L76: =K76-J76 -> 0 | U76: =INT(($C$1-T76)/365.25) -> 119 | AA76: =Z76-Y76 -> 0
F77: =INT(($C$1-E77)/365.25) -> 119 | L77: =K77-J77 -> 0 | U77: =INT(($C$1-T77)/365.25) -> 119 | AA77: =Z77-Y77 -> 0
F78: =INT(($C$1-E78)/365.25) -> 119 | L78: =K78-J78 -> 0 | U78: =INT(($C$1-T78)/365.25) -> 119 | AA78: =Z78-Y78 -> 0
F79: =INT(($C$1-E79)/365.25) -> 119 | L79: =K79-J79 -> 0 | U79: =INT(($C$1-T79)/365.25) -> 119 | AA79: =Z79-Y79 -> 0
F80: =INT(($C$1-E80)/365.25) -> 119 | L80: =K80-J80 -> 0 | U80: =INT(($C$1-T80)/365.25) -> 119 | AA80: =Z80-Y80 -> 0
F81: =INT(($C$1-E81)/365.25) -> 119 | L81: =K81-J81 -> 0 | U81: =INT(($C$1-T81)/365.25) -> 119 | AA81: =Z81-Y81 -> 0
F82: =INT(($C$1-E82)/365.25) -> 119 | L82: =K82-J82 -> 0 | U82: =INT(($C$1-T82)/365.25) -> 119 | AA82: =Z82-Y82 -> 0
F83: =INT(($C$1-E83)/365.25) -> 119 | L83: =K83-J83 -> 0 | U83: =INT(($C$1-T83)/365.25) -> 119 | AA83: =Z83-Y83 -> 0
F84: =INT(($C$1-E84)/365.25) -> 119 | L84: =K84-J84 -> 0 | U84: =INT(($C$1-T84)/365.25) -> 119 | AA84: =Z84-Y84 -> 0
F85: =INT(($C$1-E85)/365.25) -> 119 | L85: =K85-J85 -> 0 | U85: =INT(($C$1-T85)/365.25) -> 119 | AA85: =Z85-Y85 -> 0
F86: =INT(($C$1-E86)/365.25) -> 119 | L86: =K86-J86 -> 0 | U86: =INT(($C$1-T86)/365.25) -> 119 | AA86: =Z86-Y86 -> 0
... F103: =INT(($C$1-E103)/365.25) -> 119 | L103: =K103-J103 -> 0 | U103: =INT(($C$1-T103)/365.25) -> 119 | AA103: =Z103-Y103 -> 0
F104: =INT(($C$1-E104)/365.25) -> 119 | L104: =K104-J104 -> 0 | M104: =SUM(L75:L104) -> 0 | U104: =INT(($C$1-T104)/365.25) -> 119 | AA104: =Z104-Y104 -> 0 | AB104: =SUM(AA75:AA104) -> 0
A105: =SUM(A75:A104) -> 0 | P105: =SUM(P75:P104) -> 0
B106: NOM | C106: Prénom | D106: Sexe | E106: Date de naissance | F106: Age | G106: Présence à la MJC | I106: Date | J106: Heure d'arrivée | K106: Heure de départ | Q106: NOM | R106: Prénom | S106: Sexe | T106: Date de naissance | U106: Age | V106: Présence à la MJC | X106: Date | Y106: Heure d'arrivée | Z106: Heure de départ
G107: Mois | H107: Année | V107: Mois | W107: Année
B108: Avril | Q108: Avril
F109: =INT(($C$1-E109)/365.25) -> 119 | L109: =K109-J109 -> 0 | U109: =INT(($C$1-T109)/365.25) -> 119 | AA109: =Z109-Y109 -> 0
F110: =INT(($C$1-E110)/365.25) -> 119 | L110: =K110-J110 -> 0 | U110: =INT(($C$1-T110)/365.25) -> 119 | AA110: =Z110-Y110 -> 0
F111: =INT(($C$1-E111)/365.25) -> 119 | L111: =K111-J111 -> 0 | U111: =INT(($C$1-T111)/365.25) -> 119 | AA111: =Z111-Y111 -> 0
F112: =INT(($C$1-E112)/365.25) -> 119 | L112: =K112-J112 -> 0 | U112: =INT(($C$1-T112)/365.25) -> 119 | AA112: =Z112-Y112 -> 0
F113: =INT(($C$1-E113)/365.25) -> 119 | L113: =K113-J113 -> 0 | U113: =INT(($C$1-T113)/365.25) -> 119 | AA113: =Z113-Y113 -> 0
F114: =INT(($C$1-E114)/365.25) -> 119 | L114: =K114-J114 -> 0 | U114: =INT(($C$1-T114)/365.25) -> 119 | AA114: =Z114-Y114 -> 0
F115: =INT(($C$1-E115)/365.25) -> 119 | L115: =K115-J115 -> 0 | U115: =INT(($C$1-T115)/365.25) -> 119 | AA115: =Z115-Y115 -> 0
F116: =INT(($C$1-E116)/365.25) -> 119 | L116: =K116-J116 -> 0 | U116: =INT(($C$1-T116)/365.25) -> 119 | AA116: =Z116-Y116 -> 0
F117: =INT(($C$1-E117)/365.25) -> 119 | L117: =K117-J117 -> 0 | U117: =INT(($C$1-T117)/365.25) -> 119 | AA117: =Z117-Y117 -> 0
F118: =INT(($C$1-E118)/365.25) -> 119 | L118: =K118-J118 -> 0 | U118: =INT(($C$1-T118)/365.25) -> 119 | AA118: =Z118-Y118 -> 0
F119: =INT(($C$1-E119)/365.25) -> 119 | L119: =K119-J119 -> 0 | U119: =INT(($C$1-T119)/365.25) -> 119 | AA119: =Z119-Y119 -> 0
F120: =INT(($C$1-E120)/365.25) -> 119 | L120: =K120-J120 -> 0 | U120: =INT(($C$1-T120)/365.25) -> 119 | AA120: =Z120-Y120 -> 0
... F137: =INT(($C$1-E137)/365.25) -> 119 | L137: =K137-J137 -> 0 | U137: =INT(($C$1-T137)/365.25) -> 119 | AA137: =Z137-Y137 -> 0
F138: =INT(($C$1-E138)/365.25) -> 119 | L138: =K138-J138 -> 0 | M138: =SUM(L109:L138) -> 0 | U138: =INT(($C$1-T138)/365.25) -> 119 | AA138: =Z138-Y138 -> 0 | AB138: =SUM(AA109:AA138) -> 0
A139: =SUM(A109:A138) -> 0 | P139: =SUM(P109:P138) -> 0
B140: NOM | C140: Prénom | D140: Sexe | E140: Date de naissance | F140: Age | G140: Présence à la MJC | I140: Date | J140: Heure d'arrivée | K140: Heure de départ | Q140: NOM | R140: Prénom | S140: Sexe | T140: Date de naissance | U140: Age | V140: Présence à la MJC | X140: Date | Y140: Heure d'arrivée | Z140: Heure de départ
G141: Mois | H141: Année | V141: Mois | W141: Année
B142: Mai | Q142: Mai
F143: =INT(($C$1-E143)/365.25) -> 119 | L143: =K143-J143 -> 0 | U143: =INT(($C$1-T143)/365.25) -> 119 | AA143: =Z143-Y143 -> 0
F144: =INT(($C$1-E144)/365.25) -> 119 | L144: =K144-J144 -> 0 | U144: =INT(($C$1-T144)/365.25) -> 119 | AA144: =Z144-Y144 -> 0
F145: =INT(($C$1-E145)/365.25) -> 119 | L145: =K145-J145 -> 0 | U145: =INT(($C$1-T145)/365.25) -> 119 | AA145: =Z145-Y145 -> 0
F146: =INT(($C$1-E146)/365.25) -> 119 | L146: =K146-J146 -> 0 | U146: =INT(($C$1-T146)/365.25) -> 119 | AA146: =Z146-Y146 -> 0
F147: =INT(($C$1-E147)/365.25) -> 119 | L147: =K147-J147 -> 0 | U147: =INT(($C$1-T147)/365.25) -> 119 | AA147: =Z147-Y147 -> 0
F148: =INT(($C$1-E148)/365.25) -> 119 | L148: =K148-J148 -> 0 | U148: =INT(($C$1-T148)/365.25) -> 119 | AA148: =Z148-Y148 -> 0
F149: =INT(($C$1-E149)/365.25) -> 119 | L149: =K149-J149 -> 0 | U149: =INT(($C$1-T149)/365.25) -> 119 | AA149: =Z149-Y149 -> 0
F150: =INT(($C$1-E150)/365.25) -> 119 | L150: =K150-J150 -> 0 | U150: =INT(($C$1-T150)/365.25) -> 119 | AA150: =Z150-Y150 -> 0
F151: =INT(($C$1-E151)/365.25) -> 119 | L151: =K151-J151 -> 0 | U151: =INT(($C$1-T151)/365.25) -> 119 | AA151: =Z151-Y151 -> 0
F152: =INT(($C$1-E152)/365.25) -> 119 | L152: =K152-J152 -> 0 | U152: =INT(($C$1-T152)/365.25) -> 119 | AA152: =Z152-Y152 -> 0
F153: =INT(($C$1-E153)/365.25) -> 119 | L153: =K153-J153 -> 0 | U153: =INT(($C$1-T153)/365.25) -> 119 | AA153: =Z153-Y153 -> 0
F154: =INT(($C$1-E154)/365.25) -> 119 | L154: =K154-J154 -> 0 | U154: =INT(($C$1-T154)/365.25) -> 119 | AA154: =Z154-Y154 -> 0
... F171: =INT(($C$1-E171)/365.25) -> 119 | L171: =K171-J171 -> 0 | U171: =INT(($C$1-T171)/365.25) -> 119 | AA171: =Z171-Y171 -> 0
F172: =INT(($C$1-E172)/365.25) -> 119 | L172: =K172-J172 -> 0 | M172: =SUM(L143:L172) -> 0 | U172: =INT(($C$1-T172)/365.25) -> 119 | AA172: =Z172-Y172 -> 0 | AB172: =SUM(AA143:AA172) -> 0
A173: =SUM(A143:A172) -> 0 | P173: =SUM(P143:P172) -> 0
B174: NOM | C174: Prénom | D174: Sexe | E174: Date de naissance | F174: Age | G174: Présence à la MJC | I174: Date | J174: Heure d'arrivée | K174: Heure de départ | Q174: NOM | R174: Prénom | S174: Sexe | T174: Date de naissance | U174: Age | V174: Présence à la MJC | X174: Date | Y174: Heure d'arrivée | Z174: Heure de départ
G175: Mois | H175: Année | V175: Mois | W175: Année
B176: Juin | Q176: Juin
F177: =INT(($C$1-E177)/365.25) -> 119 | L177: =K177-J177 -> 0 | U177: =INT(($C$1-T177)/365.25) -> 119 | AA177: =Z177-Y177 -> 0
F178: =INT(($C$1-E178)/365.25) -> 119 | L178: =K178-J178 -> 0 | U178: =INT(($C$1-T178)/365.25) -> 119 | AA178: =Z178-Y178 -> 0
F179: =INT(($C$1-E179)/365.25) -> 119 | L179: =K179-J179 -> 0 | U179: =INT(($C$1-T179)/365.25) -> 119 | AA179: =Z179-Y179 -> 0
F180: =INT(($C$1-E180)/365.25) -> 119 | L180: =K180-J180 -> 0 | U180: =INT(($C$1-T180)/365.25) -> 119 | AA180: =Z180-Y180 -> 0
F181: =INT(($C$1-E181)/365.25) -> 119 | L181: =K181-J181 -> 0 | U181: =INT(($C$1-T181)/365.25) -> 119 | AA181: =Z181-Y181 -> 0
...

Sheet Heures projets
A1: Aujourd'hui : | B1: =TODAY() -> 43725
A3: Animateurs | B3: PROJETS | C3: Nombre de jeunes | D3: Date | E3: Heure d'arrivée | F3: Heure de départ | K3: Animateurs | L3: PROJETS | M3: Nombre de jeunes | N3: Date | O3: Heure d'arrivée | P3: Heure de départ
A4: 2019 | K4: 2020
A5: Janvier | K5: Janvier
G6: =(F6-E6)*C6 -> 0 | Q6: =(P6-O6)*M6 -> 0
G7: =(F7-E7)*C7 -> 0 | Q7: =(P7-O7)*M7 -> 0
G8: =(F8-E8)*C8 -> 0 | Q8: =(P8-O8)*M8 -> 0
G9: =(F9-E9)*C9 -> 0 | Q9: =(P9-O9)*M9 -> 0
G10: =(F10-E10)*C10 -> 0 | Q10: =(P10-O10)*M10 -> 0
G11: =(F11-E11)*C11 -> 0 | Q11: =(P11-O11)*M11 -> 0
G12: =(F12-E12)*C12 -> 0 | Q12: =(P12-O12)*M12 -> 0
G13: =(F13-E13)*C13 -> 0 | Q13: =(P13-O13)*M13 -> 0
G14: =(F14-E14)*C14 -> 0 | Q14: =(P14-O14)*M14 -> 0
G15: =(F15-E15)*C15 -> 0 | Q15: =(P15-O15)*M15 -> 0
G16: =(F16-E16)*C16 -> 0 | Q16: =(P16-O16)*M16 -> 0
G17: =(F17-E17)*C17 -> 0 | Q17: =(P17-O17)*M17 -> 0
... G24: =(F24-E24)*C24 -> 0 | Q24: =(P24-O24)*M24 -> 0
G25: =(F25-E25)*C25 -> 0 | H25: =SUM(G6:G25) -> 0 | Q25: =(P25-O25)*M25 -> 0 | R25: =SUM(Q6:Q25) -> 0
C26: =SUM(C6:C25) -> 0 | M26: =SUM(M6:M25) -> 0
A27: Animateurs | B27: PROJETS | C27: Nombre de jeunes | D27: Date | E27: Heure d'arrivée | F27: Heure de départ | K27: Animateurs | L27: PROJETS | M27: Nombre de jeunes | N27: Date | O27: Heure d'arrivée | P27: Heure de départ
A28: Février | K28: Février
G29: =(F29-E29)*C29 -> 0 | Q29: =(P29-O29)*M29 -> 0
G30: =(F30-E30)*C30 -> 0 | Q30: =(P30-O30)*M30 -> 0
G31: =(F31-E31)*C31 -> 0 | Q31: =(P31-O31)*M31 -> 0
G32: =(F32-E32)*C32 -> 0 | Q32: =(P32-O32)*M32 -> 0
G33: =(F33-E33)*C33 -> 0 | Q33: =(P33-O33)*M33 -> 0
G34: =(F34-E34)*C34 -> 0 | Q34: =(P34-O34)*M34 -> 0
G35: =(F35-E35)*C35 -> 0 | Q35: =(P35-O35)*M35 -> 0
G36: =(F36-E36)*C36 -> 0 | Q36: =(P36-O36)*M36 -> 0
G37: =(F37-E37)*C37 -> 0 | Q37: =(P37-O37)*M37 -> 0
G38: =(F38-E38)*C38 -> 0 | Q38: =(P38-O38)*M38 -> 0
G39: =(F39-E39)*C39 -> 0 | Q39: =(P39-O39)*M39 -> 0
G40: =(F40-E40)*C40 -> 0 | Q40: =(P40-O40)*M40 -> 0
... G47: =(F47-E47)*C47 -> 0 | Q47: =(P47-O47)*M47 -> 0
G48: =(F48-E48)*C48 -> 0 | H48: =SUM(G29:G48) -> 0 | Q48: =(P48-O48)*M48 -> 0 | R48: =SUM(Q29:Q48) -> 0
C49: =SUM(C29:C48) -> 0 | M49: =SUM(M29:M48) -> 0
A50: Animateurs | B50: PROJETS | C50: Nombre de jeunes | D50: Date | E50: Heure d'arrivée | F50: Heure de départ | K50: Animateurs | L50: PROJETS | M50: Nombre de jeunes | N50: Date | O50: Heure d'arrivée | P50: Heure de départ
A51: Mars | K51: Mars
G52: =(F52-E52)*C52 -> 0 | Q52: =(P52-O52)*M52 -> 0
G53: =(F53-E53)*C53 -> 0 | Q53: =(P53-O53)*M53 -> 0
G54: =(F54-E54)*C54 -> 0 | Q54: =(P54-O54)*M54 -> 0
G55: =(F55-E55)*C55 -> 0 | Q55: =(P55-O55)*M55 -> 0
G56: =(F56-E56)*C56 -> 0 | Q56: =(P56-O56)*M56 -> 0
G57: =(F57-E57)*C57 -> 0 | Q57: =(P57-O57)*M57 -> 0
G58: =(F58-E58)*C58 -> 0 | Q58: =(P58-O58)*M58 -> 0
G59: =(F59-E59)*C59 -> 0 | Q59: =(P59-O59)*M59 -> 0
G60: =(F60-E60)*C60 -> 0 | Q60: =(P60-O60)*M60 -> 0
G61: =(F61-E61)*C61 -> 0 | Q61: =(P61-O61)*M61 -> 0
G62: =(F62-E62)*C62 -> 0 | Q62: =(P62-O62)*M62 -> 0
G63: =(F63-E63)*C63 -> 0 | Q63: =(P63-O63)*M63 -> 0
... G70: =(F70-E70)*C70 -> 0 | Q70: =(P70-O70)*M70 -> 0
G71: =(F71-E71)*C71 -> 0 | H71: =SUM(G52:G71) -> 0 | Q71: =(P71-O71)*M71 -> 0 | R71: =SUM(Q52:Q71) -> 0
C72: =SUM(C52:C71) -> 0 | M72: =SUM(M52:M71) -> 0
A73: Animateurs | B73: PROJETS | C73: Nombre de jeunes | D73: Date | E73: Heure d'arrivée | F73: Heure de départ | K73: Animateurs | L73: PROJETS | M73: Nombre de jeunes | N73: Date | O73: Heure d'arrivée | P73: Heure de départ
A74: Avril | K74: Avril
G75: =(F75-E75)*C75 -> 0 | Q75: =(P75-O75)*M75 -> 0
G76: =(F76-E76)*C76 -> 0 | Q76: =(P76-O76)*M76 -> 0
G77: =(F77-E77)*C77 -> 0 | Q77: =(P77-O77)*M77 -> 0
G78: =(F78-E78)*C78 -> 0 | Q78: =(P78-O78)*M78 -> 0
G79: =(F79-E79)*C79 -> 0 | Q79: =(P79-O79)*M79 -> 0
G80: =(F80-E80)*C80 -> 0 | Q80: =(P80-O80)*M80 -> 0
G81: =(F81-E81)*C81 -> 0 | Q81: =(P81-O81)*M81 -> 0
G82: =(F82-E82)*C82 -> 0 | Q82: =(P82-O82)*M82 -> 0
G83: =(F83-E83)*C83 -> 0 | Q83: =(P83-O83)*M83 -> 0
G84: =(F84-E84)*C84 -> 0 | Q84: =(P84-O84)*M84 -> 0
G85: =(F85-E85)*C85 -> 0 | Q85: =(P85-O85)*M85 -> 0
G86: =(F86-E86)*C86 -> 0 | Q86: =(P86-O86)*M86 -> 0
... G93: =(F93-E93)*C93 -> 0 | Q93: =(P93-O93)*M93 -> 0
G94: =(F94-E94)*C94 -> 0 | H94: =SUM(G75:G94) -> 0 | Q94: =(P94-O94)*M94 -> 0 | R94: =SUM(Q75:Q94) -> 0
C95: =SUM(C75:C94) -> 0 | M95: =SUM(M75:M94) -> 0
A96: Animateurs | B96: PROJETS | C96: Nombre de jeunes | D96: Date | E96: Heure d'arrivée | F96: Heure de départ | K96: Animateurs | L96: PROJETS | M96: Nombre de jeunes | N96: Date | O96: Heure d'arrivée | P96: Heure de départ
A97: Mai | K97: Mai
G98: =(F98-E98)*C98 -> 0 | Q98: =(P98-O98)*M98 -> 0
G99: =(F99-E99)*C99 -> 0 | Q99: =(P99-O99)*M99 -> 0
G100: =(F100-E100)*C100 -> 0 | Q100: =(P100-O100)*M100 -> 0
G101: =(F101-E101)*C101 -> 0 | Q101: =(P101-O101)*M101 -> 0
G102: =(F102-E102)*C102 -> 0 | Q102: =(P102-O102)*M102 -> 0
G103: =(F103-E103)*C103 -> 0 | Q103: =(P103-O103)*M103 -> 0
G104: =(F104-E104)*C104 -> 0 | Q104: =(P104-O104)*M104 -> 0
G105: =(F105-E105)*C105 -> 0 | Q105: =(P105-O105)*M105 -> 0
G106: =(F106-E106)*C106 -> 0 | Q106: =(P106-O106)*M106 -> 0
G107: =(F107-E107)*C107 -> 0 | Q107: =(P107-O107)*M107 -> 0
G108: =(F108-E108)*C108 -> 0 | Q108: =(P108-O108)*M108 -> 0
G109: =(F109-E109)*C109 -> 0 | Q109: =(P109-O109)*M109 -> 0
... G116: =(F116-E116)*C116 -> 0 | Q116: =(P116-O116)*M116 -> 0
G117: =(F117-E117)*C117 -> 0 | H117: =SUM(G98:G117) -> 0 | Q117: =(P117-O117)*M117 -> 0 | R117: =SUM(Q98:Q117) -> 0
C118: =SUM(C98:C117) -> 0 | M118: =SUM(M98:M117) -> 0
A119: Animateurs | B119: PROJETS | C119: Nombre de jeunes | D119: Date | E119: Heure d'arrivée | F119: Heure de départ | K119: Animateurs | L119: PROJETS | M119: Nombre de jeunes | N119: Date | O119: Heure d'arrivée | P119: Heure de départ
A120: Juin | K120: Juin
G121: =(F121-E121)*C121 -> 0 | Q121: =(P121-O121)*M121 -> 0
G122: =(F122-E122)*C122 -> 0 | Q122: =(P122-O122)*M122 -> 0
G123: =(F123-E123)*C123 -> 0 | Q123: =(P123-O123)*M123 -> 0
G124: =(F124-E124)*C124 -> 0 | Q124: =(P124-O124)*M124 -> 0
G125: =(F125-E125)*C125 -> 0 | Q125: =(P125-O125)*M125 -> 0
G126: =(F126-E126)*C126 -> 0 | Q126: =(P126-O126)*M126 -> 0
G127: =(F127-E127)*C127 -> 0 | Q127: =(P127-O127)*M127 -> 0
G128: =(F128-E128)*C128 -> 0 | Q128: =(P128-O128)*M128 -> 0
G129: =(F129-E129)*C129 -> 0 | Q129: =(P129-O129)*M129 -> 0
G130: =(F130-E130)*C130 -> 0 | Q130: =(P130-O130)*M130 -> 0
G131: =(F131-E131)*C131 -> 0 | Q131: =(P131-O131)*M131 -> 0
...

Sheet Heures lycée pro
A1: Aujourd'hui : | B1: =TODAY() -> 43725
A3: Animateur | B3: Nombre de jeunes | C3: Date | D3: Nombre d'heures | I3: Animateur | J3: Nombre de jeunes | K3: Date | L3: Nombre d'heures
A4: 2019 | I4: 2020
A5: Janvier | I5: Janvier
C6: 43474 | E6: =D6*B6 -> 0 | K6: 43831 | M6: =L6*J6 -> 0
C7: 43481 | E7: =D7*B7 -> 0 | K7: 43838 | M7: =L7*J7 -> 0
C8: 43488 | E8: =D8*B8 -> 0 | K8: 43845 | M8: =L8*J8 -> 0
C9: 43495 | E9: =D9*B9 -> 0 | K9: 43852 | M9: =L9*J9 -> 0
E10: =D10*B10 -> 0 | F10: =SUM(E6:E10) -> 0 | K10: 43859 | M10: =L10*J10 -> 0 | N10: =SUM(M6:M10) -> 0
B11: =SUM(B6:B10) -> 0 | J11: =SUM(J6:J10) -> 0
A12: Animateur | B12: Nombre de jeunes | C12: Date | D12: Nombre d'heures | I12: Animateur | J12: Nombre de jeunes | K12: Date | L12: Nombre d'heures
A13: Février | I13: Février
C14: 43502 | E14: =D14*B14 -> 0 | K14: 43866 | M14: =L14*J14 -> 0
C15: 43509 | E15: =D15*B15 -> 0 | K15: 43873 | M15: =L15*J15 -> 0
C16: 43516 | E16: =D16*B16 -> 0 | K16: 43880 | M16: =L16*J16 -> 0
C17: 43523 | E17: =D17*B17 -> 0 | F17: =SUM(E14:E17) -> 0 | K17: 43887 | M17: =L17*J17 -> 0 | N17: =SUM(M14:M17) -> 0
B18: =SUM(B14:B17) -> 0 | J18: =SUM(J14:J17) -> 0
A19: Animateur | B19: Nombre de jeunes | C19: Date | D19: Nombre d'heures | I19: Animateur | J19: Nombre de jeunes | K19: Date | L19: Nombre d'heures
A20: Mars | I20: Mars
C21: 43530 | E21: =D21*B21 -> 0 | K21: 43894 | M21: =L21*J21 -> 0
C22: 43537 | E22: =D22*B22 -> 0 | K22: 43901 | M22: =L22*J22 -> 0
C23: 43544 | E23: =D23*B23 -> 0 | K23: 43908 | M23: =L23*J23 -> 0
C24: 43551 | E24: =D24*B24 -> 0 | F24: =SUM(E21:E24) -> 0 | K24: 43915 | M24: =L24*J24 -> 0 | N24: =SUM(M21:M24) -> 0
B25: =SUM(B21:B24) -> 0 | J25: =SUM(J21:J24) -> 0
A26: Animateur | B26: Nombre de jeunes | C26: Date | D26: Nombre d'heures | I26: Animateur | J26: Nombre de jeunes | K26: Date | L26: Nombre d'heures
A27: Avril | I27: Avril
C28: 43558 | E28: =D28*B28 -> 0 | K28: 43922 | M28: =L28*J28 -> 0
C29: 43565 | E29: =D29*B29 -> 0 | K29: 43929 | M29: =L29*J29 -> 0
C30: 43572 | E30: =D30*B30 -> 0 | K30: 43936 | M30: =L30*J30 -> 0
C31: 43579 | E31: =D31*B31 -> 0 | K31: 43943 | M31: =L31*J31 -> 0
E32: =D32*B32 -> 0 | F32: =SUM(E28:E32) -> 0 | K32: 43950 | M32: =L32*J32 -> 0 | N32: =SUM(M28:M32) -> 0
B33: =SUM(B28:B32) -> 0 | J33: =SUM(J28:J32) -> 0
A34: Animateur | B34: Nombre de jeunes | C34: Date | D34: Nombre d'heures | I34: Animateur | J34: Nombre de jeunes | K34: Date | L34: Nombre d'heures
A35: Mai | I35: Mai
C36: 43586 | E36: =D36*B36 -> 0 | K36: 43957 | M36: =L36*J36 -> 0
C37: 43593 | E37: =D37*B37 -> 0 | K37: 43964 | M37: =L37*J37 -> 0
C38: 43600 | E38: =D38*B38 -> 0 | K38: 43971 | M38: =L38*J38 -> 0
C39: 43607 | E39: =D39*B39 -> 0 | K39: 43978 | M39: =L39*J39 -> 0
C40: 43614 | E40: =D40*B40 -> 0 | F40: =SUM(E36:E40) -> 0 | M40: =L40*J40 -> 0 | N40: =SUM(M36:M40) -> 0
B41: =SUM(B36:B40) -> 0 | J41: =SUM(J36:J40) -> 0
A42: Animateur | B42: Nombre de jeunes | C42: Date | D42: Nombre d'heures | I42: Animateur | J42: Nombre de jeunes | K42: Date | L42: Nombre d'heures
A43: Juin | I43: Juin
C44: 43621 | E44: =D44*B44 -> 0 | K44: 43985 | M44: =L44*J44 -> 0
C45: 43628 | E45: =D45*B45 -> 0 | K45: 43992 | M45: =L45*J45 -> 0
C46: 43635 | E46: =D46*B46 -> 0 | K46: 43999 | M46: =L46*J46 -> 0
C47: 43642 | E47: =D47*B47 -> 0 | F47: =SUM(E44:E47) -> 0 | K47: 44006 | M47: =L47*J47 -> 0 | N47: =SUM(M44:M47) -> 0
B48: =SUM(B44:B47) -> 0 | J48: =SUM(J44:J47) -> 0
A49: Animateur | B49: Nombre de jeunes | C49: Date | D49: Nombre d'heures | I49: Animateur | J49: Nombre de jeunes | K49: Date | L49: Nombre d'heures
A50: Juillet | I50: Juillet
C51: 43649 | E51: =D51*B51 -> 0 | K51: 44013 | M51: =L51*J51 -> 0
C52: 43656 | E52: =D52*B52 -> 0 | K52: 44020 | M52: =L52*J52 -> 0
C53: 43663 | E53: =D53*B53 -> 0 | K53: 44027 | M53: =L53*J53 -> 0
C54: 43670 | E54: =D54*B54 -> 0 | K54: 44034 | M54: =L54*J54 -> 0
C55: 43677 | E55: =D55*B55 -> 0 | F55: =SUM(E51:E55) -> 0 | K55: 44041 | M55: =L55*J55 -> 0 | N55: =SUM(M51:M55) -> 0
B56: =SUM(B51:B55) -> 0 | J56: =SUM(J51:J55) -> 0
A57: Animateur | B57: Nombre de jeunes | C57: Date | D57: Nombre d'heures | I57: Animateur | J57: Nombre de jeunes | K57: Date | L57: Nombre d'heures
A58: Août | I58: Août
C59: 43684 | E59: =D59*B59 -> 0 | K59: 44048 | M59: =L59*J59 -> 0
C60: 43691 | E60: =D60*B60 -> 0 | K60: 44055 | M60: =L60*J60 -> 0
C61: 43698 | E61: =D61*B61 -> 0 | K61: 44062 | M61: =L61*J61 -> 0
C62: 43705 | E62: =D62*B62 -> 0 | F62: =SUM(E59:E62) -> 0 | K62: 44069 | M62: =L62*J62 -> 0 | N62: =SUM(M59:M62) -> 0
B63: =SUM(B59:B62) -> 0 | J63: =SUM(J59:J62) -> 0
A64: Animateur | B64: Nombre de jeunes | C64: Date | D64: Nombre d'heures | I64: Animateur | J64: Nombre de jeunes | K64: Date | L64: Nombre d'heures
A65: Septembre | I65: Septembre
C66: 43712 | E66: =D66*B66 -> 0 | K66: 44076 | M66: =L66*J66 -> 0
C67: 43719 | E67: =D67*B67 -> 0 | K67: 44083 | M67: =L67*J67 -> 0
C68: 43726 | E68: =D68*B68 -> 0 | K68: 44090 | M68: =L68*J68 -> 0
C69: 43733 | E69: =D69*B69 -> 0 | K69: 44097 | M69: =L69*J69 -> 0
E70: =D70*B70 -> 0 | F70: =SUM(E66:E70) -> 0 | K70: 44104 | M70: =L70*J70 -> 0 | N70: =SUM(M66:M70) -> 0
B71: =SUM(B66:B70) -> 0 | J71: =SUM(J66:J70) -> 0
A72: Animateur | B72: Nombre de jeunes | C72: Date | D72: Nombre d'heures | I72: Animateur | J72: Nombre de jeunes | K72: Date | L72: Nombre d'heures
A73: Octobre | I73: Octobre
C74: 43740 | E74: =D74*B74 -> 0 | K74: 44111 | M74: =L74*J74 -> 0
C75: 43747 | E75: =D75*B75 -> 0 | K75: 44118 | M75: =L75*J75 -> 0
C76: 43754 | E76: =D76*B76 -> 0 | K76: 44125 | M76: =L76*J76 -> 0
C77: 43761 | E77: =D77*B77 -> 0 | K77: 44132 | M77: =L77*J77 -> 0
C78: 43768 | E78: =D78*B78 -> 0 | F78: =SUM(E74:E78) -> 0 | M78: =L78*J78 -> 0 | N78: =SUM(M74:M78) -> 0
B79: =SUM(B74:B78) -> 0 | J79: =SUM(J74:J78) -> 0
A80: Animateur | B80: Nombre de jeunes | C80: Date | D80: Nombre d'heures | I80: Animateur | J80: Nombre de jeunes | K80: Date | L80: Nombre d'heures
A81: Novembre | I81: Novembre
C82: 43775 | E82: =D82*B82 -> 0 | K82: 44139 | M82: =L82*J82 -> 0
C83: 43782 | E83: =D83*B83 -> 0 | K83: 44146 | M83: =L83*J83 -> 0
C84: 43789 | E84: =D84*B84 -> 0 | K84: 44153 | M84: =L84*J84 -> 0
C85: 43796 | E85: =D85*B85 -> 0 | F85: =SUM(E82:E85) -> 0 | K85: 44160 | M85: =L85*J85 -> 0 | N85: =SUM(M82:M85) -> 0
B86: =SUM(B82:B85) -> 0 | J86: =SUM(J82:J85) -> 0
A87: Animateur | B87: Nombre de jeunes | C87: Date | D87: Nombre d'heures | I87: Animateur | J87: Nombre de jeunes | K87: Date | L87: Nombre d'heures
A88: Décembre | I88: Décembre
C89: 43803 | E89: =D89*B89 -> 0 | K89: 44167 | M89: =L89*J89 -> 0
C90: 43810 | E90: =D90*B90 -> 0 | K90: 44174 | M90: =L90*J90 -> 0
C91: 43817 | E91: =D91*B91 -> 0 | K91: 44181 | M91: =L91*J91 -> 0
C92: 43824 | E92: =D92*B92 -> 0 | K92: 44188 | M92: =L92*J92 -> 0
E93: =D93*B93 -> 0 | F93: =SUM(E89:E93) -> 0 | K93: 44195 | M93: =L93*J93 -> 0 | N93: =SUM(M89:M93) -> 0
B94: =SUM(B89:B93) -> 0 | J94: =SUM(J89:J93) -> 0

Sheet Heures collège
A1: Aujourd'hui : | B1: =TODAY() -> 43725
A3: Animateur | B3: Nombre de jeunes | C3: Date | D3: Nombre d'heures | I3: Animateur | J3: Nombre de jeunes | K3: Date | L3: Nombre d'heures
A4: 2019 | I4: 2020
A5: Janvier | I5: Janvier
E6: =D6*B6 -> 0 | M6: =L6*J6 -> 0
E7: =D7*B7 -> 0 | M7: =L7*J7 -> 0
E8: =D8*B8 -> 0 | M8: =L8*J8 -> 0
E9: =D9*B9 -> 0 | M9: =L9*J9 -> 0
E10: =D10*B10 -> 0 | M10: =L10*J10 -> 0
E11: =D11*B11 -> 0 | M11: =L11*J11 -> 0
E12: =D12*B12 -> 0 | M12: =L12*J12 -> 0
E13: =D13*B13 -> 0 | M13: =L13*J13 -> 0
E14: =D14*B14 -> 0 | M14: =L14*J14 -> 0
E15: =D15*B15 -> 0 | F15: =SUM(E6:E15) -> 0 | M15: =L15*J15 -> 0 | N15: =SUM(M6:M15) -> 0
B16: =SUM(B6:B15) -> 0 | J16: =SUM(J6:J15) -> 0
A17: Animateur | B17: Nombre de jeunes | C17: Date | D17: Nombre d'heures | I17: Animateur | J17: Nombre de jeunes | K17: Date | L17: Nombre d'heures
A18: Février | I18: Février
E19: =D19*B19 -> 0 | M19: =L19*J19 -> 0
E20: =D20*B20 -> 0 | M20: =L20*J20 -> 0
E21: =D21*B21 -> 0 | M21: =L21*J21 -> 0
E22: =D22*B22 -> 0 | M22: =L22*J22 -> 0
E23: =D23*B23 -> 0 | M23: =L23*J23 -> 0
E24: =D24*B24 -> 0 | M24: =L24*J24 -> 0
E25: =D25*B25 -> 0 | M25: =L25*J25 -> 0
E26: =D26*B26 -> 0 | M26: =L26*J26 -> 0
E27: =D27*B27 -> 0 | M27: =L27*J27 -> 0
E28: =D28*B28 -> 0 | F28: =SUM(E19:E28) -> 0 | M28: =L28*J28 -> 0 | N28: =SUM(M19:M28) -> 0
B29: =SUM(B19:B28) -> 0 | J29: =SUM(J19:J28) -> 0
A30: Animateur | B30: Nombre de jeunes | C30: Date | D30: Nombre d'heures | I30: Animateur | J30: Nombre de jeunes | K30: Date | L30: Nombre d'heures
A31: Mars | I31: Mars
E32: =D32*B32 -> 0 | M32: =L32*J32 -> 0
E33: =D33*B33 -> 0 | M33: =L33*J33 -> 0
E34: =D34*B34 -> 0 | M34: =L34*J34 -> 0
E35: =D35*B35 -> 0 | M35: =L35*J35 -> 0
E36: =D36*B36 -> 0 | M36: =L36*J36 -> 0
E37: =D37*B37 -> 0 | M37: =L37*J37 -> 0
E38: =D38*B38 -> 0 | M38: =L38*J38 -> 0
E39: =D39*B39 -> 0 | M39: =L39*J39 -> 0
E40: =D40*B40 -> 0 | M40: =L40*J40 -> 0
E41: =D41*B41 -> 0 | F41: =SUM(E32:E41) -> 0 | M41: =L41*J41 -> 0 | N41: =SUM(M32:M41) -> 0
B42: =SUM(B32:B41) -> 0 | J42: =SUM(J32:J41) -> 0
A43: Animateur | B43: Nombre de jeunes | C43: Date | D43: Nombre d'heures | I43: Animateur | J43: Nombre de jeunes | K43: Date | L43: Nombre d'heures
A44: Avril | I44: Avril
E45: =D45*B45 -> 0 | M45: =L45*J45 -> 0
E46: =D46*B46 -> 0 | M46: =L46*J46 -> 0
E47: =D47*B47 -> 0 | M47: =L47*J47 -> 0
E48: =D48*B48 -> 0 | M48: =L48*J48 -> 0
E49: =D49*B49 -> 0 | M49: =L49*J49 -> 0
E50: =D50*B50 -> 0 | M50: =L50*J50 -> 0
E51: =D51*B51 -> 0 | M51: =L51*J51 -> 0
E52: =D52*B52 -> 0 | M52: =L52*J52 -> 0
E53: =D53*B53 -> 0 | M53: =L53*J53 -> 0
E54: =D54*B54 -> 0 | F54: =SUM(E45:E54) -> 0 | M54: =L54*J54 -> 0 | N54: =SUM(M45:M54) -> 0
B55: =SUM(B45:B54) -> 0 | J55: =SUM(J45:J54) -> 0
A56: Animateur | B56: Nombre de jeunes | C56: Date | D56: Nombre d'heures | I56: Animateur | J56: Nombre de jeunes | K56: Date | L56: Nombre d'heures
A57: Mai | I57: Mai
E58: =D58*B58 -> 0 | M58: =L58*J58 -> 0
E59: =D59*B59 -> 0 | M59: =L59*J59 -> 0
E60: =D60*B60 -> 0 | M60: =L60*J60 -> 0
E61: =D61*B61 -> 0 | M61: =L61*J61 -> 0
E62: =D62*B62 -> 0 | M62: =L62*J62 -> 0
E63: =D63*B63 -> 0 | M63: =L63*J63 -> 0
E64: =D64*B64 -> 0 | M64: =L64*J64 -> 0
E65: =D65*B65 -> 0 | M65: =L65*J65 -> 0
E66: =D66*B66 -> 0 | M66: =L66*J66 -> 0
E67: =D67*B67 -> 0 | F67: =SUM(E58:E67) -> 0 | M67: =L67*J67 -> 0 | N67: =SUM(M58:M67) -> 0
B68: =SUM(B58:B67) -> 0 | J68: =SUM(J58:J67) -> 0
A69: Animateur | B69: Nombre de jeunes | C69: Date | D69: Nombre d'heures | I69: Animateur | J69: Nombre de jeunes | K69: Date | L69: Nombre d'heures
A70: Juin | I70: Juin
E71: =D71*B71 -> 0 | M71: =L71*J71 -> 0
E72: =D72*B72 -> 0 | M72: =L72*J72 -> 0
E73: =D73*B73 -> 0 | M73: =L73*J73 -> 0
E74: =D74*B74 -> 0 | M74: =L74*J74 -> 0
E75: =D75*B75 -> 0 | M75: =L75*J75 -> 0
E76: =D76*B76 -> 0 | M76: =L76*J76 -> 0
E77: =D77*B77 -> 0 | M77: =L77*J77 -> 0
E78: =D78*B78 -> 0 | M78: =L78*J78 -> 0
E79: =D79*B79 -> 0 | M79: =L79*J79 -> 0
E80: =D80*B80 -> 0 | F80: =SUM(E71:E80) -> 0 | M80: =L80*J80 -> 0 | N80: =SUM(M71:M80) -> 0
B81: =SUM(B71:B80) -> 0 | J81: =SUM(J71:J80) -> 0
A82: Animateur | B82: Nombre de jeunes | C82: Date | D82: Nombre d'heures | I82: Animateur | J82: Nombre de jeunes | K82: Date | L82: Nombre d'heures
A83: Juillet | I83: Juillet
E84: =D84*B84 -> 0 | M84: =L84*J84 -> 0
E85: =D85*B85 -> 0 | M85: =L85*J85 -> 0
E86: =D86*B86 -> 0 | M86: =L86*J86 -> 0
E87: =D87*B87 -> 0 | M87: =L87*J87 -> 0
E88: =D88*B88 -> 0 | M88: =L88*J88 -> 0
E89: =D89*B89 -> 0 | M89: =L89*J89 -> 0
E90: =D90*B90 -> 0 | M90: =L90*J90 -> 0
E91: =D91*B91 -> 0 | M91: =L91*J91 -> 0
E92: =D92*B92 -> 0 | M92: =L92*J92 -> 0
E93: =D93*B93 -> 0 | F93: =SUM(E84:E93) -> 0 | M93: =L93*J93 -> 0 | N93: =SUM(M84:M93) -> 0
B94: =SUM(B84:B93) -> 0 | J94: =SUM(J84:J93) -> 0
A95: Animateur | B95: Nombre de jeunes | C95: Date | D95: Nombre d'heures | I95: Animateur | J95: Nombre de jeunes | K95: Date | L95: Nombre d'heures
A96: Août | I96: Août
E97: =D97*B97 -> 0 | M97: =L97*J97 -> 0
E98: =D98*B98 -> 0 | M98: =L98*J98 -> 0
E99: =D99*B99 -> 0 | M99: =L99*J99 -> 0
E100: =D100*B100 -> 0 | M100: =L100*J100 -> 0
E101: =D101*B101 -> 0 | M101: =L101*J101 -> 0
...

Sheet Heures accueil de loisirs
B1: Aujourd'hui : | C1: =TODAY() -> 43725
B3: 2019 | P3: 2020
B4: VACANCES DE NOEL | P4: VACANCES DE NOEL
B5: Activités | C5: Date | D5: NOM | E5: Prénom | F5: Sexe | G5: Date de naissance | H5: Age | I5: Présence à la MJC | K5: Nombre d'heures | P5: Activités | Q5: Date | R5: NOM | S5: Prénom | T5: Sexe | U5: Date de naissance | V5: Age | W5: Présence à la MJC | Y5: Nombre d'heures
I6: Mois | J6: Année | W6: Mois | X6: Année
H7: =INT(($C$1-G7)/365.25) -> 119 | V7: =INT(($C$1-U7)/365.25) -> 119
H8: =INT(($C$1-G8)/365.25) -> 119 | V8: =INT(($C$1-U8)/365.25) -> 119
H9: =INT(($C$1-G9)/365.25) -> 119 | V9: =INT(($C$1-U9)/365.25) -> 119
H10: =INT(($C$1-G10)/365.25) -> 119 | V10: =INT(($C$1-U10)/365.25) -> 119
H11: =INT(($C$1-G11)/365.25) -> 119 | V11: =INT(($C$1-U11)/365.25) -> 119
H12: =INT(($C$1-G12)/365.25) -> 119 | V12: =INT(($C$1-U12)/365.25) -> 119
H13: =INT(($C$1-G13)/365.25) -> 119 | V13: =INT(($C$1-U13)/365.25) -> 119
H14: =INT(($C$1-G14)/365.25) -> 119 | V14: =INT(($C$1-U14)/365.25) -> 119
H15: =INT(($C$1-G15)/365.25) -> 119 | V15: =INT(($C$1-U15)/365.25) -> 119
H16: =INT(($C$1-G16)/365.25) -> 119 | V16: =INT(($C$1-U16)/365.25) -> 119
H17: =INT(($C$1-G17)/365.25) -> 119 | V17: =INT(($C$1-U17)/365.25) -> 119
H18: =INT(($C$1-G18)/365.25) -> 119 | V18: =INT(($C$1-U18)/365.25) -> 119
... H35: =INT(($C$1-G35)/365.25) -> 119 | V35: =INT(($C$1-U35)/365.25) -> 119
H36: =INT(($C$1-G36)/365.25) -> 119 | L36: =SUM(K7:K36) -> 0 | V36: =INT(($C$1-U36)/365.25) -> 119 | Z36: =SUM(Y7:Y36) -> 0
A37: =SUM(A7:A36) -> 0 | O37: =SUM(O7:O36) -> 0
B38: Activités | C38: Date | D38: NOM | E38: Prénom | F38: Sexe | G38: Date de naissance | H38: Age | I38: Présence à la MJC | K38: Nombre d'heures | P38: Activités | Q38: Date | R38: NOM | S38: Prénom | T38: Sexe | U38: Date de naissance | V38: Age | W38: Présence à la MJC | Y38: Nombre d'heures
I39: Mois | J39: Année | W39: Mois | X39: Année
B40: VACANCES D'HIVER | P40: VACANCES D'HIVER
H41: =INT(($C$1-G41)/365.25) -> 119 | V41: =INT(($C$1-U41)/365.25) -> 119
H42: =INT(($C$1-G42)/365.25) -> 119 | V42: =INT(($C$1-U42)/365.25) -> 119
H43: =INT(($C$1-G43)/365.25) -> 119 | V43: =INT(($C$1-U43)/365.25) -> 119
H44: =INT(($C$1-G44)/365.25) -> 119 | V44: =INT(($C$1-U44)/365.25) -> 119
H45: =INT(($C$1-G45)/365.25) -> 119 | V45: =INT(($C$1-U45)/365.25) -> 119
H46: =INT(($C$1-G46)/365.25) -> 119 | V46: =INT(($C$1-U46)/365.25) -> 119
H47: =INT(($C$1-G47)/365.25) -> 119 | V47: =INT(($C$1-U47)/365.25) -> 119
H48: =INT(($C$1-G48)/365.25) -> 119 | V48: =INT(($C$1-U48)/365.25) -> 119
H49: =INT(($C$1-G49)/365.25) -> 119 | V49: =INT(($C$1-U49)/365.25) -> 119
H50: =INT(($C$1-G50)/365.25) -> 119 | V50: =INT(($C$1-U50)/365.25) -> 119
H51: =INT(($C$1-G51)/365.25) -> 119 | V51: =INT(($C$1-U51)/365.25) -> 119
H52: =INT(($C$1-G52)/365.25) -> 119 | V52: =INT(($C$1-U52)/365.25) -> 119
H53: =INT(($C$1-G53)/365.25) -> 119 | V53: =INT(($C$1-U53)/365.25) -> 119
H54: =INT(($C$1-G54)/365.25) -> 119
H55: =INT(($C$1-G55)/365.25) -> 119
H56: =INT(($C$1-G56)/365.25) -> 119
H57: =INT(($C$1-G57)/365.25) -> 119
H58: =INT(($C$1-G58)/365.25) -> 119
H59: =INT(($C$1-G59)/365.25) -> 119
H60: =INT(($C$1-G60)/365.25) -> 119
H61: =INT(($C$1-G61)/365.25) -> 119
H62: =INT(($C$1-G62)/365.25) -> 119
H63: =INT(($C$1-G63)/365.25) -> 119
H64: =INT(($C$1-G64)/365.25) -> 119 | V64: =INT(($C$1-U64)/365.25) -> 119
H65: =INT(($C$1-G65)/365.25) -> 119 | V65: =INT(($C$1-U65)/365.25) -> 119
H66: =INT(($C$1-G66)/365.25) -> 119 | V66: =INT(($C$1-U66)/365.25) -> 119
H67: =INT(($C$1-G67)/365.25) -> 119 | V67: =INT(($C$1-U67)/365.25) -> 119
H68: =INT(($C$1-G68)/365.25) -> 119 | V68: =INT(($C$1-U68)/365.25) -> 119
H69: =INT(($C$1-G69)/365.25) -> 119 | V69: =INT(($C$1-U69)/365.25) -> 119
H70: =INT(($C$1-G70)/365.25) -> 119 | V70: =INT(($C$1-U70)/365.25) -> 119
H71: =INT(($C$1-G71)/365.25) -> 119 | V71: =INT(($C$1-U71)/365.25) -> 119
H72: =INT(($C$1-G72)/365.25) -> 119 | V72: =INT(($C$1-U72)/365.25) -> 119
H73: =INT(($C$1-G73)/365.25) -> 119 | V73: =INT(($C$1-U73)/365.25) -> 119
H74: =INT(($C$1-G74)/365.25) -> 119 | V74: =INT(($C$1-U74)/365.25) -> 119
H75: =INT(($C$1-G75)/365.25) -> 119 | V75: =INT(($C$1-U75)/365.25) -> 119
... H80: =INT(($C$1-G80)/365.25) -> 119 | V80: =INT(($C$1-U80)/365.25) -> 119
H81: =INT(($C$1-G81)/365.25) -> 119
H82: =INT(($C$1-G82)/365.25) -> 119
H83: =INT(($C$1-G83)/365.25) -> 119
H84: =INT(($C$1-G84)/365.25) -> 119
H85: =INT(($C$1-G85)/365.25) -> 119
H86: =INT(($C$1-G86)/365.25) -> 119
H87: =INT(($C$1-G87)/365.25) -> 119
H88: =INT(($C$1-G88)/365.25) -> 119
H89: =INT(($C$1-G89)/365.25) -> 119
H90: =INT(($C$1-G90)/365.25) -> 119
H91: =INT(($C$1-G91)/365.25) -> 119
H92: =INT(($C$1-G92)/365.25) -> 119
... H100: =INT(($C$1-G100)/365.25) -> 119
H101: =INT(($C$1-G101)/365.25) -> 119 | V101: =INT(($C$1-U101)/365.25) -> 119
H102: =INT(($C$1-G102)/365.25) -> 119 | V102: =INT(($C$1-U102)/365.25) -> 119
H103: =INT(($C$1-G103)/365.25) -> 119 | V103: =INT(($C$1-U103)/365.25) -> 119
H104: =INT(($C$1-G104)/365.25) -> 119 | V104: =INT(($C$1-U104)/365.25) -> 119
H105: =INT(($C$1-G105)/365.25) -> 119 | V105: =INT(($C$1-U105)/365.25) -> 119
H106: =INT(($C$1-G106)/365.25) -> 119 | V106: =INT(($C$1-U106)/365.25) -> 119
H107: =INT(($C$1-G107)/365.25) -> 119 | V107: =INT(($C$1-U107)/365.25) -> 119
H108: =INT(($C$1-G108)/365.25) -> 119 | V108: =INT(($C$1-U108)/365.25) -> 119
H109: =INT(($C$1-G109)/365.25) -> 119 | V109: =INT(($C$1-U109)/365.25) -> 119
H110: =INT(($C$1-G110)/365.25) -> 119 | V110: =INT(($C$1-U110)/365.25) -> 119
H111: =INT(($C$1-G111)/365.25) -> 119 | V111: =INT(($C$1-U111)/365.25) -> 119
H112: =INT(($C$1-G112)/365.25) -> 119 | V112: =INT(($C$1-U112)/365.25) -> 119
... H119: =INT(($C$1-G119)/365.25) -> 119 | V119: =INT(($C$1-U119)/365.25) -> 119
H120: =INT(($C$1-G120)/365.25) -> 119 | L120: =SUM(K41:K120) -> 0 | V120: =INT(($C$1-U120)/365.25) -> 119 | Z120: =SUM(Y41:Y120) -> 0
A121: =SUM(A41:A120) -> 0 | O121: =SUM(O41:O120) -> 0
B122: Activités | C122: Date | D122: NOM | E122: Prénom | F122: Sexe | G122: Date de naissance | H122: Age | I122: Présence à la MJC | K122: Nombre d'heures | P122: Activités | Q122: Date | R122: NOM | S122: Prénom | T122: Sexe | U122: Date de naissance | V122: Age | W122: Présence à la MJC | Y122: Nombre d'heures
I123: Mois | J123: Année | W123: Mois | X123: Année
B124: VACANCES D'AVRIL | P124: VACANCES D'AVRIL
H125: =INT(($C$1-G125)/365.25) -> 119 | V125: =INT(($C$1-U125)/365.25) -> 119
H126: =INT(($C$1-G126)/365.25) -> 119 | V126: =INT(($C$1-U126)/365.25) -> 119
H127: =INT(($C$1-G127)/365.25) -> 119 | V127: =INT(($C$1-U127)/365.25) -> 119
H128: =INT(($C$1-G128)/365.25) -> 119 | V128: =INT(($C$1-U128)/365.25) -> 119
H129: =INT(($C$1-G129)/365.25) -> 119 | V129: =INT(($C$1-U129)/365.25) -> 119
H130: =INT(($C$1-G130)/365.25) -> 119 | V130: =INT(($C$1-U130)/365.25) -> 119
H131: =INT(($C$1-G131)/365.25) -> 119 | V131: =INT(($C$1-U131)/365.25) -> 119
H132: =INT(($C$1-G132)/365.25) -> 119 | V132: =INT(($C$1-U132)/365.25) -> 119
H133: =INT(($C$1-G133)/365.25) -> 119 | V133: =INT(($C$1-U133)/365.25) -> 119
H134: =INT(($C$1-G134)/365.25) -> 119 | V134: =INT(($C$1-U134)/365.25) -> 119
...

Sheet Budget
A1: Aujourd'hui : | B1: =TODAY() -> 43725
A3: CEJ DISPONIBLE | B3: 0
A4: CEJ UTILISE | B4: 0 | H4: CEJ UTILISE | I4: 0
A5: CEJ RESTANT | B5: =B3+B4 -> 0 | H5: CEJ RESTANT | I5: =I3+I4 -> 0
A7: 2019 | H7: 2020
A8: CHARGES | B8: € | C8: PRODUITS | D8: € | E8: DIFFERENCE | H8: CHARGES | I8: € | J8: PRODUITS | K8: € | L8: DIFFERENCE
A9: VACANCES | C9: VACANCES | H9: VACANCES | J9: VACANCES
A10: janvier | B10: 466.45 | C10: janvier | D10: 362.02 | E10: =D10-B10 -> -104.43 | H10: janvier | I10: 0 | J10: janvier | K10: 0 | L10: =K10-I10 -> 0
A11: février | B11: 6669.34 | C11: février | D11: 6936.31 | E11: =D11-B11 -> 266.97 | H11: février | I11: 0 | J11: février | K11: 0 | L11: =K11-I11 -> 0
A12: avril | B12: 1212.3 | C12: avril | D12: 854.86 | E12: =D12-B12 -> -357.44 | H12: avril | I12: 0 | J12: avril | K12: 0 | L12: =K12-I12 -> 0
A13: juillet | B13: 20943.13 | C13: juillet | D13: 17824.88 | E13: =D13-B13 -> -3118.25 | H13: juillet | I13: 0 | J13: juillet | K13: 0 | L13: =K13-I13 -> 0
A14: octobre | C14: octobre | E14: =D14-B14 -> 0 | H14: octobre | J14: octobre | L14: =K14-I14 -> 0
E15: =D15-B15 -> 0 | L15: =K15-I15 -> 0
E16: =SUM(E10:E15) -> -3313.15 | L16: =SUM(L10:L15) -> 0
A18: 2019 | H18: 2020
A19: CHARGES | B19: € | C19: PRODUITS | D19: € | E19: DIFFERENCE | H19: CHARGES | I19: € | J19: PRODUITS | K19: € | L19: DIFFERENCE
A20: PROJETS | C20: PROJETS | H20: PROJETS | J20: PROJETS
E21: =D21-B21 -> 0 | L21: =K21-I21 -> 0
E22: =D22-B22 -> 0 | L22: =K22-I22 -> 0
E23: =D23-B23 -> 0 | L23: =K23-I23 -> 0
E24: =D24-B24 -> 0 | L24: =K24-I24 -> 0
E25: =D25-B25 -> 0 | L25: =K25-I25 -> 0
E26: =D26-B26 -> 0 | L26: =K26-I26 -> 0
E27: =D27-B27 -> 0 | L27: =K27-I27 -> 0
E28: =D28-B28 -> 0 | L28: =K28-I28 -> 0
E29: =D29-B29 -> 0 | L29: =K29-I29 -> 0
E30: =D30-B30 -> 0 | L30: =K30-I30 -> 0
E31: =SUM(E21:E30) -> 0 | L31: =SUM(L21:L30) -> 0

Sheet Projets (Liste des jeunes)
A1: Aujourd'hui : | B1: =TODAY() -> 43725
B3: 2019
B4: Animateurs | C4: Projets | D4: NOM | E4: Prénom | F4: Sexe | G4: Date de naissance | H4: Age | I4: Présence à la MJC | K4: Nombre d'heures
I5: Mois | J5: Année
H6: =INT(($B$1-G6)/365.25) -> 119
H7: =INT(($B$1-G7)/365.25) -> 119
H8: =INT(($B$1-G8)/365.25) -> 119
H9: =INT(($B$1-G9)/365.25) -> 119
H10: =INT(($B$1-G10)/365.25) -> 119
H11: =INT(($B$1-G11)/365.25) -> 119
H12: =INT(($B$1-G12)/365.25) -> 119
H13: =INT(($B$1-G13)/365.25) -> 119
H14: =INT(($B$1-G14)/365.25) -> 119
H15: =INT(($B$1-G15)/365.25) -> 119
H16: =INT(($B$1-G16)/365.25) -> 119
H17: =INT(($B$1-G17)/365.25) -> 119
... H55: =INT(($B$1-G55)/365.25) -> 119

Sheet Jeunes inscrits (par action)
B1: Aujourd'hui : | C1: =TODAY() -> 43725
B4: NOM | C4: Prénom | D4: Sexe | E4: Date de naissance | F4: Age | G4: Présence à la MJC | I4: 2018/2019 | J4: 2019 | K4: 2019/2020 | L4: 2020 | M4: Action
G5: Mois | H5: Année
B6: ACCUEIL DE LOISIRS
A7: ='Heures accueil de loisirs'!A7 -> 0 | B7: ='Heures accueil de loisirs'!D7 -> 0 | C7: ='Heures accueil de loisirs'!E7 -> 0 | D7: ='Heures accueil de loisirs'!F7 -> 0 | E7: ='Heures accueil de loisirs'!G7 -> 0 | F7: ='Heures accueil de loisirs'!H7 -> 119 | G7: ='Heures accueil de loisirs'!I7 -> 0 | H7: ='Heures accueil de loisirs'!J7 -> 0 | M7: Accueil de loisirs
A8: ='Heures accueil de loisirs'!A8 -> 0 | B8: ='Heures accueil de loisirs'!D8 -> 0 | C8: ='Heures accueil de loisirs'!E8 -> 0 | D8: ='Heures accueil de loisirs'!F8 -> 0 | E8: ='Heures accueil de loisirs'!G8 -> 0 | F8: ='Heures accueil de loisirs'!H8 -> 119 | G8: ='Heures accueil de loisirs'!I8 -> 0 | H8: ='Heures accueil de loisirs'!J8 -> 0 | M8: Accueil de loisirs
A9: ='Heures accueil de loisirs'!A9 -> 0 | B9: ='Heures accueil de loisirs'!D9 -> 0 | C9: ='Heures accueil de loisirs'!E9 -> 0 | D9: ='Heures accueil de loisirs'!F9 -> 0 | E9: ='Heures accueil de loisirs'!G9 -> 0 | F9: ='Heures accueil de loisirs'!H9 -> 119 | G9: ='Heures accueil de loisirs'!I9 -> 0 | H9: ='Heures accueil de loisirs'!J9 -> 0 | M9: Accueil de loisirs
A10: ='Heures accueil de loisirs'!A10 -> 0 | B10: ='Heures accueil de loisirs'!D10 -> 0 | C10: ='Heures accueil de loisirs'!E10 -> 0 | D10: ='Heures accueil de loisirs'!F10 -> 0 | E10: ='Heures accueil de loisirs'!G10 -> 0 | F10: ='Heures accueil de loisirs'!H10 -> 119 | G10: ='Heures accueil de loisirs'!I10 -> 0 | H10: ='Heures accueil de loisirs'!J10 -> 0 | M10: Accueil de loisirs
A11: ='Heures accueil de loisirs'!A11 -> 0 | B11: ='Heures accueil de loisirs'!D11 -> 0 | C11: ='Heures accueil de loisirs'!E11 -> 0 | D11: ='Heures accueil de loisirs'!F11 -> 0 | E11: ='Heures accueil de loisirs'!G11 -> 0 | F11: ='Heures accueil de loisirs'!H11 -> 119 | G11: ='Heures accueil de loisirs'!I11 -> 0 | H11: ='Heures accueil de loisirs'!J11 -> 0 | M11: Accueil de loisirs
A12: ='Heures accueil de loisirs'!A12 -> 0 | B12: ='Heures accueil de loisirs'!D12 -> 0 | C12: ='Heures accueil de loisirs'!E12 -> 0 | D12: ='Heures accueil de loisirs'!F12 -> 0 | E12: ='Heures accueil de loisirs'!G12 -> 0 | F12: ='Heures accueil de loisirs'!H12 -> 119 | G12: ='Heures accueil de loisirs'!I12 -> 0 | H12: ='Heures accueil de loisirs'!J12 -> 0 | M12: Accueil de loisirs
A13: ='Heures accueil de loisirs'!A13 -> 0 | B13: ='Heures accueil de loisirs'!D13 -> 0 | C13: ='Heures accueil de loisirs'!E13 -> 0 | D13: ='Heures accueil de loisirs'!F13 -> 0 | E13: ='Heures accueil de loisirs'!G13 -> 0 | F13: ='Heures accueil de loisirs'!H13 -> 119 | G13: ='Heures accueil de loisirs'!I13 -> 0 | H13: ='Heures accueil de loisirs'!J13 -> 0 | M13: Accueil de loisirs
A14: ='Heures accueil de loisirs'!A14 -> 0 | B14: ='Heures accueil de loisirs'!D14 -> 0 | C14: ='Heures accueil de loisirs'!E14 -> 0 | D14: ='Heures accueil de loisirs'!F14 -> 0 | E14: ='Heures accueil de loisirs'!G14 -> 0 | F14: ='Heures accueil de loisirs'!H14 -> 119 | G14: ='Heures accueil de loisirs'!I14 -> 0 | H14: ='Heures accueil de loisirs'!J14 -> 0 | M14: Accueil de loisirs
A15: ='Heures accueil de loisirs'!A15 -> 0 | B15: ='Heures accueil de loisirs'!D15 -> 0 | C15: ='Heures accueil de loisirs'!E15 -> 0 | D15: ='Heures accueil de loisirs'!F15 -> 0 | E15: ='Heures accueil de loisirs'!G15 -> 0 | F15: ='Heures accueil de loisirs'!H15 -> 119 | G15: ='Heures accueil de loisirs'!I15 -> 0 | H15: ='Heures accueil de loisirs'!J15 -> 0 | M15: Accueil de loisirs
A16: ='Heures accueil de loisirs'!A16 -> 0 | B16: ='Heures accueil de loisirs'!D16 -> 0 | C16: ='Heures accueil de loisirs'!E16 -> 0 | D16: ='Heures accueil de loisirs'!F16 -> 0 | E16: ='Heures accueil de loisirs'!G16 -> 0 | F16: ='Heures accueil de loisirs'!H16 -> 119 | G16: ='Heures accueil de loisirs'!I16 -> 0 | H16: ='Heures accueil de loisirs'!J16 -> 0 | M16: Accueil de loisirs
A17: ='Heures accueil de loisirs'!A17 -> 0 | B17: ='Heures accueil de loisirs'!D17 -> 0 | C17: ='Heures accueil de loisirs'!E17 -> 0 | D17: ='Heures accueil de loisirs'!F17 -> 0 | E17: ='Heures accueil de loisirs'!G17 -> 0 | F17: ='Heures accueil de loisirs'!H17 -> 119 | G17: ='Heures accueil de loisirs'!I17 -> 0 | H17: ='Heures accueil de loisirs'!J17 -> 0 | M17: Accueil de loisirs
A18: ='Heures accueil de loisirs'!A18 -> 0 | B18: ='Heures accueil de loisirs'!D18 -> 0 | C18: ='Heures accueil de loisirs'!E18 -> 0 | D18: ='Heures accueil de loisirs'!F18 -> 0 | E18: ='Heures accueil de loisirs'!G18 -> 0 | F18: ='Heures accueil de loisirs'!H18 -> 119 | G18: ='Heures accueil de loisirs'!I18 -> 0 | H18: ='Heures accueil de loisirs'!J18 -> 0 | M18: Accueil de loisirs
... A36: ='Heures accueil de loisirs'!A36 -> 0 | B36: ='Heures accueil de loisirs'!D36 -> 0 | C36: ='Heures accueil de loisirs'!E36 -> 0 | D36: ='Heures accueil de loisirs'!F36 -> 0 | E36: ='Heures accueil de loisirs'!G36 -> 0 | F36: ='Heures accueil de loisirs'!H36 -> 119 | G36: ='Heures accueil de loisirs'!I36 -> 0 | H36: ='Heures accueil de loisirs'!J36 -> 0 | M36: Accueil de loisirs
A37: ='Heures accueil de loisirs'!A41 -> 0 | B37: ='Heures accueil de loisirs'!D41 -> 0 | C37: ='Heures accueil de loisirs'!E41 -> 0 | D37: ='Heures accueil de loisirs'!F41 -> 0 | E37: ='Heures accueil de loisirs'!G41 -> 0 | F37: ='Heures accueil de loisirs'!H41 -> 119 | G37: ='Heures accueil de loisirs'!I41 -> 0 | H37: ='Heures accueil de loisirs'!J41 -> 0 | M37: Accueil de loisirs
A38: ='Heures accueil de loisirs'!A42 -> 0 | B38: ='Heures accueil de loisirs'!D42 -> 0 | C38: ='Heures accueil de loisirs'!E42 -> 0 | D38: ='Heures accueil de loisirs'!F42 -> 0 | E38: ='Heures accueil de loisirs'!G42 -> 0 | F38: ='Heures accueil de loisirs'!H42 -> 119 | G38: ='Heures accueil de loisirs'!I42 -> 0 | H38: ='Heures accueil de loisirs'!J42 -> 0 | M38: Accueil de loisirs
A39: ='Heures accueil de loisirs'!A43 -> 0 | B39: ='Heures accueil de loisirs'!D43 -> 0 | C39: ='Heures accueil de loisirs'!E43 -> 0 | D39: ='Heures accueil de loisirs'!F43 -> 0 | E39: ='Heures accueil de loisirs'!G43 -> 0 | F39: ='Heures accueil de loisirs'!H43 -> 119 | G39: ='Heures accueil de loisirs'!I43 -> 0 | H39: ='Heures accueil de loisirs'!J43 -> 0 | M39: Accueil de loisirs
A40: ='Heures accueil de loisirs'!A44 -> 0 | B40: ='Heures accueil de loisirs'!D44 -> 0 | C40: ='Heures accueil de loisirs'!E44 -> 0 | D40: ='Heures accueil de loisirs'!F44 -> 0 | E40: ='Heures accueil de loisirs'!G44 -> 0 | F40: ='Heures accueil de loisirs'!H44 -> 119 | G40: ='Heures accueil de loisirs'!I44 -> 0 | H40: ='Heures accueil de loisirs'!J44 -> 0 | M40: Accueil de loisirs
A41: ='Heures accueil de loisirs'!A45 -> 0 | B41: ='Heures accueil de loisirs'!D45 -> 0 | C41: ='Heures accueil de loisirs'!E45 -> 0 | D41: ='Heures accueil de loisirs'!F45 -> 0 | E41: ='Heures accueil de loisirs'!G45 -> 0 | F41: ='Heures accueil de loisirs'!H45 -> 119 | G41: ='Heures accueil de loisirs'!I45 -> 0 | H41: ='Heures accueil de loisirs'!J45 -> 0 | M41: Accueil de loisirs
A42: ='Heures accueil de loisirs'!A46 -> 0 | B42: ='Heures accueil de loisirs'!D46 -> 0 | C42: ='Heures accueil de loisirs'!E46 -> 0 | D42: ='Heures accueil de loisirs'!F46 -> 0 | E42: ='Heures accueil de loisirs'!G46 -> 0 | F42: ='Heures accueil de loisirs'!H46 -> 119 | G42: ='Heures accueil de loisirs'!I46 -> 0 | H42: ='Heures accueil de loisirs'!J46 -> 0 | M42: Accueil de loisirs
A43: ='Heures accueil de loisirs'!A47 -> 0 | B43: ='Heures accueil de loisirs'!D47 -> 0 | C43: ='Heures accueil de loisirs'!E47 -> 0 | D43: ='Heures accueil de loisirs'!F47 -> 0 | E43: ='Heures accueil de loisirs'!G47 -> 0 | F43: ='Heures accueil de loisirs'!H47 -> 119 | G43: ='Heures accueil de loisirs'!I47 -> 0 | H43: ='Heures accueil de loisirs'!J47 -> 0 | M43: Accueil de loisirs
A44: ='Heures accueil de loisirs'!A48 -> 0 | B44: ='Heures accueil de loisirs'!D48 -> 0 | C44: ='Heures accueil de loisirs'!E48 -> 0 | D44: ='Heures accueil de loisirs'!F48 -> 0 | E44: ='Heures accueil de loisirs'!G48 -> 0 | F44: ='Heures accueil de loisirs'!H48 -> 119 | G44: ='Heures accueil de loisirs'!I48 -> 0 | H44: ='Heures accueil de loisirs'!J48 -> 0 | M44: Accueil de loisirs
A45: ='Heures accueil de loisirs'!A49 -> 0 | B45: ='Heures accueil de loisirs'!D49 -> 0 | C45: ='Heures accueil de loisirs'!E49 -> 0 | D45: ='Heures accueil de loisirs'!F49 -> 0 | E45: ='Heures accueil de loisirs'!G49 -> 0 | F45: ='Heures accueil de loisirs'!H49 -> 119 | G45: ='Heures accueil de loisirs'!I49 -> 0 | H45: ='Heures accueil de loisirs'!J49 -> 0 | M45: Accueil de loisirs
A46: ='Heures accueil de loisirs'!A50 -> 0 | B46: ='Heures accueil de loisirs'!D50 -> 0 | C46: ='Heures accueil de loisirs'!E50 -> 0 | D46: ='Heures accueil de loisirs'!F50 -> 0 | E46: ='Heures accueil de loisirs'!G50 -> 0 | F46: ='Heures accueil de loisirs'!H50 -> 119 | G46: ='Heures accueil de loisirs'!I50 -> 0 | H46: ='Heures accueil de loisirs'!J50 -> 0 | M46: Accueil de loisirs
A47: ='Heures accueil de loisirs'!A51 -> 0 | B47: ='Heures accueil de loisirs'!D51 -> 0 | C47: ='Heures accueil de loisirs'!E51 -> 0 | D47: ='Heures accueil de loisirs'!F51 -> 0 | E47: ='Heures accueil de loisirs'!G51 -> 0 | F47: ='Heures accueil de loisirs'!H51 -> 119 | G47: ='Heures accueil de loisirs'!I51 -> 0 | H47: ='Heures accueil de loisirs'!J51 -> 0 | M47: Accueil de loisirs
A48: ='Heures accueil de loisirs'!A52 -> 0 | B48: ='Heures accueil de loisirs'!D52 -> 0 | C48: ='Heures accueil de loisirs'!E52 -> 0 | D48: ='Heures accueil de loisirs'!F52 -> 0 | E48: ='Heures accueil de loisirs'!G52 -> 0 | F48: ='Heures accueil de loisirs'!H52 -> 119 | G48: ='Heures accueil de loisirs'!I52 -> 0 | H48: ='Heures accueil de loisirs'!J52 -> 0 | M48: Accueil de loisirs
... A116: ='Heures accueil de loisirs'!A120 -> 0 | B116: ='Heures accueil de loisirs'!D120 -> 0 | C116: ='Heures accueil de loisirs'!E120 -> 0 | D116: ='Heures accueil de loisirs'!F120 -> 0 | E116: ='Heures accueil de loisirs'!G120 -> 0 | F116: ='Heures accueil de loisirs'!H120 -> 119 | G116: ='Heures accueil de loisirs'!I120 -> 0 | H116: ='Heures accueil de loisirs'!J120 -> 0 | M116: Accueil de loisirs
A117: ='Heures accueil de loisirs'!A125 -> 0 | B117: ='Heures accueil de loisirs'!D125 -> 0 | C117: ='Heures accueil de loisirs'!E125 -> 0 | D117: ='Heures accueil de loisirs'!F125 -> 0 | E117: ='Heures accueil de loisirs'!G125 -> 0 | F117: ='Heures accueil de loisirs'!H125 -> 119 | G117: ='Heures accueil de loisirs'!I125 -> 0 | H117: ='Heures accueil de loisirs'!J125 -> 0 | M117: Accueil de loisirs
A118: ='Heures accueil de loisirs'!A126 -> 0 | B118: ='Heures accueil de loisirs'!D126 -> 0 | C118: ='Heures accueil de loisirs'!E126 -> 0 | D118: ='Heures accueil de loisirs'!F126 -> 0 | E118: ='Heures accueil de loisirs'!G126 -> 0 | F118: ='Heures accueil de loisirs'!H126 -> 119 | G118: ='Heures accueil de loisirs'!I126 -> 0 | H118: ='Heures accueil de loisirs'!J126 -> 0 | M118: Accueil de loisirs
A119: ='Heures accueil de loisirs'!A127 -> 0 | B119: ='Heures accueil de loisirs'!D127 -> 0 | C119: ='Heures accueil de loisirs'!E127 -> 0 | D119: ='Heures accueil de loisirs'!F127 -> 0 | E119: ='Heures accueil de loisirs'!G127 -> 0 | F119: ='Heures accueil de loisirs'!H127 -> 119 | G119: ='Heures accueil de loisirs'!I127 -> 0 | H119: ='Heures accueil de loisirs'!J127 -> 0 | M119: Accueil de loisirs
A120: ='Heures accueil de loisirs'!A128 -> 0 | B120: ='Heures accueil de loisirs'!D128 -> 0 | C120: ='Heures accueil de loisirs'!E128 -> 0 | D120: ='Heures accueil de loisirs'!F128 -> 0 | E120: ='Heures accueil de loisirs'!G128 -> 0 | F120: ='Heures accueil de loisirs'!H128 -> 119 | G120: ='Heures accueil de loisirs'!I128 -> 0 | H120: ='Heures accueil de loisirs'!J128 -> 0 | M120: Accueil de loisirs
A121: ='Heures accueil de loisirs'!A129 -> 0 | B121: ='Heures accueil de loisirs'!D129 -> 0 | C121: ='Heures accueil de loisirs'!E129 -> 0 | D121: ='Heures accueil de loisirs'!F129 -> 0 | E121: ='Heures accueil de loisirs'!G129 -> 0 | F121: ='Heures accueil de loisirs'!H129 -> 119 | G121: ='Heures accueil de loisirs'!I129 -> 0 | H121: ='Heures accueil de loisirs'!J129 -> 0 | M121: Accueil de loisirs
A122: ='Heures accueil de loisirs'!A130 -> 0 | B122: ='Heures accueil de loisirs'!D130 -> 0 | C122: ='Heures accueil de loisirs'!E130 -> 0 | D122: ='Heures accueil de loisirs'!F130 -> 0 | E122: ='Heures accueil de loisirs'!G130 -> 0 | F122: ='Heures accueil de loisirs'!H130 -> 119 | G122: ='Heures accueil de loisirs'!I130 -> 0 | H122: ='Heures accueil de loisirs'!J130 -> 0 | M122: Accueil de loisirs
A123: ='Heures accueil de loisirs'!A131 -> 0 | B123: ='Heures accueil de loisirs'!D131 -> 0 | C123: ='Heures accueil de loisirs'!E131 -> 0 | D123: ='Heures accueil de loisirs'!F131 -> 0 | E123: ='Heures accueil de loisirs'!G131 -> 0 | F123: ='Heures accueil de loisirs'!H131 -> 119 | G123: ='Heures accueil de loisirs'!I131 -> 0 | H123: ='Heures accueil de loisirs'!J131 -> 0 | M123: Accueil de loisirs
A124: ='Heures accueil de loisirs'!A132 -> 0 | B124: ='Heures accueil de loisirs'!D132 -> 0 | C124: ='Heures accueil de loisirs'!E132 -> 0 | D124: ='Heures accueil de loisirs'!F132 -> 0 | E124: ='Heures accueil de loisirs'!G132 -> 0 | F124: ='Heures accueil de loisirs'!H132 -> 119 | G124: ='Heures accueil de loisirs'!I132 -> 0 | H124: ='Heures accueil de loisirs'!J132 -> 0 | M124: Accueil de loisirs
A125: ='Heures accueil de loisirs'!A133 -> 0 | B125: ='Heures accueil de loisirs'!D133 -> 0 | C125: ='Heures accueil de loisirs'!E133 -> 0 | D125: ='Heures accueil de loisirs'!F133 -> 0 | E125: ='Heures accueil de loisirs'!G133 -> 0 | F125: ='Heures accueil de loisirs'!H133 -> 119 | G125: ='Heures accueil de loisirs'!I133 -> 0 | H125: ='Heures accueil de loisirs'!J133 -> 0 | M125: Accueil de loisirs
A126: ='Heures accueil de loisirs'!A134 -> 0 | B126: ='Heures accueil de loisirs'!D134 -> 0 | C126: ='Heures accueil de loisirs'!E134 -> 0 | D126: ='Heures accueil de loisirs'!F134 -> 0 | E126: ='Heures accueil de loisirs'!G134 -> 0 | F126: ='Heures accueil de loisirs'!H134 -> 119 | G126: ='Heures accueil de loisirs'!I134 -> 0 | H126: ='Heures accueil de loisirs'!J134 -> 0 | M126: Accueil de loisirs
A127: ='Heures accueil de loisirs'!A135 -> 0 | B127: ='Heures accueil de loisirs'!D135 -> 0 | C127: ='Heures accueil de loisirs'!E135 -> 0 | D127: ='Heures accueil de loisirs'!F135 -> 0 | E127: ='Heures accueil de loisirs'!G135 -> 0 | F127: ='Heures accueil de loisirs'!H135 -> 119 | G127: ='Heures accueil de loisirs'!I135 -> 0 | H127: ='Heures accueil de loisirs'!J135 -> 0 | M127: Accueil de loisirs
A128: ='Heures accueil de loisirs'!A136 -> 0 | B128: ='Heures accueil de loisirs'!D136 -> 0 | C128: ='Heures accueil de loisirs'!E136 -> 0 | D128: ='Heures accueil de loisirs'!F136 -> 0 | E128: ='Heures accueil de loisirs'!G136 -> 0 | F128: ='Heures accueil de loisirs'!H136 -> 119 | G128: ='Heures accueil de loisirs'!I136 -> 0 | H128: ='Heures accueil de loisirs'!J136 -> 0 | M128: Accueil de loisirs
... A196: ='Heures accueil de loisirs'!A204 -> 0 | B196: ='Heures accueil de loisirs'!D204 -> 0 | C196: ='Heures accueil de loisirs'!E204 -> 0 | D196: ='Heures accueil de loisirs'!F204 -> 0 | E196: ='Heures accueil de loisirs'!G204 -> 0 | F196: ='Heures accueil de loisirs'!H204 -> 119 | G196: ='Heures accueil de loisirs'!I204 -> 0 | H196: ='Heures accueil de loisirs'!J204 -> 0 | M196: Accueil de loisirs
A197: ='Heures accueil de loisirs'!A209 -> 0 | B197: ='Heures accueil de loisirs'!D209 -> 0 | C197: ='Heures accueil de loisirs'!E209 -> 0 | D197: ='Heures accueil de loisirs'!F209 -> 0 | E197: ='Heures accueil de loisirs'!G209 -> 0 | F197: ='Heures accueil de loisirs'!H209 -> 119 | G197: ='Heures accueil de loisirs'!I209 -> 0 | H197: ='Heures accueil de loisirs'!J209 -> 0 | M197: Accueil de loisirs
A198: ='Heures accueil de loisirs'!A210 -> 0 | B198: ='Heures accueil de loisirs'!D210 -> 0 | C198: ='Heures accueil de loisirs'!E210 -> 0 | D198: ='Heures accueil de loisirs'!F210 -> 0 | E198: ='Heures accueil de loisirs'!G210 -> 0 | F198: ='Heures accueil de loisirs'!H210 -> 119 | G198: ='Heures accueil de loisirs'!I210 -> 0 | H198: ='Heures accueil de loisirs'!J210 -> 0 | M198: Accueil de loisirs
A199: ='Heures accueil de loisirs'!A211 -> 0 | B199: ='Heures accueil de loisirs'!D211 -> 0 | C199: ='Heures accueil de loisirs'!E211 -> 0 | D199: ='Heures accueil de loisirs'!F211 -> 0 | E199: ='Heures accueil de loisirs'!G211 -> 0 | F199: ='Heures accueil de loisirs'!H211 -> 119 | G199: ='Heures accueil de loisirs'!I211 -> 0 | H199: ='Heures accueil de loisirs'!J211 -> 0 | M199: Accueil de loisirs
A200: ='Heures accueil de loisirs'!A212 -> 0 | B200: ='Heures accueil de loisirs'!D212 -> 0 | C200: ='Heures accueil de loisirs'!E212 -> 0 | D200: ='Heures accueil de loisirs'!F212 -> 0 | E200: ='Heures accueil de loisirs'!G212 -> 0 | F200: ='Heures accueil de loisirs'!H212 -> 119 | G200: ='Heures accueil de loisirs'!I212 -> 0 | H200: ='Heures accueil de loisirs'!J212 -> 0 | M200: Accueil de loisirs
A201: ='Heures accueil de loisirs'!A213 -> 0 | B201: ='Heures accueil de loisirs'!D213 -> 0 | C201: ='Heures accueil de loisirs'!E213 -> 0 | D201: ='Heures accueil de loisirs'!F213 -> 0 | E201: ='Heures accueil de loisirs'!G213 -> 0 | F201: ='Heures accueil de loisirs'!H213 -> 119 | G201: ='Heures accueil de loisirs'!I213 -> 0 | H201: ='Heures accueil de loisirs'!J213 -> 0 | M201: Accueil de loisirs
A202: ='Heures accueil de loisirs'!A214 -> 0 | B202: ='Heures accueil de loisirs'!D214 -> 0 | C202: ='Heures accueil de loisirs'!E214 -> 0 | D202: ='Heures accueil de loisirs'!F214 -> 0 | E202: ='Heures accueil de loisirs'!G214 -> 0 | F202: ='Heures accueil de loisirs'!H214 -> 119 | G202: ='Heures accueil de loisirs'!I214 -> 0 | H202: ='Heures accueil de loisirs'!J214 -> 0 | M202: Accueil de loisirs
A203: ='Heures accueil de loisirs'!A215 -> 0 | B203: ='Heures accueil de loisirs'!D215 -> 0 | C203: ='Heures accueil de loisirs'!E215 -> 0 | D203: ='Heures accueil de loisirs'!F215 -> 0 | E203: ='Heures accueil de loisirs'!G215 -> 0 | F203: ='Heures accueil de loisirs'!H215 -> 119 | G203: ='Heures accueil de loisirs'!I215 -> 0 | H203: ='Heures accueil de loisirs'!J215 -> 0 | M203: Accueil de loisirs
A204: ='Heures accueil de loisirs'!A216 -> 0 | B204: ='Heures accueil de loisirs'!D216 -> 0 | C204: ='Heures accueil de loisirs'!E216 -> 0 | D204: ='Heures accueil de loisirs'!F216 -> 0 | E204: ='Heures accueil de loisirs'!G216 -> 0 | F204: ='Heures accueil de loisirs'!H216 -> 119 | G204: ='Heures accueil de loisirs'!I216 -> 0 | H204: ='Heures accueil de loisirs'!J216 -> 0 | M204: Accueil de loisirs
A205: ='Heures accueil de loisirs'!A217 -> 0 | B205: ='Heures accueil de loisirs'!D217 -> 0 | C205: ='Heures accueil de loisirs'!E217 -> 0 | D205: ='Heures accueil de loisirs'!F217 -> 0 | E205: ='Heures accueil de loisirs'!G217 -> 0 | F205: ='Heures accueil de loisirs'!H217 -> 119 | G205: ='Heures accueil de loisirs'!I217 -> 0 | H205: ='Heures accueil de loisirs'!J217 -> 0 | M205: Accueil de loisirs
A206: ='Heures accueil de loisirs'!A218 -> 0 | B206: ='Heures accueil de loisirs'!D218 -> 0 | C206: ='Heures accueil de loisirs'!E218 -> 0 | D206: ='Heures accueil de loisirs'!F218 -> 0 | E206: ='Heures accueil de loisirs'!G218 -> 0 | F206: ='Heures accueil de loisirs'!H218 -> 119 | G206: ='Heures accueil de loisirs'!I218 -> 0 | H206: ='Heures accueil de loisirs'!J218 -> 0 | M206: Accueil de loisirs
A207: ='Heures accueil de loisirs'!A219 -> 0 | B207: ='Heures accueil de loisirs'!D219 -> 0 | C207: ='Heures accueil de loisirs'!E219 -> 0 | D207: ='Heures accueil de loisirs'!F219 -> 0 | E207: ='Heures accueil de loisirs'!G219 -> 0 | F207: ='Heures accueil de loisirs'!H219 -> 119 | G207: ='Heures accueil de loisirs'!I219 -> 0 | H207: ='Heures accueil de loisirs'!J219 -> 0 | M207: Accueil de loisirs
A208: ='Heures accueil de loisirs'!A220 -> 0 | B208: ='Heures accueil de loisirs'!D220 -> 0 | C208: ='Heures accueil de loisirs'!E220 -> 0 | D208: ='Heures accueil de loisirs'!F220 -> 0 | E208: ='Heures accueil de loisirs'!G220 -> 0 | F208: ='Heures accueil de loisirs'!H220 -> 119 | G208: ='Heures accueil de loisirs'!I220 -> 0 | H208: ='Heures accueil de loisirs'!J220 -> 0 | M208: Accueil de loisirs
... A286: ='Heures accueil de loisirs'!A298 -> 0 | B286: ='Heures accueil de loisirs'!D298 -> 0 | C286: ='Heures accueil de loisirs'!E298 -> 0 | D286: ='Heures accueil de loisirs'!F298 -> 0 | E286: ='Heures accueil de loisirs'!G298 -> 0 | F286: ='Heures accueil de loisirs'!H298 -> 119 | G286: ='Heures accueil de loisirs'!I298 -> 0 | H286: ='Heures accueil de loisirs'!J298 -> 0 | M286: Accueil de loisirs
A287: ='Heures accueil de loisirs'!A303 -> 0 | B287: ='Heures accueil de loisirs'!D303 -> 0 | C287: ='Heures accueil de loisirs'!E303 -> 0 | D287: ='Heures accueil de loisirs'!F303 -> 0 | E287: ='Heures accueil de loisirs'!G303 -> 0 | F287: ='Heures accueil de loisirs'!H303 -> 119 | G287: ='Heures accueil de loisirs'!I303 -> 0 | H287: ='Heures accueil de loisirs'!J303 -> 0 | M287: Accueil de loisirs
A288: ='Heures accueil de loisirs'!A304 -> 0 | B288: ='Heures accueil de loisirs'!D304 -> 0 | C288: ='Heures accueil de loisirs'!E304 -> 0 | D288: ='Heures accueil de loisirs'!F304 -> 0 | E288: ='Heures accueil de loisirs'!G304 -> 0 | F288: ='Heures accueil de loisirs'!H304 -> 119 | G288: ='Heures accueil de loisirs'!I304 -> 0 | H288: ='Heures accueil de loisirs'!J304 -> 0 | M288: Accueil de loisirs
A289: ='Heures accueil de loisirs'!A305 -> 0 | B289: ='Heures accueil de loisirs'!D305 -> 0 | C289: ='Heures accueil de loisirs'!E305 -> 0 | D289: ='Heures accueil de loisirs'!F305 -> 0 | E289: ='Heures accueil de loisirs'!G305 -> 0 | F289: ='Heures accueil de loisirs'!H305 -> 119 | G289: ='Heures accueil de loisirs'!I305 -> 0 | H289: ='Heures accueil de loisirs'!J305 -> 0 | M289: Accueil de loisirs
A290: ='Heures accueil de loisirs'!A306 -> 0 | B290: ='Heures accueil de loisirs'!D306 -> 0 | C290: ='Heures accueil de loisirs'!E306 -> 0 | D290: ='Heures accueil de loisirs'!F306 -> 0 | E290: ='Heures accueil de loisirs'!G306 -> 0 | F290: ='Heures accueil de loisirs'!H306 -> 119 | G290: ='Heures accueil de loisirs'!I306 -> 0 | H290: ='Heures accueil de loisirs'!J306 -> 0 | M290: Accueil de loisirs
A291: ='Heures accueil de loisirs'!A307 -> 0 | B291: ='Heures accueil de loisirs'!D307 -> 0 | C291: ='Heures accueil de loisirs'!E307 -> 0 | D291: ='Heures accueil de loisirs'!F307 -> 0 | E291: ='Heures accueil de loisirs'!G307 -> 0 | F291: ='Heures accueil de loisirs'!H307 -> 119 | G291: ='Heures accueil de loisirs'!I307 -> 0 | H291: ='Heures accueil de loisirs'!J307 -> 0 | M291: Accueil de loisirs
A292: ='Heures accueil de loisirs'!A308 -> 0 | B292: ='Heures accueil de loisirs'!D308 -> 0 | C292: ='Heures accueil de loisirs'!E308 -> 0 | D292: ='Heures accueil de loisirs'!F308 -> 0 | E292: ='Heures accueil de loisirs'!G308 -> 0 | F292: ='Heures accueil de loisirs'!H308 -> 119 | G292: ='Heures accueil de loisirs'!I308 -> 0 | H292: ='Heures accueil de loisirs'!J308 -> 0 | M292: Accueil de loisirs
A293: ='Heures accueil de loisirs'!A309 -> 0 | B293: ='Heures accueil de loisirs'!D309 -> 0 | C293: ='Heures accueil de loisirs'!E309 -> 0 | D293: ='Heures accueil de loisirs'!F309 -> 0 | E293: ='Heures accueil de loisirs'!G309 -> 0 | F293: ='Heures accueil de loisirs'!H309 -> 119 | G293: ='Heures accueil de loisirs'!I309 -> 0 | H293: ='Heures accueil de loisirs'!J309 -> 0 | M293: Accueil de loisirs
A294: ='Heures accueil de loisirs'!A310 -> 0 | B294: ='Heures accueil de loisirs'!D310 -> 0 | C294: ='Heures accueil de loisirs'!E310 -> 0 | D294: ='Heures accueil de loisirs'!F310 -> 0 | E294: ='Heures accueil de loisirs'!G310 -> 0 | F294: ='Heures accueil de loisirs'!H310 -> 119 | G294: ='Heures accueil de loisirs'!I310 -> 0 | H294: ='Heures accueil de loisirs'!J310 -> 0 | M294: Accueil de loisirs
A295: ='Heures accueil de loisirs'!A311 -> 0 | B295: ='Heures accueil de loisirs'!D311 -> 0 | C295: ='Heures accueil de loisirs'!E311 -> 0 | D295: ='Heures accueil de loisirs'!F311 -> 0 | E295: ='Heures accueil de loisirs'!G311 -> 0 | F295: ='Heures accueil de loisirs'!H311 -> 119 | G295: ='Heures accueil de loisirs'!I311 -> 0 | H295: ='Heures accueil de loisirs'!J311 -> 0 | M295: Accueil de loisirs
A296: ='Heures accueil de loisirs'!A312 -> 0 | B296: ='Heures accueil de loisirs'!D312 -> 0 | C296: ='Heures accueil de loisirs'!E312 -> 0 | D296: ='Heures accueil de loisirs'!F312 -> 0 | E296: ='Heures accueil de loisirs'!G312 -> 0 | F296: ='Heures accueil de loisirs'!H312 -> 119 | G296: ='Heures accueil de loisirs'!I312 -> 0 | H296: ='Heures accueil de loisirs'!J312 -> 0 | M296: Accueil de loisirs
A297: ='Heures accueil de loisirs'!A313 -> 0 | B297: ='Heures accueil de loisirs'!D313 -> 0 | C297: ='Heures accueil de loisirs'!E313 -> 0 | D297: ='Heures accueil de loisirs'!F313 -> 0 | E297: ='Heures accueil de loisirs'!G313 -> 0 | F297: ='Heures accueil de loisirs'!H313 -> 119 | G297: ='Heures accueil de loisirs'!I313 -> 0 | H297: ='Heures accueil de loisirs'!J313 -> 0 | M297: Accueil de loisirs
A298: ='Heures accueil de loisirs'!A314 -> 0 | B298: ='Heures accueil de loisirs'!D314 -> 0 | C298: ='Heures accueil de loisirs'!E314 -> 0 | D298: ='Heures accueil de loisirs'!F314 -> 0 | E298: ='Heures accueil de loisirs'!G314 -> 0 | F298: ='Heures accueil de loisirs'!H314 -> 119 | G298: ='Heures accueil de loisirs'!I314 -> 0 | H298: ='Heures accueil de loisirs'!J314 -> 0 | M298: Accueil de loisirs
... A356: ='Heures accueil de loisirs'!A372 -> 0 | B356: ='Heures accueil de loisirs'!D372 -> 0 | C356: ='Heures accueil de loisirs'!E372 -> 0 | D356: ='Heures accueil de loisirs'!F372 -> 0 | E356: ='Heures accueil de loisirs'!G372 -> 0 | F356: ='Heures accueil de loisirs'!H372 -> 119 | G356: ='Heures accueil de loisirs'!I372 -> 0 | H356: ='Heures accueil de loisirs'!J372 -> 0 | M356: Accueil de loisirs
F357: =INT(($C$1-E357)/365.25) -> 119 | M357: Accueil de loisirs
F358: =INT(($C$1-E358)/365.25) -> 119 | M358: Accueil de loisirs
F359: =INT(($C$1-E359)/365.25) -> 119 | M359: Accueil de loisirs
F360: =INT(($C$1-E360)/365.25) -> 119 | M360: Accueil de loisirs
F361: =INT(($C$1-E361)/365.25) -> 119 | M361: Accueil de loisirs
F362: =INT(($C$1-E362)/365.25) -> 119 | M362: Accueil de loisirs
F363: =INT(($C$1-E363)/365.25) -> 119 | M363: Accueil de loisirs
F364: =INT(($C$1-E364)/365.25) -> 119 | M364: Accueil de loisirs
F365: =INT(($C$1-E365)/365.25) -> 119 | M365: Accueil de loisirs
F366: =INT(($C$1-E366)/365.25) -> 119 | M366: Accueil de loisirs
A367: =SUM(A7:A366) -> 0
B368: ACCUEIL JEUNES
A369: ='Heures accueil jeunes'!A7 -> 0 | B369: ='Heures accueil jeunes'!B7 -> 0 | C369: ='Heures accueil jeunes'!C7 -> 0 | D369: ='Heures accueil jeunes'!D7 -> 0 | E369: ='Heures accueil jeunes'!E7 -> 0 | F369: ='Heures accueil jeunes'!F7 -> 119 | G369: ='Heures accueil jeunes'!G7 -> 0 | H369: ='Heures accueil jeunes'!H7 -> 0 | M369: Accueil jeunes
A370: ='Heures accueil jeunes'!A8 -> 0 | B370: ='Heures accueil jeunes'!B8 -> 0 | C370: ='Heures accueil jeunes'!C8 -> 0 | D370: ='Heures accueil jeunes'!D8 -> 0 | E370: ='Heures accueil jeunes'!E8 -> 0 | F370: ='Heures accueil jeunes'!F8 -> 119 | G370: ='Heures accueil jeunes'!G8 -> 0 | H370: ='Heures accueil jeunes'!H8 -> 0 | M370: Accueil jeunes
A371: ='Heures accueil jeunes'!A9 -> 0 | B371: ='Heures accueil jeunes'!B9 -> 0 | C371: ='Heures accueil jeunes'!C9 -> 0 | D371: ='Heures accueil jeunes'!D9 -> 0 | E371: ='Heures accueil jeunes'!E9 -> 0 | F371: ='Heures accueil jeunes'!F9 -> 119 | G371: ='Heures accueil jeunes'!G9 -> 0 | H371: ='Heures accueil jeunes'!H9 -> 0 | M371: Accueil jeunes
A372: ='Heures accueil jeunes'!A10 -> 0 | B372: ='Heures accueil jeunes'!B10 -> 0 | C372: ='Heures accueil jeunes'!C10 -> 0 | D372: ='Heures accueil jeunes'!D10 -> 0 | E372: ='Heures accueil jeunes'!E10 -> 0 | F372: ='Heures accueil jeunes'!F10 -> 119 | G372: ='Heures accueil jeunes'!G10 -> 0 | H372: ='Heures accueil jeunes'!H10 -> 0 | M372: Accueil jeunes
A373: ='Heures accueil jeunes'!A11 -> 0 | B373: ='Heures accueil jeunes'!B11 -> 0 | C373: ='Heures accueil jeunes'!C11 -> 0 | D373: ='Heures accueil jeunes'!D11 -> 0 | E373: ='Heures accueil jeunes'!E11 -> 0 | F373: ='Heures accueil jeunes'!F11 -> 119 | G373: ='Heures accueil jeunes'!G11 -> 0 | H373: ='Heures accueil jeunes'!H11 -> 0 | M373: Accueil jeunes
A374: ='Heures accueil jeunes'!A12 -> 0 | B374: ='Heures accueil jeunes'!B12 -> 0 | C374: ='Heures accueil jeunes'!C12 -> 0 | D374: ='Heures accueil jeunes'!D12 -> 0 | E374: ='Heures accueil jeunes'!E12 -> 0 | F374: ='Heures accueil jeunes'!F12 -> 119 | G374: ='Heures accueil jeunes'!G12 -> 0 | H374: ='Heures accueil jeunes'!H12 -> 0 | M374: Accueil jeunes
A375: ='Heures accueil jeunes'!A13 -> 0 | B375: ='Heures accueil jeunes'!B13 -> 0 | C375: ='Heures accueil jeunes'!C13 -> 0 | D375: ='Heures accueil jeunes'!D13 -> 0 | E375: ='Heures accueil jeunes'!E13 -> 0 | F375: ='Heures accueil jeunes'!F13 -> 119 | G375: ='Heures accueil jeunes'!G13 -> 0 | H375: ='Heures accueil jeunes'!H13 -> 0 | M375: Accueil jeunes
A376: ='Heures accueil jeunes'!A14 -> 0 | B376: ='Heures accueil jeunes'!B14 -> 0 | C376: ='Heures accueil jeunes'!C14 -> 0 | D376: ='Heures accueil jeunes'!D14 -> 0 | E376: ='Heures accueil jeunes'!E14 -> 0 | F376: ='Heures accueil jeunes'!F14 -> 119 | G376: ='Heures accueil jeunes'!G14 -> 0 | H376: ='Heures accueil jeunes'!H14 -> 0 | M376: Accueil jeunes
A377: ='Heures accueil jeunes'!A15 -> 0 | B377: ='Heures accueil jeunes'!B15 -> 0 | C377: ='Heures accueil jeunes'!C15 -> 0 | D377: ='Heures accueil jeunes'!D15 -> 0 | E377: ='Heures accueil jeunes'!E15 -> 0 | F377: ='Heures accueil jeunes'!F15 -> 119 | G377: ='Heures accueil jeunes'!G15 -> 0 | H377: ='Heures accueil jeunes'!H15 -> 0 | M377: Accueil jeunes
A378: ='Heures accueil jeunes'!A16 -> 0 | B378: ='Heures accueil jeunes'!B16 -> 0 | C378: ='Heures accueil jeunes'!C16 -> 0 | D378: ='Heures accueil jeunes'!D16 -> 0 | E378: ='Heures accueil jeunes'!E16 -> 0 | F378: ='Heures accueil jeunes'!F16 -> 119 | G378: ='Heures accueil jeunes'!G16 -> 0 | H378: ='Heures accueil jeunes'!H16 -> 0 | M378: Accueil jeunes
A379: ='Heures accueil jeunes'!A17 -> 0 | B379: ='Heures accueil jeunes'!B17 -> 0 | C379: ='Heures accueil jeunes'!C17 -> 0 | D379: ='Heures accueil jeunes'!D17 -> 0 | E379: ='Heures accueil jeunes'!E17 -> 0 | F379: ='Heures accueil jeunes'!F17 -> 119 | G379: ='Heures accueil jeunes'!G17 -> 0 | H379: ='Heures accueil jeunes'!H17 -> 0 | M379: Accueil jeunes
A380: ='Heures accueil jeunes'!A18 -> 0 | B380: ='Heures accueil jeunes'!B18 -> 0 | C380: ='Heures accueil jeunes'!C18 -> 0 | D380: ='Heures accueil jeunes'!D18 -> 0 | E380: ='Heures accueil jeunes'!E18 -> 0 | F380: ='Heures accueil jeunes'!F18 -> 119 | G380: ='Heures accueil jeunes'!G18 -> 0 | H380: ='Heures accueil jeunes'!H18 -> 0 | M380: Accueil jeunes
... A398: ='Heures accueil jeunes'!A36 -> 0 | B398: ='Heures accueil jeunes'!B36 -> 0 | C398: ='Heures accueil jeunes'!C36 -> 0 | D398: ='Heures accueil jeunes'!D36 -> 0 | E398: ='Heures accueil jeunes'!E36 -> 0 | F398: ='Heures accueil jeunes'!F36 -> 119 | G398: ='Heures accueil jeunes'!G36 -> 0 | H398: ='Heures accueil jeunes'!H36 -> 0 | M398: Accueil jeunes
A399: ='Heures accueil jeunes'!A41 -> 0 | B399: ='Heures accueil jeunes'!B41 -> 0 | C399: ='Heures accueil jeunes'!C41 -> 0 | D399: ='Heures accueil jeunes'!D41 -> 0 | E399: ='Heures accueil jeunes'!E41 -> 0 | F399: ='Heures accueil jeunes'!F41 -> 119 | G399: ='Heures accueil jeunes'!G41 -> 0 | H399: ='Heures accueil jeunes'!H41 -> 0 | M399: Accueil jeunes
A400: ='Heures accueil jeunes'!A42 -> 0 | B400: ='Heures accueil jeunes'!B42 -> 0 | C400: ='Heures accueil jeunes'!C42 -> 0 | D400: ='Heures accueil jeunes'!D42 -> 0 | E400: ='Heures accueil jeunes'!E42 -> 0 | F400: ='Heures accueil jeunes'!F42 -> 119 | G400: ='Heures accueil jeunes'!G42 -> 0 | H400: ='Heures accueil jeunes'!H42 -> 0 | M400: Accueil jeunes
A401: ='Heures accueil jeunes'!A43 -> 0 | B401: ='Heures accueil jeunes'!B43 -> 0 | C401: ='Heures accueil jeunes'!C43 -> 0 | D401: ='Heures accueil jeunes'!D43 -> 0 | E401: ='Heures accueil jeunes'!E43 -> 0 | F401: ='Heures accueil jeunes'!F43 -> 119 | G401: ='Heures accueil jeunes'!G43 -> 0 | H401: ='Heures accueil jeunes'!H43 -> 0 | M401: Accueil jeunes
A402: ='Heures accueil jeunes'!A44 -> 0 | B402: ='Heures accueil jeunes'!B44 -> 0 | C402: ='Heures accueil jeunes'!C44 -> 0 | D402: ='Heures accueil jeunes'!D44 -> 0 | E402: ='Heures accueil jeunes'!E44 -> 0 | F402: ='Heures accueil jeunes'!F44 -> 119 | G402: ='Heures accueil jeunes'!G44 -> 0 | H402: ='Heures accueil jeunes'!H44 -> 0 | M402: Accueil jeunes
A403: ='Heures accueil jeunes'!A45 -> 0 | B403: ='Heures accueil jeunes'!B45 -> 0 | C403: ='Heures accueil jeunes'!C45 -> 0 | D403: ='Heures accueil jeunes'!D45 -> 0 | E403: ='Heures accueil jeunes'!E45 -> 0 | F403: ='Heures accueil jeunes'!F45 -> 119 | G403: ='Heures accueil jeunes'!G45 -> 0 | H403: ='Heures accueil jeunes'!H45 -> 0 | M403: Accueil jeunes
A404: ='Heures accueil jeunes'!A46 -> 0 | B404: ='Heures accueil jeunes'!B46 -> 0 | C404: ='Heures accueil jeunes'!C46 -> 0 | D404: ='Heures accueil jeunes'!D46 -> 0 | E404: ='Heures accueil jeunes'!E46 -> 0 | F404: ='Heures accueil jeunes'!F46 -> 119 | G404: ='Heures accueil jeunes'!G46 -> 0 | H404: ='Heures accueil jeunes'!H46 -> 0 | M404: Accueil jeunes
...

Sheet Jeunes inscrits (totalité)
B1: Aujourd'hui : | C1: =TODAY() -> 43725
B3: NOM | C3: Prénom | D3: Sexe | E3: Date de naissance | F3: Age | G3: Présence à la MJC | I3: 2018/2019 | J3: 2019 | K3: 2019/2020 | L3: 2020 | M3: Action
G4: Mois | H4: Année
A5: ='Jeunes inscrits (par action)'!A7 -> 0 | B5: ='Jeunes inscrits (par action)'!B7 -> 0 | C5: ='Jeunes inscrits (par action)'!C7 -> 0 | D5: ='Jeunes inscrits (par action)'!D7 -> 0 | E5: ='Jeunes inscrits (par action)'!E7 -> 0 | F5: ='Jeunes inscrits (par action)'!F7 -> 119 | G5: ='Jeunes inscrits (par action)'!G7 -> 0 | H5: ='Jeunes inscrits (par action)'!H7 -> 0 | ... M5: ='Jeunes inscrits (par action)'!M7 -> Accueil de loisirs
A6: ='Jeunes inscrits (par action)'!A8 -> 0 | B6: ='Jeunes inscrits (par action)'!B8 -> 0 | C6: ='Jeunes inscrits (par action)'!C8 -> 0 | D6: ='Jeunes inscrits (par action)'!D8 -> 0 | E6: ='Jeunes inscrits (par action)'!E8 -> 0 | F6: ='Jeunes inscrits (par action)'!F8 -> 119 | G6: ='Jeunes inscrits (par action)'!G8 -> 0 | H6: ='Jeunes inscrits (par action)'!H8 -> 0 | ... M6: ='Jeunes inscrits (par action)'!M8 -> Accueil de loisirs
A7: ='Jeunes inscrits (par action)'!A9 -> 0 | B7: ='Jeunes inscrits (par action)'!B9 -> 0 | C7: ='Jeunes inscrits (par action)'!C9 -> 0 | D7: ='Jeunes inscrits (par action)'!D9 -> 0 | E7: ='Jeunes inscrits (par action)'!E9 -> 0 | F7: ='Jeunes inscrits (par action)'!F9 -> 119 | G7: ='Jeunes inscrits (par action)'!G9 -> 0 | H7: ='Jeunes inscrits (par action)'!H9 -> 0 | ... M7: ='Jeunes inscrits (par action)'!M9 -> Accueil de loisirs
A8: ='Jeunes inscrits (par action)'!A10 -> 0 | B8: ='Jeunes inscrits (par action)'!B10 -> 0 | C8: ='Jeunes inscrits (par action)'!C10 -> 0 | D8: ='Jeunes inscrits (par action)'!D10 -> 0 | E8: ='Jeunes inscrits (par action)'!E10 -> 0 | F8: ='Jeunes inscrits (par action)'!F10 -> 119 | G8: ='Jeunes inscrits (par action)'!G10 -> 0 | H8: ='Jeunes inscrits (par action)'!H10 -> 0 | ... M8: ='Jeunes inscrits (par action)'!M10 -> Accueil de loisirs
A9: ='Jeunes inscrits (par action)'!A11 -> 0 | B9: ='Jeunes inscrits (par action)'!B11 -> 0 | C9: ='Jeunes inscrits (par action)'!C11 -> 0 | D9: ='Jeunes inscrits (par action)'!D11 -> 0 | E9: ='Jeunes inscrits (par action)'!E11 -> 0 | F9: ='Jeunes inscrits (par action)'!F11 -> 119 | G9: ='Jeunes inscrits (par action)'!G11 -> 0 | H9: ='Jeunes inscrits (par action)'!H11 -> 0 | ... M9: ='Jeunes inscrits (par action)'!M11 -> Accueil de loisirs
A10: ='Jeunes inscrits (par action)'!A12 -> 0 | B10: ='Jeunes inscrits (par action)'!B12 -> 0 | C10: ='Jeunes inscrits (par action)'!C12 -> 0 | D10: ='Jeunes inscrits (par action)'!D12 -> 0 | E10: ='Jeunes inscrits (par action)'!E12 -> 0 | F10: ='Jeunes inscrits (par action)'!F12 -> 119 | G10: ='Jeunes inscrits (par action)'!G12 -> 0 | H10: ='Jeunes inscrits (par action)'!H12 -> 0 | ... M10: ='Jeunes inscrits (par action)'!M12 -> Accueil de loisirs
A11: ='Jeunes inscrits (par action)'!A13 -> 0 | B11: ='Jeunes inscrits (par action)'!B13 -> 0 | C11: ='Jeunes inscrits (par action)'!C13 -> 0 | D11: ='Jeunes inscrits (par action)'!D13 -> 0 | E11: ='Jeunes inscrits (par action)'!E13 -> 0 | F11: ='Jeunes inscrits (par action)'!F13 -> 119 | G11: ='Jeunes inscrits (par action)'!G13 -> 0 | H11: ='Jeunes inscrits (par action)'!H13 -> 0 | ... M11: ='Jeunes inscrits (par action)'!M13 -> Accueil de loisirs
A12: ='Jeunes inscrits (par action)'!A14 -> 0 | B12: ='Jeunes inscrits (par action)'!B14 -> 0 | C12: ='Jeunes inscrits (par action)'!C14 -> 0 | D12: ='Jeunes inscrits (par action)'!D14 -> 0 | E12: ='Jeunes inscrits (par action)'!E14 -> 0 | F12: ='Jeunes inscrits (par action)'!F14 -> 119 | G12: ='Jeunes inscrits (par action)'!G14 -> 0 | H12: ='Jeunes inscrits (par action)'!H14 -> 0 | ... M12: ='Jeunes inscrits (par action)'!M14 -> Accueil de loisirs
A13: ='Jeunes inscrits (par action)'!A15 -> 0 | B13: ='Jeunes inscrits (par action)'!B15 -> 0 | C13: ='Jeunes inscrits (par action)'!C15 -> 0 | D13: ='Jeunes inscrits (par action)'!D15 -> 0 | E13: ='Jeunes inscrits (par action)'!E15 -> 0 | F13: ='Jeunes inscrits (par action)'!F15 -> 119 | G13: ='Jeunes inscrits (par action)'!G15 -> 0 | H13: ='Jeunes inscrits (par action)'!H15 -> 0 | ... M13: ='Jeunes inscrits (par action)'!M15 -> Accueil de loisirs
A14: ='Jeunes inscrits (par action)'!A16 -> 0 | B14: ='Jeunes inscrits (par action)'!B16 -> 0 | C14: ='Jeunes inscrits (par action)'!C16 -> 0 | D14: ='Jeunes inscrits (par action)'!D16 -> 0 | E14: ='Jeunes inscrits (par action)'!E16 -> 0 | F14: ='Jeunes inscrits (par action)'!F16 -> 119 | G14: ='Jeunes inscrits (par action)'!G16 -> 0 | H14: ='Jeunes inscrits (par action)'!H16 -> 0 | ... M14: ='Jeunes inscrits (par action)'!M16 -> Accueil de loisirs
A15: ='Jeunes inscrits (par action)'!A17 -> 0 | B15: ='Jeunes inscrits (par action)'!B17 -> 0 | C15: ='Jeunes inscrits (par action)'!C17 -> 0 | D15: ='Jeunes inscrits (par action)'!D17 -> 0 | E15: ='Jeunes inscrits (par action)'!E17 -> 0 | F15: ='Jeunes inscrits (par action)'!F17 -> 119 | G15: ='Jeunes inscrits (par action)'!G17 -> 0 | H15: ='Jeunes inscrits (par action)'!H17 -> 0 | ... M15: ='Jeunes inscrits (par action)'!M17 -> Accueil de loisirs
A16: ='Jeunes inscrits (par action)'!A18 -> 0 | B16: ='Jeunes inscrits (par action)'!B18 -> 0 | C16: ='Jeunes inscrits (par action)'!C18 -> 0 | D16: ='Jeunes inscrits (par action)'!D18 -> 0 | E16: ='Jeunes inscrits (par action)'!E18 -> 0 | F16: ='Jeunes inscrits (par action)'!F18 -> 119 | G16: ='Jeunes inscrits (par action)'!G18 -> 0 | H16: ='Jeunes inscrits (par action)'!H18 -> 0 | ... M16: ='Jeunes inscrits (par action)'!M18 -> Accueil de loisirs
... A360: ='Jeunes inscrits (par action)'!A362 -> 0 | B360: ='Jeunes inscrits (par action)'!B362 -> 0 | C360: ='Jeunes inscrits (par action)'!C362 -> 0 | D360: ='Jeunes inscrits (par action)'!D362 -> 0 | E360: ='Jeunes inscrits (par action)'!E362 -> 0 | F360: ='Jeunes inscrits (par action)'!F362 -> 119 | G360: ='Jeunes inscrits (par action)'!G362 -> 0 | H360: ='Jeunes inscrits (par action)'!H362 -> 0 | ... M360: ='Jeunes inscrits (par action)'!M362 -> Accueil de loisirs
A361: ='Jeunes inscrits (par action)'!A369 -> 0 | B361: ='Jeunes inscrits (par action)'!B369 -> 0 | C361: ='Jeunes inscrits (par action)'!C369 -> 0 | D361: ='Jeunes inscrits (par action)'!D369 -> 0 | E361: ='Jeunes inscrits (par action)'!E369 -> 0 | F361: ='Jeunes inscrits (par action)'!F369 -> 119 | G361: ='Jeunes inscrits (par action)'!G369 -> 0 | H361: ='Jeunes inscrits (par action)'!H369 -> 0 | ... M361: ='Jeunes inscrits (par action)'!M369 -> Accueil jeunes
A362: ='Jeunes inscrits (par action)'!A370 -> 0 | B362: ='Jeunes inscrits (par action)'!B370 -> 0 | C362: ='Jeunes inscrits (par action)'!C370 -> 0 | D362: ='Jeunes inscrits (par action)'!D370 -> 0 | E362: ='Jeunes inscrits (par action)'!E370 -> 0 | F362: ='Jeunes inscrits (par action)'!F370 -> 119 | G362: ='Jeunes inscrits (par action)'!G370 -> 0 | H362: ='Jeunes inscrits (par action)'!H370 -> 0 | ... M362: ='Jeunes inscrits (par action)'!M370 -> Accueil jeunes
A363: ='Jeunes inscrits (par action)'!A371 -> 0 | B363: ='Jeunes inscrits (par action)'!B371 -> 0 | C363: ='Jeunes inscrits (par action)'!C371 -> 0 | D363: ='Jeunes inscrits (par action)'!D371 -> 0 | E363: ='Jeunes inscrits (par action)'!E371 -> 0 | F363: ='Jeunes inscrits (par action)'!F371 -> 119 | G363: ='Jeunes inscrits (par action)'!G371 -> 0 | H363: ='Jeunes inscrits (par action)'!H371 -> 0 | ... M363: ='Jeunes inscrits (par action)'!M371 -> Accueil jeunes
A364: ='Jeunes inscrits (par action)'!A372 -> 0 | B364: ='Jeunes inscrits (par action)'!B372 -> 0 | C364: ='Jeunes inscrits (par action)'!C372 -> 0 | D364: ='Jeunes inscrits (par action)'!D372 -> 0 | E364: ='Jeunes inscrits (par action)'!E372 -> 0 | F364: ='Jeunes inscrits (par action)'!F372 -> 119 | G364: ='Jeunes inscrits (par action)'!G372 -> 0 | H364: ='Jeunes inscrits (par action)'!H372 -> 0 | ... M364: ='Jeunes inscrits (par action)'!M372 -> Accueil jeunes
A365: ='Jeunes inscrits (par action)'!A373 -> 0 | B365: ='Jeunes inscrits (par action)'!B373 -> 0 | C365: ='Jeunes inscrits (par action)'!C373 -> 0 | D365: ='Jeunes inscrits (par action)'!D373 -> 0 | E365: ='Jeunes inscrits (par action)'!E373 -> 0 | F365: ='Jeunes inscrits (par action)'!F373 -> 119 | G365: ='Jeunes inscrits (par action)'!G373 -> 0 | H365: ='Jeunes inscrits (par action)'!H373 -> 0 | ... M365: ='Jeunes inscrits (par action)'!M373 -> Accueil jeunes
A366: ='Jeunes inscrits (par action)'!A374 -> 0 | B366: ='Jeunes inscrits (par action)'!B374 -> 0 | C366: ='Jeunes inscrits (par action)'!C374 -> 0 | D366: ='Jeunes inscrits (par action)'!D374 -> 0 | E366: ='Jeunes inscrits (par action)'!E374 -> 0 | F366: ='Jeunes inscrits (par action)'!F374 -> 119 | G366: ='Jeunes inscrits (par action)'!G374 -> 0 | H366: ='Jeunes inscrits (par action)'!H374 -> 0 | ... M366: ='Jeunes inscrits (par action)'!M374 -> Accueil jeunes
A367: ='Jeunes inscrits (par action)'!A375 -> 0 | B367: ='Jeunes inscrits (par action)'!B375 -> 0 | C367: ='Jeunes inscrits (par action)'!C375 -> 0 | D367: ='Jeunes inscrits (par action)'!D375 -> 0 | E367: ='Jeunes inscrits (par action)'!E375 -> 0 | F367: ='Jeunes inscrits (par action)'!F375 -> 119 | G367: ='Jeunes inscrits (par action)'!G375 -> 0 | H367: ='Jeunes inscrits (par action)'!H375 -> 0 | ... M367: ='Jeunes inscrits (par action)'!M375 -> Accueil jeunes
A368: ='Jeunes inscrits (par action)'!A376 -> 0 | B368: ='Jeunes inscrits (par action)'!B376 -> 0 | C368: ='Jeunes inscrits (par action)'!C376 -> 0 | D368: ='Jeunes inscrits (par action)'!D376 -> 0 | E368: ='Jeunes inscrits (par action)'!E376 -> 0 | F368: ='Jeunes inscrits (par action)'!F376 -> 119 | G368: ='Jeunes inscrits (par action)'!G376 -> 0 | H368: ='Jeunes inscrits (par action)'!H376 -> 0 | ... M368: ='Jeunes inscrits (par action)'!M376 -> Accueil jeunes
A369: ='Jeunes inscrits (par action)'!A377 -> 0 | B369: ='Jeunes inscrits (par action)'!B377 -> 0 | C369: ='Jeunes inscrits (par action)'!C377 -> 0 | D369: ='Jeunes inscrits (par action)'!D377 -> 0 | E369: ='Jeunes inscrits (par action)'!E377 -> 0 | F369: ='Jeunes inscrits (par action)'!F377 -> 119 | G369: ='Jeunes inscrits (par action)'!G377 -> 0 | H369: ='Jeunes inscrits (par action)'!H377 -> 0 | ... M369: ='Jeunes inscrits (par action)'!M377 -> Accueil jeunes
A370: ='Jeunes inscrits (par action)'!A378 -> 0 | B370: ='Jeunes inscrits (par action)'!B378 -> 0 | C370: ='Jeunes inscrits (par action)'!C378 -> 0 | D370: ='Jeunes inscrits (par action)'!D378 -> 0 | E370: ='Jeunes inscrits (par action)'!E378 -> 0 | F370: ='Jeunes inscrits (par action)'!F378 -> 119 | G370: ='Jeunes inscrits (par action)'!G378 -> 0 | H370: ='Jeunes inscrits (par action)'!H378 -> 0 | ... M370: ='Jeunes inscrits (par action)'!M378 -> Accueil jeunes
A371: ='Jeunes inscrits (par action)'!A379 -> 0 | B371: ='Jeunes inscrits (par action)'!B379 -> 0 | C371: ='Jeunes inscrits (par action)'!C379 -> 0 | D371: ='Jeunes inscrits (par action)'!D379 -> 0 | E371: ='Jeunes inscrits (par action)'!E379 -> 0 | F371: ='Jeunes inscrits (par action)'!F379 -> 119 | G371: ='Jeunes inscrits (par action)'!G379 -> 0 | H371: ='Jeunes inscrits (par action)'!H379 -> 0 | ... M371: ='Jeunes inscrits (par action)'!M379 -> Accueil jeunes
A372: ='Jeunes inscrits (par action)'!A380 -> 0 | B372: ='Jeunes inscrits (par action)'!B380 -> 0 | C372: ='Jeunes inscrits (par action)'!C380 -> 0 | D372: ='Jeunes inscrits (par action)'!D380 -> 0 | E372: ='Jeunes inscrits (par action)'!E380 -> 0 | F372: ='Jeunes inscrits (par action)'!F380 -> 119 | G372: ='Jeunes inscrits (par action)'!G380 -> 0 | H372: ='Jeunes inscrits (par action)'!H380 -> 0 | ... M372: ='Jeunes inscrits (par action)'!M380 -> Accueil jeunes
... A720: ='Jeunes inscrits (par action)'!A728 -> 0 | B720: ='Jeunes inscrits (par action)'!B728 -> 0 | C720: ='Jeunes inscrits (par action)'!C728 -> 0 | D720: ='Jeunes inscrits (par action)'!D728 -> 0 | E720: ='Jeunes inscrits (par action)'!E728 -> 0 | F720: ='Jeunes inscrits (par action)'!F728 -> 119 | G720: ='Jeunes inscrits (par action)'!G728 -> 0 | H720: ='Jeunes inscrits (par action)'!H728 -> 0 | ... M720: ='Jeunes inscrits (par action)'!M728 -> Accueil jeunes
A721: ='Jeunes inscrits (par action)'!A731 -> 0 | B721: ='Jeunes inscrits (par action)'!B731 -> 0 | C721: ='Jeunes inscrits (par action)'!C731 -> 0 | D721: ='Jeunes inscrits (par action)'!D731 -> 0 | E721: ='Jeunes inscrits (par action)'!E731 -> 0 | F721: ='Jeunes inscrits (par action)'!F731 -> 119 | G721: ='Jeunes inscrits (par action)'!G731 -> 0 | H721: ='Jeunes inscrits (par action)'!H731 -> 0 | ... M721: ='Jeunes inscrits (par action)'!M731 -> Projets
A722: ='Jeunes inscrits (par action)'!A732 -> 0 | B722: ='Jeunes inscrits (par action)'!B732 -> 0 | C722: ='Jeunes inscrits (par action)'!C732 -> 0 | D722: ='Jeunes inscrits (par action)'!D732 -> 0 | E722: ='Jeunes inscrits (par action)'!E732 -> 0 | F722: ='Jeunes inscrits (par action)'!F732 -> 119 | G722: ='Jeunes inscrits (par action)'!G732 -> 0 | H722: ='Jeunes inscrits (par action)'!H732 -> 0 | ... M722: ='Jeunes inscrits (par action)'!M732 -> Projets
A723: ='Jeunes inscrits (par action)'!A733 -> 0 | B723: ='Jeunes inscrits (par action)'!B733 -> 0 | C723: ='Jeunes inscrits (par action)'!C733 -> 0 | D723: ='Jeunes inscrits (par action)'!D733 -> 0 | E723: ='Jeunes inscrits (par action)'!E733 -> 0 | F723: ='Jeunes inscrits (par action)'!F733 -> 119 | G723: ='Jeunes inscrits (par action)'!G733 -> 0 | H723: ='Jeunes inscrits (par action)'!H733 -> 0 | ... M723: ='Jeunes inscrits (par action)'!M733 -> Projets
A724: ='Jeunes inscrits (par action)'!A734 -> 0 | B724: ='Jeunes inscrits (par action)'!B734 -> 0 | C724: ='Jeunes inscrits (par action)'!C734 -> 0 | D724: ='Jeunes inscrits (par action)'!D734 -> 0 | E724: ='Jeunes inscrits (par action)'!E734 -> 0 | F724: ='Jeunes inscrits (par action)'!F734 -> 119 | G724: ='Jeunes inscrits (par action)'!G734 -> 0 | H724: ='Jeunes inscrits (par action)'!H734 -> 0 | ... M724: ='Jeunes inscrits (par action)'!M734 -> Projets
A725: ='Jeunes inscrits (par action)'!A735 -> 0 | B725: ='Jeunes inscrits (par action)'!B735 -> 0 | C725: ='Jeunes inscrits (par action)'!C735 -> 0 | D725: ='Jeunes inscrits (par action)'!D735 -> 0 | E725: ='Jeunes inscrits (par action)'!E735 -> 0 | F725: ='Jeunes inscrits (par action)'!F735 -> 119 | G725: ='Jeunes inscrits (par action)'!G735 -> 0 | H725: ='Jeunes inscrits (par action)'!H735 -> 0 | ... M725: ='Jeunes inscrits (par action)'!M735 -> Projets
A726: ='Jeunes inscrits (par action)'!A736 -> 0 | B726: ='Jeunes inscrits (par action)'!B736 -> 0 | C726: ='Jeunes inscrits (par action)'!C736 -> 0 | D726: ='Jeunes inscrits (par action)'!D736 -> 0 | E726: ='Jeunes inscrits (par action)'!E736 -> 0 | F726: ='Jeunes inscrits (par action)'!F736 -> 119 | G726: ='Jeunes inscrits (par action)'!G736 -> 0 | H726: ='Jeunes inscrits (par action)'!H736 -> 0 | ... M726: ='Jeunes inscrits (par action)'!M736 -> Projets
A727: ='Jeunes inscrits (par action)'!A737 -> 0 | B727: ='Jeunes inscrits (par action)'!B737 -> 0 | C727: ='Jeunes inscrits (par action)'!C737 -> 0 | D727: ='Jeunes inscrits (par action)'!D737 -> 0 | E727: ='Jeunes inscrits (par action)'!E737 -> 0 | F727: ='Jeunes inscrits (par action)'!F737 -> 119 | G727: ='Jeunes inscrits (par action)'!G737 -> 0 | H727: ='Jeunes inscrits (par action)'!H737 -> 0 | ... M727: ='Jeunes inscrits (par action)'!M737 -> Projets
A728: ='Jeunes inscrits (par action)'!A738 -> 0 | B728: ='Jeunes inscrits (par action)'!B738 -> 0 | C728: ='Jeunes inscrits (par action)'!C738 -> 0 | D728: ='Jeunes inscrits (par action)'!D738 -> 0 | E728: ='Jeunes inscrits (par action)'!E738 -> 0 | F728: ='Jeunes inscrits (par action)'!F738 -> 119 | G728: ='Jeunes inscrits (par action)'!G738 -> 0 | H728: ='Jeunes inscrits (par action)'!H738 -> 0 | ... M728: ='Jeunes inscrits (par action)'!M738 -> Projets
A729: ='Jeunes inscrits (par action)'!A739 -> 0 | B729: ='Jeunes inscrits (par action)'!B739 -> 0 | C729: ='Jeunes inscrits (par action)'!C739 -> 0 | D729: ='Jeunes inscrits (par action)'!D739 -> 0 | E729: ='Jeunes inscrits (par action)'!E739 -> 0 | F729: ='Jeunes inscrits (par action)'!F739 -> 119 | G729: ='Jeunes inscrits (par action)'!G739 -> 0 | H729: ='Jeunes inscrits (par action)'!H739 -> 0 | ... M729: ='Jeunes inscrits (par action)'!M739 -> Projets
A730: ='Jeunes inscrits (par action)'!A740 -> 0 | B730: ='Jeunes inscrits (par action)'!B740 -> 0 | C730: ='Jeunes inscrits (par action)'!C740 -> 0 | D730: ='Jeunes inscrits (par action)'!D740 -> 0 | E730: ='Jeunes inscrits (par action)'!E740 -> 0 | F730: ='Jeunes inscrits (par action)'!F740 -> 119 | G730: ='Jeunes inscrits (par action)'!G740 -> 0 | H730: ='Jeunes inscrits (par action)'!H740 -> 0 | ... M730: ='Jeunes inscrits (par action)'!M740 -> Projets
A731: ='Jeunes inscrits (par action)'!A741 -> 0 | B731: ='Jeunes inscrits (par action)'!B741 -> 0 | C731: ='Jeunes inscrits (par action)'!C741 -> 0 | D731: ='Jeunes inscrits (par action)'!D741 -> 0 | E731: ='Jeunes inscrits (par action)'!E741 -> 0 | F731: ='Jeunes inscrits (par action)'!F741 -> 119 | G731: ='Jeunes inscrits (par action)'!G741 -> 0 | H731: ='Jeunes inscrits (par action)'!H741 -> 0 | ... M731: ='Jeunes inscrits (par action)'!M741 -> Projets
A732: ='Jeunes inscrits (par action)'!A742 -> 0 | B732: ='Jeunes inscrits (par action)'!B742 -> 0 | C732: ='Jeunes inscrits (par action)'!C742 -> 0 | D732: ='Jeunes inscrits (par action)'!D742 -> 0 | E732: ='Jeunes inscrits (par action)'!E742 -> 0 | F732: ='Jeunes inscrits (par action)'!F742 -> 119 | G732: ='Jeunes inscrits (par action)'!G742 -> 0 | H732: ='Jeunes inscrits (par action)'!H742 -> 0 | ... M732: ='Jeunes inscrits (par action)'!M742 -> Projets
... A770: ='Jeunes inscrits (par action)'!A780 -> 0 | B770: ='Jeunes inscrits (par action)'!B780 -> 0 | C770: ='Jeunes inscrits (par action)'!C780 -> 0 | D770: ='Jeunes inscrits (par action)'!D780 -> 0 | E770: ='Jeunes inscrits (par action)'!E780 -> 0 | F770: ='Jeunes inscrits (par action)'!F780 -> 119 | G770: ='Jeunes inscrits (par action)'!G780 -> 0 | H770: ='Jeunes inscrits (par action)'!H780 -> 0 | ... M770: ='Jeunes inscrits (par action)'!M780 -> Projets

Sheet Partenaires
A1: Aujourd'hui : | B1: =TODAY() -> 43725

Sheet Paramètres
A1: Aujourd'hui : | B1: =TODAY() -> 43725
A4: Accueil jeunes
A5: Accueil de loisirs
A6: Projets
A7: Lycée pro
A8: Collège | C8: Thierry
C9: Titouan
C10: Les deux
A12: Janvier
A13: Février
A14: Mars | C14: CCJ
A15: Avril | C15: Camp ski
A16: Mai | C16: Groupe de parole
A17: Juin | C17: Estime de soi
A18: Juillet | C18: Ruches
A19: Août | C19: Caisse à savon
A20: Septembre | C20: Minecraft
A21: Octobre | C21: Manga
A22: Novembre
A23: Décembre
A25: 2018
A26: 2019
A27: 2020
A28: 2021
A29: 2022
A31: Féminin
A32: Masculin
