Workbook

Sheet Feuil1
A1: longueur | B1: 157 | C1: Longueur à Saisir
A2: Bouts de 84 pouces | B2: =SUM(Feuil2!A3:A557) -> 1
A3: Bouts de 14 pouces | B3: =ROUNDDOWN(SUM(Feuil2!E3:E557),0) -> 5
A4: Longueur restante | B4: =B1-B3*14-B2*84 -> 3

Sheet Feuil2
A3: =IF(SUM(D3:D4)=1,B3,"") -> 1 | B3: 1 | C3: =Feuil1!$B$1-B3*84 -> 73 | D3: =IF(C3<0,1,"") | E3: =IF(SUM(D3:D4)=1,C3/14,"") -> 5.2142857
A4: =IF(SUM(D4:D5)=1,B4,"") | B4: 2 | C4: =Feuil1!$B$1-B4*84 -> -11 | D4: =IF(C4<0,1,"") -> 1 | E4: =IF(SUM(D4:D5)=1,C4/14,"")
A5: =IF(SUM(D5:D6)=1,B5,"") | B5: 3 | C5: =Feuil1!$B$1-B5*84 -> -95 | D5: =IF(C5<0,1,"") -> 1 | E5: =IF(SUM(D5:D6)=1,C5/14,"")
A6: =IF(SUM(D6:D7)=1,B6,"") | B6: 4 | C6: =Feuil1!$B$1-B6*84 -> -179 | D6: =IF(C6<0,1,"") -> 1 | E6: =IF(SUM(D6:D7)=1,C6/14,"")
A7: =IF(SUM(D7:D8)=1,B7,"") | B7: 5 | C7: =Feuil1!$B$1-B7*84 -> -263 | D7: =IF(C7<0,1,"") -> 1 | E7: =IF(SUM(D7:D8)=1,C7/14,"")
A8: =IF(SUM(D8:D9)=1,B8,"") | B8: 6 | C8: =Feuil1!$B$1-B8*84 -> -347 | D8: =IF(C8<0,1,"") -> 1 | E8: =IF(SUM(D8:D9)=1,C8/14,"")
A9: =IF(SUM(D9:D10)=1,B9,"") | B9: 7 | C9: =Feuil1!$B$1-B9*84 -> -431 | D9: =IF(C9<0,1,"") -> 1 | E9: =IF(SUM(D9:D10)=1,C9/14,"")
A10: =IF(SUM(D10:D11)=1,B10,"") | B10: 8 | C10: =Feuil1!$B$1-B10*84 -> -515 | D10: =IF(C10<0,1,"") -> 1 | E10: =IF(SUM(D10:D11)=1,C10/14,"")
A11: =IF(SUM(D11:D12)=1,B11,"") | B11: 9 | C11: =Feuil1!$B$1-B11*84 -> -599 | D11: =IF(C11<0,1,"") -> 1 | E11: =IF(SUM(D11:D12)=1,C11/14,"")
A12: =IF(SUM(D12:D13)=1,B12,"") | B12: 10 | C12: =Feuil1!$B$1-B12*84 -> -683 | D12: =IF(C12<0,1,"") -> 1 | E12: =IF(SUM(D12:D13)=1,C12/14,"")
A13: =IF(SUM(D13:D14)=1,B13,"") | B13: 11 | C13: =Feuil1!$B$1-B13*84 -> -767 | D13: =IF(C13<0,1,"") -> 1 | E13: =IF(SUM(D13:D14)=1,C13/14,"")
A14: =IF(SUM(D14:D15)=1,B14,"") | B14: 12 | C14: =Feuil1!$B$1-B14*84 -> -851 | D14: =IF(C14<0,1,"") -> 1 | E14: =IF(SUM(D14:D15)=1,C14/14,"")
... A558: =IF(SUM(D558:D559)=1,B558,"") -> 556 | B558: 556 | C558: =Feuil1!$B$1-B558*84 -> -46547 | D558: =IF(C558<0,1,"") -> 1 | E558: =IF(SUM(D558:D559)=1,C558/14,"") -> -3324.7857

Sheet Feuil3
