Workbook

Sheet contrats
A1: Contrats à faire pour le
A2: Tableau donné le par Florent MAYOLET
A3: Spectacle | B3: NOM - Prénom | D3: Emploi | E3: Rôle éventuel | F3: Date de début de contrat | G3: Date de fin de contrat | H3: Jours travaillés | I3: Salaire brut (€) | J3: Unit sal. *
A4: ='feuille de présence'!$A$3 -> 0 | B4: ='feuille de présence'!$S$5 -> bruno FERU | D4: =IF('feuille de présence'!S4="mc","machiniste cintrier",IF('feuille de présence'!S4="e","électricien",IF('feuille de présence'!S4="m","machiniste",IF('feuille de présence'!S4="ac","machiniste accessoiriste",IF('feuille de présence'!S4="s","technicien son","0"))))) -> 0 | I4: 11 | J4: H
B5: ='feuille de présence'!$U$5 -> Sébastien Carlier | D5: =IF('feuille de présence'!U4="mc","machiniste cintrier",IF('feuille de présence'!U4="e","électricien",IF('feuille de présence'!U4="m","machiniste",IF('feuille de présence'!U4="ac","machiniste accessoiriste",IF('feuille de présence'!U4="s","technicien son","0"))))) -> 0 | I5: 11 | J5: H
B6: ='feuille de présence'!$W$5 -> Pat Méresse | D6: =IF('feuille de présence'!Y4="mc","machiniste cintrier",IF('feuille de présence'!Y4="e","électricien",IF('feuille de présence'!Y4="m","machiniste",IF('feuille de présence'!Y4="ac","machiniste accessoiriste",IF('feuille de présence'!Y4="s","technicien son","0"))))) -> 0 | I6: 11 | J6: H
B7: ='feuille de présence'!$Y$5 -> 0 | D7: =IF('feuille de présence'!AA4="mc","machiniste cintrier",IF('feuille de présence'!AA4="e","électricien",IF('feuille de présence'!AA4="m","machiniste",IF('feuille de présence'!AA4="ac","machiniste accessoiriste",IF('feuille de présence'!AA4="s","technicien son","0"))))) -> 0 | I7: 11 | J7: H
B8: ='feuille de présence'!$AA$5 -> 0 | D8: =IF('feuille de présence'!AC4="mc","machiniste cintrier",IF('feuille de présence'!AC4="e","électricien",IF('feuille de présence'!AC4="m","machiniste",IF('feuille de présence'!AC4="ac","machiniste accessoiriste",IF('feuille de présence'!AC4="s","technicien son","0"))))) -> 0 | I8: 11 | J8: H
B9: ='feuille de présence'!$AC$5 -> - | D9: =IF('feuille de présence'!S9="mc","machiniste cintrier",IF('feuille de présence'!S9="e","électricien",IF('feuille de présence'!S9="m","machiniste",IF('feuille de présence'!S9="ac","machiniste accessoiriste",IF('feuille de présence'!S9="s","technicien son","0"))))) -> 0 | I9: 11 | J9: H
B10: ='feuille de présence'!$AE$5 -> - | D10: =IF('feuille de présence'!S10="mc","machiniste cintrier",IF('feuille de présence'!S10="e","électricien",IF('feuille de présence'!S10="m","machiniste",IF('feuille de présence'!S10="ac","machiniste accessoiriste",IF('feuille de présence'!S10="s","technicien son","0"))))) -> 0 | I10: 11 | J10: H
B11: ='feuille de présence'!$AG$5 -> - | D11: =IF('feuille de présence'!S11="mc","machiniste cintrier",IF('feuille de présence'!S11="e","électricien",IF('feuille de présence'!S11="m","machiniste",IF('feuille de présence'!S11="ac","machiniste accessoiriste",IF('feuille de présence'!S11="s","technicien son","0"))))) -> 0 | I11: 11 | J11: H
B12: ='feuille de présence'!$AI$5 -> - | D12: =IF('feuille de présence'!S12="mc","machiniste cintrier",IF('feuille de présence'!S12="e","électricien",IF('feuille de présence'!S12="m","machiniste",IF('feuille de présence'!S12="ac","machiniste accessoiriste",IF('feuille de présence'!S12="s","technicien son","0"))))) -> 0 | I12: 11 | J12: H
B13: ='feuille de présence'!$AK$5 -> - | D13: =IF('feuille de présence'!S13="mc","machiniste cintrier",IF('feuille de présence'!S13="e","électricien",IF('feuille de présence'!S13="m","machiniste",IF('feuille de présence'!S13="ac","machiniste accessoiriste",IF('feuille de présence'!S13="s","technicien son","0"))))) -> 0 | I13: 11 | J13: H
B14: ='feuille de présence'!$AM$5 -> - | D14: =IF('feuille de présence'!S14="mc","machiniste cintrier",IF('feuille de présence'!S14="e","électricien",IF('feuille de présence'!S14="m","machiniste",IF('feuille de présence'!S14="ac","machiniste accessoiriste",IF('feuille de présence'!S14="s","technicien son","0"))))) -> 0 | I14: 11 | J14: H
B15: ='feuille de présence'!$AO$5 -> - | D15: =IF('feuille de présence'!S15="mc","machiniste cintrier",IF('feuille de présence'!S15="e","électricien",IF('feuille de présence'!S15="m","machiniste",IF('feuille de présence'!S15="ac","machiniste accessoiriste",IF('feuille de présence'!S15="s","technicien son","0"))))) -> 0 | I15: 11 | J15: H

Sheet feuille de présence
A1: Présence des techniciens semaine n° /
A2: du au septembre
A5: date | C5: service | D5: Type de service | E5: Bruno | G5: Jean-Luc | I5: Eric G | K5: Eric D | M5: Philippe | O5: Florent | Q5: Sébastien | S5: bruno FERU | U5: Sébastien Carlier | W5: Pat Méresse | AC5: - | AE5: - | AG5: - | AI5: - | AK5: - | AM5: - | AO5: -
C7: m | E7: =Bruno!$B$9 -> 0 | F7: =Bruno!$C$9 -> 0 | G7: =JLuc!$B$9 -> 0 | H7: =JLuc!$C$9 -> 0 | I7: ='Eric G'!$B$9 -> 0 | J7: ='Eric G'!$C$9 -> 0 | K7: ='Eric D'!$B$9 -> 0 | L7: ='Eric D'!$C$9 -> 0 | M7: =Philippe!$B$9 -> 0 | N7: =Philippe!$C$9 -> 0 | O7: =Florent!$B$9 -> 0 | P7: =Florent!$C$9 -> 0 | Q7: =Seb!$B$9 -> 0 | R7: =Seb!$C$9 -> 0 | S7: ='inter 1'!$B$8 -> 0 | T7: ='inter 1'!$C$8 -> 0 | U7: ='inter 2'!$B$8 -> 0 | V7: ='inter 2'!$C$8 -> 0 | W7: ='inter 3'!$B$8 -> 0 | X7: ='inter 3'!$C$8 -> 0 | Y7: ='inter 4'!$B$8 -> 0 | Z7: ='inter 4'!$C$8 -> 0 | AA7: ='inter 5'!$B$8 -> 0 | AB7: ='inter 5'!$C$8 -> 0 | AC7: ='inter 6'!$B$8 -> 0 | AD7: ='inter 6'!$C$8 -> 0 | AE7: ='inter 7'!$B$8 -> 0 | AF7: ='inter 7'!$C$8 -> 0 | AG7: ='inter 8'!$B$8 -> 0 | AH7: ='inter 8'!$C$8 -> 0 | AI7: ='inter 9'!$B$8 -> 0 | AJ7: ='inter 9'!$C$8 -> 0 | AK7: ='inter 10'!$B$8 -> 0 | AL7: ='inter 10'!$C$8 -> 0 | AM7: ='inter 11'!$B$8 -> 0 | AN7: ='inter 11'!$C$8 -> 0 | AO7: ='inter 12'!$B$8 -> 0 | AP7: ='inter 12'!$C$8 -> 0
C8: am | E8: =Bruno!$E$9 -> 0 | F8: =Bruno!$F$9 -> 0 | G8: =JLuc!$E$9 -> 0 | H8: =JLuc!$F$9 -> 0 | I8: ='Eric G'!$E$9 -> 0 | J8: ='Eric G'!$F$9 -> 0 | K8: ='Eric D'!$E$9 -> 0 | L8: ='Eric D'!$F$9 -> 0 | M8: =Philippe!$E$9 -> 0 | N8: =Philippe!$F$9 -> 0 | O8: =Florent!$E$9 -> 0 | P8: =Florent!$F$9 -> 0 | Q8: =Seb!$E$9 -> 0 | R8: =Seb!$F$9 -> 0 | S8: ='inter 1'!$E$8 -> 0 | T8: ='inter 1'!$F$8 -> 0 | U8: ='inter 2'!$E$8 -> 0 | V8: ='inter 2'!$F$8 -> 0 | W8: ='inter 3'!$E$8 -> 0 | X8: ='inter 3'!$F$8 -> 0 | Y8: ='inter 4'!$E$8 -> 0 | Z8: ='inter 4'!$F$8 -> 0 | AA8: ='inter 5'!$E$8 -> 0 | AB8: ='inter 5'!$F$8 -> 0 | AC8: ='inter 6'!$E$8 -> 0 | AD8: ='inter 6'!$F$8 -> 0 | AE8: ='inter 7'!$E$8 -> 0 | AF8: ='inter 7'!$F$8 -> 0 | AG8: ='inter 8'!$E$8 -> 0 | AH8: ='inter 8'!$F$8 -> 0 | AI8: ='inter 9'!$E$8 -> 0 | AJ8: ='inter 9'!$F$8 -> 0 | AK8: ='inter 10'!$E$8 -> 0 | AL8: ='inter 10'!$F$8 -> 0 | AM8: ='inter 11'!$E$8 -> 0 | AN8: ='inter 11'!$F$8 -> 0 | AO8: ='inter 12'!$E$8 -> 0 | AP8: ='inter 12'!$F$8 -> 0
C9: s | E9: =Bruno!$H$9 -> 0 | F9: =Bruno!$I$9 -> 0 | G9: =JLuc!$H$9 -> 0 | H9: =JLuc!$I$9 -> 0 | I9: ='Eric G'!$H$9 -> 0 | J9: ='Eric G'!$I$9 -> 0 | K9: ='Eric D'!$H$9 -> 0 | L9: ='Eric D'!$I$9 -> 0 | M9: =Philippe!$H$9 -> 0 | N9: =Philippe!$I$9 -> 0 | O9: =Florent!$H$9 -> 0 | P9: =Florent!$I$9 -> 0 | Q9: =Seb!$H$9 -> 0 | R9: =Seb!$I$9 -> 0 | S9: ='inter 1'!$H$8 -> 0 | T9: ='inter 1'!$I$8 -> 0 | U9: ='inter 2'!$H$8 -> 0 | V9: ='inter 2'!$I$8 -> 0 | W9: ='inter 3'!$H$8 -> 0 | X9: ='inter 3'!$I$8 -> 0 | Y9: ='inter 4'!$H$8 -> 0 | Z9: ='inter 4'!$I$8 -> 0 | AA9: ='inter 5'!$H$8 -> 0 | AB9: ='inter 5'!$I$8 -> 0 | AC9: ='inter 6'!$H$8 -> 0 | AD9: ='inter 6'!$I$8 -> 0 | AE9: ='inter 7'!$H$8 -> 0 | AF9: ='inter 7'!$I$8 -> 0 | AG9: ='inter 8'!$H$8 -> 0 | AH9: ='inter 8'!$I$8 -> 0 | AI9: ='inter 9'!$H$8 -> 0 | AJ9: ='inter 9'!$I$8 -> 0 | AK9: ='inter 10'!$H$8 -> 0 | AL9: ='inter 10'!$I$8 -> 0 | AM9: ='inter 11'!$H$8 -> 0 | AN9: ='inter 11'!$I$8 -> 0 | AO9: ='inter 12'!$H$8 -> 0 | AP9: ='inter 12'!$I$8 -> 0
C10: m | E10: =Bruno!$B$11 -> 0 | F10: =Bruno!$C$11 -> 0 | G10: =JLuc!$B$11 -> 0 | H10: =JLuc!$C$11 -> 0 | I10: ='Eric G'!$B$11 -> 0 | J10: ='Eric G'!$C$11 -> 0 | K10: ='Eric D'!$B$11 -> 0 | L10: ='Eric D'!$C$11 -> 0 | M10: =Philippe!$B$11 -> 0 | N10: =Philippe!$C$11 -> 0 | O10: =Florent!$B$11 -> 0 | P10: =Florent!$C$11 -> 0 | Q10: =Seb!$B$11 -> 0 | R10: =Seb!$C$11 -> 0 | S10: ='inter 1'!$B$9 -> 0 | T10: ='inter 1'!$C$9 -> 0 | U10: ='inter 2'!$B$9 -> 0 | V10: ='inter 2'!$C$9 -> 0 | W10: ='inter 3'!$B$9 -> 0 | X10: ='inter 3'!$C$9 -> 0 | Y10: ='inter 4'!$B$9 -> 0 | Z10: ='inter 4'!$C$9 -> 0 | AA10: ='inter 5'!$B$9 -> 0 | AB10: ='inter 5'!$C$9 -> 0 | AC10: ='inter 6'!$B$9 -> 0 | AD10: ='inter 6'!$C$9 -> 0 | AE10: ='inter 7'!$B$9 -> 0 | AF10: ='inter 7'!$C$9 -> 0 | AG10: ='inter 8'!$B$9 -> 0 | AH10: ='inter 8'!$C$9 -> 0 | AI10: ='inter 9'!$B$9 -> 0 | AJ10: ='inter 9'!$C$9 -> 0 | AK10: ='inter 10'!$B$9 -> 0 | AL10: ='inter 10'!$C$9 -> 0 | AM10: ='inter 11'!$B$9 -> 0 | AN10: ='inter 11'!$C$9 -> 0 | AO10: ='inter 12'!$B$9 -> 0 | AP10: ='inter 12'!$C$9 -> 0
C11: am | E11: =Bruno!$E$11 -> 0 | F11: =Bruno!$F$11 -> 0 | G11: =JLuc!$E$11 -> 0 | H11: =JLuc!$F$11 -> 0 | I11: ='Eric G'!$E$11 -> 0 | J11: ='Eric G'!$F$11 -> 0 | K11: ='Eric D'!$E$11 -> 0 | L11: ='Eric D'!$F$11 -> 0 | M11: =Philippe!$E$11 -> 0 | N11: =Philippe!$F$11 -> 0 | O11: =Florent!$E$11 -> 0 | P11: =Florent!$F$11 -> 0 | Q11: =Seb!$E$11 -> 0 | R11: =Seb!$F$11 -> 0 | S11: ='inter 1'!$E$9 -> 0 | T11: ='inter 1'!$F$9 -> 0 | U11: ='inter 2'!$E$9 -> 0 | V11: ='inter 2'!$F$9 -> 0 | W11: ='inter 3'!$E$9 -> 0 | X11: ='inter 3'!$F$9 -> 0 | Y11: ='inter 4'!$E$9 -> 0 | Z11: ='inter 4'!$F$9 -> 0 | AA11: ='inter 5'!$E$9 -> 0 | AB11: ='inter 5'!$F$9 -> 0 | AC11: ='inter 6'!$E$9 -> 0 | AD11: ='inter 6'!$F$9 -> 0 | AE11: ='inter 7'!$E$9 -> 0 | AF11: ='inter 7'!$F$9 -> 0 | AG11: ='inter 8'!$E$9 -> 0 | AH11: ='inter 8'!$F$9 -> 0 | AI11: ='inter 9'!$E$9 -> 0 | AJ11: ='inter 9'!$F$9 -> 0 | AK11: ='inter 10'!$E$9 -> 0 | AL11: ='inter 10'!$F$9 -> 0 | AM11: ='inter 11'!$E$9 -> 0 | AN11: ='inter 11'!$F$9 -> 0 | AO11: ='inter 12'!$E$9 -> 0 | AP11: ='inter 12'!$F$9 -> 0
C12: s | E12: =Bruno!$H$11 -> 0 | F12: =Bruno!$I$11 -> 0 | G12: =JLuc!$H$11 -> 0 | H12: =JLuc!$I$11 -> 0 | I12: ='Eric G'!$H$11 -> 0 | J12: ='Eric G'!$I$11 -> 0 | K12: ='Eric D'!$H$11 -> 0 | L12: ='Eric D'!$I$11 -> 0 | M12: =Philippe!$H$11 -> 0 | N12: =Philippe!$I$11 -> 0 | O12: =Florent!$H$11 -> 0 | P12: =Florent!$I$11 -> 0 | Q12: =Seb!$H$11 -> 0 | R12: =Seb!$I$11 -> 0 | S12: ='inter 1'!$H$9 -> 0 | T12: ='inter 1'!$I$9 -> 0 | U12: ='inter 2'!$H$9 -> 0 | V12: ='inter 2'!$I$9 -> 0 | W12: ='inter 3'!$H$9 -> 0 | X12: ='inter 3'!$I$9 -> 0 | Y12: ='inter 4'!$H$9 -> 0 | Z12: ='inter 4'!$I$9 -> 0 | AA12: ='inter 5'!$H$9 -> 0 | AB12: ='inter 5'!$I$9 -> 0 | AC12: ='inter 6'!$H$9 -> 0 | AD12: ='inter 6'!$I$9 -> 0 | AE12: ='inter 7'!$H$9 -> 0 | AF12: ='inter 7'!$I$9 -> 0 | AG12: ='inter 8'!$H$9 -> 0 | AH12: ='inter 8'!$I$9 -> 0 | AI12: ='inter 9'!$H$9 -> 0 | AJ12: ='inter 9'!$I$9 -> 0 | AK12: ='inter 10'!$H$9 -> 0 | AL12: ='inter 10'!$I$9 -> 0 | AM12: ='inter 11'!$H$9 -> 0 | AN12: ='inter 11'!$I$9 -> 0 | AO12: ='inter 12'!$H$9 -> 0 | AP12: ='inter 12'!$I$9 -> 0
C13: m | E13: =Bruno!$B$13 -> 0 | F13: =Bruno!$C$13 -> 0 | G13: =JLuc!$B$13 -> 0 | H13: =JLuc!$C$13 -> 0 | I13: ='Eric G'!$B$13 -> 0 | J13: ='Eric G'!$C$13 -> 0 | K13: ='Eric D'!$B$13 -> 0 | L13: ='Eric D'!$C$13 -> 0 | M13: =Philippe!$B$13 -> 0 | N13: =Philippe!$C$13 -> 0 | O13: =Florent!$B$13 -> 0 | P13: =Florent!$C$13 -> 0 | Q13: =Seb!$B$13 -> 0 | R13: =Seb!$C$13 -> 0 | S13: ='inter 1'!$B$10 -> 0 | T13: ='inter 1'!$C$10 -> 0 | U13: ='inter 2'!$B$10 -> 0 | V13: ='inter 2'!$C$10 -> 0 | W13: ='inter 3'!$B$10 -> 0 | X13: ='inter 3'!$C$10 -> 0 | Y13: ='inter 4'!$B$10 -> 0 | Z13: ='inter 4'!$C$10 -> 0 | AA13: ='inter 5'!$B$10 -> 0 | AB13: ='inter 5'!$C$10 -> 0 | AC13: ='inter 6'!$B$10 -> 0 | AD13: ='inter 6'!$C$10 -> 0 | AE13: ='inter 7'!$B$10 -> 0 | AF13: ='inter 7'!$C$10 -> 0 | AG13: ='inter 8'!$B$10 -> 0 | AH13: ='inter 8'!$C$10 -> 0 | AI13: ='inter 9'!$B$10 -> 0 | AJ13: ='inter 9'!$C$10 -> 0 | AK13: ='inter 10'!$B$10 -> 0 | AL13: ='inter 10'!$C$10 -> 0 | AM13: ='inter 11'!$B$10 -> 0 | AN13: ='inter 11'!$C$10 -> 0 | AO13: ='inter 12'!$B$10 -> 0 | AP13: ='inter 12'!$C$10 -> 0
C14: am | E14: =Bruno!$E$13 -> 0 | F14: =Bruno!$F$13 -> 0 | G14: =JLuc!$E$13 -> 0 | H14: =JLuc!$F$13 -> 0 | I14: ='Eric G'!$E$13 -> 0 | J14: ='Eric G'!$F$13 -> 0 | K14: ='Eric D'!$E$13 -> 0 | L14: ='Eric D'!$F$13 -> 0 | M14: =Philippe!$E$13 -> 0 | N14: =Philippe!$F$13 -> 0 | O14: =Florent!$E$13 -> 0 | P14: =Florent!$F$13 -> 0 | Q14: =Seb!$E$13 -> 0 | R14: =Seb!$F$13 -> 0 | S14: ='inter 1'!$E$10 -> 0 | T14: ='inter 1'!$F$10 -> 0 | U14: ='inter 2'!$E$10 -> 0 | V14: ='inter 2'!$F$10 -> 0 | W14: ='inter 3'!$E$10 -> 0 | X14: ='inter 3'!$F$10 -> 0 | Y14: ='inter 4'!$E$10 -> 0 | Z14: ='inter 4'!$F$10 -> 0 | AA14: ='inter 5'!$E$10 -> 0 | AB14: ='inter 5'!$F$10 -> 0 | AC14: ='inter 6'!$E$10 -> 0 | AD14: ='inter 6'!$F$10 -> 0 | AE14: ='inter 7'!$E$10 -> 0 | AF14: ='inter 7'!$F$10 -> 0 | AG14: ='inter 8'!$E$10 -> 0 | AH14: ='inter 8'!$F$10 -> 0 | AI14: ='inter 9'!$E$10 -> 0 | AJ14: ='inter 9'!$F$10 -> 0 | AK14: ='inter 10'!$E$10 -> 0 | AL14: ='inter 10'!$F$10 -> 0 | AM14: ='inter 11'!$E$10 -> 0 | AN14: ='inter 11'!$F$10 -> 0 | AO14: ='inter 12'!$E$10 -> 0 | AP14: ='inter 12'!$F$10 -> 0
C15: s | E15: =Bruno!$H$13 -> 0 | F15: =Bruno!$I$13 -> 0 | G15: =JLuc!$H$13 -> 0 | H15: =JLuc!$I$13 -> 0 | I15: ='Eric G'!$H$13 -> 0 | J15: ='Eric G'!$I$13 -> 0 | K15: ='Eric D'!$H$13 -> 0 | L15: ='Eric D'!$I$13 -> 0 | M15: =Philippe!$H$13 -> 0 | N15: =Philippe!$I$13 -> 0 | O15: =Florent!$H$13 -> 0 | P15: =Florent!$I$13 -> 0 | Q15: =Seb!$H$13 -> 0 | R15: =Seb!$I$13 -> 0 | S15: ='inter 1'!$H$10 -> 0 | T15: ='inter 1'!$I$10 -> 0 | U15: ='inter 2'!$H$10 -> 0 | V15: ='inter 2'!$I$10 -> 0 | W15: ='inter 3'!$H$10 -> 0 | X15: ='inter 3'!$I$10 -> 0 | Y15: ='inter 4'!$H$10 -> 0 | Z15: ='inter 4'!$I$10 -> 0 | AA15: ='inter 5'!$H$10 -> 0 | AB15: ='inter 5'!$I$10 -> 0 | AC15: ='inter 6'!$H$10 -> 0 | AD15: ='inter 6'!$I$10 -> 0 | AE15: ='inter 7'!$H$10 -> 0 | AF15: ='inter 7'!$I$10 -> 0 | AG15: ='inter 8'!$H$10 -> 0 | AH15: ='inter 8'!$I$10 -> 0 | AI15: ='inter 9'!$H$10 -> 0 | AJ15: ='inter 9'!$I$10 -> 0 | AK15: ='inter 10'!$H$10 -> 0 | AL15: ='inter 10'!$I$10 -> 0 | AM15: ='inter 11'!$H$10 -> 0 | AN15: ='inter 11'!$I$10 -> 0 | AO15: ='inter 12'!$H$10 -> 0 | AP15: ='inter 12'!$I$10 -> 0
C16: m | E16: =Bruno!$B$15 -> 0 | F16: =Bruno!$C$15 -> 0 | G16: =JLuc!$B$15 -> 0 | H16: =JLuc!$C$15 -> 0 | I16: ='Eric G'!$B$15 -> 0 | J16: ='Eric G'!$C$15 -> 0 | K16: ='Eric D'!$B$15 -> 0 | L16: ='Eric D'!$C$15 -> 0 | M16: =Philippe!$B$15 -> 0 | N16: =Philippe!$C$15 -> 0 | O16: =Florent!$B$15 -> 0 | P16: =Florent!$C$15 -> 0 | Q16: =Seb!$B$15 -> 0 | R16: =Seb!$C$15 -> 0 | S16: ='inter 1'!$B$11 -> 0 | T16: ='inter 1'!$C$11 -> 0 | U16: ='inter 2'!$B$11 -> 0 | V16: ='inter 2'!$C$11 -> 0 | W16: ='inter 3'!$B$11 -> 0 | X16: ='inter 3'!$C$11 -> 0 | Y16: ='inter 4'!$B$11 -> 0 | Z16: ='inter 4'!$C$11 -> 0 | AA16: ='inter 5'!$B$11 -> 0 | AB16: ='inter 5'!$C$11 -> 0 | AC16: ='inter 6'!$B$11 -> 0 | AD16: ='inter 6'!$C$11 -> 0 | AE16: ='inter 7'!$B$11 -> 0 | AF16: ='inter 7'!$C$11 -> 0 | AG16: ='inter 8'!$B$11 -> 0 | AH16: ='inter 8'!$C$11 -> 0 | AI16: ='inter 9'!$B$11 -> 0 | AJ16: ='inter 9'!$C$11 -> 0 | AK16: ='inter 10'!$B$11 -> 0 | AL16: ='inter 10'!$C$11 -> 0 | AM16: ='inter 11'!$B$11 -> 0 | AN16: ='inter 11'!$C$11 -> 0 | AO16: ='inter 12'!$B$11 -> 0 | AP16: ='inter 12'!$C$11 -> 0
C17: am | E17: =Bruno!$E$15 -> 0 | F17: =Bruno!$F$15 -> 0 | G17: =JLuc!$E$15 -> 0 | H17: =JLuc!$F$15 -> 0 | I17: ='Eric G'!$E$15 -> 0 | J17: ='Eric G'!$F$15 -> 0 | K17: ='Eric D'!$E$15 -> 0 | L17: ='Eric D'!$F$15 -> 0 | M17: =Philippe!$E$15 -> 0 | N17: =Philippe!$F$15 -> 0 | O17: =Florent!$E$15 -> 0 | P17: =Florent!$F$15 -> 0 | Q17: =Seb!$E$15 -> 0 | R17: =Seb!$F$15 -> 0 | S17: ='inter 1'!$E$11 -> 0 | T17: ='inter 1'!$F$11 -> 0 | U17: ='inter 2'!$E$11 -> 0 | V17: ='inter 2'!$F$11 -> 0 | W17: ='inter 3'!$E$11 -> 0 | X17: ='inter 3'!$F$11 -> 0 | Y17: ='inter 4'!$E$11 -> 0 | Z17: ='inter 4'!$F$11 -> 0 | AA17: ='inter 5'!$E$11 -> 0 | AB17: ='inter 5'!$F$11 -> 0 | AC17: ='inter 6'!$E$11 -> 0 | AD17: ='inter 6'!$F$11 -> 0 | AE17: ='inter 7'!$E$11 -> 0 | AF17: ='inter 7'!$F$11 -> 0 | AG17: ='inter 8'!$E$11 -> 0 | AH17: ='inter 8'!$F$11 -> 0 | AI17: ='inter 9'!$E$11 -> 0 | AJ17: ='inter 9'!$F$11 -> 0 | AK17: ='inter 10'!$E$11 -> 0 | AL17: ='inter 10'!$F$11 -> 0 | AM17: ='inter 11'!$E$11 -> 0 | AN17: ='inter 11'!$F$11 -> 0 | AO17: ='inter 12'!$E$11 -> 0 | AP17: ='inter 12'!$F$11 -> 0
C18: s | E18: =Bruno!$H$15 -> 0 | F18: =Bruno!$I$15 -> 0 | G18: =JLuc!$H$15 -> 0 | H18: =JLuc!$I$15 -> 0 | I18: ='Eric G'!$H$15 -> 0 | J18: ='Eric G'!$I$15 -> 0 | K18: ='Eric D'!$H$15 -> 0 | L18: ='Eric D'!$I$15 -> 0 | M18: =Philippe!$H$15 -> 0 | N18: =Philippe!$I$15 -> 0 | O18: =Florent!$H$15 -> 0 | P18: =Florent!$I$15 -> 0 | Q18: =Seb!$H$15 -> 0 | R18: =Seb!$I$15 -> 0 | S18: ='inter 1'!$H$11 -> 0 | T18: ='inter 1'!$I$11 -> 0 | U18: ='inter 2'!$H$11 -> 0 | V18: ='inter 2'!$I$11 -> 0 | W18: ='inter 3'!$H$11 -> 0 | X18: ='inter 3'!$I$11 -> 0 | Y18: ='inter 4'!$H$11 -> 0 | Z18: ='inter 4'!$I$11 -> 0 | AA18: ='inter 5'!$H$11 -> 0 | AB18: ='inter 5'!$I$11 -> 0 | AC18: ='inter 6'!$H$11 -> 0 | AD18: ='inter 6'!$I$11 -> 0 | AE18: ='inter 7'!$H$11 -> 0 | AF18: ='inter 7'!$I$11 -> 0 | AG18: ='inter 8'!$H$11 -> 0 | AH18: ='inter 8'!$I$11 -> 0 | AI18: ='inter 9'!$H$11 -> 0 | AJ18: ='inter 9'!$I$11 -> 0 | AK18: ='inter 10'!$H$11 -> 0 | AL18: ='inter 10'!$I$11 -> 0 | AM18: ='inter 11'!$H$11 -> 0 | AN18: ='inter 11'!$I$11 -> 0 | AO18: ='inter 12'!$H$11 -> 0 | AP18: ='inter 12'!$I$11 -> 0
C19: m | E19: =Bruno!$B$17 -> 0 | F19: =Bruno!$C$17 -> 0 | G19: =JLuc!$B$17 -> 0 | H19: =JLuc!$C$17 -> 0 | I19: ='Eric G'!$B$17 -> 0 | J19: ='Eric G'!$C$17 -> 0 | K19: ='Eric D'!$B$17 -> 0 | L19: ='Eric D'!$C$17 -> 0 | M19: =Philippe!$B$17 -> 0 | N19: =Philippe!$C$17 -> 0 | O19: =Florent!$B$17 -> 0 | P19: =Florent!$C$17 -> 0 | Q19: =Seb!$B$17 -> 0 | R19: =Seb!$C$17 -> 0 | S19: ='inter 1'!$B$12 -> 0 | T19: ='inter 1'!$C$12 -> 0 | U19: ='inter 2'!$B$12 -> 0 | V19: ='inter 2'!$C$12 -> 0 | W19: ='inter 3'!$B$12 -> 0 | X19: ='inter 3'!$C$12 -> 0 | Y19: ='inter 4'!$B$12 -> 0 | Z19: ='inter 4'!$C$12 -> 0 | AA19: ='inter 5'!$B$12 -> 0 | AB19: ='inter 5'!$C$12 -> 0 | AC19: ='inter 6'!$B$12 -> 0 | AD19: ='inter 6'!$C$12 -> 0 | AE19: ='inter 7'!$B$12 -> 0 | AF19: ='inter 7'!$C$12 -> 0 | AG19: ='inter 8'!$B$12 -> 0 | AH19: ='inter 8'!$C$12 -> 0 | AI19: ='inter 9'!$B$12 -> 0 | AJ19: ='inter 9'!$C$12 -> 0 | AK19: ='inter 10'!$B$12 -> 0 | AL19: ='inter 10'!$C$12 -> 0 | AM19: ='inter 11'!$B$12 -> 0 | AN19: ='inter 11'!$C$12 -> 0 | AO19: ='inter 12'!$B$12 -> 0 | AP19: ='inter 12'!$C$12 -> 0
C20: am | E20: =Bruno!$E$17 -> 0 | F20: =Bruno!$F$17 -> 0 | G20: =JLuc!$E$17 -> 0 | H20: =JLuc!$F$17 -> 0 | I20: ='Eric G'!$E$17 -> 0 | J20: ='Eric G'!$F$17 -> 0 | K20: ='Eric D'!$E$17 -> 0 | L20: ='Eric D'!$F$17 -> 0 | M20: =Philippe!$E$17 -> 0 | N20: =Philippe!$F$17 -> 0 | O20: =Florent!$E$17 -> 0 | P20: =Florent!$F$17 -> 0 | Q20: =Seb!$E$17 -> 0 | R20: =Seb!$F$17 -> 0 | S20: ='inter 1'!$E$12 -> 0 | T20: ='inter 1'!$F$12 -> 0 | U20: ='inter 2'!$E$12 -> 0 | V20: ='inter 2'!$F$12 -> 0 | W20: ='inter 3'!$E$12 -> 0 | X20: ='inter 3'!$F$12 -> 0 | Y20: ='inter 4'!$E$12 -> 0 | Z20: ='inter 4'!$F$12 -> 0 | AA20: ='inter 5'!$E$12 -> 0 | AB20: ='inter 5'!$F$12 -> 0 | AC20: ='inter 6'!$E$12 -> 0 | AD20: ='inter 6'!$F$12 -> 0 | AE20: ='inter 7'!$E$12 -> 0 | AF20: ='inter 7'!$F$12 -> 0 | AG20: ='inter 8'!$E$12 -> 0 | AH20: ='inter 8'!$F$12 -> 0 | AI20: ='inter 9'!$E$12 -> 0 | AJ20: ='inter 9'!$F$12 -> 0 | AK20: ='inter 10'!$E$12 -> 0 | AL20: ='inter 10'!$F$12 -> 0 | AM20: ='inter 11'!$E$12 -> 0 | AN20: ='inter 11'!$F$12 -> 0 | AO20: ='inter 12'!$E$12 -> 0 | AP20: ='inter 12'!$F$12 -> 0
C21: s | E21: =Bruno!$H$17 -> 0 | F21: =Bruno!$I$17 -> 0 | G21: =JLuc!$H$17 -> 0 | H21: =JLuc!$I$17 -> 0 | I21: ='Eric G'!$H$17 -> 0 | J21: ='Eric G'!$I$17 -> 0 | K21: ='Eric D'!$H$17 -> 0 | L21: ='Eric D'!$I$17 -> 0 | M21: =Philippe!$H$17 -> 0 | N21: =Philippe!$I$17 -> 0 | O21: =Florent!$H$17 -> 0 | P21: =Florent!$I$17 -> 0 | Q21: =Seb!$H$17 -> 0 | R21: =Seb!$I$17 -> 0 | S21: ='inter 1'!$H$12 -> 0 | T21: ='inter 1'!$I$12 -> 0 | U21: ='inter 2'!$H$12 -> 0 | V21: ='inter 2'!$I$12 -> 0 | W21: ='inter 3'!$H$12 -> 0 | X21: ='inter 3'!$I$12 -> 0 | Y21: ='inter 4'!$H$12 -> 0 | Z21: ='inter 4'!$I$12 -> 0 | AA21: ='inter 5'!$H$12 -> 0 | AB21: ='inter 5'!$I$12 -> 0 | AC21: ='inter 6'!$H$12 -> 0 | AD21: ='inter 6'!$I$12 -> 0 | AE21: ='inter 7'!$H$12 -> 0 | AF21: ='inter 7'!$I$12 -> 0 | AG21: ='inter 8'!$H$12 -> 0 | AH21: ='inter 8'!$I$12 -> 0 | AI21: ='inter 9'!$H$12 -> 0 | AJ21: ='inter 9'!$I$12 -> 0 | AK21: ='inter 10'!$H$12 -> 0 | AL21: ='inter 10'!$I$12 -> 0 | AM21: ='inter 11'!$H$12 -> 0 | AN21: ='inter 11'!$I$12 -> 0 | AO21: ='inter 12'!$H$12 -> 0 | AP21: ='inter 12'!$I$12 -> 0
C22: m | E22: =Bruno!$B$19 -> 0 | F22: =Bruno!$C$19 -> 0 | G22: =JLuc!$B$19 -> 0 | H22: =JLuc!$C$19 -> 0 | I22: ='Eric G'!$B$19 -> 0 | J22: ='Eric G'!$C$19 -> 0 | K22: ='Eric D'!$B$19 -> 0 | L22: ='Eric D'!$C$19 -> 0 | M22: =Philippe!$B$19 -> 0 | N22: =Philippe!$C$19 -> 0 | O22: =Florent!$B$19 -> 0 | P22: =Florent!$C$19 -> 0 | Q22: =Seb!$B$19 -> 0 | R22: =Seb!$C$19 -> 0 | S22: ='inter 1'!$B$13 -> 0 | T22: ='inter 1'!$C$13 -> 0 | U22: ='inter 2'!$B$13 -> 0 | V22: ='inter 2'!$C$13 -> 0 | W22: ='inter 3'!$B$13 -> 0 | X22: ='inter 3'!$C$13 -> 0 | Y22: ='inter 4'!$B$13 -> 0 | Z22: ='inter 4'!$C$13 -> 0 | AA22: ='inter 5'!$B$13 -> 0 | AB22: ='inter 5'!$C$13 -> 0 | AC22: ='inter 6'!$B$13 -> 0 | AD22: ='inter 6'!$C$13 -> 0 | AE22: ='inter 7'!$B$13 -> 0 | AF22: ='inter 7'!$C$13 -> 0 | AG22: ='inter 8'!$B$13 -> 0 | AH22: ='inter 8'!$C$13 -> 0 | AI22: ='inter 9'!$B$13 -> 0 | AJ22: ='inter 9'!$C$13 -> 0 | AK22: ='inter 10'!$B$13 -> 0 | AL22: ='inter 10'!$C$13 -> 0 | AM22: ='inter 11'!$B$13 -> 0 | AN22: ='inter 11'!$C$13 -> 0 | AO22: ='inter 12'!$B$13 -> 0 | AP22: ='inter 12'!$C$13 -> 0
C23: am | E23: =Bruno!$E$19 -> 0 | F23: =Bruno!$F$19 -> 0 | G23: =JLuc!$E$19 -> 0 | H23: =JLuc!$F$19 -> 0 | I23: ='Eric G'!$E$19 -> 0 | J23: ='Eric G'!$F$19 -> 0 | K23: ='Eric D'!$E$19 -> 0 | L23: ='Eric D'!$F$19 -> 0 | M23: =Philippe!$E$19 -> 0 | N23: =Philippe!$F$19 -> 0 | O23: =Florent!$E$19 -> 0 | P23: =Florent!$F$19 -> 0 | Q23: =Seb!$E$19 -> 0 | R23: =Seb!$F$19 -> 0 | S23: ='inter 1'!$E$13 -> 0 | T23: ='inter 1'!$F$13 -> 0 | U23: ='inter 2'!$E$13 -> 0 | V23: ='inter 2'!$F$13 -> 0 | W23: ='inter 3'!$E$13 -> 0 | X23: ='inter 3'!$F$13 -> 0 | Y23: ='inter 4'!$E$13 -> 0 | Z23: ='inter 4'!$F$13 -> 0 | AA23: ='inter 5'!$E$13 -> 0 | AB23: ='inter 5'!$F$13 -> 0 | AC23: ='inter 6'!$E$13 -> 0 | AD23: ='inter 6'!$F$13 -> 0 | AE23: ='inter 7'!$E$13 -> 0 | AF23: ='inter 7'!$F$13 -> 0 | AG23: ='inter 8'!$E$13 -> 0 | AH23: ='inter 8'!$F$13 -> 0 | AI23: ='inter 9'!$E$13 -> 0 | AJ23: ='inter 9'!$F$13 -> 0 | AK23: ='inter 10'!$E$13 -> 0 | AL23: ='inter 10'!$F$13 -> 0 | AM23: ='inter 11'!$E$13 -> 0 | AN23: ='inter 11'!$F$13 -> 0 | AO23: ='inter 12'!$E$13 -> 0 | AP23: ='inter 12'!$F$13 -> 0
C24: s | E24: =Bruno!$H$19 -> 0 | F24: =Bruno!$I$19 -> 0 | G24: =JLuc!$H$19 -> 0 | H24: =JLuc!$I$19 -> 0 | I24: ='Eric G'!$H$19 -> 0 | J24: ='Eric G'!$I$19 -> 0 | K24: ='Eric D'!$H$19 -> 0 | L24: ='Eric D'!$I$19 -> 0 | M24: =Philippe!$H$19 -> 0 | N24: =Philippe!$I$19 -> 0 | O24: =Florent!$H$19 -> 0 | P24: =Florent!$I$19 -> 0 | Q24: =Seb!$H$19 -> 0 | R24: =Seb!$I$19 -> 0 | S24: ='inter 1'!$H$13 -> 0 | T24: ='inter 1'!$I$13 -> 0 | U24: ='inter 2'!$H$13 -> 0 | V24: ='inter 2'!$I$13 -> 0 | W24: ='inter 3'!$H$13 -> 0 | X24: ='inter 3'!$I$13 -> 0 | Y24: ='inter 4'!$H$13 -> 0 | Z24: ='inter 4'!$I$13 -> 0 | AA24: ='inter 5'!$H$13 -> 0 | AB24: ='inter 5'!$I$13 -> 0 | AC24: ='inter 6'!$H$13 -> 0 | AD24: ='inter 6'!$I$13 -> 0 | AE24: ='inter 7'!$H$13 -> 0 | AF24: ='inter 7'!$I$13 -> 0 | AG24: ='inter 8'!$H$13 -> 0 | AH24: ='inter 8'!$I$13 -> 0 | AI24: ='inter 9'!$H$13 -> 0 | AJ24: ='inter 9'!$I$13 -> 0 | AK24: ='inter 10'!$H$13 -> 0 | AL24: ='inter 10'!$I$13 -> 0 | AM24: ='inter 11'!$H$13 -> 0 | AN24: ='inter 11'!$I$13 -> 0 | AO24: ='inter 12'!$H$13 -> 0 | AP24: ='inter 12'!$I$13 -> 0
C25: m | E25: =Bruno!$B$21 -> 0 | F25: =Bruno!$C$21 -> 0 | G25: =JLuc!$B$21 -> 0 | H25: =JLuc!$C$21 -> 0 | I25: ='Eric G'!$B$21 -> 0 | J25: ='Eric G'!$C$21 -> 0 | K25: ='Eric D'!$B$21 -> 0 | L25: ='Eric D'!$C$21 -> 0 | M25: =Philippe!$B$21 -> 0 | N25: =Philippe!$C$21 -> 0 | O25: =Florent!$B$21 -> 0 | P25: =Florent!$C$21 -> 0 | Q25: =Seb!$B$21 -> 0 | R25: =Seb!$C$21 -> 0 | S25: ='inter 1'!$B$14 -> 0 | T25: ='inter 1'!$C$14 -> 0 | U25: ='inter 2'!$B$14 -> 0 | V25: ='inter 2'!$C$14 -> 0 | W25: ='inter 3'!$B$14 -> 0 | X25: ='inter 3'!$C$14 -> 0 | Y25: ='inter 4'!$B$14 -> 0 | Z25: ='inter 4'!$C$14 -> 0 | AA25: ='inter 5'!$B$14 -> 0 | AB25: ='inter 5'!$C$14 -> 0 | AC25: ='inter 6'!$B$14 -> 0 | AD25: ='inter 6'!$C$14 -> 0 | AE25: ='inter 7'!$B$14 -> 0 | AF25: ='inter 7'!$C$14 -> 0 | AG25: ='inter 8'!$B$14 -> 0 | AH25: ='inter 8'!$C$14 -> 0 | AI25: ='inter 9'!$B$14 -> 0 | AJ25: ='inter 9'!$C$14 -> 0 | AK25: ='inter 10'!$B$14 -> 0 | AL25: ='inter 10'!$C$14 -> 0 | AM25: ='inter 11'!$B$14 -> 0 | AN25: ='inter 11'!$C$14 -> 0 | AO25: ='inter 12'!$B$14 -> 0 | AP25: ='inter 12'!$C$14 -> 0
C26: am | E26: =Bruno!$E$21 -> 0 | F26: =Bruno!$F$21 -> 0 | G26: =JLuc!$E$21 -> 0 | H26: =JLuc!$F$21 -> 0 | I26: ='Eric G'!$E$21 -> 0 | J26: ='Eric G'!$F$21 -> 0 | K26: ='Eric D'!$E$21 -> 0 | L26: ='Eric D'!$F$21 -> 0 | M26: =Philippe!$E$21 -> 0 | N26: =Philippe!$F$21 -> 0 | O26: =Florent!$E$21 -> 0 | P26: =Florent!$F$21 -> 0 | Q26: =Seb!$E$21 -> 0 | R26: =Seb!$F$21 -> 0 | S26: ='inter 1'!$E$14 -> 0 | T26: ='inter 1'!$F$14 -> 0 | U26: ='inter 2'!$E$14 -> 0 | V26: ='inter 2'!$F$14 -> 0 | W26: ='inter 3'!$E$14 -> 0 | X26: ='inter 3'!$F$14 -> 0 | Y26: ='inter 4'!$E$14 -> 0 | Z26: ='inter 4'!$F$14 -> 0 | AA26: ='inter 5'!$E$14 -> 0 | AB26: ='inter 5'!$F$14 -> 0 | AC26: ='inter 6'!$E$14 -> 0 | AD26: ='inter 6'!$F$14 -> 0 | AE26: ='inter 7'!$E$14 -> 0 | AF26: ='inter 7'!$F$14 -> 0 | AG26: ='inter 8'!$E$14 -> 0 | AH26: ='inter 8'!$F$14 -> 0 | AI26: ='inter 9'!$E$14 -> 0 | AJ26: ='inter 9'!$F$14 -> 0 | AK26: ='inter 10'!$E$14 -> 0 | AL26: ='inter 10'!$F$14 -> 0 | AM26: ='inter 11'!$E$14 -> 0 | AN26: ='inter 11'!$F$14 -> 0 | AO26: ='inter 12'!$E$14 -> 0 | AP26: ='inter 12'!$F$14 -> 0
C27: s | E27: =Bruno!$H$21 -> 0 | F27: =Bruno!$I$21 -> 0 | G27: =JLuc!$H$21 -> 0 | H27: =JLuc!$I$21 -> 0 | I27: ='Eric G'!$H$21 -> 0 | J27: ='Eric G'!$I$21 -> 0 | K27: ='Eric D'!$H$21 -> 0 | L27: ='Eric D'!$I$21 -> 0 | M27: =Philippe!$H$21 -> 0 | N27: =Philippe!$I$21 -> 0 | O27: =Florent!$H$21 -> 0 | P27: =Florent!$I$21 -> 0 | Q27: =Seb!$H$21 -> 0 | R27: =Seb!$I$21 -> 0 | S27: ='inter 1'!$H$14 -> 0 | T27: ='inter 1'!$I$14 -> 0 | U27: ='inter 2'!$H$14 -> 0 | V27: ='inter 2'!$I$14 -> 0 | W27: ='inter 3'!$H$14 -> 0 | X27: ='inter 3'!$I$14 -> 0 | Y27: ='inter 4'!$H$14 -> 0 | Z27: ='inter 4'!$I$14 -> 0 | AA27: ='inter 5'!$H$14 -> 0 | AB27: ='inter 5'!$I$14 -> 0 | AC27: ='inter 6'!$H$14 -> 0 | AD27: ='inter 6'!$I$14 -> 0 | AE27: ='inter 7'!$H$14 -> 0 | AF27: ='inter 7'!$I$14 -> 0 | AG27: ='inter 8'!$H$14 -> 0 | AH27: ='inter 8'!$I$14 -> 0 | AI27: ='inter 9'!$H$14 -> 0 | AJ27: ='inter 9'!$I$14 -> 0 | AK27: ='inter 10'!$H$14 -> 0 | AL27: ='inter 10'!$I$14 -> 0 | AM27: ='inter 11'!$H$14 -> 0 | AN27: ='inter 11'!$I$14 -> 0 | AO27: ='inter 12'!$H$14 -> 0 | AP27: ='inter 12'!$I$14 -> 0
D28: total heures | E28: =Bruno!$K$22 -> 0 | G28: =JLuc!$K$22 -> 0 | I28: ='Eric G'!$K$22 -> 0 | K28: ='Eric D'!$K$22 -> 0 | M28: =Philippe!$K$22 -> 0 | O28: =Florent!$K$22 -> 0 | Q28: =Seb!$K$22 -> 0 | S28: ='inter 1'!$K$15 -> 0 | U28: ='inter 2'!$K$15 -> 0 | W28: ='inter 3'!$K$15 -> 0 | Y28: ='inter 4'!$K$15 -> 0 | AA28: ='inter 5'!$K$15 -> 0 | AC28: ='inter 6'!$K$15 -> 0 | AE28: ='inter 7'!$K$15 -> 0 | AG28: ='inter 8'!$K$15 -> 0 | AI28: ='inter 9'!$K$15 -> 0 | AK28: ='inter 10'!$K$15 -> 0 | AM28: ='inter 11'!$K$15 -> 0 | AO28: ='inter 12'!$K$15 -> 0
M29: total heures permanents | Q29: =SUM(E28:R28) -> 0 | S29: =SUM(S28:AP28) -> 0 | U29: total heures intermittents | Z29: mc : | AA29: machiniste cintrier | AE29: e : | AF29: électricien | AI29: s : | AJ29: technicien son
A30: x : reprise d'heures x: congés payés x: déplacement à l'extérieur x: arrêt maladie MSO : mise en scène orchestre MSP : mise en scène piano | Z30: m : | AA30: machiniste | AE30: acc :

Sheet Bruno
C1: heures à effectuer : Bruno FERU
C3: ='feuille de présence'!$A$2 -> du au septembre
C4: ='feuille de présence'!$A$3 -> 0
A6: horaires de prise de service | B6: matin | D6: total | E6: après-midi | G6: total | H6: soir | J6: total | K6: total jour | L6: Observations
B7: début | C7: fin | E7: début | F7: fin | H7: début | I7: fin | L7: paniers | M7: RN
B8: ='feuille de présence'!$D$7 -> 0 | E8: ='feuille de présence'!$D$8 -> 0 | H8: ='feuille de présence'!$D$9 -> 0
A9: ='feuille de présence'!$A$7 -> 0 | D9: =C9-B9 -> 0 | G9: =F9-E9 -> 0 | J9: =I9-H9 -> 0 | K9: =SUM(D9,G9,J9) -> 0 | L9: =IF(H9=17.5,1,0)+IF(H9=18.5,1,0) -> 0 | N9: =IF(K9>1,1,0) -> 0
B10: ='feuille de présence'!$D$10 -> 0 | E10: ='feuille de présence'!$D$11 -> 0 | H10: ='feuille de présence'!$D$12 -> 0
A11: ='feuille de présence'!$A$10 -> 0 | D11: =C11-B11 -> 0 | G11: =F11-E11 -> 0 | J11: =I11-H11 -> 0 | K11: =SUM(D11,G11,J11) -> 0 | L11: =IF(H11=17.5,1,0)+IF(H11=18.5,1,0) -> 0 | M11: =IF(I9-B11=14,1,0)+IF(I9-B11=15,2,0)+IF(I9-B11=13.5,0.5,0)+IF(I9-B11=16,3,0) -> 0 | N11: =IF(K11>1,1,0) -> 0
B12: ='feuille de présence'!$D$13 -> 0 | E12: ='feuille de présence'!$D$14 -> 0 | H12: ='feuille de présence'!$D$15 -> 0
A13: ='feuille de présence'!$A$13 -> 0 | D13: =C13-B13 -> 0 | G13: =F13-E13 -> 0 | J13: =I13-H13 -> 0 | K13: =SUM(D13,G13,J13) -> 0 | L13: =IF(H13=17.5,1,0)+IF(H13=18.5,1,0) -> 0 | M13: =IF(I11-B13=13.5,0.5,0)+IF(I11-B13=14,1,0)+IF(I11-B13=15,2,0)+IF(I11-B13=16,3,0) -> 0 | N13: =IF(K13>1,1,0) -> 0
B14: ='feuille de présence'!$D$16 -> 0 | E14: ='feuille de présence'!$D$17 -> 0 | H14: ='feuille de présence'!$D$18 -> 0
A15: ='feuille de présence'!$A$16 -> 0 | D15: =C15-B15 -> 0 | G15: =F15-E15 -> 0 | J15: =I15-H15 -> 0 | K15: =SUM(D15,G15,J15) -> 0 | L15: =IF(H15=17.5,1,0)+IF(H15=18.5,1,0) -> 0 | M15: =IF(I13-B15=13.5,0.5,0)+IF(I13-B15=14,1,0)+IF(I13-B15=15,2,0)+IF(I13-B15=16,3,0) -> 0 | N15: =IF(K15>1,1,0) -> 0
B16: ='feuille de présence'!$D$19 -> 0 | E16: ='feuille de présence'!$D$20 -> 0 | H16: ='feuille de présence'!$D$21 -> 0
A17: ='feuille de présence'!$A$19 -> 0 | D17: =C17-B17 -> 0 | G17: =F17-E17 -> 0 | J17: =I17-H17 -> 0 | K17: =SUM(D17,G17,J17) -> 0 | L17: =IF(H17=17.5,1,0)+IF(H17=18.5,1,0) -> 0 | M17: =IF(I15-B17=13.5,0.5,0)+IF(I15-B17=14,1,0)+IF(I15-B17=15,2,0)+IF(I15-B17=16,3,0) -> 0 | N17: =IF(K17>1,1,0) -> 0
B18: ='feuille de présence'!$D$22 -> 0 | E18: ='feuille de présence'!$D$23 -> 0 | H18: ='feuille de présence'!$D$24 -> 0
A19: ='feuille de présence'!$A$22 -> 0 | D19: =C19-B19 -> 0 | G19: =F19-E19 -> 0 | J19: =I19-H19 -> 0 | K19: =SUM(D19,G19,J19) -> 0 | L19: =IF(H19=17.5,1,0)+IF(H19=18.5,1,0) -> 0 | M19: =IF(I17-B19=13.5,0.5,0)+IF(I17-B19=14,1,0)+IF(I17-B19=15,2,0)+IF(I17-B19=16,3,0) -> 0 | N19: =IF(K19>1,1,0) -> 0
B20: ='feuille de présence'!$D$25 -> 0 | E20: ='feuille de présence'!$D$26 -> 0 | H20: ='feuille de présence'!$D$27 -> 0
A21: ='feuille de présence'!$A$25 -> 0 | D21: =C21-B21 -> 0 | G21: =F21-E21 -> 0 | J21: =I21-H21 -> 0 | K21: =SUM(D21,G21,J21) -> 0 | L21: =IF(H21=17.5,1,0)+IF(H21=18.5,1,0) -> 0 | M21: =IF(I19-B21=13.5,0.5,0)+IF(I19-B21=14,1,0)+IF(I19-B21=15,2,0)+IF(I19-B21=16,3,0) -> 0 | N21: =IF(K21>1,1,0) -> 0
D22: =SUM(D9:D21) -> 0 | G22: =SUM(G9:G21) -> 0 | J22: =SUM(J9:J21) -> 0 | K22: =SUM(D22,G22,J22) -> 0 | N22: =SUM(N9:N21) -> 0
A23: OBSERVATIONS : | C23: =SUM(L9,L11,L13,L15,L17,L19,L21) -> 0 | E23: paniers | H23: =IF(K22=45,1,0)+IF(K22=46,2,0)+IF(K22=47,3,0)+IF(K22=48,4,0) -> 0 | I23: heures supplémentaires | L23: =IF(C25>5,1,0) -> 0 | M23: =IF(H24<35,1,0) -> 1 | N23: =IF(K22=0,0,N24) -> 0
C24: =SUM(M9:M21) -> 0 | E24: heures de RN | H24: =IF(K22>44,44,K22) -> 0 | I24: heures compta modul. | L24: =IF(L23+M23=2,"alerte JT + HRS",0) -> 0 | N24: =IF(H24<35,0-(35-H24),0)+IF(H24>35,0+(H24-35),0) -> -35
C25: =$N$22 -> 0 | E25: jours travaillés | H25: =IF(N9+N11+N13+N15+N17+N19=6,1,0)+IF(N11+N13+N15+N17+N19+N21=6,1,0) -> 0 | I25: semaine de 6 jours csc
C26: 0 | E26: écart modulation | H26: =IF(K21>1,1,0) -> 0 | I26: dimanche travaillé
C27: 2 | E27: jour de RH

Sheet JLuc
C1: heures à effectuer : Jean-Luc HAMDI
C3: ='feuille de présence'!$A$2 -> du au septembre
C4: ='feuille de présence'!$A$3 -> 0
A6: horaires de prise de service | B6: matin | D6: total | E6: après-midi | G6: total | H6: soir | J6: total | K6: total jour | L6: Observations
B7: début | C7: fin | E7: début | F7: fin | H7: début | I7: fin | L7: paniers | M7: RN
B8: ='feuille de présence'!$D$7 -> 0 | E8: ='feuille de présence'!$D$8 -> 0 | H8: ='feuille de présence'!$D$9 -> 0
A9: =Bruno!$A$9 -> 0 | D9: =C9-B9 -> 0 | G9: =F9-E9 -> 0 | J9: =I9-H9 -> 0 | K9: =SUM(D9,G9,J9) -> 0 | L9: =IF(H9=17.5,1,0)+IF(H9=18.5,1,0) -> 0 | N9: =IF(K9>1,1,0) -> 0
B10: ='feuille de présence'!$D$10 -> 0 | E10: ='feuille de présence'!$D$11 -> 0 | H10: ='feuille de présence'!$D$12 -> 0
A11: =Bruno!$A$11 -> 0 | D11: =C11-B11 -> 0 | G11: =F11-E11 -> 0 | J11: =I11-H11 -> 0 | K11: =SUM(D11,G11,J11) -> 0 | L11: =IF(H11=17.5,1,0)+IF(H11=18.5,1,0) -> 0 | M11: =IF(I9-B11=14,1,0)+IF(I9-B11=15,2,0)+IF(I9-B11=13.5,0.5,0)+IF(I9-B11=16,3,0) -> 0 | N11: =IF(K11>1,1,0) -> 0
B12: ='feuille de présence'!$D$13 -> 0 | E12: ='feuille de présence'!$D$14 -> 0 | H12: ='feuille de présence'!$D$15 -> 0
A13: =Bruno!$A$13 -> 0 | D13: =C13-B13 -> 0 | G13: =F13-E13 -> 0 | J13: =I13-H13 -> 0 | K13: =SUM(D13,G13,J13) -> 0 | L13: =IF(H13=17.5,1,0)+IF(H13=18.5,1,0) -> 0 | M13: =IF(I11-B13=13.5,0.5,0)+IF(I11-B13=14,1,0)+IF(I11-B13=15,2,0)+IF(I11-B13=16,3,0) -> 0 | N13: =IF(K13>1,1,0) -> 0
B14: ='feuille de présence'!$D$16 -> 0 | E14: ='feuille de présence'!$D$17 -> 0 | H14: ='feuille de présence'!$D$18 -> 0
A15: =Bruno!$A$15 -> 0 | D15: =C15-B15 -> 0 | G15: =F15-E15 -> 0 | J15: =I15-H15 -> 0 | K15: =SUM(D15,G15,J15) -> 0 | L15: =IF(H15=17.5,1,0)+IF(H15=18.5,1,0) -> 0 | M15: =IF(I13-B15=13.5,0.5,0)+IF(I13-B15=14,1,0)+IF(I13-B15=15,2,0)+IF(I13-B15=16,3,0) -> 0 | N15: =IF(K15>1,1,0) -> 0
B16: ='feuille de présence'!$D$19 -> 0 | E16: ='feuille de présence'!$D$20 -> 0 | H16: ='feuille de présence'!$D$21 -> 0
A17: =Bruno!$A$17 -> 0 | D17: =C17-B17 -> 0 | G17: =F17-E17 -> 0 | J17: =I17-H17 -> 0 | K17: =SUM(D17,G17,J17) -> 0 | L17: =IF(H17=17.5,1,0)+IF(H17=18.5,1,0) -> 0 | M17: =IF(I15-B17=13.5,0.5,0)+IF(I15-B17=14,1,0)+IF(I15-B17=15,2,0)+IF(I15-B17=16,3,0) -> 0 | N17: =IF(K17>1,1,0) -> 0
B18: ='feuille de présence'!$D$22 -> 0 | E18: ='feuille de présence'!$D$23 -> 0 | H18: ='feuille de présence'!$D$24 -> 0
A19: =Bruno!$A$19 -> 0 | D19: =C19-B19 -> 0 | G19: =F19-E19 -> 0 | J19: =I19-H19 -> 0 | K19: =SUM(D19,G19,J19) -> 0 | L19: =IF(H19=17.5,1,0)+IF(H19=18.5,1,0) -> 0 | M19: =IF(I17-B19=13.5,0.5,0)+IF(I17-B19=14,1,0)+IF(I17-B19=15,2,0)+IF(I17-B19=16,3,0) -> 0 | N19: =IF(K19>1,1,0) -> 0
B20: ='feuille de présence'!$D$25 -> 0 | E20: ='feuille de présence'!$D$26 -> 0 | H20: ='feuille de présence'!$D$27 -> 0
A21: =Bruno!$A$21 -> 0 | D21: =C21-B21 -> 0 | G21: =F21-E21 -> 0 | J21: =I21-H21 -> 0 | K21: =SUM(D21,G21,J21) -> 0 | L21: =IF(H21=17.5,1,0)+IF(H21=18.5,1,0) -> 0 | M21: =IF(I19-B21=13.5,0.5,0)+IF(I19-B21=14,1,0)+IF(I19-B21=15,2,0)+IF(I19-B21=16,3,0) -> 0 | N21: =IF(K21>1,1,0) -> 0
D22: =SUM(D9:D21) -> 0 | G22: =SUM(G9:G21) -> 0 | J22: =SUM(J9:J21) -> 0 | K22: =SUM(D22,G22,J22) -> 0 | N22: =SUM(N9:N21) -> 0
A23: OBSERVATIONS : | C23: =SUM(L9,L11,L13,L15,L17,L19,L21) -> 0 | E23: paniers | H23: =IF(K22=45,1,0)+IF(K22=46,2,0)+IF(K22=47,3,0)+IF(K22=48,4,0) -> 0 | I23: heures supplémentaires | L23: =IF(C25>5,1,0) -> 0 | M23: =IF(H24<35,1,0) -> 1 | N23: =IF(K22=0,0,N24) -> 0
C24: =SUM(M9:M21) -> 0 | E24: heures de RN | H24: =IF(K22>44,44,K22) -> 0 | I24: heures compta modul. | L24: =IF(L23+M23=2,"alerte JT + HRS",0) -> 0 | N24: =IF(H24<35,0-(35-H24),0)+IF(H24>35,0+(H24-35),0) -> -35
C25: =$N$22 -> 0 | E25: jours travaillés | H25: =IF(N9+N11+N13+N15+N17+N19=6,1,0)+IF(N11+N13+N15+N17+N19+N21=6,1,0) -> 0 | I25: semaine de 6 jours csc
C26: 0 | E26: écart modulation | H26: =IF(K21>1,1,0) -> 0 | I26: dimanche travaillé
C27: 2 | E27: jour de RH

Sheet Eric G
C1: heures à effectuer : Eric GAY
C3: ='feuille de présence'!$A$2 -> du au septembre
C4: ='feuille de présence'!$A$3 -> 0
A6: horaires de prise de service | B6: matin | D6: total | E6: après-midi | G6: total | H6: soir | J6: total | K6: total jour | L6: Observations
B7: début | C7: fin | E7: début | F7: fin | H7: début | I7: fin | L7: paniers | M7: RN
A9: =Bruno!$A$9 -> 0 | D9: =C9-B9 -> 0 | G9: =F9-E9 -> 0 | J9: =I9-H9 -> 0 | K9: =SUM(D9,G9,J9) -> 0 | L9: =IF(H9=17.5,1,0)+IF(H9=18.5,1,0) -> 0 | N9: =IF(K9>1,1,0) -> 0
A11: =Bruno!$A$11 -> 0 | D11: =C11-B11 -> 0 | G11: =F11-E11 -> 0 | J11: =I11-H11 -> 0 | K11: =SUM(D11,G11,J11) -> 0 | L11: =IF(H11=17.5,1,0)+IF(H11=18.5,1,0) -> 0 | M11: =IF(I9-B11=14,1,0)+IF(I9-B11=15,2,0)+IF(I9-B11=13.5,0.5,0)+IF(I9-B11=16,3,0) -> 0 | N11: =IF(K11>1,1,0) -> 0
A13: =Bruno!$A$13 -> 0 | D13: =C13-B13 -> 0 | G13: =F13-E13 -> 0 | J13: =I13-H13 -> 0 | K13: =SUM(D13,G13,J13) -> 0 | L13: =IF(H13=17.5,1,0)+IF(H13=18.5,1,0) -> 0 | M13: =IF(I11-B13=13.5,0.5,0)+IF(I11-B13=14,1,0)+IF(I11-B13=15,2,0)+IF(I11-B13=16,3,0) -> 0 | N13: =IF(K13>1,1,0) -> 0
A15: =Bruno!$A$15 -> 0 | D15: =C15-B15 -> 0 | G15: =F15-E15 -> 0 | J15: =I15-H15 -> 0 | K15: =SUM(D15,G15,J15) -> 0 | L15: =IF(H15=17.5,1,0)+IF(H15=18.5,1,0) -> 0 | M15: =IF(I13-B15=13.5,0.5,0)+IF(I13-B15=14,1,0)+IF(I13-B15=15,2,0)+IF(I13-B15=16,3,0) -> 0 | N15: =IF(K15>1,1,0) -> 0
A17: =Bruno!$A$17 -> 0 | D17: =C17-B17 -> 0 | G17: =F17-E17 -> 0 | J17: =I17-H17 -> 0 | K17: =SUM(D17,G17,J17) -> 0 | L17: =IF(H17=17.5,1,0)+IF(H17=18.5,1,0) -> 0 | M17: =IF(I15-B17=13.5,0.5,0)+IF(I15-B17=14,1,0)+IF(I15-B17=15,2,0)+IF(I15-B17=16,3,0) -> 0 | N17: =IF(K17>1,1,0) -> 0
A19: =Bruno!$A$19 -> 0 | D19: =C19-B19 -> 0 | G19: =F19-E19 -> 0 | J19: =I19-H19 -> 0 | K19: =SUM(D19,G19,J19) -> 0 | L19: =IF(H19=17.5,1,0)+IF(H19=18.5,1,0) -> 0 | M19: =IF(I17-B19=13.5,0.5,0)+IF(I17-B19=14,1,0)+IF(I17-B19=15,2,0)+IF(I17-B19=16,3,0) -> 0 | N19: =IF(K19>1,1,0) -> 0
A21: =Bruno!$A$21 -> 0 | D21: =C21-B21 -> 0 | G21: =F21-E21 -> 0 | J21: =I21-H21 -> 0 | K21: =SUM(D21,G21,J21) -> 0 | L21: =IF(H21=17.5,1,0)+IF(H21=18.5,1,0) -> 0 | M21: =IF(I19-B21=13.5,0.5,0)+IF(I19-B21=14,1,0)+IF(I19-B21=15,2,0)+IF(I19-B21=16,3,0) -> 0 | N21: =IF(K21>1,1,0) -> 0
D22: =SUM(D9:D21) -> 0 | G22: =SUM(G9:G21) -> 0 | J22: =SUM(J9:J21) -> 0 | K22: =SUM(D22,G22,J22) -> 0 | N22: =SUM(N9:N21) -> 0
A23: OBSERVATIONS : | C23: =SUM(L9,L11,L13,L15,L17,L19,L21) -> 0 | E23: paniers | H23: =IF(K22=45,1,0)+IF(K22=46,2,0)+IF(K22=47,3,0)+IF(K22=48,4,0) -> 0 | I23: heures supplémentaires | L23: =IF(C25>5,1,0) -> 0 | M23: =IF(H24<35,1,0) -> 1 | N23: =IF(K22=0,0,N24) -> 0
C24: =SUM(M9:M21) -> 0 | E24: heures de RN | H24: =IF(K22>44,44,K22) -> 0 | I24: heures compta modul. | L24: =IF(L23+M23=2,"alerte JT + HRS",0) -> 0 | N24: =IF(H24<35,0-(35-H24),0)+IF(H24>35,0+(H24-35),0) -> -35
C25: =$N$22 -> 0 | E25: jours travaillés | H25: =IF(N9+N11+N13+N15+N17+N19=6,1,0)+IF(N11+N13+N15+N17+N19+N21=6,1,0) -> 0 | I25: semaine de 6 jours csc
C26: =$N$23 -> 0 | E26: écart modulation | H26: =IF(K21>1,1,0) -> 0 | I26: dimanche travaillé
C27: =IF(K9<1,1,0)+IF(K19<1,1,0)+IF(K21<1,1,0) -> 3 | E27: jour de RH

Sheet Eric D
C1: heures à effectuer : Eric DEFORGE
C3: ='feuille de présence'!$A$2 -> du au septembre
C4: ='feuille de présence'!$A$3 -> 0
A6: horaires de prise de service | B6: matin | D6: total | E6: après-midi | G6: total | H6: soir | J6: total | K6: total jour | L6: Observations
B7: début | C7: fin | E7: début | F7: fin | H7: début | I7: fin | L7: paniers | M7: RN
B8: ='feuille de présence'!$D$7 -> 0 | E8: ='feuille de présence'!$D$8 -> 0 | H8: ='feuille de présence'!$D$9 -> 0
A9: ='Eric G'!$A$9 -> 0 | D9: =C9-B9 -> 0 | G9: =F9-E9 -> 0 | J9: =I9-H9 -> 0 | K9: =SUM(D9,G9,J9) -> 0 | L9: =IF(H9=17.5,1,0)+IF(H9=18.5,1,0) -> 0 | N9: =IF(K9>1,1,0) -> 0
B10: ='feuille de présence'!$D$10 -> 0 | E10: ='feuille de présence'!$D$11 -> 0 | H10: ='feuille de présence'!$D$12 -> 0
A11: =Bruno!$A$11 -> 0 | D11: =C11-B11 -> 0 | G11: =F11-E11 -> 0 | J11: =I11-H11 -> 0 | K11: =SUM(D11,G11,J11) -> 0 | L11: =IF(H11=17.5,1,0)+IF(H11=18.5,1,0) -> 0 | M11: =IF(I9-B11=14,1,0)+IF(I9-B11=15,2,0)+IF(I9-B11=13.5,0.5,0)+IF(I9-B11=16,3,0) -> 0 | N11: =IF(K11>1,1,0) -> 0
B12: ='feuille de présence'!$D$13 -> 0 | E12: ='feuille de présence'!$D$14 -> 0 | H12: ='feuille de présence'!$D$15 -> 0
A13: =Bruno!$A$13 -> 0 | D13: =C13-B13 -> 0 | G13: =F13-E13 -> 0 | J13: =I13-H13 -> 0 | K13: =SUM(D13,G13,J13) -> 0 | L13: =IF(H13=17.5,1,0)+IF(H13=18.5,1,0) -> 0 | M13: =IF(I11-B13=13.5,0.5,0)+IF(I11-B13=14,1,0)+IF(I11-B13=15,2,0)+IF(I11-B13=16,3,0) -> 0 | N13: =IF(K13>1,1,0) -> 0
B14: ='feuille de présence'!$D$16 -> 0 | E14: ='feuille de présence'!$D$17 -> 0 | H14: ='feuille de présence'!$D$18 -> 0
A15: =Bruno!$A$15 -> 0 | D15: =C15-B15 -> 0 | G15: =F15-E15 -> 0 | J15: =I15-H15 -> 0 | K15: =SUM(D15,G15,J15) -> 0 | L15: =IF(H15=17.5,1,0)+IF(H15=18.5,1,0) -> 0 | M15: =IF(I13-B15=13.5,0.5,0)+IF(I13-B15=14,1,0)+IF(I13-B15=15,2,0)+IF(I13-B15=16,3,0) -> 0 | N15: =IF(K15>1,1,0) -> 0
B16: ='feuille de présence'!$D$19 -> 0 | E16: ='feuille de présence'!$D$20 -> 0 | H16: ='feuille de présence'!$D$21 -> 0
A17: =Bruno!$A$17 -> 0 | D17: =C17-B17 -> 0 | G17: =F17-E17 -> 0 | J17: =I17-H17 -> 0 | K17: =SUM(D17,G17,J17) -> 0 | L17: =IF(H17=17.5,1,0)+IF(H17=18.5,1,0) -> 0 | M17: =IF(I15-B17=13.5,0.5,0)+IF(I15-B17=14,1,0)+IF(I15-B17=15,2,0)+IF(I15-B17=16,3,0) -> 0 | N17: =IF(K17>1,1,0) -> 0
B18: ='feuille de présence'!$D$22 -> 0 | E18: ='feuille de présence'!$D$23 -> 0 | H18: ='feuille de présence'!$D$24 -> 0
A19: =Bruno!$A$19 -> 0 | D19: =C19-B19 -> 0 | G19: =F19-E19 -> 0 | J19: =I19-H19 -> 0 | K19: =SUM(D19,G19,J19) -> 0 | L19: =IF(H19=17.5,1,0)+IF(H19=18.5,1,0) -> 0 | M19: =IF(I17-B19=13.5,0.5,0)+IF(I17-B19=14,1,0)+IF(I17-B19=15,2,0)+IF(I17-B19=16,3,0) -> 0 | N19: =IF(K19>1,1,0) -> 0
B20: ='feuille de présence'!$D$25 -> 0 | E20: ='feuille de présence'!$D$26 -> 0 | H20: ='feuille de présence'!$D$27 -> 0
A21: =Bruno!$A$21 -> 0 | D21: =C21-B21 -> 0 | G21: =F21-E21 -> 0 | J21: =I21-H21 -> 0 | K21: =SUM(D21,G21,J21) -> 0 | L21: =IF(H21=17.5,1,0)+IF(H21=18.5,1,0) -> 0 | M21: =IF(I19-B21=13.5,0.5,0)+IF(I19-B21=14,1,0)+IF(I19-B21=15,2,0)+IF(I19-B21=16,3,0) -> 0 | N21: =IF(K21>1,1,0) -> 0
D22: =SUM(D9:D21) -> 0 | G22: =SUM(G9:G21) -> 0 | J22: =SUM(J9:J21) -> 0 | K22: =SUM(D22,G22,J22) -> 0 | N22: =SUM(N9:N21) -> 0
A23: OBSERVATIONS : | C23: =SUM(L9,L11,L13,L15,L17,L19,L21) -> 0 | E23: paniers | H23: =IF(K22=45,1,0)+IF(K22=46,2,0)+IF(K22=47,3,0)+IF(K22=48,4,0) -> 0 | I23: heures supplémentaires | L23: =IF(C25>5,1,0) -> 0 | M23: =IF(H24<35,1,0) -> 1 | N23: =IF(K22=0,0,N24) -> 0
C24: =SUM(M9:M21) -> 0 | E24: heures de RN | H24: =IF(K22>44,44,K22) -> 0 | I24: heures compta modul. | L24: =IF(L23+M23=2,"alerte JT + HRS",0) -> 0 | N24: =IF(H24<35,0-(35-H24),0)+IF(H24>35,0+(H24-35),0) -> -35
C25: =$N$22 -> 0 | E25: jours travaillés | H25: =IF(N9+N11+N13+N15+N17+N19=6,1,0)+IF(N11+N13+N15+N17+N19+N21=6,1,0) -> 0 | I25: semaine de 6 jours csc
C26: 0 | E26: écart modulation | H26: =IF(K21>1,1,0) -> 0 | I26: dimanche travaillé
C27: 2 | E27: jour de RH

Sheet Philippe
C1: heures à effectuer : Philippe QUAOUZA
C3: ='feuille de présence'!$A$2 -> du au septembre
C4: ='feuille de présence'!$A$3 -> 0
A6: horaires de prise de service | B6: matin | D6: total | E6: après-midi | G6: total | H6: soir | J6: total | K6: total jour | L6: Observations
B7: début | C7: fin | E7: début | F7: fin | H7: début | I7: fin | L7: paniers | M7: RN
B8: ='feuille de présence'!$D$7 -> 0 | E8: ='feuille de présence'!$D$8 -> 0 | H8: ='feuille de présence'!$D$9 -> 0
A9: ='Eric G'!$A$9 -> 0 | D9: =C9-B9 -> 0 | G9: =F9-E9 -> 0 | J9: =I9-H9 -> 0 | K9: =SUM(D9,G9,J9) -> 0 | L9: =IF(H9=17.5,1,0)+IF(H9=18.5,1,0) -> 0 | N9: =IF(K9>1,1,0) -> 0
B10: ='feuille de présence'!$D$10 -> 0 | E10: ='feuille de présence'!$D$11 -> 0 | H10: ='feuille de présence'!$D$12 -> 0
A11: =Bruno!$A$11 -> 0 | D11: =C11-B11 -> 0 | G11: =F11-E11 -> 0 | J11: =I11-H11 -> 0 | K11: =SUM(D11,G11,J11) -> 0 | L11: =IF(H11=17.5,1,0)+IF(H11=18.5,1,0) -> 0 | M11: =IF(I9-B11=14,1,0)+IF(I9-B11=15,2,0)+IF(I9-B11=13.5,0.5,0)+IF(I9-B11=16,3,0) -> 0 | N11: =IF(K11>1,1,0) -> 0
B12: ='feuille de présence'!$D$13 -> 0 | E12: ='feuille de présence'!$D$14 -> 0 | H12: ='feuille de présence'!$D$15 -> 0
A13: =Bruno!$A$13 -> 0 | D13: =C13-B13 -> 0 | G13: =F13-E13 -> 0 | J13: =I13-H13 -> 0 | K13: =SUM(D13,G13,J13) -> 0 | L13: =IF(H13=17.5,1,0)+IF(H13=18.5,1,0) -> 0 | M13: =IF(I11-B13=13.5,0.5,0)+IF(I11-B13=14,1,0)+IF(I11-B13=15,2,0)+IF(I11-B13=16,3,0) -> 0 | N13: =IF(K13>1,1,0) -> 0
B14: ='feuille de présence'!$D$16 -> 0 | E14: ='feuille de présence'!$D$17 -> 0 | H14: ='feuille de présence'!$D$18 -> 0
A15: =Bruno!$A$15 -> 0 | D15: =C15-B15 -> 0 | G15: =F15-E15 -> 0 | J15: =I15-H15 -> 0 | K15: =SUM(D15,G15,J15) -> 0 | L15: =IF(H15=17.5,1,0)+IF(H15=18.5,1,0) -> 0 | M15: =IF(I13-B15=13.5,0.5,0)+IF(I13-B15=14,1,0)+IF(I13-B15=15,2,0)+IF(I13-B15=16,3,0) -> 0 | N15: =IF(K15>1,1,0) -> 0
B16: ='feuille de présence'!$D$19 -> 0 | E16: ='feuille de présence'!$D$20 -> 0 | H16: ='feuille de présence'!$D$21 -> 0
A17: =Bruno!$A$17 -> 0 | D17: =C17-B17 -> 0 | G17: =F17-E17 -> 0 | J17: =I17-H17 -> 0 | K17: =SUM(D17,G17,J17) -> 0 | L17: =IF(H17=17.5,1,0)+IF(H17=18.5,1,0) -> 0 | M17: =IF(I15-B17=13.5,0.5,0)+IF(I15-B17=14,1,0)+IF(I15-B17=15,2,0)+IF(I15-B17=16,3,0) -> 0 | N17: =IF(K17>1,1,0) -> 0
B18: ='feuille de présence'!$D$22 -> 0 | E18: ='feuille de présence'!$D$23 -> 0 | H18: ='feuille de présence'!$D$24 -> 0
A19: =Bruno!$A$19 -> 0 | D19: =C19-B19 -> 0 | G19: =F19-E19 -> 0 | J19: =I19-H19 -> 0 | K19: =SUM(D19,G19,J19) -> 0 | L19: =IF(H19=17.5,1,0)+IF(H19=18.5,1,0) -> 0 | M19: =IF(I17-B19=13.5,0.5,0)+IF(I17-B19=14,1,0)+IF(I17-B19=15,2,0)+IF(I17-B19=16,3,0) -> 0 | N19: =IF(K19>1,1,0) -> 0
B20: ='feuille de présence'!$D$25 -> 0 | E20: ='feuille de présence'!$D$26 -> 0 | H20: ='feuille de présence'!$D$27 -> 0
A21: =Bruno!$A$21 -> 0 | D21: =C21-B21 -> 0 | G21: =F21-E21 -> 0 | J21: =I21-H21 -> 0 | K21: =SUM(D21,G21,J21) -> 0 | L21: =IF(H21=17.5,1,0)+IF(H21=18.5,1,0) -> 0 | M21: =IF(I19-B21=13.5,0.5,0)+IF(I19-B21=14,1,0)+IF(I19-B21=15,2,0)+IF(I19-B21=16,3,0) -> 0 | N21: =IF(K21>1,1,0) -> 0
D22: =SUM(D9:D21) -> 0 | G22: =SUM(G9:G21) -> 0 | J22: =SUM(J9:J21) -> 0 | K22: =SUM(D22,G22,J22) -> 0 | N22: =SUM(N9:N21) -> 0
A23: OBSERVATIONS : | C23: =SUM(L9,L11,L13,L15,L17,L19,L21) -> 0 | E23: paniers | H23: =IF(K22=45,1,0)+IF(K22=46,2,0)+IF(K22=47,3,0)+IF(K22=48,4,0) -> 0 | I23: heures supplémentaires | L23: =IF(C25>5,1,0) -> 0 | M23: =IF(H24<35,1,0) -> 1 | N23: =IF(K22=0,0,N24) -> 0
C24: =SUM(M9:M21) -> 0 | E24: heures de RN | H24: =IF(K22>44,44,K22) -> 0 | I24: heures compta modul. | L24: =IF(L23+M23=2,"alerte JT + HRS",0) -> 0 | N24: =IF(H24<35,0-(35-H24),0)+IF(H24>35,0+(H24-35),0) -> -35
C25: =$N$22 -> 0 | E25: jours travaillés | H25: =IF(N9+N11+N13+N15+N17+N19=6,1,0)+IF(N11+N13+N15+N17+N19+N21=6,1,0) -> 0 | I25: semaine de 6 jours csc
C26: 0 | E26: écart modulation | H26: =IF(K21>1,1,0) -> 0 | I26: dimanche travaillé
C27: 2 | E27: jour de RH

Sheet Florent
C1: heures à effectuer : Florent MAYOLET
C3: ='feuille de présence'!$A$2 -> du au septembre
C4: ='feuille de présence'!$A$3 -> 0
A6: horaires de prise de service | B6: matin | D6: total | E6: après-midi | G6: total | H6: soir | J6: total | K6: total jour | L6: Observations
B7: début | C7: fin | E7: début | F7: fin | H7: début | I7: fin | L7: paniers | M7: RN
B8: ='feuille de présence'!$D$7 -> 0 | E8: ='feuille de présence'!$D$8 -> 0 | H8: ='feuille de présence'!$D$9 -> 0
A9: ='Eric G'!$A$9 -> 0 | D9: =C9-B9 -> 0 | G9: =F9-E9 -> 0 | J9: =I9-H9 -> 0 | K9: =SUM(D9,G9,J9) -> 0 | L9: =IF(H9=17.5,1,0)+IF(H9=18.5,1,0) -> 0 | N9: =IF(K9>1,1,0) -> 0
B10: ='feuille de présence'!$D$10 -> 0 | E10: ='feuille de présence'!$D$11 -> 0 | H10: ='feuille de présence'!$D$12 -> 0
A11: =Bruno!$A$11 -> 0 | D11: =C11-B11 -> 0 | G11: =F11-E11 -> 0 | J11: =I11-H11 -> 0 | K11: =SUM(D11,G11,J11) -> 0 | L11: =IF(H11=17.5,1,0)+IF(H11=18.5,1,0) -> 0 | M11: =IF(I9-B11=14,1,0)+IF(I9-B11=15,2,0)+IF(I9-B11=13.5,0.5,0)+IF(I9-B11=16,3,0) -> 0 | N11: =IF(K11>1,1,0) -> 0
B12: ='feuille de présence'!$D$13 -> 0 | E12: ='feuille de présence'!$D$14 -> 0 | H12: ='feuille de présence'!$D$15 -> 0
A13: =Bruno!$A$13 -> 0 | D13: =C13-B13 -> 0 | G13: =F13-E13 -> 0 | J13: =I13-H13 -> 0 | K13: =SUM(D13,G13,J13) -> 0 | L13: =IF(H13=17.5,1,0)+IF(H13=18.5,1,0) -> 0 | M13: =IF(I11-B13=13.5,0.5,0)+IF(I11-B13=14,1,0)+IF(I11-B13=15,2,0)+IF(I11-B13=16,3,0) -> 0 | N13: =IF(K13>1,1,0) -> 0
B14: ='feuille de présence'!$D$16 -> 0 | E14: ='feuille de présence'!$D$17 -> 0 | H14: ='feuille de présence'!$D$18 -> 0
A15: =Bruno!$A$15 -> 0 | D15: =C15-B15 -> 0 | G15: =F15-E15 -> 0 | J15: =I15-H15 -> 0 | K15: =SUM(D15,G15,J15) -> 0 | L15: =IF(H15=17.5,1,0)+IF(H15=18.5,1,0) -> 0 | M15: =IF(I13-B15=13.5,0.5,0)+IF(I13-B15=14,1,0)+IF(I13-B15=15,2,0)+IF(I13-B15=16,3,0) -> 0 | N15: =IF(K15>1,1,0) -> 0
B16: ='feuille de présence'!$D$19 -> 0 | E16: ='feuille de présence'!$D$20 -> 0 | H16: ='feuille de présence'!$D$21 -> 0
A17: =Bruno!$A$17 -> 0 | D17: =C17-B17 -> 0 | G17: =F17-E17 -> 0 | J17: =I17-H17 -> 0 | K17: =SUM(D17,G17,J17) -> 0 | L17: =IF(H17=17.5,1,0)+IF(H17=18.5,1,0) -> 0 | M17: =IF(I15-B17=13.5,0.5,0)+IF(I15-B17=14,1,0)+IF(I15-B17=15,2,0)+IF(I15-B17=16,3,0) -> 0 | N17: =IF(K17>1,1,0) -> 0
B18: ='feuille de présence'!$D$22 -> 0 | E18: ='feuille de présence'!$D$23 -> 0 | H18: ='feuille de présence'!$D$24 -> 0
A19: =Bruno!$A$19 -> 0 | D19: =C19-B19 -> 0 | G19: =F19-E19 -> 0 | J19: =I19-H19 -> 0 | K19: =SUM(D19,G19,J19) -> 0 | L19: =IF(H19=17.5,1,0)+IF(H19=18.5,1,0) -> 0 | M19: =IF(I17-B19=13.5,0.5,0)+IF(I17-B19=14,1,0)+IF(I17-B19=15,2,0)+IF(I17-B19=16,3,0) -> 0 | N19: =IF(K19>1,1,0) -> 0
B20: ='feuille de présence'!$D$25 -> 0 | E20: ='feuille de présence'!$D$26 -> 0 | H20: ='feuille de présence'!$D$27 -> 0
A21: =Bruno!$A$21 -> 0 | D21: =C21-B21 -> 0 | G21: =F21-E21 -> 0 | J21: =I21-H21 -> 0 | K21: =SUM(D21,G21,J21) -> 0 | L21: =IF(H21=17.5,1,0)+IF(H21=18.5,1,0) -> 0 | M21: =IF(I19-B21=13.5,0.5,0)+IF(I19-B21=14,1,0)+IF(I19-B21=15,2,0)+IF(I19-B21=16,3,0) -> 0 | N21: =IF(K21>1,1,0) -> 0
D22: =SUM(D9:D21) -> 0 | G22: =SUM(G9:G21) -> 0 | J22: =SUM(J9:J21) -> 0 | K22: =SUM(D22,G22,J22) -> 0 | N22: =SUM(N9:N21) -> 0
A23: OBSERVATIONS : | C23: =SUM(L9,L11,L13,L15,L17,L19,L21) -> 0 | E23: paniers | H23: =IF(K22=45,1,0)+IF(K22=46,2,0)+IF(K22=47,3,0)+IF(K22=48,4,0) -> 0 | I23: heures supplémentaires | L23: =IF(C25>5,1,0) -> 0 | M23: =IF(H24<35,1,0) -> 1 | N23: =IF(K22=0,0,N24) -> 0
C24: =SUM(M9:M21) -> 0 | E24: heures de RN | H24: =IF(K22>44,44,K22) -> 0 | I24: heures compta modul. | L24: =IF(L23+M23=2,"alerte JT + HRS",0) -> 0 | N24: =IF(H24<35,0-(35-H24),0)+IF(H24>35,0+(H24-35),0) -> -35
C25: =$N$22 -> 0 | E25: jours travaillés | H25: =IF(N9+N11+N13+N15+N17+N19=6,1,0)+IF(N11+N13+N15+N17+N19+N21=6,1,0) -> 0 | I25: semaine de 6 jours csc
C26: 0 | E26: écart modulation | H26: =IF(K21>1,1,0) -> 0 | I26: dimanche travaillé
C27: 2 | E27: jour de RH

Sheet Seb
C1: heures à effectuer : Sébastien CARLIER
C3: ='feuille de présence'!$A$2 -> du au septembre
C4: ='feuille de présence'!$A$3 -> 0
A6: horaires de prise de service | B6: matin | D6: total | E6: après-midi | G6: total | H6: soir | J6: total | K6: total jour | L6: Observations
B7: début | C7: fin | E7: début | F7: fin | H7: début | I7: fin | L7: paniers | M7: RN
B8: ='feuille de présence'!$D$7 -> 0 | E8: ='feuille de présence'!$D$8 -> 0 | H8: ='feuille de présence'!$D$9 -> 0
A9: ='Eric G'!$A$9 -> 0 | D9: =C9-B9 -> 0 | G9: =F9-E9 -> 0 | J9: =I9-H9 -> 0 | K9: =SUM(D9,G9,J9) -> 0 | L9: =IF(H9=17.5,1,0)+IF(H9=18.5,1,0) -> 0 | N9: =IF(K9>1,1,0) -> 0
B10: ='feuille de présence'!$D$10 -> 0 | E10: ='feuille de présence'!$D$11 -> 0 | H10: ='feuille de présence'!$D$12 -> 0
A11: =Bruno!$A$11 -> 0 | D11: =C11-B11 -> 0 | G11: =F11-E11 -> 0 | J11: =I11-H11 -> 0 | K11: =SUM(D11,G11,J11) -> 0 | L11: =IF(H11=17.5,1,0)+IF(H11=18.5,1,0) -> 0 | M11: =IF(I9-B11=14,1,0)+IF(I9-B11=15,2,0)+IF(I9-B11=13.5,0.5,0)+IF(I9-B11=16,3,0) -> 0 | N11: =IF(K11>1,1,0) -> 0
B12: ='feuille de présence'!$D$13 -> 0 | E12: ='feuille de présence'!$D$14 -> 0 | H12: ='feuille de présence'!$D$15 -> 0
A13: =Bruno!$A$13 -> 0 | D13: =C13-B13 -> 0 | G13: =F13-E13 -> 0 | J13: =I13-H13 -> 0 | K13: =SUM(D13,G13,J13) -> 0 | L13: =IF(H13=17.5,1,0)+IF(H13=18.5,1,0) -> 0 | M13: =IF(I11-B13=13.5,0.5,0)+IF(I11-B13=14,1,0)+IF(I11-B13=15,2,0)+IF(I11-B13=16,3,0) -> 0 | N13: =IF(K13>1,1,0) -> 0
B14: ='feuille de présence'!$D$16 -> 0 | E14: ='feuille de présence'!$D$17 -> 0 | H14: ='feuille de présence'!$D$18 -> 0
A15: =Bruno!$A$15 -> 0 | D15: =C15-B15 -> 0 | G15: =F15-E15 -> 0 | J15: =I15-H15 -> 0 | K15: =SUM(D15,G15,J15) -> 0 | L15: =IF(H15=17.5,1,0)+IF(H15=18.5,1,0) -> 0 | M15: =IF(I13-B15=13.5,0.5,0)+IF(I13-B15=14,1,0)+IF(I13-B15=15,2,0)+IF(I13-B15=16,3,0) -> 0 | N15: =IF(K15>1,1,0) -> 0
B16: ='feuille de présence'!$D$19 -> 0 | E16: ='feuille de présence'!$D$20 -> 0 | H16: ='feuille de présence'!$D$21 -> 0
A17: =Bruno!$A$17 -> 0 | D17: =C17-B17 -> 0 | G17: =F17-E17 -> 0 | J17: =I17-H17 -> 0 | K17: =SUM(D17,G17,J17) -> 0 | L17: =IF(H17=17.5,1,0)+IF(H17=18.5,1,0) -> 0 | M17: =IF(I15-B17=13.5,0.5,0)+IF(I15-B17=14,1,0)+IF(I15-B17=15,2,0)+IF(I15-B17=16,3,0) -> 0 | N17: =IF(K17>1,1,0) -> 0
B18: ='feuille de présence'!$D$22 -> 0 | E18: ='feuille de présence'!$D$23 -> 0 | H18: ='feuille de présence'!$D$24 -> 0
A19: =Bruno!$A$19 -> 0 | D19: =C19-B19 -> 0 | G19: =F19-E19 -> 0 | J19: =I19-H19 -> 0 | K19: =SUM(D19,G19,J19) -> 0 | L19: =IF(H19=17.5,1,0)+IF(H19=18.5,1,0) -> 0 | M19: =IF(I17-B19=13.5,0.5,0)+IF(I17-B19=14,1,0)+IF(I17-B19=15,2,0)+IF(I17-B19=16,3,0) -> 0 | N19: =IF(K19>1,1,0) -> 0
B20: ='feuille de présence'!$D$25 -> 0 | E20: ='feuille de présence'!$D$26 -> 0 | H20: ='feuille de présence'!$D$27 -> 0
A21: =Bruno!$A$21 -> 0 | D21: =C21-B21 -> 0 | G21: =F21-E21 -> 0 | J21: =I21-H21 -> 0 | K21: =SUM(D21,G21,J21) -> 0 | L21: =IF(H21=17.5,1,0)+IF(H21=18.5,1,0) -> 0 | M21: =IF(I19-B21=13.5,0.5,0)+IF(I19-B21=14,1,0)+IF(I19-B21=15,2,0)+IF(I19-B21=16,3,0) -> 0 | N21: =IF(K21>1,1,0) -> 0
D22: =SUM(D9:D21) -> 0 | G22: =SUM(G9:G21) -> 0 | J22: =SUM(J9:J21) -> 0 | K22: =SUM(D22,G22,J22) -> 0 | N22: =SUM(N9:N21) -> 0
A23: OBSERVATIONS : | C23: =SUM(L9,L11,L13,L15,L17,L19,L21) -> 0 | E23: paniers | H23: =IF(K22=45,1,0)+IF(K22=46,2,0)+IF(K22=47,3,0)+IF(K22=48,4,0) -> 0 | I23: heures supplémentaires | L23: =IF(C25>5,1,0) -> 0 | M23: =IF(H24<35,1,0) -> 1 | N23: =IF(K22=0,0,N24) -> 0
C24: =SUM(M9:M21) -> 0 | E24: heures de RN | H24: =IF(K22>44,44,K22) -> 0 | I24: heures compta modul. | L24: =IF(L23+M23=2,"alerte JT + HRS",0) -> 0 | N24: =IF(H24<35,0-(35-H24),0)+IF(H24>35,0+(H24-35),0) -> -35
C25: =$N$22 -> 0 | E25: jours travaillés | H25: =IF(N9+N11+N13+N15+N17+N19=6,1,0)+IF(N11+N13+N15+N17+N19+N21=6,1,0) -> 0 | I25: semaine de 6 jours csc
C26: 0 | E26: écart modulation | H26: =IF(K21>1,1,0) -> 0 | I26: dimanche travaillé
C27: 2 | E27: jour de RH

Sheet inter 1
C1: NOM
C2: PRENOM
C3: DATE | G3: ='feuille de présence'!$A$2 -> du au septembre
C4: SPECTACLE | G4: ='feuille de présence'!$A$3 -> 0
A6: horaires de prise de service | B6: matin | D6: total | E6: après-midi | G6: total | H6: soir | J6: total | K6: total jour | L6: Observations
B7: début | C7: fin | E7: début | F7: fin | H7: début | I7: fin | L7: paniers | M7: RN
A8: ='Eric G'!$A$9 -> 0 | D8: =C8-B8 -> 0 | G8: =F8-E8 -> 0 | J8: =I8-H8 -> 0 | K8: =SUM(D8,G8,J8) -> 0
A9: =Bruno!$A$11 -> 0 | D9: =C9-B9 -> 0 | G9: =F9-E9 -> 0 | J9: =I9-H9 -> 0 | K9: =SUM(D9,G9,J9) -> 0
A10: =Bruno!$A$13 -> 0 | D10: =C10-B10 -> 0 | G10: =F10-E10 -> 0 | J10: =I10-H10 -> 0 | K10: =SUM(D10,G10,J10) -> 0
A11: =Bruno!$A$15 -> 0 | D11: =C11-B11 -> 0 | G11: =F11-E11 -> 0 | J11: =I11-H11 -> 0 | K11: =SUM(D11,G11,J11) -> 0
A12: =Bruno!$A$17 -> 0 | D12: =C12-B12 -> 0 | G12: =F12-E12 -> 0 | J12: =I12-H12 -> 0 | K12: =SUM(D12,G12,J12) -> 0
A13: =Bruno!$A$19 -> 0 | D13: =C13-B13 -> 0 | G13: =F13-E13 -> 0 | J13: =I13-H13 -> 0 | K13: =SUM(D13,G13,J13) -> 0
A14: =Bruno!$A$21 -> 0 | D14: =C14-B14 -> 0 | G14: =F14-E14 -> 0 | J14: =I14-H14 -> 0 | K14: =SUM(D14,G14,J14) -> 0
D15: =SUM(D8:D14) -> 0 | G15: =SUM(G8:G14) -> 0 | J15: =SUM(J8:J14) -> 0 | K15: =SUM(D15,G15,J15) -> 0
A16: OBSERVATIONS : | C16: =SUM(L8,L9,L10,L11,L12,L13,L14) -> 0 | E16: paniers | I16: heures supplémentaires
C17: =SUM(M8:M14) -> 0 | E17: heures de RN
A19: signature du salarié | K19: signature du chef de service

Sheet inter 2
C1: NOM
C2: PRENOM
C3: DATE | G3: ='feuille de présence'!$A$2 -> du au septembre
C4: SPECTACLE | G4: ='feuille de présence'!$A$3 -> 0
A6: horaires de prise de service | B6: matin | D6: total | E6: après-midi | G6: total | H6: soir | J6: total | K6: total jour | L6: Observations
B7: début | C7: fin | E7: début | F7: fin | H7: début | I7: fin | L7: paniers | M7: RN
A8: ='Eric G'!$A$9 -> 0 | D8: =C8-B8 -> 0 | G8: =F8-E8 -> 0 | J8: =I8-H8 -> 0 | K8: =SUM(D8,G8,J8) -> 0
A9: =Bruno!$A$11 -> 0 | D9: =C9-B9 -> 0 | G9: =F9-E9 -> 0 | J9: =I9-H9 -> 0 | K9: =SUM(D9,G9,J9) -> 0
A10: =Bruno!$A$13 -> 0 | D10: =C10-B10 -> 0 | G10: =F10-E10 -> 0 | J10: =I10-H10 -> 0 | K10: =SUM(D10,G10,J10) -> 0
A11: =Bruno!$A$15 -> 0 | D11: =C11-B11 -> 0 | G11: =F11-E11 -> 0 | J11: =I11-H11 -> 0 | K11: =SUM(D11,G11,J11) -> 0
A12: =Bruno!$A$17 -> 0 | D12: =C12-B12 -> 0 | G12: =F12-E12 -> 0 | J12: =I12-H12 -> 0 | K12: =SUM(D12,G12,J12) -> 0
A13: =Bruno!$A$19 -> 0 | D13: =C13-B13 -> 0 | G13: =F13-E13 -> 0 | J13: =I13-H13 -> 0 | K13: =SUM(D13,G13,J13) -> 0
A14: =Bruno!$A$21 -> 0 | D14: =C14-B14 -> 0 | G14: =F14-E14 -> 0 | J14: =I14-H14 -> 0 | K14: =SUM(D14,G14,J14) -> 0
D15: =SUM(D8:D14) -> 0 | G15: =SUM(G8:G14) -> 0 | J15: =SUM(J8:J14) -> 0 | K15: =SUM(D15,G15,J15) -> 0
A16: OBSERVATIONS : | C16: =SUM(L8,L9,L10,L11,L12,L13,L14) -> 0 | E16: paniers | I16: heures supplémentaires
C17: =SUM(M8:M14) -> 0 | E17: heures de RN
A19: signature du salarié | K19: signature du chef de service

Sheet inter 3
C1: NOM
C2: PRENOM
C3: DATE | G3: ='feuille de présence'!$A$2 -> du au septembre
C4: SPECTACLE | G4: ='feuille de présence'!$A$3 -> 0
A6: horaires de prise de service | B6: matin | D6: total | E6: après-midi | G6: total | H6: soir | J6: total | K6: total jour | L6: Observations
B7: début | C7: fin | E7: début | F7: fin | H7: début | I7: fin | L7: paniers | M7: RN
A8: ='Eric G'!$A$9 -> 0 | D8: =C8-B8 -> 0 | G8: =F8-E8 -> 0 | J8: =I8-H8 -> 0 | K8: =SUM(D8,G8,J8) -> 0
A9: =Bruno!$A$11 -> 0 | D9: =C9-B9 -> 0 | G9: =F9-E9 -> 0 | J9: =I9-H9 -> 0 | K9: =SUM(D9,G9,J9) -> 0
A10: =Bruno!$A$13 -> 0 | D10: =C10-B10 -> 0 | G10: =F10-E10 -> 0 | J10: =I10-H10 -> 0 | K10: =SUM(D10,G10,J10) -> 0
A11: =Bruno!$A$15 -> 0 | D11: =C11-B11 -> 0 | G11: =F11-E11 -> 0 | J11: =I11-H11 -> 0 | K11: =SUM(D11,G11,J11) -> 0
A12: =Bruno!$A$17 -> 0 | D12: =C12-B12 -> 0 | G12: =F12-E12 -> 0 | J12: =I12-H12 -> 0 | K12: =SUM(D12,G12,J12) -> 0
A13: =Bruno!$A$19 -> 0 | D13: =C13-B13 -> 0 | G13: =F13-E13 -> 0 | J13: =I13-H13 -> 0 | K13: =SUM(D13,G13,J13) -> 0
A14: =Bruno!$A$21 -> 0 | D14: =C14-B14 -> 0 | G14: =F14-E14 -> 0 | J14: =I14-H14 -> 0 | K14: =SUM(D14,G14,J14) -> 0
D15: =SUM(D8:D14) -> 0 | G15: =SUM(G8:G14) -> 0 | J15: =SUM(J8:J14) -> 0 | K15: =SUM(D15,G15,J15) -> 0
A16: OBSERVATIONS : | C16: =SUM(L8,L9,L10,L11,L12,L13,L14) -> 0 | E16: paniers | I16: heures supplémentaires
C17: =SUM(M8:M14) -> 0 | E17: heures de RN
A19: signature du salarié | K19: signature du chef de service

Sheet inter 4
C1: NOM
C2: PRENOM
C3: DATE | G3: ='feuille de présence'!$A$2 -> du au septembre
C4: SPECTACLE | G4: ='feuille de présence'!$A$3 -> 0
A6: horaires de prise de service | B6: matin | D6: total | E6: après-midi | G6: total | H6: soir | J6: total | K6: total jour | L6: Observations
B7: début | C7: fin | E7: début | F7: fin | H7: début | I7: fin | L7: paniers | M7: RN
A8: ='Eric G'!$A$9 -> 0 | D8: =C8-B8 -> 0 | G8: =F8-E8 -> 0 | J8: =I8-H8 -> 0 | K8: =SUM(D8,G8,J8) -> 0
A9: =Bruno!$A$11 -> 0 | D9: =C9-B9 -> 0 | G9: =F9-E9 -> 0 | J9: =I9-H9 -> 0 | K9: =SUM(D9,G9,J9) -> 0
A10: =Bruno!$A$13 -> 0 | D10: =C10-B10 -> 0 | G10: =F10-E10 -> 0 | J10: =I10-H10 -> 0 | K10: =SUM(D10,G10,J10) -> 0
A11: =Bruno!$A$15 -> 0 | D11: =C11-B11 -> 0 | G11: =F11-E11 -> 0 | J11: =I11-H11 -> 0 | K11: =SUM(D11,G11,J11) -> 0
A12: =Bruno!$A$17 -> 0 | D12: =C12-B12 -> 0 | G12: =F12-E12 -> 0 | J12: =I12-H12 -> 0 | K12: =SUM(D12,G12,J12) -> 0
A13: =Bruno!$A$19 -> 0 | D13: =C13-B13 -> 0 | G13: =F13-E13 -> 0 | J13: =I13-H13 -> 0 | K13: =SUM(D13,G13,J13) -> 0
A14: =Bruno!$A$21 -> 0 | D14: =C14-B14 -> 0 | G14: =F14-E14 -> 0 | J14: =I14-H14 -> 0 | K14: =SUM(D14,G14,J14) -> 0
D15: =SUM(D8:D14) -> 0 | G15: =SUM(G8:G14) -> 0 | J15: =SUM(J8:J14) -> 0 | K15: =SUM(D15,G15,J15) -> 0
A16: OBSERVATIONS : | C16: =SUM(L8,L9,L10,L11,L12,L13,L14) -> 0 | E16: paniers | I16: heures supplémentaires
C17: =SUM(M8:M14) -> 0 | E17: heures de RN
A19: signature du salarié | K19: signature du chef de service

Sheet inter 5
C1: NOM
C2: PRENOM
C3: DATE | G3: ='feuille de présence'!$A$2 -> du au septembre
C4: SPECTACLE | G4: ='feuille de présence'!$A$3 -> 0
A6: horaires de prise de service | B6: matin | D6: total | E6: après-midi | G6: total | H6: soir | J6: total | K6: total jour | L6: Observations
B7: début | C7: fin | E7: début | F7: fin | H7: début | I7: fin | L7: paniers | M7: RN
A8: ='Eric G'!$A$9 -> 0 | D8: =C8-B8 -> 0 | G8: =F8-E8 -> 0 | J8: =I8-H8 -> 0 | K8: =SUM(D8,G8,J8) -> 0
A9: =Bruno!$A$11 -> 0 | D9: =C9-B9 -> 0 | G9: =F9-E9 -> 0 | J9: =I9-H9 -> 0 | K9: =SUM(D9,G9,J9) -> 0
A10: =Bruno!$A$13 -> 0 | D10: =C10-B10 -> 0 | G10: =F10-E10 -> 0 | J10: =I10-H10 -> 0 | K10: =SUM(D10,G10,J10) -> 0
A11: =Bruno!$A$15 -> 0 | D11: =C11-B11 -> 0 | G11: =F11-E11 -> 0 | J11: =I11-H11 -> 0 | K11: =SUM(D11,G11,J11) -> 0
A12: =Bruno!$A$17 -> 0 | D12: =C12-B12 -> 0 | G12: =F12-E12 -> 0 | J12: =I12-H12 -> 0 | K12: =SUM(D12,G12,J12) -> 0
A13: =Bruno!$A$19 -> 0 | D13: =C13-B13 -> 0 | G13: =F13-E13 -> 0 | J13: =I13-H13 -> 0 | K13: =SUM(D13,G13,J13) -> 0
A14: =Bruno!$A$21 -> 0 | D14: =C14-B14 -> 0 | G14: =F14-E14 -> 0 | J14: =I14-H14 -> 0 | K14: =SUM(D14,G14,J14) -> 0
D15: =SUM(D8:D14) -> 0 | G15: =SUM(G8:G14) -> 0 | J15: =SUM(J8:J14) -> 0 | K15: =SUM(D15,G15,J15) -> 0
A16: OBSERVATIONS : | C16: =SUM(L8,L9,L10,L11,L12,L13,L14) -> 0 | E16: paniers | I16: heures supplémentaires
C17: =SUM(M8:M14) -> 0 | E17: heures de RN
A19: signature du salarié | K19: signature du chef de service

Sheet inter 6
C1: NOM
C2: PRENOM
C3: DATE | G3: ='feuille de présence'!$A$2 -> du au septembre
C4: SPECTACLE | G4: ='feuille de présence'!$A$3 -> 0
A6: horaires de prise de service | B6: matin | D6: total | E6: après-midi | G6: total | H6: soir | J6: total | K6: total jour | L6: Observations
B7: début | C7: fin | E7: début | F7: fin | H7: début | I7: fin | L7: paniers | M7: RN
A8: ='Eric G'!$A$9 -> 0 | D8: =C8-B8 -> 0 | G8: =F8-E8 -> 0 | J8: =I8-H8 -> 0 | K8: =SUM(D8,G8,J8) -> 0
A9: =Bruno!$A$11 -> 0 | D9: =C9-B9 -> 0 | G9: =F9-E9 -> 0 | J9: =I9-H9 -> 0 | K9: =SUM(D9,G9,J9) -> 0
A10: =Bruno!$A$13 -> 0 | D10: =C10-B10 -> 0 | G10: =F10-E10 -> 0 | J10: =I10-H10 -> 0 | K10: =SUM(D10,G10,J10) -> 0
A11: =Bruno!$A$15 -> 0 | D11: =C11-B11 -> 0 | G11: =F11-E11 -> 0 | J11: =I11-H11 -> 0 | K11: =SUM(D11,G11,J11) -> 0
A12: =Bruno!$A$17 -> 0 | D12: =C12-B12 -> 0 | G12: =F12-E12 -> 0 | J12: =I12-H12 -> 0 | K12: =SUM(D12,G12,J12) -> 0
A13: =Bruno!$A$19 -> 0 | D13: =C13-B13 -> 0 | G13: =F13-E13 -> 0 | J13: =I13-H13 -> 0 | K13: =SUM(D13,G13,J13) -> 0
A14: =Bruno!$A$21 -> 0 | D14: =C14-B14 -> 0 | G14: =F14-E14 -> 0 | J14: =I14-H14 -> 0 | K14: =SUM(D14,G14,J14) -> 0
D15: =SUM(D8:D14) -> 0 | G15: =SUM(G8:G14) -> 0 | J15: =SUM(J8:J14) -> 0 | K15: =SUM(D15,G15,J15) -> 0
A16: OBSERVATIONS : | C16: =SUM(L8,L9,L10,L11,L12,L13,L14) -> 0 | E16: paniers | I16: heures supplémentaires
C17: =SUM(M8:M14) -> 0 | E17: heures de RN
A19: signature du salarié | K19: signature du chef de service

Sheet inter 7
C1: NOM
C2: PRENOM
C3: DATE | G3: ='feuille de présence'!$A$2 -> du au septembre
C4: SPECTACLE | G4: ='feuille de présence'!$A$3 -> 0
A6: horaires de prise de service | B6: matin | D6: total | E6: après-midi | G6: total | H6: soir | J6: total | K6: total jour | L6: Observations
B7: début | C7: fin | E7: début | F7: fin | H7: début | I7: fin | L7: paniers | M7: RN
A8: ='Eric G'!$A$9 -> 0 | D8: =C8-B8 -> 0 | G8: =F8-E8 -> 0 | J8: =I8-H8 -> 0 | K8: =SUM(D8,G8,J8) -> 0
A9: =Bruno!$A$11 -> 0 | D9: =C9-B9 -> 0 | G9: =F9-E9 -> 0 | J9: =I9-H9 -> 0 | K9: =SUM(D9,G9,J9) -> 0
A10: =Bruno!$A$13 -> 0 | D10: =C10-B10 -> 0 | G10: =F10-E10 -> 0 | J10: =I10-H10 -> 0 | K10: =SUM(D10,G10,J10) -> 0
A11: =Bruno!$A$15 -> 0 | D11: =C11-B11 -> 0 | G11: =F11-E11 -> 0 | J11: =I11-H11 -> 0 | K11: =SUM(D11,G11,J11) -> 0
A12: =Bruno!$A$17 -> 0 | D12: =C12-B12 -> 0 | G12: =F12-E12 -> 0 | J12: =I12-H12 -> 0 | K12: =SUM(D12,G12,J12) -> 0
A13: =Bruno!$A$19 -> 0 | D13: =C13-B13 -> 0 | G13: =F13-E13 -> 0 | J13: =I13-H13 -> 0 | K13: =SUM(D13,G13,J13) -> 0
A14: =Bruno!$A$21 -> 0 | D14: =C14-B14 -> 0 | G14: =F14-E14 -> 0 | J14: =I14-H14 -> 0 | K14: =SUM(D14,G14,J14) -> 0
D15: =SUM(D8:D14) -> 0 | G15: =SUM(G8:G14) -> 0 | J15: =SUM(J8:J14) -> 0 | K15: =SUM(D15,G15,J15) -> 0
A16: OBSERVATIONS : | C16: =SUM(L8,L9,L10,L11,L12,L13,L14) -> 0 | E16: paniers | I16: heures supplémentaires
C17: =SUM(M8:M14) -> 0 | E17: heures de RN
A19: signature du salarié | K19: signature du chef de service

Sheet inter 8
C1: NOM
C2: PRENOM
C3: DATE | G3: ='feuille de présence'!$A$2 -> du au septembre
C4: SPECTACLE | G4: ='feuille de présence'!$A$3 -> 0
A6: horaires de prise de service | B6: matin | D6: total | E6: après-midi | G6: total | H6: soir | J6: total | K6: total jour | L6: Observations
B7: début | C7: fin | E7: début | F7: fin | H7: début | I7: fin | L7: paniers | M7: RN
A8: ='Eric G'!$A$9 -> 0 | D8: =C8-B8 -> 0 | G8: =F8-E8 -> 0 | J8: =I8-H8 -> 0 | K8: =SUM(D8,G8,J8) -> 0
A9: =Bruno!$A$11 -> 0 | D9: =C9-B9 -> 0 | G9: =F9-E9 -> 0 | J9: =I9-H9 -> 0 | K9: =SUM(D9,G9,J9) -> 0
A10: =Bruno!$A$13 -> 0 | D10: =C10-B10 -> 0 | G10: =F10-E10 -> 0 | J10: =I10-H10 -> 0 | K10: =SUM(D10,G10,J10) -> 0
A11: =Bruno!$A$15 -> 0 | D11: =C11-B11 -> 0 | G11: =F11-E11 -> 0 | J11: =I11-H11 -> 0 | K11: =SUM(D11,G11,J11) -> 0
A12: =Bruno!$A$17 -> 0 | D12: =C12-B12 -> 0 | G12: =F12-E12 -> 0 | J12: =I12-H12 -> 0 | K12: =SUM(D12,G12,J12) -> 0
A13: =Bruno!$A$19 -> 0 | D13: =C13-B13 -> 0 | G13: =F13-E13 -> 0 | J13: =I13-H13 -> 0 | K13: =SUM(D13,G13,J13) -> 0
A14: =Bruno!$A$21 -> 0 | D14: =C14-B14 -> 0 | G14: =F14-E14 -> 0 | J14: =I14-H14 -> 0 | K14: =SUM(D14,G14,J14) -> 0
D15: =SUM(D8:D14) -> 0 | G15: =SUM(G8:G14) -> 0 | J15: =SUM(J8:J14) -> 0 | K15: =SUM(D15,G15,J15) -> 0
A16: OBSERVATIONS : | C16: =SUM(L8,L9,L10,L11,L12,L13,L14) -> 0 | E16: paniers | I16: heures supplémentaires
C17: =SUM(M8:M14) -> 0 | E17: heures de RN
A19: signature du salarié | K19: signature du chef de service

Sheet inter 9
C1: NOM
C2: PRENOM
C3: DATE | G3: ='feuille de présence'!$A$2 -> du au septembre
C4: SPECTACLE | G4: ='feuille de présence'!$A$3 -> 0
A6: horaires de prise de service | B6: matin | D6: total | E6: après-midi | G6: total | H6: soir | J6: total | K6: total jour | L6: Observations
B7: début | C7: fin | E7: début | F7: fin | H7: début | I7: fin | L7: paniers | M7: RN
A8: ='Eric G'!$A$9 -> 0 | D8: =C8-B8 -> 0 | G8: =F8-E8 -> 0 | J8: =I8-H8 -> 0 | K8: =SUM(D8,G8,J8) -> 0
A9: =Bruno!$A$11 -> 0 | D9: =C9-B9 -> 0 | G9: =F9-E9 -> 0 | J9: =I9-H9 -> 0 | K9: =SUM(D9,G9,J9) -> 0
A10: =Bruno!$A$13 -> 0 | D10: =C10-B10 -> 0 | G10: =F10-E10 -> 0 | J10: =I10-H10 -> 0 | K10: =SUM(D10,G10,J10) -> 0
A11: =Bruno!$A$15 -> 0 | D11: =C11-B11 -> 0 | G11: =F11-E11 -> 0 | J11: =I11-H11 -> 0 | K11: =SUM(D11,G11,J11) -> 0
A12: =Bruno!$A$17 -> 0 | D12: =C12-B12 -> 0 | G12: =F12-E12 -> 0 | J12: =I12-H12 -> 0 | K12: =SUM(D12,G12,J12) -> 0
A13: =Bruno!$A$19 -> 0 | D13: =C13-B13 -> 0 | G13: =F13-E13 -> 0 | J13: =I13-H13 -> 0 | K13: =SUM(D13,G13,J13) -> 0
A14: =Bruno!$A$21 -> 0 | D14: =C14-B14 -> 0 | G14: =F14-E14 -> 0 | J14: =I14-H14 -> 0 | K14: =SUM(D14,G14,J14) -> 0
D15: =SUM(D8:D14) -> 0 | G15: =SUM(G8:G14) -> 0 | J15: =SUM(J8:J14) -> 0 | K15: =SUM(D15,G15,J15) -> 0
A16: OBSERVATIONS : | C16: =SUM(L8,L9,L10,L11,L12,L13,L14) -> 0 | E16: paniers | I16: heures supplémentaires
C17: =SUM(M8:M14) -> 0 | E17: heures de RN
A19: signature du salarié | K19: signature du chef de service

Sheet inter 10
C1: NOM
C2: PRENOM
C3: DATE | G3: ='feuille de présence'!$A$2 -> du au septembre
C4: SPECTACLE | G4: ='feuille de présence'!$A$3 -> 0
A6: horaires de prise de service | B6: matin | D6: total | E6: après-midi | G6: total | H6: soir | J6: total | K6: total jour | L6: Observations
B7: début | C7: fin | E7: début | F7: fin | H7: début | I7: fin | L7: paniers | M7: RN
A8: ='Eric G'!$A$9 -> 0 | D8: =C8-B8 -> 0 | G8: =F8-E8 -> 0 | J8: =I8-H8 -> 0 | K8: =SUM(D8,G8,J8) -> 0
A9: =Bruno!$A$11 -> 0 | D9: =C9-B9 -> 0 | G9: =F9-E9 -> 0 | J9: =I9-H9 -> 0 | K9: =SUM(D9,G9,J9) -> 0
A10: =Bruno!$A$13 -> 0 | D10: =C10-B10 -> 0 | G10: =F10-E10 -> 0 | J10: =I10-H10 -> 0 | K10: =SUM(D10,G10,J10) -> 0
A11: =Bruno!$A$15 -> 0 | D11: =C11-B11 -> 0 | G11: =F11-E11 -> 0 | J11: =I11-H11 -> 0 | K11: =SUM(D11,G11,J11) -> 0
A12: =Bruno!$A$17 -> 0 | D12: =C12-B12 -> 0 | G12: =F12-E12 -> 0 | J12: =I12-H12 -> 0 | K12: =SUM(D12,G12,J12) -> 0
A13: =Bruno!$A$19 -> 0 | D13: =C13-B13 -> 0 | G13: =F13-E13 -> 0 | J13: =I13-H13 -> 0 | K13: =SUM(D13,G13,J13) -> 0
A14: =Bruno!$A$21 -> 0 | D14: =C14-B14 -> 0 | G14: =F14-E14 -> 0 | J14: =I14-H14 -> 0 | K14: =SUM(D14,G14,J14) -> 0
D15: =SUM(D8:D14) -> 0 | G15: =SUM(G8:G14) -> 0 | J15: =SUM(J8:J14) -> 0 | K15: =SUM(D15,G15,J15) -> 0
A16: OBSERVATIONS : | C16: =SUM(L8,L9,L10,L11,L12,L13,L14) -> 0 | E16: paniers | I16: heures supplémentaires
C17: =SUM(M8:M14) -> 0 | E17: heures de RN
A19: signature du salarié | K19: signature du chef de service

Sheet inter 11
C1: NOM
C2: PRENOM
C3: DATE | G3: ='feuille de présence'!$A$2 -> du au septembre
C4: SPECTACLE | G4: ='feuille de présence'!$A$3 -> 0
A6: horaires de prise de service | B6: matin | D6: total | E6: après-midi | G6: total | H6: soir | J6: total | K6: total jour | L6: Observations
B7: début | C7: fin | E7: début | F7: fin | H7: début | I7: fin | L7: paniers | M7: RN
A8: ='Eric G'!$A$9 -> 0 | D8: =C8-B8 -> 0 | G8: =F8-E8 -> 0 | J8: =I8-H8 -> 0 | K8: =SUM(D8,G8,J8) -> 0
A9: =Bruno!$A$11 -> 0 | D9: =C9-B9 -> 0 | G9: =F9-E9 -> 0 | J9: =I9-H9 -> 0 | K9: =SUM(D9,G9,J9) -> 0
A10: =Bruno!$A$13 -> 0 | D10: =C10-B10 -> 0 | G10: =F10-E10 -> 0 | J10: =I10-H10 -> 0 | K10: =SUM(D10,G10,J10) -> 0
A11: =Bruno!$A$15 -> 0 | D11: =C11-B11 -> 0 | G11: =F11-E11 -> 0 | J11: =I11-H11 -> 0 | K11: =SUM(D11,G11,J11) -> 0
A12: =Bruno!$A$17 -> 0 | D12: =C12-B12 -> 0 | G12: =F12-E12 -> 0 | J12: =I12-H12 -> 0 | K12: =SUM(D12,G12,J12) -> 0
A13: =Bruno!$A$19 -> 0 | D13: =C13-B13 -> 0 | G13: =F13-E13 -> 0 | J13: =I13-H13 -> 0 | K13: =SUM(D13,G13,J13) -> 0
A14: =Bruno!$A$21 -> 0 | D14: =C14-B14 -> 0 | G14: =F14-E14 -> 0 | J14: =I14-H14 -> 0 | K14: =SUM(D14,G14,J14) -> 0
D15: =SUM(D8:D14) -> 0 | G15: =SUM(G8:G14) -> 0 | J15: =SUM(J8:J14) -> 0 | K15: =SUM(D15,G15,J15) -> 0
A16: OBSERVATIONS : | C16: =SUM(L8,L9,L10,L11,L12,L13,L14) -> 0 | E16: paniers | I16: heures supplémentaires
C17: =SUM(M8:M14) -> 0 | E17: heures de RN
A19: signature du salarié | K19: signature du chef de service

Sheet inter 12
C1: NOM
C2: PRENOM
C3: DATE | G3: du au
C4: SPECTACLE | G4: ='feuille de présence'!$A$3 -> 0
A6: horaires de prise de service | B6: matin | D6: total | E6: après-midi | G6: total | H6: soir | J6: total | K6: total jour | L6: Observations
B7: début | C7: fin | E7: début | F7: fin | H7: début | I7: fin | L7: paniers | M7: RN
A8: ='Eric G'!$A$9 -> 0 | D8: =C8-B8 -> 0 | G8: =F8-E8 -> 0 | J8: =I8-H8 -> 0 | K8: =SUM(D8,G8,J8) -> 0
A9: =Bruno!$A$11 -> 0 | D9: =C9-B9 -> 0 | G9: =F9-E9 -> 0 | J9: =I9-H9 -> 0 | K9: =SUM(D9,G9,J9) -> 0
A10: =Bruno!$A$13 -> 0 | D10: =C10-B10 -> 0 | G10: =F10-E10 -> 0 | J10: =I10-H10 -> 0 | K10: =SUM(D10,G10,J10) -> 0
A11: =Bruno!$A$15 -> 0 | D11: =C11-B11 -> 0 | G11: =F11-E11 -> 0 | J11: =I11-H11 -> 0 | K11: =SUM(D11,G11,J11) -> 0
A12: =Bruno!$A$17 -> 0 | D12: =C12-B12 -> 0 | G12: =F12-E12 -> 0 | J12: =I12-H12 -> 0 | K12: =SUM(D12,G12,J12) -> 0
A13: =Bruno!$A$19 -> 0 | D13: =C13-B13 -> 0 | G13: =F13-E13 -> 0 | J13: =I13-H13 -> 0 | K13: =SUM(D13,G13,J13) -> 0
A14: =Bruno!$A$21 -> 0 | D14: =C14-B14 -> 0 | G14: =F14-E14 -> 0 | J14: =I14-H14 -> 0 | K14: =SUM(D14,G14,J14) -> 0
D15: =SUM(D8:D14) -> 0 | G15: =SUM(G8:G14) -> 0 | J15: =SUM(J8:J14) -> 0 | K15: =SUM(D15,G15,J15) -> 0
A16: OBSERVATIONS : | C16: =SUM(L8,L9,L10,L11,L12,L13,L14) -> 0 | E16: paniers | I16: heures supplémentaires
C17: =SUM(M8:M14) -> 0 | E17: heures de RN
A19: signature du salarié | K19: signature du chef de service
