Workbook

Sheet Inscriptions
C2: Année scolaire | D2: 2019-2020
C3: Collège
C4: Adjoint éducatif
C5: Coordonateur
E6: Sexe | G6: Age | M6: Niveau | T6: Actions
D7: Contrôle | E7: =E9+F9 -> 3 | G7: =SUM(G9:L9) -> 3 | M7: =SUM(M9:S9) -> 3
C8: INSCRIPTIONS | E8: F | F8: G | G8: 11 | H8: 12 | I8: 13 | J8: 14 | K8: 15 | L8: 16 | M8: 6è | N8: 5è | O8: 4è | P8: 3è | Q8: SEGPA | R8: ULIS | S8: UPEAA | T8: Club | U8: Aide aux devoirs | V8: Séjours | W8: Orientation | X8: Week-ends | Y8: Sorties | Z8: Projets | AA8: Tutorat | AB8: Médiation | AC8: Elèves exclues | AD8: Rencontres familles
D9: Total | E9: =COUNTA(E11:E510) -> 1 | F9: =COUNTA(F11:F510) -> 2 | G9: =COUNTA(G11:G510) -> 1 | H9: =COUNTA(H11:H510) -> 1 | I9: =COUNTA(I11:I510) -> 1 | J9: =COUNTA(J11:J510) -> 0 | K9: =COUNTA(K11:K510) -> 0 | L9: =COUNTA(L11:L510) -> 0 | ... AD9: =COUNTA(AD11:AD510) -> 0
A10: n° | B10: Classe | C10: Nom | D10: Prénom
A11: 1 | B11: 6A | C11: éléve1 | D11: eleve1 | E11: x | H11: x | N11: x | T11: x | V11: x
A12: 2 | B12: 5A | C12: eleve2 | D12: eleve 2 | F12: x | I12: x | O12: x | U12: x | Y12: x
A13: 3 | B13: 4A | C13: eleve3 | D13: eleve3 | F13: x | G13: x | M13: x | T13: x | U13: x
A14: 4
A15: 5
A16: 6
A17: 7
A18: 8
A19: 9
A20: 10
A21: 11
A22: 12
A23: 13
A24: 14
A25: 15
... A510: 500

Sheet Club
B2: Année scolaire | C2: =Inscriptions!D2 -> 2019-2020 | X2: Septembre | Z2: Total passages | AB2: =SUM(E8:AG8) -> 0 | AC2: Jours d'ouverture | AG2: =COUNTIF(E8:AG8, "> 0") -> 0 | BD2: Octobre | BF2: Total passages | BH2: =SUM(AI8:BM8) -> 0 | BI2: Jours d'ouverture | BM2: =COUNTIF(AI8:BM8, ">0") -> 0 | CI2: Novembre | CK2: Total passages | CM2: =SUM(BO8:CR8) -> 0 | CN2: Jours d'ouverture | CR2: =COUNTIF(BO8:CR8, ">0") -> 0 | DO2: Décembre | DQ2: Total passages | DS2: =SUM(CT8:DX8) -> 0 | DT2: Jours d'ouverture | DX2: =COUNTIF(CT8:DX8, ">0") -> 0 | EU2: Janvier | EW2: Total passages | EY2: =SUM(DZ8:FD8) -> 0 | EZ2: Jours d'ouverture | FD2: =COUNTIF(DZ8:FD8, ">0") -> 0 | FY2: Février | GA2: Total passages | GC2: =SUM(FF8:GH8) -> 0 | GD2: Jours d'ouverture | GH2: =COUNTIF(FF8:GH8, ">0") -> 0 | HE2: Mars | HG2: Total passages | HI2: =SUM(GJ8:HN8) -> 0 | HJ2: Jours d'ouverture | HN2: =COUNTIF(GJ8:HN8, ">0") -> 0 | IJ2: Avril | IL2: Total passages | IN2: =SUM(HP8:IS8) -> 0 | IO2: Jours d'ouverture | IS2: =COUNTIF(HP8:IS8, ">0") -> 0 | JP2: Mai | JR2: Total passages | JT2: =SUM(IU8:JY8) -> 0 | JU2: Jours d'ouverture | JY2: =COUNTIF(IU8:JY8, ">0") -> 0 | KU2: Juin | KW2: Total passages | KY2: =SUM(KA8:LD8) -> 0 | KZ2: Jours d'ouverture | LD2: =COUNTIF(KA8:LD8, ">0") -> 0 | MA2: Juillet | MC2: Total passages | ME2: =SUM(LF8:MJ8) -> 0 | MF2: Jours d'ouverture | MJ2: =COUNTIF(LF8:MJ8, ">0") -> 0 | NG2: Aout | NI2: Total passages | NK2: =SUM(ML8:NP8) -> 0 | NL2: Jours d'ouverture | NP2: =COUNTIF(ML8:NP8, ">0") -> 0
B3: Collège | C3: =Inscriptions!D3 -> 0 | Z3: Total inscrits | AB3: =COUNTIF(AH10:AH509,">0") -> 0 | AC3: Moy des jeunes/ jour d'ouverture | AG3: =AB2/AG2 -> #DIV/0! | BF3: Total inscrits | BH3: =COUNTIF(BN10:BN509,">0") -> 0 | BI3: Moy des jeunes/ jour d'ouverture | BM3: =BH2/BM2 -> #DIV/0! | CK3: Total inscrits | CM3: =COUNTIF(CS10:CS509,">0") -> 0 | CN3: Moy des jeunes/ jour d'ouverture | CR3: =CM2/CR2 -> #DIV/0! | DQ3: Total inscrits | DS3: =COUNTIF(DY10:DY509,">0") -> 0 | DT3: Moy des jeunes/ jour d'ouverture | DX3: =DS2/DX2 -> #DIV/0! | EW3: Total inscrits | EY3: =COUNTIF(FE10:FE509,">0") -> 0 | EZ3: Moy des jeunes/ jour d'ouverture | FD3: =EY2/FD2 -> #DIV/0! | GA3: Total inscrits | GC3: =COUNTIF(GI10:GI509,">0") -> 0 | GD3: Moy des jeunes/ jour d'ouverture | GH3: =GC2/GH2 -> #DIV/0! | HG3: Total inscrits | HI3: =COUNTIF(HO10:HO509,">0") -> 0 | HJ3: Moy des jeunes/ jour d'ouverture | HN3: =HI2/HN2 -> #DIV/0! | IL3: Total inscrits | IN3: =COUNTIF(IT10:IT509,">0") -> 0 | IO3: Moy des jeunes/ jour d'ouverture | IS3: =IN2/IS2 -> #DIV/0! | JR3: Total inscrits | JT3: =COUNTIF(JZ10:JZ509,">0") -> 0 | JU3: Moy des jeunes/ jour d'ouverture | JY3: =JT2/JY2 -> #DIV/0! | KW3: Total inscrits | KY3: =COUNTIF(LE10:LE509,">0") -> 0 | KZ3: Moy des jeunes/ jour d'ouverture | LD3: =KY2/LD2 -> #DIV/0! | MC3: Total inscrits | ME3: =COUNTIF(MK10:MK509,">0") -> 0 | MF3: Moy des jeunes/ jour d'ouverture | MJ3: =ME2/MJ2 -> #DIV/0! | NI3: Total inscrits | NK3: =COUNTIF(NQ10:NQ509,">0") -> 0 | NL3: Moy des jeunes/ jour d'ouverture | NP3: =NK2/NP2 -> #DIV/0!
B4: Adjoint éducatif | C4: =Inscriptions!D4 -> 0
B5: Coordonateur | C5: =Inscriptions!D5 -> 0
E6: lun | F6: mar | G6: mer | H6: jeu | I6: ven | J6: sam | K6: dim | L6: lun | M6: mar | N6: mer | O6: jeu | P6: ven | Q6: sam | R6: dim | S6: lun | T6: mar | U6: mer | V6: jeu | W6: ven | X6: sam | Y6: dim | Z6: lun | AA6: mar | AB6: mer | AC6: jeu | AD6: ven | AE6: sam | AF6: dim | AG6: lun | AH6: Présence jeunes | AI6: mar | AJ6: mer | AK6: jeu | AL6: ven | AM6: sam | AN6: dim | AO6: lun | AP6: mar | AQ6: mer | AR6: jeu | AS6: ven | AT6: sam | AU6: dim | AV6: lun | AW6: mar | AX6: mer | AY6: jeu | AZ6: ven | BA6: sam | BB6: dim | BC6: lun | BD6: mar | BE6: mer | BF6: jeu | BG6: ven | BH6: sam | BI6: dim | BJ6: lun | BK6: mar | BL6: mer | BM6: jeu | BN6: Présence jeunes | BO6: ven | BP6: sam | BQ6: dim | BR6: lun | BS6: mar | BT6: mer | BU6: jeu | BV6: ven | BW6: sam | BX6: dim | BY6: lun | BZ6: mar | CA6: mer | CB6: jeu | CC6: ven | CD6: sam | CE6: dim | CF6: lun | CG6: mar | CH6: mer | CI6: jeu | CJ6: ven | CK6: sam | CL6: dim | CM6: lun | CN6: mar | CO6: mer | CP6: jeu | CQ6: ven | CR6: sam | CS6: Présence jeunes | CT6: dim | CU6: lun | CV6: mar | CW6: mer | CX6: jeu | CY6: ven | CZ6: sam | DA6: dim | DB6: lun | DC6: mar | DD6: mer | DE6: jeu | DF6: ven | DG6: sam | DH6: dim | DI6: lun | DJ6: mar | DK6: mer | DL6: jeu | DM6: ven | DN6: sam | DO6: dim | DP6: lun | DQ6: mar | DR6: mer | DS6: jeu | DT6: ven | DU6: sam | DV6: dim | DW6: lun | DX6: mar | DY6: Présence jeunes | DZ6: mer | EA6: jeu | EB6: ven | EC6: sam | ED6: dim | EE6: lun | EF6: mar | EG6: mer | EH6: jeu | EI6: ven | EJ6: sam | EK6: dim | EL6: lun | EM6: mar | EN6: mer | EO6: jeu | EP6: ven | EQ6: sam | ER6: dim | ES6: lun | ET6: mar | EU6: mer | EV6: jeu | EW6: ven | EX6: sam | EY6: dim | EZ6: lun | FA6: mar | FB6: mer | FC6: jeu | FD6: ven | FE6: Présence jeunes | FF6: sam | FG6: dim | FH6: lun | FI6: mar | FJ6: mer | FK6: jeu | FL6: ven | FM6: sam | FN6: dim | FO6: lun | FP6: mar | FQ6: mer | FR6: jeu | FS6: ven | FT6: sam | FU6: dim | FV6: lun | FW6: mar | FX6: mer | FY6: jeu | FZ6: ven | GA6: sam | GB6: dim | GC6: lun | GD6: mar | GE6: mer | GF6: jeu | GG6: ven | GH6: sam | GI6: Présence jeunes | GJ6: dim | GK6: lun | GL6: mar | GM6: mer | GN6: jeu | GO6: ven | GP6: sam | GQ6: dim | GR6: lun | GS6: mar | GT6: mer | GU6: jeu | GV6: ven | GW6: sam | GX6: dim | GY6: lun | GZ6: mar | HA6: mer | HB6: jeu | HC6: ven | HD6: sam | HE6: dim | HF6: lun | HG6: mar | HH6: mer | HI6: jeu | HJ6: ven | HK6: sam | HL6: dim | HM6: lun | HN6: mar | HO6: Présence jeunes | HP6: mer | HQ6: jeu | HR6: ven | HS6: sam | HT6: dim | HU6: lun | HV6: mar | HW6: mer | HX6: jeu | HY6: ven | HZ6: sam | IA6: dim | IB6: lun | IC6: mar | ID6: mer | IE6: jeu | IF6: ven | IG6: sam | IH6: dim | II6: lun | IJ6: mar | IK6: mer | IL6: jeu | IM6: ven | IN6: sam | IO6: dim | IP6: lun | IQ6: mar | IR6: mer | IS6: jeu | IT6: Présence jeunes | IU6: ven | IV6: sam | IW6: dim | IX6: lun | IY6: mar | IZ6: mer | JA6: jeu | JB6: ven | JC6: sam | JD6: dim | JE6: lun | JF6: mar | JG6: mer | JH6: jeu | JI6: ven | JJ6: sam | JK6: dim | JL6: lun | JM6: mar | JN6: mer | JO6: jeu | JP6: ven | JQ6: sam | JR6: dim | JS6: lun | JT6: mar | JU6: mer | JV6: jeu | JW6: ven | JX6: sam | JY6: dim | JZ6: Présence jeunes | KA6: lun | KB6: mar | KC6: mer | KD6: jeu | KE6: ven | KF6: sam | KG6: dim | KH6: lun | KI6: mar | KJ6: mer | KK6: jeu | KL6: ven | KM6: sam | KN6: dim | KO6: lun | KP6: mar | KQ6: mer | KR6: jeu | KS6: ven | KT6: sam | KU6: dim | KV6: lun | KW6: mar | KX6: mer | KY6: jeu | KZ6: ven | LA6: sam | LB6: dim | LC6: lun | LD6: mar | LE6: Présence jeunes | LF6: mer | LG6: jeu | LH6: ven | LI6: sam | LJ6: dim | LK6: lun | LL6: mar | LM6: mer | LN6: jeu | LO6: ven | LP6: sam | LQ6: dim | LR6: lun | LS6: mar | LT6: mer | LU6: jeu | LV6: ven | LW6: sam | LX6: dim | LY6: lun | LZ6: mar | MA6: mer | MB6: jeu | MC6: ven | MD6: sam | ME6: dim | MF6: lun | MG6: mar | MH6: mer | MI6: jeu | MJ6: ven | MK6: Présence jeunes | ML6: sam | MM6: dim | MN6: lun | MO6: mar | MP6: mer | MQ6: jeu | MR6: ven | MS6: sam | MT6: dim | MU6: lun | MV6: mar | MW6: mer | MX6: jeu | MY6: ven | MZ6: sam | NA6: dim | NB6: lun | NC6: mar | ND6: mer | NE6: jeu | NF6: ven | NG6: sam | NH6: dim | NI6: lun | NJ6: mar | NK6: mer | NL6: jeu | NM6: ven | NN6: sam | NO6: dim | NP6: lun | NQ6: Présence jeunes
C7: CLUB | E7: 43710 | F7: 43711 | G7: 43712 | H7: 43713 | I7: 43714 | J7: 43715 | K7: 43716 | L7: 43717 | M7: 43718 | N7: 43719 | O7: 43720 | P7: 43721 | Q7: 43722 | R7: 43723 | S7: 43724 | T7: 43725 | U7: 43726 | V7: 43727 | W7: 43728 | X7: 43729 | Y7: 43730 | Z7: 43731 | AA7: 43732 | AB7: 43733 | AC7: 43734 | AD7: 43735 | AE7: 43736 | AF7: 43737 | AG7: 43738 | AI7: 43739 | AJ7: 43740 | AK7: 43741 | AL7: 43742 | AM7: 43743 | AN7: 43744 | AO7: 43745 | AP7: 43746 | AQ7: 43747 | AR7: 43748 | AS7: 43749 | AT7: 43750 | AU7: 43751 | AV7: 43752 | AW7: 43753 | AX7: 43754 | AY7: 43755 | AZ7: 43756 | BA7: 43757 | BB7: 43758 | BC7: 43759 | BD7: 43760 | BE7: 43761 | BF7: 43762 | BG7: 43763 | BH7: 43764 | BI7: 43765 | BJ7: 43766 | BK7: 43767 | BL7: 43768 | BM7: 43769 | BO7: 43770 | BP7: 43771 | BQ7: 43772 | BR7: 43773 | BS7: 43774 | BT7: 43775 | BU7: 43776 | BV7: 43777 | BW7: 43778 | BX7: 43779 | BY7: 43780 | BZ7: 43781 | CA7: 43782 | CB7: 43783 | CC7: 43784 | CD7: 43785 | CE7: 43786 | CF7: 43787 | CG7: 43788 | CH7: 43789 | CI7: 43790 | CJ7: 43791 | CK7: 43792 | CL7: 43793 | CM7: 43794 | CN7: 43795 | CO7: 43796 | CP7: 43797 | CQ7: 43798 | CR7: 43799 | CT7: 43800 | CU7: 43801 | CV7: 43802 | CW7: 43803 | CX7: 43804 | CY7: 43805 | CZ7: 43806 | DA7: 43807 | DB7: 43808 | DC7: 43809 | DD7: 43810 | DE7: 43811 | DF7: 43812 | DG7: 43813 | DH7: 43814 | DI7: 43815 | DJ7: 43816 | DK7: 43817 | DL7: 43818 | DM7: 43819 | DN7: 43820 | DO7: 43821 | DP7: 43822 | DQ7: 43823 | DR7: 43824 | DS7: 43825 | DT7: 43826 | DU7: 43827 | DV7: 43828 | DW7: 43829 | DX7: 43830 | DZ7: 43831 | EA7: 43832 | EB7: 43833 | EC7: 43834 | ED7: 43835 | EE7: 43836 | EF7: 43837 | EG7: 43838 | EH7: 43839 | EI7: 43840 | EJ7: 43841 | EK7: 43842 | EL7: 43843 | EM7: 43844 | EN7: 43845 | EO7: 43846 | EP7: 43847 | EQ7: 43848 | ER7: 43849 | ES7: 43850 | ET7: 43851 | EU7: 43852 | EV7: 43853 | EW7: 43854 | EX7: 43855 | EY7: 43856 | EZ7: 43857 | FA7: 43858 | FB7: 43859 | FC7: 43860 | FD7: 43861 | FF7: 43862 | FG7: 43863 | FH7: 43864 | FI7: 43865 | FJ7: 43866 | FK7: 43867 | FL7: 43868 | FM7: 43869 | FN7: 43870 | FO7: 43871 | FP7: 43872 | FQ7: 43873 | FR7: 43874 | FS7: 43875 | FT7: 43876 | FU7: 43877 | FV7: 43878 | FW7: 43879 | FX7: 43880 | FY7: 43881 | FZ7: 43882 | GA7: 43883 | GB7: 43884 | GC7: 43885 | GD7: 43886 | GE7: 43887 | GF7: 43888 | GG7: 43889 | GH7: 43890 | GJ7: 43891 | GK7: 43892 | GL7: 43893 | GM7: 43894 | GN7: 43895 | GO7: 43896 | GP7: 43897 | GQ7: 43898 | GR7: 43899 | GS7: 43900 | GT7: 43901 | GU7: 43902 | GV7: 43903 | GW7: 43904 | GX7: 43905 | GY7: 43906 | GZ7: 43907 | HA7: 43908 | HB7: 43909 | HC7: 43910 | HD7: 43911 | HE7: 43912 | HF7: 43913 | HG7: 43914 | HH7: 43915 | HI7: 43916 | HJ7: 43917 | HK7: 43918 | HL7: 43919 | HM7: 43920 | HN7: 43921 | HP7: 43922 | HQ7: 43923 | HR7: 43924 | HS7: 43925 | HT7: 43926 | HU7: 43927 | HV7: 43928 | HW7: 43929 | HX7: 43930 | HY7: 43931 | HZ7: 43932 | IA7: 43933 | IB7: 43934 | IC7: 43935 | ID7: 43936 | IE7: 43937 | IF7: 43938 | IG7: 43939 | IH7: 43940 | II7: 43941 | IJ7: 43942 | IK7: 43943 | IL7: 43944 | IM7: 43945 | IN7: 43946 | IO7: 43947 | IP7: 43948 | IQ7: 43949 | IR7: 43950 | IS7: 43951 | IU7: 43952 | IV7: 43953 | IW7: 43954 | IX7: 43955 | IY7: 43956 | IZ7: 43957 | JA7: 43958 | JB7: 43959 | JC7: 43960 | JD7: 43961 | JE7: 43962 | JF7: 43963 | JG7: 43964 | JH7: 43965 | JI7: 43966 | JJ7: 43967 | JK7: 43968 | JL7: 43969 | JM7: 43970 | JN7: 43971 | JO7: 43972 | JP7: 43973 | JQ7: 43974 | JR7: 43975 | JS7: 43976 | JT7: 43977 | JU7: 43978 | JV7: 43979 | JW7: 43980 | JX7: 43981 | JY7: 43982 | KA7: 43983 | KB7: 43984 | KC7: 43985 | KD7: 43986 | KE7: 43987 | KF7: 43988 | KG7: 43989 | KH7: 43990 | KI7: 43991 | KJ7: 43992 | KK7: 43993 | KL7: 43994 | KM7: 43995 | KN7: 43996 | KO7: 43997 | KP7: 43998 | KQ7: 43999 | KR7: 44000 | KS7: 44001 | KT7: 44002 | KU7: 44003 | KV7: 44004 | KW7: 44005 | KX7: 44006 | KY7: 44007 | KZ7: 44008 | LA7: 44009 | LB7: 44010 | LC7: 44011 | LD7: 44012 | LF7: 44013 | LG7: 44014 | LH7: 44015 | LI7: 44016 | LJ7: 44017 | LK7: 44018 | LL7: 44019 | LM7: 44020 | LN7: 44021 | LO7: 44022 | LP7: 44023 | LQ7: 44024 | LR7: 44025 | LS7: 44026 | LT7: 44027 | LU7: 44028 | LV7: 44029 | LW7: 44030 | LX7: 44031 | LY7: 44032 | LZ7: 44033 | MA7: 44034 | MB7: 44035 | MC7: 44036 | MD7: 44037 | ME7: 44038 | MF7: 44039 | MG7: 44040 | MH7: 44041 | MI7: 44042 | MJ7: 44043 | ML7: 44044 | MM7: 44045 | MN7: 44046 | MO7: 44047 | MP7: 44048 | MQ7: 44049 | MR7: 44050 | MS7: 44051 | MT7: 44052 | MU7: 44053 | MV7: 44054 | MW7: 44055 | MX7: 44056 | MY7: 44057 | MZ7: 44058 | NA7: 44059 | NB7: 44060 | NC7: 44061 | ND7: 44062 | NE7: 44063 | NF7: 44064 | NG7: 44065 | NH7: 44066 | NI7: 44067 | NJ7: 44068 | NK7: 44069 | NL7: 44070 | NM7: 44071 | NN7: 44072 | NO7: 44073 | NP7: 44074
D8: Total | E8: =COUNTA(E10:E509) -> 0 | F8: =COUNTA(F10:F509) -> 0 | G8: =COUNTA(G10:G509) -> 0 | H8: =COUNTA(H10:H509) -> 0 | I8: =COUNTA(I10:I509) -> 0 | J8: =COUNTA(J10:J509) -> 0 | K8: =COUNTA(K10:K509) -> 0 | L8: =COUNTA(L10:L509) -> 0 | ... AG8: =COUNTA(AG10:AG509) -> 0 | AI8: =COUNTA(AI10:AI509) -> 0 | AJ8: =COUNTA(AJ10:AJ509) -> 0 | AK8: =COUNTA(AK10:AK509) -> 0 | AL8: =COUNTA(AL10:AL509) -> 0 | AM8: =COUNTA(AM10:AM509) -> 0 | AN8: =COUNTA(AN10:AN509) -> 0 | AO8: =COUNTA(AO10:AO509) -> 0 | AP8: =COUNTA(AP10:AP509) -> 0 | ... BM8: =COUNTA(BM10:BM509) -> 0 | BO8: =COUNTA(BO10:BO509) -> 0 | BP8: =COUNTA(BP10:BP509) -> 0 | BQ8: =COUNTA(BQ10:BQ509) -> 0 | BR8: =COUNTA(BR10:BR509) -> 0 | BS8: =COUNTA(BS10:BS509) -> 0 | BT8: =COUNTA(BT10:BT509) -> 0 | BU8: =COUNTA(BU10:BU509) -> 0 | BV8: =COUNTA(BV10:BV509) -> 0 | ... CR8: =COUNTA(CR10:CR509) -> 0 | CT8: =COUNTA(CT10:CT509) -> 0 | CU8: =COUNTA(CU10:CU509) -> 0 | CV8: =COUNTA(CV10:CV509) -> 0 | CW8: =COUNTA(CW10:CW509) -> 0 | CX8: =COUNTA(CX10:CX509) -> 0 | CY8: =COUNTA(CY10:CY509) -> 0 | CZ8: =COUNTA(CZ10:CZ509) -> 0 | DA8: =COUNTA(DA10:DA509) -> 0 | ... DX8: =COUNTA(DX10:DX509) -> 0 | DZ8: =COUNTA(DZ10:DZ509) -> 0 | EA8: =COUNTA(EA10:EA509) -> 0 | EB8: =COUNTA(EB10:EB509) -> 0 | EC8: =COUNTA(EC10:EC509) -> 0 | ED8: =COUNTA(ED10:ED509) -> 0 | EE8: =COUNTA(EE10:EE509) -> 0 | EF8: =COUNTA(EF10:EF509) -> 0 | EG8: =COUNTA(EG10:EG509) -> 0 | ... FD8: =COUNTA(FD10:FD509) -> 0 | FF8: =COUNTA(FF10:FF509) -> 0 | FG8: =COUNTA(FG10:FG509) -> 0 | FH8: =COUNTA(FH10:FH509) -> 0 | FI8: =COUNTA(FI10:FI509) -> 0 | FJ8: =COUNTA(FJ10:FJ509) -> 0 | FK8: =COUNTA(FK10:FK509) -> 0 | FL8: =COUNTA(FL10:FL509) -> 0 | FM8: =COUNTA(FM10:FM509) -> 0 | ... GH8: =COUNTA(GH10:GH509) -> 0 | GJ8: =COUNTA(GJ10:GJ509) -> 0 | GK8: =COUNTA(GK10:GK509) -> 0 | GL8: =COUNTA(GL10:GL509) -> 0 | GM8: =COUNTA(GM10:GM509) -> 0 | GN8: =COUNTA(GN10:GN509) -> 0 | GO8: =COUNTA(GO10:GO509) -> 0 | GP8: =COUNTA(GP10:GP509) -> 0 | GQ8: =COUNTA(GQ10:GQ509) -> 0 | ... HN8: =COUNTA(HN10:HN509) -> 0 | HP8: =COUNTA(HP10:HP509) -> 0 | HQ8: =COUNTA(HQ10:HQ509) -> 0 | HR8: =COUNTA(HR10:HR509) -> 0 | HS8: =COUNTA(HS10:HS509) -> 0 | HT8: =COUNTA(HT10:HT509) -> 0 | HU8: =COUNTA(HU10:HU509) -> 0 | HV8: =COUNTA(HV10:HV509) -> 0 | HW8: =COUNTA(HW10:HW509) -> 0 | ... IS8: =COUNTA(IS10:IS509) -> 0 | IU8: =COUNTA(IU10:IU509) -> 0 | IV8: =COUNTA(IV10:IV509) -> 0 | IW8: =COUNTA(IW10:IW509) -> 0 | IX8: =COUNTA(IX10:IX509) -> 0 | IY8: =COUNTA(IY10:IY509) -> 0 | IZ8: =COUNTA(IZ10:IZ509) -> 0 | JA8: =COUNTA(JA10:JA509) -> 0 | JB8: =COUNTA(JB10:JB509) -> 0 | ... JY8: =COUNTA(JY10:JY509) -> 0 | KA8: =COUNTA(KA10:KA509) -> 0 | KB8: =COUNTA(KB10:KB509) -> 0 | KC8: =COUNTA(KC10:KC509) -> 0 | KD8: =COUNTA(KD10:KD509) -> 0 | KE8: =COUNTA(KE10:KE509) -> 0 | KF8: =COUNTA(KF10:KF509) -> 0 | KG8: =COUNTA(KG10:KG509) -> 0 | KH8: =COUNTA(KH10:KH509) -> 0 | ... LD8: =COUNTA(LD10:LD509) -> 0 | LF8: =COUNTA(LF10:LF509) -> 0 | LG8: =COUNTA(LG10:LG509) -> 0 | LH8: =COUNTA(LH10:LH509) -> 0 | LI8: =COUNTA(LI10:LI509) -> 0 | LJ8: =COUNTA(LJ10:LJ509) -> 0 | LK8: =COUNTA(LK10:LK509) -> 0 | LL8: =COUNTA(LL10:LL509) -> 0 | LM8: =COUNTA(LM10:LM509) -> 0 | ... MJ8: =COUNTA(MJ10:MJ509) -> 0 | ML8: =COUNTA(ML10:ML509) -> 0 | MM8: =COUNTA(MM10:MM509) -> 0 | MN8: =COUNTA(MN10:MN509) -> 0 | MO8: =COUNTA(MO10:MO509) -> 0 | MP8: =COUNTA(MP10:MP509) -> 0 | MQ8: =COUNTA(MQ10:MQ509) -> 0 | MR8: =COUNTA(MR10:MR509) -> 0 | MS8: =COUNTA(MS10:MS509) -> 0 | ... NP8: =COUNTA(NP10:NP509) -> 0
A9: n° | B9: Classe | C9: Nom | D9: Prénom
A10: 1 | AH10: =COUNTA(E10:AG10) -> 0 | BN10: =COUNTA(AI10:BM10) -> 0 | CS10: =COUNTA(BO10:CR10) -> 0 | DY10: =COUNTA(CT10:DX10) -> 0 | FE10: =COUNTA(DZ10:FD10) -> 0 | GI10: =COUNTA(FF10:GH10) -> 0 | HO10: =COUNTA(GJ10:HN10) -> 0 | IT10: =COUNTA(HP10:IS10) -> 0 | JZ10: =COUNTA(IU10:JY10) -> 0 | LE10: =COUNTA(KA10:LD10) -> 0 | MK10: =COUNTA(LF10:MJ10) -> 0 | NQ10: =COUNTA(ML10:NP10) -> 0
A11: 2 | AH11: =COUNTA(E11:AG11) -> 0 | BN11: =COUNTA(AI11:BM11) -> 0 | CS11: =COUNTA(BO11:CR11) -> 0 | DY11: =COUNTA(CT11:DX11) -> 0 | FE11: =COUNTA(DZ11:FD11) -> 0 | GI11: =COUNTA(FF11:GH11) -> 0 | HO11: =COUNTA(GJ11:HN11) -> 0 | IT11: =COUNTA(HP11:IS11) -> 0 | JZ11: =COUNTA(IU11:JY11) -> 0 | LE11: =COUNTA(KA11:LD11) -> 0 | MK11: =COUNTA(LF11:MJ11) -> 0 | NQ11: =COUNTA(ML11:NP11) -> 0
A12: 3 | AH12: =COUNTA(E12:AG12) -> 0 | BN12: =COUNTA(AI12:BM12) -> 0 | CS12: =COUNTA(BO12:CR12) -> 0 | DY12: =COUNTA(CT12:DX12) -> 0 | FE12: =COUNTA(DZ12:FD12) -> 0 | GI12: =COUNTA(FF12:GH12) -> 0 | HO12: =COUNTA(GJ12:HN12) -> 0 | IT12: =COUNTA(HP12:IS12) -> 0 | JZ12: =COUNTA(IU12:JY12) -> 0 | LE12: =COUNTA(KA12:LD12) -> 0 | MK12: =COUNTA(LF12:MJ12) -> 0 | NQ12: =COUNTA(ML12:NP12) -> 0
A13: 4 | AH13: =COUNTA(E13:AG13) -> 0 | BN13: =COUNTA(AI13:BM13) -> 0 | CS13: =COUNTA(BO13:CR13) -> 0 | DY13: =COUNTA(CT13:DX13) -> 0 | FE13: =COUNTA(DZ13:FD13) -> 0 | GI13: =COUNTA(FF13:GH13) -> 0 | HO13: =COUNTA(GJ13:HN13) -> 0 | IT13: =COUNTA(HP13:IS13) -> 0 | JZ13: =COUNTA(IU13:JY13) -> 0 | LE13: =COUNTA(KA13:LD13) -> 0 | MK13: =COUNTA(LF13:MJ13) -> 0 | NQ13: =COUNTA(ML13:NP13) -> 0
A14: 5 | AH14: =COUNTA(E14:AG14) -> 0 | BN14: =COUNTA(AI14:BM14) -> 0 | CS14: =COUNTA(BO14:CR14) -> 0 | DY14: =COUNTA(CT14:DX14) -> 0 | FE14: =COUNTA(DZ14:FD14) -> 0 | GI14: =COUNTA(FF14:GH14) -> 0 | HO14: =COUNTA(GJ14:HN14) -> 0 | IT14: =COUNTA(HP14:IS14) -> 0 | JZ14: =COUNTA(IU14:JY14) -> 0 | LE14: =COUNTA(KA14:LD14) -> 0 | MK14: =COUNTA(LF14:MJ14) -> 0 | NQ14: =COUNTA(ML14:NP14) -> 0
A15: 6 | AH15: =COUNTA(E15:AG15) -> 0 | BN15: =COUNTA(AI15:BM15) -> 0 | CS15: =COUNTA(BO15:CR15) -> 0 | DY15: =COUNTA(CT15:DX15) -> 0 | FE15: =COUNTA(DZ15:FD15) -> 0 | GI15: =COUNTA(FF15:GH15) -> 0 | HO15: =COUNTA(GJ15:HN15) -> 0 | IT15: =COUNTA(HP15:IS15) -> 0 | JZ15: =COUNTA(IU15:JY15) -> 0 | LE15: =COUNTA(KA15:LD15) -> 0 | MK15: =COUNTA(LF15:MJ15) -> 0 | NQ15: =COUNTA(ML15:NP15) -> 0
A16: 7 | AH16: =COUNTA(E16:AG16) -> 0 | BN16: =COUNTA(AI16:BM16) -> 0 | CS16: =COUNTA(BO16:CR16) -> 0 | DY16: =COUNTA(CT16:DX16) -> 0 | FE16: =COUNTA(DZ16:FD16) -> 0 | GI16: =COUNTA(FF16:GH16) -> 0 | HO16: =COUNTA(GJ16:HN16) -> 0 | IT16: =COUNTA(HP16:IS16) -> 0 | JZ16: =COUNTA(IU16:JY16) -> 0 | LE16: =COUNTA(KA16:LD16) -> 0 | MK16: =COUNTA(LF16:MJ16) -> 0 | NQ16: =COUNTA(ML16:NP16) -> 0
A17: 8 | AH17: =COUNTA(E17:AG17) -> 0 | BN17: =COUNTA(AI17:BM17) -> 0 | CS17: =COUNTA(BO17:CR17) -> 0 | DY17: =COUNTA(CT17:DX17) -> 0 | FE17: =COUNTA(DZ17:FD17) -> 0 | GI17: =COUNTA(FF17:GH17) -> 0 | HO17: =COUNTA(GJ17:HN17) -> 0 | IT17: =COUNTA(HP17:IS17) -> 0 | JZ17: =COUNTA(IU17:JY17) -> 0 | LE17: =COUNTA(KA17:LD17) -> 0 | MK17: =COUNTA(LF17:MJ17) -> 0 | NQ17: =COUNTA(ML17:NP17) -> 0
A18: 9 | AH18: =COUNTA(E18:AG18) -> 0 | BN18: =COUNTA(AI18:BM18) -> 0 | CS18: =COUNTA(BO18:CR18) -> 0 | DY18: =COUNTA(CT18:DX18) -> 0 | FE18: =COUNTA(DZ18:FD18) -> 0 | GI18: =COUNTA(FF18:GH18) -> 0 | HO18: =COUNTA(GJ18:HN18) -> 0 | IT18: =COUNTA(HP18:IS18) -> 0 | JZ18: =COUNTA(IU18:JY18) -> 0 | LE18: =COUNTA(KA18:LD18) -> 0 | MK18: =COUNTA(LF18:MJ18) -> 0 | NQ18: =COUNTA(ML18:NP18) -> 0
A19: 10 | AH19: =COUNTA(E19:AG19) -> 0 | BN19: =COUNTA(AI19:BM19) -> 0 | CS19: =COUNTA(BO19:CR19) -> 0 | DY19: =COUNTA(CT19:DX19) -> 0 | FE19: =COUNTA(DZ19:FD19) -> 0 | GI19: =COUNTA(FF19:GH19) -> 0 | HO19: =COUNTA(GJ19:HN19) -> 0 | IT19: =COUNTA(HP19:IS19) -> 0 | JZ19: =COUNTA(IU19:JY19) -> 0 | LE19: =COUNTA(KA19:LD19) -> 0 | MK19: =COUNTA(LF19:MJ19) -> 0 | NQ19: =COUNTA(ML19:NP19) -> 0
A20: 11 | AH20: =COUNTA(E20:AG20) -> 0 | BN20: =COUNTA(AI20:BM20) -> 0 | CS20: =COUNTA(BO20:CR20) -> 0 | DY20: =COUNTA(CT20:DX20) -> 0 | FE20: =COUNTA(DZ20:FD20) -> 0 | GI20: =COUNTA(FF20:GH20) -> 0 | HO20: =COUNTA(GJ20:HN20) -> 0 | IT20: =COUNTA(HP20:IS20) -> 0 | JZ20: =COUNTA(IU20:JY20) -> 0 | LE20: =COUNTA(KA20:LD20) -> 0 | MK20: =COUNTA(LF20:MJ20) -> 0 | NQ20: =COUNTA(ML20:NP20) -> 0
A21: 12 | AH21: =COUNTA(E21:AG21) -> 0 | BN21: =COUNTA(AI21:BM21) -> 0 | CS21: =COUNTA(BO21:CR21) -> 0 | DY21: =COUNTA(CT21:DX21) -> 0 | FE21: =COUNTA(DZ21:FD21) -> 0 | GI21: =COUNTA(FF21:GH21) -> 0 | HO21: =COUNTA(GJ21:HN21) -> 0 | IT21: =COUNTA(HP21:IS21) -> 0 | JZ21: =COUNTA(IU21:JY21) -> 0 | LE21: =COUNTA(KA21:LD21) -> 0 | MK21: =COUNTA(LF21:MJ21) -> 0 | NQ21: =COUNTA(ML21:NP21) -> 0
... A509: 500 | AH509: =COUNTA(E509:AG509) -> 0 | BN509: =COUNTA(AI509:BM509) -> 0 | CS509: =COUNTA(BO509:CR509) -> 0 | DY509: =COUNTA(CT509:DX509) -> 0 | FE509: =COUNTA(DZ509:FD509) -> 0 | GI509: =COUNTA(FF509:GH509) -> 0 | HO509: =COUNTA(GJ509:HN509) -> 0 | IT509: =COUNTA(HP509:IS509) -> 0 | JZ509: =COUNTA(IU509:JY509) -> 0 | LE509: =COUNTA(KA509:LD509) -> 0 | MK509: =COUNTA(LF509:MJ509) -> 0 | NQ509: =COUNTA(ML509:NP509) -> 0

Sheet Aide devoirs
B2: Année scolaire | C2: =Inscriptions!D2 -> 2019-2020 | D2: Remplir avec des chiffres | X2: Septembre | Z2: Total passages | AB2: =SUM(E8:AG8) -> 0 | AC2: Jours d'ouverture | AG2: =COUNTIF(E8:AG8, "> 0") -> 0 | BD2: Octobre | BF2: Total passages | BH2: =SUM(AI8:BM8) -> 0 | BI2: Jours d'ouverture | BM2: =COUNTIF(AI8:BM8, ">0") -> 0 | CI2: Novembre | CK2: Total passages | CM2: =SUM(BO8:CR8) -> 0 | CN2: Jours d'ouverture | CR2: =COUNTIF(BO8:CR8, ">0") -> 0 | DO2: Décembre | DQ2: Total passages | DS2: =SUM(CT8:DX8) -> 0 | DT2: Jours d'ouverture | DX2: =COUNTIF(CT8:DX8, ">0") -> 0 | EU2: Janvier | EW2: Total passages | EY2: =SUM(DZ8:FD8) -> 0 | EZ2: Jours d'ouverture | FD2: =COUNTIF(DZ8:FD8, ">0") -> 0 | FY2: Février | GA2: Total passages | GC2: =SUM(FF8:GH8) -> 0 | GD2: Jours d'ouverture | GH2: =COUNTIF(FF8:GH8, ">0") -> 0 | HE2: Mars | HG2: Total passages | HI2: =SUM(GJ8:HN8) -> 0 | HJ2: Jours d'ouverture | HN2: =COUNTIF(GJ8:HN8, ">0") -> 0 | IJ2: Avril | IL2: Total passages | IN2: =SUM(HP8:IS8) -> 0 | IO2: Jours d'ouverture | IS2: =COUNTIF(HP8:IS8, ">0") -> 0 | JP2: Mai | JR2: Total passages | JT2: =SUM(IU8:JY8) -> 0 | JU2: Jours d'ouverture | JY2: =COUNTIF(IU8:JY8, ">0") -> 0 | KU2: Juin | KW2: Total passages | KY2: =SUM(KA8:LD8) -> 0 | KZ2: Jours d'ouverture | LD2: =COUNTIF(KA8:LD8, ">0") -> 0 | MA2: Juillet | MC2: Total passages | ME2: =SUM(LF8:MJ8) -> 0 | MF2: Jours d'ouverture | MJ2: =COUNTIF(LF8:MJ8, ">0") -> 0 | NG2: Aout | NI2: Total passages | NK2: =SUM(ML8:NP8) -> 0 | NL2: Jours d'ouverture | NP2: =COUNTIF(ML8:NP8, ">0") -> 0
B3: Collège | C3: =Inscriptions!D3 -> 0 | D3: 0=absent | Z3: Total inscrits | AB3: =COUNTIF(AH10:AH509,">0") -> 0 | AC3: Moy des jeunes/ jour d'ouverture | AG3: =AB2/AG2 -> #DIV/0! | BF3: Total inscrits | BH3: =COUNTIF(BN10:BN509,">0") -> 0 | BI3: Moy des jeunes/ jour d'ouverture | BM3: =BH2/BM2 -> #DIV/0! | CK3: Total inscrits | CM3: =COUNTIF(CS10:CS509,">0") -> 0 | CN3: Moy des jeunes/ jour d'ouverture | CR3: =CM2/CR2 -> #DIV/0! | DQ3: Total inscrits | DS3: =COUNTIF(DY10:DY509,">0") -> 0 | DT3: Moy des jeunes/ jour d'ouverture | DX3: =DS2/DX2 -> #DIV/0! | EW3: Total inscrits | EY3: =COUNTIF(FE10:FE509,">0") -> 0 | EZ3: Moy des jeunes/ jour d'ouverture | FD3: =EY2/FD2 -> #DIV/0! | GA3: Total inscrits | GC3: =COUNTIF(GI10:GI509,">0") -> 0 | GD3: Moy des jeunes/ jour d'ouverture | GH3: =GC2/GH2 -> #DIV/0! | HG3: Total inscrits | HI3: =COUNTIF(HO10:HO509,">0") -> 0 | HJ3: Moy des jeunes/ jour d'ouverture | HN3: =HI2/HN2 -> #DIV/0! | IL3: Total inscrits | IN3: =COUNTIF(IT10:IT509,">0") -> 0 | IO3: Moy des jeunes/ jour d'ouverture | IS3: =IN2/IS2 -> #DIV/0! | JR3: Total inscrits | JT3: =COUNTIF(JZ10:JZ509,">0") -> 0 | JU3: Moy des jeunes/ jour d'ouverture | JY3: =JT2/JY2 -> #DIV/0! | KW3: Total inscrits | KY3: =COUNTIF(LE10:LE509,">0") -> 0 | KZ3: Moy des jeunes/ jour d'ouverture | LD3: =KY2/LD2 -> #DIV/0! | MC3: Total inscrits | ME3: =COUNTIF(MK10:MK509,">0") -> 0 | MF3: Moy des jeunes/ jour d'ouverture | MJ3: =ME2/MJ2 -> #DIV/0! | NI3: Total inscrits | NK3: =COUNTIF(NQ10:NQ509,">0") -> 0 | NL3: Moy des jeunes/ jour d'ouverture | NP3: =NK2/NP2 -> #DIV/0!
B4: Adjoint éducatif | C4: =Inscriptions!D4 -> 0 | D4: 1= 1h
B5: Coordonateur | C5: =Inscriptions!D5 -> 0 | D5: 2=2h etc
E6: lun | F6: mar | G6: mer | H6: jeu | I6: ven | J6: sam | K6: dim | L6: lun | M6: mar | N6: mer | O6: jeu | P6: ven | Q6: sam | R6: dim | S6: lun | T6: mar | U6: mer | V6: jeu | W6: ven | X6: sam | Y6: dim | Z6: lun | AA6: mar | AB6: mer | AC6: jeu | AD6: ven | AE6: sam | AF6: dim | AG6: lun | AH6: Présence jeunes | AI6: mar | AJ6: mer | AK6: jeu | AL6: ven | AM6: sam | AN6: dim | AO6: lun | AP6: mar | AQ6: mer | AR6: jeu | AS6: ven | AT6: sam | AU6: dim | AV6: lun | AW6: mar | AX6: mer | AY6: jeu | AZ6: ven | BA6: sam | BB6: dim | BC6: lun | BD6: mar | BE6: mer | BF6: jeu | BG6: ven | BH6: sam | BI6: dim | BJ6: lun | BK6: mar | BL6: mer | BM6: jeu | BN6: Présence jeunes | BO6: ven | BP6: sam | BQ6: dim | BR6: lun | BS6: mar | BT6: mer | BU6: jeu | BV6: ven | BW6: sam | BX6: dim | BY6: lun | BZ6: mar | CA6: mer | CB6: jeu | CC6: ven | CD6: sam | CE6: dim | CF6: lun | CG6: mar | CH6: mer | CI6: jeu | CJ6: ven | CK6: sam | CL6: dim | CM6: lun | CN6: mar | CO6: mer | CP6: jeu | CQ6: ven | CR6: sam | CS6: Présence jeunes | CT6: dim | CU6: lun | CV6: mar | CW6: mer | CX6: jeu | CY6: ven | CZ6: sam | DA6: dim | DB6: lun | DC6: mar | DD6: mer | DE6: jeu | DF6: ven | DG6: sam | DH6: dim | DI6: lun | DJ6: mar | DK6: mer | DL6: jeu | DM6: ven | DN6: sam | DO6: dim | DP6: lun | DQ6: mar | DR6: mer | DS6: jeu | DT6: ven | DU6: sam | DV6: dim | DW6: lun | DX6: mar | DY6: Présence jeunes | DZ6: mer | EA6: jeu | EB6: ven | EC6: sam | ED6: dim | EE6: lun | EF6: mar | EG6: mer | EH6: jeu | EI6: ven | EJ6: sam | EK6: dim | EL6: lun | EM6: mar | EN6: mer | EO6: jeu | EP6: ven | EQ6: sam | ER6: dim | ES6: lun | ET6: mar | EU6: mer | EV6: jeu | EW6: ven | EX6: sam | EY6: dim | EZ6: lun | FA6: mar | FB6: mer | FC6: jeu | FD6: ven | FE6: Présence jeunes | FF6: sam | FG6: dim | FH6: lun | FI6: mar | FJ6: mer | FK6: jeu | FL6: ven | FM6: sam | FN6: dim | FO6: lun | FP6: mar | FQ6: mer | FR6: jeu | FS6: ven | FT6: sam | FU6: dim | FV6: lun | FW6: mar | FX6: mer | FY6: jeu | FZ6: ven | GA6: sam | GB6: dim | GC6: lun | GD6: mar | GE6: mer | GF6: jeu | GG6: ven | GH6: sam | GI6: Présence jeunes | GJ6: dim | GK6: lun | GL6: mar | GM6: mer | GN6: jeu | GO6: ven | GP6: sam | GQ6: dim | GR6: lun | GS6: mar | GT6: mer | GU6: jeu | GV6: ven | GW6: sam | GX6: dim | GY6: lun | GZ6: mar | HA6: mer | HB6: jeu | HC6: ven | HD6: sam | HE6: dim | HF6: lun | HG6: mar | HH6: mer | HI6: jeu | HJ6: ven | HK6: sam | HL6: dim | HM6: lun | HN6: mar | HO6: Présence jeunes | HP6: mer | HQ6: jeu | HR6: ven | HS6: sam | HT6: dim | HU6: lun | HV6: mar | HW6: mer | HX6: jeu | HY6: ven | HZ6: sam | IA6: dim | IB6: lun | IC6: mar | ID6: mer | IE6: jeu | IF6: ven | IG6: sam | IH6: dim | II6: lun | IJ6: mar | IK6: mer | IL6: jeu | IM6: ven | IN6: sam | IO6: dim | IP6: lun | IQ6: mar | IR6: mer | IS6: jeu | IT6: Présence jeunes | IU6: ven | IV6: sam | IW6: dim | IX6: lun | IY6: mar | IZ6: mer | JA6: jeu | JB6: ven | JC6: sam | JD6: dim | JE6: lun | JF6: mar | JG6: mer | JH6: jeu | JI6: ven | JJ6: sam | JK6: dim | JL6: lun | JM6: mar | JN6: mer | JO6: jeu | JP6: ven | JQ6: sam | JR6: dim | JS6: lun | JT6: mar | JU6: mer | JV6: jeu | JW6: ven | JX6: sam | JY6: dim | JZ6: Présence jeunes | KA6: lun | KB6: mar | KC6: mer | KD6: jeu | KE6: ven | KF6: sam | KG6: dim | KH6: lun | KI6: mar | KJ6: mer | KK6: jeu | KL6: ven | KM6: sam | KN6: dim | KO6: lun | KP6: mar | KQ6: mer | KR6: jeu | KS6: ven | KT6: sam | KU6: dim | KV6: lun | KW6: mar | KX6: mer | KY6: jeu | KZ6: ven | LA6: sam | LB6: dim | LC6: lun | LD6: mar | LE6: Présence jeunes | LF6: mer | LG6: jeu | LH6: ven | LI6: sam | LJ6: dim | LK6: lun | LL6: mar | LM6: mer | LN6: jeu | LO6: ven | LP6: sam | LQ6: dim | LR6: lun | LS6: mar | LT6: mer | LU6: jeu | LV6: ven | LW6: sam | LX6: dim | LY6: lun | LZ6: mar | MA6: mer | MB6: jeu | MC6: ven | MD6: sam | ME6: dim | MF6: lun | MG6: mar | MH6: mer | MI6: jeu | MJ6: ven | MK6: Présence jeunes | ML6: sam | MM6: dim | MN6: lun | MO6: mar | MP6: mer | MQ6: jeu | MR6: ven | MS6: sam | MT6: dim | MU6: lun | MV6: mar | MW6: mer | MX6: jeu | MY6: ven | MZ6: sam | NA6: dim | NB6: lun | NC6: mar | ND6: mer | NE6: jeu | NF6: ven | NG6: sam | NH6: dim | NI6: lun | NJ6: mar | NK6: mer | NL6: jeu | NM6: ven | NN6: sam | NO6: dim | NP6: lun | NQ6: Présence jeunes
C7: Aide aux devoirs | E7: 43710 | F7: 43711 | G7: 43712 | H7: 43713 | I7: 43714 | J7: 43715 | K7: 43716 | L7: 43717 | M7: 43718 | N7: 43719 | O7: 43720 | P7: 43721 | Q7: 43722 | R7: 43723 | S7: 43724 | T7: 43725 | U7: 43726 | V7: 43727 | W7: 43728 | X7: 43729 | Y7: 43730 | Z7: 43731 | AA7: 43732 | AB7: 43733 | AC7: 43734 | AD7: 43735 | AE7: 43736 | AF7: 43737 | AG7: 43738 | AI7: 43739 | AJ7: 43740 | AK7: 43741 | AL7: 43742 | AM7: 43743 | AN7: 43744 | AO7: 43745 | AP7: 43746 | AQ7: 43747 | AR7: 43748 | AS7: 43749 | AT7: 43750 | AU7: 43751 | AV7: 43752 | AW7: 43753 | AX7: 43754 | AY7: 43755 | AZ7: 43756 | BA7: 43757 | BB7: 43758 | BC7: 43759 | BD7: 43760 | BE7: 43761 | BF7: 43762 | BG7: 43763 | BH7: 43764 | BI7: 43765 | BJ7: 43766 | BK7: 43767 | BL7: 43768 | BM7: 43769 | BO7: 43770 | BP7: 43771 | BQ7: 43772 | BR7: 43773 | BS7: 43774 | BT7: 43775 | BU7: 43776 | BV7: 43777 | BW7: 43778 | BX7: 43779 | BY7: 43780 | BZ7: 43781 | CA7: 43782 | CB7: 43783 | CC7: 43784 | CD7: 43785 | CE7: 43786 | CF7: 43787 | CG7: 43788 | CH7: 43789 | CI7: 43790 | CJ7: 43791 | CK7: 43792 | CL7: 43793 | CM7: 43794 | CN7: 43795 | CO7: 43796 | CP7: 43797 | CQ7: 43798 | CR7: 43799 | CT7: 43800 | CU7: 43801 | CV7: 43802 | CW7: 43803 | CX7: 43804 | CY7: 43805 | CZ7: 43806 | DA7: 43807 | DB7: 43808 | DC7: 43809 | DD7: 43810 | DE7: 43811 | DF7: 43812 | DG7: 43813 | DH7: 43814 | DI7: 43815 | DJ7: 43816 | DK7: 43817 | DL7: 43818 | DM7: 43819 | DN7: 43820 | DO7: 43821 | DP7: 43822 | DQ7: 43823 | DR7: 43824 | DS7: 43825 | DT7: 43826 | DU7: 43827 | DV7: 43828 | DW7: 43829 | DX7: 43830 | DZ7: 43831 | EA7: 43832 | EB7: 43833 | EC7: 43834 | ED7: 43835 | EE7: 43836 | EF7: 43837 | EG7: 43838 | EH7: 43839 | EI7: 43840 | EJ7: 43841 | EK7: 43842 | EL7: 43843 | EM7: 43844 | EN7: 43845 | EO7: 43846 | EP7: 43847 | EQ7: 43848 | ER7: 43849 | ES7: 43850 | ET7: 43851 | EU7: 43852 | EV7: 43853 | EW7: 43854 | EX7: 43855 | EY7: 43856 | EZ7: 43857 | FA7: 43858 | FB7: 43859 | FC7: 43860 | FD7: 43861 | FF7: 43862 | FG7: 43863 | FH7: 43864 | FI7: 43865 | FJ7: 43866 | FK7: 43867 | FL7: 43868 | FM7: 43869 | FN7: 43870 | FO7: 43871 | FP7: 43872 | FQ7: 43873 | FR7: 43874 | FS7: 43875 | FT7: 43876 | FU7: 43877 | FV7: 43878 | FW7: 43879 | FX7: 43880 | FY7: 43881 | FZ7: 43882 | GA7: 43883 | GB7: 43884 | GC7: 43885 | GD7: 43886 | GE7: 43887 | GF7: 43888 | GG7: 43889 | GH7: 43890 | GJ7: 43891 | GK7: 43892 | GL7: 43893 | GM7: 43894 | GN7: 43895 | GO7: 43896 | GP7: 43897 | GQ7: 43898 | GR7: 43899 | GS7: 43900 | GT7: 43901 | GU7: 43902 | GV7: 43903 | GW7: 43904 | GX7: 43905 | GY7: 43906 | GZ7: 43907 | HA7: 43908 | HB7: 43909 | HC7: 43910 | HD7: 43911 | HE7: 43912 | HF7: 43913 | HG7: 43914 | HH7: 43915 | HI7: 43916 | HJ7: 43917 | HK7: 43918 | HL7: 43919 | HM7: 43920 | HN7: 43921 | HP7: 43922 | HQ7: 43923 | HR7: 43924 | HS7: 43925 | HT7: 43926 | HU7: 43927 | HV7: 43928 | HW7: 43929 | HX7: 43930 | HY7: 43931 | HZ7: 43932 | IA7: 43933 | IB7: 43934 | IC7: 43935 | ID7: 43936 | IE7: 43937 | IF7: 43938 | IG7: 43939 | IH7: 43940 | II7: 43941 | IJ7: 43942 | IK7: 43943 | IL7: 43944 | IM7: 43945 | IN7: 43946 | IO7: 43947 | IP7: 43948 | IQ7: 43949 | IR7: 43950 | IS7: 43951 | IU7: 43952 | IV7: 43953 | IW7: 43954 | IX7: 43955 | IY7: 43956 | IZ7: 43957 | JA7: 43958 | JB7: 43959 | JC7: 43960 | JD7: 43961 | JE7: 43962 | JF7: 43963 | JG7: 43964 | JH7: 43965 | JI7: 43966 | JJ7: 43967 | JK7: 43968 | JL7: 43969 | JM7: 43970 | JN7: 43971 | JO7: 43972 | JP7: 43973 | JQ7: 43974 | JR7: 43975 | JS7: 43976 | JT7: 43977 | JU7: 43978 | JV7: 43979 | JW7: 43980 | JX7: 43981 | JY7: 43982 | KA7: 43983 | KB7: 43984 | KC7: 43985 | KD7: 43986 | KE7: 43987 | KF7: 43988 | KG7: 43989 | KH7: 43990 | KI7: 43991 | KJ7: 43992 | KK7: 43993 | KL7: 43994 | KM7: 43995 | KN7: 43996 | KO7: 43997 | KP7: 43998 | KQ7: 43999 | KR7: 44000 | KS7: 44001 | KT7: 44002 | KU7: 44003 | KV7: 44004 | KW7: 44005 | KX7: 44006 | KY7: 44007 | KZ7: 44008 | LA7: 44009 | LB7: 44010 | LC7: 44011 | LD7: 44012 | LF7: 44013 | LG7: 44014 | LH7: 44015 | LI7: 44016 | LJ7: 44017 | LK7: 44018 | LL7: 44019 | LM7: 44020 | LN7: 44021 | LO7: 44022 | LP7: 44023 | LQ7: 44024 | LR7: 44025 | LS7: 44026 | LT7: 44027 | LU7: 44028 | LV7: 44029 | LW7: 44030 | LX7: 44031 | LY7: 44032 | LZ7: 44033 | MA7: 44034 | MB7: 44035 | MC7: 44036 | MD7: 44037 | ME7: 44038 | MF7: 44039 | MG7: 44040 | MH7: 44041 | MI7: 44042 | MJ7: 44043 | ML7: 44044 | MM7: 44045 | MN7: 44046 | MO7: 44047 | MP7: 44048 | MQ7: 44049 | MR7: 44050 | MS7: 44051 | MT7: 44052 | MU7: 44053 | MV7: 44054 | MW7: 44055 | MX7: 44056 | MY7: 44057 | MZ7: 44058 | NA7: 44059 | NB7: 44060 | NC7: 44061 | ND7: 44062 | NE7: 44063 | NF7: 44064 | NG7: 44065 | NH7: 44066 | NI7: 44067 | NJ7: 44068 | NK7: 44069 | NL7: 44070 | NM7: 44071 | NN7: 44072 | NO7: 44073 | NP7: 44074
D8: Total | E8: =SUM(E10:E509) -> 0 | F8: =SUM(F10:F509) -> 0 | G8: =SUM(G10:G509) -> 0 | H8: =SUM(H10:H509) -> 0 | I8: =SUM(I10:I509) -> 0 | J8: =SUM(J10:J509) -> 0 | K8: =SUM(K10:K509) -> 0 | L8: =SUM(L10:L509) -> 0 | ... AG8: =SUM(AG10:AG509) -> 0 | AI8: =SUM(AI10:AI509) -> 0 | AJ8: =SUM(AJ10:AJ509) -> 0 | AK8: =SUM(AK10:AK509) -> 0 | AL8: =SUM(AL10:AL509) -> 0 | AM8: =SUM(AM10:AM509) -> 0 | AN8: =SUM(AN10:AN509) -> 0 | AO8: =SUM(AO10:AO509) -> 0 | AP8: =SUM(AP10:AP509) -> 0 | ... BM8: =SUM(BM10:BM509) -> 0 | BO8: =SUM(BO10:BO509) -> 0 | BP8: =SUM(BP10:BP509) -> 0 | BQ8: =SUM(BQ10:BQ509) -> 0 | BR8: =SUM(BR10:BR509) -> 0 | BS8: =SUM(BS10:BS509) -> 0 | BT8: =SUM(BT10:BT509) -> 0 | BU8: =SUM(BU10:BU509) -> 0 | BV8: =SUM(BV10:BV509) -> 0 | ... CR8: =SUM(CR10:CR509) -> 0 | CT8: =SUM(CT10:CT509) -> 0 | CU8: =SUM(CU10:CU509) -> 0 | CV8: =SUM(CV10:CV509) -> 0 | CW8: =SUM(CW10:CW509) -> 0 | CX8: =SUM(CX10:CX509) -> 0 | CY8: =SUM(CY10:CY509) -> 0 | CZ8: =SUM(CZ10:CZ509) -> 0 | DA8: =SUM(DA10:DA509) -> 0 | ... DX8: =SUM(DX10:DX509) -> 0 | DZ8: =SUM(DZ10:DZ509) -> 0 | EA8: =SUM(EA10:EA509) -> 0 | EB8: =SUM(EB10:EB509) -> 0 | EC8: =SUM(EC10:EC509) -> 0 | ED8: =SUM(ED10:ED509) -> 0 | EE8: =SUM(EE10:EE509) -> 0 | EF8: =SUM(EF10:EF509) -> 0 | EG8: =SUM(EG10:EG509) -> 0 | ... FD8: =SUM(FD10:FD509) -> 0 | FF8: =SUM(FF10:FF509) -> 0 | FG8: =SUM(FG10:FG509) -> 0 | FH8: =SUM(FH10:FH509) -> 0 | FI8: =SUM(FI10:FI509) -> 0 | FJ8: =SUM(FJ10:FJ509) -> 0 | FK8: =SUM(FK10:FK509) -> 0 | FL8: =SUM(FL10:FL509) -> 0 | FM8: =SUM(FM10:FM509) -> 0 | ... GH8: =SUM(GH10:GH509) -> 0 | GJ8: =SUM(GJ10:GJ509) -> 0 | GK8: =SUM(GK10:GK509) -> 0 | GL8: =SUM(GL10:GL509) -> 0 | GM8: =SUM(GM10:GM509) -> 0 | GN8: =SUM(GN10:GN509) -> 0 | GO8: =SUM(GO10:GO509) -> 0 | GP8: =SUM(GP10:GP509) -> 0 | GQ8: =SUM(GQ10:GQ509) -> 0 | ... HN8: =SUM(HN10:HN509) -> 0 | HP8: =SUM(HP10:HP509) -> 0 | HQ8: =SUM(HQ10:HQ509) -> 0 | HR8: =SUM(HR10:HR509) -> 0 | HS8: =SUM(HS10:HS509) -> 0 | HT8: =SUM(HT10:HT509) -> 0 | HU8: =SUM(HU10:HU509) -> 0 | HV8: =SUM(HV10:HV509) -> 0 | HW8: =SUM(HW10:HW509) -> 0 | ... IS8: =SUM(IS10:IS509) -> 0 | IU8: =SUM(IU10:IU509) -> 0 | IV8: =SUM(IV10:IV509) -> 0 | IW8: =SUM(IW10:IW509) -> 0 | IX8: =SUM(IX10:IX509) -> 0 | IY8: =SUM(IY10:IY509) -> 0 | IZ8: =SUM(IZ10:IZ509) -> 0 | JA8: =SUM(JA10:JA509) -> 0 | JB8: =SUM(JB10:JB509) -> 0 | ... JY8: =SUM(JY10:JY509) -> 0 | KA8: =SUM(KA10:KA509) -> 0 | KB8: =SUM(KB10:KB509) -> 0 | KC8: =SUM(KC10:KC509) -> 0 | KD8: =SUM(KD10:KD509) -> 0 | KE8: =SUM(KE10:KE509) -> 0 | KF8: =SUM(KF10:KF509) -> 0 | KG8: =SUM(KG10:KG509) -> 0 | KH8: =SUM(KH10:KH509) -> 0 | ... LD8: =SUM(LD10:LD509) -> 0 | LF8: =SUM(LF10:LF509) -> 0 | LG8: =SUM(LG10:LG509) -> 0 | LH8: =SUM(LH10:LH509) -> 0 | LI8: =SUM(LI10:LI509) -> 0 | LJ8: =SUM(LJ10:LJ509) -> 0 | LK8: =SUM(LK10:LK509) -> 0 | LL8: =SUM(LL10:LL509) -> 0 | LM8: =SUM(LM10:LM509) -> 0 | ... MJ8: =SUM(MJ10:MJ509) -> 0 | ML8: =SUM(ML10:ML509) -> 0 | MM8: =SUM(MM10:MM509) -> 0 | MN8: =SUM(MN10:MN509) -> 0 | MO8: =SUM(MO10:MO509) -> 0 | MP8: =SUM(MP10:MP509) -> 0 | MQ8: =SUM(MQ10:MQ509) -> 0 | MR8: =SUM(MR10:MR509) -> 0 | MS8: =SUM(MS10:MS509) -> 0 | ... NP8: =SUM(NP10:NP509) -> 0
A9: n° | B9: Classe | C9: Nom | D9: Prénom
A10: 1 | AH10: =SUM(E10:AG10) -> 0 | BN10: =SUM(AI10:BM10) -> 0 | CS10: =SUM(BO10:CR10) -> 0 | DY10: =SUM(CT10:DX10) -> 0 | FE10: =SUM(DZ10:FD10) -> 0 | GI10: =SUM(FF10:GH10) -> 0 | HO10: =SUM(GJ10:HN10) -> 0 | IT10: =SUM(HP10:IS10) -> 0 | JZ10: =SUM(IU10:JY10) -> 0 | LE10: =SUM(KA10:LD10) -> 0 | MK10: =SUM(LF10:MJ10) -> 0 | NQ10: =SUM(ML10:NP10) -> 0
A11: 2 | AH11: =SUM(E11:AG11) -> 0 | BN11: =SUM(AI11:BM11) -> 0 | CS11: =SUM(BO11:CR11) -> 0 | DY11: =SUM(CT11:DX11) -> 0 | FE11: =SUM(DZ11:FD11) -> 0 | GI11: =SUM(FF11:GH11) -> 0 | HO11: =SUM(GJ11:HN11) -> 0 | IT11: =SUM(HP11:IS11) -> 0 | JZ11: =SUM(IU11:JY11) -> 0 | LE11: =SUM(KA11:LD11) -> 0 | MK11: =SUM(LF11:MJ11) -> 0 | NQ11: =SUM(ML11:NP11) -> 0
A12: 3 | AH12: =SUM(E12:AG12) -> 0 | BN12: =SUM(AI12:BM12) -> 0 | CS12: =SUM(BO12:CR12) -> 0 | DY12: =SUM(CT12:DX12) -> 0 | FE12: =SUM(DZ12:FD12) -> 0 | GI12: =SUM(FF12:GH12) -> 0 | HO12: =SUM(GJ12:HN12) -> 0 | IT12: =SUM(HP12:IS12) -> 0 | JZ12: =SUM(IU12:JY12) -> 0 | LE12: =SUM(KA12:LD12) -> 0 | MK12: =SUM(LF12:MJ12) -> 0 | NQ12: =SUM(ML12:NP12) -> 0
A13: 4 | AH13: =SUM(E13:AG13) -> 0 | BN13: =SUM(AI13:BM13) -> 0 | CS13: =SUM(BO13:CR13) -> 0 | DY13: =SUM(CT13:DX13) -> 0 | FE13: =SUM(DZ13:FD13) -> 0 | GI13: =SUM(FF13:GH13) -> 0 | HO13: =SUM(GJ13:HN13) -> 0 | IT13: =SUM(HP13:IS13) -> 0 | JZ13: =SUM(IU13:JY13) -> 0 | LE13: =SUM(KA13:LD13) -> 0 | MK13: =SUM(LF13:MJ13) -> 0 | NQ13: =SUM(ML13:NP13) -> 0
A14: 5 | AH14: =SUM(E14:AG14) -> 0 | BN14: =SUM(AI14:BM14) -> 0 | CS14: =SUM(BO14:CR14) -> 0 | DY14: =SUM(CT14:DX14) -> 0 | FE14: =SUM(DZ14:FD14) -> 0 | GI14: =SUM(FF14:GH14) -> 0 | HO14: =SUM(GJ14:HN14) -> 0 | IT14: =SUM(HP14:IS14) -> 0 | JZ14: =SUM(IU14:JY14) -> 0 | LE14: =SUM(KA14:LD14) -> 0 | MK14: =SUM(LF14:MJ14) -> 0 | NQ14: =SUM(ML14:NP14) -> 0
A15: 6 | AH15: =SUM(E15:AG15) -> 0 | BN15: =SUM(AI15:BM15) -> 0 | CS15: =SUM(BO15:CR15) -> 0 | DY15: =SUM(CT15:DX15) -> 0 | FE15: =SUM(DZ15:FD15) -> 0 | GI15: =SUM(FF15:GH15) -> 0 | HO15: =SUM(GJ15:HN15) -> 0 | IT15: =SUM(HP15:IS15) -> 0 | JZ15: =SUM(IU15:JY15) -> 0 | LE15: =SUM(KA15:LD15) -> 0 | MK15: =SUM(LF15:MJ15) -> 0 | NQ15: =SUM(ML15:NP15) -> 0
A16: 7 | AH16: =SUM(E16:AG16) -> 0 | BN16: =SUM(AI16:BM16) -> 0 | CS16: =SUM(BO16:CR16) -> 0 | DY16: =SUM(CT16:DX16) -> 0 | FE16: =SUM(DZ16:FD16) -> 0 | GI16: =SUM(FF16:GH16) -> 0 | HO16: =SUM(GJ16:HN16) -> 0 | IT16: =SUM(HP16:IS16) -> 0 | JZ16: =SUM(IU16:JY16) -> 0 | LE16: =SUM(KA16:LD16) -> 0 | MK16: =SUM(LF16:MJ16) -> 0 | NQ16: =SUM(ML16:NP16) -> 0
A17: 8 | AH17: =SUM(E17:AG17) -> 0 | BN17: =SUM(AI17:BM17) -> 0 | CS17: =SUM(BO17:CR17) -> 0 | DY17: =SUM(CT17:DX17) -> 0 | FE17: =SUM(DZ17:FD17) -> 0 | GI17: =SUM(FF17:GH17) -> 0 | HO17: =SUM(GJ17:HN17) -> 0 | IT17: =SUM(HP17:IS17) -> 0 | JZ17: =SUM(IU17:JY17) -> 0 | LE17: =SUM(KA17:LD17) -> 0 | MK17: =SUM(LF17:MJ17) -> 0 | NQ17: =SUM(ML17:NP17) -> 0
A18: 9 | AH18: =SUM(E18:AG18) -> 0 | BN18: =SUM(AI18:BM18) -> 0 | CS18: =SUM(BO18:CR18) -> 0 | DY18: =SUM(CT18:DX18) -> 0 | FE18: =SUM(DZ18:FD18) -> 0 | GI18: =SUM(FF18:GH18) -> 0 | HO18: =SUM(GJ18:HN18) -> 0 | IT18: =SUM(HP18:IS18) -> 0 | JZ18: =SUM(IU18:JY18) -> 0 | LE18: =SUM(KA18:LD18) -> 0 | MK18: =SUM(LF18:MJ18) -> 0 | NQ18: =SUM(ML18:NP18) -> 0
A19: 10 | AH19: =SUM(E19:AG19) -> 0 | BN19: =SUM(AI19:BM19) -> 0 | CS19: =SUM(BO19:CR19) -> 0 | DY19: =SUM(CT19:DX19) -> 0 | FE19: =SUM(DZ19:FD19) -> 0 | GI19: =SUM(FF19:GH19) -> 0 | HO19: =SUM(GJ19:HN19) -> 0 | IT19: =SUM(HP19:IS19) -> 0 | JZ19: =SUM(IU19:JY19) -> 0 | LE19: =SUM(KA19:LD19) -> 0 | MK19: =SUM(LF19:MJ19) -> 0 | NQ19: =SUM(ML19:NP19) -> 0
A20: 11 | AH20: =SUM(E20:AG20) -> 0 | BN20: =SUM(AI20:BM20) -> 0 | CS20: =SUM(BO20:CR20) -> 0 | DY20: =SUM(CT20:DX20) -> 0 | FE20: =SUM(DZ20:FD20) -> 0 | GI20: =SUM(FF20:GH20) -> 0 | HO20: =SUM(GJ20:HN20) -> 0 | IT20: =SUM(HP20:IS20) -> 0 | JZ20: =SUM(IU20:JY20) -> 0 | LE20: =SUM(KA20:LD20) -> 0 | MK20: =SUM(LF20:MJ20) -> 0 | NQ20: =SUM(ML20:NP20) -> 0
A21: 12 | AH21: =SUM(E21:AG21) -> 0 | BN21: =SUM(AI21:BM21) -> 0 | CS21: =SUM(BO21:CR21) -> 0 | DY21: =SUM(CT21:DX21) -> 0 | FE21: =SUM(DZ21:FD21) -> 0 | GI21: =SUM(FF21:GH21) -> 0 | HO21: =SUM(GJ21:HN21) -> 0 | IT21: =SUM(HP21:IS21) -> 0 | JZ21: =SUM(IU21:JY21) -> 0 | LE21: =SUM(KA21:LD21) -> 0 | MK21: =SUM(LF21:MJ21) -> 0 | NQ21: =SUM(ML21:NP21) -> 0
... A509: 500 | AH509: =SUM(E509:AG509) -> 0 | BN509: =SUM(AI509:BM509) -> 0 | CS509: =SUM(BO509:CR509) -> 0 | DY509: =SUM(CT509:DX509) -> 0 | FE509: =SUM(DZ509:FD509) -> 0 | GI509: =SUM(FF509:GH509) -> 0 | HO509: =SUM(GJ509:HN509) -> 0 | IT509: =SUM(HP509:IS509) -> 0 | JZ509: =SUM(IU509:JY509) -> 0 | LE509: =SUM(KA509:LD509) -> 0 | MK509: =SUM(LF509:MJ509) -> 0 | NQ509: =SUM(ML509:NP509) -> 0

Sheet Liste sorties
C5: Année scolaire | D5: =Inscriptions!D2 -> 2019-2020
C6: Collège | D6: =Inscriptions!D3 -> 0
C7: Adjoint éducatif | D7: =Inscriptions!D4 -> 0
C8: Coordonateur | D8: =Inscriptions!D5 -> 0
D10: LISTE SORTIES
B12: Sorties / soirées | C12: Tickets de métro | D12: Date | E12: Horaires | F12: Durée (hh:mm)
A13: 1 | H13: Tickets en début d'année | K13: Nombre d'heures de sorties à faire | L13: 3.3333333
A14: 2 | H14: Réassort tickets 1 | K14: Nombre d'heures de sorties effectués | L14: =SUM(F13:F52) -> 0
A15: 3 | H15: Réassort tickets 2 | K15: Nombre d'heures de sorties restantes | L15: =L13-L14 -> 3.3333333
A16: 4 | H16: Réassort tickets 3
A17: 5 | H17: Total tickets | I17: =SUM(I13:I16) -> 0
A18: 6 | H18: Tickets utilisés | I18: =SUM(C13:C52) -> 0
A19: 7 | H19: Tickets restants | I19: =I17-I18 -> 0
A20: 8
A21: 9
A22: 10
A23: 11
A24: 12
A25: 13
A26: 14
A27: 15
A28: 16
A29: 17
A30: 18
A31: 19
... A52: 40

Sheet Sorties
B2: Année scolaire | C2: =Inscriptions!D2 -> 2019-2020 | X2: Septembre | Z2: Total passages | AB2: =SUM(E8:AG8) -> 0 | AC2: Nombre de sorties | AG2: =COUNTIF(E8:AG8, "> 0") -> 0 | BD2: Octobre | BF2: Total passages | BH2: =SUM(AI8:BM8) -> 0 | BI2: Nombre de sorties | BM2: =COUNTIF(AI8:BM8, ">0") -> 0 | CI2: Novembre | CK2: Total passages | CM2: =SUM(BO8:CR8) -> 0 | CN2: Nombre de sorties | CR2: =COUNTIF(BO8:CR8, ">0") -> 0 | DO2: Décembre | DQ2: Total passages | DS2: =SUM(CT8:DX8) -> 0 | DT2: Nombre de sorties | DX2: =COUNTIF(CT8:DX8, ">0") -> 0 | EU2: Janvier | EW2: Total passages | EY2: =SUM(DZ8:FD8) -> 0 | EZ2: Nombre de sorties | FD2: =COUNTIF(DZ8:FD8, ">0") -> 0 | FY2: Février | GA2: Total passages | GC2: =SUM(FF8:GH8) -> 0 | GD2: Nombre de sorties | GH2: =COUNTIF(FF8:GH8, ">0") -> 0 | HE2: Mars | HG2: Total passages | HI2: =SUM(GJ8:HN8) -> 0 | HJ2: Nombre de sorties | HN2: =COUNTIF(GJ8:HN8, ">0") -> 0 | IJ2: Avril | IL2: Total passages | IN2: =SUM(HP8:IS8) -> 0 | IO2: Nombre de sorties | IS2: =COUNTIF(HP8:IS8, ">0") -> 0 | JP2: Mai | JR2: Total passages | JT2: =SUM(IU8:JY8) -> 0 | JU2: Nombre de sorties | JY2: =COUNTIF(IU8:JY8, ">0") -> 0 | KU2: Juin | KW2: Total passages | KY2: =SUM(KA8:LD8) -> 0 | KZ2: Nombre de sorties | LD2: =COUNTIF(KA8:LD8, ">0") -> 0 | MA2: Juillet | MC2: Total passages | ME2: =SUM(LF8:MJ8) -> 0 | MF2: Nombre de sorties | MJ2: =COUNTIF(LF8:MJ8, ">0") -> 0 | NG2: Aout | NI2: Total passages | NK2: =SUM(ML8:NP8) -> 0 | NL2: Nombre de sorties | NP2: =COUNTIF(ML8:NP8, ">0") -> 0
B3: Collège | C3: =Inscriptions!D3 -> 0 | Z3: Total inscrits | AB3: =COUNTIF(AH10:AH509,">0") -> 0 | AC3: Moy des jeunes/nombre de sorties | AG3: =AB2/AG2 -> #DIV/0! | BF3: Total inscrits | BH3: =COUNTIF(BN10:BN509,">0") -> 0 | BI3: Moy des jeunes/nombre de sorties | BM3: =BH2/BM2 -> #DIV/0! | CK3: Total inscrits | CM3: =COUNTIF(CS10:CS509,">0") -> 0 | CN3: Moy des jeunes/nombre de sorties | CR3: =CM2/CR2 -> #DIV/0! | DQ3: Total inscrits | DS3: =COUNTIF(DY10:DY509,">0") -> 0 | DT3: Moy des jeunes/nombre de sorties | DX3: =DS2/DX2 -> #DIV/0! | EW3: Total inscrits | EY3: =COUNTIF(FE10:FE509,">0") -> 0 | EZ3: Moy des jeunes/nombre de sorties | FD3: =EY2/FD2 -> #DIV/0! | GA3: Total inscrits | GC3: =COUNTIF(GI10:GI509,">0") -> 0 | GD3: Moy des jeunes/nombre de sorties | GH3: =GC2/GH2 -> #DIV/0! | HG3: Total inscrits | HI3: =COUNTIF(HO10:HO509,">0") -> 0 | HJ3: Moy des jeunes/nombre de sorties | HN3: =HI2/HN2 -> #DIV/0! | IL3: Total inscrits | IN3: =COUNTIF(IT10:IT509,">0") -> 0 | IO3: Moy des jeunes/nombre de sorties | IS3: =IN2/IS2 -> #DIV/0! | JR3: Total inscrits | JT3: =COUNTIF(JZ10:JZ509,">0") -> 0 | JU3: Moy des jeunes/ nombre de sorties | JY3: =JT2/JY2 -> #DIV/0! | KW3: Total inscrits | KY3: =COUNTIF(LE10:LE509,">0") -> 0 | KZ3: Moy des jeunes/ nombre de sorties | LD3: =KY2/LD2 -> #DIV/0! | MC3: Total inscrits | ME3: =COUNTIF(MK10:MK509,">0") -> 0 | MF3: Moy des jeunes/ nombre de sorties | MJ3: =ME2/MJ2 -> #DIV/0! | NI3: Total inscrits | NK3: =COUNTIF(NQ10:NQ509,">0") -> 0 | NL3: Moy des jeunes/ nombre de sorties | NP3: =NK2/NP2 -> #DIV/0!
B4: Adjoint éducatif | C4: =Inscriptions!D4 -> 0
B5: Coordonateur | C5: =Inscriptions!D5 -> 0
E6: lun | F6: mar | G6: mer | H6: jeu | I6: ven | J6: sam | K6: dim | L6: lun | M6: mar | N6: mer | O6: jeu | P6: ven | Q6: sam | R6: dim | S6: lun | T6: mar | U6: mer | V6: jeu | W6: ven | X6: sam | Y6: dim | Z6: lun | AA6: mar | AB6: mer | AC6: jeu | AD6: ven | AE6: sam | AF6: dim | AG6: lun | AH6: Présence jeunes | AI6: mar | AJ6: mer | AK6: jeu | AL6: ven | AM6: sam | AN6: dim | AO6: lun | AP6: mar | AQ6: mer | AR6: jeu | AS6: ven | AT6: sam | AU6: dim | AV6: lun | AW6: mar | AX6: mer | AY6: jeu | AZ6: ven | BA6: sam | BB6: dim | BC6: lun | BD6: mar | BE6: mer | BF6: jeu | BG6: ven | BH6: sam | BI6: dim | BJ6: lun | BK6: mar | BL6: mer | BM6: jeu | BN6: Présence jeunes | BO6: ven | BP6: sam | BQ6: dim | BR6: lun | BS6: mar | BT6: mer | BU6: jeu | BV6: ven | BW6: sam | BX6: dim | BY6: lun | BZ6: mar | CA6: mer | CB6: jeu | CC6: ven | CD6: sam | CE6: dim | CF6: lun | CG6: mar | CH6: mer | CI6: jeu | CJ6: ven | CK6: sam | CL6: dim | CM6: lun | CN6: mar | CO6: mer | CP6: jeu | CQ6: ven | CR6: sam | CS6: Présence jeunes | CT6: dim | CU6: lun | CV6: mar | CW6: mer | CX6: jeu | CY6: ven | CZ6: sam | DA6: dim | DB6: lun | DC6: mar | DD6: mer | DE6: jeu | DF6: ven | DG6: sam | DH6: dim | DI6: lun | DJ6: mar | DK6: mer | DL6: jeu | DM6: ven | DN6: sam | DO6: dim | DP6: lun | DQ6: mar | DR6: mer | DS6: jeu | DT6: ven | DU6: sam | DV6: dim | DW6: lun | DX6: mar | DY6: Présence jeunes | DZ6: mer | EA6: jeu | EB6: ven | EC6: sam | ED6: dim | EE6: lun | EF6: mar | EG6: mer | EH6: jeu | EI6: ven | EJ6: sam | EK6: dim | EL6: lun | EM6: mar | EN6: mer | EO6: jeu | EP6: ven | EQ6: sam | ER6: dim | ES6: lun | ET6: mar | EU6: mer | EV6: jeu | EW6: ven | EX6: sam | EY6: dim | EZ6: lun | FA6: mar | FB6: mer | FC6: jeu | FD6: ven | FE6: Présence jeunes | FF6: sam | FG6: dim | FH6: lun | FI6: mar | FJ6: mer | FK6: jeu | FL6: ven | FM6: sam | FN6: dim | FO6: lun | FP6: mar | FQ6: mer | FR6: jeu | FS6: ven | FT6: sam | FU6: dim | FV6: lun | FW6: mar | FX6: mer | FY6: jeu | FZ6: ven | GA6: sam | GB6: dim | GC6: lun | GD6: mar | GE6: mer | GF6: jeu | GG6: ven | GH6: sam | GI6: Présence jeunes | GJ6: dim | GK6: lun | GL6: mar | GM6: mer | GN6: jeu | GO6: ven | GP6: sam | GQ6: dim | GR6: lun | GS6: mar | GT6: mer | GU6: jeu | GV6: ven | GW6: sam | GX6: dim | GY6: lun | GZ6: mar | HA6: mer | HB6: jeu | HC6: ven | HD6: sam | HE6: dim | HF6: lun | HG6: mar | HH6: mer | HI6: jeu | HJ6: ven | HK6: sam | HL6: dim | HM6: lun | HN6: mar | HO6: Présence jeunes | HP6: mer | HQ6: jeu | HR6: ven | HS6: sam | HT6: dim | HU6: lun | HV6: mar | HW6: mer | HX6: jeu | HY6: ven | HZ6: sam | IA6: dim | IB6: lun | IC6: mar | ID6: mer | IE6: jeu | IF6: ven | IG6: sam | IH6: dim | II6: lun | IJ6: mar | IK6: mer | IL6: jeu | IM6: ven | IN6: sam | IO6: dim | IP6: lun | IQ6: mar | IR6: mer | IS6: jeu | IT6: Présence jeunes | IU6: ven | IV6: sam | IW6: dim | IX6: lun | IY6: mar | IZ6: mer | JA6: jeu | JB6: ven | JC6: sam | JD6: dim | JE6: lun | JF6: mar | JG6: mer | JH6: jeu | JI6: ven | JJ6: sam | JK6: dim | JL6: lun | JM6: mar | JN6: mer | JO6: jeu | JP6: ven | JQ6: sam | JR6: dim | JS6: lun | JT6: mar | JU6: mer | JV6: jeu | JW6: ven | JX6: sam | JY6: dim | JZ6: Présence jeunes | KA6: lun | KB6: mar | KC6: mer | KD6: jeu | KE6: ven | KF6: sam | KG6: dim | KH6: lun | KI6: mar | KJ6: mer | KK6: jeu | KL6: ven | KM6: sam | KN6: dim | KO6: lun | KP6: mar | KQ6: mer | KR6: jeu | KS6: ven | KT6: sam | KU6: dim | KV6: lun | KW6: mar | KX6: mer | KY6: jeu | KZ6: ven | LA6: sam | LB6: dim | LC6: lun | LD6: mar | LE6: Présence jeunes | LF6: mer | LG6: jeu | LH6: ven | LI6: sam | LJ6: dim | LK6: lun | LL6: mar | LM6: mer | LN6: jeu | LO6: ven | LP6: sam | LQ6: dim | LR6: lun | LS6: mar | LT6: mer | LU6: jeu | LV6: ven | LW6: sam | LX6: dim | LY6: lun | LZ6: mar | MA6: mer | MB6: jeu | MC6: ven | MD6: sam | ME6: dim | MF6: lun | MG6: mar | MH6: mer | MI6: jeu | MJ6: ven | MK6: Présence jeunes | ML6: sam | MM6: dim | MN6: lun | MO6: mar | MP6: mer | MQ6: jeu | MR6: ven | MS6: sam | MT6: dim | MU6: lun | MV6: mar | MW6: mer | MX6: jeu | MY6: ven | MZ6: sam | NA6: dim | NB6: lun | NC6: mar | ND6: mer | NE6: jeu | NF6: ven | NG6: sam | NH6: dim | NI6: lun | NJ6: mar | NK6: mer | NL6: jeu | NM6: ven | NN6: sam | NO6: dim | NP6: lun | NQ6: Présence jeunes
C7: SORTIES | E7: 43710 | F7: 43711 | G7: 43712 | H7: 43713 | I7: 43714 | J7: 43715 | K7: 43716 | L7: 43717 | M7: 43718 | N7: 43719 | O7: 43720 | P7: 43721 | Q7: 43722 | R7: 43723 | S7: 43724 | T7: 43725 | U7: 43726 | V7: 43727 | W7: 43728 | X7: 43729 | Y7: 43730 | Z7: 43731 | AA7: 43732 | AB7: 43733 | AC7: 43734 | AD7: 43735 | AE7: 43736 | AF7: 43737 | AG7: 43738 | AI7: 43739 | AJ7: 43740 | AK7: 43741 | AL7: 43742 | AM7: 43743 | AN7: 43744 | AO7: 43745 | AP7: 43746 | AQ7: 43747 | AR7: 43748 | AS7: 43749 | AT7: 43750 | AU7: 43751 | AV7: 43752 | AW7: 43753 | AX7: 43754 | AY7: 43755 | AZ7: 43756 | BA7: 43757 | BB7: 43758 | BC7: 43759 | BD7: 43760 | BE7: 43761 | BF7: 43762 | BG7: 43763 | BH7: 43764 | BI7: 43765 | BJ7: 43766 | BK7: 43767 | BL7: 43768 | BM7: 43769 | BO7: 43770 | BP7: 43771 | BQ7: 43772 | BR7: 43773 | BS7: 43774 | BT7: 43775 | BU7: 43776 | BV7: 43777 | BW7: 43778 | BX7: 43779 | BY7: 43780 | BZ7: 43781 | CA7: 43782 | CB7: 43783 | CC7: 43784 | CD7: 43785 | CE7: 43786 | CF7: 43787 | CG7: 43788 | CH7: 43789 | CI7: 43790 | CJ7: 43791 | CK7: 43792 | CL7: 43793 | CM7: 43794 | CN7: 43795 | CO7: 43796 | CP7: 43797 | CQ7: 43798 | CR7: 43799 | CT7: 43800 | CU7: 43801 | CV7: 43802 | CW7: 43803 | CX7: 43804 | CY7: 43805 | CZ7: 43806 | DA7: 43807 | DB7: 43808 | DC7: 43809 | DD7: 43810 | DE7: 43811 | DF7: 43812 | DG7: 43813 | DH7: 43814 | DI7: 43815 | DJ7: 43816 | DK7: 43817 | DL7: 43818 | DM7: 43819 | DN7: 43820 | DO7: 43821 | DP7: 43822 | DQ7: 43823 | DR7: 43824 | DS7: 43825 | DT7: 43826 | DU7: 43827 | DV7: 43828 | DW7: 43829 | DX7: 43830 | DZ7: 43831 | EA7: 43832 | EB7: 43833 | EC7: 43834 | ED7: 43835 | EE7: 43836 | EF7: 43837 | EG7: 43838 | EH7: 43839 | EI7: 43840 | EJ7: 43841 | EK7: 43842 | EL7: 43843 | EM7: 43844 | EN7: 43845 | EO7: 43846 | EP7: 43847 | EQ7: 43848 | ER7: 43849 | ES7: 43850 | ET7: 43851 | EU7: 43852 | EV7: 43853 | EW7: 43854 | EX7: 43855 | EY7: 43856 | EZ7: 43857 | FA7: 43858 | FB7: 43859 | FC7: 43860 | FD7: 43861 | FF7: 43862 | FG7: 43863 | FH7: 43864 | FI7: 43865 | FJ7: 43866 | FK7: 43867 | FL7: 43868 | FM7: 43869 | FN7: 43870 | FO7: 43871 | FP7: 43872 | FQ7: 43873 | FR7: 43874 | FS7: 43875 | FT7: 43876 | FU7: 43877 | FV7: 43878 | FW7: 43879 | FX7: 43880 | FY7: 43881 | FZ7: 43882 | GA7: 43883 | GB7: 43884 | GC7: 43885 | GD7: 43886 | GE7: 43887 | GF7: 43888 | GG7: 43889 | GH7: 43890 | GJ7: 43891 | GK7: 43892 | GL7: 43893 | GM7: 43894 | GN7: 43895 | GO7: 43896 | GP7: 43897 | GQ7: 43898 | GR7: 43899 | GS7: 43900 | GT7: 43901 | GU7: 43902 | GV7: 43903 | GW7: 43904 | GX7: 43905 | GY7: 43906 | GZ7: 43907 | HA7: 43908 | HB7: 43909 | HC7: 43910 | HD7: 43911 | HE7: 43912 | HF7: 43913 | HG7: 43914 | HH7: 43915 | HI7: 43916 | HJ7: 43917 | HK7: 43918 | HL7: 43919 | HM7: 43920 | HN7: 43921 | HP7: 43922 | HQ7: 43923 | HR7: 43924 | HS7: 43925 | HT7: 43926 | HU7: 43927 | HV7: 43928 | HW7: 43929 | HX7: 43930 | HY7: 43931 | HZ7: 43932 | IA7: 43933 | IB7: 43934 | IC7: 43935 | ID7: 43936 | IE7: 43937 | IF7: 43938 | IG7: 43939 | IH7: 43940 | II7: 43941 | IJ7: 43942 | IK7: 43943 | IL7: 43944 | IM7: 43945 | IN7: 43946 | IO7: 43947 | IP7: 43948 | IQ7: 43949 | IR7: 43950 | IS7: 43951 | IU7: 43952 | IV7: 43953 | IW7: 43954 | IX7: 43955 | IY7: 43956 | IZ7: 43957 | JA7: 43958 | JB7: 43959 | JC7: 43960 | JD7: 43961 | JE7: 43962 | JF7: 43963 | JG7: 43964 | JH7: 43965 | JI7: 43966 | JJ7: 43967 | JK7: 43968 | JL7: 43969 | JM7: 43970 | JN7: 43971 | JO7: 43972 | JP7: 43973 | JQ7: 43974 | JR7: 43975 | JS7: 43976 | JT7: 43977 | JU7: 43978 | JV7: 43979 | JW7: 43980 | JX7: 43981 | JY7: 43982 | KA7: 43983 | KB7: 43984 | KC7: 43985 | KD7: 43986 | KE7: 43987 | KF7: 43988 | KG7: 43989 | KH7: 43990 | KI7: 43991 | KJ7: 43992 | KK7: 43993 | KL7: 43994 | KM7: 43995 | KN7: 43996 | KO7: 43997 | KP7: 43998 | KQ7: 43999 | KR7: 44000 | KS7: 44001 | KT7: 44002 | KU7: 44003 | KV7: 44004 | KW7: 44005 | KX7: 44006 | KY7: 44007 | KZ7: 44008 | LA7: 44009 | LB7: 44010 | LC7: 44011 | LD7: 44012 | LF7: 44013 | LG7: 44014 | LH7: 44015 | LI7: 44016 | LJ7: 44017 | LK7: 44018 | LL7: 44019 | LM7: 44020 | LN7: 44021 | LO7: 44022 | LP7: 44023 | LQ7: 44024 | LR7: 44025 | LS7: 44026 | LT7: 44027 | LU7: 44028 | LV7: 44029 | LW7: 44030 | LX7: 44031 | LY7: 44032 | LZ7: 44033 | MA7: 44034 | MB7: 44035 | MC7: 44036 | MD7: 44037 | ME7: 44038 | MF7: 44039 | MG7: 44040 | MH7: 44041 | MI7: 44042 | MJ7: 44043 | ML7: 44044 | MM7: 44045 | MN7: 44046 | MO7: 44047 | MP7: 44048 | MQ7: 44049 | MR7: 44050 | MS7: 44051 | MT7: 44052 | MU7: 44053 | MV7: 44054 | MW7: 44055 | MX7: 44056 | MY7: 44057 | MZ7: 44058 | NA7: 44059 | NB7: 44060 | NC7: 44061 | ND7: 44062 | NE7: 44063 | NF7: 44064 | NG7: 44065 | NH7: 44066 | NI7: 44067 | NJ7: 44068 | NK7: 44069 | NL7: 44070 | NM7: 44071 | NN7: 44072 | NO7: 44073 | NP7: 44074
D8: Total | E8: =COUNTA(E10:E509) -> 0 | F8: =COUNTA(F10:F509) -> 0 | G8: =COUNTA(G10:G509) -> 0 | H8: =COUNTA(H10:H509) -> 0 | I8: =COUNTA(I10:I509) -> 0 | J8: =COUNTA(J10:J509) -> 0 | K8: =COUNTA(K10:K509) -> 0 | L8: =COUNTA(L10:L509) -> 0 | ... AG8: =COUNTA(AG10:AG509) -> 0 | AI8: =COUNTA(AI10:AI509) -> 0 | AJ8: =COUNTA(AJ10:AJ509) -> 0 | AK8: =COUNTA(AK10:AK509) -> 0 | AL8: =COUNTA(AL10:AL509) -> 0 | AM8: =COUNTA(AM10:AM509) -> 0 | AN8: =COUNTA(AN10:AN509) -> 0 | AO8: =COUNTA(AO10:AO509) -> 0 | AP8: =COUNTA(AP10:AP509) -> 0 | ... BM8: =COUNTA(BM10:BM509) -> 0 | BO8: =COUNTA(BO10:BO509) -> 0 | BP8: =COUNTA(BP10:BP509) -> 0 | BQ8: =COUNTA(BQ10:BQ509) -> 0 | BR8: =COUNTA(BR10:BR509) -> 0 | BS8: =COUNTA(BS10:BS509) -> 0 | BT8: =COUNTA(BT10:BT509) -> 0 | BU8: =COUNTA(BU10:BU509) -> 0 | BV8: =COUNTA(BV10:BV509) -> 0 | ... CR8: =COUNTA(CR10:CR509) -> 0 | CT8: =COUNTA(CT10:CT509) -> 0 | CU8: =COUNTA(CU10:CU509) -> 0 | CV8: =COUNTA(CV10:CV509) -> 0 | CW8: =COUNTA(CW10:CW509) -> 0 | CX8: =COUNTA(CX10:CX509) -> 0 | CY8: =COUNTA(CY10:CY509) -> 0 | CZ8: =COUNTA(CZ10:CZ509) -> 0 | DA8: =COUNTA(DA10:DA509) -> 0 | ... DX8: =COUNTA(DX10:DX509) -> 0 | DZ8: =COUNTA(DZ10:DZ509) -> 0 | EA8: =COUNTA(EA10:EA509) -> 0 | EB8: =COUNTA(EB10:EB509) -> 0 | EC8: =COUNTA(EC10:EC509) -> 0 | ED8: =COUNTA(ED10:ED509) -> 0 | EE8: =COUNTA(EE10:EE509) -> 0 | EF8: =COUNTA(EF10:EF509) -> 0 | EG8: =COUNTA(EG10:EG509) -> 0 | ... FD8: =COUNTA(FD10:FD509) -> 0 | FF8: =COUNTA(FF10:FF509) -> 0 | FG8: =COUNTA(FG10:FG509) -> 0 | FH8: =COUNTA(FH10:FH509) -> 0 | FI8: =COUNTA(FI10:FI509) -> 0 | FJ8: =COUNTA(FJ10:FJ509) -> 0 | FK8: =COUNTA(FK10:FK509) -> 0 | FL8: =COUNTA(FL10:FL509) -> 0 | FM8: =COUNTA(FM10:FM509) -> 0 | ... GH8: =COUNTA(GH10:GH509) -> 0 | GJ8: =COUNTA(GJ10:GJ509) -> 0 | GK8: =COUNTA(GK10:GK509) -> 0 | GL8: =COUNTA(GL10:GL509) -> 0 | GM8: =COUNTA(GM10:GM509) -> 0 | GN8: =COUNTA(GN10:GN509) -> 0 | GO8: =COUNTA(GO10:GO509) -> 0 | GP8: =COUNTA(GP10:GP509) -> 0 | GQ8: =COUNTA(GQ10:GQ509) -> 0 | ... HN8: =COUNTA(HN10:HN509) -> 0 | HP8: =COUNTA(HP10:HP509) -> 0 | HQ8: =COUNTA(HQ10:HQ509) -> 0 | HR8: =COUNTA(HR10:HR509) -> 0 | HS8: =COUNTA(HS10:HS509) -> 0 | HT8: =COUNTA(HT10:HT509) -> 0 | HU8: =COUNTA(HU10:HU509) -> 0 | HV8: =COUNTA(HV10:HV509) -> 0 | HW8: =COUNTA(HW10:HW509) -> 0 | ... IS8: =COUNTA(IS10:IS509) -> 0 | IU8: =COUNTA(IU10:IU509) -> 0 | IV8: =COUNTA(IV10:IV509) -> 0 | IW8: =COUNTA(IW10:IW509) -> 0 | IX8: =COUNTA(IX10:IX509) -> 0 | IY8: =COUNTA(IY10:IY509) -> 0 | IZ8: =COUNTA(IZ10:IZ509) -> 0 | JA8: =COUNTA(JA10:JA509) -> 0 | JB8: =COUNTA(JB10:JB509) -> 0 | ... JY8: =COUNTA(JY10:JY509) -> 0 | KA8: =COUNTA(KA10:KA509) -> 0 | KB8: =COUNTA(KB10:KB509) -> 0 | KC8: =COUNTA(KC10:KC509) -> 0 | KD8: =COUNTA(KD10:KD509) -> 0 | KE8: =COUNTA(KE10:KE509) -> 0 | KF8: =COUNTA(KF10:KF509) -> 0 | KG8: =COUNTA(KG10:KG509) -> 0 | KH8: =COUNTA(KH10:KH509) -> 0 | ... LD8: =COUNTA(LD10:LD509) -> 0 | LF8: =COUNTA(LF10:LF509) -> 0 | LG8: =COUNTA(LG10:LG509) -> 0 | LH8: =COUNTA(LH10:LH509) -> 0 | LI8: =COUNTA(LI10:LI509) -> 0 | LJ8: =COUNTA(LJ10:LJ509) -> 0 | LK8: =COUNTA(LK10:LK509) -> 0 | LL8: =COUNTA(LL10:LL509) -> 0 | LM8: =COUNTA(LM10:LM509) -> 0 | ... MJ8: =COUNTA(MJ10:MJ509) -> 0 | ML8: =COUNTA(ML10:ML509) -> 0 | MM8: =COUNTA(MM10:MM509) -> 0 | MN8: =COUNTA(MN10:MN509) -> 0 | MO8: =COUNTA(MO10:MO509) -> 0 | MP8: =COUNTA(MP10:MP509) -> 0 | MQ8: =COUNTA(MQ10:MQ509) -> 0 | MR8: =COUNTA(MR10:MR509) -> 0 | MS8: =COUNTA(MS10:MS509) -> 0 | ... NP8: =COUNTA(NP10:NP509) -> 0
A9: n° | B9: Classe | C9: Nom | D9: Prénom
A10: 1 | AH10: =COUNTA(E10:AG10) -> 0 | BN10: =COUNTA(AI10:BM10) -> 0 | CS10: =COUNTA(BO10:CR10) -> 0 | DY10: =COUNTA(CT16:DX16) -> 0 | FE10: =COUNTA(DZ10:FD10) -> 0 | GI10: =COUNTA(FF10:GH10) -> 0 | HO10: =COUNTA(GJ10:HN10) -> 0 | IT10: =COUNTA(HP10:IS10) -> 0 | JZ10: =COUNTA(IU10:JY10) -> 0 | LE10: =COUNTA(KA10:LD10) -> 0 | MK10: =COUNTA(LF10:MJ10) -> 0 | NQ10: =COUNTA(ML10:NP10) -> 0
A11: 2 | AH11: =COUNTA(E11:AG11) -> 0 | BN11: =COUNTA(AI11:BM11) -> 0 | CS11: =COUNTA(BO11:CR11) -> 0 | DY11: =COUNTA(CT17:DX17) -> 0 | FE11: =COUNTA(DZ11:FD11) -> 0 | GI11: =COUNTA(FF11:GH11) -> 0 | HO11: =COUNTA(GJ11:HN11) -> 0 | IT11: =COUNTA(HP11:IS11) -> 0 | JZ11: =COUNTA(IU11:JY11) -> 0 | LE11: =COUNTA(KA11:LD11) -> 0 | MK11: =COUNTA(LF11:MJ11) -> 0 | NQ11: =COUNTA(ML11:NP11) -> 0
A12: 3 | AH12: =COUNTA(E12:AG12) -> 0 | BN12: =COUNTA(AI12:BM12) -> 0 | CS12: =COUNTA(BO12:CR12) -> 0 | DY12: =COUNTA(CT18:DX18) -> 0 | FE12: =COUNTA(DZ12:FD12) -> 0 | GI12: =COUNTA(FF12:GH12) -> 0 | HO12: =COUNTA(GJ12:HN12) -> 0 | IT12: =COUNTA(HP12:IS12) -> 0 | JZ12: =COUNTA(IU12:JY12) -> 0 | LE12: =COUNTA(KA12:LD12) -> 0 | MK12: =COUNTA(LF12:MJ12) -> 0 | NQ12: =COUNTA(ML12:NP12) -> 0
A13: 4 | AH13: =COUNTA(E13:AG13) -> 0 | BN13: =COUNTA(AI13:BM13) -> 0 | CS13: =COUNTA(BO13:CR13) -> 0 | DY13: =COUNTA(CT19:DX19) -> 0 | FE13: =COUNTA(DZ13:FD13) -> 0 | GI13: =COUNTA(FF13:GH13) -> 0 | HO13: =COUNTA(GJ13:HN13) -> 0 | IT13: =COUNTA(HP13:IS13) -> 0 | JZ13: =COUNTA(IU13:JY13) -> 0 | LE13: =COUNTA(KA13:LD13) -> 0 | MK13: =COUNTA(LF13:MJ13) -> 0 | NQ13: =COUNTA(ML13:NP13) -> 0
A14: 5 | AH14: =COUNTA(E14:AG14) -> 0 | BN14: =COUNTA(AI14:BM14) -> 0 | CS14: =COUNTA(BO14:CR14) -> 0 | DY14: =COUNTA(CT20:DX20) -> 0 | FE14: =COUNTA(DZ14:FD14) -> 0 | GI14: =COUNTA(FF14:GH14) -> 0 | HO14: =COUNTA(GJ14:HN14) -> 0 | IT14: =COUNTA(HP14:IS14) -> 0 | JZ14: =COUNTA(IU14:JY14) -> 0 | LE14: =COUNTA(KA14:LD14) -> 0 | MK14: =COUNTA(LF14:MJ14) -> 0 | NQ14: =COUNTA(ML14:NP14) -> 0
A15: 6 | AH15: =COUNTA(E15:AG15) -> 0 | BN15: =COUNTA(AI15:BM15) -> 0 | CS15: =COUNTA(BO15:CR15) -> 0 | DY15: =COUNTA(CT21:DX21) -> 0 | FE15: =COUNTA(DZ15:FD15) -> 0 | GI15: =COUNTA(FF15:GH15) -> 0 | HO15: =COUNTA(GJ15:HN15) -> 0 | IT15: =COUNTA(HP15:IS15) -> 0 | JZ15: =COUNTA(IU15:JY15) -> 0 | LE15: =COUNTA(KA15:LD15) -> 0 | MK15: =COUNTA(LF15:MJ15) -> 0 | NQ15: =COUNTA(ML15:NP15) -> 0
A16: 7 | AH16: =BN16:BN509 -> 0 | BN16: =COUNTA(AI16:BM16) -> 0 | CS16: =COUNTA(BO16:CR16) -> 0 | DY16: =COUNTA(CT22:DX22) -> 0 | FE16: =COUNTA(DZ16:FD16) -> 0 | GI16: =COUNTA(FF16:GH16) -> 0 | HO16: =COUNTA(GJ16:HN16) -> 0 | IT16: =COUNTA(HP16:IS16) -> 0 | JZ16: =COUNTA(IU16:JY16) -> 0 | LE16: =COUNTA(KA16:LD16) -> 0 | MK16: =COUNTA(LF16:MJ16) -> 0 | NQ16: =COUNTA(ML16:NP16) -> 0
A17: 8 | AH17: =COUNTA(E17:AG17) -> 0 | BN17: =COUNTA(AI17:BM17) -> 0 | CS17: =COUNTA(BO17:CR17) -> 0 | DY17: =COUNTA(CT23:DX23) -> 0 | FE17: =COUNTA(DZ17:FD17) -> 0 | GI17: =COUNTA(FF17:GH17) -> 0 | HO17: =COUNTA(GJ17:HN17) -> 0 | IT17: =COUNTA(HP17:IS17) -> 0 | JZ17: =COUNTA(IU17:JY17) -> 0 | LE17: =COUNTA(KA17:LD17) -> 0 | MK17: =COUNTA(LF17:MJ17) -> 0 | NQ17: =COUNTA(ML17:NP17) -> 0
A18: 9 | AH18: =COUNTA(E18:AG18) -> 0 | BN18: =COUNTA(AI18:BM18) -> 0 | CS18: =COUNTA(BO18:CR18) -> 0 | DY18: =COUNTA(CT24:DX24) -> 0 | FE18: =COUNTA(DZ18:FD18) -> 0 | GI18: =COUNTA(FF18:GH18) -> 0 | HO18: =COUNTA(GJ18:HN18) -> 0 | IT18: =COUNTA(HP18:IS18) -> 0 | JZ18: =COUNTA(IU18:JY18) -> 0 | LE18: =COUNTA(KA18:LD18) -> 0 | MK18: =COUNTA(LF18:MJ18) -> 0 | NQ18: =COUNTA(ML18:NP18) -> 0
A19: 10 | AH19: =COUNTA(E19:AG19) -> 0 | BN19: =COUNTA(AI19:BM19) -> 0 | CS19: =COUNTA(BO19:CR19) -> 0 | DY19: =COUNTA(CT25:DX25) -> 0 | FE19: =COUNTA(DZ19:FD19) -> 0 | GI19: =COUNTA(FF19:GH19) -> 0 | HO19: =COUNTA(GJ19:HN19) -> 0 | IT19: =COUNTA(HP19:IS19) -> 0 | JZ19: =COUNTA(IU19:JY19) -> 0 | LE19: =COUNTA(KA19:LD19) -> 0 | MK19: =COUNTA(LF19:MJ19) -> 0 | NQ19: =COUNTA(ML19:NP19) -> 0
A20: 11 | AH20: =COUNTA(E20:AG20) -> 0 | BN20: =COUNTA(AI20:BM20) -> 0 | CS20: =COUNTA(BO20:CR20) -> 0 | DY20: =COUNTA(CT26:DX26) -> 0 | FE20: =COUNTA(DZ20:FD20) -> 0 | GI20: =COUNTA(FF20:GH20) -> 0 | HO20: =COUNTA(GJ20:HN20) -> 0 | IT20: =COUNTA(HP20:IS20) -> 0 | JZ20: =COUNTA(IU20:JY20) -> 0 | LE20: =COUNTA(KA20:LD20) -> 0 | MK20: =COUNTA(LF20:MJ20) -> 0 | NQ20: =COUNTA(ML20:NP20) -> 0
A21: 12 | AH21: =COUNTA(E21:AG21) -> 0 | BN21: =COUNTA(AI21:BM21) -> 0 | CS21: =COUNTA(BO21:CR21) -> 0 | DY21: =COUNTA(CT27:DX27) -> 0 | FE21: =COUNTA(DZ21:FD21) -> 0 | GI21: =COUNTA(FF21:GH21) -> 0 | HO21: =COUNTA(GJ21:HN21) -> 0 | IT21: =COUNTA(HP21:IS21) -> 0 | JZ21: =COUNTA(IU21:JY21) -> 0 | LE21: =COUNTA(KA21:LD21) -> 0 | MK21: =COUNTA(LF21:MJ21) -> 0 | NQ21: =COUNTA(ML21:NP21) -> 0
A22: 13 | AH22: =COUNTA(E22:AG22) -> 0 | BN22: =COUNTA(AI22:BM22) -> 0 | CS22: =COUNTA(BO22:CR22) -> 0 | DY22: =COUNTA(CT28:DX28) -> 0 | FE22: =COUNTA(DZ22:FD22) -> 0 | GI22: =COUNTA(FF22:GH22) -> 0 | HO22: =COUNTA(GJ22:HN22) -> 0 | IT22: =COUNTA(HP22:IS22) -> 0 | JZ22: =COUNTA(IU22:JY22) -> 0 | LE22: =COUNTA(KA22:LD22) -> 0 | MK22: =COUNTA(LF22:MJ22) -> 0 | NQ22: =COUNTA(ML22:NP22) -> 0
A23: 14 | AH23: =COUNTA(E23:AG23) -> 0 | BN23: =COUNTA(AI23:BM23) -> 0 | CS23: =COUNTA(BO23:CR23) -> 0 | DY23: =COUNTA(CT29:DX29) -> 0 | FE23: =COUNTA(DZ23:FD23) -> 0 | GI23: =COUNTA(FF23:GH23) -> 0 | HO23: =COUNTA(GJ23:HN23) -> 0 | IT23: =COUNTA(HP23:IS23) -> 0 | JZ23: =COUNTA(IU23:JY23) -> 0 | LE23: =COUNTA(KA23:LD23) -> 0 | MK23: =COUNTA(LF23:MJ23) -> 0 | NQ23: =COUNTA(ML23:NP23) -> 0
A24: 15 | AH24: =COUNTA(E24:AG24) -> 0 | BN24: =COUNTA(AI24:BM24) -> 0 | CS24: =COUNTA(BO24:CR24) -> 0 | DY24: =COUNTA(CT30:DX30) -> 0 | FE24: =COUNTA(DZ24:FD24) -> 0 | GI24: =COUNTA(FF24:GH24) -> 0 | HO24: =COUNTA(GJ24:HN24) -> 0 | IT24: =COUNTA(HP24:IS24) -> 0 | JZ24: =COUNTA(IU24:JY24) -> 0 | LE24: =COUNTA(KA24:LD24) -> 0 | MK24: =COUNTA(LF24:MJ24) -> 0 | NQ24: =COUNTA(ML24:NP24) -> 0
A25: 16 | AH25: =COUNTA(E25:AG25) -> 0 | BN25: =COUNTA(AI25:BM25) -> 0 | CS25: =COUNTA(BO25:CR25) -> 0 | DY25: =COUNTA(CT31:DX31) -> 0 | FE25: =COUNTA(DZ25:FD25) -> 0 | GI25: =COUNTA(FF25:GH25) -> 0 | HO25: =COUNTA(GJ25:HN25) -> 0 | IT25: =COUNTA(HP25:IS25) -> 0 | JZ25: =COUNTA(IU25:JY25) -> 0 | LE25: =COUNTA(KA25:LD25) -> 0 | MK25: =COUNTA(LF25:MJ25) -> 0 | NQ25: =COUNTA(ML25:NP25) -> 0
A26: 17 | AH26: =COUNTA(E26:AG26) -> 0 | BN26: =COUNTA(AI26:BM26) -> 0 | CS26: =COUNTA(BO26:CR26) -> 0 | DY26: =COUNTA(CT32:DX32) -> 0 | FE26: =COUNTA(DZ26:FD26) -> 0 | GI26: =COUNTA(FF26:GH26) -> 0 | HO26: =COUNTA(GJ26:HN26) -> 0 | IT26: =COUNTA(HP26:IS26) -> 0 | JZ26: =COUNTA(IU26:JY26) -> 0 | LE26: =COUNTA(KA26:LD26) -> 0 | MK26: =COUNTA(LF26:MJ26) -> 0 | NQ26: =COUNTA(ML26:NP26) -> 0
A27: 18 | AH27: =COUNTA(E27:AG27) -> 0 | BN27: =COUNTA(AI27:BM27) -> 0 | CS27: =COUNTA(BO27:CR27) -> 0 | DY27: =COUNTA(CT33:DX33) -> 0 | FE27: =COUNTA(DZ27:FD27) -> 0 | GI27: =COUNTA(FF27:GH27) -> 0 | HO27: =COUNTA(GJ27:HN27) -> 0 | IT27: =COUNTA(HP27:IS27) -> 0 | JZ27: =COUNTA(IU27:JY27) -> 0 | LE27: =COUNTA(KA27:LD27) -> 0 | MK27: =COUNTA(LF27:MJ27) -> 0 | NQ27: =COUNTA(ML27:NP27) -> 0
A28: 19 | AH28: =COUNTA(E28:AG28) -> 0 | BN28: =COUNTA(AI28:BM28) -> 0 | CS28: =COUNTA(BO28:CR28) -> 0 | DY28: =COUNTA(CT34:DX34) -> 0 | FE28: =COUNTA(DZ28:FD28) -> 0 | GI28: =COUNTA(FF28:GH28) -> 0 | HO28: =COUNTA(GJ28:HN28) -> 0 | IT28: =COUNTA(HP28:IS28) -> 0 | JZ28: =COUNTA(IU28:JY28) -> 0 | LE28: =COUNTA(KA28:LD28) -> 0 | MK28: =COUNTA(LF28:MJ28) -> 0 | NQ28: =COUNTA(ML28:NP28) -> 0
... A509: 500 | AH509: =COUNTA(E509:AG509) -> 0 | BN509: =COUNTA(AI509:BM509) -> 0 | CS509: =COUNTA(BO509:CR509) -> 0 | DY509: =COUNTA(CT515:DX515) -> 0 | FE509: =COUNTA(DZ509:FD509) -> 0 | GI509: =COUNTA(FF509:GH509) -> 0 | HO509: =COUNTA(GJ509:HN509) -> 0 | IT509: =COUNTA(HP509:IS509) -> 0 | JZ509: =COUNTA(IU509:JY509) -> 0 | LE509: =COUNTA(KA509:LD509) -> 0 | MK509: =COUNTA(LF509:MJ509) -> 0 | NQ509: =COUNTA(ML509:NP509) -> 0

Sheet Chéque 
B2: Année scolaire | C2: =Inscriptions!D2 -> 2019-2020
B3: Collège | C3: =Inscriptions!D3 -> 0 | G3: Chéques lecture reçus | I3: =COUNTA(B21:B66) -> 0 | J3: Chéques culture reçus | K3: =COUNTA(H12:H66) -> 0
B4: Adjoint éducatif | C4: =Inscriptions!D4 -> 0 | G4: Chéques lecture dépensés | I4: =COUNTA(D15:D66) -> 0 | J4: Chéques culture dépensés | K4: =COUNTA(J12:J66) -> 0
B5: Coordonateur | C5: =Inscriptions!D5 -> 0 | G5: Chèques lectures restant | I5: =I3-I4 -> 0 | J5: Chèques cultures restant | K5: =K3-K4 -> 0
D7: Chèques
B10: Chéque lecture | H10: Chéque culture
B11: N° | C11: Date de récéption | D11: Dépensé pour | E11: Date de dépense | F11: Facture (oui/non) | H11: N° | I11: Date de récéption | J11: Dépensé pour | K11: Date de dépense | L11: Facture (oui/non)

Sheet Sejours
B2: Année scolaire | C2: =Inscriptions!D2 -> 2019-2020
B3: Collège | C3: =Inscriptions!D3 -> 0
B4: Adjoint éducatif | C4: =Inscriptions!D4 -> 0
B5: Coordonateur | C5: =Inscriptions!D5 -> 0
C7: SEJOURS | E7: Toussaint | F7: Hiver | G7: Printemps | H7: Juillet | I7: Aout
D8: Total | E8: =COUNTA(E10:E509) -> 0 | F8: =COUNTA(F10:F509) -> 0 | G8: =COUNTA(G10:G509) -> 0 | H8: =COUNTA(H10:H509) -> 0 | I8: =COUNTA(I10:I509) -> 0
A9: n° | B9: Classe | C9: Nom | D9: Prénom
A10: 1
A11: 2
A12: 3
A13: 4
A14: 5
A15: 6
A16: 7
A17: 8
A18: 9
A19: 10
A20: 11
A21: 12
... A509: 500

Sheet Week-end
B2: Année scolaire | C2: =Inscriptions!D2 -> 2019-2020
B3: Collège | C3: =Inscriptions!D3 -> 0
B4: Adjoint éducatif | C4: =Inscriptions!D4 -> 0
B5: Coordonateur | C5: =Inscriptions!D5 -> 0
C7: WEEK-END | E7: WE septembre/octobre | F7: WE mai/juin
D8: Total | E8: =COUNTA(E10:E509) -> 0 | F8: =COUNTA(F10:F509) -> 0
A9: n° | B9: Classe | C9: Nom | D9: Prénom
A10: 1
A11: 2
A12: 3
A13: 4
A14: 5
A15: 6
A16: 7
A17: 8
A18: 9
A19: 10
A20: 11
A21: 12
... A509: 500

Sheet bilan
C9: Nombre de jeunes | D9: Sexe | F9: Age | L9: Niveau
D10: F | E10: G | F10: 11 | G10: 12 | H10: 13 | I10: 14 | J10: 15 | K10: 16 | L10: 6è | M10: 5è | N10: 4è | O10: 3è | P10: SEGPA | Q10: ULIS | R10: UPEAA
A11: Club | B11: Inscrits | C11: =Inscriptions!T9 -> 2
B12: Passages | C12: =SUM(Club!E8:NP8) -> 0
B13: Jours d'ouverture | E13: =COUNTIF(Club!E8:NP8, ">0") -> 0
B14: Moyenne par jour d'ouverture | E14: =C12/E13 -> #DIV/0!
C16: Nombre de jeunes | D16: Sexe | F16: Age | L16: Niveau
D17: F | E17: G | F17: 11 | G17: 12 | H17: 13 | I17: 14 | J17: 15 | K17: 16 | L17: 6è | M17: 5è | N17: 4è | O17: 3è | P17: SEGPA | Q17: ULIS | R17: UPEAA
A18: Aide aux devoirs | B18: Inscrits | C18: =Inscriptions!U9 -> 2
B19: Passages | C19: =SUM('Aide devoirs'!E8:NP8) -> 0
B20: Jours d'ouverture | E20: =COUNTIF('Aide devoirs'!E8:NP8, ">0") -> 0
B21: Moyenne par jour d'ouverture | E21: =C19/E20 -> #DIV/0!
C23: Nombre de jeunes | D23: Sexe | F23: Age | L23: Niveau
D24: F | E24: G | F24: 11 | G24: 12 | H24: 13 | I24: 14 | J24: 15 | K24: 16 | L24: 6è | M24: 5è | N24: 4è | O24: 3è | P24: SEGPA | Q24: ULIS | R24: UPEAA
A25: Sorties | B25: Inscrits | C25: =Inscriptions!Y9 -> 1
B26: Passages | C26: =SUM(Sorties!E8:NP8) -> 0
B27: Nombres de sorties | E27: =COUNTA('Liste sorties'!B13:B52) -> 0
B28: Moyenne par sorties | E28: =C26/E27 -> #DIV/0!
C30: Nombre de jeunes | D30: Sexe | F30: Age | L30: Niveau
D31: F | E31: G | F31: 11 | G31: 12 | H31: 13 | I31: 14 | J31: 15 | K31: 16 | L31: 6è | M31: 5è | N31: 4è | O31: 3è | P31: SEGPA | Q31: ULIS | R31: UPEAA
A32: Séjours | B32: Inscrits | C32: =Inscriptions!V9 -> 1
B33: Passages | C33: =SUM(Sejours!E8:I8) -> 0
B34: Nombre de séjours | E34: =COUNTIF(Sejours!E8:I8, ">0") -> 0
B35: Moyenne par séjours | E35: =C33/E34 -> #DIV/0!
C37: Nombre de jeunes | D37: Sexe | F37: Age | L37: Niveau
D38: F | E38: G | F38: 11 | G38: 12 | H38: 13 | I38: 14 | J38: 15 | K38: 16 | L38: 6è | M38: 5è | N38: 4è | O38: 3è | P38: SEGPA | Q38: ULIS | R38: UPEAA
A39: Week-end | B39: Inscrits | C39: =Inscriptions!X9 -> 0
B40: Passages | C40: =SUM('Week-end'!E8:F8) -> 0
B41: Nombre de week-end | E41: =COUNTIF('Week-end'!E8:F8, ">0") -> 0
B42: Moyenne par week-end | E42: =C40/E41 -> #DIV/0!

Sheet Heures sup
B2: Année scolaire | C2: =Inscriptions!D2 -> 2019-2020
B3: Collège | C3: =Inscriptions!D3 -> 0
B4: Adjoint éducatif | C4: =Inscriptions!D4 -> 0
B5: Coordonateur | C5: =Inscriptions!D5 -> 0
C7: Heures Supplémentaires
B10: Heures supplémentaires effectuées | F10: Heures supplémentaires récupérées
B11: Date | C11: Durée (hh:mm) | D11: Motif | F11: Date | G11: Durée (hh:mm) | I11: Total heures supplémentaires effectuées | L11: =SUM(C12:C62) -> 0
I12: Total heures supplémentaires récupérées | L12: =SUM(G12:G62) -> 0
I14: Reste à récupérer | K14: =L11-L12 -> 0

Sheet Jours congés
B2: Année scolaire | C2: =Inscriptions!D2 -> 2019-2020
B3: Collège | C3: =Inscriptions!D3 -> 0
B4: Adjoint éducatif | C4: =Inscriptions!D4 -> 0
B5: Coordonateur | C5: =Inscriptions!D5 -> 0
D10: Date
C11: Jour 1 | F11: Jours de congés en début d'année | I11: 8.5
C12: Jour 2
C13: Jour 3
C14: Jour 4
C15: Jour 5
C16: Jour 6
C17: Jour 7
C18: Jour 8
C19: Demi-journée
