Workbook
Name AffichageMois: CALENDRIER!$C$4:$U$35
Name AfficherAnnée: CALENDRIER!$C$2
Name affichermois: CALENDRIER!$F$2
Name DateDébut: 'VERSION IMPRIMABLE'!$F$3
Name DateDébut: CALENDRIER!$F$3
Name Dates: tblÉvénements[DATE]
Name Dates: tblÉvénements[DATE]
Name DébutLigneTableau: ROW(tblÉvénements[[#Headers],[DATE]])
Name DébutLigneTableau: ROW(tblÉvénements[[#Headers],[DATE]])
Name Événements: tblÉvénements[NOM D’ÉVÉNEMENT]
Name Événements: tblÉvénements[NOM D’ÉVÉNEMENT]
Name ÉvénementsQuotidiens: 'VERSION IMPRIMABLE'!$C$7:$U$10,'VERSION IMPRIMABLE'!$C$12:$U$15,'VERSION IMPRIMABLE'!$C$17:$U$20,'VERSION IMPRIMABLE'!$C$22:$U$25,'VERSION IMPRIMABLE'!$C$27:$U$30,'VERSION IMPRIMABLE'!$C$32:$F$35
Name ÉvénementsQuotidiens: CALENDRIER!$C$7:$U$10,CALENDRIER!$C$12:$U$15,CALENDRIER!$C$17:$U$20,CALENDRIER!$C$22:$U$25,CALENDRIER!$C$27:$U$30,CALENDRIER!$C$32:$F$35
Name NumMois: 'VERSION IMPRIMABLE'!$C$3
Name NumMois: CALENDRIER!$C$3

Sheet ÉVÉNEMENTS
B2: RETROPLANNING FESTIV'ELLES 2020
B3: MENSUELS
B8: DATE | C8: JOUR | D8: MOIS | E8: NOM D’ÉVÉNEMENT | F8: Commissions
B9: 43600 | C9: =IF(ISBLANK(tblÉvénements[[#This Row],[DATE]]),"",UPPER(TEXT(tblÉvénements[[#This Row],[DATE]],"jjj"))) -> MER | D9: =IF(ISBLANK(tblÉvénements[[#This Row],[DATE]]),"",UPPER(TEXT(tblÉvénements[[#This Row],[DATE]],"mmm"))) -> MAI | E9: 19h: Bilan 2019 + améliorations Tous | F9: Tous
B10: 43742 | C10: =IF(ISBLANK(tblÉvénements[[#This Row],[DATE]]),"",UPPER(TEXT(tblÉvénements[[#This Row],[DATE]],"jjj"))) -> VEN | D10: =IF(ISBLANK(tblÉvénements[[#This Row],[DATE]]),"",UPPER(TEXT(tblÉvénements[[#This Row],[DATE]],"mmm"))) -> OCT | E10: Réunion préparatoire Popote | F10: Popote
B11: 43742 | C11: =IF(ISBLANK(tblÉvénements[[#This Row],[DATE]]),"",UPPER(TEXT(tblÉvénements[[#This Row],[DATE]],"jjj"))) -> VEN | D11: =IF(ISBLANK(tblÉvénements[[#This Row],[DATE]]),"",UPPER(TEXT(tblÉvénements[[#This Row],[DATE]],"mmm"))) -> OCT | E11: Réunion préparatoire Com-com | F11: Com-Com
B12: 43742 | C12: =IF(ISBLANK(tblÉvénements[[#This Row],[DATE]]),"",UPPER(TEXT(tblÉvénements[[#This Row],[DATE]],"jjj"))) -> VEN | D12: =IF(ISBLANK(tblÉvénements[[#This Row],[DATE]]),"",UPPER(TEXT(tblÉvénements[[#This Row],[DATE]],"mmm"))) -> OCT | E12: Réunion préparatoire Cartonn'elles | F12: Cartonn'elles
C13: =IF(ISBLANK(tblÉvénements[[#This Row],[DATE]]),"",UPPER(TEXT(tblÉvénements[[#This Row],[DATE]],"jjj"))) | D13: =IF(ISBLANK(tblÉvénements[[#This Row],[DATE]]),"",UPPER(TEXT(tblÉvénements[[#This Row],[DATE]],"mmm")))
C14: =IF(ISBLANK(tblÉvénements[[#This Row],[DATE]]),"",UPPER(TEXT(tblÉvénements[[#This Row],[DATE]],"jjj"))) | D14: =IF(ISBLANK(tblÉvénements[[#This Row],[DATE]]),"",UPPER(TEXT(tblÉvénements[[#This Row],[DATE]],"mmm")))
C15: =IF(ISBLANK(tblÉvénements[[#This Row],[DATE]]),"",UPPER(TEXT(tblÉvénements[[#This Row],[DATE]],"jjj"))) | D15: =IF(ISBLANK(tblÉvénements[[#This Row],[DATE]]),"",UPPER(TEXT(tblÉvénements[[#This Row],[DATE]],"mmm")))
C16: =IF(ISBLANK(tblÉvénements[[#This Row],[DATE]]),"",UPPER(TEXT(tblÉvénements[[#This Row],[DATE]],"jjj"))) | D16: =IF(ISBLANK(tblÉvénements[[#This Row],[DATE]]),"",UPPER(TEXT(tblÉvénements[[#This Row],[DATE]],"mmm")))
C17: =IF(ISBLANK(tblÉvénements[[#This Row],[DATE]]),"",UPPER(TEXT(tblÉvénements[[#This Row],[DATE]],"jjj"))) | D17: =IF(ISBLANK(tblÉvénements[[#This Row],[DATE]]),"",UPPER(TEXT(tblÉvénements[[#This Row],[DATE]],"mmm")))
C18: =IF(ISBLANK(tblÉvénements[[#This Row],[DATE]]),"",UPPER(TEXT(tblÉvénements[[#This Row],[DATE]],"jjj"))) | D18: =IF(ISBLANK(tblÉvénements[[#This Row],[DATE]]),"",UPPER(TEXT(tblÉvénements[[#This Row],[DATE]],"mmm")))
C19: =IF(ISBLANK(tblÉvénements[[#This Row],[DATE]]),"",UPPER(TEXT(tblÉvénements[[#This Row],[DATE]],"jjj"))) | D19: =IF(ISBLANK(tblÉvénements[[#This Row],[DATE]]),"",UPPER(TEXT(tblÉvénements[[#This Row],[DATE]],"mmm")))
C20: =IF(ISBLANK(tblÉvénements[[#This Row],[DATE]]),"",UPPER(TEXT(tblÉvénements[[#This Row],[DATE]],"jjj"))) | D20: =IF(ISBLANK(tblÉvénements[[#This Row],[DATE]]),"",UPPER(TEXT(tblÉvénements[[#This Row],[DATE]],"mmm")))
C21: =IF(ISBLANK(tblÉvénements[[#This Row],[DATE]]),"",UPPER(TEXT(tblÉvénements[[#This Row],[DATE]],"jjj"))) | D21: =IF(ISBLANK(tblÉvénements[[#This Row],[DATE]]),"",UPPER(TEXT(tblÉvénements[[#This Row],[DATE]],"mmm")))
C22: =IF(ISBLANK(tblÉvénements[[#This Row],[DATE]]),"",UPPER(TEXT(tblÉvénements[[#This Row],[DATE]],"jjj"))) | D22: =IF(ISBLANK(tblÉvénements[[#This Row],[DATE]]),"",UPPER(TEXT(tblÉvénements[[#This Row],[DATE]],"mmm")))
C23: =IF(ISBLANK(tblÉvénements[[#This Row],[DATE]]),"",UPPER(TEXT(tblÉvénements[[#This Row],[DATE]],"jjj"))) | D23: =IF(ISBLANK(tblÉvénements[[#This Row],[DATE]]),"",UPPER(TEXT(tblÉvénements[[#This Row],[DATE]],"mmm")))
C24: =IF(ISBLANK(tblÉvénements[[#This Row],[DATE]]),"",UPPER(TEXT(tblÉvénements[[#This Row],[DATE]],"jjj"))) | D24: =IF(ISBLANK(tblÉvénements[[#This Row],[DATE]]),"",UPPER(TEXT(tblÉvénements[[#This Row],[DATE]],"mmm")))
... C712: =IF(ISBLANK(tblÉvénements[[#This Row],[DATE]]),"",UPPER(TEXT(tblÉvénements[[#This Row],[DATE]],"jjj"))) | D712: =IF(ISBLANK(tblÉvénements[[#This Row],[DATE]]),"",UPPER(TEXT(tblÉvénements[[#This Row],[DATE]],"mmm")))

Sheet CALENDRIER
C2: 2019 | F2: =LOOKUP(NumMois,tblMois[NOMBRE],tblMois[MOIS]) -> SEPTEMBRE
C3: 9 | F3: =DATE(AfficherAnnée,NumMois,1) -> 43709 | I3: =WEEKDAY(DateDébut) -> 1
C4: LUN | F4: MAR | I4: MER | L4: JEU | O4: VEN | R4: SAM | U4: DIM
C6: =DateDébut-(WEEKDAY(DateDébut)-2)+{0;1;2;3;4;5}*7 +{1,2,3,4,5,6,7}-3+COLUMN(B1) -> 43710 | F6: =DateDébut-(WEEKDAY(DateDébut)-2)+{0;1;2;3;4;5}*7 +{1,2,3,4,5,6,7}-3+COLUMN(C1) -> 43711 | I6: =DateDébut-(WEEKDAY(DateDébut)-2)+{0;1;2;3;4;5}*7 +{1,2,3,4,5,6,7}-3+COLUMN(D1) -> 43712 | L6: =DateDébut-(WEEKDAY(DateDébut)-2)+{0;1;2;3;4;5}*7 +{1,2,3,4,5,6,7}-3+COLUMN(E1) -> 43713 | O6: =DateDébut-(WEEKDAY(DateDébut)-2)+{0;1;2;3;4;5}*7 +{1,2,3,4,5,6,7}-3+COLUMN(F1) -> 43714 | R6: =DateDébut-(WEEKDAY(DateDébut)-2)+{0;1;2;3;4;5}*7 +{1,2,3,4,5,6,7}-3+COLUMN(G1) -> 43715 | U6: =DateDébut-(WEEKDAY(DateDébut)-2)+{0;1;2;3;4;5}*7 +{1,2,3,4,5,6,7}-3+COLUMN(H1) -> 43716
C7: =IFERROR(INDEX(tblÉvénements[],SMALL(IF(Dates=C$6,ROW(Dates)),ROW(1:1))-DébutLigneTableau,4),"") | F7: {=IFERROR(INDEX(tblÉvénements[],SMALL(IF(Dates=F$6,ROW(Dates)),ROW(1:1))-DébutLigneTableau,4),"")} | I7: {=IFERROR(INDEX(tblÉvénements[],SMALL(IF(Dates=I$6,ROW(Dates)),ROW(1:1))-DébutLigneTableau,4),"")} | L7: {=IFERROR(INDEX(tblÉvénements[],SMALL(IF(Dates=L$6,ROW(Dates)),ROW(1:1))-DébutLigneTableau,4),"")} | O7: {=IFERROR(INDEX(tblÉvénements[],SMALL(IF(Dates=O$6,ROW(Dates)),ROW(1:1))-DébutLigneTableau,4),"")} | R7: {=IFERROR(INDEX(tblÉvénements[],SMALL(IF(Dates=R$6,ROW(Dates)),ROW(1:1))-DébutLigneTableau,4),"")} | U7: {=IFERROR(INDEX(tblÉvénements[],SMALL(IF(Dates=U$6,ROW(Dates)),ROW(1:1))-DébutLigneTableau,4),"")}
C8: =IFERROR(INDEX(tblÉvénements[],SMALL(IF(Dates=C$6,ROW(Dates)),ROW(2:2))-DébutLigneTableau,4),"") | F8: {=IFERROR(INDEX(tblÉvénements[],SMALL(IF(Dates=F$6,ROW(Dates)),ROW(2:2))-DébutLigneTableau,4),"")} | I8: {=IFERROR(INDEX(tblÉvénements[],SMALL(IF(Dates=I$6,ROW(Dates)),ROW(2:2))-DébutLigneTableau,4),"")} | L8: {=IFERROR(INDEX(tblÉvénements[],SMALL(IF(Dates=L$6,ROW(Dates)),ROW(2:2))-DébutLigneTableau,4),"")} | O8: {=IFERROR(INDEX(tblÉvénements[],SMALL(IF(Dates=O$6,ROW(Dates)),ROW(2:2))-DébutLigneTableau,4),"")} | R8: {=IFERROR(INDEX(tblÉvénements[],SMALL(IF(Dates=R$6,ROW(Dates)),ROW(2:2))-DébutLigneTableau,4),"")} | U8: {=IFERROR(INDEX(tblÉvénements[],SMALL(IF(Dates=U$6,ROW(Dates)),ROW(2:2))-DébutLigneTableau,4),"")}
C9: {=IFERROR(INDEX(tblÉvénements[],SMALL(IF(Dates=C$6,ROW(Dates)),ROW(3:3))-DébutLigneTableau,4),"")} | F9: {=IFERROR(INDEX(tblÉvénements[],SMALL(IF(Dates=F$6,ROW(Dates)),ROW(3:3))-DébutLigneTableau,4),"")} | I9: {=IFERROR(INDEX(tblÉvénements[],SMALL(IF(Dates=I$6,ROW(Dates)),ROW(3:3))-DébutLigneTableau,4),"")} | L9: {=IFERROR(INDEX(tblÉvénements[],SMALL(IF(Dates=L$6,ROW(Dates)),ROW(3:3))-DébutLigneTableau,4),"")} | O9: {=IFERROR(INDEX(tblÉvénements[],SMALL(IF(Dates=O$6,ROW(Dates)),ROW(3:3))-DébutLigneTableau,4),"")} | R9: {=IFERROR(INDEX(tblÉvénements[],SMALL(IF(Dates=R$6,ROW(Dates)),ROW(3:3))-DébutLigneTableau,4),"")} | U9: {=IFERROR(INDEX(tblÉvénements[],SMALL(IF(Dates=U$6,ROW(Dates)),ROW(3:3))-DébutLigneTableau,4),"")}
C10: {=IFERROR(INDEX(tblÉvénements[],SMALL(IF(Dates=C$6,ROW(Dates)),ROW(4:4))-DébutLigneTableau,4),"")} | F10: {=IFERROR(INDEX(tblÉvénements[],SMALL(IF(Dates=F$6,ROW(Dates)),ROW(4:4))-DébutLigneTableau,4),"")} | I10: {=IFERROR(INDEX(tblÉvénements[],SMALL(IF(Dates=I$6,ROW(Dates)),ROW(4:4))-DébutLigneTableau,4),"")} | L10: {=IFERROR(INDEX(tblÉvénements[],SMALL(IF(Dates=L$6,ROW(Dates)),ROW(4:4))-DébutLigneTableau,4),"")} | O10: {=IFERROR(INDEX(tblÉvénements[],SMALL(IF(Dates=O$6,ROW(Dates)),ROW(4:4))-DébutLigneTableau,4),"")} | R10: {=IFERROR(INDEX(tblÉvénements[],SMALL(IF(Dates=R$6,ROW(Dates)),ROW(4:4))-DébutLigneTableau,4),"")} | U10: {=IFERROR(INDEX(tblÉvénements[],SMALL(IF(Dates=U$6,ROW(Dates)),ROW(4:4))-DébutLigneTableau,4),"")}
C11: =U6+1 -> 43717 | F11: =C11+1 -> 43718 | I11: =F11+1 -> 43719 | L11: =I11+1 -> 43720 | O11: =L11+1 -> 43721 | R11: =O11+1 -> 43722 | U11: =R11+1 -> 43723
C12: {=IFERROR(INDEX(tblÉvénements[],SMALL(IF(Dates=C$11,ROW(Dates)),ROW(1:1))-DébutLigneTableau,4),"")} | F12: {=IFERROR(INDEX(tblÉvénements[],SMALL(IF(Dates=F$11,ROW(Dates)),ROW(1:1))-DébutLigneTableau,4),"")} | I12: {=IFERROR(INDEX(tblÉvénements[],SMALL(IF(Dates=I$11,ROW(Dates)),ROW(1:1))-DébutLigneTableau,4),"")} | L12: {=IFERROR(INDEX(tblÉvénements[],SMALL(IF(Dates=L$11,ROW(Dates)),ROW(1:1))-DébutLigneTableau,4),"")} | O12: {=IFERROR(INDEX(tblÉvénements[],SMALL(IF(Dates=O$11,ROW(Dates)),ROW(1:1))-DébutLigneTableau,4),"")} | R12: {=IFERROR(INDEX(tblÉvénements[],SMALL(IF(Dates=R$11,ROW(Dates)),ROW(1:1))-DébutLigneTableau,4),"")} | U12: {=IFERROR(INDEX(tblÉvénements[],SMALL(IF(Dates=U$11,ROW(Dates)),ROW(1:1))-DébutLigneTableau,4),"")}
C13: {=IFERROR(INDEX(tblÉvénements[],SMALL(IF(Dates=C$11,ROW(Dates)),ROW(2:2))-DébutLigneTableau,4),"")} | F13: {=IFERROR(INDEX(tblÉvénements[],SMALL(IF(Dates=F$11,ROW(Dates)),ROW(2:2))-DébutLigneTableau,4),"")} | I13: {=IFERROR(INDEX(tblÉvénements[],SMALL(IF(Dates=I$11,ROW(Dates)),ROW(2:2))-DébutLigneTableau,4),"")} | L13: {=IFERROR(INDEX(tblÉvénements[],SMALL(IF(Dates=L$11,ROW(Dates)),ROW(2:2))-DébutLigneTableau,4),"")} | O13: {=IFERROR(INDEX(tblÉvénements[],SMALL(IF(Dates=O$11,ROW(Dates)),ROW(2:2))-DébutLigneTableau,4),"")} | R13: {=IFERROR(INDEX(tblÉvénements[],SMALL(IF(Dates=R$11,ROW(Dates)),ROW(2:2))-DébutLigneTableau,4),"")} | U13: {=IFERROR(INDEX(tblÉvénements[],SMALL(IF(Dates=U$11,ROW(Dates)),ROW(2:2))-DébutLigneTableau,4),"")}
C14: {=IFERROR(INDEX(tblÉvénements[],SMALL(IF(Dates=C$11,ROW(Dates)),ROW(3:3))-DébutLigneTableau,4),"")} | F14: {=IFERROR(INDEX(tblÉvénements[],SMALL(IF(Dates=F$11,ROW(Dates)),ROW(3:3))-DébutLigneTableau,4),"")} | I14: {=IFERROR(INDEX(tblÉvénements[],SMALL(IF(Dates=I$11,ROW(Dates)),ROW(3:3))-DébutLigneTableau,4),"")} | L14: {=IFERROR(INDEX(tblÉvénements[],SMALL(IF(Dates=L$11,ROW(Dates)),ROW(3:3))-DébutLigneTableau,4),"")} | O14: {=IFERROR(INDEX(tblÉvénements[],SMALL(IF(Dates=O$11,ROW(Dates)),ROW(3:3))-DébutLigneTableau,4),"")} | R14: {=IFERROR(INDEX(tblÉvénements[],SMALL(IF(Dates=R$11,ROW(Dates)),ROW(3:3))-DébutLigneTableau,4),"")} | U14: {=IFERROR(INDEX(tblÉvénements[],SMALL(IF(Dates=U$11,ROW(Dates)),ROW(3:3))-DébutLigneTableau,4),"")}
C15: {=IFERROR(INDEX(tblÉvénements[],SMALL(IF(Dates=C$11,ROW(Dates)),ROW(4:4))-DébutLigneTableau,4),"")} | F15: {=IFERROR(INDEX(tblÉvénements[],SMALL(IF(Dates=F$11,ROW(Dates)),ROW(4:4))-DébutLigneTableau,4),"")} | I15: {=IFERROR(INDEX(tblÉvénements[],SMALL(IF(Dates=I$11,ROW(Dates)),ROW(4:4))-DébutLigneTableau,4),"")} | L15: {=IFERROR(INDEX(tblÉvénements[],SMALL(IF(Dates=L$11,ROW(Dates)),ROW(4:4))-DébutLigneTableau,4),"")} | O15: {=IFERROR(INDEX(tblÉvénements[],SMALL(IF(Dates=O$11,ROW(Dates)),ROW(4:4))-DébutLigneTableau,4),"")} | R15: {=IFERROR(INDEX(tblÉvénements[],SMALL(IF(Dates=R$11,ROW(Dates)),ROW(4:4))-DébutLigneTableau,4),"")} | U15: {=IFERROR(INDEX(tblÉvénements[],SMALL(IF(Dates=U$11,ROW(Dates)),ROW(4:4))-DébutLigneTableau,4),"")}
C16: =U11+1 -> 43724 | F16: =C16+1 -> 43725 | I16: =F16+1 -> 43726 | L16: =I16+1 -> 43727 | O16: =L16+1 -> 43728 | R16: =O16+1 -> 43729 | U16: =R16+1 -> 43730
C17: {=IFERROR(INDEX(tblÉvénements[],SMALL(IF(Dates=C$16,ROW(Dates)),ROW(1:1))-DébutLigneTableau,4),"")} | F17: {=IFERROR(INDEX(tblÉvénements[],SMALL(IF(Dates=F$16,ROW(Dates)),ROW(1:1))-DébutLigneTableau,4),"")} | I17: {=IFERROR(INDEX(tblÉvénements[],SMALL(IF(Dates=I$16,ROW(Dates)),ROW(1:1))-DébutLigneTableau,4),"")} | L17: {=IFERROR(INDEX(tblÉvénements[],SMALL(IF(Dates=L$16,ROW(Dates)),ROW(1:1))-DébutLigneTableau,4),"")} | O17: {=IFERROR(INDEX(tblÉvénements[],SMALL(IF(Dates=O$16,ROW(Dates)),ROW(1:1))-DébutLigneTableau,4),"")} | R17: {=IFERROR(INDEX(tblÉvénements[],SMALL(IF(Dates=R$16,ROW(Dates)),ROW(1:1))-DébutLigneTableau,4),"")} | U17: {=IFERROR(INDEX(tblÉvénements[],SMALL(IF(Dates=U$16,ROW(Dates)),ROW(1:1))-DébutLigneTableau,4),"")}
C18: {=IFERROR(INDEX(tblÉvénements[],SMALL(IF(Dates=C$16,ROW(Dates)),ROW(2:2))-DébutLigneTableau,4),"")} | F18: {=IFERROR(INDEX(tblÉvénements[],SMALL(IF(Dates=F$16,ROW(Dates)),ROW(2:2))-DébutLigneTableau,4),"")} | I18: {=IFERROR(INDEX(tblÉvénements[],SMALL(IF(Dates=I$16,ROW(Dates)),ROW(2:2))-DébutLigneTableau,4),"")} | L18: {=IFERROR(INDEX(tblÉvénements[],SMALL(IF(Dates=L$16,ROW(Dates)),ROW(2:2))-DébutLigneTableau,4),"")} | O18: {=IFERROR(INDEX(tblÉvénements[],SMALL(IF(Dates=O$16,ROW(Dates)),ROW(2:2))-DébutLigneTableau,4),"")} | R18: {=IFERROR(INDEX(tblÉvénements[],SMALL(IF(Dates=R$16,ROW(Dates)),ROW(2:2))-DébutLigneTableau,4),"")} | U18: {=IFERROR(INDEX(tblÉvénements[],SMALL(IF(Dates=U$16,ROW(Dates)),ROW(2:2))-DébutLigneTableau,4),"")}
C19: {=IFERROR(INDEX(tblÉvénements[],SMALL(IF(Dates=C$16,ROW(Dates)),ROW(3:3))-DébutLigneTableau,4),"")} | F19: {=IFERROR(INDEX(tblÉvénements[],SMALL(IF(Dates=F$16,ROW(Dates)),ROW(3:3))-DébutLigneTableau,4),"")} | I19: {=IFERROR(INDEX(tblÉvénements[],SMALL(IF(Dates=I$16,ROW(Dates)),ROW(3:3))-DébutLigneTableau,4),"")} | L19: {=IFERROR(INDEX(tblÉvénements[],SMALL(IF(Dates=L$16,ROW(Dates)),ROW(3:3))-DébutLigneTableau,4),"")} | O19: {=IFERROR(INDEX(tblÉvénements[],SMALL(IF(Dates=O$16,ROW(Dates)),ROW(3:3))-DébutLigneTableau,4),"")} | R19: {=IFERROR(INDEX(tblÉvénements[],SMALL(IF(Dates=R$16,ROW(Dates)),ROW(3:3))-DébutLigneTableau,4),"")} | U19: {=IFERROR(INDEX(tblÉvénements[],SMALL(IF(Dates=U$16,ROW(Dates)),ROW(3:3))-DébutLigneTableau,4),"")}
C20: {=IFERROR(INDEX(tblÉvénements[],SMALL(IF(Dates=C$16,ROW(Dates)),ROW(4:4))-DébutLigneTableau,4),"")} | F20: {=IFERROR(INDEX(tblÉvénements[],SMALL(IF(Dates=F$16,ROW(Dates)),ROW(4:4))-DébutLigneTableau,4),"")} | I20: {=IFERROR(INDEX(tblÉvénements[],SMALL(IF(Dates=I$16,ROW(Dates)),ROW(4:4))-DébutLigneTableau,4),"")} | L20: {=IFERROR(INDEX(tblÉvénements[],SMALL(IF(Dates=L$16,ROW(Dates)),ROW(4:4))-DébutLigneTableau,4),"")} | O20: {=IFERROR(INDEX(tblÉvénements[],SMALL(IF(Dates=O$16,ROW(Dates)),ROW(4:4))-DébutLigneTableau,4),"")} | R20: {=IFERROR(INDEX(tblÉvénements[],SMALL(IF(Dates=R$16,ROW(Dates)),ROW(4:4))-DébutLigneTableau,4),"")} | U20: {=IFERROR(INDEX(tblÉvénements[],SMALL(IF(Dates=U$16,ROW(Dates)),ROW(4:4))-DébutLigneTableau,4),"")}
C21: =U16+1 -> 43731 | F21: =C21+1 -> 43732 | I21: =F21+1 -> 43733 | L21: =I21+1 -> 43734 | O21: =L21+1 -> 43735 | R21: =O21+1 -> 43736 | U21: =R21+1 -> 43737
C22: {=IFERROR(INDEX(tblÉvénements[],SMALL(IF(Dates=C$21,ROW(Dates)),ROW(1:1))-DébutLigneTableau,4),"")} | F22: {=IFERROR(INDEX(tblÉvénements[],SMALL(IF(Dates=F$21,ROW(Dates)),ROW(1:1))-DébutLigneTableau,4),"")} | I22: {=IFERROR(INDEX(tblÉvénements[],SMALL(IF(Dates=I$21,ROW(Dates)),ROW(1:1))-DébutLigneTableau,4),"")} | L22: {=IFERROR(INDEX(tblÉvénements[],SMALL(IF(Dates=L$21,ROW(Dates)),ROW(1:1))-DébutLigneTableau,4),"")} | O22: {=IFERROR(INDEX(tblÉvénements[],SMALL(IF(Dates=O$21,ROW(Dates)),ROW(1:1))-DébutLigneTableau,4),"")} | R22: {=IFERROR(INDEX(tblÉvénements[],SMALL(IF(Dates=R$21,ROW(Dates)),ROW(1:1))-DébutLigneTableau,4),"")} | U22: {=IFERROR(INDEX(tblÉvénements[],SMALL(IF(Dates=U$21,ROW(Dates)),ROW(1:1))-DébutLigneTableau,4),"")}
C23: {=IFERROR(INDEX(tblÉvénements[],SMALL(IF(Dates=C$21,ROW(Dates)),ROW(2:2))-DébutLigneTableau,4),"")} | F23: {=IFERROR(INDEX(tblÉvénements[],SMALL(IF(Dates=F$21,ROW(Dates)),ROW(2:2))-DébutLigneTableau,4),"")} | I23: {=IFERROR(INDEX(tblÉvénements[],SMALL(IF(Dates=I$21,ROW(Dates)),ROW(2:2))-DébutLigneTableau,4),"")} | L23: {=IFERROR(INDEX(tblÉvénements[],SMALL(IF(Dates=L$21,ROW(Dates)),ROW(2:2))-DébutLigneTableau,4),"")} | O23: {=IFERROR(INDEX(tblÉvénements[],SMALL(IF(Dates=O$21,ROW(Dates)),ROW(2:2))-DébutLigneTableau,4),"")} | R23: {=IFERROR(INDEX(tblÉvénements[],SMALL(IF(Dates=R$21,ROW(Dates)),ROW(2:2))-DébutLigneTableau,4),"")} | U23: {=IFERROR(INDEX(tblÉvénements[],SMALL(IF(Dates=U$21,ROW(Dates)),ROW(2:2))-DébutLigneTableau,4),"")}
C24: {=IFERROR(INDEX(tblÉvénements[],SMALL(IF(Dates=C$21,ROW(Dates)),ROW(3:3))-DébutLigneTableau,4),"")} | F24: {=IFERROR(INDEX(tblÉvénements[],SMALL(IF(Dates=F$21,ROW(Dates)),ROW(3:3))-DébutLigneTableau,4),"")} | I24: {=IFERROR(INDEX(tblÉvénements[],SMALL(IF(Dates=I$21,ROW(Dates)),ROW(3:3))-DébutLigneTableau,4),"")} | L24: {=IFERROR(INDEX(tblÉvénements[],SMALL(IF(Dates=L$21,ROW(Dates)),ROW(3:3))-DébutLigneTableau,4),"")} | O24: {=IFERROR(INDEX(tblÉvénements[],SMALL(IF(Dates=O$21,ROW(Dates)),ROW(3:3))-DébutLigneTableau,4),"")} | R24: {=IFERROR(INDEX(tblÉvénements[],SMALL(IF(Dates=R$21,ROW(Dates)),ROW(3:3))-DébutLigneTableau,4),"")} | U24: {=IFERROR(INDEX(tblÉvénements[],SMALL(IF(Dates=U$21,ROW(Dates)),ROW(3:3))-DébutLigneTableau,4),"")}
C25: {=IFERROR(INDEX(tblÉvénements[],SMALL(IF(Dates=C$21,ROW(Dates)),ROW(4:4))-DébutLigneTableau,4),"")} | F25: {=IFERROR(INDEX(tblÉvénements[],SMALL(IF(Dates=F$21,ROW(Dates)),ROW(4:4))-DébutLigneTableau,4),"")} | I25: {=IFERROR(INDEX(tblÉvénements[],SMALL(IF(Dates=I$21,ROW(Dates)),ROW(4:4))-DébutLigneTableau,4),"")} | L25: {=IFERROR(INDEX(tblÉvénements[],SMALL(IF(Dates=L$21,ROW(Dates)),ROW(4:4))-DébutLigneTableau,4),"")} | O25: {=IFERROR(INDEX(tblÉvénements[],SMALL(IF(Dates=O$21,ROW(Dates)),ROW(4:4))-DébutLigneTableau,4),"")} | R25: {=IFERROR(INDEX(tblÉvénements[],SMALL(IF(Dates=R$21,ROW(Dates)),ROW(4:4))-DébutLigneTableau,4),"")} | U25: {=IFERROR(INDEX(tblÉvénements[],SMALL(IF(Dates=U$21,ROW(Dates)),ROW(4:4))-DébutLigneTableau,4),"")}
C26: =U21+1 -> 43738 | F26: =C26+1 -> 43739 | I26: =F26+1 -> 43740 | L26: =I26+1 -> 43741 | O26: =L26+1 -> 43742 | R26: =O26+1 -> 43743 | U26: =R26+1 -> 43744
C27: {=IFERROR(INDEX(tblÉvénements[],SMALL(IF(Dates=C$26,ROW(Dates)),ROW(1:1))-DébutLigneTableau,4),"")} | F27: {=IFERROR(INDEX(tblÉvénements[],SMALL(IF(Dates=F$26,ROW(Dates)),ROW(1:1))-DébutLigneTableau,4),"")} | I27: {=IFERROR(INDEX(tblÉvénements[],SMALL(IF(Dates=I$26,ROW(Dates)),ROW(1:1))-DébutLigneTableau,4),"")} | L27: {=IFERROR(INDEX(tblÉvénements[],SMALL(IF(Dates=L$26,ROW(Dates)),ROW(1:1))-DébutLigneTableau,4),"")} | O27: {=IFERROR(INDEX(tblÉvénements[],SMALL(IF(Dates=O$26,ROW(Dates)),ROW(1:1))-DébutLigneTableau,4),"")} -> Réunion préparatoire Popote | R27: {=IFERROR(INDEX(tblÉvénements[],SMALL(IF(Dates=R$26,ROW(Dates)),ROW(1:1))-DébutLigneTableau,4),"")} | U27: {=IFERROR(INDEX(tblÉvénements[],SMALL(IF(Dates=U$26,ROW(Dates)),ROW(1:1))-DébutLigneTableau,4),"")}
C28: {=IFERROR(INDEX(tblÉvénements[],SMALL(IF(Dates=C$26,ROW(Dates)),ROW(2:2))-DébutLigneTableau,4),"")} | F28: {=IFERROR(INDEX(tblÉvénements[],SMALL(IF(Dates=F$26,ROW(Dates)),ROW(2:2))-DébutLigneTableau,4),"")} | I28: {=IFERROR(INDEX(tblÉvénements[],SMALL(IF(Dates=I$26,ROW(Dates)),ROW(2:2))-DébutLigneTableau,4),"")} | L28: {=IFERROR(INDEX(tblÉvénements[],SMALL(IF(Dates=L$26,ROW(Dates)),ROW(2:2))-DébutLigneTableau,4),"")} | O28: {=IFERROR(INDEX(tblÉvénements[],SMALL(IF(Dates=O$26,ROW(Dates)),ROW(2:2))-DébutLigneTableau,4),"")} -> Réunion préparatoire Com-com | R28: {=IFERROR(INDEX(tblÉvénements[],SMALL(IF(Dates=R$26,ROW(Dates)),ROW(2:2))-DébutLigneTableau,4),"")} | U28: {=IFERROR(INDEX(tblÉvénements[],SMALL(IF(Dates=U$26,ROW(Dates)),ROW(2:2))-DébutLigneTableau,4),"")}
C29: {=IFERROR(INDEX(tblÉvénements[],SMALL(IF(Dates=C$26,ROW(Dates)),ROW(3:3))-DébutLigneTableau,4),"")} | F29: {=IFERROR(INDEX(tblÉvénements[],SMALL(IF(Dates=F$26,ROW(Dates)),ROW(3:3))-DébutLigneTableau,4),"")} | I29: {=IFERROR(INDEX(tblÉvénements[],SMALL(IF(Dates=I$26,ROW(Dates)),ROW(3:3))-DébutLigneTableau,4),"")} | L29: {=IFERROR(INDEX(tblÉvénements[],SMALL(IF(Dates=L$26,ROW(Dates)),ROW(3:3))-DébutLigneTableau,4),"")} | O29: {=IFERROR(INDEX(tblÉvénements[],SMALL(IF(Dates=O$26,ROW(Dates)),ROW(3:3))-DébutLigneTableau,4),"")} -> Réunion préparatoire Cartonn'elles | R29: {=IFERROR(INDEX(tblÉvénements[],SMALL(IF(Dates=R$26,ROW(Dates)),ROW(3:3))-DébutLigneTableau,4),"")} | U29: {=IFERROR(INDEX(tblÉvénements[],SMALL(IF(Dates=U$26,ROW(Dates)),ROW(3:3))-DébutLigneTableau,4),"")}
C30: {=IFERROR(INDEX(tblÉvénements[],SMALL(IF(Dates=C$26,ROW(Dates)),ROW(4:4))-DébutLigneTableau,4),"")} | F30: {=IFERROR(INDEX(tblÉvénements[],SMALL(IF(Dates=F$26,ROW(Dates)),ROW(4:4))-DébutLigneTableau,4),"")} | I30: {=IFERROR(INDEX(tblÉvénements[],SMALL(IF(Dates=I$26,ROW(Dates)),ROW(4:4))-DébutLigneTableau,4),"")} | L30: {=IFERROR(INDEX(tblÉvénements[],SMALL(IF(Dates=L$26,ROW(Dates)),ROW(4:4))-DébutLigneTableau,4),"")} | O30: {=IFERROR(INDEX(tblÉvénements[],SMALL(IF(Dates=O$26,ROW(Dates)),ROW(4:4))-DébutLigneTableau,4),"")} | R30: {=IFERROR(INDEX(tblÉvénements[],SMALL(IF(Dates=R$26,ROW(Dates)),ROW(4:4))-DébutLigneTableau,4),"")} | U30: {=IFERROR(INDEX(tblÉvénements[],SMALL(IF(Dates=U$26,ROW(Dates)),ROW(4:4))-DébutLigneTableau,4),"")}
C31: =U26+1 -> 43745 | F31: =C31+1 -> 43746 | I31: NOTES :
C32: {=IFERROR(INDEX(tblÉvénements[],SMALL(IF(Dates=C$31,ROW(Dates)),ROW(1:1))-DébutLigneTableau,4),"")} | F32: {=IFERROR(INDEX(tblÉvénements[],SMALL(IF(Dates=F$31,ROW(Dates)),ROW(1:1))-DébutLigneTableau,4),"")}
C33: {=IFERROR(INDEX(tblÉvénements[],SMALL(IF(Dates=C$31,ROW(Dates)),ROW(2:2))-DébutLigneTableau,4),"")} | F33: {=IFERROR(INDEX(tblÉvénements[],SMALL(IF(Dates=F$31,ROW(Dates)),ROW(2:2))-DébutLigneTableau,4),"")}
C34: {=IFERROR(INDEX(tblÉvénements[],SMALL(IF(Dates=C$31,ROW(Dates)),ROW(3:3))-DébutLigneTableau,4),"")} | F34: {=IFERROR(INDEX(tblÉvénements[],SMALL(IF(Dates=F$31,ROW(Dates)),ROW(3:3))-DébutLigneTableau,4),"")}
C35: {=IFERROR(INDEX(tblÉvénements[],SMALL(IF(Dates=C$31,ROW(Dates)),ROW(4:4))-DébutLigneTableau,4),"")} | F35: {=IFERROR(INDEX(tblÉvénements[],SMALL(IF(Dates=F$31,ROW(Dates)),ROW(4:4))-DébutLigneTableau,4),"")}

Sheet VERSION IMPRIMABLE
C2: =AfficherAnnée -> 2019 | F2: =affichermois -> SEPTEMBRE | G2: 0 | H2: 0 | I2: 0 | J2: 0 | K2: 0 | L2: 0
C4: LUN | F4: MAR | I4: MER | L4: JEU | O4: VEN | R4: SAM | U4: DIM
C6: =CALENDRIER!C6 -> 43710 | D6: =CALENDRIER!D6 -> 0 | E6: =CALENDRIER!E6 -> 0 | F6: =CALENDRIER!F6 -> 43711 | G6: =CALENDRIER!G6 -> 0 | H6: =CALENDRIER!H6 -> 0 | I6: =CALENDRIER!I6 -> 43712 | J6: =CALENDRIER!J6 -> 0 | ... U6: =CALENDRIER!U6 -> 43716
C7: =CALENDRIER!C7 | D7: =CALENDRIER!D7 -> 0 | E7: =CALENDRIER!E7 -> 0 | F7: =CALENDRIER!F7 | G7: =CALENDRIER!G7 -> 0 | H7: =CALENDRIER!H7 -> 0 | I7: =CALENDRIER!I7 | J7: =CALENDRIER!J7 -> 0 | ... U7: =CALENDRIER!U7
C8: =CALENDRIER!C8 | D8: =CALENDRIER!D8 -> 0 | E8: =CALENDRIER!E8 -> 0 | F8: =CALENDRIER!F8 | G8: =CALENDRIER!G8 -> 0 | H8: =CALENDRIER!H8 -> 0 | I8: =CALENDRIER!I8 | J8: =CALENDRIER!J8 -> 0 | ... U8: =CALENDRIER!U8
C9: =CALENDRIER!C9 | D9: =CALENDRIER!D9 -> 0 | E9: =CALENDRIER!E9 -> 0 | F9: =CALENDRIER!F9 | G9: =CALENDRIER!G9 -> 0 | H9: =CALENDRIER!H9 -> 0 | I9: =CALENDRIER!I9 | J9: =CALENDRIER!J9 -> 0 | ... U9: =CALENDRIER!U9
C10: =CALENDRIER!C10 | D10: =CALENDRIER!D10 -> 0 | E10: =CALENDRIER!E10 -> 0 | F10: =CALENDRIER!F10 | G10: =CALENDRIER!G10 -> 0 | H10: =CALENDRIER!H10 -> 0 | I10: =CALENDRIER!I10 | J10: =CALENDRIER!J10 -> 0 | ... U10: =CALENDRIER!U10
C11: =CALENDRIER!C11 -> 43717 | D11: =CALENDRIER!D11 -> 0 | E11: =CALENDRIER!E11 -> 0 | F11: =CALENDRIER!F11 -> 43718 | G11: =CALENDRIER!G11 -> 0 | H11: =CALENDRIER!H11 -> 0 | I11: =CALENDRIER!I11 -> 43719 | J11: =CALENDRIER!J11 -> 0 | ... U11: =CALENDRIER!U11 -> 43723
C12: =CALENDRIER!C12 | D12: =CALENDRIER!D12 -> 0 | E12: =CALENDRIER!E12 -> 0 | F12: =CALENDRIER!F12 | G12: =CALENDRIER!G12 -> 0 | H12: =CALENDRIER!H12 -> 0 | I12: =CALENDRIER!I12 | J12: =CALENDRIER!J12 -> 0 | ... U12: =CALENDRIER!U12
C13: =CALENDRIER!C13 | D13: =CALENDRIER!D13 -> 0 | E13: =CALENDRIER!E13 -> 0 | F13: =CALENDRIER!F13 | G13: =CALENDRIER!G13 -> 0 | H13: =CALENDRIER!H13 -> 0 | I13: =CALENDRIER!I13 | J13: =CALENDRIER!J13 -> 0 | ... U13: =CALENDRIER!U13
C14: =CALENDRIER!C14 | D14: =CALENDRIER!D14 -> 0 | E14: =CALENDRIER!E14 -> 0 | F14: =CALENDRIER!F14 | G14: =CALENDRIER!G14 -> 0 | H14: =CALENDRIER!H14 -> 0 | I14: =CALENDRIER!I14 | J14: =CALENDRIER!J14 -> 0 | ... U14: =CALENDRIER!U14
C15: =CALENDRIER!C15 | D15: =CALENDRIER!D15 -> 0 | E15: =CALENDRIER!E15 -> 0 | F15: =CALENDRIER!F15 | G15: =CALENDRIER!G15 -> 0 | H15: =CALENDRIER!H15 -> 0 | I15: =CALENDRIER!I15 | J15: =CALENDRIER!J15 -> 0 | ... U15: =CALENDRIER!U15
C16: =CALENDRIER!C16 -> 43724 | D16: =CALENDRIER!D16 -> 0 | E16: =CALENDRIER!E16 -> 0 | F16: =CALENDRIER!F16 -> 43725 | G16: =CALENDRIER!G16 -> 0 | H16: =CALENDRIER!H16 -> 0 | I16: =CALENDRIER!I16 -> 43726 | J16: =CALENDRIER!J16 -> 0 | ... U16: =CALENDRIER!U16 -> 43730
C17: =CALENDRIER!C17 | D17: =CALENDRIER!D17 -> 0 | E17: =CALENDRIER!E17 -> 0 | F17: =CALENDRIER!F17 | G17: =CALENDRIER!G17 -> 0 | H17: =CALENDRIER!H17 -> 0 | I17: =CALENDRIER!I17 | J17: =CALENDRIER!J17 -> 0 | ... U17: =CALENDRIER!U17
... C30: =CALENDRIER!C30 | D30: =CALENDRIER!D30 -> 0 | E30: =CALENDRIER!E30 -> 0 | F30: =CALENDRIER!F30 | G30: =CALENDRIER!G30 -> 0 | H30: =CALENDRIER!H30 -> 0 | I30: =CALENDRIER!I30 | J30: =CALENDRIER!J30 -> 0 | ... U30: =CALENDRIER!U30
C31: =CALENDRIER!C31 -> 43745 | D31: =CALENDRIER!D31 -> 0 | E31: =CALENDRIER!E31 -> 0 | F31: =CALENDRIER!F31 -> 43746 | I31: =CALENDRIER!I31 -> NOTES :
C32: =CALENDRIER!C32 | D32: =CALENDRIER!D32 -> 0 | E32: =CALENDRIER!E32 -> 0 | F32: =CALENDRIER!F32
C33: =CALENDRIER!C33 | D33: =CALENDRIER!D33 -> 0 | E33: =CALENDRIER!E33 -> 0 | F33: =CALENDRIER!F33
C34: =CALENDRIER!C34 | D34: =CALENDRIER!D34 -> 0 | E34: =CALENDRIER!E34 -> 0 | F34: =CALENDRIER!F34
C35: =CALENDRIER!C35 | D35: =CALENDRIER!D35 -> 0 | E35: =CALENDRIER!E35 -> 0 | F35: =CALENDRIER!F35

Sheet ADMINISTRATION
B2: MOIS | C2: NOMBRE
B3: JANVIER | C3: 1
B4: FÉVRIER | C4: 2
B5: MARS | C5: 3
B6: AVRIL | C6: 4
B7: MAI | C7: 5
B8: JUIN | C8: 6
B9: JUILLET | C9: 7
B10: AOÛT | C10: 8
B11: SEPTEMBRE | C11: 9
B12: OCTOBRE | C12: 10
B13: NOVEMBRE | C13: 11
B14: DÉCEMBRE | C14: 12
