Workbook

Sheet INFORMATIONS
A1: poulet LBR + LANDES GASCOGNE ==> local, label
A2: dinde LBR ==> label
A3: VEAU LBR
A4: BŒUF charolais ==> Race à viande
A5: PORC français
A6: AGNEAU français
A8: PAIN ==> local
A10: FRUITS LEGUMES : lors reception marchandise identifier le fruits précisement ==> si local, si bio, si circuit court
A11: PRODUITS BIO ==> si local, si circuit court
A13: YAOURT CAZAUBON ==> local, circuit court
A14: YAOURT YEO BIO ==> local, bio, circuit court
A17: A NOTER
... A20: Controle des appro direct par le biais justif factures, bon de livraison , étiquettes

Sheet 1
C3: Nom de l'office | E3: Firmin Bouisset maternelle
I9: UCP TDC
A11: lundi | C11: mardi | E11: mercredi | G11: jeudi | I11: vendredi
A12: 43710 | C12: =+A12+1 -> 43711 | E12: =+C12+1 -> 43712 | G12: =+E12+1 -> 43713 | I12: =+G12+1 -> 43714
A14: Jus de pommes | C14: Salade de tomates | E14: Tarte au fromage | G14: Salade de pâtes, dés de mimolette | I14: Salade verte
A15: Melon | I15: Coleslaw
A16: Cheeseburger | C16: Sauté de porc sauce tomate | E16: Filet de hoki sauce coco citron vert | G16: Emincés de dinde sauce kebab
A17: Potatoes | C17: Coquillettes AGB | E17: Duo de courgettes en gratin | G17: Carottes | I17: Printanière de légumes
A18: Cantadou ail et fines herbes | C18: Emmental râpé | E18: Petit suisse sucré
A20: Compote pommes/bananes | C20: Mousse au chocolat au lait | E20: Fruit | G20: Fruit | I20: Gâteau au chocolat
A23: VOS COMMENTAIRES
A24: =+A11 -> lundi | C24: =+C11 -> mardi | E24: =+E11 -> mercredi | G24: =+G11 -> jeudi | I24: =+I11 -> vendredi
A33: Louis Sicre maternelle
A34: Louis Sicre primaire
A35: Ducau prim
A36: Ducau mat
A37: Marie Curie
A38: Jules Ferry prim
A39: Les Cloutiers maternelle
A40: Les Cloutiers primaire
A41: Sabine Sicaud maternelle
A42: Sabine Sicaud primaire
A43: Courbieu maternelle
A44: Courbieu primaire
... A62: Ecole de BOUDOU

Sheet 10
C3: Nom de l'office | E3: Ecole de BOUDOU
I9: UCP TDC
A11: lundi | C11: mardi | E11: mercredi | G11: jeudi | I11: vendredi
A12: =+'1'!I12+3 -> 43717 | C12: =+A12+1 -> 43718 | E12: =+C12+1 -> 43719 | G12: =+E12+1 -> 43720 | I12: =+G12+1 -> 43721
A14: Rillettes canard pain mie | C14: Radis beurre demi sel | E14: concombre à la crème | G14: cake au bleu occitanie | I14: melon
A15: filet hoki coco citron vert | C15: brocolimentier | E15: sauté de beouf | G15: poulet au jus | I15: emincé de porc grand-mère
A16: Torti | E16: courgette et boulgour | G16: carottes persillées | I16: frites
A17: Gouda | C17: petit suisse nature | E17: edam | G17: Camembert | I17: petit cotentin
A18: Fruit | C18: beignet framboise | E18: compote tous fruits | G18: cerises | I18: fraicheur cassis
A22: VOS COMMENTAIRES
A23: =+A11 -> lundi | C23: =+C11 -> mardi | E23: =+E11 -> mercredi | G23: =+G11 -> jeudi | I23: =+I11 -> vendredi
A32: Louis Sicre maternelle
A33: Louis Sicre primaire
A34: Ducau prim
A35: Ducau mat
A36: Marie Curie
A37: Jules Ferry prim
A38: Les Cloutiers maternelle
A39: Les Cloutiers primaire
A40: Sabine Sicaud maternelle
A41: Sabine Sicaud primaire
A42: Courbieu maternelle
A43: Courbieu primaire
... A60: Ecole de BOUDOU

Sheet 11
C3: Nom de l'office | E3: Ecole de BOUDOU
I9: UCP TDC
A11: lundi | C11: mardi | E11: mercredi | G11: jeudi | I11: vendredi
A12: =+'10'!I12+3 -> 43724 | C12: =+A12+1 -> 43725 | E12: =+C12+1 -> 43726 | G12: =+E12+1 -> 43727 | I12: =+G12+1 -> 43728
A14: F | C14: Salade de lentilles | E14: Salade de tomate | G14: carottes cuites à la marocaine | I14: melon
A15: E
A16: R | C16: Bœuf tomat'olive | E16: Rôti de dinde froid ketchup | G16: Merguez | I16: Brandade
A17: I | C17: Haricots beurre | E17: Fafallines aux petits légumes | G17: Légumes couscous et semoule | I17: AB churros à la pomme de terre
A18: E | C18: Fraidou | E18: yaourt nature + sucre | G18: pointe de brie | I18: Montcadi croûte noire
C19: Fruit | E19: Pêche au sirop | G19: orange | I19: flan au chocolat
A22: VOS COMMENTAIRES
A23: =+A11 -> lundi | C23: =+C11 -> mardi | E23: =+E11 -> mercredi | G23: =+G11 -> jeudi | I23: =+I11 -> vendredi
A32: Louis Sicre maternelle
A33: Louis Sicre primaire
A34: Ducau prim
A35: Ducau mat
A36: Marie Curie
A37: Jules Ferry prim
A38: Les Cloutiers maternelle
A39: Les Cloutiers primaire
A40: Sabine Sicaud maternelle
A41: Sabine Sicaud primaire
A42: Courbieu maternelle
A43: Courbieu primaire
... A61: Ecole de BOUDOU

Sheet 12
C3: Nom de l'office | E3: Ecole de BOUDOU
I9: UCP TDC
A11: lundi | C11: mardi | E11: mercredi | G11: jeudi | I11: vendredi
A12: =+'11'!I12+3 -> 43731 | C12: =+A12+1 -> 43732 | E12: =+C12+1 -> 43733 | G12: =+E12+1 -> 43734 | I12: =+G12+1 -> 43735
A14: Salade verte | C14: Pastèque | E14: tomate mozazrella | G14: brocolis façon mimosa | I14: concombre tsaziki
A15: vinaigrette guacamole
A16: Tacos de dinde et légumes | C16: Daube de beouf | E16: emincé de volaille kebab | G16: roti de porc froid ketchup | I16: poisson à la portugaise
C17: duo de carottes | E17: beignet de courgettes | G17: salade de penne au pesto rouge
A18: rapé | C18: fromage blanc | E18: camembert | G18: petit moulé | I18: yaourt nature
A19: Fruit | C19: coulis de fraise et cigarette russes | E19: abricot à boire | G19: banane chantilly vermicelle | I19: clafoutis fruits rouge
A22: VOS COMMENTAIRES
A23: =+A11 -> lundi | C23: =+C11 -> mardi | E23: =+E11 -> mercredi | G23: =+G11 -> jeudi | I23: =+I11 -> vendredi
A32: Louis Sicre maternelle
A33: Louis Sicre primaire
A34: Ducau prim
A35: Ducau mat
A36: Marie Curie
A37: Jules Ferry prim
A38: Les Cloutiers maternelle
A39: Les Cloutiers primaire
A40: Sabine Sicaud maternelle
A41: Sabine Sicaud primaire
A42: Courbieu maternelle
A43: Courbieu primaire
... A61: Ecole de BOUDOU

Sheet 13
C3: Nom de l'office | E3: Ecole de BOUDOU
I9: UCP TDC
A11: lundi | C11: mardi | E11: mercredi | G11: jeudi | I11: vendredi
A12: =+'12'!I12+3 -> 43738 | C12: =+A12+1 -> 43739 | E12: =+C12+1 -> 43740 | G12: =+E12+1 -> 43741 | I12: =+G12+1 -> 43742
A14: Salade boulgour | C14: carottes râpées | E14: macédoine mayonnaise | G14: concombre | I14: melon
A15: salade pates à la grecque | G15: pasteque | I15: salade iceberg
A16: sauté de porc sauce tomate | C16: filet de merlu citron persillé | E16: rôti de veau sauce hortillons | G16: cordon bleu | I16: bifteck haché diablotin
A17: haricots verts persillés | C17: courgette et pomme de terre | E17: riz pilaf | G17: petit pois | I17: coquillettes bio
A18: petit fromage frais fruits | C18: petit cotentin | E18: brie | G18: fromae blanc au sucre | I18: emmental
A19: petit fromage sucre | C19: rondele ail et fines harbes | G19: fomage blanc confiture fraise | I19: edam
A20: Fruit | C20: ile flottante sauce cacao | E20: fruit | G20: choux creme | I20: compote pom fraise
A21: Fruit | I21: compote pomme
A23: VOS COMMENTAIRES
A24: =+A11 -> lundi | C24: =+C11 -> mardi | E24: =+E11 -> mercredi | G24: =+G11 -> jeudi | I24: =+I11 -> vendredi
A33: Louis Sicre maternelle
A34: Louis Sicre primaire
A35: Ducau prim
A36: Ducau mat
A37: Marie Curie
A38: Jules Ferry prim
A39: Les Cloutiers maternelle
A40: Les Cloutiers primaire
A41: Sabine Sicaud maternelle
A42: Sabine Sicaud primaire
A43: Courbieu maternelle
A44: Courbieu primaire
... A62: Ecole de BOUDOU

Sheet 13 (2)
C3: Nom de l'office | E3: Ecole de BOUDOU
I9: UCP TDC
A11: lundi | C11: mardi | E11: mercredi | G11: jeudi | I11: vendredi
A12: =+'11'!I12+3 -> 43731 | C12: =+A12+1 -> 43732 | E12: =+C12+1 -> 43733 | G12: =+E12+1 -> 43734 | I12: =+G12+1 -> 43735
A14: Salade boulgour | C14: carottes râpées | E14: macédoine mayonnaise | G14: concombre | I14: melon
A15: salade pates à la grecque | B15: salade de tomate | G15: pasteque | I15: salade iceberg
A16: sauté de porc sauce tomate | C16: filet de merlu citron persillé | E16: rôti de veau sauce hortillons | G16: cordon bleu | I16: bifteck haché diablotin
A17: haricots verts persillés | C17: courgette et pomme de terre | E17: riz pilaf | G17: petit pois | I17: coquillettes bio
A18: petit fromage frais fruits | C18: petit cotentin | E18: brie | G18: fromae blanc au sucre | I18: emmental
A19: petit fromage sucre | C19: rondele ail et fines harbes | G19: fomage blanc confiture fraise | I19: edam
A20: Fruit | C20: ile flottante sauce cacao | E20: fruit | G20: choux creme | I20: compote pom fraise
A21: Fruit | I21: compote pomme
A23: VOS COMMENTAIRES
A24: =+A11 -> lundi | C24: =+C11 -> mardi | E24: =+E11 -> mercredi | G24: =+G11 -> jeudi | I24: =+I11 -> vendredi
A33: Louis Sicre maternelle
A34: Louis Sicre primaire
A35: Ducau prim
A36: Ducau mat
A37: Marie Curie
A38: Jules Ferry prim
A39: Les Cloutiers maternelle
A40: Les Cloutiers primaire
A41: Sabine Sicaud maternelle
A42: Sabine Sicaud primaire
A43: Courbieu maternelle
A44: Courbieu primaire
... A62: Ecole de BOUDOU

Sheet SUIVI APPRO 
A2: Tableau de suivi des engagements en nombre de composantes
C3: PERIODE : juillet a aout
C4: MENU DES ELEMENTAIRES
A6: MOIS | B6: DATE DE CONSOMMATION | C6: PRODUIT | D6: Labels | E6: BIO objectif : 20% | F6: RACE A VIANDE | G6: Agriculture raisonnée | H6: Local | J6: dont Approvisionnements directs (circuit court) OBJECTIF 50,5% | K6: Observations (nom du producteur, retards météo, disponibilité décalée, non livraison, opportunité producteur local complémentaire, …) | L6: NB COMPOSANTES/J
A8: AVRIL 2019 | B8: =+#REF! -> #REF! | C8: =#REF! -> #REF! | L8: 5
C9: =#REF! -> #REF!
C10: =#REF! -> #REF!
C11: =#REF! -> #REF! | E11: 1
C12: =#REF! -> #REF! | H12: 1 | J12: 1
C13: =#REF! -> #REF!
C14: =#REF! -> #REF!
C16: pain | H16: 1 | J16: 1
B17: =+#REF! -> #REF! | L17: 7
C19: =+#REF! -> #REF! | H19: 1 | J19: 1
C20: =+#REF! -> #REF! | D20: 1 | F20: 1
C21: =+#REF! -> #REF! | G21: 1
C22: =+#REF! -> #REF!
C23: =+#REF! -> #REF!
C24: =+#REF! -> #REF!
C25: Pain | H25: 1 | J25: 1
B26: =+#REF! -> #REF! | C26: =+#REF! -> #REF! | L26: 6
C27: =+#REF! -> #REF! | D27: 1
C28: =+#REF! -> #REF! | G28: 1
C29: =+#REF! -> #REF!
C30: =+#REF! -> #REF! | H30: 1 | I30: 1 | J30: 1
C31: =+#REF! -> #REF!
C34: Pain | H34: 1 | J34: 1
B35: =+#REF! -> #REF! | C35: =+#REF! -> #REF! | H35: 1 | J35: 1 | L35: 6
C36: =+#REF! -> #REF!
C37: =+#REF! -> #REF!
C38: =+#REF! -> #REF!
C39: =+#REF! -> #REF! | H39: 1 | J39: 1
C40: =+#REF! -> #REF!
C41: =+#REF! -> #REF!
C42: =+#REF! -> #REF!
C43: Pain | H43: 1 | J43: 1
B44: =+#REF! -> #REF! | C44: =#REF! -> #REF! | L44: 2
C45: =#REF! -> #REF!
C46: =#REF! -> #REF!
C47: =#REF! -> #REF!
...

Sheet SUIVI office)
A2: Tableau de suivi des engagements en nombre de composantes
C3: PERIODE : juillet aout 2019
C4: MENU DES ELEMENTAIRES
E5: P | L5: M | M5: P | X5: m | Y5: p
A6: MOIS | B6: DATE DE CONSOMMATION | C6: PRODUIT | D6: ='10'!A32 -> Louis Sicre maternelle | E6: ='10'!$A33 -> Louis Sicre primaire | F6: ='10'!$A34 -> Ducau prim | G6: ='10'!$A35 -> Ducau mat | H6: ='10'!$A36 -> Marie Curie | I6: ='10'!$A37 -> Jules Ferry prim | J6: ='10'!$A38 -> Les Cloutiers maternelle | K6: ='10'!$A39 -> Les Cloutiers primaire | L6: ='10'!$A40 -> Sabine Sicaud maternelle | M6: ='10'!$A41 -> Sabine Sicaud primaire | N6: ='10'!$A42 -> Courbieu maternelle | O6: ='10'!$A43 -> Courbieu primaire | P6: ='10'!$A44 -> Marceau Faure mat | Q6: ='10'!$A45 -> Pierre Perret maternelle | R6: ='10'!$A46 -> Camille Delthil | S6: ='10'!$A47 -> Pierre Chabrié | T6: ='10'!$A48 -> Sarlac mat | U6: ='10'!$A49 -> Sarlac prim | V6: ='10'!$A50 -> Montebello mat | W6: ='10'!$A51 -> Montebello prim | X6: ='10'!$A52 -> Louis garde maternelle | Y6: ='10'!$A53 -> Louis garde primaire | Z6: ='10'!$A54 -> Mathaly maternelle | AA6: ='10'!$A55 -> Mathaly primaire | AB6: ='10'!$A56 -> Firmin Bouisset maternelle | AC6: ='10'!$A57 -> Firmin Bouisset primaire | AD6: ='10'!$A58 -> Crèche "Les Grapillous" Moissac | AE6: =+'10'!A60 -> Ecole de BOUDOU | AF6: 13/26 | AG6: 14/28
AF7: MAT | AG7: PRI
A8: AVRIL 2019 | B8: =+#REF! -> #REF! | C8: =#REF! -> #REF! | AF8: =SUM(D8:AE8) -> 0
C9: =#REF! -> #REF! | AF9: =SUM(D9:AE9) -> 0
C10: =#REF! -> #REF! | AF10: =SUM(D10:AE10) -> 0
C11: =#REF! -> #REF! | AF11: =SUM(D11:AE11) -> 0
C12: =#REF! -> #REF! | AF12: =SUM(D12:AE12) -> 0
C13: =#REF! -> #REF! | AF13: =SUM(D13:AE13) -> 0
C14: =#REF! -> #REF! | AF14: =SUM(D14:AE14) -> 0
AF15: =SUM(D15:AE15) -> 0
C16: pain | AF16: =SUM(D16:AE16) -> 0
B17: =+#REF! -> #REF! | AF17: =SUM(D17:AE17) -> 0
AF18: =SUM(D18:AE18) -> 0
C19: =+#REF! -> #REF! | AF19: =SUM(D19:AE19) -> 0
C20: =+#REF! -> #REF! | AF20: =SUM(D20:AE20) -> 0
C21: =+#REF! -> #REF! | AF21: =SUM(D21:AE21) -> 0
C22: =+#REF! -> #REF! | AF22: =SUM(D22:AE22) -> 0
C23: =+#REF! -> #REF! | AF23: =SUM(D23:AE23) -> 0
C24: =+#REF! -> #REF! | AF24: =SUM(D24:AE24) -> 0
C25: Pain | AF25: =SUM(D25:AE25) -> 0
B26: =+#REF! -> #REF! | C26: =+#REF! -> #REF! | AF26: =SUM(D26:AE26) -> 0
C27: =+#REF! -> #REF! | AF27: =SUM(D27:AE27) -> 0
C28: =+#REF! -> #REF! | AF28: =SUM(D28:AE28) -> 0
C29: =+#REF! -> #REF! | AF29: =SUM(D29:AE29) -> 0
C30: =+#REF! -> #REF! | AF30: =SUM(D30:AE30) -> 0
C31: =+#REF! -> #REF! | AF31: =SUM(D31:AE31) -> 0
AF32: =SUM(D32:AE32) -> 0
AF33: =SUM(D33:AE33) -> 0
C34: Pain | AF34: =SUM(D34:AE34) -> 0
B35: =+#REF! -> #REF! | C35: =+#REF! -> #REF! | AF35: =SUM(D35:AE35) -> 0
C36: =+#REF! -> #REF! | AF36: =SUM(D36:AE36) -> 0
C37: =+#REF! -> #REF! | AF37: =SUM(D37:AE37) -> 0
C38: =+#REF! -> #REF! | AF38: =SUM(D38:AE38) -> 0
C39: =+#REF! -> #REF! | AF39: =SUM(D39:AE39) -> 0
C40: =+#REF! -> #REF! | AF40: =SUM(D40:AE40) -> 0
C41: =+#REF! -> #REF! | AF41: =SUM(D41:AE41) -> 0
...
