Workbook

Sheet Data
A1: Activité | B1: Données | C1: Janvier | D1: Février | E1: Mars | F1: Avril | G1: Mai | H1: Juin | I1: Juillet | J1: Août | K1: Septembre | L1: Octobre | M1: Novembre | N1: Décembre | O1: Total
A2: ProAssurance | B2: Investissement | C2: 1000 | O2: =SUM(C2:N2) -> 1000
A3: ProAssurance | B3: Nb de Lead Formulaire reçu | C3: 10 | O3: =SUM(C3:N3) -> 10
A4: ProAssurance | B4: Nb de Lead Téléphonique | C4: 5 | O4: =SUM(C4:N4) -> 5
A5: ProAssurance | B5: Nb de Lead Brut | C5: 15 | O5: =SUM(C5:N5) -> 15
A6: ProAssurance | B6: Nb de lead Réel (Rejoint) | C6: 8 | O6: =SUM(C6:N6) -> 8
A7: ProAssurance | B7: Nb de soumission | C7: 6 | O7: =SUM(C7:N7) -> 6
A8: ProAssurance | B8: Nb de vente | C8: 4 | O8: =SUM(C8:N8) -> 4
A9: ProAssurance | B9: Prime générée | C9: 1000 | O9: =SUM(C9:N9) -> 1000
A10: ProAssurance | B10: Commission générée | C10: 250 | O10: =SUM(C10:N10) -> 250
A11: CAVI LP | B11: Investissement | C11: 1000 | O11: =SUM(C11:N11) -> 1000
A12: CAVI LP | B12: Nb de Lead Formulaire reçu | C12: 10 | O12: =SUM(C12:N12) -> 10
A13: CAVI LP | B13: Nb de Lead Téléphonique | C13: 5 | O13: =SUM(C13:N13) -> 5
... A55: Dumas Google | B55: Commission générée | C55: 250 | O55: =SUM(C55:N55) -> 250
A56: Global | B56: Investissement | C56: =SUM(C2,C11,C20,C29,C38,C47) -> 6000 | O56: =SUM(C56:N56) -> 6000
A57: Global | B57: Nb de Lead Formulaire reçu | C57: =SUM(C3,C12,C21,C30,C39,C48) -> 60 | O57: =SUM(C57:N57) -> 60
A58: Global | B58: Nb de Lead Téléphonique | C58: =SUM(C4,C13,C22,C31,C40,C49) -> 30 | O58: =SUM(C58:N58) -> 30
A59: Global | B59: Nb de Lead Brut | C59: =SUM(C5,C14,C23,C32,C41,C50) -> 90 | O59: =SUM(C59:N59) -> 90
A60: Global | B60: Nb de lead Réel (Rejoint) | C60: =SUM(C6,C15,C24,C33,C42,C51) -> 48 | O60: =SUM(C60:N60) -> 48
A61: Global | B61: Nb de soumission | C61: =SUM(C7,C16,C25,C34,C43,C52) -> 36 | O61: =SUM(C61:N61) -> 36
A62: Global | B62: Nb de vente | C62: =SUM(C8,C17,C26,C35,C44,C53) -> 24 | O62: =SUM(C62:N62) -> 24
A63: Global | B63: Prime générée | C63: =SUM(C9,C18,C27,C36,C45,C54) -> 6000 | O63: =SUM(C63:N63) -> 6000
A64: Global | B64: Commission générée | C64: =SUM(C10,C19,C28,C37,C46,C55) -> 1500 | O64: =SUM(C64:N64) -> 1500

Sheet Coût
A1: Activité | B1: Statistique | C1: Janvier | D1: Février | E1: Mars | F1: Avril | G1: Mai | H1: Juin | I1: Juillet | J1: Août | K1: Septembre | L1: Octobre | M1: Novembre | N1: Décembre | O1: Moyenne
A2: Proassurance | B2: Coût / Lead Brut | C2: =IFERROR(Data!C2/Data!C5,"") -> 66.666667 | D2: =IFERROR(Data!D2/Data!D5,"") | E2: =IFERROR(Data!E2/Data!E5,"") | F2: =IFERROR(Data!F2/Data!F5,"") | G2: =IFERROR(Data!G2/Data!G5,"") | H2: =IFERROR(Data!H2/Data!H5,"") | I2: =IFERROR(Data!I2/Data!I5,"") | J2: =IFERROR(Data!J2/Data!J5,"") | ... N2: =IFERROR(Data!N2/Data!N5,"") | O2: =AVERAGE(C2:N2) -> 66.666667
A3: Proassurance | B3: Coût / Lead Réel (Rejoint) | C3: =IFERROR(Data!C2/Data!C6,"") -> 125 | D3: =IFERROR(Data!D2/Data!D6,"") | E3: =IFERROR(Data!E2/Data!E6,"") | F3: =IFERROR(Data!F2/Data!F6,"") | G3: =IFERROR(Data!G2/Data!G6,"") | H3: =IFERROR(Data!H2/Data!H6,"") | I3: =IFERROR(Data!I2/Data!I6,"") | J3: =IFERROR(Data!J2/Data!J6,"") | ... N3: =IFERROR(Data!N2/Data!N6,"") | O3: =AVERAGE(C3:N3) -> 125
A4: Proassurance | B4: Coût / Soumission | C4: =IFERROR(Data!C2/Data!C7,"") -> 166.66667 | D4: =IFERROR(Data!D2/Data!D7,"") | E4: =IFERROR(Data!E2/Data!E7,"") | F4: =IFERROR(Data!F2/Data!F7,"") | G4: =IFERROR(Data!G2/Data!G7,"") | H4: =IFERROR(Data!H2/Data!H7,"") | I4: =IFERROR(Data!I2/Data!I7,"") | J4: =IFERROR(Data!J2/Data!J7,"") | ... N4: =IFERROR(Data!N2/Data!N7,"") | O4: =AVERAGE(C4:N4) -> 166.66667
A5: Proassurance | B5: Coût / Vente | C5: =IFERROR(Data!C2/Data!C8,"") -> 250 | D5: =IFERROR(Data!D2/Data!D8,"") | E5: =IFERROR(Data!E2/Data!E8,"") | F5: =IFERROR(Data!F2/Data!F8,"") | G5: =IFERROR(Data!G2/Data!G8,"") | H5: =IFERROR(Data!H2/Data!H8,"") | I5: =IFERROR(Data!I2/Data!I8,"") | J5: =IFERROR(Data!J2/Data!J8,"") | ... N5: =IFERROR(Data!N2/Data!N8,"") | O5: =AVERAGE(C5:N5) -> 250
A6: Proassurance | B6: Taux de Lead rejoint | C6: =IFERROR(Data!C6/Data!C5,"") -> 0.53333333 | D6: =IFERROR(Data!D6/Data!D5,"") | E6: =IFERROR(Data!E6/Data!E5,"") | F6: =IFERROR(Data!F6/Data!F5,"") | G6: =IFERROR(Data!G6/Data!G5,"") | H6: =IFERROR(Data!H6/Data!H5,"") | I6: =IFERROR(Data!I6/Data!I5,"") | J6: =IFERROR(Data!J6/Data!J5,"") | ... N6: =IFERROR(Data!N6/Data!N5,"") | O6: =AVERAGE(C6:N6) -> 0.53333333
A7: Proassurance | B7: Taux de Closing sur lead Brut | C7: =IFERROR(Data!C8/Data!C5,"") -> 0.26666667 | D7: =IFERROR(Data!D8/Data!D5,"") | E7: =IFERROR(Data!E8/Data!E5,"") | F7: =IFERROR(Data!F8/Data!F5,"") | G7: =IFERROR(Data!G8/Data!G5,"") | H7: =IFERROR(Data!H8/Data!H5,"") | I7: =IFERROR(Data!I8/Data!I5,"") | J7: =IFERROR(Data!J8/Data!J5,"") | ... N7: =IFERROR(Data!N8/Data!N5,"") | O7: =AVERAGE(C7:N7) -> 0.26666667
A8: Proassurance | B8: Taux de Closing sur lead Réel (Rejoint) | C8: =IFERROR(Data!C8/Data!C6,"") -> 0.5 | D8: =IFERROR(Data!D8/Data!D6,"") | E8: =IFERROR(Data!E8/Data!E6,"") | F8: =IFERROR(Data!F8/Data!F6,"") | G8: =IFERROR(Data!G8/Data!G6,"") | H8: =IFERROR(Data!H8/Data!H6,"") | I8: =IFERROR(Data!I8/Data!I6,"") | J8: =IFERROR(Data!J8/Data!J6,"") | ... N8: =IFERROR(Data!N8/Data!N6,"") | O8: =AVERAGE(C8:N8) -> 0.5
A9: Proassurance | B9: Taux de Closing sur soumission | C9: =IFERROR(Data!C8/Data!C7,"") -> 0.66666667 | D9: =IFERROR(Data!D8/Data!D7,"") | E9: =IFERROR(Data!E8/Data!E7,"") | F9: =IFERROR(Data!F8/Data!F7,"") | G9: =IFERROR(Data!G8/Data!G7,"") | H9: =IFERROR(Data!H8/Data!H7,"") | I9: =IFERROR(Data!I8/Data!I7,"") | J9: =IFERROR(Data!J8/Data!J7,"") | ... N9: =IFERROR(Data!N8/Data!N7,"") | O9: =AVERAGE(C9:N9) -> 0.66666667
A10: Proassurance | B10: Prime / Vente | C10: =IFERROR(Data!C9/Data!C8,"") -> 250 | D10: =IFERROR(Data!D9/Data!D8,"") | E10: =IFERROR(Data!E9/Data!E8,"") | F10: =IFERROR(Data!F9/Data!F8,"") | G10: =IFERROR(Data!G9/Data!G8,"") | H10: =IFERROR(Data!H9/Data!H8,"") | I10: =IFERROR(Data!I9/Data!I8,"") | J10: =IFERROR(Data!J9/Data!J8,"") | ... N10: =IFERROR(Data!N9/Data!N8,"") | O10: =AVERAGE(C10:N10) -> 250
A11: Proassurance | B11: Commission / Vente | C11: =IFERROR(Data!C10/Data!C8,"") -> 62.5 | D11: =IFERROR(Data!D10/Data!D8,"") | E11: =IFERROR(Data!E10/Data!E8,"") | F11: =IFERROR(Data!F10/Data!F8,"") | G11: =IFERROR(Data!G10/Data!G8,"") | H11: =IFERROR(Data!H10/Data!H8,"") | I11: =IFERROR(Data!I10/Data!I8,"") | J11: =IFERROR(Data!J10/Data!J8,"") | ... N11: =IFERROR(Data!N10/Data!N8,"") | O11: =AVERAGE(C11:N11) -> 62.5
A12: Proassurance | B12: Récupération sur investissement | C12: =IFERROR(Data!C10/Data!C2,"") -> 0.25 | D12: =IFERROR(Data!D10/Data!D2,"") | E12: =IFERROR(Data!E10/Data!E2,"") | F12: =IFERROR(Data!F10/Data!F2,"") | G12: =IFERROR(Data!G10/Data!G2,"") | H12: =IFERROR(Data!H10/Data!H2,"") | I12: =IFERROR(Data!I10/Data!I2,"") | J12: =IFERROR(Data!J10/Data!J2,"") | ... N12: =IFERROR(Data!N10/Data!N2,"") | O12: =AVERAGE(C12:N12) -> 0.25
A13: Proassurance | B13: Multiple de commission brut | C13: =IFERROR(Data!C2/Data!C10,"") -> 4 | D13: =IFERROR(Data!D2/Data!D10,"") | E13: =IFERROR(Data!E2/Data!E10,"") | F13: =IFERROR(Data!F2/Data!F10,"") | G13: =IFERROR(Data!G2/Data!G10,"") | H13: =IFERROR(Data!H2/Data!H10,"") | I13: =IFERROR(Data!I2/Data!I10,"") | J13: =IFERROR(Data!J2/Data!J10,"") | ... N13: =IFERROR(Data!N2/Data!N10,"") | O13: =AVERAGE(C13:N13) -> 4
A14: CAVI LP | B14: Coût / Lead Brut | C14: =IFERROR(Data!C11/Data!C14,"") -> 66.666667 | D14: =IFERROR(Data!D11/Data!D14,"") | E14: =IFERROR(Data!E11/Data!E14,"") | F14: =IFERROR(Data!F11/Data!F14,"") | G14: =IFERROR(Data!G11/Data!G14,"") | H14: =IFERROR(Data!H11/Data!H14,"") | I14: =IFERROR(Data!I11/Data!I14,"") | J14: =IFERROR(Data!J11/Data!J14,"") | ... N14: =IFERROR(Data!N11/Data!N14,"") | O14: =AVERAGE(C14:N14) -> 66.666667
A15: CAVI LP | B15: Coût / Lead Réel (Rejoint) | C15: =IFERROR(Data!C11/Data!C15,"") -> 125 | D15: =IFERROR(Data!D11/Data!D15,"") | E15: =IFERROR(Data!E11/Data!E15,"") | F15: =IFERROR(Data!F11/Data!F15,"") | G15: =IFERROR(Data!G11/Data!G15,"") | H15: =IFERROR(Data!H11/Data!H15,"") | I15: =IFERROR(Data!I11/Data!I15,"") | J15: =IFERROR(Data!J11/Data!J15,"") | ... N15: =IFERROR(Data!N11/Data!N15,"") | O15: =AVERAGE(C15:N15) -> 125
A16: CAVI LP | B16: Coût / Soumission | C16: =IFERROR(Data!C11/Data!C16,"") -> 166.66667 | D16: =IFERROR(Data!D11/Data!D16,"") | E16: =IFERROR(Data!E11/Data!E16,"") | F16: =IFERROR(Data!F11/Data!F16,"") | G16: =IFERROR(Data!G11/Data!G16,"") | H16: =IFERROR(Data!H11/Data!H16,"") | I16: =IFERROR(Data!I11/Data!I16,"") | J16: =IFERROR(Data!J11/Data!J16,"") | ... N16: =IFERROR(Data!N11/Data!N16,"") | O16: =AVERAGE(C16:N16) -> 166.66667
A17: CAVI LP | B17: Coût / Vente | C17: =IFERROR(Data!C11/Data!C17,"") -> 250 | D17: =IFERROR(Data!D11/Data!D17,"") | E17: =IFERROR(Data!E11/Data!E17,"") | F17: =IFERROR(Data!F11/Data!F17,"") | G17: =IFERROR(Data!G11/Data!G17,"") | H17: =IFERROR(Data!H11/Data!H17,"") | I17: =IFERROR(Data!I11/Data!I17,"") | J17: =IFERROR(Data!J11/Data!J17,"") | ... N17: =IFERROR(Data!N11/Data!N17,"") | O17: =AVERAGE(C17:N17) -> 250
A18: CAVI LP | B18: Taux de Lead rejoint | C18: =IFERROR(Data!C15/Data!C14,"") -> 0.53333333 | D18: =IFERROR(Data!D15/Data!D14,"") | E18: =IFERROR(Data!E15/Data!E14,"") | F18: =IFERROR(Data!F15/Data!F14,"") | G18: =IFERROR(Data!G15/Data!G14,"") | H18: =IFERROR(Data!H15/Data!H14,"") | I18: =IFERROR(Data!I15/Data!I14,"") | J18: =IFERROR(Data!J15/Data!J14,"") | ... N18: =IFERROR(Data!N15/Data!N14,"") | O18: =AVERAGE(C18:N18) -> 0.53333333
A19: CAVI LP | B19: Taux de Closing sur lead Brut | C19: =Data!C17/Data!C14 -> 0.26666667 | D19: =Data!D17/Data!D14 -> #DIV/0! | E19: =Data!E17/Data!E14 -> #DIV/0! | F19: =Data!F17/Data!F14 -> #DIV/0! | G19: =Data!G17/Data!G14 -> #DIV/0! | H19: =Data!H17/Data!H14 -> #DIV/0! | I19: =Data!I17/Data!I14 -> #DIV/0! | J19: =Data!J17/Data!J14 -> #DIV/0! | ... N19: =Data!N17/Data!N14 -> #DIV/0! | O19: =AVERAGE(C19:N19) -> #DIV/0!
A20: CAVI LP | B20: Taux de Closing sur lead Réel (Rejoint) | C20: =IFERROR(Data!C17/Data!C15,"") -> 0.5 | D20: =IFERROR(Data!D17/Data!D15,"") | E20: =IFERROR(Data!E17/Data!E15,"") | F20: =IFERROR(Data!F17/Data!F15,"") | G20: =IFERROR(Data!G17/Data!G15,"") | H20: =IFERROR(Data!H17/Data!H15,"") | I20: =IFERROR(Data!I17/Data!I15,"") | J20: =IFERROR(Data!J17/Data!J15,"") | ... N20: =IFERROR(Data!N17/Data!N15,"") | O20: =AVERAGE(C20:N20) -> 0.5
A21: CAVI LP | B21: Taux de Closing sur soumission | C21: =Data!C17/Data!C16 -> 0.66666667 | D21: =Data!D17/Data!D16 -> #DIV/0! | E21: =Data!E17/Data!E16 -> #DIV/0! | F21: =Data!F17/Data!F16 -> #DIV/0! | G21: =Data!G17/Data!G16 -> #DIV/0! | H21: =Data!H17/Data!H16 -> #DIV/0! | I21: =Data!I17/Data!I16 -> #DIV/0! | J21: =Data!J17/Data!J16 -> #DIV/0! | ... N21: =Data!N17/Data!N16 -> #DIV/0! | O21: =AVERAGE(C21:N21) -> #DIV/0!
A22: CAVI LP | B22: Prime / Vente | C22: =IFERROR(Data!C18/Data!C17,"") -> 250 | D22: =IFERROR(Data!D18/Data!D17,"") | E22: =IFERROR(Data!E18/Data!E17,"") | F22: =IFERROR(Data!F18/Data!F17,"") | G22: =IFERROR(Data!G18/Data!G17,"") | H22: =IFERROR(Data!H18/Data!H17,"") | I22: =IFERROR(Data!I18/Data!I17,"") | J22: =IFERROR(Data!J18/Data!J17,"") | ... N22: =IFERROR(Data!N18/Data!N17,"") | O22: =AVERAGE(C22:N22) -> 250
A23: CAVI LP | B23: Commission / Vente | C23: =IFERROR(Data!C19/Data!C17,"") -> 62.5 | D23: =IFERROR(Data!D19/Data!D17,"") | E23: =IFERROR(Data!E19/Data!E17,"") | F23: =IFERROR(Data!F19/Data!F17,"") | G23: =IFERROR(Data!G19/Data!G17,"") | H23: =IFERROR(Data!H19/Data!H17,"") | I23: =IFERROR(Data!I19/Data!I17,"") | J23: =IFERROR(Data!J19/Data!J17,"") | ... N23: =IFERROR(Data!N19/Data!N17,"") | O23: =AVERAGE(C23:N23) -> 62.5
A24: CAVI LP | B24: Récupération sur investissement | C24: =IFERROR(Data!C19/Data!C11,"") -> 0.25 | D24: =IFERROR(Data!D19/Data!D11,"") | E24: =IFERROR(Data!E19/Data!E11,"") | F24: =IFERROR(Data!F19/Data!F11,"") | G24: =IFERROR(Data!G19/Data!G11,"") | H24: =IFERROR(Data!H19/Data!H11,"") | I24: =IFERROR(Data!I19/Data!I11,"") | J24: =IFERROR(Data!J19/Data!J11,"") | ... N24: =IFERROR(Data!N19/Data!N11,"") | O24: =AVERAGE(C24:N24) -> 0.25
A25: CAVI LP | B25: Multiple de commission brut | C25: =IFERROR(Data!C11/Data!C19,"") -> 4 | D25: =IFERROR(Data!D11/Data!D19,"") | E25: =IFERROR(Data!E11/Data!E19,"") | F25: =IFERROR(Data!F11/Data!F19,"") | G25: =IFERROR(Data!G11/Data!G19,"") | H25: =IFERROR(Data!H11/Data!H19,"") | I25: =IFERROR(Data!I11/Data!I19,"") | J25: =IFERROR(Data!J11/Data!J19,"") | ... N25: =IFERROR(Data!N11/Data!N19,"") | O25: =AVERAGE(C25:N25) -> 4
A26: CAVI LC | B26: Coût / Lead Brut | C26: =IFERROR(Data!C20/Data!C23,"") -> 66.666667 | D26: =IFERROR(Data!D20/Data!D23,"") | E26: =IFERROR(Data!E20/Data!E23,"") | F26: =IFERROR(Data!F20/Data!F23,"") | G26: =IFERROR(Data!G20/Data!G23,"") | H26: =IFERROR(Data!H20/Data!H23,"") | I26: =IFERROR(Data!I20/Data!I23,"") | J26: =IFERROR(Data!J20/Data!J23,"") | ... N26: =IFERROR(Data!N20/Data!N23,"") | O26: =AVERAGE(C26:N26) -> 66.666667
A27: CAVI LC | B27: Coût / Lead Réel (Rejoint) | C27: =IFERROR(Data!C20/Data!C24,"") -> 125 | D27: =IFERROR(Data!D20/Data!D24,"") | E27: =IFERROR(Data!E20/Data!E24,"") | F27: =IFERROR(Data!F20/Data!F24,"") | G27: =IFERROR(Data!G20/Data!G24,"") | H27: =IFERROR(Data!H20/Data!H24,"") | I27: =IFERROR(Data!I20/Data!I24,"") | J27: =IFERROR(Data!J20/Data!J24,"") | ... N27: =IFERROR(Data!N20/Data!N24,"") | O27: =AVERAGE(C27:N27) -> 125
A28: CAVI LC | B28: Coût / Soumission | C28: =IFERROR(Data!C20/Data!C25,"") -> 166.66667 | D28: =IFERROR(Data!D20/Data!D25,"") | E28: =IFERROR(Data!E20/Data!E25,"") | F28: =IFERROR(Data!F20/Data!F25,"") | G28: =IFERROR(Data!G20/Data!G25,"") | H28: =IFERROR(Data!H20/Data!H25,"") | I28: =IFERROR(Data!I20/Data!I25,"") | J28: =IFERROR(Data!J20/Data!J25,"") | ... N28: =IFERROR(Data!N20/Data!N25,"") | O28: =AVERAGE(C28:N28) -> 166.66667
A29: CAVI LC | B29: Coût / Vente | C29: =Data!C20/Data!C26 -> 250 | D29: =Data!D20/Data!D26 -> #DIV/0! | E29: =Data!E20/Data!E26 -> #DIV/0! | F29: =Data!F20/Data!F26 -> #DIV/0! | G29: =Data!G20/Data!G26 -> #DIV/0! | H29: =Data!H20/Data!H26 -> #DIV/0! | I29: =Data!I20/Data!I26 -> #DIV/0! | J29: =Data!J20/Data!J26 -> #DIV/0! | ... N29: =Data!N20/Data!N26 -> #DIV/0! | O29: =AVERAGE(C29:N29) -> #DIV/0!
A30: CAVI LC | B30: Taux de Lead rejoint | C30: =IFERROR(Data!C24/Data!C23,"") -> 0.53333333 | D30: =IFERROR(Data!D24/Data!D23,"") | E30: =IFERROR(Data!E24/Data!E23,"") | F30: =IFERROR(Data!F24/Data!F23,"") | G30: =IFERROR(Data!G24/Data!G23,"") | H30: =IFERROR(Data!H24/Data!H23,"") | I30: =IFERROR(Data!I24/Data!I23,"") | J30: =IFERROR(Data!J24/Data!J23,"") | ... N30: =IFERROR(Data!N24/Data!N23,"") | O30: =AVERAGE(C30:N30) -> 0.53333333
A31: CAVI LC | B31: Taux de Closing sur lead Brut | C31: =IFERROR(Data!C26/Data!C23,"") -> 0.26666667 | D31: =IFERROR(Data!D26/Data!D23,"") | E31: =IFERROR(Data!E26/Data!E23,"") | F31: =IFERROR(Data!F26/Data!F23,"") | G31: =IFERROR(Data!G26/Data!G23,"") | H31: =IFERROR(Data!H26/Data!H23,"") | I31: =IFERROR(Data!I26/Data!I23,"") | J31: =IFERROR(Data!J26/Data!J23,"") | ... N31: =IFERROR(Data!N26/Data!N23,"") | O31: =AVERAGE(C31:N31) -> 0.26666667
A32: CAVI LC | B32: Taux de Closing sur lead Réel (Rejoint) | C32: =IFERROR(Data!C26/Data!C24,"") -> 0.5 | D32: =IFERROR(Data!D26/Data!D24,"") | E32: =IFERROR(Data!E26/Data!E24,"") | F32: =IFERROR(Data!F26/Data!F24,"") | G32: =IFERROR(Data!G26/Data!G24,"") | H32: =IFERROR(Data!H26/Data!H24,"") | I32: =IFERROR(Data!I26/Data!I24,"") | J32: =IFERROR(Data!J26/Data!J24,"") | ... N32: =IFERROR(Data!N26/Data!N24,"") | O32: =AVERAGE(C32:N32) -> 0.5
A33: CAVI LC | B33: Taux de Closing sur soumission | C33: =IFERROR(Data!C26/Data!C25,"") -> 0.66666667 | D33: =IFERROR(Data!D26/Data!D25,"") | E33: =IFERROR(Data!E26/Data!E25,"") | F33: =IFERROR(Data!F26/Data!F25,"") | G33: =IFERROR(Data!G26/Data!G25,"") | H33: =IFERROR(Data!H26/Data!H25,"") | I33: =IFERROR(Data!I26/Data!I25,"") | J33: =IFERROR(Data!J26/Data!J25,"") | ... N33: =IFERROR(Data!N26/Data!N25,"") | O33: =AVERAGE(C33:N33) -> 0.66666667
A34: CAVI LC | B34: Prime / Vente | C34: =IFERROR(Data!C27/Data!C26,"") -> 250 | D34: =IFERROR(Data!D27/Data!D26,"") | E34: =IFERROR(Data!E27/Data!E26,"") | F34: =IFERROR(Data!F27/Data!F26,"") | G34: =IFERROR(Data!G27/Data!G26,"") | H34: =IFERROR(Data!H27/Data!H26,"") | I34: =IFERROR(Data!I27/Data!I26,"") | J34: =IFERROR(Data!J27/Data!J26,"") | ... N34: =IFERROR(Data!N27/Data!N26,"") | O34: =AVERAGE(C34:N34) -> 250
A35: CAVI LC | B35: Commission / Vente | C35: =Data!C28/Data!C26 -> 62.5 | D35: =Data!D28/Data!D26 -> #DIV/0! | E35: =Data!E28/Data!E26 -> #DIV/0! | F35: =Data!F28/Data!F26 -> #DIV/0! | G35: =Data!G28/Data!G26 -> #DIV/0! | H35: =Data!H28/Data!H26 -> #DIV/0! | I35: =Data!I28/Data!I26 -> #DIV/0! | J35: =Data!J28/Data!J26 -> #DIV/0! | ... N35: =Data!N28/Data!N26 -> #DIV/0! | O35: =AVERAGE(C35:N35) -> #DIV/0!
A36: CAVI LC | B36: Récupération sur investissement | C36: =IFERROR(Data!C28/Data!C20,"") -> 0.25 | D36: =IFERROR(Data!D28/Data!D20,"") | E36: =IFERROR(Data!E28/Data!E20,"") | F36: =IFERROR(Data!F28/Data!F20,"") | G36: =IFERROR(Data!G28/Data!G20,"") | H36: =IFERROR(Data!H28/Data!H20,"") | I36: =IFERROR(Data!I28/Data!I20,"") | J36: =IFERROR(Data!J28/Data!J20,"") | ... N36: =IFERROR(Data!N28/Data!N20,"") | O36: =AVERAGE(C36:N36) -> 0.25
A37: CAVI LC | B37: Multiple de commission brut | C37: =IFERROR(Data!C20/Data!C28,"") -> 4 | D37: =IFERROR(Data!D20/Data!D28,"") | E37: =IFERROR(Data!E20/Data!E28,"") | F37: =IFERROR(Data!F20/Data!F28,"") | G37: =IFERROR(Data!G20/Data!G28,"") | H37: =IFERROR(Data!H20/Data!H28,"") | I37: =IFERROR(Data!I20/Data!I28,"") | J37: =IFERROR(Data!J20/Data!J28,"") | ... N37: =IFERROR(Data!N20/Data!N28,"") | O37: =AVERAGE(C37:N37) -> 4
A38: P15 | B38: Coût / Lead Brut | C38: =IFERROR(Data!C29/Data!C32,"") -> 66.666667 | D38: =IFERROR(Data!D29/Data!D32,"") | E38: =IFERROR(Data!E29/Data!E32,"") | F38: =IFERROR(Data!F29/Data!F32,"") | G38: =IFERROR(Data!G29/Data!G32,"") | H38: =IFERROR(Data!H29/Data!H32,"") | I38: =IFERROR(Data!I29/Data!I32,"") | J38: =IFERROR(Data!J29/Data!J32,"") | ... N38: =IFERROR(Data!N29/Data!N32,"") | O38: =AVERAGE(C38:N38) -> 66.666667
A39: P15 | B39: Coût / Lead Réel (Rejoint) | C39: =IFERROR(Data!C29/Data!C33,"") -> 125 | D39: =IFERROR(Data!D29/Data!D33,"") | E39: =IFERROR(Data!E29/Data!E33,"") | F39: =IFERROR(Data!F29/Data!F33,"") | G39: =IFERROR(Data!G29/Data!G33,"") | H39: =IFERROR(Data!H29/Data!H33,"") | I39: =IFERROR(Data!I29/Data!I33,"") | J39: =IFERROR(Data!J29/Data!J33,"") | ... N39: =IFERROR(Data!N29/Data!N33,"") | O39: =AVERAGE(C39:N39) -> 125
A40: P15 | B40: Coût / Soumission | C40: =IFERROR(Data!C29/Data!C34,"") -> 166.66667 | D40: =IFERROR(Data!D29/Data!D34,"") | E40: =IFERROR(Data!E29/Data!E34,"") | F40: =IFERROR(Data!F29/Data!F34,"") | G40: =IFERROR(Data!G29/Data!G34,"") | H40: =IFERROR(Data!H29/Data!H34,"") | I40: =IFERROR(Data!I29/Data!I34,"") | J40: =IFERROR(Data!J29/Data!J34,"") | ... N40: =IFERROR(Data!N29/Data!N34,"") | O40: =AVERAGE(C40:N40) -> 166.66667
...

Sheet Info
A1: Activité | B1: Données | C1: Où trouver l'Info | D1: Qui
A2: ProAssurance | B2: =Data!B2 -> Investissement | C2: Facture Jimmy | D2: FV
B3: =Data!B5 -> Nb de Lead Brut | C3: Rapport à Julie ProAss | D3: Julie Lebeau
B4: =Data!B6 -> Nb de lead Réel (Rejoint) | C4: Rapport à Julie ProAss | D4: Julie Lebeau
B5: =Data!B7 -> Nb de soumission | C5: Rapport de vente LP | D5: Julie Lebeau
B6: =Data!B8 -> Nb de vente | C6: Rapport de vente LP | D6: Julie Lebeau
B7: =Data!B9 -> Prime générée | C7: Rapport de vente LP | D7: Julie Lebeau
B8: =Data!B10 -> Commission générée | C8: Rapport de vente LP | D8: Julie Lebeau
A10: CAVI LP | B10: =Data!B11 -> Investissement | C10: Facture Intact | D10: FV
B11: =Data!B12 -> Nb de Lead Formulaire reçu | C11: Rapport CAVI LP | D11: Julie Lebeau
B12: =Data!B13 -> Nb de Lead Téléphonique | C12: Rapport Vente LP | D12: Julie Lebeau
B13: =Data!B14 -> Nb de Lead Brut | C13: Rapport Vente LP | D13: Julie Lebeau
B14: =Data!B15 -> Nb de lead Réel (Rejoint) | C14: Rapport Vente LP | D14: Julie Lebeau
B15: =Data!B16 -> Nb de soumission | C15: Rapport Vente LP | D15: Julie Lebeau
A17: CAVI LC | B17: =Data!B17 -> Nb de vente | C17: Facture Intact | D17: FV
B18: =Data!B18 -> Prime générée | C18: Rapport Vente LC | D18: Alex
B19: =Data!B19 -> Commission générée | C19: Rapport Vente LC | D19: Alex
B20: =Data!B20 -> Investissement | C20: Rapport Vente LC | D20: Alex
B21: =Data!B21 -> Nb de Lead Formulaire reçu | C21: Rapport Vente LC | D21: Alex
B22: =Data!B22 -> Nb de Lead Téléphonique | C22: Rapport Vente LC | D22: Alex
A24: P15 | B24: =Data!B23 -> Nb de Lead Brut | C24: Share/comptabilité/Certificat Cadeaux | D24: FV
B25: =Data!B24 -> Nb de lead Réel (Rejoint) | C25: Share/comptabilité/Certificat Cadeaux | D25: FV
B26: =Data!B25 -> Nb de soumission | C26: Rapport Vente LP | D26: Julie Lebeau
B27: =Data!B26 -> Nb de vente | C27: Rapport Vente LP | D27: Julie Lebeau
B28: =Data!B27 -> Prime générée | C28: Rapport Vente LP | D28: Julie Lebeau
B29: =Data!B28 -> Commission générée | C29: Rapport Vente LP | D29: Julie Lebeau
A31: Dumas Facebook | B31: =Data!B29 -> Investissement | C31: Facture Anne Dumas | D31: FV
B32: =Data!B30 -> Nb de Lead Formulaire reçu | C32: Rapport Anne + appels new | D32: Julie Lebeau
B33: =Data!B31 -> Nb de Lead Téléphonique | D33: Julie Lebeau
B34: =Data!B32 -> Nb de Lead Brut | C34: Rapport de vente LP | D34: Julie Lebeau
B35: =Data!B33 -> Nb de lead Réel (Rejoint) | C35: Rapport de vente LP | D35: Julie Lebeau
B36: =Data!B34 -> Nb de soumission | C36: Rapport de vente LP | D36: Julie Lebeau
B37: =Data!B35 -> Nb de vente | C37: Rapport de vente LP | D37: Julie Lebeau
A39: Dumas Google | B39: =Data!B36 -> Prime générée | C39: Facture Anne Dumas Ad-Word- Ad-Gear et | D39: FV
B40: =Data!B37 -> Commission générée | C40: Rapport Anne | D40: FV
B41: =Data!B38 -> Investissement | C41: Analyse Julie Lebeau | D41: Julie Lebeau
B42: =Data!B39 -> Nb de Lead Formulaire reçu | C42: Automatique
B43: =Data!B40 -> Nb de Lead Téléphonique | C43: Rapport de Julie | D43: Julie Lebeau
B44: =Data!B41 -> Nb de Lead Brut | C44: Rapport de vente LP | D44: Julie Lebeau
B45: =Data!B42 -> Nb de lead Réel (Rejoint) | C45: Rapport de vente LP | D45: Julie Lebeau
...

Sheet Rentabilité
O2: =Rentabilité!A14 -> 0
A3: taux de renouvellement
A4: Salaire et breakdown?
A10: test =SI(ESTERREUR(MOYENNE(C2:N2);<>0;MOYENNE(C2:N2))
