Workbook
Name f_mission: OFFSET(p_mission,0,0,COUNTA(l_mission),1)
Name l_mission: data!$I:$I
Name p_mission: data!$I$2

Sheet Bilan
B2: Nom entreprise
B3: Coordonnée entreprise
B6: Compte Rendu d'Activité et Etat de Frais
B9: Mois : | C9: =Saisie!A1 -> 43800 | D9: =Saisie!A1 -> 43800 | F9: Agents :
B11: Immatricule voiture de service :
C13: Compteur au début du mois : | F13: =IFERROR(INDEX(Frais!I6:I36,MATCH(TRUE,Frais!I6:I36<>"",0)),"") | G13: km
C14: Compteur à la fin du mois : | F14: =IFERROR(LOOKUP(9^9,Frais!I6:I36),"") | G14: km
C15: Km parcourus : | F15: =IFERROR(F14-F13,"") | G15: km
C17: Carburant Consommé : | F17: =IF(SUM(Frais!K6:K36)=0,"",SUM(Frais!K6:K36)) | G17: L
C18: Consommation moyenne : | F18: =IFERROR(F15/F17,"") | G18: L/100km
B20: Frais de Carburant Voiture de service : | F20: =IF(SUM(Frais!L6:L36)=0,"",SUM(Frais!L6:L36)) | G20: €
B21: Frais de Carburant Assainissement : | F21: =IF(SUM(Frais!P6:P36,Frais!S6:S36)=0,"",SUM(Frais!P6:P36,Frais!S6:S36)) | G21: €
C22: Frais de Carburant total : | F22: =SUM(F20:F21) -> 0 | G22: €
B24: Frais de Repas : | F24: nombre : | G24: montant (€)
C25: Repas aux restaurant : | F25: =COUNTA(Frais!G6:G36) -> 0 | G25: =SUM(Frais!G6:G36) -> 0
C26: Primes Panier : | F26: =Frais!X37 -> 0 | G26: =F26*data!N11 -> 0
C27: Primes Petit déjeuner : | F27: =Frais!Z37 -> 0 | G27: =F27*data!N12 -> 0
C28: Primes 8h consecutives : | F28: =Frais!AA37 -> 0 | G28: =F28*data!N13 -> 0
F30: nombre : | G30: montant (en point)
C31: Primes 4h de NUIT (entre 21h et 6h) : | F31: =IF(Frais!AB37=0,"",Frais!AB37) | G31: =IFERROR(F31*data!N14,"")
B33: Autres : | F33: =SUM(Frais!W6:W36) -> 0 | G33: €
F36: TOTAL : | G36: =SUM(G25:G28)+F22+F33 -> 0 | H36: €

Sheet Saisie
A1: =DATE((AB1+117),B1,1) -> 43800 | B1: 12 | AB1: 2 | AC1: =DATE((AB1+117),B1+1,1)-1 -> 43830
H2: ="Période du "&TEXT(A1,"jj mmmm aaaa")&" au "&TEXT(AC1,"jj mmmm aaaa") -> Période du 01 décembre 2019 au 31 décembre 2019
B4: SAISIE COMPLÈTE | C4: Validation de saisie des MISSIONS | D4: Temps de travail | E4: PAUSE REPAS (OUI/NON) | G4: Heure début d'activité (hh:mm) | H4: Heure fin d'activité (hh:mm) | I4: Nature de la mission | J4: Temps consacré (hh:mm) | K4: LIEU | L4: Nombre d'exploitations | M4: Nombre de prélèvements | N4: Nature de la mission | O4: Temps consacré (hh:mm) | P4: LIEU | Q4: Nombre d'exploitations | R4: Nombre de prélèvements | S4: Nature de la mission | T4: Temps consacré (hh:mm) | U4: LIEU | V4: Nombre d'exploitations | W4: Nombre de prélèvements | X4: Nature de la mission | Y4: Temps consacré (hh:mm) | Z4: LIEU | AA4: Nombre d'exploitations | AB4: Nombre de prélèvements | AC4: Nature de la mission | AD4: Temps consacré (hh:mm) | AE4: LIEU | AF4: Nombre d'exploitations | AG4: Nombre de prélèvements
A5: =A1 -> 43800 | B5: =IF(G5<>"",IF(Frais!C6<>"",IF(Frais!C6=data!$U$2,IF(Saisie!C5<>"",IF(Saisie!C5=data!$U$2,"OUI","NON"),"NON"),"NON"),"NON"),"") | C5: =IF(E5<>"",IF(AH5=data!$T$3,IF(AI5=data!$T$3,IF(AJ5=data!$T$3,IF(AK5=data!$T$3,IF(AL5=data!$T$3,"OUI","Incomplet"),"Incomplet"),"Incomplet"),"Incomplet"),"Incomplet"),"Incomplet") -> Incomplet | D5: =(H5-G5)-IF(E5<>"",IF(E5=data!$T$4,(Frais!F6-Frais!E6),IF((H5-G5)>=data!$P$9,data!$P$11,0))) -> 0 | F5: =H5-G5 -> 0 | AH5: =IF(Saisie!I5<>"",IF(Saisie!J5<>"",IF(Saisie!I5=data!$S$2,"OK",IF(Saisie!I5=data!$S$3,"OK",IF(Saisie!I5=data!$S$4,"OK",IF(Saisie!I5=data!$S$5,"OK",IF(Saisie!I5=data!$S$6,"OK",IF(Saisie!I5=data!$S$7,"OK",IF(Saisie!I5=data!$S$8,"OK",IF(Saisie!I5=data!$S$9,"OK",IF(Saisie!I5=data!$S$10,"OK",IF(Saisie!I5=data!$S$11,"OK",IF(Saisie!I5=data!$S$12,"OK",IF(Saisie!I5=data!$S$13,"OK",IF(Saisie!I5=data!$S$14,"OK",IF(Saisie!I5=data!$S$15,"OK",IF(Saisie!I5=data!$S$16,"OK",IF(Saisie!I5=data!$S$17,"OK",IF(Saisie!I5=data!$S$18,"OK",IF(Saisie!L5<>"",IF(Saisie!K5<>"",IF(Saisie!M5<>"","OK","Incomplet"),"Incomplet"),"Incomplet")))))))))))))))))),"Incomplet"),"Incomplet") -> Incomplet | AI5: =IF(N5="","OK",IF(Saisie!N5<>"",IF(Saisie!O5<>"",IF(Saisie!N5=data!$S$2,"OK",IF(Saisie!N5=data!$S$3,"OK",IF(Saisie!N5=data!$S$4,"OK",IF(Saisie!N5=data!$S$5,"OK",IF(Saisie!N5=data!$S$6,"OK",IF(Saisie!N5=data!$S$7,"OK",IF(Saisie!N5=data!$S$8,"OK",IF(Saisie!N5=data!$S$9,"OK",IF(Saisie!N5=data!$S$10,"OK",IF(Saisie!N5=data!$S$11,"OK",IF(Saisie!N5=data!$S$12,"OK",IF(Saisie!N5=data!$S$13,"OK",IF(Saisie!N5=data!$S$14,"OK",IF(Saisie!N5=data!$S$15,"OK",IF(Saisie!N5=data!$S$16,"OK",IF(Saisie!N5=data!$S$17,"OK",IF(Saisie!N5=data!$S$18,"OK",IF(Saisie!Q5<>"",IF(Saisie!P5<>"",IF(Saisie!R5<>"","OK","Incomplet"),"Incomplet"),"Incomplet")))))))))))))))))),"Incomplet"),"Incomplet")) -> OK | AJ5: =IF(S5="","OK",IF(Saisie!S5<>"",IF(Saisie!T5<>"",IF(Saisie!S5=data!$S$2,"OK",IF(Saisie!S5=data!$S$3,"OK",IF(Saisie!S5=data!$S$4,"OK",IF(Saisie!S5=data!$S$5,"OK",IF(Saisie!S5=data!$S$6,"OK",IF(Saisie!S5=data!$S$7,"OK",IF(Saisie!S5=data!$S$8,"OK",IF(Saisie!S5=data!$S$9,"OK",IF(Saisie!S5=data!$S$10,"OK",IF(Saisie!S5=data!$S$11,"OK",IF(Saisie!S5=data!$S$12,"OK",IF(Saisie!S5=data!$S$13,"OK",IF(Saisie!S5=data!$S$14,"OK",IF(Saisie!S5=data!$S$15,"OK",IF(Saisie!S5=data!$S$16,"OK",IF(Saisie!S5=data!$S$17,"OK",IF(Saisie!S5=data!$S$18,"OK",IF(Saisie!V5<>"",IF(Saisie!U5<>"",IF(Saisie!W5<>"","OK","Incomplet"),"Incomplet"),"Incomplet")))))))))))))))))),"Incomplet"),"Incomplet")) -> OK | AK5: =IF(X5="","OK",IF(Saisie!X5<>"",IF(Saisie!Y5<>"",IF(Saisie!X5=data!$S$2,"OK",IF(Saisie!X5=data!$S$3,"OK",IF(Saisie!X5=data!$S$4,"OK",IF(Saisie!X5=data!$S$5,"OK",IF(Saisie!X5=data!$S$6,"OK",IF(Saisie!X5=data!$S$7,"OK",IF(Saisie!X5=data!$S$8,"OK",IF(Saisie!X5=data!$S$9,"OK",IF(Saisie!X5=data!$S$10,"OK",IF(Saisie!X5=data!$S$11,"OK",IF(Saisie!X5=data!$S$12,"OK",IF(Saisie!X5=data!$S$13,"OK",IF(Saisie!X5=data!$S$14,"OK",IF(Saisie!X5=data!$S$15,"OK",IF(Saisie!X5=data!$S$16,"OK",IF(Saisie!X5=data!$S$17,"OK",IF(Saisie!X5=data!$S$18,"OK",IF(Saisie!AA5<>"",IF(Saisie!Z5<>"",IF(Saisie!AB5<>"","OK","Incomplet"),"Incomplet"),"Incomplet")))))))))))))))))),"Incomplet"),"Incomplet")) -> OK | AL5: =IF(AC5="","OK",IF(Saisie!AC5<>"",IF(Saisie!AD5<>"",IF(Saisie!AC5=data!$S$2,"OK",IF(Saisie!AC5=data!$S$3,"OK",IF(Saisie!AC5=data!$S$4,"OK",IF(Saisie!AC5=data!$S$5,"OK",IF(Saisie!AC5=data!$S$6,"OK",IF(Saisie!AC5=data!$S$7,"OK",IF(Saisie!AC5=data!$S$8,"OK",IF(Saisie!AC5=data!$S$9,"OK",IF(Saisie!AC5=data!$S$10,"OK",IF(Saisie!AC5=data!$S$11,"OK",IF(Saisie!AC5=data!$S$12,"OK",IF(Saisie!AC5=data!$S$13,"OK",IF(Saisie!AC5=data!$S$14,"OK",IF(Saisie!AC5=data!$S$15,"OK",IF(Saisie!AC5=data!$S$16,"OK",IF(Saisie!AC5=data!$S$17,"OK",IF(Saisie!AC5=data!$S$18,"OK",IF(Saisie!AF5<>"",IF(Saisie!AE5<>"",IF(Saisie!AG5<>"","OK","Incomplet"),"Incomplet"),"Incomplet")))))))))))))))))),"Incomplet"),"Incomplet")) -> OK
A6: =A5+1 -> 43801 | B6: =IF(G6<>"",IF(Frais!C7<>"",IF(Frais!C7=data!$U$2,IF(Saisie!C6<>"",IF(Saisie!C6=data!$U$2,"OUI","NON"),"NON"),"NON"),"NON"),"") | C6: =IF(E6<>"",IF(AH6=data!$T$3,IF(AI6=data!$T$3,IF(AJ6=data!$T$3,IF(AK6=data!$T$3,IF(AL6=data!$T$3,"OUI","Incomplet"),"Incomplet"),"Incomplet"),"Incomplet"),"Incomplet"),"Incomplet") -> Incomplet | D6: =(H6-G6)-IF(E6<>"",IF(E6=data!$T$4,(Frais!F7-Frais!E7),IF((H6-G6)>=data!$P$9,data!$P$11,0))) -> 0 | F6: =H6-G6 -> 0 | AH6: =IF(Saisie!I6<>"",IF(Saisie!J6<>"",IF(Saisie!I6=data!$S$2,"OK",IF(Saisie!I6=data!$S$3,"OK",IF(Saisie!I6=data!$S$4,"OK",IF(Saisie!I6=data!$S$5,"OK",IF(Saisie!I6=data!$S$6,"OK",IF(Saisie!I6=data!$S$7,"OK",IF(Saisie!I6=data!$S$8,"OK",IF(Saisie!I6=data!$S$9,"OK",IF(Saisie!I6=data!$S$10,"OK",IF(Saisie!I6=data!$S$11,"OK",IF(Saisie!I6=data!$S$12,"OK",IF(Saisie!I6=data!$S$13,"OK",IF(Saisie!I6=data!$S$14,"OK",IF(Saisie!I6=data!$S$15,"OK",IF(Saisie!I6=data!$S$16,"OK",IF(Saisie!I6=data!$S$17,"OK",IF(Saisie!I6=data!$S$18,"OK",IF(Saisie!L6<>"",IF(Saisie!K6<>"",IF(Saisie!M6<>"","OK","Incomplet"),"Incomplet"),"Incomplet")))))))))))))))))),"Incomplet"),"Incomplet") -> Incomplet | AI6: =IF(N6="","OK",IF(Saisie!N6<>"",IF(Saisie!O6<>"",IF(Saisie!N6=data!$S$2,"OK",IF(Saisie!N6=data!$S$3,"OK",IF(Saisie!N6=data!$S$4,"OK",IF(Saisie!N6=data!$S$5,"OK",IF(Saisie!N6=data!$S$6,"OK",IF(Saisie!N6=data!$S$7,"OK",IF(Saisie!N6=data!$S$8,"OK",IF(Saisie!N6=data!$S$9,"OK",IF(Saisie!N6=data!$S$10,"OK",IF(Saisie!N6=data!$S$11,"OK",IF(Saisie!N6=data!$S$12,"OK",IF(Saisie!N6=data!$S$13,"OK",IF(Saisie!N6=data!$S$14,"OK",IF(Saisie!N6=data!$S$15,"OK",IF(Saisie!N6=data!$S$16,"OK",IF(Saisie!N6=data!$S$17,"OK",IF(Saisie!N6=data!$S$18,"OK",IF(Saisie!Q6<>"",IF(Saisie!P6<>"",IF(Saisie!R6<>"","OK","Incomplet"),"Incomplet"),"Incomplet")))))))))))))))))),"Incomplet"),"Incomplet")) -> OK | AJ6: =IF(S6="","OK",IF(Saisie!S6<>"",IF(Saisie!T6<>"",IF(Saisie!S6=data!$S$2,"OK",IF(Saisie!S6=data!$S$3,"OK",IF(Saisie!S6=data!$S$4,"OK",IF(Saisie!S6=data!$S$5,"OK",IF(Saisie!S6=data!$S$6,"OK",IF(Saisie!S6=data!$S$7,"OK",IF(Saisie!S6=data!$S$8,"OK",IF(Saisie!S6=data!$S$9,"OK",IF(Saisie!S6=data!$S$10,"OK",IF(Saisie!S6=data!$S$11,"OK",IF(Saisie!S6=data!$S$12,"OK",IF(Saisie!S6=data!$S$13,"OK",IF(Saisie!S6=data!$S$14,"OK",IF(Saisie!S6=data!$S$15,"OK",IF(Saisie!S6=data!$S$16,"OK",IF(Saisie!S6=data!$S$17,"OK",IF(Saisie!S6=data!$S$18,"OK",IF(Saisie!V6<>"",IF(Saisie!U6<>"",IF(Saisie!W6<>"","OK","Incomplet"),"Incomplet"),"Incomplet")))))))))))))))))),"Incomplet"),"Incomplet")) -> OK | AK6: =IF(X6="","OK",IF(Saisie!X6<>"",IF(Saisie!Y6<>"",IF(Saisie!X6=data!$S$2,"OK",IF(Saisie!X6=data!$S$3,"OK",IF(Saisie!X6=data!$S$4,"OK",IF(Saisie!X6=data!$S$5,"OK",IF(Saisie!X6=data!$S$6,"OK",IF(Saisie!X6=data!$S$7,"OK",IF(Saisie!X6=data!$S$8,"OK",IF(Saisie!X6=data!$S$9,"OK",IF(Saisie!X6=data!$S$10,"OK",IF(Saisie!X6=data!$S$11,"OK",IF(Saisie!X6=data!$S$12,"OK",IF(Saisie!X6=data!$S$13,"OK",IF(Saisie!X6=data!$S$14,"OK",IF(Saisie!X6=data!$S$15,"OK",IF(Saisie!X6=data!$S$16,"OK",IF(Saisie!X6=data!$S$17,"OK",IF(Saisie!X6=data!$S$18,"OK",IF(Saisie!AA6<>"",IF(Saisie!Z6<>"",IF(Saisie!AB6<>"","OK","Incomplet"),"Incomplet"),"Incomplet")))))))))))))))))),"Incomplet"),"Incomplet")) -> OK | AL6: =IF(AC6="","OK",IF(Saisie!AC6<>"",IF(Saisie!AD6<>"",IF(Saisie!AC6=data!$S$2,"OK",IF(Saisie!AC6=data!$S$3,"OK",IF(Saisie!AC6=data!$S$4,"OK",IF(Saisie!AC6=data!$S$5,"OK",IF(Saisie!AC6=data!$S$6,"OK",IF(Saisie!AC6=data!$S$7,"OK",IF(Saisie!AC6=data!$S$8,"OK",IF(Saisie!AC6=data!$S$9,"OK",IF(Saisie!AC6=data!$S$10,"OK",IF(Saisie!AC6=data!$S$11,"OK",IF(Saisie!AC6=data!$S$12,"OK",IF(Saisie!AC6=data!$S$13,"OK",IF(Saisie!AC6=data!$S$14,"OK",IF(Saisie!AC6=data!$S$15,"OK",IF(Saisie!AC6=data!$S$16,"OK",IF(Saisie!AC6=data!$S$17,"OK",IF(Saisie!AC6=data!$S$18,"OK",IF(Saisie!AF6<>"",IF(Saisie!AE6<>"",IF(Saisie!AG6<>"","OK","Incomplet"),"Incomplet"),"Incomplet")))))))))))))))))),"Incomplet"),"Incomplet")) -> OK
A7: =A6+1 -> 43802 | B7: =IF(G7<>"",IF(Frais!C8<>"",IF(Frais!C8=data!$U$2,IF(Saisie!C7<>"",IF(Saisie!C7=data!$U$2,"OUI","NON"),"NON"),"NON"),"NON"),"") | C7: =IF(E7<>"",IF(AH7=data!$T$3,IF(AI7=data!$T$3,IF(AJ7=data!$T$3,IF(AK7=data!$T$3,IF(AL7=data!$T$3,"OUI","Incomplet"),"Incomplet"),"Incomplet"),"Incomplet"),"Incomplet"),"Incomplet") -> Incomplet | D7: =(H7-G7)-IF(E7<>"",IF(E7=data!$T$4,(Frais!F8-Frais!E8),IF((H7-G7)>=data!$P$9,data!$P$11,0))) -> 0 | F7: =H7-G7 -> 0 | AH7: =IF(Saisie!I7<>"",IF(Saisie!J7<>"",IF(Saisie!I7=data!$S$2,"OK",IF(Saisie!I7=data!$S$3,"OK",IF(Saisie!I7=data!$S$4,"OK",IF(Saisie!I7=data!$S$5,"OK",IF(Saisie!I7=data!$S$6,"OK",IF(Saisie!I7=data!$S$7,"OK",IF(Saisie!I7=data!$S$8,"OK",IF(Saisie!I7=data!$S$9,"OK",IF(Saisie!I7=data!$S$10,"OK",IF(Saisie!I7=data!$S$11,"OK",IF(Saisie!I7=data!$S$12,"OK",IF(Saisie!I7=data!$S$13,"OK",IF(Saisie!I7=data!$S$14,"OK",IF(Saisie!I7=data!$S$15,"OK",IF(Saisie!I7=data!$S$16,"OK",IF(Saisie!I7=data!$S$17,"OK",IF(Saisie!I7=data!$S$18,"OK",IF(Saisie!L7<>"",IF(Saisie!K7<>"",IF(Saisie!M7<>"","OK","Incomplet"),"Incomplet"),"Incomplet")))))))))))))))))),"Incomplet"),"Incomplet") -> Incomplet | AI7: =IF(N7="","OK",IF(Saisie!N7<>"",IF(Saisie!O7<>"",IF(Saisie!N7=data!$S$2,"OK",IF(Saisie!N7=data!$S$3,"OK",IF(Saisie!N7=data!$S$4,"OK",IF(Saisie!N7=data!$S$5,"OK",IF(Saisie!N7=data!$S$6,"OK",IF(Saisie!N7=data!$S$7,"OK",IF(Saisie!N7=data!$S$8,"OK",IF(Saisie!N7=data!$S$9,"OK",IF(Saisie!N7=data!$S$10,"OK",IF(Saisie!N7=data!$S$11,"OK",IF(Saisie!N7=data!$S$12,"OK",IF(Saisie!N7=data!$S$13,"OK",IF(Saisie!N7=data!$S$14,"OK",IF(Saisie!N7=data!$S$15,"OK",IF(Saisie!N7=data!$S$16,"OK",IF(Saisie!N7=data!$S$17,"OK",IF(Saisie!N7=data!$S$18,"OK",IF(Saisie!Q7<>"",IF(Saisie!P7<>"",IF(Saisie!R7<>"","OK","Incomplet"),"Incomplet"),"Incomplet")))))))))))))))))),"Incomplet"),"Incomplet")) -> OK | AJ7: =IF(S7="","OK",IF(Saisie!S7<>"",IF(Saisie!T7<>"",IF(Saisie!S7=data!$S$2,"OK",IF(Saisie!S7=data!$S$3,"OK",IF(Saisie!S7=data!$S$4,"OK",IF(Saisie!S7=data!$S$5,"OK",IF(Saisie!S7=data!$S$6,"OK",IF(Saisie!S7=data!$S$7,"OK",IF(Saisie!S7=data!$S$8,"OK",IF(Saisie!S7=data!$S$9,"OK",IF(Saisie!S7=data!$S$10,"OK",IF(Saisie!S7=data!$S$11,"OK",IF(Saisie!S7=data!$S$12,"OK",IF(Saisie!S7=data!$S$13,"OK",IF(Saisie!S7=data!$S$14,"OK",IF(Saisie!S7=data!$S$15,"OK",IF(Saisie!S7=data!$S$16,"OK",IF(Saisie!S7=data!$S$17,"OK",IF(Saisie!S7=data!$S$18,"OK",IF(Saisie!V7<>"",IF(Saisie!U7<>"",IF(Saisie!W7<>"","OK","Incomplet"),"Incomplet"),"Incomplet")))))))))))))))))),"Incomplet"),"Incomplet")) -> OK | AK7: =IF(X7="","OK",IF(Saisie!X7<>"",IF(Saisie!Y7<>"",IF(Saisie!X7=data!$S$2,"OK",IF(Saisie!X7=data!$S$3,"OK",IF(Saisie!X7=data!$S$4,"OK",IF(Saisie!X7=data!$S$5,"OK",IF(Saisie!X7=data!$S$6,"OK",IF(Saisie!X7=data!$S$7,"OK",IF(Saisie!X7=data!$S$8,"OK",IF(Saisie!X7=data!$S$9,"OK",IF(Saisie!X7=data!$S$10,"OK",IF(Saisie!X7=data!$S$11,"OK",IF(Saisie!X7=data!$S$12,"OK",IF(Saisie!X7=data!$S$13,"OK",IF(Saisie!X7=data!$S$14,"OK",IF(Saisie!X7=data!$S$15,"OK",IF(Saisie!X7=data!$S$16,"OK",IF(Saisie!X7=data!$S$17,"OK",IF(Saisie!X7=data!$S$18,"OK",IF(Saisie!AA7<>"",IF(Saisie!Z7<>"",IF(Saisie!AB7<>"","OK","Incomplet"),"Incomplet"),"Incomplet")))))))))))))))))),"Incomplet"),"Incomplet")) -> OK | AL7: =IF(AC7="","OK",IF(Saisie!AC7<>"",IF(Saisie!AD7<>"",IF(Saisie!AC7=data!$S$2,"OK",IF(Saisie!AC7=data!$S$3,"OK",IF(Saisie!AC7=data!$S$4,"OK",IF(Saisie!AC7=data!$S$5,"OK",IF(Saisie!AC7=data!$S$6,"OK",IF(Saisie!AC7=data!$S$7,"OK",IF(Saisie!AC7=data!$S$8,"OK",IF(Saisie!AC7=data!$S$9,"OK",IF(Saisie!AC7=data!$S$10,"OK",IF(Saisie!AC7=data!$S$11,"OK",IF(Saisie!AC7=data!$S$12,"OK",IF(Saisie!AC7=data!$S$13,"OK",IF(Saisie!AC7=data!$S$14,"OK",IF(Saisie!AC7=data!$S$15,"OK",IF(Saisie!AC7=data!$S$16,"OK",IF(Saisie!AC7=data!$S$17,"OK",IF(Saisie!AC7=data!$S$18,"OK",IF(Saisie!AF7<>"",IF(Saisie!AE7<>"",IF(Saisie!AG7<>"","OK","Incomplet"),"Incomplet"),"Incomplet")))))))))))))))))),"Incomplet"),"Incomplet")) -> OK
A8: =A7+1 -> 43803 | B8: =IF(G8<>"",IF(Frais!C9<>"",IF(Frais!C9=data!$U$2,IF(Saisie!C8<>"",IF(Saisie!C8=data!$U$2,"OUI","NON"),"NON"),"NON"),"NON"),"") | C8: =IF(E8<>"",IF(AH8=data!$T$3,IF(AI8=data!$T$3,IF(AJ8=data!$T$3,IF(AK8=data!$T$3,IF(AL8=data!$T$3,"OUI","Incomplet"),"Incomplet"),"Incomplet"),"Incomplet"),"Incomplet"),"Incomplet") -> Incomplet | D8: =(H8-G8)-IF(E8<>"",IF(E8=data!$T$4,(Frais!F9-Frais!E9),IF((H8-G8)>=data!$P$9,data!$P$11,0))) -> 0 | F8: =H8-G8 -> 0 | AH8: =IF(Saisie!I8<>"",IF(Saisie!J8<>"",IF(Saisie!I8=data!$S$2,"OK",IF(Saisie!I8=data!$S$3,"OK",IF(Saisie!I8=data!$S$4,"OK",IF(Saisie!I8=data!$S$5,"OK",IF(Saisie!I8=data!$S$6,"OK",IF(Saisie!I8=data!$S$7,"OK",IF(Saisie!I8=data!$S$8,"OK",IF(Saisie!I8=data!$S$9,"OK",IF(Saisie!I8=data!$S$10,"OK",IF(Saisie!I8=data!$S$11,"OK",IF(Saisie!I8=data!$S$12,"OK",IF(Saisie!I8=data!$S$13,"OK",IF(Saisie!I8=data!$S$14,"OK",IF(Saisie!I8=data!$S$15,"OK",IF(Saisie!I8=data!$S$16,"OK",IF(Saisie!I8=data!$S$17,"OK",IF(Saisie!I8=data!$S$18,"OK",IF(Saisie!L8<>"",IF(Saisie!K8<>"",IF(Saisie!M8<>"","OK","Incomplet"),"Incomplet"),"Incomplet")))))))))))))))))),"Incomplet"),"Incomplet") -> Incomplet | AI8: =IF(N8="","OK",IF(Saisie!N8<>"",IF(Saisie!O8<>"",IF(Saisie!N8=data!$S$2,"OK",IF(Saisie!N8=data!$S$3,"OK",IF(Saisie!N8=data!$S$4,"OK",IF(Saisie!N8=data!$S$5,"OK",IF(Saisie!N8=data!$S$6,"OK",IF(Saisie!N8=data!$S$7,"OK",IF(Saisie!N8=data!$S$8,"OK",IF(Saisie!N8=data!$S$9,"OK",IF(Saisie!N8=data!$S$10,"OK",IF(Saisie!N8=data!$S$11,"OK",IF(Saisie!N8=data!$S$12,"OK",IF(Saisie!N8=data!$S$13,"OK",IF(Saisie!N8=data!$S$14,"OK",IF(Saisie!N8=data!$S$15,"OK",IF(Saisie!N8=data!$S$16,"OK",IF(Saisie!N8=data!$S$17,"OK",IF(Saisie!N8=data!$S$18,"OK",IF(Saisie!Q8<>"",IF(Saisie!P8<>"",IF(Saisie!R8<>"","OK","Incomplet"),"Incomplet"),"Incomplet")))))))))))))))))),"Incomplet"),"Incomplet")) -> OK | AJ8: =IF(S8="","OK",IF(Saisie!S8<>"",IF(Saisie!T8<>"",IF(Saisie!S8=data!$S$2,"OK",IF(Saisie!S8=data!$S$3,"OK",IF(Saisie!S8=data!$S$4,"OK",IF(Saisie!S8=data!$S$5,"OK",IF(Saisie!S8=data!$S$6,"OK",IF(Saisie!S8=data!$S$7,"OK",IF(Saisie!S8=data!$S$8,"OK",IF(Saisie!S8=data!$S$9,"OK",IF(Saisie!S8=data!$S$10,"OK",IF(Saisie!S8=data!$S$11,"OK",IF(Saisie!S8=data!$S$12,"OK",IF(Saisie!S8=data!$S$13,"OK",IF(Saisie!S8=data!$S$14,"OK",IF(Saisie!S8=data!$S$15,"OK",IF(Saisie!S8=data!$S$16,"OK",IF(Saisie!S8=data!$S$17,"OK",IF(Saisie!S8=data!$S$18,"OK",IF(Saisie!V8<>"",IF(Saisie!U8<>"",IF(Saisie!W8<>"","OK","Incomplet"),"Incomplet"),"Incomplet")))))))))))))))))),"Incomplet"),"Incomplet")) -> OK | AK8: =IF(X8="","OK",IF(Saisie!X8<>"",IF(Saisie!Y8<>"",IF(Saisie!X8=data!$S$2,"OK",IF(Saisie!X8=data!$S$3,"OK",IF(Saisie!X8=data!$S$4,"OK",IF(Saisie!X8=data!$S$5,"OK",IF(Saisie!X8=data!$S$6,"OK",IF(Saisie!X8=data!$S$7,"OK",IF(Saisie!X8=data!$S$8,"OK",IF(Saisie!X8=data!$S$9,"OK",IF(Saisie!X8=data!$S$10,"OK",IF(Saisie!X8=data!$S$11,"OK",IF(Saisie!X8=data!$S$12,"OK",IF(Saisie!X8=data!$S$13,"OK",IF(Saisie!X8=data!$S$14,"OK",IF(Saisie!X8=data!$S$15,"OK",IF(Saisie!X8=data!$S$16,"OK",IF(Saisie!X8=data!$S$17,"OK",IF(Saisie!X8=data!$S$18,"OK",IF(Saisie!AA8<>"",IF(Saisie!Z8<>"",IF(Saisie!AB8<>"","OK","Incomplet"),"Incomplet"),"Incomplet")))))))))))))))))),"Incomplet"),"Incomplet")) -> OK | AL8: =IF(AC8="","OK",IF(Saisie!AC8<>"",IF(Saisie!AD8<>"",IF(Saisie!AC8=data!$S$2,"OK",IF(Saisie!AC8=data!$S$3,"OK",IF(Saisie!AC8=data!$S$4,"OK",IF(Saisie!AC8=data!$S$5,"OK",IF(Saisie!AC8=data!$S$6,"OK",IF(Saisie!AC8=data!$S$7,"OK",IF(Saisie!AC8=data!$S$8,"OK",IF(Saisie!AC8=data!$S$9,"OK",IF(Saisie!AC8=data!$S$10,"OK",IF(Saisie!AC8=data!$S$11,"OK",IF(Saisie!AC8=data!$S$12,"OK",IF(Saisie!AC8=data!$S$13,"OK",IF(Saisie!AC8=data!$S$14,"OK",IF(Saisie!AC8=data!$S$15,"OK",IF(Saisie!AC8=data!$S$16,"OK",IF(Saisie!AC8=data!$S$17,"OK",IF(Saisie!AC8=data!$S$18,"OK",IF(Saisie!AF8<>"",IF(Saisie!AE8<>"",IF(Saisie!AG8<>"","OK","Incomplet"),"Incomplet"),"Incomplet")))))))))))))))))),"Incomplet"),"Incomplet")) -> OK
A9: =A8+1 -> 43804 | B9: =IF(G9<>"",IF(Frais!C10<>"",IF(Frais!C10=data!$U$2,IF(Saisie!C9<>"",IF(Saisie!C9=data!$U$2,"OUI","NON"),"NON"),"NON"),"NON"),"") | C9: =IF(E9<>"",IF(AH9=data!$T$3,IF(AI9=data!$T$3,IF(AJ9=data!$T$3,IF(AK9=data!$T$3,IF(AL9=data!$T$3,"OUI","Incomplet"),"Incomplet"),"Incomplet"),"Incomplet"),"Incomplet"),"Incomplet") -> Incomplet | D9: =(H9-G9)-IF(E9<>"",IF(E9=data!$T$4,(Frais!F10-Frais!E10),IF((H9-G9)>=data!$P$9,data!$P$11,0))) -> 0 | F9: =H9-G9 -> 0 | AH9: =IF(Saisie!I9<>"",IF(Saisie!J9<>"",IF(Saisie!I9=data!$S$2,"OK",IF(Saisie!I9=data!$S$3,"OK",IF(Saisie!I9=data!$S$4,"OK",IF(Saisie!I9=data!$S$5,"OK",IF(Saisie!I9=data!$S$6,"OK",IF(Saisie!I9=data!$S$7,"OK",IF(Saisie!I9=data!$S$8,"OK",IF(Saisie!I9=data!$S$9,"OK",IF(Saisie!I9=data!$S$10,"OK",IF(Saisie!I9=data!$S$11,"OK",IF(Saisie!I9=data!$S$12,"OK",IF(Saisie!I9=data!$S$13,"OK",IF(Saisie!I9=data!$S$14,"OK",IF(Saisie!I9=data!$S$15,"OK",IF(Saisie!I9=data!$S$16,"OK",IF(Saisie!I9=data!$S$17,"OK",IF(Saisie!I9=data!$S$18,"OK",IF(Saisie!L9<>"",IF(Saisie!K9<>"",IF(Saisie!M9<>"","OK","Incomplet"),"Incomplet"),"Incomplet")))))))))))))))))),"Incomplet"),"Incomplet") -> Incomplet | AI9: =IF(N9="","OK",IF(Saisie!N9<>"",IF(Saisie!O9<>"",IF(Saisie!N9=data!$S$2,"OK",IF(Saisie!N9=data!$S$3,"OK",IF(Saisie!N9=data!$S$4,"OK",IF(Saisie!N9=data!$S$5,"OK",IF(Saisie!N9=data!$S$6,"OK",IF(Saisie!N9=data!$S$7,"OK",IF(Saisie!N9=data!$S$8,"OK",IF(Saisie!N9=data!$S$9,"OK",IF(Saisie!N9=data!$S$10,"OK",IF(Saisie!N9=data!$S$11,"OK",IF(Saisie!N9=data!$S$12,"OK",IF(Saisie!N9=data!$S$13,"OK",IF(Saisie!N9=data!$S$14,"OK",IF(Saisie!N9=data!$S$15,"OK",IF(Saisie!N9=data!$S$16,"OK",IF(Saisie!N9=data!$S$17,"OK",IF(Saisie!N9=data!$S$18,"OK",IF(Saisie!Q9<>"",IF(Saisie!P9<>"",IF(Saisie!R9<>"","OK","Incomplet"),"Incomplet"),"Incomplet")))))))))))))))))),"Incomplet"),"Incomplet")) -> OK | AJ9: =IF(S9="","OK",IF(Saisie!S9<>"",IF(Saisie!T9<>"",IF(Saisie!S9=data!$S$2,"OK",IF(Saisie!S9=data!$S$3,"OK",IF(Saisie!S9=data!$S$4,"OK",IF(Saisie!S9=data!$S$5,"OK",IF(Saisie!S9=data!$S$6,"OK",IF(Saisie!S9=data!$S$7,"OK",IF(Saisie!S9=data!$S$8,"OK",IF(Saisie!S9=data!$S$9,"OK",IF(Saisie!S9=data!$S$10,"OK",IF(Saisie!S9=data!$S$11,"OK",IF(Saisie!S9=data!$S$12,"OK",IF(Saisie!S9=data!$S$13,"OK",IF(Saisie!S9=data!$S$14,"OK",IF(Saisie!S9=data!$S$15,"OK",IF(Saisie!S9=data!$S$16,"OK",IF(Saisie!S9=data!$S$17,"OK",IF(Saisie!S9=data!$S$18,"OK",IF(Saisie!V9<>"",IF(Saisie!U9<>"",IF(Saisie!W9<>"","OK","Incomplet"),"Incomplet"),"Incomplet")))))))))))))))))),"Incomplet"),"Incomplet")) -> OK | AK9: =IF(X9="","OK",IF(Saisie!X9<>"",IF(Saisie!Y9<>"",IF(Saisie!X9=data!$S$2,"OK",IF(Saisie!X9=data!$S$3,"OK",IF(Saisie!X9=data!$S$4,"OK",IF(Saisie!X9=data!$S$5,"OK",IF(Saisie!X9=data!$S$6,"OK",IF(Saisie!X9=data!$S$7,"OK",IF(Saisie!X9=data!$S$8,"OK",IF(Saisie!X9=data!$S$9,"OK",IF(Saisie!X9=data!$S$10,"OK",IF(Saisie!X9=data!$S$11,"OK",IF(Saisie!X9=data!$S$12,"OK",IF(Saisie!X9=data!$S$13,"OK",IF(Saisie!X9=data!$S$14,"OK",IF(Saisie!X9=data!$S$15,"OK",IF(Saisie!X9=data!$S$16,"OK",IF(Saisie!X9=data!$S$17,"OK",IF(Saisie!X9=data!$S$18,"OK",IF(Saisie!AA9<>"",IF(Saisie!Z9<>"",IF(Saisie!AB9<>"","OK","Incomplet"),"Incomplet"),"Incomplet")))))))))))))))))),"Incomplet"),"Incomplet")) -> OK | AL9: =IF(AC9="","OK",IF(Saisie!AC9<>"",IF(Saisie!AD9<>"",IF(Saisie!AC9=data!$S$2,"OK",IF(Saisie!AC9=data!$S$3,"OK",IF(Saisie!AC9=data!$S$4,"OK",IF(Saisie!AC9=data!$S$5,"OK",IF(Saisie!AC9=data!$S$6,"OK",IF(Saisie!AC9=data!$S$7,"OK",IF(Saisie!AC9=data!$S$8,"OK",IF(Saisie!AC9=data!$S$9,"OK",IF(Saisie!AC9=data!$S$10,"OK",IF(Saisie!AC9=data!$S$11,"OK",IF(Saisie!AC9=data!$S$12,"OK",IF(Saisie!AC9=data!$S$13,"OK",IF(Saisie!AC9=data!$S$14,"OK",IF(Saisie!AC9=data!$S$15,"OK",IF(Saisie!AC9=data!$S$16,"OK",IF(Saisie!AC9=data!$S$17,"OK",IF(Saisie!AC9=data!$S$18,"OK",IF(Saisie!AF9<>"",IF(Saisie!AE9<>"",IF(Saisie!AG9<>"","OK","Incomplet"),"Incomplet"),"Incomplet")))))))))))))))))),"Incomplet"),"Incomplet")) -> OK
A10: =A9+1 -> 43805 | B10: =IF(G10<>"",IF(Frais!C11<>"",IF(Frais!C11=data!$U$2,IF(Saisie!C10<>"",IF(Saisie!C10=data!$U$2,"OUI","NON"),"NON"),"NON"),"NON"),"") | C10: =IF(E10<>"",IF(AH10=data!$T$3,IF(AI10=data!$T$3,IF(AJ10=data!$T$3,IF(AK10=data!$T$3,IF(AL10=data!$T$3,"OUI","Incomplet"),"Incomplet"),"Incomplet"),"Incomplet"),"Incomplet"),"Incomplet") -> Incomplet | D10: =(H10-G10)-IF(E10<>"",IF(E10=data!$T$4,(Frais!F11-Frais!E11),IF((H10-G10)>=data!$P$9,data!$P$11,0))) -> 0 | F10: =H10-G10 -> 0 | AH10: =IF(Saisie!I10<>"",IF(Saisie!J10<>"",IF(Saisie!I10=data!$S$2,"OK",IF(Saisie!I10=data!$S$3,"OK",IF(Saisie!I10=data!$S$4,"OK",IF(Saisie!I10=data!$S$5,"OK",IF(Saisie!I10=data!$S$6,"OK",IF(Saisie!I10=data!$S$7,"OK",IF(Saisie!I10=data!$S$8,"OK",IF(Saisie!I10=data!$S$9,"OK",IF(Saisie!I10=data!$S$10,"OK",IF(Saisie!I10=data!$S$11,"OK",IF(Saisie!I10=data!$S$12,"OK",IF(Saisie!I10=data!$S$13,"OK",IF(Saisie!I10=data!$S$14,"OK",IF(Saisie!I10=data!$S$15,"OK",IF(Saisie!I10=data!$S$16,"OK",IF(Saisie!I10=data!$S$17,"OK",IF(Saisie!I10=data!$S$18,"OK",IF(Saisie!L10<>"",IF(Saisie!K10<>"",IF(Saisie!M10<>"","OK","Incomplet"),"Incomplet"),"Incomplet")))))))))))))))))),"Incomplet"),"Incomplet") -> Incomplet | AI10: =IF(N10="","OK",IF(Saisie!N10<>"",IF(Saisie!O10<>"",IF(Saisie!N10=data!$S$2,"OK",IF(Saisie!N10=data!$S$3,"OK",IF(Saisie!N10=data!$S$4,"OK",IF(Saisie!N10=data!$S$5,"OK",IF(Saisie!N10=data!$S$6,"OK",IF(Saisie!N10=data!$S$7,"OK",IF(Saisie!N10=data!$S$8,"OK",IF(Saisie!N10=data!$S$9,"OK",IF(Saisie!N10=data!$S$10,"OK",IF(Saisie!N10=data!$S$11,"OK",IF(Saisie!N10=data!$S$12,"OK",IF(Saisie!N10=data!$S$13,"OK",IF(Saisie!N10=data!$S$14,"OK",IF(Saisie!N10=data!$S$15,"OK",IF(Saisie!N10=data!$S$16,"OK",IF(Saisie!N10=data!$S$17,"OK",IF(Saisie!N10=data!$S$18,"OK",IF(Saisie!Q10<>"",IF(Saisie!P10<>"",IF(Saisie!R10<>"","OK","Incomplet"),"Incomplet"),"Incomplet")))))))))))))))))),"Incomplet"),"Incomplet")) -> OK | AJ10: =IF(S10="","OK",IF(Saisie!S10<>"",IF(Saisie!T10<>"",IF(Saisie!S10=data!$S$2,"OK",IF(Saisie!S10=data!$S$3,"OK",IF(Saisie!S10=data!$S$4,"OK",IF(Saisie!S10=data!$S$5,"OK",IF(Saisie!S10=data!$S$6,"OK",IF(Saisie!S10=data!$S$7,"OK",IF(Saisie!S10=data!$S$8,"OK",IF(Saisie!S10=data!$S$9,"OK",IF(Saisie!S10=data!$S$10,"OK",IF(Saisie!S10=data!$S$11,"OK",IF(Saisie!S10=data!$S$12,"OK",IF(Saisie!S10=data!$S$13,"OK",IF(Saisie!S10=data!$S$14,"OK",IF(Saisie!S10=data!$S$15,"OK",IF(Saisie!S10=data!$S$16,"OK",IF(Saisie!S10=data!$S$17,"OK",IF(Saisie!S10=data!$S$18,"OK",IF(Saisie!V10<>"",IF(Saisie!U10<>"",IF(Saisie!W10<>"","OK","Incomplet"),"Incomplet"),"Incomplet")))))))))))))))))),"Incomplet"),"Incomplet")) -> OK | AK10: =IF(X10="","OK",IF(Saisie!X10<>"",IF(Saisie!Y10<>"",IF(Saisie!X10=data!$S$2,"OK",IF(Saisie!X10=data!$S$3,"OK",IF(Saisie!X10=data!$S$4,"OK",IF(Saisie!X10=data!$S$5,"OK",IF(Saisie!X10=data!$S$6,"OK",IF(Saisie!X10=data!$S$7,"OK",IF(Saisie!X10=data!$S$8,"OK",IF(Saisie!X10=data!$S$9,"OK",IF(Saisie!X10=data!$S$10,"OK",IF(Saisie!X10=data!$S$11,"OK",IF(Saisie!X10=data!$S$12,"OK",IF(Saisie!X10=data!$S$13,"OK",IF(Saisie!X10=data!$S$14,"OK",IF(Saisie!X10=data!$S$15,"OK",IF(Saisie!X10=data!$S$16,"OK",IF(Saisie!X10=data!$S$17,"OK",IF(Saisie!X10=data!$S$18,"OK",IF(Saisie!AA10<>"",IF(Saisie!Z10<>"",IF(Saisie!AB10<>"","OK","Incomplet"),"Incomplet"),"Incomplet")))))))))))))))))),"Incomplet"),"Incomplet")) -> OK | AL10: =IF(AC10="","OK",IF(Saisie!AC10<>"",IF(Saisie!AD10<>"",IF(Saisie!AC10=data!$S$2,"OK",IF(Saisie!AC10=data!$S$3,"OK",IF(Saisie!AC10=data!$S$4,"OK",IF(Saisie!AC10=data!$S$5,"OK",IF(Saisie!AC10=data!$S$6,"OK",IF(Saisie!AC10=data!$S$7,"OK",IF(Saisie!AC10=data!$S$8,"OK",IF(Saisie!AC10=data!$S$9,"OK",IF(Saisie!AC10=data!$S$10,"OK",IF(Saisie!AC10=data!$S$11,"OK",IF(Saisie!AC10=data!$S$12,"OK",IF(Saisie!AC10=data!$S$13,"OK",IF(Saisie!AC10=data!$S$14,"OK",IF(Saisie!AC10=data!$S$15,"OK",IF(Saisie!AC10=data!$S$16,"OK",IF(Saisie!AC10=data!$S$17,"OK",IF(Saisie!AC10=data!$S$18,"OK",IF(Saisie!AF10<>"",IF(Saisie!AE10<>"",IF(Saisie!AG10<>"","OK","Incomplet"),"Incomplet"),"Incomplet")))))))))))))))))),"Incomplet"),"Incomplet")) -> OK
A11: =A10+1 -> 43806 | B11: =IF(G11<>"",IF(Frais!C12<>"",IF(Frais!C12=data!$U$2,IF(Saisie!C11<>"",IF(Saisie!C11=data!$U$2,"OUI","NON"),"NON"),"NON"),"NON"),"") | C11: =IF(E11<>"",IF(AH11=data!$T$3,IF(AI11=data!$T$3,IF(AJ11=data!$T$3,IF(AK11=data!$T$3,IF(AL11=data!$T$3,"OUI","Incomplet"),"Incomplet"),"Incomplet"),"Incomplet"),"Incomplet"),"Incomplet") -> Incomplet | D11: =(H11-G11)-IF(E11<>"",IF(E11=data!$T$4,(Frais!F12-Frais!E12),IF((H11-G11)>=data!$P$9,data!$P$11,0))) -> 0 | F11: =H11-G11 -> 0 | AH11: =IF(Saisie!I11<>"",IF(Saisie!J11<>"",IF(Saisie!I11=data!$S$2,"OK",IF(Saisie!I11=data!$S$3,"OK",IF(Saisie!I11=data!$S$4,"OK",IF(Saisie!I11=data!$S$5,"OK",IF(Saisie!I11=data!$S$6,"OK",IF(Saisie!I11=data!$S$7,"OK",IF(Saisie!I11=data!$S$8,"OK",IF(Saisie!I11=data!$S$9,"OK",IF(Saisie!I11=data!$S$10,"OK",IF(Saisie!I11=data!$S$11,"OK",IF(Saisie!I11=data!$S$12,"OK",IF(Saisie!I11=data!$S$13,"OK",IF(Saisie!I11=data!$S$14,"OK",IF(Saisie!I11=data!$S$15,"OK",IF(Saisie!I11=data!$S$16,"OK",IF(Saisie!I11=data!$S$17,"OK",IF(Saisie!I11=data!$S$18,"OK",IF(Saisie!L11<>"",IF(Saisie!K11<>"",IF(Saisie!M11<>"","OK","Incomplet"),"Incomplet"),"Incomplet")))))))))))))))))),"Incomplet"),"Incomplet") -> Incomplet | AI11: =IF(N11="","OK",IF(Saisie!N11<>"",IF(Saisie!O11<>"",IF(Saisie!N11=data!$S$2,"OK",IF(Saisie!N11=data!$S$3,"OK",IF(Saisie!N11=data!$S$4,"OK",IF(Saisie!N11=data!$S$5,"OK",IF(Saisie!N11=data!$S$6,"OK",IF(Saisie!N11=data!$S$7,"OK",IF(Saisie!N11=data!$S$8,"OK",IF(Saisie!N11=data!$S$9,"OK",IF(Saisie!N11=data!$S$10,"OK",IF(Saisie!N11=data!$S$11,"OK",IF(Saisie!N11=data!$S$12,"OK",IF(Saisie!N11=data!$S$13,"OK",IF(Saisie!N11=data!$S$14,"OK",IF(Saisie!N11=data!$S$15,"OK",IF(Saisie!N11=data!$S$16,"OK",IF(Saisie!N11=data!$S$17,"OK",IF(Saisie!N11=data!$S$18,"OK",IF(Saisie!Q11<>"",IF(Saisie!P11<>"",IF(Saisie!R11<>"","OK","Incomplet"),"Incomplet"),"Incomplet")))))))))))))))))),"Incomplet"),"Incomplet")) -> OK | AJ11: =IF(S11="","OK",IF(Saisie!S11<>"",IF(Saisie!T11<>"",IF(Saisie!S11=data!$S$2,"OK",IF(Saisie!S11=data!$S$3,"OK",IF(Saisie!S11=data!$S$4,"OK",IF(Saisie!S11=data!$S$5,"OK",IF(Saisie!S11=data!$S$6,"OK",IF(Saisie!S11=data!$S$7,"OK",IF(Saisie!S11=data!$S$8,"OK",IF(Saisie!S11=data!$S$9,"OK",IF(Saisie!S11=data!$S$10,"OK",IF(Saisie!S11=data!$S$11,"OK",IF(Saisie!S11=data!$S$12,"OK",IF(Saisie!S11=data!$S$13,"OK",IF(Saisie!S11=data!$S$14,"OK",IF(Saisie!S11=data!$S$15,"OK",IF(Saisie!S11=data!$S$16,"OK",IF(Saisie!S11=data!$S$17,"OK",IF(Saisie!S11=data!$S$18,"OK",IF(Saisie!V11<>"",IF(Saisie!U11<>"",IF(Saisie!W11<>"","OK","Incomplet"),"Incomplet"),"Incomplet")))))))))))))))))),"Incomplet"),"Incomplet")) -> OK | AK11: =IF(X11="","OK",IF(Saisie!X11<>"",IF(Saisie!Y11<>"",IF(Saisie!X11=data!$S$2,"OK",IF(Saisie!X11=data!$S$3,"OK",IF(Saisie!X11=data!$S$4,"OK",IF(Saisie!X11=data!$S$5,"OK",IF(Saisie!X11=data!$S$6,"OK",IF(Saisie!X11=data!$S$7,"OK",IF(Saisie!X11=data!$S$8,"OK",IF(Saisie!X11=data!$S$9,"OK",IF(Saisie!X11=data!$S$10,"OK",IF(Saisie!X11=data!$S$11,"OK",IF(Saisie!X11=data!$S$12,"OK",IF(Saisie!X11=data!$S$13,"OK",IF(Saisie!X11=data!$S$14,"OK",IF(Saisie!X11=data!$S$15,"OK",IF(Saisie!X11=data!$S$16,"OK",IF(Saisie!X11=data!$S$17,"OK",IF(Saisie!X11=data!$S$18,"OK",IF(Saisie!AA11<>"",IF(Saisie!Z11<>"",IF(Saisie!AB11<>"","OK","Incomplet"),"Incomplet"),"Incomplet")))))))))))))))))),"Incomplet"),"Incomplet")) -> OK | AL11: =IF(AC11="","OK",IF(Saisie!AC11<>"",IF(Saisie!AD11<>"",IF(Saisie!AC11=data!$S$2,"OK",IF(Saisie!AC11=data!$S$3,"OK",IF(Saisie!AC11=data!$S$4,"OK",IF(Saisie!AC11=data!$S$5,"OK",IF(Saisie!AC11=data!$S$6,"OK",IF(Saisie!AC11=data!$S$7,"OK",IF(Saisie!AC11=data!$S$8,"OK",IF(Saisie!AC11=data!$S$9,"OK",IF(Saisie!AC11=data!$S$10,"OK",IF(Saisie!AC11=data!$S$11,"OK",IF(Saisie!AC11=data!$S$12,"OK",IF(Saisie!AC11=data!$S$13,"OK",IF(Saisie!AC11=data!$S$14,"OK",IF(Saisie!AC11=data!$S$15,"OK",IF(Saisie!AC11=data!$S$16,"OK",IF(Saisie!AC11=data!$S$17,"OK",IF(Saisie!AC11=data!$S$18,"OK",IF(Saisie!AF11<>"",IF(Saisie!AE11<>"",IF(Saisie!AG11<>"","OK","Incomplet"),"Incomplet"),"Incomplet")))))))))))))))))),"Incomplet"),"Incomplet")) -> OK
A12: =A11+1 -> 43807 | B12: =IF(G12<>"",IF(Frais!C13<>"",IF(Frais!C13=data!$U$2,IF(Saisie!C12<>"",IF(Saisie!C12=data!$U$2,"OUI","NON"),"NON"),"NON"),"NON"),"") | C12: =IF(E12<>"",IF(AH12=data!$T$3,IF(AI12=data!$T$3,IF(AJ12=data!$T$3,IF(AK12=data!$T$3,IF(AL12=data!$T$3,"OUI","Incomplet"),"Incomplet"),"Incomplet"),"Incomplet"),"Incomplet"),"Incomplet") -> Incomplet | D12: =(H12-G12)-IF(E12<>"",IF(E12=data!$T$4,(Frais!F13-Frais!E13),IF((H12-G12)>=data!$P$9,data!$P$11,0))) -> 0 | F12: =H12-G12 -> 0 | AH12: =IF(Saisie!I12<>"",IF(Saisie!J12<>"",IF(Saisie!I12=data!$S$2,"OK",IF(Saisie!I12=data!$S$3,"OK",IF(Saisie!I12=data!$S$4,"OK",IF(Saisie!I12=data!$S$5,"OK",IF(Saisie!I12=data!$S$6,"OK",IF(Saisie!I12=data!$S$7,"OK",IF(Saisie!I12=data!$S$8,"OK",IF(Saisie!I12=data!$S$9,"OK",IF(Saisie!I12=data!$S$10,"OK",IF(Saisie!I12=data!$S$11,"OK",IF(Saisie!I12=data!$S$12,"OK",IF(Saisie!I12=data!$S$13,"OK",IF(Saisie!I12=data!$S$14,"OK",IF(Saisie!I12=data!$S$15,"OK",IF(Saisie!I12=data!$S$16,"OK",IF(Saisie!I12=data!$S$17,"OK",IF(Saisie!I12=data!$S$18,"OK",IF(Saisie!L12<>"",IF(Saisie!K12<>"",IF(Saisie!M12<>"","OK","Incomplet"),"Incomplet"),"Incomplet")))))))))))))))))),"Incomplet"),"Incomplet") -> Incomplet | AI12: =IF(N12="","OK",IF(Saisie!N12<>"",IF(Saisie!O12<>"",IF(Saisie!N12=data!$S$2,"OK",IF(Saisie!N12=data!$S$3,"OK",IF(Saisie!N12=data!$S$4,"OK",IF(Saisie!N12=data!$S$5,"OK",IF(Saisie!N12=data!$S$6,"OK",IF(Saisie!N12=data!$S$7,"OK",IF(Saisie!N12=data!$S$8,"OK",IF(Saisie!N12=data!$S$9,"OK",IF(Saisie!N12=data!$S$10,"OK",IF(Saisie!N12=data!$S$11,"OK",IF(Saisie!N12=data!$S$12,"OK",IF(Saisie!N12=data!$S$13,"OK",IF(Saisie!N12=data!$S$14,"OK",IF(Saisie!N12=data!$S$15,"OK",IF(Saisie!N12=data!$S$16,"OK",IF(Saisie!N12=data!$S$17,"OK",IF(Saisie!N12=data!$S$18,"OK",IF(Saisie!Q12<>"",IF(Saisie!P12<>"",IF(Saisie!R12<>"","OK","Incomplet"),"Incomplet"),"Incomplet")))))))))))))))))),"Incomplet"),"Incomplet")) -> OK | AJ12: =IF(S12="","OK",IF(Saisie!S12<>"",IF(Saisie!T12<>"",IF(Saisie!S12=data!$S$2,"OK",IF(Saisie!S12=data!$S$3,"OK",IF(Saisie!S12=data!$S$4,"OK",IF(Saisie!S12=data!$S$5,"OK",IF(Saisie!S12=data!$S$6,"OK",IF(Saisie!S12=data!$S$7,"OK",IF(Saisie!S12=data!$S$8,"OK",IF(Saisie!S12=data!$S$9,"OK",IF(Saisie!S12=data!$S$10,"OK",IF(Saisie!S12=data!$S$11,"OK",IF(Saisie!S12=data!$S$12,"OK",IF(Saisie!S12=data!$S$13,"OK",IF(Saisie!S12=data!$S$14,"OK",IF(Saisie!S12=data!$S$15,"OK",IF(Saisie!S12=data!$S$16,"OK",IF(Saisie!S12=data!$S$17,"OK",IF(Saisie!S12=data!$S$18,"OK",IF(Saisie!V12<>"",IF(Saisie!U12<>"",IF(Saisie!W12<>"","OK","Incomplet"),"Incomplet"),"Incomplet")))))))))))))))))),"Incomplet"),"Incomplet")) -> OK | AK12: =IF(X12="","OK",IF(Saisie!X12<>"",IF(Saisie!Y12<>"",IF(Saisie!X12=data!$S$2,"OK",IF(Saisie!X12=data!$S$3,"OK",IF(Saisie!X12=data!$S$4,"OK",IF(Saisie!X12=data!$S$5,"OK",IF(Saisie!X12=data!$S$6,"OK",IF(Saisie!X12=data!$S$7,"OK",IF(Saisie!X12=data!$S$8,"OK",IF(Saisie!X12=data!$S$9,"OK",IF(Saisie!X12=data!$S$10,"OK",IF(Saisie!X12=data!$S$11,"OK",IF(Saisie!X12=data!$S$12,"OK",IF(Saisie!X12=data!$S$13,"OK",IF(Saisie!X12=data!$S$14,"OK",IF(Saisie!X12=data!$S$15,"OK",IF(Saisie!X12=data!$S$16,"OK",IF(Saisie!X12=data!$S$17,"OK",IF(Saisie!X12=data!$S$18,"OK",IF(Saisie!AA12<>"",IF(Saisie!Z12<>"",IF(Saisie!AB12<>"","OK","Incomplet"),"Incomplet"),"Incomplet")))))))))))))))))),"Incomplet"),"Incomplet")) -> OK | AL12: =IF(AC12="","OK",IF(Saisie!AC12<>"",IF(Saisie!AD12<>"",IF(Saisie!AC12=data!$S$2,"OK",IF(Saisie!AC12=data!$S$3,"OK",IF(Saisie!AC12=data!$S$4,"OK",IF(Saisie!AC12=data!$S$5,"OK",IF(Saisie!AC12=data!$S$6,"OK",IF(Saisie!AC12=data!$S$7,"OK",IF(Saisie!AC12=data!$S$8,"OK",IF(Saisie!AC12=data!$S$9,"OK",IF(Saisie!AC12=data!$S$10,"OK",IF(Saisie!AC12=data!$S$11,"OK",IF(Saisie!AC12=data!$S$12,"OK",IF(Saisie!AC12=data!$S$13,"OK",IF(Saisie!AC12=data!$S$14,"OK",IF(Saisie!AC12=data!$S$15,"OK",IF(Saisie!AC12=data!$S$16,"OK",IF(Saisie!AC12=data!$S$17,"OK",IF(Saisie!AC12=data!$S$18,"OK",IF(Saisie!AF12<>"",IF(Saisie!AE12<>"",IF(Saisie!AG12<>"","OK","Incomplet"),"Incomplet"),"Incomplet")))))))))))))))))),"Incomplet"),"Incomplet")) -> OK
A13: =A12+1 -> 43808 | B13: =IF(G13<>"",IF(Frais!C14<>"",IF(Frais!C14=data!$U$2,IF(Saisie!C13<>"",IF(Saisie!C13=data!$U$2,"OUI","NON"),"NON"),"NON"),"NON"),"") | C13: =IF(E13<>"",IF(AH13=data!$T$3,IF(AI13=data!$T$3,IF(AJ13=data!$T$3,IF(AK13=data!$T$3,IF(AL13=data!$T$3,"OUI","Incomplet"),"Incomplet"),"Incomplet"),"Incomplet"),"Incomplet"),"Incomplet") -> Incomplet | D13: =(H13-G13)-IF(E13<>"",IF(E13=data!$T$4,(Frais!F14-Frais!E14),IF((H13-G13)>=data!$P$9,data!$P$11,0))) -> 0 | F13: =H13-G13 -> 0 | AH13: =IF(Saisie!I13<>"",IF(Saisie!J13<>"",IF(Saisie!I13=data!$S$2,"OK",IF(Saisie!I13=data!$S$3,"OK",IF(Saisie!I13=data!$S$4,"OK",IF(Saisie!I13=data!$S$5,"OK",IF(Saisie!I13=data!$S$6,"OK",IF(Saisie!I13=data!$S$7,"OK",IF(Saisie!I13=data!$S$8,"OK",IF(Saisie!I13=data!$S$9,"OK",IF(Saisie!I13=data!$S$10,"OK",IF(Saisie!I13=data!$S$11,"OK",IF(Saisie!I13=data!$S$12,"OK",IF(Saisie!I13=data!$S$13,"OK",IF(Saisie!I13=data!$S$14,"OK",IF(Saisie!I13=data!$S$15,"OK",IF(Saisie!I13=data!$S$16,"OK",IF(Saisie!I13=data!$S$17,"OK",IF(Saisie!I13=data!$S$18,"OK",IF(Saisie!L13<>"",IF(Saisie!K13<>"",IF(Saisie!M13<>"","OK","Incomplet"),"Incomplet"),"Incomplet")))))))))))))))))),"Incomplet"),"Incomplet") -> Incomplet | AI13: =IF(N13="","OK",IF(Saisie!N13<>"",IF(Saisie!O13<>"",IF(Saisie!N13=data!$S$2,"OK",IF(Saisie!N13=data!$S$3,"OK",IF(Saisie!N13=data!$S$4,"OK",IF(Saisie!N13=data!$S$5,"OK",IF(Saisie!N13=data!$S$6,"OK",IF(Saisie!N13=data!$S$7,"OK",IF(Saisie!N13=data!$S$8,"OK",IF(Saisie!N13=data!$S$9,"OK",IF(Saisie!N13=data!$S$10,"OK",IF(Saisie!N13=data!$S$11,"OK",IF(Saisie!N13=data!$S$12,"OK",IF(Saisie!N13=data!$S$13,"OK",IF(Saisie!N13=data!$S$14,"OK",IF(Saisie!N13=data!$S$15,"OK",IF(Saisie!N13=data!$S$16,"OK",IF(Saisie!N13=data!$S$17,"OK",IF(Saisie!N13=data!$S$18,"OK",IF(Saisie!Q13<>"",IF(Saisie!P13<>"",IF(Saisie!R13<>"","OK","Incomplet"),"Incomplet"),"Incomplet")))))))))))))))))),"Incomplet"),"Incomplet")) -> OK | AJ13: =IF(S13="","OK",IF(Saisie!S13<>"",IF(Saisie!T13<>"",IF(Saisie!S13=data!$S$2,"OK",IF(Saisie!S13=data!$S$3,"OK",IF(Saisie!S13=data!$S$4,"OK",IF(Saisie!S13=data!$S$5,"OK",IF(Saisie!S13=data!$S$6,"OK",IF(Saisie!S13=data!$S$7,"OK",IF(Saisie!S13=data!$S$8,"OK",IF(Saisie!S13=data!$S$9,"OK",IF(Saisie!S13=data!$S$10,"OK",IF(Saisie!S13=data!$S$11,"OK",IF(Saisie!S13=data!$S$12,"OK",IF(Saisie!S13=data!$S$13,"OK",IF(Saisie!S13=data!$S$14,"OK",IF(Saisie!S13=data!$S$15,"OK",IF(Saisie!S13=data!$S$16,"OK",IF(Saisie!S13=data!$S$17,"OK",IF(Saisie!S13=data!$S$18,"OK",IF(Saisie!V13<>"",IF(Saisie!U13<>"",IF(Saisie!W13<>"","OK","Incomplet"),"Incomplet"),"Incomplet")))))))))))))))))),"Incomplet"),"Incomplet")) -> OK | AK13: =IF(X13="","OK",IF(Saisie!X13<>"",IF(Saisie!Y13<>"",IF(Saisie!X13=data!$S$2,"OK",IF(Saisie!X13=data!$S$3,"OK",IF(Saisie!X13=data!$S$4,"OK",IF(Saisie!X13=data!$S$5,"OK",IF(Saisie!X13=data!$S$6,"OK",IF(Saisie!X13=data!$S$7,"OK",IF(Saisie!X13=data!$S$8,"OK",IF(Saisie!X13=data!$S$9,"OK",IF(Saisie!X13=data!$S$10,"OK",IF(Saisie!X13=data!$S$11,"OK",IF(Saisie!X13=data!$S$12,"OK",IF(Saisie!X13=data!$S$13,"OK",IF(Saisie!X13=data!$S$14,"OK",IF(Saisie!X13=data!$S$15,"OK",IF(Saisie!X13=data!$S$16,"OK",IF(Saisie!X13=data!$S$17,"OK",IF(Saisie!X13=data!$S$18,"OK",IF(Saisie!AA13<>"",IF(Saisie!Z13<>"",IF(Saisie!AB13<>"","OK","Incomplet"),"Incomplet"),"Incomplet")))))))))))))))))),"Incomplet"),"Incomplet")) -> OK | AL13: =IF(AC13="","OK",IF(Saisie!AC13<>"",IF(Saisie!AD13<>"",IF(Saisie!AC13=data!$S$2,"OK",IF(Saisie!AC13=data!$S$3,"OK",IF(Saisie!AC13=data!$S$4,"OK",IF(Saisie!AC13=data!$S$5,"OK",IF(Saisie!AC13=data!$S$6,"OK",IF(Saisie!AC13=data!$S$7,"OK",IF(Saisie!AC13=data!$S$8,"OK",IF(Saisie!AC13=data!$S$9,"OK",IF(Saisie!AC13=data!$S$10,"OK",IF(Saisie!AC13=data!$S$11,"OK",IF(Saisie!AC13=data!$S$12,"OK",IF(Saisie!AC13=data!$S$13,"OK",IF(Saisie!AC13=data!$S$14,"OK",IF(Saisie!AC13=data!$S$15,"OK",IF(Saisie!AC13=data!$S$16,"OK",IF(Saisie!AC13=data!$S$17,"OK",IF(Saisie!AC13=data!$S$18,"OK",IF(Saisie!AF13<>"",IF(Saisie!AE13<>"",IF(Saisie!AG13<>"","OK","Incomplet"),"Incomplet"),"Incomplet")))))))))))))))))),"Incomplet"),"Incomplet")) -> OK
A14: =A13+1 -> 43809 | B14: =IF(G14<>"",IF(Frais!C15<>"",IF(Frais!C15=data!$U$2,IF(Saisie!C14<>"",IF(Saisie!C14=data!$U$2,"OUI","NON"),"NON"),"NON"),"NON"),"") | C14: =IF(E14<>"",IF(AH14=data!$T$3,IF(AI14=data!$T$3,IF(AJ14=data!$T$3,IF(AK14=data!$T$3,IF(AL14=data!$T$3,"OUI","Incomplet"),"Incomplet"),"Incomplet"),"Incomplet"),"Incomplet"),"Incomplet") -> Incomplet | D14: =(H14-G14)-IF(E14<>"",IF(E14=data!$T$4,(Frais!F15-Frais!E15),IF((H14-G14)>=data!$P$9,data!$P$11,0))) -> 0 | F14: =H14-G14 -> 0 | AH14: =IF(Saisie!I14<>"",IF(Saisie!J14<>"",IF(Saisie!I14=data!$S$2,"OK",IF(Saisie!I14=data!$S$3,"OK",IF(Saisie!I14=data!$S$4,"OK",IF(Saisie!I14=data!$S$5,"OK",IF(Saisie!I14=data!$S$6,"OK",IF(Saisie!I14=data!$S$7,"OK",IF(Saisie!I14=data!$S$8,"OK",IF(Saisie!I14=data!$S$9,"OK",IF(Saisie!I14=data!$S$10,"OK",IF(Saisie!I14=data!$S$11,"OK",IF(Saisie!I14=data!$S$12,"OK",IF(Saisie!I14=data!$S$13,"OK",IF(Saisie!I14=data!$S$14,"OK",IF(Saisie!I14=data!$S$15,"OK",IF(Saisie!I14=data!$S$16,"OK",IF(Saisie!I14=data!$S$17,"OK",IF(Saisie!I14=data!$S$18,"OK",IF(Saisie!L14<>"",IF(Saisie!K14<>"",IF(Saisie!M14<>"","OK","Incomplet"),"Incomplet"),"Incomplet")))))))))))))))))),"Incomplet"),"Incomplet") -> Incomplet | AI14: =IF(N14="","OK",IF(Saisie!N14<>"",IF(Saisie!O14<>"",IF(Saisie!N14=data!$S$2,"OK",IF(Saisie!N14=data!$S$3,"OK",IF(Saisie!N14=data!$S$4,"OK",IF(Saisie!N14=data!$S$5,"OK",IF(Saisie!N14=data!$S$6,"OK",IF(Saisie!N14=data!$S$7,"OK",IF(Saisie!N14=data!$S$8,"OK",IF(Saisie!N14=data!$S$9,"OK",IF(Saisie!N14=data!$S$10,"OK",IF(Saisie!N14=data!$S$11,"OK",IF(Saisie!N14=data!$S$12,"OK",IF(Saisie!N14=data!$S$13,"OK",IF(Saisie!N14=data!$S$14,"OK",IF(Saisie!N14=data!$S$15,"OK",IF(Saisie!N14=data!$S$16,"OK",IF(Saisie!N14=data!$S$17,"OK",IF(Saisie!N14=data!$S$18,"OK",IF(Saisie!Q14<>"",IF(Saisie!P14<>"",IF(Saisie!R14<>"","OK","Incomplet"),"Incomplet"),"Incomplet")))))))))))))))))),"Incomplet"),"Incomplet")) -> OK | AJ14: =IF(S14="","OK",IF(Saisie!S14<>"",IF(Saisie!T14<>"",IF(Saisie!S14=data!$S$2,"OK",IF(Saisie!S14=data!$S$3,"OK",IF(Saisie!S14=data!$S$4,"OK",IF(Saisie!S14=data!$S$5,"OK",IF(Saisie!S14=data!$S$6,"OK",IF(Saisie!S14=data!$S$7,"OK",IF(Saisie!S14=data!$S$8,"OK",IF(Saisie!S14=data!$S$9,"OK",IF(Saisie!S14=data!$S$10,"OK",IF(Saisie!S14=data!$S$11,"OK",IF(Saisie!S14=data!$S$12,"OK",IF(Saisie!S14=data!$S$13,"OK",IF(Saisie!S14=data!$S$14,"OK",IF(Saisie!S14=data!$S$15,"OK",IF(Saisie!S14=data!$S$16,"OK",IF(Saisie!S14=data!$S$17,"OK",IF(Saisie!S14=data!$S$18,"OK",IF(Saisie!V14<>"",IF(Saisie!U14<>"",IF(Saisie!W14<>"","OK","Incomplet"),"Incomplet"),"Incomplet")))))))))))))))))),"Incomplet"),"Incomplet")) -> OK | AK14: =IF(X14="","OK",IF(Saisie!X14<>"",IF(Saisie!Y14<>"",IF(Saisie!X14=data!$S$2,"OK",IF(Saisie!X14=data!$S$3,"OK",IF(Saisie!X14=data!$S$4,"OK",IF(Saisie!X14=data!$S$5,"OK",IF(Saisie!X14=data!$S$6,"OK",IF(Saisie!X14=data!$S$7,"OK",IF(Saisie!X14=data!$S$8,"OK",IF(Saisie!X14=data!$S$9,"OK",IF(Saisie!X14=data!$S$10,"OK",IF(Saisie!X14=data!$S$11,"OK",IF(Saisie!X14=data!$S$12,"OK",IF(Saisie!X14=data!$S$13,"OK",IF(Saisie!X14=data!$S$14,"OK",IF(Saisie!X14=data!$S$15,"OK",IF(Saisie!X14=data!$S$16,"OK",IF(Saisie!X14=data!$S$17,"OK",IF(Saisie!X14=data!$S$18,"OK",IF(Saisie!AA14<>"",IF(Saisie!Z14<>"",IF(Saisie!AB14<>"","OK","Incomplet"),"Incomplet"),"Incomplet")))))))))))))))))),"Incomplet"),"Incomplet")) -> OK | AL14: =IF(AC14="","OK",IF(Saisie!AC14<>"",IF(Saisie!AD14<>"",IF(Saisie!AC14=data!$S$2,"OK",IF(Saisie!AC14=data!$S$3,"OK",IF(Saisie!AC14=data!$S$4,"OK",IF(Saisie!AC14=data!$S$5,"OK",IF(Saisie!AC14=data!$S$6,"OK",IF(Saisie!AC14=data!$S$7,"OK",IF(Saisie!AC14=data!$S$8,"OK",IF(Saisie!AC14=data!$S$9,"OK",IF(Saisie!AC14=data!$S$10,"OK",IF(Saisie!AC14=data!$S$11,"OK",IF(Saisie!AC14=data!$S$12,"OK",IF(Saisie!AC14=data!$S$13,"OK",IF(Saisie!AC14=data!$S$14,"OK",IF(Saisie!AC14=data!$S$15,"OK",IF(Saisie!AC14=data!$S$16,"OK",IF(Saisie!AC14=data!$S$17,"OK",IF(Saisie!AC14=data!$S$18,"OK",IF(Saisie!AF14<>"",IF(Saisie!AE14<>"",IF(Saisie!AG14<>"","OK","Incomplet"),"Incomplet"),"Incomplet")))))))))))))))))),"Incomplet"),"Incomplet")) -> OK
A15: =A14+1 -> 43810 | B15: =IF(G15<>"",IF(Frais!C16<>"",IF(Frais!C16=data!$U$2,IF(Saisie!C15<>"",IF(Saisie!C15=data!$U$2,"OUI","NON"),"NON"),"NON"),"NON"),"") | C15: =IF(E15<>"",IF(AH15=data!$T$3,IF(AI15=data!$T$3,IF(AJ15=data!$T$3,IF(AK15=data!$T$3,IF(AL15=data!$T$3,"OUI","Incomplet"),"Incomplet"),"Incomplet"),"Incomplet"),"Incomplet"),"Incomplet") -> Incomplet | D15: =(H15-G15)-IF(E15<>"",IF(E15=data!$T$4,(Frais!F16-Frais!E16),IF((H15-G15)>=data!$P$9,data!$P$11,0))) -> 0 | F15: =H15-G15 -> 0 | AH15: =IF(Saisie!I15<>"",IF(Saisie!J15<>"",IF(Saisie!I15=data!$S$2,"OK",IF(Saisie!I15=data!$S$3,"OK",IF(Saisie!I15=data!$S$4,"OK",IF(Saisie!I15=data!$S$5,"OK",IF(Saisie!I15=data!$S$6,"OK",IF(Saisie!I15=data!$S$7,"OK",IF(Saisie!I15=data!$S$8,"OK",IF(Saisie!I15=data!$S$9,"OK",IF(Saisie!I15=data!$S$10,"OK",IF(Saisie!I15=data!$S$11,"OK",IF(Saisie!I15=data!$S$12,"OK",IF(Saisie!I15=data!$S$13,"OK",IF(Saisie!I15=data!$S$14,"OK",IF(Saisie!I15=data!$S$15,"OK",IF(Saisie!I15=data!$S$16,"OK",IF(Saisie!I15=data!$S$17,"OK",IF(Saisie!I15=data!$S$18,"OK",IF(Saisie!L15<>"",IF(Saisie!K15<>"",IF(Saisie!M15<>"","OK","Incomplet"),"Incomplet"),"Incomplet")))))))))))))))))),"Incomplet"),"Incomplet") -> Incomplet | AI15: =IF(N15="","OK",IF(Saisie!N15<>"",IF(Saisie!O15<>"",IF(Saisie!N15=data!$S$2,"OK",IF(Saisie!N15=data!$S$3,"OK",IF(Saisie!N15=data!$S$4,"OK",IF(Saisie!N15=data!$S$5,"OK",IF(Saisie!N15=data!$S$6,"OK",IF(Saisie!N15=data!$S$7,"OK",IF(Saisie!N15=data!$S$8,"OK",IF(Saisie!N15=data!$S$9,"OK",IF(Saisie!N15=data!$S$10,"OK",IF(Saisie!N15=data!$S$11,"OK",IF(Saisie!N15=data!$S$12,"OK",IF(Saisie!N15=data!$S$13,"OK",IF(Saisie!N15=data!$S$14,"OK",IF(Saisie!N15=data!$S$15,"OK",IF(Saisie!N15=data!$S$16,"OK",IF(Saisie!N15=data!$S$17,"OK",IF(Saisie!N15=data!$S$18,"OK",IF(Saisie!Q15<>"",IF(Saisie!P15<>"",IF(Saisie!R15<>"","OK","Incomplet"),"Incomplet"),"Incomplet")))))))))))))))))),"Incomplet"),"Incomplet")) -> OK | AJ15: =IF(S15="","OK",IF(Saisie!S15<>"",IF(Saisie!T15<>"",IF(Saisie!S15=data!$S$2,"OK",IF(Saisie!S15=data!$S$3,"OK",IF(Saisie!S15=data!$S$4,"OK",IF(Saisie!S15=data!$S$5,"OK",IF(Saisie!S15=data!$S$6,"OK",IF(Saisie!S15=data!$S$7,"OK",IF(Saisie!S15=data!$S$8,"OK",IF(Saisie!S15=data!$S$9,"OK",IF(Saisie!S15=data!$S$10,"OK",IF(Saisie!S15=data!$S$11,"OK",IF(Saisie!S15=data!$S$12,"OK",IF(Saisie!S15=data!$S$13,"OK",IF(Saisie!S15=data!$S$14,"OK",IF(Saisie!S15=data!$S$15,"OK",IF(Saisie!S15=data!$S$16,"OK",IF(Saisie!S15=data!$S$17,"OK",IF(Saisie!S15=data!$S$18,"OK",IF(Saisie!V15<>"",IF(Saisie!U15<>"",IF(Saisie!W15<>"","OK","Incomplet"),"Incomplet"),"Incomplet")))))))))))))))))),"Incomplet"),"Incomplet")) -> OK | AK15: =IF(X15="","OK",IF(Saisie!X15<>"",IF(Saisie!Y15<>"",IF(Saisie!X15=data!$S$2,"OK",IF(Saisie!X15=data!$S$3,"OK",IF(Saisie!X15=data!$S$4,"OK",IF(Saisie!X15=data!$S$5,"OK",IF(Saisie!X15=data!$S$6,"OK",IF(Saisie!X15=data!$S$7,"OK",IF(Saisie!X15=data!$S$8,"OK",IF(Saisie!X15=data!$S$9,"OK",IF(Saisie!X15=data!$S$10,"OK",IF(Saisie!X15=data!$S$11,"OK",IF(Saisie!X15=data!$S$12,"OK",IF(Saisie!X15=data!$S$13,"OK",IF(Saisie!X15=data!$S$14,"OK",IF(Saisie!X15=data!$S$15,"OK",IF(Saisie!X15=data!$S$16,"OK",IF(Saisie!X15=data!$S$17,"OK",IF(Saisie!X15=data!$S$18,"OK",IF(Saisie!AA15<>"",IF(Saisie!Z15<>"",IF(Saisie!AB15<>"","OK","Incomplet"),"Incomplet"),"Incomplet")))))))))))))))))),"Incomplet"),"Incomplet")) -> OK | AL15: =IF(AC15="","OK",IF(Saisie!AC15<>"",IF(Saisie!AD15<>"",IF(Saisie!AC15=data!$S$2,"OK",IF(Saisie!AC15=data!$S$3,"OK",IF(Saisie!AC15=data!$S$4,"OK",IF(Saisie!AC15=data!$S$5,"OK",IF(Saisie!AC15=data!$S$6,"OK",IF(Saisie!AC15=data!$S$7,"OK",IF(Saisie!AC15=data!$S$8,"OK",IF(Saisie!AC15=data!$S$9,"OK",IF(Saisie!AC15=data!$S$10,"OK",IF(Saisie!AC15=data!$S$11,"OK",IF(Saisie!AC15=data!$S$12,"OK",IF(Saisie!AC15=data!$S$13,"OK",IF(Saisie!AC15=data!$S$14,"OK",IF(Saisie!AC15=data!$S$15,"OK",IF(Saisie!AC15=data!$S$16,"OK",IF(Saisie!AC15=data!$S$17,"OK",IF(Saisie!AC15=data!$S$18,"OK",IF(Saisie!AF15<>"",IF(Saisie!AE15<>"",IF(Saisie!AG15<>"","OK","Incomplet"),"Incomplet"),"Incomplet")))))))))))))))))),"Incomplet"),"Incomplet")) -> OK
A16: =A15+1 -> 43811 | B16: =IF(G16<>"",IF(Frais!C17<>"",IF(Frais!C17=data!$U$2,IF(Saisie!C16<>"",IF(Saisie!C16=data!$U$2,"OUI","NON"),"NON"),"NON"),"NON"),"") | C16: =IF(E16<>"",IF(AH16=data!$T$3,IF(AI16=data!$T$3,IF(AJ16=data!$T$3,IF(AK16=data!$T$3,IF(AL16=data!$T$3,"OUI","Incomplet"),"Incomplet"),"Incomplet"),"Incomplet"),"Incomplet"),"Incomplet") -> Incomplet | D16: =(H16-G16)-IF(E16<>"",IF(E16=data!$T$4,(Frais!F17-Frais!E17),IF((H16-G16)>=data!$P$9,data!$P$11,0))) -> 0 | F16: =H16-G16 -> 0 | AH16: =IF(Saisie!I16<>"",IF(Saisie!J16<>"",IF(Saisie!I16=data!$S$2,"OK",IF(Saisie!I16=data!$S$3,"OK",IF(Saisie!I16=data!$S$4,"OK",IF(Saisie!I16=data!$S$5,"OK",IF(Saisie!I16=data!$S$6,"OK",IF(Saisie!I16=data!$S$7,"OK",IF(Saisie!I16=data!$S$8,"OK",IF(Saisie!I16=data!$S$9,"OK",IF(Saisie!I16=data!$S$10,"OK",IF(Saisie!I16=data!$S$11,"OK",IF(Saisie!I16=data!$S$12,"OK",IF(Saisie!I16=data!$S$13,"OK",IF(Saisie!I16=data!$S$14,"OK",IF(Saisie!I16=data!$S$15,"OK",IF(Saisie!I16=data!$S$16,"OK",IF(Saisie!I16=data!$S$17,"OK",IF(Saisie!I16=data!$S$18,"OK",IF(Saisie!L16<>"",IF(Saisie!K16<>"",IF(Saisie!M16<>"","OK","Incomplet"),"Incomplet"),"Incomplet")))))))))))))))))),"Incomplet"),"Incomplet") -> Incomplet | AI16: =IF(N16="","OK",IF(Saisie!N16<>"",IF(Saisie!O16<>"",IF(Saisie!N16=data!$S$2,"OK",IF(Saisie!N16=data!$S$3,"OK",IF(Saisie!N16=data!$S$4,"OK",IF(Saisie!N16=data!$S$5,"OK",IF(Saisie!N16=data!$S$6,"OK",IF(Saisie!N16=data!$S$7,"OK",IF(Saisie!N16=data!$S$8,"OK",IF(Saisie!N16=data!$S$9,"OK",IF(Saisie!N16=data!$S$10,"OK",IF(Saisie!N16=data!$S$11,"OK",IF(Saisie!N16=data!$S$12,"OK",IF(Saisie!N16=data!$S$13,"OK",IF(Saisie!N16=data!$S$14,"OK",IF(Saisie!N16=data!$S$15,"OK",IF(Saisie!N16=data!$S$16,"OK",IF(Saisie!N16=data!$S$17,"OK",IF(Saisie!N16=data!$S$18,"OK",IF(Saisie!Q16<>"",IF(Saisie!P16<>"",IF(Saisie!R16<>"","OK","Incomplet"),"Incomplet"),"Incomplet")))))))))))))))))),"Incomplet"),"Incomplet")) -> OK | AJ16: =IF(S16="","OK",IF(Saisie!S16<>"",IF(Saisie!T16<>"",IF(Saisie!S16=data!$S$2,"OK",IF(Saisie!S16=data!$S$3,"OK",IF(Saisie!S16=data!$S$4,"OK",IF(Saisie!S16=data!$S$5,"OK",IF(Saisie!S16=data!$S$6,"OK",IF(Saisie!S16=data!$S$7,"OK",IF(Saisie!S16=data!$S$8,"OK",IF(Saisie!S16=data!$S$9,"OK",IF(Saisie!S16=data!$S$10,"OK",IF(Saisie!S16=data!$S$11,"OK",IF(Saisie!S16=data!$S$12,"OK",IF(Saisie!S16=data!$S$13,"OK",IF(Saisie!S16=data!$S$14,"OK",IF(Saisie!S16=data!$S$15,"OK",IF(Saisie!S16=data!$S$16,"OK",IF(Saisie!S16=data!$S$17,"OK",IF(Saisie!S16=data!$S$18,"OK",IF(Saisie!V16<>"",IF(Saisie!U16<>"",IF(Saisie!W16<>"","OK","Incomplet"),"Incomplet"),"Incomplet")))))))))))))))))),"Incomplet"),"Incomplet")) -> OK | AK16: =IF(X16="","OK",IF(Saisie!X16<>"",IF(Saisie!Y16<>"",IF(Saisie!X16=data!$S$2,"OK",IF(Saisie!X16=data!$S$3,"OK",IF(Saisie!X16=data!$S$4,"OK",IF(Saisie!X16=data!$S$5,"OK",IF(Saisie!X16=data!$S$6,"OK",IF(Saisie!X16=data!$S$7,"OK",IF(Saisie!X16=data!$S$8,"OK",IF(Saisie!X16=data!$S$9,"OK",IF(Saisie!X16=data!$S$10,"OK",IF(Saisie!X16=data!$S$11,"OK",IF(Saisie!X16=data!$S$12,"OK",IF(Saisie!X16=data!$S$13,"OK",IF(Saisie!X16=data!$S$14,"OK",IF(Saisie!X16=data!$S$15,"OK",IF(Saisie!X16=data!$S$16,"OK",IF(Saisie!X16=data!$S$17,"OK",IF(Saisie!X16=data!$S$18,"OK",IF(Saisie!AA16<>"",IF(Saisie!Z16<>"",IF(Saisie!AB16<>"","OK","Incomplet"),"Incomplet"),"Incomplet")))))))))))))))))),"Incomplet"),"Incomplet")) -> OK | AL16: =IF(AC16="","OK",IF(Saisie!AC16<>"",IF(Saisie!AD16<>"",IF(Saisie!AC16=data!$S$2,"OK",IF(Saisie!AC16=data!$S$3,"OK",IF(Saisie!AC16=data!$S$4,"OK",IF(Saisie!AC16=data!$S$5,"OK",IF(Saisie!AC16=data!$S$6,"OK",IF(Saisie!AC16=data!$S$7,"OK",IF(Saisie!AC16=data!$S$8,"OK",IF(Saisie!AC16=data!$S$9,"OK",IF(Saisie!AC16=data!$S$10,"OK",IF(Saisie!AC16=data!$S$11,"OK",IF(Saisie!AC16=data!$S$12,"OK",IF(Saisie!AC16=data!$S$13,"OK",IF(Saisie!AC16=data!$S$14,"OK",IF(Saisie!AC16=data!$S$15,"OK",IF(Saisie!AC16=data!$S$16,"OK",IF(Saisie!AC16=data!$S$17,"OK",IF(Saisie!AC16=data!$S$18,"OK",IF(Saisie!AF16<>"",IF(Saisie!AE16<>"",IF(Saisie!AG16<>"","OK","Incomplet"),"Incomplet"),"Incomplet")))))))))))))))))),"Incomplet"),"Incomplet")) -> OK
A17: =A16+1 -> 43812 | B17: =IF(G17<>"",IF(Frais!C18<>"",IF(Frais!C18=data!$U$2,IF(Saisie!C17<>"",IF(Saisie!C17=data!$U$2,"OUI","NON"),"NON"),"NON"),"NON"),"") | C17: =IF(E17<>"",IF(AH17=data!$T$3,IF(AI17=data!$T$3,IF(AJ17=data!$T$3,IF(AK17=data!$T$3,IF(AL17=data!$T$3,"OUI","Incomplet"),"Incomplet"),"Incomplet"),"Incomplet"),"Incomplet"),"Incomplet") -> Incomplet | D17: =(H17-G17)-IF(E17<>"",IF(E17=data!$T$4,(Frais!F18-Frais!E18),IF((H17-G17)>=data!$P$9,data!$P$11,0))) -> 0 | F17: =H17-G17 -> 0 | AH17: =IF(Saisie!I17<>"",IF(Saisie!J17<>"",IF(Saisie!I17=data!$S$2,"OK",IF(Saisie!I17=data!$S$3,"OK",IF(Saisie!I17=data!$S$4,"OK",IF(Saisie!I17=data!$S$5,"OK",IF(Saisie!I17=data!$S$6,"OK",IF(Saisie!I17=data!$S$7,"OK",IF(Saisie!I17=data!$S$8,"OK",IF(Saisie!I17=data!$S$9,"OK",IF(Saisie!I17=data!$S$10,"OK",IF(Saisie!I17=data!$S$11,"OK",IF(Saisie!I17=data!$S$12,"OK",IF(Saisie!I17=data!$S$13,"OK",IF(Saisie!I17=data!$S$14,"OK",IF(Saisie!I17=data!$S$15,"OK",IF(Saisie!I17=data!$S$16,"OK",IF(Saisie!I17=data!$S$17,"OK",IF(Saisie!I17=data!$S$18,"OK",IF(Saisie!L17<>"",IF(Saisie!K17<>"",IF(Saisie!M17<>"","OK","Incomplet"),"Incomplet"),"Incomplet")))))))))))))))))),"Incomplet"),"Incomplet") -> Incomplet | AI17: =IF(N17="","OK",IF(Saisie!N17<>"",IF(Saisie!O17<>"",IF(Saisie!N17=data!$S$2,"OK",IF(Saisie!N17=data!$S$3,"OK",IF(Saisie!N17=data!$S$4,"OK",IF(Saisie!N17=data!$S$5,"OK",IF(Saisie!N17=data!$S$6,"OK",IF(Saisie!N17=data!$S$7,"OK",IF(Saisie!N17=data!$S$8,"OK",IF(Saisie!N17=data!$S$9,"OK",IF(Saisie!N17=data!$S$10,"OK",IF(Saisie!N17=data!$S$11,"OK",IF(Saisie!N17=data!$S$12,"OK",IF(Saisie!N17=data!$S$13,"OK",IF(Saisie!N17=data!$S$14,"OK",IF(Saisie!N17=data!$S$15,"OK",IF(Saisie!N17=data!$S$16,"OK",IF(Saisie!N17=data!$S$17,"OK",IF(Saisie!N17=data!$S$18,"OK",IF(Saisie!Q17<>"",IF(Saisie!P17<>"",IF(Saisie!R17<>"","OK","Incomplet"),"Incomplet"),"Incomplet")))))))))))))))))),"Incomplet"),"Incomplet")) -> OK | AJ17: =IF(S17="","OK",IF(Saisie!S17<>"",IF(Saisie!T17<>"",IF(Saisie!S17=data!$S$2,"OK",IF(Saisie!S17=data!$S$3,"OK",IF(Saisie!S17=data!$S$4,"OK",IF(Saisie!S17=data!$S$5,"OK",IF(Saisie!S17=data!$S$6,"OK",IF(Saisie!S17=data!$S$7,"OK",IF(Saisie!S17=data!$S$8,"OK",IF(Saisie!S17=data!$S$9,"OK",IF(Saisie!S17=data!$S$10,"OK",IF(Saisie!S17=data!$S$11,"OK",IF(Saisie!S17=data!$S$12,"OK",IF(Saisie!S17=data!$S$13,"OK",IF(Saisie!S17=data!$S$14,"OK",IF(Saisie!S17=data!$S$15,"OK",IF(Saisie!S17=data!$S$16,"OK",IF(Saisie!S17=data!$S$17,"OK",IF(Saisie!S17=data!$S$18,"OK",IF(Saisie!V17<>"",IF(Saisie!U17<>"",IF(Saisie!W17<>"","OK","Incomplet"),"Incomplet"),"Incomplet")))))))))))))))))),"Incomplet"),"Incomplet")) -> OK | AK17: =IF(X17="","OK",IF(Saisie!X17<>"",IF(Saisie!Y17<>"",IF(Saisie!X17=data!$S$2,"OK",IF(Saisie!X17=data!$S$3,"OK",IF(Saisie!X17=data!$S$4,"OK",IF(Saisie!X17=data!$S$5,"OK",IF(Saisie!X17=data!$S$6,"OK",IF(Saisie!X17=data!$S$7,"OK",IF(Saisie!X17=data!$S$8,"OK",IF(Saisie!X17=data!$S$9,"OK",IF(Saisie!X17=data!$S$10,"OK",IF(Saisie!X17=data!$S$11,"OK",IF(Saisie!X17=data!$S$12,"OK",IF(Saisie!X17=data!$S$13,"OK",IF(Saisie!X17=data!$S$14,"OK",IF(Saisie!X17=data!$S$15,"OK",IF(Saisie!X17=data!$S$16,"OK",IF(Saisie!X17=data!$S$17,"OK",IF(Saisie!X17=data!$S$18,"OK",IF(Saisie!AA17<>"",IF(Saisie!Z17<>"",IF(Saisie!AB17<>"","OK","Incomplet"),"Incomplet"),"Incomplet")))))))))))))))))),"Incomplet"),"Incomplet")) -> OK | AL17: =IF(AC17="","OK",IF(Saisie!AC17<>"",IF(Saisie!AD17<>"",IF(Saisie!AC17=data!$S$2,"OK",IF(Saisie!AC17=data!$S$3,"OK",IF(Saisie!AC17=data!$S$4,"OK",IF(Saisie!AC17=data!$S$5,"OK",IF(Saisie!AC17=data!$S$6,"OK",IF(Saisie!AC17=data!$S$7,"OK",IF(Saisie!AC17=data!$S$8,"OK",IF(Saisie!AC17=data!$S$9,"OK",IF(Saisie!AC17=data!$S$10,"OK",IF(Saisie!AC17=data!$S$11,"OK",IF(Saisie!AC17=data!$S$12,"OK",IF(Saisie!AC17=data!$S$13,"OK",IF(Saisie!AC17=data!$S$14,"OK",IF(Saisie!AC17=data!$S$15,"OK",IF(Saisie!AC17=data!$S$16,"OK",IF(Saisie!AC17=data!$S$17,"OK",IF(Saisie!AC17=data!$S$18,"OK",IF(Saisie!AF17<>"",IF(Saisie!AE17<>"",IF(Saisie!AG17<>"","OK","Incomplet"),"Incomplet"),"Incomplet")))))))))))))))))),"Incomplet"),"Incomplet")) -> OK
... A32: =A31+1 -> 43827 | B32: =IF(G32<>"",IF(Frais!C33<>"",IF(Frais!C33=data!$U$2,IF(Saisie!C32<>"",IF(Saisie!C32=data!$U$2,"OUI","NON"),"NON"),"NON"),"NON"),"") | C32: =IF(E32<>"",IF(AH32=data!$T$3,IF(AI32=data!$T$3,IF(AJ32=data!$T$3,IF(AK32=data!$T$3,IF(AL32=data!$T$3,"OUI","Incomplet"),"Incomplet"),"Incomplet"),"Incomplet"),"Incomplet"),"Incomplet") -> Incomplet | D32: =(H32-G32)-IF(E32<>"",IF(E32=data!$T$4,(Frais!F33-Frais!E33),IF((H32-G32)>=data!$P$9,data!$P$11,0))) -> 0 | F32: =H32-G32 -> 0 | AH32: =IF(Saisie!I32<>"",IF(Saisie!J32<>"",IF(Saisie!I32=data!$S$2,"OK",IF(Saisie!I32=data!$S$3,"OK",IF(Saisie!I32=data!$S$4,"OK",IF(Saisie!I32=data!$S$5,"OK",IF(Saisie!I32=data!$S$6,"OK",IF(Saisie!I32=data!$S$7,"OK",IF(Saisie!I32=data!$S$8,"OK",IF(Saisie!I32=data!$S$9,"OK",IF(Saisie!I32=data!$S$10,"OK",IF(Saisie!I32=data!$S$11,"OK",IF(Saisie!I32=data!$S$12,"OK",IF(Saisie!I32=data!$S$13,"OK",IF(Saisie!I32=data!$S$14,"OK",IF(Saisie!I32=data!$S$15,"OK",IF(Saisie!I32=data!$S$16,"OK",IF(Saisie!I32=data!$S$17,"OK",IF(Saisie!I32=data!$S$18,"OK",IF(Saisie!L32<>"",IF(Saisie!K32<>"",IF(Saisie!M32<>"","OK","Incomplet"),"Incomplet"),"Incomplet")))))))))))))))))),"Incomplet"),"Incomplet") -> Incomplet | AI32: =IF(N32="","OK",IF(Saisie!N32<>"",IF(Saisie!O32<>"",IF(Saisie!N32=data!$S$2,"OK",IF(Saisie!N32=data!$S$3,"OK",IF(Saisie!N32=data!$S$4,"OK",IF(Saisie!N32=data!$S$5,"OK",IF(Saisie!N32=data!$S$6,"OK",IF(Saisie!N32=data!$S$7,"OK",IF(Saisie!N32=data!$S$8,"OK",IF(Saisie!N32=data!$S$9,"OK",IF(Saisie!N32=data!$S$10,"OK",IF(Saisie!N32=data!$S$11,"OK",IF(Saisie!N32=data!$S$12,"OK",IF(Saisie!N32=data!$S$13,"OK",IF(Saisie!N32=data!$S$14,"OK",IF(Saisie!N32=data!$S$15,"OK",IF(Saisie!N32=data!$S$16,"OK",IF(Saisie!N32=data!$S$17,"OK",IF(Saisie!N32=data!$S$18,"OK",IF(Saisie!Q32<>"",IF(Saisie!P32<>"",IF(Saisie!R32<>"","OK","Incomplet"),"Incomplet"),"Incomplet")))))))))))))))))),"Incomplet"),"Incomplet")) -> OK | AJ32: =IF(S32="","OK",IF(Saisie!S32<>"",IF(Saisie!T32<>"",IF(Saisie!S32=data!$S$2,"OK",IF(Saisie!S32=data!$S$3,"OK",IF(Saisie!S32=data!$S$4,"OK",IF(Saisie!S32=data!$S$5,"OK",IF(Saisie!S32=data!$S$6,"OK",IF(Saisie!S32=data!$S$7,"OK",IF(Saisie!S32=data!$S$8,"OK",IF(Saisie!S32=data!$S$9,"OK",IF(Saisie!S32=data!$S$10,"OK",IF(Saisie!S32=data!$S$11,"OK",IF(Saisie!S32=data!$S$12,"OK",IF(Saisie!S32=data!$S$13,"OK",IF(Saisie!S32=data!$S$14,"OK",IF(Saisie!S32=data!$S$15,"OK",IF(Saisie!S32=data!$S$16,"OK",IF(Saisie!S32=data!$S$17,"OK",IF(Saisie!S32=data!$S$18,"OK",IF(Saisie!V32<>"",IF(Saisie!U32<>"",IF(Saisie!W32<>"","OK","Incomplet"),"Incomplet"),"Incomplet")))))))))))))))))),"Incomplet"),"Incomplet")) -> OK | AK32: =IF(X32="","OK",IF(Saisie!X32<>"",IF(Saisie!Y32<>"",IF(Saisie!X32=data!$S$2,"OK",IF(Saisie!X32=data!$S$3,"OK",IF(Saisie!X32=data!$S$4,"OK",IF(Saisie!X32=data!$S$5,"OK",IF(Saisie!X32=data!$S$6,"OK",IF(Saisie!X32=data!$S$7,"OK",IF(Saisie!X32=data!$S$8,"OK",IF(Saisie!X32=data!$S$9,"OK",IF(Saisie!X32=data!$S$10,"OK",IF(Saisie!X32=data!$S$11,"OK",IF(Saisie!X32=data!$S$12,"OK",IF(Saisie!X32=data!$S$13,"OK",IF(Saisie!X32=data!$S$14,"OK",IF(Saisie!X32=data!$S$15,"OK",IF(Saisie!X32=data!$S$16,"OK",IF(Saisie!X32=data!$S$17,"OK",IF(Saisie!X32=data!$S$18,"OK",IF(Saisie!AA32<>"",IF(Saisie!Z32<>"",IF(Saisie!AB32<>"","OK","Incomplet"),"Incomplet"),"Incomplet")))))))))))))))))),"Incomplet"),"Incomplet")) -> OK | AL32: =IF(AC32="","OK",IF(Saisie!AC32<>"",IF(Saisie!AD32<>"",IF(Saisie!AC32=data!$S$2,"OK",IF(Saisie!AC32=data!$S$3,"OK",IF(Saisie!AC32=data!$S$4,"OK",IF(Saisie!AC32=data!$S$5,"OK",IF(Saisie!AC32=data!$S$6,"OK",IF(Saisie!AC32=data!$S$7,"OK",IF(Saisie!AC32=data!$S$8,"OK",IF(Saisie!AC32=data!$S$9,"OK",IF(Saisie!AC32=data!$S$10,"OK",IF(Saisie!AC32=data!$S$11,"OK",IF(Saisie!AC32=data!$S$12,"OK",IF(Saisie!AC32=data!$S$13,"OK",IF(Saisie!AC32=data!$S$14,"OK",IF(Saisie!AC32=data!$S$15,"OK",IF(Saisie!AC32=data!$S$16,"OK",IF(Saisie!AC32=data!$S$17,"OK",IF(Saisie!AC32=data!$S$18,"OK",IF(Saisie!AF32<>"",IF(Saisie!AE32<>"",IF(Saisie!AG32<>"","OK","Incomplet"),"Incomplet"),"Incomplet")))))))))))))))))),"Incomplet"),"Incomplet")) -> OK
