Workbook
Name f_mission: OFFSET(p_mission,0,0,COUNTA(l_mission),1)
Name l_mission: data!$I:$I
Name p_mission: data!$I$2

Sheet Bilan
B2: Nom entreprise
B3: Coordonnée entreprise
B6: Compte Rendu d'Activité et Etat de Frais
B9: Mois : | C9: =Saisie!A1 -> 43800 | D9: =Saisie!A1 -> 43800 | F9: Agents :
B11: Immatricule voiture de service :
C13: Compteur au début du mois : | F13: =IFERROR(INDEX(Frais!I6:I36,MATCH(TRUE,Frais!I6:I36<>"",0)),"") | G13: km
C14: Compteur à la fin du mois : | F14: =IFERROR(LOOKUP(9^9,Frais!I6:I36),"") | G14: km
C15: Km parcourus : | F15: =IFERROR(F14-F13,"") | G15: km
C17: Carburant Consommé : | F17: =IF(SUM(Frais!K6:K36)=0,"",SUM(Frais!K6:K36)) | G17: L
C18: Consommation moyenne : | F18: =IFERROR(F15/F17,"") | G18: L/100km
B20: Frais de Carburant Voiture de service : | F20: =IF(SUM(Frais!L6:L36)=0,"",SUM(Frais!L6:L36)) | G20: €
B21: Frais de Carburant Assainissement : | F21: =IF(SUM(Frais!P6:P36,Frais!S6:S36)=0,"",SUM(Frais!P6:P36,Frais!S6:S36)) | G21: €
C22: Frais de Carburant total : | F22: =SUM(F20:F21) -> 0 | G22: €
B24: Frais de Repas : | F24: nombre : | G24: montant (€)
C25: Repas aux restaurant : | F25: =COUNTA(Frais!G6:G36) -> 0 | G25: =SUM(Frais!G6:G36) -> 0
C26: Primes Panier : | F26: =Frais!X37 -> 0 | G26: =F26*data!N11 -> 0
C27: Primes Petit déjeuner : | F27: =Frais!Z37 -> 0 | G27: =F27*data!N12 -> 0
C28: Primes 8h consecutives : | F28: =Frais!AA37 -> 0 | G28: =F28*data!N13 -> 0
F30: nombre : | G30: montant (en point)
C31: Primes 4h de NUIT (entre 21h et 6h) : | F31: =IF(Frais!AB37=0,"",Frais!AB37) | G31: =IFERROR(F31*data!N14,"")
B33: Autres : | F33: =SUM(Frais!W6:W36) -> 0 | G33: €
F36: TOTAL : | G36: =SUM(G25:G28)+F22+F33 -> 0 | H36: €

Sheet Saisie
A1: =DATE((AB1+117),B1,1) -> 43800 | B1: 12 | AB1: 2 | AC1: =DATE((AB1+117),B1+1,1)-1 -> 43830
H2: ="Période du "&TEXT(A1,"jj mmmm aaaa")&" au "&TEXT(AC1,"jj mmmm aaaa") -> Période du 01 décembre 2019 au 31 décembre 2019
B4: SAISIE COMPLÈTE | C4: Validation de saisie des MISSIONS | D4: Temps de travail | E4: PAUSE REPAS (OUI/NON) | G4: Heure début d'activité (hh:mm) | H4: Heure fin d'activité (hh:mm) | I4: Nature de la mission | J4: Temps consacré (hh:mm) | K4: LIEU | L4: Nombre d'exploitations | M4: Nombre de prélèvements | N4: Nature de la mission | O4: Temps consacré (hh:mm) | P4: LIEU | Q4: Nombre d'exploitations | R4: Nombre de prélèvements | S4: Nature de la mission | T4: Temps consacré (hh:mm) | U4: LIEU | V4: Nombre d'exploitations | W4: Nombre de prélèvements | X4: Nature de la mission | Y4: Temps consacré (hh:mm) | Z4: LIEU | AA4: Nombre d'exploitations | AB4: Nombre de prélèvements | AC4: Nature de la mission | AD4: Temps consacré (hh:mm) | AE4: LIEU | AF4: Nombre d'exploitations | AG4: Nombre de prélèvements
A5: =A1 -> 43800 | B5: =IF(G5<>"",IF(Frais!C6<>"",IF(Frais!C6=data!$U$2,IF(Saisie!C5<>"",IF(Saisie!C5=data!$U$2,"OUI","NON"),"NON"),"NON"),"NON"),"") | C5: =IF(E5<>"",IF(AH5=data!$T$3,IF(AI5=data!$T$3,IF(AJ5=data!$T$3,IF(AK5=data!$T$3,IF(AL5=data!$T$3,"OUI","Incomplet"),"Incomplet"),"Incomplet"),"Incomplet"),"Incomplet"),"Incomplet") -> Incomplet | D5: =(H5-G5)-IF(E5<>"",IF(E5=data!$T$4,(Frais!F6-Frais!E6),IF((H5-G5)>=data!$P$9,data!$P$11,0))) -> 0 | F5: =H5-G5 -> 0 | AH5: =IF(Saisie!I5<>"",IF(Saisie!J5<>"",IF(Saisie!I5=data!$S$2,"OK",IF(Saisie!I5=data!$S$3,"OK",IF(Saisie!I5=data!$S$4,"OK",IF(Saisie!I5=data!$S$5,"OK",IF(Saisie!I5=data!$S$6,"OK",IF(Saisie!I5=data!$S$7,"OK",IF(Saisie!I5=data!$S$8,"OK",IF(Saisie!I5=data!$S$9,"OK",IF(Saisie!I5=data!$S$10,"OK",IF(Saisie!I5=data!$S$11,"OK",IF(Saisie!I5=data!$S$12,"OK",IF(Saisie!I5=data!$S$13,"OK",IF(Saisie!I5=data!$S$14,"OK",IF(Saisie!I5=data!$S$15,"OK",IF(Saisie!I5=data!$S$16,"OK",IF(Saisie!I5=data!$S$17,"OK",IF(Saisie!I5=data!$S$18,"OK",IF(Saisie!L5<>"",IF(Saisie!K5<>"",IF(Saisie!M5<>"","OK","Incomplet"),"Incomplet"),"Incomplet")))))))))))))))))),"Incomplet"),"Incomplet") -> Incomplet | AI5: =IF(N5="","OK",IF(Saisie!N5<>"",IF(Saisie!O5<>"",IF(Saisie!N5=data!$S$2,"OK",IF(Saisie!N5=data!$S$3,"OK",IF(Saisie!N5=data!$S$4,"OK",IF(Saisie!N5=data!$S$5,"OK",IF(Saisie!N5=data!$S$6,"OK",IF(Saisie!N5=data!$S$7,"OK",IF(Saisie!N5=data!$S$8,"OK",IF(Saisie!N5=data!$S$9,"OK",IF(Saisie!N5=data!$S$10,"OK",IF(Saisie!N5=data!$S$11,"OK",IF(Saisie!N5=data!$S$12,"OK",IF(Saisie!N5=data!$S$13,"OK",IF(Saisie!N5=data!$S$14,"OK",IF(Saisie!N5=data!$S$15,"OK",IF(Saisie!N5=data!$S$16,"OK",IF(Saisie!N5=data!$S$17,"OK",IF(Saisie!N5=data!$S$18,"OK",IF(Saisie!Q5<>"",IF(Saisie!P5<>"",IF(Saisie!R5<>"","OK","Incomplet"),"Incomplet"),"Incomplet")))))))))))))))))),"Incomplet"),"Incomplet")) -> OK | AJ5: =IF(S5="","OK",IF(Saisie!S5<>"",IF(Saisie!T5<>"",IF(Saisie!S5=data!$S$2,"OK",IF(Saisie!S5=data!$S$3,"OK",IF(Saisie!S5=data!$S$4,"OK",IF(Saisie!S5=data!$S$5,"OK",IF(Saisie!S5=data!$S$6,"OK",IF(Saisie!S5=data!$S$7,"OK",IF(Saisie!S5=data!$S$8,"OK",IF(Saisie!S5=data!$S$9,"OK",IF(Saisie!S5=data!$S$10,"OK",IF(Saisie!S5=data!$S$11,"OK",IF(Saisie!S5=data!$S$12,"OK",IF(Saisie!S5=data!$S$13,"OK",IF(Saisie!S5=data!$S$14,"OK",IF(Saisie!S5=data!$S$15,"OK",IF(Saisie!S5=data!$S$16,"OK",IF(Saisie!S5=data!$S$17,"OK",IF(Saisie!S5=data!$S$18,"OK",IF(Saisie!V5<>"",IF(Saisie!U5<>"",IF(Saisie!W5<>"","OK","Incomplet"),"Incomplet"),"Incomplet")))))))))))))))))),"Incomplet"),"Incomplet")) -> OK | AK5: =IF(X5="","OK",IF(Saisie!X5<>"",IF(Saisie!Y5<>"",IF(Saisie!X5=data!$S$2,"OK",IF(Saisie!X5=data!$S$3,"OK",IF(Saisie!X5=data!$S$4,"OK",IF(Saisie!X5=data!$S$5,"OK",IF(Saisie!X5=data!$S$6,"OK",IF(Saisie!X5=data!$S$7,"OK",IF(Saisie!X5=data!$S$8,"OK",IF(Saisie!X5=data!$S$9,"OK",IF(Saisie!X5=data!$S$10,"OK",IF(Saisie!X5=data!$S$11,"OK",IF(Saisie!X5=data!$S$12,"OK",IF(Saisie!X5=data!$S$13,"OK",IF(Saisie!X5=data!$S$14,"OK",IF(Saisie!X5=data!$S$15,"OK",IF(Saisie!X5=data!$S$16,"OK",IF(Saisie!X5=data!$S$17,"OK",IF(Saisie!X5=data!$S$18,"OK",IF(Saisie!AA5<>"",IF(Saisie!Z5<>"",IF(Saisie!AB5<>"","OK","Incomplet"),"Incomplet"),"Incomplet")))))))))))))))))),"Incomplet"),"Incomplet")) -> OK | AL5: =IF(AC5="","OK",IF(Saisie!AC5<>"",IF(Saisie!AD5<>"",IF(Saisie!AC5=data!$S$2,"OK",IF(Saisie!AC5=data!$S$3,"OK",IF(Saisie!AC5=data!$S$4,"OK",IF(Saisie!AC5=data!$S$5,"OK",IF(Saisie!AC5=data!$S$6,"OK",IF(Saisie!AC5=data!$S$7,"OK",IF(Saisie!AC5=data!$S$8,"OK",IF(Saisie!AC5=data!$S$9,"OK",IF(Saisie!AC5=data!$S$10,"OK",IF(Saisie!AC5=data!$S$11,"OK",IF(Saisie!AC5=data!$S$12,"OK",IF(Saisie!AC5=data!$S$13,"OK",IF(Saisie!AC5=data!$S$14,"OK",IF(Saisie!AC5=data!$S$15,"OK",IF(Saisie!AC5=data!$S$16,"OK",IF(Saisie!AC5=data!$S$17,"OK",IF(Saisie!AC5=data!$S$18,"OK",IF(Saisie!AF5<>"",IF(Saisie!AE5<>"",IF(Saisie!AG5<>"","OK","Incomplet"),"Incomplet"),"Incomplet")))))))))))))))))),"Incomplet"),"Incomplet")) -> OK
A6: =A5+1 -> 43801 | B6: =IF(G6<>"",IF(Frais!C7<>"",IF(Frais!C7=data!$U$2,IF(Saisie!C6<>"",IF(Saisie!C6=data!$U$2,"OUI","NON"),"NON"),"NON"),"NON"),"") | C6: =IF(E6<>"",IF(AH6=data!$T$3,IF(AI6=data!$T$3,IF(AJ6=data!$T$3,IF(AK6=data!$T$3,IF(AL6=data!$T$3,"OUI","Incomplet"),"Incomplet"),"Incomplet"),"Incomplet"),"Incomplet"),"Incomplet") -> Incomplet | D6: =(H6-G6)-IF(E6<>"",IF(E6=data!$T$4,(Frais!F7-Frais!E7),IF((H6-G6)>=data!$P$9,data!$P$11,0))) -> 0 | F6: =H6-G6 -> 0 | AH6: =IF(Saisie!I6<>"",IF(Saisie!J6<>"",IF(Saisie!I6=data!$S$2,"OK",IF(Saisie!I6=data!$S$3,"OK",IF(Saisie!I6=data!$S$4,"OK",IF(Saisie!I6=data!$S$5,"OK",IF(Saisie!I6=data!$S$6,"OK",IF(Saisie!I6=data!$S$7,"OK",IF(Saisie!I6=data!$S$8,"OK",IF(Saisie!I6=data!$S$9,"OK",IF(Saisie!I6=data!$S$10,"OK",IF(Saisie!I6=data!$S$11,"OK",IF(Saisie!I6=data!$S$12,"OK",IF(Saisie!I6=data!$S$13,"OK",IF(Saisie!I6=data!$S$14,"OK",IF(Saisie!I6=data!$S$15,"OK",IF(Saisie!I6=data!$S$16,"OK",IF(Saisie!I6=data!$S$17,"OK",IF(Saisie!I6=data!$S$18,"OK",IF(Saisie!L6<>"",IF(Saisie!K6<>"",IF(Saisie!M6<>"","OK","Incomplet"),"Incomplet"),"Incomplet")))))))))))))))))),"Incomplet"),"Incomplet") -> Incomplet | AI6: =IF(N6="","OK",IF(Saisie!N6<>"",IF(Saisie!O6<>"",IF(Saisie!N6=data!$S$2,"OK",IF(Saisie!N6=data!$S$3,"OK",IF(Saisie!N6=data!$S$4,"OK",IF(Saisie!N6=data!$S$5,"OK",IF(Saisie!N6=data!$S$6,"OK",IF(Saisie!N6=data!$S$7,"OK",IF(Saisie!N6=data!$S$8,"OK",IF(Saisie!N6=data!$S$9,"OK",IF(Saisie!N6=data!$S$10,"OK",IF(Saisie!N6=data!$S$11,"OK",IF(Saisie!N6=data!$S$12,"OK",IF(Saisie!N6=data!$S$13,"OK",IF(Saisie!N6=data!$S$14,"OK",IF(Saisie!N6=data!$S$15,"OK",IF(Saisie!N6=data!$S$16,"OK",IF(Saisie!N6=data!$S$17,"OK",IF(Saisie!N6=data!$S$18,"OK",IF(Saisie!Q6<>"",IF(Saisie!P6<>"",IF(Saisie!R6<>"","OK","Incomplet"),"Incomplet"),"Incomplet")))))))))))))))))),"Incomplet"),"Incomplet")) -> OK | AJ6: =IF(S6="","OK",IF(Saisie!S6<>"",IF(Saisie!T6<>"",IF(Saisie!S6=data!$S$2,"OK",IF(Saisie!S6=data!$S$3,"OK",IF(Saisie!S6=data!$S$4,"OK",IF(Saisie!S6=data!$S$5,"OK",IF(Saisie!S6=data!$S$6,"OK",IF(Saisie!S6=data!$S$7,"OK",IF(Saisie!S6=data!$S$8,"OK",IF(Saisie!S6=data!$S$9,"OK",IF(Saisie!S6=data!$S$10,"OK",IF(Saisie!S6=data!$S$11,"OK",IF(Saisie!S6=data!$S$12,"OK",IF(Saisie!S6=data!$S$13,"OK",IF(Saisie!S6=data!$S$14,"OK",IF(Saisie!S6=data!$S$15,"OK",IF(Saisie!S6=data!$S$16,"OK",IF(Saisie!S6=data!$S$17,"OK",IF(Saisie!S6=data!$S$18,"OK",IF(Saisie!V6<>"",IF(Saisie!U6<>"",IF(Saisie!W6<>"","OK","Incomplet"),"Incomplet"),"Incomplet")))))))))))))))))),"Incomplet"),"Incomplet")) -> OK | AK6: =IF(X6="","OK",IF(Saisie!X6<>"",IF(Saisie!Y6<>"",IF(Saisie!X6=data!$S$2,"OK",IF(Saisie!X6=data!$S$3,"OK",IF(Saisie!X6=data!$S$4,"OK",IF(Saisie!X6=data!$S$5,"OK",IF(Saisie!X6=data!$S$6,"OK",IF(Saisie!X6=data!$S$7,"OK",IF(Saisie!X6=data!$S$8,"OK",IF(Saisie!X6=data!$S$9,"OK",IF(Saisie!X6=data!$S$10,"OK",IF(Saisie!X6=data!$S$11,"OK",IF(Saisie!X6=data!$S$12,"OK",IF(Saisie!X6=data!$S$13,"OK",IF(Saisie!X6=data!$S$14,"OK",IF(Saisie!X6=data!$S$15,"OK",IF(Saisie!X6=data!$S$16,"OK",IF(Saisie!X6=data!$S$17,"OK",IF(Saisie!X6=data!$S$18,"OK",IF(Saisie!AA6<>"",IF(Saisie!Z6<>"",IF(Saisie!AB6<>"","OK","Incomplet"),"Incomplet"),"Incomplet")))))))))))))))))),"Incomplet"),"Incomplet")) -> OK | AL6: =IF(AC6="","OK",IF(Saisie!AC6<>"",IF(Saisie!AD6<>"",IF(Saisie!AC6=data!$S$2,"OK",IF(Saisie!AC6=data!$S$3,"OK",IF(Saisie!AC6=data!$S$4,"OK",IF(Saisie!AC6=data!$S$5,"OK",IF(Saisie!AC6=data!$S$6,"OK",IF(Saisie!AC6=data!$S$7,"OK",IF(Saisie!AC6=data!$S$8,"OK",IF(Saisie!AC6=data!$S$9,"OK",IF(Saisie!AC6=data!$S$10,"OK",IF(Saisie!AC6=data!$S$11,"OK",IF(Saisie!AC6=data!$S$12,"OK",IF(Saisie!AC6=data!$S$13,"OK",IF(Saisie!AC6=data!$S$14,"OK",IF(Saisie!AC6=data!$S$15,"OK",IF(Saisie!AC6=data!$S$16,"OK",IF(Saisie!AC6=data!$S$17,"OK",IF(Saisie!AC6=data!$S$18,"OK",IF(Saisie!AF6<>"",IF(Saisie!AE6<>"",IF(Saisie!AG6<>"","OK","Incomplet"),"Incomplet"),"Incomplet")))))))))))))))))),"Incomplet"),"Incomplet")) -> OK
A7: =A6+1 -> 43802 | B7: =IF(G7<>"",IF(Frais!C8<>"",IF(Frais!C8=data!$U$2,IF(Saisie!C7<>"",IF(Saisie!C7=data!$U$2,"OUI","NON"),"NON"),"NON"),"NON"),"") | C7: =IF(E7<>"",IF(AH7=data!$T$3,IF(AI7=data!$T$3,IF(AJ7=data!$T$3,IF(AK7=data!$T$3,IF(AL7=data!$T$3,"OUI","Incomplet"),"Incomplet"),"Incomplet"),"Incomplet"),"Incomplet"),"Incomplet") -> Incomplet | D7: =(H7-G7)-IF(E7<>"",IF(E7=data!$T$4,(Frais!F8-Frais!E8),IF((H7-G7)>=data!$P$9,data!$P$11,0))) -> 0 | F7: =H7-G7 -> 0 | AH7: =IF(Saisie!I7<>"",IF(Saisie!J7<>"",IF(Saisie!I7=data!$S$2,"OK",IF(Saisie!I7=data!$S$3,"OK",IF(Saisie!I7=data!$S$4,"OK",IF(Saisie!I7=data!$S$5,"OK",IF(Saisie!I7=data!$S$6,"OK",IF(Saisie!I7=data!$S$7,"OK",IF(Saisie!I7=data!$S$8,"OK",IF(Saisie!I7=data!$S$9,"OK",IF(Saisie!I7=data!$S$10,"OK",IF(Saisie!I7=data!$S$11,"OK",IF(Saisie!I7=data!$S$12,"OK",IF(Saisie!I7=data!$S$13,"OK",IF(Saisie!I7=data!$S$14,"OK",IF(Saisie!I7=data!$S$15,"OK",IF(Saisie!I7=data!$S$16,"OK",IF(Saisie!I7=data!$S$17,"OK",IF(Saisie!I7=data!$S$18,"OK",IF(Saisie!L7<>"",IF(Saisie!K7<>"",IF(Saisie!M7<>"","OK","Incomplet"),"Incomplet"),"Incomplet")))))))))))))))))),"Incomplet"),"Incomplet") -> Incomplet | AI7: =IF(N7="","OK",IF(Saisie!N7<>"",IF(Saisie!O7<>"",IF(Saisie!N7=data!$S$2,"OK",IF(Saisie!N7=data!$S$3,"OK",IF(Saisie!N7=data!$S$4,"OK",IF(Saisie!N7=data!$S$5,"OK",IF(Saisie!N7=data!$S$6,"OK",IF(Saisie!N7=data!$S$7,"OK",IF(Saisie!N7=data!$S$8,"OK",IF(Saisie!N7=data!$S$9,"OK",IF(Saisie!N7=data!$S$10,"OK",IF(Saisie!N7=data!$S$11,"OK",IF(Saisie!N7=data!$S$12,"OK",IF(Saisie!N7=data!$S$13,"OK",IF(Saisie!N7=data!$S$14,"OK",IF(Saisie!N7=data!$S$15,"OK",IF(Saisie!N7=data!$S$16,"OK",IF(Saisie!N7=data!$S$17,"OK",IF(Saisie!N7=data!$S$18,"OK",IF(Saisie!Q7<>"",IF(Saisie!P7<>"",IF(Saisie!R7<>"","OK","Incomplet"),"Incomplet"),"Incomplet")))))))))))))))))),"Incomplet"),"Incomplet")) -> OK | AJ7: =IF(S7="","OK",IF(Saisie!S7<>"",IF(Saisie!T7<>"",IF(Saisie!S7=data!$S$2,"OK",IF(Saisie!S7=data!$S$3,"OK",IF(Saisie!S7=data!$S$4,"OK",IF(Saisie!S7=data!$S$5,"OK",IF(Saisie!S7=data!$S$6,"OK",IF(Saisie!S7=data!$S$7,"OK",IF(Saisie!S7=data!$S$8,"OK",IF(Saisie!S7=data!$S$9,"OK",IF(Saisie!S7=data!$S$10,"OK",IF(Saisie!S7=data!$S$11,"OK",IF(Saisie!S7=data!$S$12,"OK",IF(Saisie!S7=data!$S$13,"OK",IF(Saisie!S7=data!$S$14,"OK",IF(Saisie!S7=data!$S$15,"OK",IF(Saisie!S7=data!$S$16,"OK",IF(Saisie!S7=data!$S$17,"OK",IF(Saisie!S7=data!$S$18,"OK",IF(Saisie!V7<>"",IF(Saisie!U7<>"",IF(Saisie!W7<>"","OK","Incomplet"),"Incomplet"),"Incomplet")))))))))))))))))),"Incomplet"),"Incomplet")) -> OK | AK7: =IF(X7="","OK",IF(Saisie!X7<>"",IF(Saisie!Y7<>"",IF(Saisie!X7=data!$S$2,"OK",IF(Saisie!X7=data!$S$3,"OK",IF(Saisie!X7=data!$S$4,"OK",IF(Saisie!X7=data!$S$5,"OK",IF(Saisie!X7=data!$S$6,"OK",IF(Saisie!X7=data!$S$7,"OK",IF(Saisie!X7=data!$S$8,"OK",IF(Saisie!X7=data!$S$9,"OK",IF(Saisie!X7=data!$S$10,"OK",IF(Saisie!X7=data!$S$11,"OK",IF(Saisie!X7=data!$S$12,"OK",IF(Saisie!X7=data!$S$13,"OK",IF(Saisie!X7=data!$S$14,"OK",IF(Saisie!X7=data!$S$15,"OK",IF(Saisie!X7=data!$S$16,"OK",IF(Saisie!X7=data!$S$17,"OK",IF(Saisie!X7=data!$S$18,"OK",IF(Saisie!AA7<>"",IF(Saisie!Z7<>"",IF(Saisie!AB7<>"","OK","Incomplet"),"Incomplet"),"Incomplet")))))))))))))))))),"Incomplet"),"Incomplet")) -> OK | AL7: =IF(AC7="","OK",IF(Saisie!AC7<>"",IF(Saisie!AD7<>"",IF(Saisie!AC7=data!$S$2,"OK",IF(Saisie!AC7=data!$S$3,"OK",IF(Saisie!AC7=data!$S$4,"OK",IF(Saisie!AC7=data!$S$5,"OK",IF(Saisie!AC7=data!$S$6,"OK",IF(Saisie!AC7=data!$S$7,"OK",IF(Saisie!AC7=data!$S$8,"OK",IF(Saisie!AC7=data!$S$9,"OK",IF(Saisie!AC7=data!$S$10,"OK",IF(Saisie!AC7=data!$S$11,"OK",IF(Saisie!AC7=data!$S$12,"OK",IF(Saisie!AC7=data!$S$13,"OK",IF(Saisie!AC7=data!$S$14,"OK",IF(Saisie!AC7=data!$S$15,"OK",IF(Saisie!AC7=data!$S$16,"OK",IF(Saisie!AC7=data!$S$17,"OK",IF(Saisie!AC7=data!$S$18,"OK",IF(Saisie!AF7<>"",IF(Saisie!AE7<>"",IF(Saisie!AG7<>"","OK","Incomplet"),"Incomplet"),"Incomplet")))))))))))))))))),"Incomplet"),"Incomplet")) -> OK
A8: =A7+1 -> 43803 | B8: =IF(G8<>"",IF(Frais!C9<>"",IF(Frais!C9=data!$U$2,IF(Saisie!C8<>"",IF(Saisie!C8=data!$U$2,"OUI","NON"),"NON"),"NON"),"NON"),"") | C8: =IF(E8<>"",IF(AH8=data!$T$3,IF(AI8=data!$T$3,IF(AJ8=data!$T$3,IF(AK8=data!$T$3,IF(AL8=data!$T$3,"OUI","Incomplet"),"Incomplet"),"Incomplet"),"Incomplet"),"Incomplet"),"Incomplet") -> Incomplet | D8: =(H8-G8)-IF(E8<>"",IF(E8=data!$T$4,(Frais!F9-Frais!E9),IF((H8-G8)>=data!$P$9,data!$P$11,0))) -> 0 | F8: =H8-G8 -> 0 | AH8: =IF(Saisie!I8<>"",IF(Saisie!J8<>"",IF(Saisie!I8=data!$S$2,"OK",IF(Saisie!I8=data!$S$3,"OK",IF(Saisie!I8=data!$S$4,"OK",IF(Saisie!I8=data!$S$5,"OK",IF(Saisie!I8=data!$S$6,"OK",IF(Saisie!I8=data!$S$7,"OK",IF(Saisie!I8=data!$S$8,"OK",IF(Saisie!I8=data!$S$9,"OK",IF(Saisie!I8=data!$S$10,"OK",IF(Saisie!I8=data!$S$11,"OK",IF(Saisie!I8=data!$S$12,"OK",IF(Saisie!I8=data!$S$13,"OK",IF(Saisie!I8=data!$S$14,"OK",IF(Saisie!I8=data!$S$15,"OK",IF(Saisie!I8=data!$S$16,"OK",IF(Saisie!I8=data!$S$17,"OK",IF(Saisie!I8=data!$S$18,"OK",IF(Saisie!L8<>"",IF(Saisie!K8<>"",IF(Saisie!M8<>"","OK","Incomplet"),"Incomplet"),"Incomplet")))))))))))))))))),"Incomplet"),"Incomplet") -> Incomplet | AI8: =IF(N8="","OK",IF(Saisie!N8<>"",IF(Saisie!O8<>"",IF(Saisie!N8=data!$S$2,"OK",IF(Saisie!N8=data!$S$3,"OK",IF(Saisie!N8=data!$S$4,"OK",IF(Saisie!N8=data!$S$5,"OK",IF(Saisie!N8=data!$S$6,"OK",IF(Saisie!N8=data!$S$7,"OK",IF(Saisie!N8=data!$S$8,"OK",IF(Saisie!N8=data!$S$9,"OK",IF(Saisie!N8=data!$S$10,"OK",IF(Saisie!N8=data!$S$11,"OK",IF(Saisie!N8=data!$S$12,"OK",IF(Saisie!N8=data!$S$13,"OK",IF(Saisie!N8=data!$S$14,"OK",IF(Saisie!N8=data!$S$15,"OK",IF(Saisie!N8=data!$S$16,"OK",IF(Saisie!N8=data!$S$17,"OK",IF(Saisie!N8=data!$S$18,"OK",IF(Saisie!Q8<>"",IF(Saisie!P8<>"",IF(Saisie!R8<>"","OK","Incomplet"),"Incomplet"),"Incomplet")))))))))))))))))),"Incomplet"),"Incomplet")) -> OK | AJ8: =IF(S8="","OK",IF(Saisie!S8<>"",IF(Saisie!T8<>"",IF(Saisie!S8=data!$S$2,"OK",IF(Saisie!S8=data!$S$3,"OK",IF(Saisie!S8=data!$S$4,"OK",IF(Saisie!S8=data!$S$5,"OK",IF(Saisie!S8=data!$S$6,"OK",IF(Saisie!S8=data!$S$7,"OK",IF(Saisie!S8=data!$S$8,"OK",IF(Saisie!S8=data!$S$9,"OK",IF(Saisie!S8=data!$S$10,"OK",IF(Saisie!S8=data!$S$11,"OK",IF(Saisie!S8=data!$S$12,"OK",IF(Saisie!S8=data!$S$13,"OK",IF(Saisie!S8=data!$S$14,"OK",IF(Saisie!S8=data!$S$15,"OK",IF(Saisie!S8=data!$S$16,"OK",IF(Saisie!S8=data!$S$17,"OK",IF(Saisie!S8=data!$S$18,"OK",IF(Saisie!V8<>"",IF(Saisie!U8<>"",IF(Saisie!W8<>"","OK","Incomplet"),"Incomplet"),"Incomplet")))))))))))))))))),"Incomplet"),"Incomplet")) -> OK | AK8: =IF(X8="","OK",IF(Saisie!X8<>"",IF(Saisie!Y8<>"",IF(Saisie!X8=data!$S$2,"OK",IF(Saisie!X8=data!$S$3,"OK",IF(Saisie!X8=data!$S$4,"OK",IF(Saisie!X8=data!$S$5,"OK",IF(Saisie!X8=data!$S$6,"OK",IF(Saisie!X8=data!$S$7,"OK",IF(Saisie!X8=data!$S$8,"OK",IF(Saisie!X8=data!$S$9,"OK",IF(Saisie!X8=data!$S$10,"OK",IF(Saisie!X8=data!$S$11,"OK",IF(Saisie!X8=data!$S$12,"OK",IF(Saisie!X8=data!$S$13,"OK",IF(Saisie!X8=data!$S$14,"OK",IF(Saisie!X8=data!$S$15,"OK",IF(Saisie!X8=data!$S$16,"OK",IF(Saisie!X8=data!$S$17,"OK",IF(Saisie!X8=data!$S$18,"OK",IF(Saisie!AA8<>"",IF(Saisie!Z8<>"",IF(Saisie!AB8<>"","OK","Incomplet"),"Incomplet"),"Incomplet")))))))))))))))))),"Incomplet"),"Incomplet")) -> OK | AL8: =IF(AC8="","OK",IF(Saisie!AC8<>"",IF(Saisie!AD8<>"",IF(Saisie!AC8=data!$S$2,"OK",IF(Saisie!AC8=data!$S$3,"OK",IF(Saisie!AC8=data!$S$4,"OK",IF(Saisie!AC8=data!$S$5,"OK",IF(Saisie!AC8=data!$S$6,"OK",IF(Saisie!AC8=data!$S$7,"OK",IF(Saisie!AC8=data!$S$8,"OK",IF(Saisie!AC8=data!$S$9,"OK",IF(Saisie!AC8=data!$S$10,"OK",IF(Saisie!AC8=data!$S$11,"OK",IF(Saisie!AC8=data!$S$12,"OK",IF(Saisie!AC8=data!$S$13,"OK",IF(Saisie!AC8=data!$S$14,"OK",IF(Saisie!AC8=data!$S$15,"OK",IF(Saisie!AC8=data!$S$16,"OK",IF(Saisie!AC8=data!$S$17,"OK",IF(Saisie!AC8=data!$S$18,"OK",IF(Saisie!AF8<>"",IF(Saisie!AE8<>"",IF(Saisie!AG8<>"","OK","Incomplet"),"Incomplet"),"Incomplet")))))))))))))))))),"Incomplet"),"Incomplet")) -> OK
A9: =A8+1 -> 43804 | B9: =IF(G9<>"",IF(Frais!C10<>"",IF(Frais!C10=data!$U$2,IF(Saisie!C9<>"",IF(Saisie!C9=data!$U$2,"OUI","NON"),"NON"),"NON"),"NON"),"") | C9: =IF(E9<>"",IF(AH9=data!$T$3,IF(AI9=data!$T$3,IF(AJ9=data!$T$3,IF(AK9=data!$T$3,IF(AL9=data!$T$3,"OUI","Incomplet"),"Incomplet"),"Incomplet"),"Incomplet"),"Incomplet"),"Incomplet") -> Incomplet | D9: =(H9-G9)-IF(E9<>"",IF(E9=data!$T$4,(Frais!F10-Frais!E10),IF((H9-G9)>=data!$P$9,data!$P$11,0))) -> 0 | F9: =H9-G9 -> 0 | AH9: =IF(Saisie!I9<>"",IF(Saisie!J9<>"",IF(Saisie!I9=data!$S$2,"OK",IF(Saisie!I9=data!$S$3,"OK",IF(Saisie!I9=data!$S$4,"OK",IF(Saisie!I9=data!$S$5,"OK",IF(Saisie!I9=data!$S$6,"OK",IF(Saisie!I9=data!$S$7,"OK",IF(Saisie!I9=data!$S$8,"OK",IF(Saisie!I9=data!$S$9,"OK",IF(Saisie!I9=data!$S$10,"OK",IF(Saisie!I9=data!$S$11,"OK",IF(Saisie!I9=data!$S$12,"OK",IF(Saisie!I9=data!$S$13,"OK",IF(Saisie!I9=data!$S$14,"OK",IF(Saisie!I9=data!$S$15,"OK",IF(Saisie!I9=data!$S$16,"OK",IF(Saisie!I9=data!$S$17,"OK",IF(Saisie!I9=data!$S$18,"OK",IF(Saisie!L9<>"",IF(Saisie!K9<>"",IF(Saisie!M9<>"","OK","Incomplet"),"Incomplet"),"Incomplet")))))))))))))))))),"Incomplet"),"Incomplet") -> Incomplet | AI9: =IF(N9="","OK",IF(Saisie!N9<>"",IF(Saisie!O9<>"",IF(Saisie!N9=data!$S$2,"OK",IF(Saisie!N9=data!$S$3,"OK",IF(Saisie!N9=data!$S$4,"OK",IF(Saisie!N9=data!$S$5,"OK",IF(Saisie!N9=data!$S$6,"OK",IF(Saisie!N9=data!$S$7,"OK",IF(Saisie!N9=data!$S$8,"OK",IF(Saisie!N9=data!$S$9,"OK",IF(Saisie!N9=data!$S$10,"OK",IF(Saisie!N9=data!$S$11,"OK",IF(Saisie!N9=data!$S$12,"OK",IF(Saisie!N9=data!$S$13,"OK",IF(Saisie!N9=data!$S$14,"OK",IF(Saisie!N9=data!$S$15,"OK",IF(Saisie!N9=data!$S$16,"OK",IF(Saisie!N9=data!$S$17,"OK",IF(Saisie!N9=data!$S$18,"OK",IF(Saisie!Q9<>"",IF(Saisie!P9<>"",IF(Saisie!R9<>"","OK","Incomplet"),"Incomplet"),"Incomplet")))))))))))))))))),"Incomplet"),"Incomplet")) -> OK | AJ9: =IF(S9="","OK",IF(Saisie!S9<>"",IF(Saisie!T9<>"",IF(Saisie!S9=data!$S$2,"OK",IF(Saisie!S9=data!$S$3,"OK",IF(Saisie!S9=data!$S$4,"OK",IF(Saisie!S9=data!$S$5,"OK",IF(Saisie!S9=data!$S$6,"OK",IF(Saisie!S9=data!$S$7,"OK",IF(Saisie!S9=data!$S$8,"OK",IF(Saisie!S9=data!$S$9,"OK",IF(Saisie!S9=data!$S$10,"OK",IF(Saisie!S9=data!$S$11,"OK",IF(Saisie!S9=data!$S$12,"OK",IF(Saisie!S9=data!$S$13,"OK",IF(Saisie!S9=data!$S$14,"OK",IF(Saisie!S9=data!$S$15,"OK",IF(Saisie!S9=data!$S$16,"OK",IF(Saisie!S9=data!$S$17,"OK",IF(Saisie!S9=data!$S$18,"OK",IF(Saisie!V9<>"",IF(Saisie!U9<>"",IF(Saisie!W9<>"","OK","Incomplet"),"Incomplet"),"Incomplet")))))))))))))))))),"Incomplet"),"Incomplet")) -> OK | AK9: =IF(X9="","OK",IF(Saisie!X9<>"",IF(Saisie!Y9<>"",IF(Saisie!X9=data!$S$2,"OK",IF(Saisie!X9=data!$S$3,"OK",IF(Saisie!X9=data!$S$4,"OK",IF(Saisie!X9=data!$S$5,"OK",IF(Saisie!X9=data!$S$6,"OK",IF(Saisie!X9=data!$S$7,"OK",IF(Saisie!X9=data!$S$8,"OK",IF(Saisie!X9=data!$S$9,"OK",IF(Saisie!X9=data!$S$10,"OK",IF(Saisie!X9=data!$S$11,"OK",IF(Saisie!X9=data!$S$12,"OK",IF(Saisie!X9=data!$S$13,"OK",IF(Saisie!X9=data!$S$14,"OK",IF(Saisie!X9=data!$S$15,"OK",IF(Saisie!X9=data!$S$16,"OK",IF(Saisie!X9=data!$S$17,"OK",IF(Saisie!X9=data!$S$18,"OK",IF(Saisie!AA9<>"",IF(Saisie!Z9<>"",IF(Saisie!AB9<>"","OK","Incomplet"),"Incomplet"),"Incomplet")))))))))))))))))),"Incomplet"),"Incomplet")) -> OK | AL9: =IF(AC9="","OK",IF(Saisie!AC9<>"",IF(Saisie!AD9<>"",IF(Saisie!AC9=data!$S$2,"OK",IF(Saisie!AC9=data!$S$3,"OK",IF(Saisie!AC9=data!$S$4,"OK",IF(Saisie!AC9=data!$S$5,"OK",IF(Saisie!AC9=data!$S$6,"OK",IF(Saisie!AC9=data!$S$7,"OK",IF(Saisie!AC9=data!$S$8,"OK",IF(Saisie!AC9=data!$S$9,"OK",IF(Saisie!AC9=data!$S$10,"OK",IF(Saisie!AC9=data!$S$11,"OK",IF(Saisie!AC9=data!$S$12,"OK",IF(Saisie!AC9=data!$S$13,"OK",IF(Saisie!AC9=data!$S$14,"OK",IF(Saisie!AC9=data!$S$15,"OK",IF(Saisie!AC9=data!$S$16,"OK",IF(Saisie!AC9=data!$S$17,"OK",IF(Saisie!AC9=data!$S$18,"OK",IF(Saisie!AF9<>"",IF(Saisie!AE9<>"",IF(Saisie!AG9<>"","OK","Incomplet"),"Incomplet"),"Incomplet")))))))))))))))))),"Incomplet"),"Incomplet")) -> OK
A10: =A9+1 -> 43805 | B10: =IF(G10<>"",IF(Frais!C11<>"",IF(Frais!C11=data!$U$2,IF(Saisie!C10<>"",IF(Saisie!C10=data!$U$2,"OUI","NON"),"NON"),"NON"),"NON"),"") | C10: =IF(E10<>"",IF(AH10=data!$T$3,IF(AI10=data!$T$3,IF(AJ10=data!$T$3,IF(AK10=data!$T$3,IF(AL10=data!$T$3,"OUI","Incomplet"),"Incomplet"),"Incomplet"),"Incomplet"),"Incomplet"),"Incomplet") -> Incomplet | D10: =(H10-G10)-IF(E10<>"",IF(E10=data!$T$4,(Frais!F11-Frais!E11),IF((H10-G10)>=data!$P$9,data!$P$11,0))) -> 0 | F10: =H10-G10 -> 0 | AH10: =IF(Saisie!I10<>"",IF(Saisie!J10<>"",IF(Saisie!I10=data!$S$2,"OK",IF(Saisie!I10=data!$S$3,"OK",IF(Saisie!I10=data!$S$4,"OK",IF(Saisie!I10=data!$S$5,"OK",IF(Saisie!I10=data!$S$6,"OK",IF(Saisie!I10=data!$S$7,"OK",IF(Saisie!I10=data!$S$8,"OK",IF(Saisie!I10=data!$S$9,"OK",IF(Saisie!I10=data!$S$10,"OK",IF(Saisie!I10=data!$S$11,"OK",IF(Saisie!I10=data!$S$12,"OK",IF(Saisie!I10=data!$S$13,"OK",IF(Saisie!I10=data!$S$14,"OK",IF(Saisie!I10=data!$S$15,"OK",IF(Saisie!I10=data!$S$16,"OK",IF(Saisie!I10=data!$S$17,"OK",IF(Saisie!I10=data!$S$18,"OK",IF(Saisie!L10<>"",IF(Saisie!K10<>"",IF(Saisie!M10<>"","OK","Incomplet"),"Incomplet"),"Incomplet")))))))))))))))))),"Incomplet"),"Incomplet") -> Incomplet | AI10: =IF(N10="","OK",IF(Saisie!N10<>"",IF(Saisie!O10<>"",IF(Saisie!N10=data!$S$2,"OK",IF(Saisie!N10=data!$S$3,"OK",IF(Saisie!N10=data!$S$4,"OK",IF(Saisie!N10=data!$S$5,"OK",IF(Saisie!N10=data!$S$6,"OK",IF(Saisie!N10=data!$S$7,"OK",IF(Saisie!N10=data!$S$8,"OK",IF(Saisie!N10=data!$S$9,"OK",IF(Saisie!N10=data!$S$10,"OK",IF(Saisie!N10=data!$S$11,"OK",IF(Saisie!N10=data!$S$12,"OK",IF(Saisie!N10=data!$S$13,"OK",IF(Saisie!N10=data!$S$14,"OK",IF(Saisie!N10=data!$S$15,"OK",IF(Saisie!N10=data!$S$16,"OK",IF(Saisie!N10=data!$S$17,"OK",IF(Saisie!N10=data!$S$18,"OK",IF(Saisie!Q10<>"",IF(Saisie!P10<>"",IF(Saisie!R10<>"","OK","Incomplet"),"Incomplet"),"Incomplet")))))))))))))))))),"Incomplet"),"Incomplet")) -> OK | AJ10: =IF(S10="","OK",IF(Saisie!S10<>"",IF(Saisie!T10<>"",IF(Saisie!S10=data!$S$2,"OK",IF(Saisie!S10=data!$S$3,"OK",IF(Saisie!S10=data!$S$4,"OK",IF(Saisie!S10=data!$S$5,"OK",IF(Saisie!S10=data!$S$6,"OK",IF(Saisie!S10=data!$S$7,"OK",IF(Saisie!S10=data!$S$8,"OK",IF(Saisie!S10=data!$S$9,"OK",IF(Saisie!S10=data!$S$10,"OK",IF(Saisie!S10=data!$S$11,"OK",IF(Saisie!S10=data!$S$12,"OK",IF(Saisie!S10=data!$S$13,"OK",IF(Saisie!S10=data!$S$14,"OK",IF(Saisie!S10=data!$S$15,"OK",IF(Saisie!S10=data!$S$16,"OK",IF(Saisie!S10=data!$S$17,"OK",IF(Saisie!S10=data!$S$18,"OK",IF(Saisie!V10<>"",IF(Saisie!U10<>"",IF(Saisie!W10<>"","OK","Incomplet"),"Incomplet"),"Incomplet")))))))))))))))))),"Incomplet"),"Incomplet")) -> OK | AK10: =IF(X10="","OK",IF(Saisie!X10<>"",IF(Saisie!Y10<>"",IF(Saisie!X10=data!$S$2,"OK",IF(Saisie!X10=data!$S$3,"OK",IF(Saisie!X10=data!$S$4,"OK",IF(Saisie!X10=data!$S$5,"OK",IF(Saisie!X10=data!$S$6,"OK",IF(Saisie!X10=data!$S$7,"OK",IF(Saisie!X10=data!$S$8,"OK",IF(Saisie!X10=data!$S$9,"OK",IF(Saisie!X10=data!$S$10,"OK",IF(Saisie!X10=data!$S$11,"OK",IF(Saisie!X10=data!$S$12,"OK",IF(Saisie!X10=data!$S$13,"OK",IF(Saisie!X10=data!$S$14,"OK",IF(Saisie!X10=data!$S$15,"OK",IF(Saisie!X10=data!$S$16,"OK",IF(Saisie!X10=data!$S$17,"OK",IF(Saisie!X10=data!$S$18,"OK",IF(Saisie!AA10<>"",IF(Saisie!Z10<>"",IF(Saisie!AB10<>"","OK","Incomplet"),"Incomplet"),"Incomplet")))))))))))))))))),"Incomplet"),"Incomplet")) -> OK | AL10: =IF(AC10="","OK",IF(Saisie!AC10<>"",IF(Saisie!AD10<>"",IF(Saisie!AC10=data!$S$2,"OK",IF(Saisie!AC10=data!$S$3,"OK",IF(Saisie!AC10=data!$S$4,"OK",IF(Saisie!AC10=data!$S$5,"OK",IF(Saisie!AC10=data!$S$6,"OK",IF(Saisie!AC10=data!$S$7,"OK",IF(Saisie!AC10=data!$S$8,"OK",IF(Saisie!AC10=data!$S$9,"OK",IF(Saisie!AC10=data!$S$10,"OK",IF(Saisie!AC10=data!$S$11,"OK",IF(Saisie!AC10=data!$S$12,"OK",IF(Saisie!AC10=data!$S$13,"OK",IF(Saisie!AC10=data!$S$14,"OK",IF(Saisie!AC10=data!$S$15,"OK",IF(Saisie!AC10=data!$S$16,"OK",IF(Saisie!AC10=data!$S$17,"OK",IF(Saisie!AC10=data!$S$18,"OK",IF(Saisie!AF10<>"",IF(Saisie!AE10<>"",IF(Saisie!AG10<>"","OK","Incomplet"),"Incomplet"),"Incomplet")))))))))))))))))),"Incomplet"),"Incomplet")) -> OK
A11: =A10+1 -> 43806 | B11: =IF(G11<>"",IF(Frais!C12<>"",IF(Frais!C12=data!$U$2,IF(Saisie!C11<>"",IF(Saisie!C11=data!$U$2,"OUI","NON"),"NON"),"NON"),"NON"),"") | C11: =IF(E11<>"",IF(AH11=data!$T$3,IF(AI11=data!$T$3,IF(AJ11=data!$T$3,IF(AK11=data!$T$3,IF(AL11=data!$T$3,"OUI","Incomplet"),"Incomplet"),"Incomplet"),"Incomplet"),"Incomplet"),"Incomplet") -> Incomplet | D11: =(H11-G11)-IF(E11<>"",IF(E11=data!$T$4,(Frais!F12-Frais!E12),IF((H11-G11)>=data!$P$9,data!$P$11,0))) -> 0 | F11: =H11-G11 -> 0 | AH11: =IF(Saisie!I11<>"",IF(Saisie!J11<>"",IF(Saisie!I11=data!$S$2,"OK",IF(Saisie!I11=data!$S$3,"OK",IF(Saisie!I11=data!$S$4,"OK",IF(Saisie!I11=data!$S$5,"OK",IF(Saisie!I11=data!$S$6,"OK",IF(Saisie!I11=data!$S$7,"OK",IF(Saisie!I11=data!$S$8,"OK",IF(Saisie!I11=data!$S$9,"OK",IF(Saisie!I11=data!$S$10,"OK",IF(Saisie!I11=data!$S$11,"OK",IF(Saisie!I11=data!$S$12,"OK",IF(Saisie!I11=data!$S$13,"OK",IF(Saisie!I11=data!$S$14,"OK",IF(Saisie!I11=data!$S$15,"OK",IF(Saisie!I11=data!$S$16,"OK",IF(Saisie!I11=data!$S$17,"OK",IF(Saisie!I11=data!$S$18,"OK",IF(Saisie!L11<>"",IF(Saisie!K11<>"",IF(Saisie!M11<>"","OK","Incomplet"),"Incomplet"),"Incomplet")))))))))))))))))),"Incomplet"),"Incomplet") -> Incomplet | AI11: =IF(N11="","OK",IF(Saisie!N11<>"",IF(Saisie!O11<>"",IF(Saisie!N11=data!$S$2,"OK",IF(Saisie!N11=data!$S$3,"OK",IF(Saisie!N11=data!$S$4,"OK",IF(Saisie!N11=data!$S$5,"OK",IF(Saisie!N11=data!$S$6,"OK",IF(Saisie!N11=data!$S$7,"OK",IF(Saisie!N11=data!$S$8,"OK",IF(Saisie!N11=data!$S$9,"OK",IF(Saisie!N11=data!$S$10,"OK",IF(Saisie!N11=data!$S$11,"OK",IF(Saisie!N11=data!$S$12,"OK",IF(Saisie!N11=data!$S$13,"OK",IF(Saisie!N11=data!$S$14,"OK",IF(Saisie!N11=data!$S$15,"OK",IF(Saisie!N11=data!$S$16,"OK",IF(Saisie!N11=data!$S$17,"OK",IF(Saisie!N11=data!$S$18,"OK",IF(Saisie!Q11<>"",IF(Saisie!P11<>"",IF(Saisie!R11<>"","OK","Incomplet"),"Incomplet"),"Incomplet")))))))))))))))))),"Incomplet"),"Incomplet")) -> OK | AJ11: =IF(S11="","OK",IF(Saisie!S11<>"",IF(Saisie!T11<>"",IF(Saisie!S11=data!$S$2,"OK",IF(Saisie!S11=data!$S$3,"OK",IF(Saisie!S11=data!$S$4,"OK",IF(Saisie!S11=data!$S$5,"OK",IF(Saisie!S11=data!$S$6,"OK",IF(Saisie!S11=data!$S$7,"OK",IF(Saisie!S11=data!$S$8,"OK",IF(Saisie!S11=data!$S$9,"OK",IF(Saisie!S11=data!$S$10,"OK",IF(Saisie!S11=data!$S$11,"OK",IF(Saisie!S11=data!$S$12,"OK",IF(Saisie!S11=data!$S$13,"OK",IF(Saisie!S11=data!$S$14,"OK",IF(Saisie!S11=data!$S$15,"OK",IF(Saisie!S11=data!$S$16,"OK",IF(Saisie!S11=data!$S$17,"OK",IF(Saisie!S11=data!$S$18,"OK",IF(Saisie!V11<>"",IF(Saisie!U11<>"",IF(Saisie!W11<>"","OK","Incomplet"),"Incomplet"),"Incomplet")))))))))))))))))),"Incomplet"),"Incomplet")) -> OK | AK11: =IF(X11="","OK",IF(Saisie!X11<>"",IF(Saisie!Y11<>"",IF(Saisie!X11=data!$S$2,"OK",IF(Saisie!X11=data!$S$3,"OK",IF(Saisie!X11=data!$S$4,"OK",IF(Saisie!X11=data!$S$5,"OK",IF(Saisie!X11=data!$S$6,"OK",IF(Saisie!X11=data!$S$7,"OK",IF(Saisie!X11=data!$S$8,"OK",IF(Saisie!X11=data!$S$9,"OK",IF(Saisie!X11=data!$S$10,"OK",IF(Saisie!X11=data!$S$11,"OK",IF(Saisie!X11=data!$S$12,"OK",IF(Saisie!X11=data!$S$13,"OK",IF(Saisie!X11=data!$S$14,"OK",IF(Saisie!X11=data!$S$15,"OK",IF(Saisie!X11=data!$S$16,"OK",IF(Saisie!X11=data!$S$17,"OK",IF(Saisie!X11=data!$S$18,"OK",IF(Saisie!AA11<>"",IF(Saisie!Z11<>"",IF(Saisie!AB11<>"","OK","Incomplet"),"Incomplet"),"Incomplet")))))))))))))))))),"Incomplet"),"Incomplet")) -> OK | AL11: =IF(AC11="","OK",IF(Saisie!AC11<>"",IF(Saisie!AD11<>"",IF(Saisie!AC11=data!$S$2,"OK",IF(Saisie!AC11=data!$S$3,"OK",IF(Saisie!AC11=data!$S$4,"OK",IF(Saisie!AC11=data!$S$5,"OK",IF(Saisie!AC11=data!$S$6,"OK",IF(Saisie!AC11=data!$S$7,"OK",IF(Saisie!AC11=data!$S$8,"OK",IF(Saisie!AC11=data!$S$9,"OK",IF(Saisie!AC11=data!$S$10,"OK",IF(Saisie!AC11=data!$S$11,"OK",IF(Saisie!AC11=data!$S$12,"OK",IF(Saisie!AC11=data!$S$13,"OK",IF(Saisie!AC11=data!$S$14,"OK",IF(Saisie!AC11=data!$S$15,"OK",IF(Saisie!AC11=data!$S$16,"OK",IF(Saisie!AC11=data!$S$17,"OK",IF(Saisie!AC11=data!$S$18,"OK",IF(Saisie!AF11<>"",IF(Saisie!AE11<>"",IF(Saisie!AG11<>"","OK","Incomplet"),"Incomplet"),"Incomplet")))))))))))))))))),"Incomplet"),"Incomplet")) -> OK
A12: =A11+1 -> 43807 | B12: =IF(G12<>"",IF(Frais!C13<>"",IF(Frais!C13=data!$U$2,IF(Saisie!C12<>"",IF(Saisie!C12=data!$U$2,"OUI","NON"),"NON"),"NON"),"NON"),"") | C12: =IF(E12<>"",IF(AH12=data!$T$3,IF(AI12=data!$T$3,IF(AJ12=data!$T$3,IF(AK12=data!$T$3,IF(AL12=data!$T$3,"OUI","Incomplet"),"Incomplet"),"Incomplet"),"Incomplet"),"Incomplet"),"Incomplet") -> Incomplet | D12: =(H12-G12)-IF(E12<>"",IF(E12=data!$T$4,(Frais!F13-Frais!E13),IF((H12-G12)>=data!$P$9,data!$P$11,0))) -> 0 | F12: =H12-G12 -> 0 | AH12: =IF(Saisie!I12<>"",IF(Saisie!J12<>"",IF(Saisie!I12=data!$S$2,"OK",IF(Saisie!I12=data!$S$3,"OK",IF(Saisie!I12=data!$S$4,"OK",IF(Saisie!I12=data!$S$5,"OK",IF(Saisie!I12=data!$S$6,"OK",IF(Saisie!I12=data!$S$7,"OK",IF(Saisie!I12=data!$S$8,"OK",IF(Saisie!I12=data!$S$9,"OK",IF(Saisie!I12=data!$S$10,"OK",IF(Saisie!I12=data!$S$11,"OK",IF(Saisie!I12=data!$S$12,"OK",IF(Saisie!I12=data!$S$13,"OK",IF(Saisie!I12=data!$S$14,"OK",IF(Saisie!I12=data!$S$15,"OK",IF(Saisie!I12=data!$S$16,"OK",IF(Saisie!I12=data!$S$17,"OK",IF(Saisie!I12=data!$S$18,"OK",IF(Saisie!L12<>"",IF(Saisie!K12<>"",IF(Saisie!M12<>"","OK","Incomplet"),"Incomplet"),"Incomplet")))))))))))))))))),"Incomplet"),"Incomplet") -> Incomplet | AI12: =IF(N12="","OK",IF(Saisie!N12<>"",IF(Saisie!O12<>"",IF(Saisie!N12=data!$S$2,"OK",IF(Saisie!N12=data!$S$3,"OK",IF(Saisie!N12=data!$S$4,"OK",IF(Saisie!N12=data!$S$5,"OK",IF(Saisie!N12=data!$S$6,"OK",IF(Saisie!N12=data!$S$7,"OK",IF(Saisie!N12=data!$S$8,"OK",IF(Saisie!N12=data!$S$9,"OK",IF(Saisie!N12=data!$S$10,"OK",IF(Saisie!N12=data!$S$11,"OK",IF(Saisie!N12=data!$S$12,"OK",IF(Saisie!N12=data!$S$13,"OK",IF(Saisie!N12=data!$S$14,"OK",IF(Saisie!N12=data!$S$15,"OK",IF(Saisie!N12=data!$S$16,"OK",IF(Saisie!N12=data!$S$17,"OK",IF(Saisie!N12=data!$S$18,"OK",IF(Saisie!Q12<>"",IF(Saisie!P12<>"",IF(Saisie!R12<>"","OK","Incomplet"),"Incomplet"),"Incomplet")))))))))))))))))),"Incomplet"),"Incomplet")) -> OK | AJ12: =IF(S12="","OK",IF(Saisie!S12<>"",IF(Saisie!T12<>"",IF(Saisie!S12=data!$S$2,"OK",IF(Saisie!S12=data!$S$3,"OK",IF(Saisie!S12=data!$S$4,"OK",IF(Saisie!S12=data!$S$5,"OK",IF(Saisie!S12=data!$S$6,"OK",IF(Saisie!S12=data!$S$7,"OK",IF(Saisie!S12=data!$S$8,"OK",IF(Saisie!S12=data!$S$9,"OK",IF(Saisie!S12=data!$S$10,"OK",IF(Saisie!S12=data!$S$11,"OK",IF(Saisie!S12=data!$S$12,"OK",IF(Saisie!S12=data!$S$13,"OK",IF(Saisie!S12=data!$S$14,"OK",IF(Saisie!S12=data!$S$15,"OK",IF(Saisie!S12=data!$S$16,"OK",IF(Saisie!S12=data!$S$17,"OK",IF(Saisie!S12=data!$S$18,"OK",IF(Saisie!V12<>"",IF(Saisie!U12<>"",IF(Saisie!W12<>"","OK","Incomplet"),"Incomplet"),"Incomplet")))))))))))))))))),"Incomplet"),"Incomplet")) -> OK | AK12: =IF(X12="","OK",IF(Saisie!X12<>"",IF(Saisie!Y12<>"",IF(Saisie!X12=data!$S$2,"OK",IF(Saisie!X12=data!$S$3,"OK",IF(Saisie!X12=data!$S$4,"OK",IF(Saisie!X12=data!$S$5,"OK",IF(Saisie!X12=data!$S$6,"OK",IF(Saisie!X12=data!$S$7,"OK",IF(Saisie!X12=data!$S$8,"OK",IF(Saisie!X12=data!$S$9,"OK",IF(Saisie!X12=data!$S$10,"OK",IF(Saisie!X12=data!$S$11,"OK",IF(Saisie!X12=data!$S$12,"OK",IF(Saisie!X12=data!$S$13,"OK",IF(Saisie!X12=data!$S$14,"OK",IF(Saisie!X12=data!$S$15,"OK",IF(Saisie!X12=data!$S$16,"OK",IF(Saisie!X12=data!$S$17,"OK",IF(Saisie!X12=data!$S$18,"OK",IF(Saisie!AA12<>"",IF(Saisie!Z12<>"",IF(Saisie!AB12<>"","OK","Incomplet"),"Incomplet"),"Incomplet")))))))))))))))))),"Incomplet"),"Incomplet")) -> OK | AL12: =IF(AC12="","OK",IF(Saisie!AC12<>"",IF(Saisie!AD12<>"",IF(Saisie!AC12=data!$S$2,"OK",IF(Saisie!AC12=data!$S$3,"OK",IF(Saisie!AC12=data!$S$4,"OK",IF(Saisie!AC12=data!$S$5,"OK",IF(Saisie!AC12=data!$S$6,"OK",IF(Saisie!AC12=data!$S$7,"OK",IF(Saisie!AC12=data!$S$8,"OK",IF(Saisie!AC12=data!$S$9,"OK",IF(Saisie!AC12=data!$S$10,"OK",IF(Saisie!AC12=data!$S$11,"OK",IF(Saisie!AC12=data!$S$12,"OK",IF(Saisie!AC12=data!$S$13,"OK",IF(Saisie!AC12=data!$S$14,"OK",IF(Saisie!AC12=data!$S$15,"OK",IF(Saisie!AC12=data!$S$16,"OK",IF(Saisie!AC12=data!$S$17,"OK",IF(Saisie!AC12=data!$S$18,"OK",IF(Saisie!AF12<>"",IF(Saisie!AE12<>"",IF(Saisie!AG12<>"","OK","Incomplet"),"Incomplet"),"Incomplet")))))))))))))))))),"Incomplet"),"Incomplet")) -> OK
A13: =A12+1 -> 43808 | B13: =IF(G13<>"",IF(Frais!C14<>"",IF(Frais!C14=data!$U$2,IF(Saisie!C13<>"",IF(Saisie!C13=data!$U$2,"OUI","NON"),"NON"),"NON"),"NON"),"") | C13: =IF(E13<>"",IF(AH13=data!$T$3,IF(AI13=data!$T$3,IF(AJ13=data!$T$3,IF(AK13=data!$T$3,IF(AL13=data!$T$3,"OUI","Incomplet"),"Incomplet"),"Incomplet"),"Incomplet"),"Incomplet"),"Incomplet") -> Incomplet | D13: =(H13-G13)-IF(E13<>"",IF(E13=data!$T$4,(Frais!F14-Frais!E14),IF((H13-G13)>=data!$P$9,data!$P$11,0))) -> 0 | F13: =H13-G13 -> 0 | AH13: =IF(Saisie!I13<>"",IF(Saisie!J13<>"",IF(Saisie!I13=data!$S$2,"OK",IF(Saisie!I13=data!$S$3,"OK",IF(Saisie!I13=data!$S$4,"OK",IF(Saisie!I13=data!$S$5,"OK",IF(Saisie!I13=data!$S$6,"OK",IF(Saisie!I13=data!$S$7,"OK",IF(Saisie!I13=data!$S$8,"OK",IF(Saisie!I13=data!$S$9,"OK",IF(Saisie!I13=data!$S$10,"OK",IF(Saisie!I13=data!$S$11,"OK",IF(Saisie!I13=data!$S$12,"OK",IF(Saisie!I13=data!$S$13,"OK",IF(Saisie!I13=data!$S$14,"OK",IF(Saisie!I13=data!$S$15,"OK",IF(Saisie!I13=data!$S$16,"OK",IF(Saisie!I13=data!$S$17,"OK",IF(Saisie!I13=data!$S$18,"OK",IF(Saisie!L13<>"",IF(Saisie!K13<>"",IF(Saisie!M13<>"","OK","Incomplet"),"Incomplet"),"Incomplet")))))))))))))))))),"Incomplet"),"Incomplet") -> Incomplet | AI13: =IF(N13="","OK",IF(Saisie!N13<>"",IF(Saisie!O13<>"",IF(Saisie!N13=data!$S$2,"OK",IF(Saisie!N13=data!$S$3,"OK",IF(Saisie!N13=data!$S$4,"OK",IF(Saisie!N13=data!$S$5,"OK",IF(Saisie!N13=data!$S$6,"OK",IF(Saisie!N13=data!$S$7,"OK",IF(Saisie!N13=data!$S$8,"OK",IF(Saisie!N13=data!$S$9,"OK",IF(Saisie!N13=data!$S$10,"OK",IF(Saisie!N13=data!$S$11,"OK",IF(Saisie!N13=data!$S$12,"OK",IF(Saisie!N13=data!$S$13,"OK",IF(Saisie!N13=data!$S$14,"OK",IF(Saisie!N13=data!$S$15,"OK",IF(Saisie!N13=data!$S$16,"OK",IF(Saisie!N13=data!$S$17,"OK",IF(Saisie!N13=data!$S$18,"OK",IF(Saisie!Q13<>"",IF(Saisie!P13<>"",IF(Saisie!R13<>"","OK","Incomplet"),"Incomplet"),"Incomplet")))))))))))))))))),"Incomplet"),"Incomplet")) -> OK | AJ13: =IF(S13="","OK",IF(Saisie!S13<>"",IF(Saisie!T13<>"",IF(Saisie!S13=data!$S$2,"OK",IF(Saisie!S13=data!$S$3,"OK",IF(Saisie!S13=data!$S$4,"OK",IF(Saisie!S13=data!$S$5,"OK",IF(Saisie!S13=data!$S$6,"OK",IF(Saisie!S13=data!$S$7,"OK",IF(Saisie!S13=data!$S$8,"OK",IF(Saisie!S13=data!$S$9,"OK",IF(Saisie!S13=data!$S$10,"OK",IF(Saisie!S13=data!$S$11,"OK",IF(Saisie!S13=data!$S$12,"OK",IF(Saisie!S13=data!$S$13,"OK",IF(Saisie!S13=data!$S$14,"OK",IF(Saisie!S13=data!$S$15,"OK",IF(Saisie!S13=data!$S$16,"OK",IF(Saisie!S13=data!$S$17,"OK",IF(Saisie!S13=data!$S$18,"OK",IF(Saisie!V13<>"",IF(Saisie!U13<>"",IF(Saisie!W13<>"","OK","Incomplet"),"Incomplet"),"Incomplet")))))))))))))))))),"Incomplet"),"Incomplet")) -> OK | AK13: =IF(X13="","OK",IF(Saisie!X13<>"",IF(Saisie!Y13<>"",IF(Saisie!X13=data!$S$2,"OK",IF(Saisie!X13=data!$S$3,"OK",IF(Saisie!X13=data!$S$4,"OK",IF(Saisie!X13=data!$S$5,"OK",IF(Saisie!X13=data!$S$6,"OK",IF(Saisie!X13=data!$S$7,"OK",IF(Saisie!X13=data!$S$8,"OK",IF(Saisie!X13=data!$S$9,"OK",IF(Saisie!X13=data!$S$10,"OK",IF(Saisie!X13=data!$S$11,"OK",IF(Saisie!X13=data!$S$12,"OK",IF(Saisie!X13=data!$S$13,"OK",IF(Saisie!X13=data!$S$14,"OK",IF(Saisie!X13=data!$S$15,"OK",IF(Saisie!X13=data!$S$16,"OK",IF(Saisie!X13=data!$S$17,"OK",IF(Saisie!X13=data!$S$18,"OK",IF(Saisie!AA13<>"",IF(Saisie!Z13<>"",IF(Saisie!AB13<>"","OK","Incomplet"),"Incomplet"),"Incomplet")))))))))))))))))),"Incomplet"),"Incomplet")) -> OK | AL13: =IF(AC13="","OK",IF(Saisie!AC13<>"",IF(Saisie!AD13<>"",IF(Saisie!AC13=data!$S$2,"OK",IF(Saisie!AC13=data!$S$3,"OK",IF(Saisie!AC13=data!$S$4,"OK",IF(Saisie!AC13=data!$S$5,"OK",IF(Saisie!AC13=data!$S$6,"OK",IF(Saisie!AC13=data!$S$7,"OK",IF(Saisie!AC13=data!$S$8,"OK",IF(Saisie!AC13=data!$S$9,"OK",IF(Saisie!AC13=data!$S$10,"OK",IF(Saisie!AC13=data!$S$11,"OK",IF(Saisie!AC13=data!$S$12,"OK",IF(Saisie!AC13=data!$S$13,"OK",IF(Saisie!AC13=data!$S$14,"OK",IF(Saisie!AC13=data!$S$15,"OK",IF(Saisie!AC13=data!$S$16,"OK",IF(Saisie!AC13=data!$S$17,"OK",IF(Saisie!AC13=data!$S$18,"OK",IF(Saisie!AF13<>"",IF(Saisie!AE13<>"",IF(Saisie!AG13<>"","OK","Incomplet"),"Incomplet"),"Incomplet")))))))))))))))))),"Incomplet"),"Incomplet")) -> OK
A14: =A13+1 -> 43809 | B14: =IF(G14<>"",IF(Frais!C15<>"",IF(Frais!C15=data!$U$2,IF(Saisie!C14<>"",IF(Saisie!C14=data!$U$2,"OUI","NON"),"NON"),"NON"),"NON"),"") | C14: =IF(E14<>"",IF(AH14=data!$T$3,IF(AI14=data!$T$3,IF(AJ14=data!$T$3,IF(AK14=data!$T$3,IF(AL14=data!$T$3,"OUI","Incomplet"),"Incomplet"),"Incomplet"),"Incomplet"),"Incomplet"),"Incomplet") -> Incomplet | D14: =(H14-G14)-IF(E14<>"",IF(E14=data!$T$4,(Frais!F15-Frais!E15),IF((H14-G14)>=data!$P$9,data!$P$11,0))) -> 0 | F14: =H14-G14 -> 0 | AH14: =IF(Saisie!I14<>"",IF(Saisie!J14<>"",IF(Saisie!I14=data!$S$2,"OK",IF(Saisie!I14=data!$S$3,"OK",IF(Saisie!I14=data!$S$4,"OK",IF(Saisie!I14=data!$S$5,"OK",IF(Saisie!I14=data!$S$6,"OK",IF(Saisie!I14=data!$S$7,"OK",IF(Saisie!I14=data!$S$8,"OK",IF(Saisie!I14=data!$S$9,"OK",IF(Saisie!I14=data!$S$10,"OK",IF(Saisie!I14=data!$S$11,"OK",IF(Saisie!I14=data!$S$12,"OK",IF(Saisie!I14=data!$S$13,"OK",IF(Saisie!I14=data!$S$14,"OK",IF(Saisie!I14=data!$S$15,"OK",IF(Saisie!I14=data!$S$16,"OK",IF(Saisie!I14=data!$S$17,"OK",IF(Saisie!I14=data!$S$18,"OK",IF(Saisie!L14<>"",IF(Saisie!K14<>"",IF(Saisie!M14<>"","OK","Incomplet"),"Incomplet"),"Incomplet")))))))))))))))))),"Incomplet"),"Incomplet") -> Incomplet | AI14: =IF(N14="","OK",IF(Saisie!N14<>"",IF(Saisie!O14<>"",IF(Saisie!N14=data!$S$2,"OK",IF(Saisie!N14=data!$S$3,"OK",IF(Saisie!N14=data!$S$4,"OK",IF(Saisie!N14=data!$S$5,"OK",IF(Saisie!N14=data!$S$6,"OK",IF(Saisie!N14=data!$S$7,"OK",IF(Saisie!N14=data!$S$8,"OK",IF(Saisie!N14=data!$S$9,"OK",IF(Saisie!N14=data!$S$10,"OK",IF(Saisie!N14=data!$S$11,"OK",IF(Saisie!N14=data!$S$12,"OK",IF(Saisie!N14=data!$S$13,"OK",IF(Saisie!N14=data!$S$14,"OK",IF(Saisie!N14=data!$S$15,"OK",IF(Saisie!N14=data!$S$16,"OK",IF(Saisie!N14=data!$S$17,"OK",IF(Saisie!N14=data!$S$18,"OK",IF(Saisie!Q14<>"",IF(Saisie!P14<>"",IF(Saisie!R14<>"","OK","Incomplet"),"Incomplet"),"Incomplet")))))))))))))))))),"Incomplet"),"Incomplet")) -> OK | AJ14: =IF(S14="","OK",IF(Saisie!S14<>"",IF(Saisie!T14<>"",IF(Saisie!S14=data!$S$2,"OK",IF(Saisie!S14=data!$S$3,"OK",IF(Saisie!S14=data!$S$4,"OK",IF(Saisie!S14=data!$S$5,"OK",IF(Saisie!S14=data!$S$6,"OK",IF(Saisie!S14=data!$S$7,"OK",IF(Saisie!S14=data!$S$8,"OK",IF(Saisie!S14=data!$S$9,"OK",IF(Saisie!S14=data!$S$10,"OK",IF(Saisie!S14=data!$S$11,"OK",IF(Saisie!S14=data!$S$12,"OK",IF(Saisie!S14=data!$S$13,"OK",IF(Saisie!S14=data!$S$14,"OK",IF(Saisie!S14=data!$S$15,"OK",IF(Saisie!S14=data!$S$16,"OK",IF(Saisie!S14=data!$S$17,"OK",IF(Saisie!S14=data!$S$18,"OK",IF(Saisie!V14<>"",IF(Saisie!U14<>"",IF(Saisie!W14<>"","OK","Incomplet"),"Incomplet"),"Incomplet")))))))))))))))))),"Incomplet"),"Incomplet")) -> OK | AK14: =IF(X14="","OK",IF(Saisie!X14<>"",IF(Saisie!Y14<>"",IF(Saisie!X14=data!$S$2,"OK",IF(Saisie!X14=data!$S$3,"OK",IF(Saisie!X14=data!$S$4,"OK",IF(Saisie!X14=data!$S$5,"OK",IF(Saisie!X14=data!$S$6,"OK",IF(Saisie!X14=data!$S$7,"OK",IF(Saisie!X14=data!$S$8,"OK",IF(Saisie!X14=data!$S$9,"OK",IF(Saisie!X14=data!$S$10,"OK",IF(Saisie!X14=data!$S$11,"OK",IF(Saisie!X14=data!$S$12,"OK",IF(Saisie!X14=data!$S$13,"OK",IF(Saisie!X14=data!$S$14,"OK",IF(Saisie!X14=data!$S$15,"OK",IF(Saisie!X14=data!$S$16,"OK",IF(Saisie!X14=data!$S$17,"OK",IF(Saisie!X14=data!$S$18,"OK",IF(Saisie!AA14<>"",IF(Saisie!Z14<>"",IF(Saisie!AB14<>"","OK","Incomplet"),"Incomplet"),"Incomplet")))))))))))))))))),"Incomplet"),"Incomplet")) -> OK | AL14: =IF(AC14="","OK",IF(Saisie!AC14<>"",IF(Saisie!AD14<>"",IF(Saisie!AC14=data!$S$2,"OK",IF(Saisie!AC14=data!$S$3,"OK",IF(Saisie!AC14=data!$S$4,"OK",IF(Saisie!AC14=data!$S$5,"OK",IF(Saisie!AC14=data!$S$6,"OK",IF(Saisie!AC14=data!$S$7,"OK",IF(Saisie!AC14=data!$S$8,"OK",IF(Saisie!AC14=data!$S$9,"OK",IF(Saisie!AC14=data!$S$10,"OK",IF(Saisie!AC14=data!$S$11,"OK",IF(Saisie!AC14=data!$S$12,"OK",IF(Saisie!AC14=data!$S$13,"OK",IF(Saisie!AC14=data!$S$14,"OK",IF(Saisie!AC14=data!$S$15,"OK",IF(Saisie!AC14=data!$S$16,"OK",IF(Saisie!AC14=data!$S$17,"OK",IF(Saisie!AC14=data!$S$18,"OK",IF(Saisie!AF14<>"",IF(Saisie!AE14<>"",IF(Saisie!AG14<>"","OK","Incomplet"),"Incomplet"),"Incomplet")))))))))))))))))),"Incomplet"),"Incomplet")) -> OK
A15: =A14+1 -> 43810 | B15: =IF(G15<>"",IF(Frais!C16<>"",IF(Frais!C16=data!$U$2,IF(Saisie!C15<>"",IF(Saisie!C15=data!$U$2,"OUI","NON"),"NON"),"NON"),"NON"),"") | C15: =IF(E15<>"",IF(AH15=data!$T$3,IF(AI15=data!$T$3,IF(AJ15=data!$T$3,IF(AK15=data!$T$3,IF(AL15=data!$T$3,"OUI","Incomplet"),"Incomplet"),"Incomplet"),"Incomplet"),"Incomplet"),"Incomplet") -> Incomplet | D15: =(H15-G15)-IF(E15<>"",IF(E15=data!$T$4,(Frais!F16-Frais!E16),IF((H15-G15)>=data!$P$9,data!$P$11,0))) -> 0 | F15: =H15-G15 -> 0 | AH15: =IF(Saisie!I15<>"",IF(Saisie!J15<>"",IF(Saisie!I15=data!$S$2,"OK",IF(Saisie!I15=data!$S$3,"OK",IF(Saisie!I15=data!$S$4,"OK",IF(Saisie!I15=data!$S$5,"OK",IF(Saisie!I15=data!$S$6,"OK",IF(Saisie!I15=data!$S$7,"OK",IF(Saisie!I15=data!$S$8,"OK",IF(Saisie!I15=data!$S$9,"OK",IF(Saisie!I15=data!$S$10,"OK",IF(Saisie!I15=data!$S$11,"OK",IF(Saisie!I15=data!$S$12,"OK",IF(Saisie!I15=data!$S$13,"OK",IF(Saisie!I15=data!$S$14,"OK",IF(Saisie!I15=data!$S$15,"OK",IF(Saisie!I15=data!$S$16,"OK",IF(Saisie!I15=data!$S$17,"OK",IF(Saisie!I15=data!$S$18,"OK",IF(Saisie!L15<>"",IF(Saisie!K15<>"",IF(Saisie!M15<>"","OK","Incomplet"),"Incomplet"),"Incomplet")))))))))))))))))),"Incomplet"),"Incomplet") -> Incomplet | AI15: =IF(N15="","OK",IF(Saisie!N15<>"",IF(Saisie!O15<>"",IF(Saisie!N15=data!$S$2,"OK",IF(Saisie!N15=data!$S$3,"OK",IF(Saisie!N15=data!$S$4,"OK",IF(Saisie!N15=data!$S$5,"OK",IF(Saisie!N15=data!$S$6,"OK",IF(Saisie!N15=data!$S$7,"OK",IF(Saisie!N15=data!$S$8,"OK",IF(Saisie!N15=data!$S$9,"OK",IF(Saisie!N15=data!$S$10,"OK",IF(Saisie!N15=data!$S$11,"OK",IF(Saisie!N15=data!$S$12,"OK",IF(Saisie!N15=data!$S$13,"OK",IF(Saisie!N15=data!$S$14,"OK",IF(Saisie!N15=data!$S$15,"OK",IF(Saisie!N15=data!$S$16,"OK",IF(Saisie!N15=data!$S$17,"OK",IF(Saisie!N15=data!$S$18,"OK",IF(Saisie!Q15<>"",IF(Saisie!P15<>"",IF(Saisie!R15<>"","OK","Incomplet"),"Incomplet"),"Incomplet")))))))))))))))))),"Incomplet"),"Incomplet")) -> OK | AJ15: =IF(S15="","OK",IF(Saisie!S15<>"",IF(Saisie!T15<>"",IF(Saisie!S15=data!$S$2,"OK",IF(Saisie!S15=data!$S$3,"OK",IF(Saisie!S15=data!$S$4,"OK",IF(Saisie!S15=data!$S$5,"OK",IF(Saisie!S15=data!$S$6,"OK",IF(Saisie!S15=data!$S$7,"OK",IF(Saisie!S15=data!$S$8,"OK",IF(Saisie!S15=data!$S$9,"OK",IF(Saisie!S15=data!$S$10,"OK",IF(Saisie!S15=data!$S$11,"OK",IF(Saisie!S15=data!$S$12,"OK",IF(Saisie!S15=data!$S$13,"OK",IF(Saisie!S15=data!$S$14,"OK",IF(Saisie!S15=data!$S$15,"OK",IF(Saisie!S15=data!$S$16,"OK",IF(Saisie!S15=data!$S$17,"OK",IF(Saisie!S15=data!$S$18,"OK",IF(Saisie!V15<>"",IF(Saisie!U15<>"",IF(Saisie!W15<>"","OK","Incomplet"),"Incomplet"),"Incomplet")))))))))))))))))),"Incomplet"),"Incomplet")) -> OK | AK15: =IF(X15="","OK",IF(Saisie!X15<>"",IF(Saisie!Y15<>"",IF(Saisie!X15=data!$S$2,"OK",IF(Saisie!X15=data!$S$3,"OK",IF(Saisie!X15=data!$S$4,"OK",IF(Saisie!X15=data!$S$5,"OK",IF(Saisie!X15=data!$S$6,"OK",IF(Saisie!X15=data!$S$7,"OK",IF(Saisie!X15=data!$S$8,"OK",IF(Saisie!X15=data!$S$9,"OK",IF(Saisie!X15=data!$S$10,"OK",IF(Saisie!X15=data!$S$11,"OK",IF(Saisie!X15=data!$S$12,"OK",IF(Saisie!X15=data!$S$13,"OK",IF(Saisie!X15=data!$S$14,"OK",IF(Saisie!X15=data!$S$15,"OK",IF(Saisie!X15=data!$S$16,"OK",IF(Saisie!X15=data!$S$17,"OK",IF(Saisie!X15=data!$S$18,"OK",IF(Saisie!AA15<>"",IF(Saisie!Z15<>"",IF(Saisie!AB15<>"","OK","Incomplet"),"Incomplet"),"Incomplet")))))))))))))))))),"Incomplet"),"Incomplet")) -> OK | AL15: =IF(AC15="","OK",IF(Saisie!AC15<>"",IF(Saisie!AD15<>"",IF(Saisie!AC15=data!$S$2,"OK",IF(Saisie!AC15=data!$S$3,"OK",IF(Saisie!AC15=data!$S$4,"OK",IF(Saisie!AC15=data!$S$5,"OK",IF(Saisie!AC15=data!$S$6,"OK",IF(Saisie!AC15=data!$S$7,"OK",IF(Saisie!AC15=data!$S$8,"OK",IF(Saisie!AC15=data!$S$9,"OK",IF(Saisie!AC15=data!$S$10,"OK",IF(Saisie!AC15=data!$S$11,"OK",IF(Saisie!AC15=data!$S$12,"OK",IF(Saisie!AC15=data!$S$13,"OK",IF(Saisie!AC15=data!$S$14,"OK",IF(Saisie!AC15=data!$S$15,"OK",IF(Saisie!AC15=data!$S$16,"OK",IF(Saisie!AC15=data!$S$17,"OK",IF(Saisie!AC15=data!$S$18,"OK",IF(Saisie!AF15<>"",IF(Saisie!AE15<>"",IF(Saisie!AG15<>"","OK","Incomplet"),"Incomplet"),"Incomplet")))))))))))))))))),"Incomplet"),"Incomplet")) -> OK
A16: =A15+1 -> 43811 | B16: =IF(G16<>"",IF(Frais!C17<>"",IF(Frais!C17=data!$U$2,IF(Saisie!C16<>"",IF(Saisie!C16=data!$U$2,"OUI","NON"),"NON"),"NON"),"NON"),"") | C16: =IF(E16<>"",IF(AH16=data!$T$3,IF(AI16=data!$T$3,IF(AJ16=data!$T$3,IF(AK16=data!$T$3,IF(AL16=data!$T$3,"OUI","Incomplet"),"Incomplet"),"Incomplet"),"Incomplet"),"Incomplet"),"Incomplet") -> Incomplet | D16: =(H16-G16)-IF(E16<>"",IF(E16=data!$T$4,(Frais!F17-Frais!E17),IF((H16-G16)>=data!$P$9,data!$P$11,0))) -> 0 | F16: =H16-G16 -> 0 | AH16: =IF(Saisie!I16<>"",IF(Saisie!J16<>"",IF(Saisie!I16=data!$S$2,"OK",IF(Saisie!I16=data!$S$3,"OK",IF(Saisie!I16=data!$S$4,"OK",IF(Saisie!I16=data!$S$5,"OK",IF(Saisie!I16=data!$S$6,"OK",IF(Saisie!I16=data!$S$7,"OK",IF(Saisie!I16=data!$S$8,"OK",IF(Saisie!I16=data!$S$9,"OK",IF(Saisie!I16=data!$S$10,"OK",IF(Saisie!I16=data!$S$11,"OK",IF(Saisie!I16=data!$S$12,"OK",IF(Saisie!I16=data!$S$13,"OK",IF(Saisie!I16=data!$S$14,"OK",IF(Saisie!I16=data!$S$15,"OK",IF(Saisie!I16=data!$S$16,"OK",IF(Saisie!I16=data!$S$17,"OK",IF(Saisie!I16=data!$S$18,"OK",IF(Saisie!L16<>"",IF(Saisie!K16<>"",IF(Saisie!M16<>"","OK","Incomplet"),"Incomplet"),"Incomplet")))))))))))))))))),"Incomplet"),"Incomplet") -> Incomplet | AI16: =IF(N16="","OK",IF(Saisie!N16<>"",IF(Saisie!O16<>"",IF(Saisie!N16=data!$S$2,"OK",IF(Saisie!N16=data!$S$3,"OK",IF(Saisie!N16=data!$S$4,"OK",IF(Saisie!N16=data!$S$5,"OK",IF(Saisie!N16=data!$S$6,"OK",IF(Saisie!N16=data!$S$7,"OK",IF(Saisie!N16=data!$S$8,"OK",IF(Saisie!N16=data!$S$9,"OK",IF(Saisie!N16=data!$S$10,"OK",IF(Saisie!N16=data!$S$11,"OK",IF(Saisie!N16=data!$S$12,"OK",IF(Saisie!N16=data!$S$13,"OK",IF(Saisie!N16=data!$S$14,"OK",IF(Saisie!N16=data!$S$15,"OK",IF(Saisie!N16=data!$S$16,"OK",IF(Saisie!N16=data!$S$17,"OK",IF(Saisie!N16=data!$S$18,"OK",IF(Saisie!Q16<>"",IF(Saisie!P16<>"",IF(Saisie!R16<>"","OK","Incomplet"),"Incomplet"),"Incomplet")))))))))))))))))),"Incomplet"),"Incomplet")) -> OK | AJ16: =IF(S16="","OK",IF(Saisie!S16<>"",IF(Saisie!T16<>"",IF(Saisie!S16=data!$S$2,"OK",IF(Saisie!S16=data!$S$3,"OK",IF(Saisie!S16=data!$S$4,"OK",IF(Saisie!S16=data!$S$5,"OK",IF(Saisie!S16=data!$S$6,"OK",IF(Saisie!S16=data!$S$7,"OK",IF(Saisie!S16=data!$S$8,"OK",IF(Saisie!S16=data!$S$9,"OK",IF(Saisie!S16=data!$S$10,"OK",IF(Saisie!S16=data!$S$11,"OK",IF(Saisie!S16=data!$S$12,"OK",IF(Saisie!S16=data!$S$13,"OK",IF(Saisie!S16=data!$S$14,"OK",IF(Saisie!S16=data!$S$15,"OK",IF(Saisie!S16=data!$S$16,"OK",IF(Saisie!S16=data!$S$17,"OK",IF(Saisie!S16=data!$S$18,"OK",IF(Saisie!V16<>"",IF(Saisie!U16<>"",IF(Saisie!W16<>"","OK","Incomplet"),"Incomplet"),"Incomplet")))))))))))))))))),"Incomplet"),"Incomplet")) -> OK | AK16: =IF(X16="","OK",IF(Saisie!X16<>"",IF(Saisie!Y16<>"",IF(Saisie!X16=data!$S$2,"OK",IF(Saisie!X16=data!$S$3,"OK",IF(Saisie!X16=data!$S$4,"OK",IF(Saisie!X16=data!$S$5,"OK",IF(Saisie!X16=data!$S$6,"OK",IF(Saisie!X16=data!$S$7,"OK",IF(Saisie!X16=data!$S$8,"OK",IF(Saisie!X16=data!$S$9,"OK",IF(Saisie!X16=data!$S$10,"OK",IF(Saisie!X16=data!$S$11,"OK",IF(Saisie!X16=data!$S$12,"OK",IF(Saisie!X16=data!$S$13,"OK",IF(Saisie!X16=data!$S$14,"OK",IF(Saisie!X16=data!$S$15,"OK",IF(Saisie!X16=data!$S$16,"OK",IF(Saisie!X16=data!$S$17,"OK",IF(Saisie!X16=data!$S$18,"OK",IF(Saisie!AA16<>"",IF(Saisie!Z16<>"",IF(Saisie!AB16<>"","OK","Incomplet"),"Incomplet"),"Incomplet")))))))))))))))))),"Incomplet"),"Incomplet")) -> OK | AL16: =IF(AC16="","OK",IF(Saisie!AC16<>"",IF(Saisie!AD16<>"",IF(Saisie!AC16=data!$S$2,"OK",IF(Saisie!AC16=data!$S$3,"OK",IF(Saisie!AC16=data!$S$4,"OK",IF(Saisie!AC16=data!$S$5,"OK",IF(Saisie!AC16=data!$S$6,"OK",IF(Saisie!AC16=data!$S$7,"OK",IF(Saisie!AC16=data!$S$8,"OK",IF(Saisie!AC16=data!$S$9,"OK",IF(Saisie!AC16=data!$S$10,"OK",IF(Saisie!AC16=data!$S$11,"OK",IF(Saisie!AC16=data!$S$12,"OK",IF(Saisie!AC16=data!$S$13,"OK",IF(Saisie!AC16=data!$S$14,"OK",IF(Saisie!AC16=data!$S$15,"OK",IF(Saisie!AC16=data!$S$16,"OK",IF(Saisie!AC16=data!$S$17,"OK",IF(Saisie!AC16=data!$S$18,"OK",IF(Saisie!AF16<>"",IF(Saisie!AE16<>"",IF(Saisie!AG16<>"","OK","Incomplet"),"Incomplet"),"Incomplet")))))))))))))))))),"Incomplet"),"Incomplet")) -> OK
A17: =A16+1 -> 43812 | B17: =IF(G17<>"",IF(Frais!C18<>"",IF(Frais!C18=data!$U$2,IF(Saisie!C17<>"",IF(Saisie!C17=data!$U$2,"OUI","NON"),"NON"),"NON"),"NON"),"") | C17: =IF(E17<>"",IF(AH17=data!$T$3,IF(AI17=data!$T$3,IF(AJ17=data!$T$3,IF(AK17=data!$T$3,IF(AL17=data!$T$3,"OUI","Incomplet"),"Incomplet"),"Incomplet"),"Incomplet"),"Incomplet"),"Incomplet") -> Incomplet | D17: =(H17-G17)-IF(E17<>"",IF(E17=data!$T$4,(Frais!F18-Frais!E18),IF((H17-G17)>=data!$P$9,data!$P$11,0))) -> 0 | F17: =H17-G17 -> 0 | AH17: =IF(Saisie!I17<>"",IF(Saisie!J17<>"",IF(Saisie!I17=data!$S$2,"OK",IF(Saisie!I17=data!$S$3,"OK",IF(Saisie!I17=data!$S$4,"OK",IF(Saisie!I17=data!$S$5,"OK",IF(Saisie!I17=data!$S$6,"OK",IF(Saisie!I17=data!$S$7,"OK",IF(Saisie!I17=data!$S$8,"OK",IF(Saisie!I17=data!$S$9,"OK",IF(Saisie!I17=data!$S$10,"OK",IF(Saisie!I17=data!$S$11,"OK",IF(Saisie!I17=data!$S$12,"OK",IF(Saisie!I17=data!$S$13,"OK",IF(Saisie!I17=data!$S$14,"OK",IF(Saisie!I17=data!$S$15,"OK",IF(Saisie!I17=data!$S$16,"OK",IF(Saisie!I17=data!$S$17,"OK",IF(Saisie!I17=data!$S$18,"OK",IF(Saisie!L17<>"",IF(Saisie!K17<>"",IF(Saisie!M17<>"","OK","Incomplet"),"Incomplet"),"Incomplet")))))))))))))))))),"Incomplet"),"Incomplet") -> Incomplet | AI17: =IF(N17="","OK",IF(Saisie!N17<>"",IF(Saisie!O17<>"",IF(Saisie!N17=data!$S$2,"OK",IF(Saisie!N17=data!$S$3,"OK",IF(Saisie!N17=data!$S$4,"OK",IF(Saisie!N17=data!$S$5,"OK",IF(Saisie!N17=data!$S$6,"OK",IF(Saisie!N17=data!$S$7,"OK",IF(Saisie!N17=data!$S$8,"OK",IF(Saisie!N17=data!$S$9,"OK",IF(Saisie!N17=data!$S$10,"OK",IF(Saisie!N17=data!$S$11,"OK",IF(Saisie!N17=data!$S$12,"OK",IF(Saisie!N17=data!$S$13,"OK",IF(Saisie!N17=data!$S$14,"OK",IF(Saisie!N17=data!$S$15,"OK",IF(Saisie!N17=data!$S$16,"OK",IF(Saisie!N17=data!$S$17,"OK",IF(Saisie!N17=data!$S$18,"OK",IF(Saisie!Q17<>"",IF(Saisie!P17<>"",IF(Saisie!R17<>"","OK","Incomplet"),"Incomplet"),"Incomplet")))))))))))))))))),"Incomplet"),"Incomplet")) -> OK | AJ17: =IF(S17="","OK",IF(Saisie!S17<>"",IF(Saisie!T17<>"",IF(Saisie!S17=data!$S$2,"OK",IF(Saisie!S17=data!$S$3,"OK",IF(Saisie!S17=data!$S$4,"OK",IF(Saisie!S17=data!$S$5,"OK",IF(Saisie!S17=data!$S$6,"OK",IF(Saisie!S17=data!$S$7,"OK",IF(Saisie!S17=data!$S$8,"OK",IF(Saisie!S17=data!$S$9,"OK",IF(Saisie!S17=data!$S$10,"OK",IF(Saisie!S17=data!$S$11,"OK",IF(Saisie!S17=data!$S$12,"OK",IF(Saisie!S17=data!$S$13,"OK",IF(Saisie!S17=data!$S$14,"OK",IF(Saisie!S17=data!$S$15,"OK",IF(Saisie!S17=data!$S$16,"OK",IF(Saisie!S17=data!$S$17,"OK",IF(Saisie!S17=data!$S$18,"OK",IF(Saisie!V17<>"",IF(Saisie!U17<>"",IF(Saisie!W17<>"","OK","Incomplet"),"Incomplet"),"Incomplet")))))))))))))))))),"Incomplet"),"Incomplet")) -> OK | AK17: =IF(X17="","OK",IF(Saisie!X17<>"",IF(Saisie!Y17<>"",IF(Saisie!X17=data!$S$2,"OK",IF(Saisie!X17=data!$S$3,"OK",IF(Saisie!X17=data!$S$4,"OK",IF(Saisie!X17=data!$S$5,"OK",IF(Saisie!X17=data!$S$6,"OK",IF(Saisie!X17=data!$S$7,"OK",IF(Saisie!X17=data!$S$8,"OK",IF(Saisie!X17=data!$S$9,"OK",IF(Saisie!X17=data!$S$10,"OK",IF(Saisie!X17=data!$S$11,"OK",IF(Saisie!X17=data!$S$12,"OK",IF(Saisie!X17=data!$S$13,"OK",IF(Saisie!X17=data!$S$14,"OK",IF(Saisie!X17=data!$S$15,"OK",IF(Saisie!X17=data!$S$16,"OK",IF(Saisie!X17=data!$S$17,"OK",IF(Saisie!X17=data!$S$18,"OK",IF(Saisie!AA17<>"",IF(Saisie!Z17<>"",IF(Saisie!AB17<>"","OK","Incomplet"),"Incomplet"),"Incomplet")))))))))))))))))),"Incomplet"),"Incomplet")) -> OK | AL17: =IF(AC17="","OK",IF(Saisie!AC17<>"",IF(Saisie!AD17<>"",IF(Saisie!AC17=data!$S$2,"OK",IF(Saisie!AC17=data!$S$3,"OK",IF(Saisie!AC17=data!$S$4,"OK",IF(Saisie!AC17=data!$S$5,"OK",IF(Saisie!AC17=data!$S$6,"OK",IF(Saisie!AC17=data!$S$7,"OK",IF(Saisie!AC17=data!$S$8,"OK",IF(Saisie!AC17=data!$S$9,"OK",IF(Saisie!AC17=data!$S$10,"OK",IF(Saisie!AC17=data!$S$11,"OK",IF(Saisie!AC17=data!$S$12,"OK",IF(Saisie!AC17=data!$S$13,"OK",IF(Saisie!AC17=data!$S$14,"OK",IF(Saisie!AC17=data!$S$15,"OK",IF(Saisie!AC17=data!$S$16,"OK",IF(Saisie!AC17=data!$S$17,"OK",IF(Saisie!AC17=data!$S$18,"OK",IF(Saisie!AF17<>"",IF(Saisie!AE17<>"",IF(Saisie!AG17<>"","OK","Incomplet"),"Incomplet"),"Incomplet")))))))))))))))))),"Incomplet"),"Incomplet")) -> OK
... A32: =A31+1 -> 43827 | B32: =IF(G32<>"",IF(Frais!C33<>"",IF(Frais!C33=data!$U$2,IF(Saisie!C32<>"",IF(Saisie!C32=data!$U$2,"OUI","NON"),"NON"),"NON"),"NON"),"") | C32: =IF(E32<>"",IF(AH32=data!$T$3,IF(AI32=data!$T$3,IF(AJ32=data!$T$3,IF(AK32=data!$T$3,IF(AL32=data!$T$3,"OUI","Incomplet"),"Incomplet"),"Incomplet"),"Incomplet"),"Incomplet"),"Incomplet") -> Incomplet | D32: =(H32-G32)-IF(E32<>"",IF(E32=data!$T$4,(Frais!F33-Frais!E33),IF((H32-G32)>=data!$P$9,data!$P$11,0))) -> 0 | F32: =H32-G32 -> 0 | AH32: =IF(Saisie!I32<>"",IF(Saisie!J32<>"",IF(Saisie!I32=data!$S$2,"OK",IF(Saisie!I32=data!$S$3,"OK",IF(Saisie!I32=data!$S$4,"OK",IF(Saisie!I32=data!$S$5,"OK",IF(Saisie!I32=data!$S$6,"OK",IF(Saisie!I32=data!$S$7,"OK",IF(Saisie!I32=data!$S$8,"OK",IF(Saisie!I32=data!$S$9,"OK",IF(Saisie!I32=data!$S$10,"OK",IF(Saisie!I32=data!$S$11,"OK",IF(Saisie!I32=data!$S$12,"OK",IF(Saisie!I32=data!$S$13,"OK",IF(Saisie!I32=data!$S$14,"OK",IF(Saisie!I32=data!$S$15,"OK",IF(Saisie!I32=data!$S$16,"OK",IF(Saisie!I32=data!$S$17,"OK",IF(Saisie!I32=data!$S$18,"OK",IF(Saisie!L32<>"",IF(Saisie!K32<>"",IF(Saisie!M32<>"","OK","Incomplet"),"Incomplet"),"Incomplet")))))))))))))))))),"Incomplet"),"Incomplet") -> Incomplet | AI32: =IF(N32="","OK",IF(Saisie!N32<>"",IF(Saisie!O32<>"",IF(Saisie!N32=data!$S$2,"OK",IF(Saisie!N32=data!$S$3,"OK",IF(Saisie!N32=data!$S$4,"OK",IF(Saisie!N32=data!$S$5,"OK",IF(Saisie!N32=data!$S$6,"OK",IF(Saisie!N32=data!$S$7,"OK",IF(Saisie!N32=data!$S$8,"OK",IF(Saisie!N32=data!$S$9,"OK",IF(Saisie!N32=data!$S$10,"OK",IF(Saisie!N32=data!$S$11,"OK",IF(Saisie!N32=data!$S$12,"OK",IF(Saisie!N32=data!$S$13,"OK",IF(Saisie!N32=data!$S$14,"OK",IF(Saisie!N32=data!$S$15,"OK",IF(Saisie!N32=data!$S$16,"OK",IF(Saisie!N32=data!$S$17,"OK",IF(Saisie!N32=data!$S$18,"OK",IF(Saisie!Q32<>"",IF(Saisie!P32<>"",IF(Saisie!R32<>"","OK","Incomplet"),"Incomplet"),"Incomplet")))))))))))))))))),"Incomplet"),"Incomplet")) -> OK | AJ32: =IF(S32="","OK",IF(Saisie!S32<>"",IF(Saisie!T32<>"",IF(Saisie!S32=data!$S$2,"OK",IF(Saisie!S32=data!$S$3,"OK",IF(Saisie!S32=data!$S$4,"OK",IF(Saisie!S32=data!$S$5,"OK",IF(Saisie!S32=data!$S$6,"OK",IF(Saisie!S32=data!$S$7,"OK",IF(Saisie!S32=data!$S$8,"OK",IF(Saisie!S32=data!$S$9,"OK",IF(Saisie!S32=data!$S$10,"OK",IF(Saisie!S32=data!$S$11,"OK",IF(Saisie!S32=data!$S$12,"OK",IF(Saisie!S32=data!$S$13,"OK",IF(Saisie!S32=data!$S$14,"OK",IF(Saisie!S32=data!$S$15,"OK",IF(Saisie!S32=data!$S$16,"OK",IF(Saisie!S32=data!$S$17,"OK",IF(Saisie!S32=data!$S$18,"OK",IF(Saisie!V32<>"",IF(Saisie!U32<>"",IF(Saisie!W32<>"","OK","Incomplet"),"Incomplet"),"Incomplet")))))))))))))))))),"Incomplet"),"Incomplet")) -> OK | AK32: =IF(X32="","OK",IF(Saisie!X32<>"",IF(Saisie!Y32<>"",IF(Saisie!X32=data!$S$2,"OK",IF(Saisie!X32=data!$S$3,"OK",IF(Saisie!X32=data!$S$4,"OK",IF(Saisie!X32=data!$S$5,"OK",IF(Saisie!X32=data!$S$6,"OK",IF(Saisie!X32=data!$S$7,"OK",IF(Saisie!X32=data!$S$8,"OK",IF(Saisie!X32=data!$S$9,"OK",IF(Saisie!X32=data!$S$10,"OK",IF(Saisie!X32=data!$S$11,"OK",IF(Saisie!X32=data!$S$12,"OK",IF(Saisie!X32=data!$S$13,"OK",IF(Saisie!X32=data!$S$14,"OK",IF(Saisie!X32=data!$S$15,"OK",IF(Saisie!X32=data!$S$16,"OK",IF(Saisie!X32=data!$S$17,"OK",IF(Saisie!X32=data!$S$18,"OK",IF(Saisie!AA32<>"",IF(Saisie!Z32<>"",IF(Saisie!AB32<>"","OK","Incomplet"),"Incomplet"),"Incomplet")))))))))))))))))),"Incomplet"),"Incomplet")) -> OK | AL32: =IF(AC32="","OK",IF(Saisie!AC32<>"",IF(Saisie!AD32<>"",IF(Saisie!AC32=data!$S$2,"OK",IF(Saisie!AC32=data!$S$3,"OK",IF(Saisie!AC32=data!$S$4,"OK",IF(Saisie!AC32=data!$S$5,"OK",IF(Saisie!AC32=data!$S$6,"OK",IF(Saisie!AC32=data!$S$7,"OK",IF(Saisie!AC32=data!$S$8,"OK",IF(Saisie!AC32=data!$S$9,"OK",IF(Saisie!AC32=data!$S$10,"OK",IF(Saisie!AC32=data!$S$11,"OK",IF(Saisie!AC32=data!$S$12,"OK",IF(Saisie!AC32=data!$S$13,"OK",IF(Saisie!AC32=data!$S$14,"OK",IF(Saisie!AC32=data!$S$15,"OK",IF(Saisie!AC32=data!$S$16,"OK",IF(Saisie!AC32=data!$S$17,"OK",IF(Saisie!AC32=data!$S$18,"OK",IF(Saisie!AF32<>"",IF(Saisie!AE32<>"",IF(Saisie!AG32<>"","OK","Incomplet"),"Incomplet"),"Incomplet")))))))))))))))))),"Incomplet"),"Incomplet")) -> OK
A33: =IF($B$1=data!$Q$2,"",A32+1) -> 43828 | B33: =IF(G33<>"",IF(Frais!C34<>"",IF(Frais!C34=data!$U$2,IF(Saisie!C33<>"",IF(Saisie!C33=data!$U$2,"OUI","NON"),"NON"),"NON"),"NON"),"") | C33: =IF(E33<>"",IF(AH33=data!$T$3,IF(AI33=data!$T$3,IF(AJ33=data!$T$3,IF(AK33=data!$T$3,IF(AL33=data!$T$3,"OUI","Incomplet"),"Incomplet"),"Incomplet"),"Incomplet"),"Incomplet"),"Incomplet") -> Incomplet | D33: =(H33-G33)-IF(E33<>"",IF(E33=data!$T$4,(Frais!F34-Frais!E34),IF((H33-G33)>=data!$P$9,data!$P$11,0))) -> 0 | F33: =H33-G33 -> 0 | AH33: =IF(Saisie!I33<>"",IF(Saisie!J33<>"",IF(Saisie!I33=data!$S$2,"OK",IF(Saisie!I33=data!$S$3,"OK",IF(Saisie!I33=data!$S$4,"OK",IF(Saisie!I33=data!$S$5,"OK",IF(Saisie!I33=data!$S$6,"OK",IF(Saisie!I33=data!$S$7,"OK",IF(Saisie!I33=data!$S$8,"OK",IF(Saisie!I33=data!$S$9,"OK",IF(Saisie!I33=data!$S$10,"OK",IF(Saisie!I33=data!$S$11,"OK",IF(Saisie!I33=data!$S$12,"OK",IF(Saisie!I33=data!$S$13,"OK",IF(Saisie!I33=data!$S$14,"OK",IF(Saisie!I33=data!$S$15,"OK",IF(Saisie!I33=data!$S$16,"OK",IF(Saisie!I33=data!$S$17,"OK",IF(Saisie!I33=data!$S$18,"OK",IF(Saisie!L33<>"",IF(Saisie!K33<>"",IF(Saisie!M33<>"","OK","Incomplet"),"Incomplet"),"Incomplet")))))))))))))))))),"Incomplet"),"Incomplet") -> Incomplet | AI33: =IF(N33="","OK",IF(Saisie!N33<>"",IF(Saisie!O33<>"",IF(Saisie!N33=data!$S$2,"OK",IF(Saisie!N33=data!$S$3,"OK",IF(Saisie!N33=data!$S$4,"OK",IF(Saisie!N33=data!$S$5,"OK",IF(Saisie!N33=data!$S$6,"OK",IF(Saisie!N33=data!$S$7,"OK",IF(Saisie!N33=data!$S$8,"OK",IF(Saisie!N33=data!$S$9,"OK",IF(Saisie!N33=data!$S$10,"OK",IF(Saisie!N33=data!$S$11,"OK",IF(Saisie!N33=data!$S$12,"OK",IF(Saisie!N33=data!$S$13,"OK",IF(Saisie!N33=data!$S$14,"OK",IF(Saisie!N33=data!$S$15,"OK",IF(Saisie!N33=data!$S$16,"OK",IF(Saisie!N33=data!$S$17,"OK",IF(Saisie!N33=data!$S$18,"OK",IF(Saisie!Q33<>"",IF(Saisie!P33<>"",IF(Saisie!R33<>"","OK","Incomplet"),"Incomplet"),"Incomplet")))))))))))))))))),"Incomplet"),"Incomplet")) -> OK | AJ33: =IF(S33="","OK",IF(Saisie!S33<>"",IF(Saisie!T33<>"",IF(Saisie!S33=data!$S$2,"OK",IF(Saisie!S33=data!$S$3,"OK",IF(Saisie!S33=data!$S$4,"OK",IF(Saisie!S33=data!$S$5,"OK",IF(Saisie!S33=data!$S$6,"OK",IF(Saisie!S33=data!$S$7,"OK",IF(Saisie!S33=data!$S$8,"OK",IF(Saisie!S33=data!$S$9,"OK",IF(Saisie!S33=data!$S$10,"OK",IF(Saisie!S33=data!$S$11,"OK",IF(Saisie!S33=data!$S$12,"OK",IF(Saisie!S33=data!$S$13,"OK",IF(Saisie!S33=data!$S$14,"OK",IF(Saisie!S33=data!$S$15,"OK",IF(Saisie!S33=data!$S$16,"OK",IF(Saisie!S33=data!$S$17,"OK",IF(Saisie!S33=data!$S$18,"OK",IF(Saisie!V33<>"",IF(Saisie!U33<>"",IF(Saisie!W33<>"","OK","Incomplet"),"Incomplet"),"Incomplet")))))))))))))))))),"Incomplet"),"Incomplet")) -> OK | AK33: =IF(X33="","OK",IF(Saisie!X33<>"",IF(Saisie!Y33<>"",IF(Saisie!X33=data!$S$2,"OK",IF(Saisie!X33=data!$S$3,"OK",IF(Saisie!X33=data!$S$4,"OK",IF(Saisie!X33=data!$S$5,"OK",IF(Saisie!X33=data!$S$6,"OK",IF(Saisie!X33=data!$S$7,"OK",IF(Saisie!X33=data!$S$8,"OK",IF(Saisie!X33=data!$S$9,"OK",IF(Saisie!X33=data!$S$10,"OK",IF(Saisie!X33=data!$S$11,"OK",IF(Saisie!X33=data!$S$12,"OK",IF(Saisie!X33=data!$S$13,"OK",IF(Saisie!X33=data!$S$14,"OK",IF(Saisie!X33=data!$S$15,"OK",IF(Saisie!X33=data!$S$16,"OK",IF(Saisie!X33=data!$S$17,"OK",IF(Saisie!X33=data!$S$18,"OK",IF(Saisie!AA33<>"",IF(Saisie!Z33<>"",IF(Saisie!AB33<>"","OK","Incomplet"),"Incomplet"),"Incomplet")))))))))))))))))),"Incomplet"),"Incomplet")) -> OK | AL33: =IF(AC33="","OK",IF(Saisie!AC33<>"",IF(Saisie!AD33<>"",IF(Saisie!AC33=data!$S$2,"OK",IF(Saisie!AC33=data!$S$3,"OK",IF(Saisie!AC33=data!$S$4,"OK",IF(Saisie!AC33=data!$S$5,"OK",IF(Saisie!AC33=data!$S$6,"OK",IF(Saisie!AC33=data!$S$7,"OK",IF(Saisie!AC33=data!$S$8,"OK",IF(Saisie!AC33=data!$S$9,"OK",IF(Saisie!AC33=data!$S$10,"OK",IF(Saisie!AC33=data!$S$11,"OK",IF(Saisie!AC33=data!$S$12,"OK",IF(Saisie!AC33=data!$S$13,"OK",IF(Saisie!AC33=data!$S$14,"OK",IF(Saisie!AC33=data!$S$15,"OK",IF(Saisie!AC33=data!$S$16,"OK",IF(Saisie!AC33=data!$S$17,"OK",IF(Saisie!AC33=data!$S$18,"OK",IF(Saisie!AF33<>"",IF(Saisie!AE33<>"",IF(Saisie!AG33<>"","OK","Incomplet"),"Incomplet"),"Incomplet")))))))))))))))))),"Incomplet"),"Incomplet")) -> OK
A34: =IF(A33=data!$Q$3,"",A33+1) -> 43829 | B34: =IF(G34<>"",IF(Frais!C35<>"",IF(Frais!C35=data!$U$2,IF(Saisie!C34<>"",IF(Saisie!C34=data!$U$2,"OUI","NON"),"NON"),"NON"),"NON"),"") | C34: =IF(E34<>"",IF(AH34=data!$T$3,IF(AI34=data!$T$3,IF(AJ34=data!$T$3,IF(AK34=data!$T$3,IF(AL34=data!$T$3,"OUI","Incomplet"),"Incomplet"),"Incomplet"),"Incomplet"),"Incomplet"),"Incomplet") -> Incomplet | D34: =(H34-G34)-IF(E34<>"",IF(E34=data!$T$4,(Frais!F35-Frais!E35),IF((H34-G34)>=data!$P$9,data!$P$11,0))) -> 0 | F34: =H34-G34 -> 0 | AH34: =IF(Saisie!I34<>"",IF(Saisie!J34<>"",IF(Saisie!I34=data!$S$2,"OK",IF(Saisie!I34=data!$S$3,"OK",IF(Saisie!I34=data!$S$4,"OK",IF(Saisie!I34=data!$S$5,"OK",IF(Saisie!I34=data!$S$6,"OK",IF(Saisie!I34=data!$S$7,"OK",IF(Saisie!I34=data!$S$8,"OK",IF(Saisie!I34=data!$S$9,"OK",IF(Saisie!I34=data!$S$10,"OK",IF(Saisie!I34=data!$S$11,"OK",IF(Saisie!I34=data!$S$12,"OK",IF(Saisie!I34=data!$S$13,"OK",IF(Saisie!I34=data!$S$14,"OK",IF(Saisie!I34=data!$S$15,"OK",IF(Saisie!I34=data!$S$16,"OK",IF(Saisie!I34=data!$S$17,"OK",IF(Saisie!I34=data!$S$18,"OK",IF(Saisie!L34<>"",IF(Saisie!K34<>"",IF(Saisie!M34<>"","OK","Incomplet"),"Incomplet"),"Incomplet")))))))))))))))))),"Incomplet"),"Incomplet") -> Incomplet | AI34: =IF(N34="","OK",IF(Saisie!N34<>"",IF(Saisie!O34<>"",IF(Saisie!N34=data!$S$2,"OK",IF(Saisie!N34=data!$S$3,"OK",IF(Saisie!N34=data!$S$4,"OK",IF(Saisie!N34=data!$S$5,"OK",IF(Saisie!N34=data!$S$6,"OK",IF(Saisie!N34=data!$S$7,"OK",IF(Saisie!N34=data!$S$8,"OK",IF(Saisie!N34=data!$S$9,"OK",IF(Saisie!N34=data!$S$10,"OK",IF(Saisie!N34=data!$S$11,"OK",IF(Saisie!N34=data!$S$12,"OK",IF(Saisie!N34=data!$S$13,"OK",IF(Saisie!N34=data!$S$14,"OK",IF(Saisie!N34=data!$S$15,"OK",IF(Saisie!N34=data!$S$16,"OK",IF(Saisie!N34=data!$S$17,"OK",IF(Saisie!N34=data!$S$18,"OK",IF(Saisie!Q34<>"",IF(Saisie!P34<>"",IF(Saisie!R34<>"","OK","Incomplet"),"Incomplet"),"Incomplet")))))))))))))))))),"Incomplet"),"Incomplet")) -> OK | AJ34: =IF(S34="","OK",IF(Saisie!S34<>"",IF(Saisie!T34<>"",IF(Saisie!S34=data!$S$2,"OK",IF(Saisie!S34=data!$S$3,"OK",IF(Saisie!S34=data!$S$4,"OK",IF(Saisie!S34=data!$S$5,"OK",IF(Saisie!S34=data!$S$6,"OK",IF(Saisie!S34=data!$S$7,"OK",IF(Saisie!S34=data!$S$8,"OK",IF(Saisie!S34=data!$S$9,"OK",IF(Saisie!S34=data!$S$10,"OK",IF(Saisie!S34=data!$S$11,"OK",IF(Saisie!S34=data!$S$12,"OK",IF(Saisie!S34=data!$S$13,"OK",IF(Saisie!S34=data!$S$14,"OK",IF(Saisie!S34=data!$S$15,"OK",IF(Saisie!S34=data!$S$16,"OK",IF(Saisie!S34=data!$S$17,"OK",IF(Saisie!S34=data!$S$18,"OK",IF(Saisie!V34<>"",IF(Saisie!U34<>"",IF(Saisie!W34<>"","OK","Incomplet"),"Incomplet"),"Incomplet")))))))))))))))))),"Incomplet"),"Incomplet")) -> OK | AK34: =IF(X34="","OK",IF(Saisie!X34<>"",IF(Saisie!Y34<>"",IF(Saisie!X34=data!$S$2,"OK",IF(Saisie!X34=data!$S$3,"OK",IF(Saisie!X34=data!$S$4,"OK",IF(Saisie!X34=data!$S$5,"OK",IF(Saisie!X34=data!$S$6,"OK",IF(Saisie!X34=data!$S$7,"OK",IF(Saisie!X34=data!$S$8,"OK",IF(Saisie!X34=data!$S$9,"OK",IF(Saisie!X34=data!$S$10,"OK",IF(Saisie!X34=data!$S$11,"OK",IF(Saisie!X34=data!$S$12,"OK",IF(Saisie!X34=data!$S$13,"OK",IF(Saisie!X34=data!$S$14,"OK",IF(Saisie!X34=data!$S$15,"OK",IF(Saisie!X34=data!$S$16,"OK",IF(Saisie!X34=data!$S$17,"OK",IF(Saisie!X34=data!$S$18,"OK",IF(Saisie!AA34<>"",IF(Saisie!Z34<>"",IF(Saisie!AB34<>"","OK","Incomplet"),"Incomplet"),"Incomplet")))))))))))))))))),"Incomplet"),"Incomplet")) -> OK | AL34: =IF(AC34="","OK",IF(Saisie!AC34<>"",IF(Saisie!AD34<>"",IF(Saisie!AC34=data!$S$2,"OK",IF(Saisie!AC34=data!$S$3,"OK",IF(Saisie!AC34=data!$S$4,"OK",IF(Saisie!AC34=data!$S$5,"OK",IF(Saisie!AC34=data!$S$6,"OK",IF(Saisie!AC34=data!$S$7,"OK",IF(Saisie!AC34=data!$S$8,"OK",IF(Saisie!AC34=data!$S$9,"OK",IF(Saisie!AC34=data!$S$10,"OK",IF(Saisie!AC34=data!$S$11,"OK",IF(Saisie!AC34=data!$S$12,"OK",IF(Saisie!AC34=data!$S$13,"OK",IF(Saisie!AC34=data!$S$14,"OK",IF(Saisie!AC34=data!$S$15,"OK",IF(Saisie!AC34=data!$S$16,"OK",IF(Saisie!AC34=data!$S$17,"OK",IF(Saisie!AC34=data!$S$18,"OK",IF(Saisie!AF34<>"",IF(Saisie!AE34<>"",IF(Saisie!AG34<>"","OK","Incomplet"),"Incomplet"),"Incomplet")))))))))))))))))),"Incomplet"),"Incomplet")) -> OK
A35: =IF(A34=data!$Q$4,"",IF(B1=data!$O$2,"",IF(B1=data!$O$3,"",IF(B1=data!$O$4,"",IF(B1=data!$O$5,"",A34+1))))) -> 43830 | B35: =IF(G35<>"",IF(Frais!C36<>"",IF(Frais!C36=data!$U$2,IF(Saisie!C35<>"",IF(Saisie!C35=data!$U$2,"OUI","NON"),"NON"),"NON"),"NON"),"") | C35: =IF(E35<>"",IF(AH35=data!$T$3,IF(AI35=data!$T$3,IF(AJ35=data!$T$3,IF(AK35=data!$T$3,IF(AL35=data!$T$3,"OUI","Incomplet"),"Incomplet"),"Incomplet"),"Incomplet"),"Incomplet"),"Incomplet") -> Incomplet | D35: =(H35-G35)-IF(E35<>"",IF(E35=data!$T$4,(Frais!F36-Frais!E36),IF((H35-G35)>=data!$P$9,data!$P$11,0))) -> 0 | F35: =H35-G35 -> 0 | AH35: =IF(Saisie!I35<>"",IF(Saisie!J35<>"",IF(Saisie!I35=data!$S$2,"OK",IF(Saisie!I35=data!$S$3,"OK",IF(Saisie!I35=data!$S$4,"OK",IF(Saisie!I35=data!$S$5,"OK",IF(Saisie!I35=data!$S$6,"OK",IF(Saisie!I35=data!$S$7,"OK",IF(Saisie!I35=data!$S$8,"OK",IF(Saisie!I35=data!$S$9,"OK",IF(Saisie!I35=data!$S$10,"OK",IF(Saisie!I35=data!$S$11,"OK",IF(Saisie!I35=data!$S$12,"OK",IF(Saisie!I35=data!$S$13,"OK",IF(Saisie!I35=data!$S$14,"OK",IF(Saisie!I35=data!$S$15,"OK",IF(Saisie!I35=data!$S$16,"OK",IF(Saisie!I35=data!$S$17,"OK",IF(Saisie!I35=data!$S$18,"OK",IF(Saisie!L35<>"",IF(Saisie!K35<>"",IF(Saisie!M35<>"","OK","Incomplet"),"Incomplet"),"Incomplet")))))))))))))))))),"Incomplet"),"Incomplet") -> Incomplet | AI35: =IF(N35="","OK",IF(Saisie!N35<>"",IF(Saisie!O35<>"",IF(Saisie!N35=data!$S$2,"OK",IF(Saisie!N35=data!$S$3,"OK",IF(Saisie!N35=data!$S$4,"OK",IF(Saisie!N35=data!$S$5,"OK",IF(Saisie!N35=data!$S$6,"OK",IF(Saisie!N35=data!$S$7,"OK",IF(Saisie!N35=data!$S$8,"OK",IF(Saisie!N35=data!$S$9,"OK",IF(Saisie!N35=data!$S$10,"OK",IF(Saisie!N35=data!$S$11,"OK",IF(Saisie!N35=data!$S$12,"OK",IF(Saisie!N35=data!$S$13,"OK",IF(Saisie!N35=data!$S$14,"OK",IF(Saisie!N35=data!$S$15,"OK",IF(Saisie!N35=data!$S$16,"OK",IF(Saisie!N35=data!$S$17,"OK",IF(Saisie!N35=data!$S$18,"OK",IF(Saisie!Q35<>"",IF(Saisie!P35<>"",IF(Saisie!R35<>"","OK","Incomplet"),"Incomplet"),"Incomplet")))))))))))))))))),"Incomplet"),"Incomplet")) -> OK | AJ35: =IF(S35="","OK",IF(Saisie!S35<>"",IF(Saisie!T35<>"",IF(Saisie!S35=data!$S$2,"OK",IF(Saisie!S35=data!$S$3,"OK",IF(Saisie!S35=data!$S$4,"OK",IF(Saisie!S35=data!$S$5,"OK",IF(Saisie!S35=data!$S$6,"OK",IF(Saisie!S35=data!$S$7,"OK",IF(Saisie!S35=data!$S$8,"OK",IF(Saisie!S35=data!$S$9,"OK",IF(Saisie!S35=data!$S$10,"OK",IF(Saisie!S35=data!$S$11,"OK",IF(Saisie!S35=data!$S$12,"OK",IF(Saisie!S35=data!$S$13,"OK",IF(Saisie!S35=data!$S$14,"OK",IF(Saisie!S35=data!$S$15,"OK",IF(Saisie!S35=data!$S$16,"OK",IF(Saisie!S35=data!$S$17,"OK",IF(Saisie!S35=data!$S$18,"OK",IF(Saisie!V35<>"",IF(Saisie!U35<>"",IF(Saisie!W35<>"","OK","Incomplet"),"Incomplet"),"Incomplet")))))))))))))))))),"Incomplet"),"Incomplet")) -> OK | AK35: =IF(X35="","OK",IF(Saisie!X35<>"",IF(Saisie!Y35<>"",IF(Saisie!X35=data!$S$2,"OK",IF(Saisie!X35=data!$S$3,"OK",IF(Saisie!X35=data!$S$4,"OK",IF(Saisie!X35=data!$S$5,"OK",IF(Saisie!X35=data!$S$6,"OK",IF(Saisie!X35=data!$S$7,"OK",IF(Saisie!X35=data!$S$8,"OK",IF(Saisie!X35=data!$S$9,"OK",IF(Saisie!X35=data!$S$10,"OK",IF(Saisie!X35=data!$S$11,"OK",IF(Saisie!X35=data!$S$12,"OK",IF(Saisie!X35=data!$S$13,"OK",IF(Saisie!X35=data!$S$14,"OK",IF(Saisie!X35=data!$S$15,"OK",IF(Saisie!X35=data!$S$16,"OK",IF(Saisie!X35=data!$S$17,"OK",IF(Saisie!X35=data!$S$18,"OK",IF(Saisie!AA35<>"",IF(Saisie!Z35<>"",IF(Saisie!AB35<>"","OK","Incomplet"),"Incomplet"),"Incomplet")))))))))))))))))),"Incomplet"),"Incomplet")) -> OK | AL35: =IF(AC35="","OK",IF(Saisie!AC35<>"",IF(Saisie!AD35<>"",IF(Saisie!AC35=data!$S$2,"OK",IF(Saisie!AC35=data!$S$3,"OK",IF(Saisie!AC35=data!$S$4,"OK",IF(Saisie!AC35=data!$S$5,"OK",IF(Saisie!AC35=data!$S$6,"OK",IF(Saisie!AC35=data!$S$7,"OK",IF(Saisie!AC35=data!$S$8,"OK",IF(Saisie!AC35=data!$S$9,"OK",IF(Saisie!AC35=data!$S$10,"OK",IF(Saisie!AC35=data!$S$11,"OK",IF(Saisie!AC35=data!$S$12,"OK",IF(Saisie!AC35=data!$S$13,"OK",IF(Saisie!AC35=data!$S$14,"OK",IF(Saisie!AC35=data!$S$15,"OK",IF(Saisie!AC35=data!$S$16,"OK",IF(Saisie!AC35=data!$S$17,"OK",IF(Saisie!AC35=data!$S$18,"OK",IF(Saisie!AF35<>"",IF(Saisie!AE35<>"",IF(Saisie!AG35<>"","OK","Incomplet"),"Incomplet"),"Incomplet")))))))))))))))))),"Incomplet"),"Incomplet")) -> OK
B36: total : | D36: =SUM(D5:D35) -> 0

Sheet Frais
D2: =Saisie!H2 -> Période du 01 décembre 2019 au 31 décembre 2019
D4: Frais de repas | I4: Frais kilometrique (hors circuit) | M4: Frais kilometrique ASSAINISSEMENT | U4: Autres | X4: Primes
B5: SAISIE COMPLÈTE | C5: Validation de saisie des FRAIS | D5: Repas (oui/non) | E5: Heure début (hh:mm) | F5: Heure fin (hh:mm) | G5: Montant (€) | I5: Kilometrage voiture (en début OU fin de journée) | J5: Ajout d'essence (oui/non) | K5: Si OUI : Volumes (L) | L5: Si OUI : Montant (€) | M5: Kilometrage voiture (FIN de journée) | N5: Ajout d'essence (oui/non) | O5: Si OUI : Volumes (L) | P5: Si OUI : Montant (€) | Q5: Ajout d'essence MOTEUR Bernard (oui/non) | R5: Si OUI : Volumes (L) | S5: Si OUI : Montant (€) | U5: Nature des frais | V5: lieux | W5: Montant (€) | X5: Panier Pour tout retour après 14h ou apres 21h sans repas au restaurant | Z5: Petit Dejeuner | AA5: 8h consecutive | AB5: 4 heures de nuit
A6: =Saisie!A1 -> 43800 | B6: =Saisie!B5 | C6: =IF(Saisie!G5<>"",IF(data!AC8=data!$T$3,IF(data!AD8=data!$T$3,IF(data!AE8=data!$T$3,"OUI","NON"),"NON"),"NON"),"") | D6: =IF(Saisie!E5<>"",Saisie!E5,"") | X6: =IF(D6=data!$T$2,IF(Saisie!G5<=0.42,IF((Saisie!G5+Saisie!D5)>=0.58,"OUI","NON"),"NON"),"NON") -> NON | Y6: =IF(D6=data!$T$2,IF(Saisie!G5<=0.71,IF((Saisie!G5+Saisie!D5)>=0.88,"OUI","NON"),"NON"),"NON") -> NON | Z6: =IF(Saisie!G5<>"",IF(Saisie!G5<data!P13,"OUI","NON"),"NON") -> NON | AA6: =IF(Saisie!D5>=0.33,IF(Frais!D6=data!$T$2,IF(X6=data!$T$2,IF(Y6=data!$T$2,IF(Z6=data!$T$2,"OUI","NON"),"NON"),"NON"),"NON"),"NON") -> NON | AB6: =IF(Saisie!G5<>"",IF(Saisie!G5<=data!Q13,"OUI","NON"),"NON") -> NON | AC6: =IF(Saisie!G5<>"",IF((Saisie!G5+(Saisie!D5-(Frais!F6-Frais!E6)))>=data!R13,"OUI","NON"),"NON") -> NON
A7: =A6+1 -> 43801 | B7: =Saisie!B6 | C7: =IF(Saisie!G6<>"",IF(data!AC9=data!$T$3,IF(data!AD9=data!$T$3,IF(data!AE9=data!$T$3,"OUI","NON"),"NON"),"NON"),"") | D7: =IF(Saisie!E6<>"",Saisie!E6,"") | X7: =IF(D7=data!$T$2,IF(Saisie!G6<=0.42,IF((Saisie!G6+Saisie!D6)>=0.58,"OUI","NON"),"NON"),"NON") -> NON | Y7: =IF(D7=data!$T$2,IF(Saisie!G6<=0.71,IF((Saisie!G6+Saisie!D6)>=0.88,"OUI","NON"),"NON"),"NON") -> NON | Z7: =IF(Saisie!G6<>"",IF(Saisie!G6<0.21,"OUI","NON"),"NON") -> NON | AA7: =IF(Saisie!AD6>=0.33,IF(Frais!D7=data!$T$2,IF(X7=data!$T$2,IF(Y7=data!$T$2,IF(Z7=data!$T$2,"OUI","NON"),"NON"),"NON"),"NON"),"NON") -> NON | AB7: =IF(Saisie!G6<>"",IF(Saisie!G6<=0.084,"OUI","NON"),"NON") -> NON | AC7: =IF(Saisie!G5<>"",IF((Saisie!G5+(Saisie!D6-(Frais!F7-Frais!E7)))>=1.04,"OUI","NON"),"NON") -> NON
A8: =A7+1 -> 43802 | B8: =Saisie!B7 | C8: =IF(Saisie!G7<>"",IF(data!AC10=data!$T$3,IF(data!AD10=data!$T$3,IF(data!AE10=data!$T$3,"OUI","NON"),"NON"),"NON"),"") | D8: =IF(Saisie!E7<>"",Saisie!E7,"") | X8: =IF(D8=data!$T$2,IF(Saisie!G7<=0.42,IF((Saisie!G7+Saisie!D7)>=0.58,"OUI","NON"),"NON"),"NON") -> NON | Y8: =IF(D8=data!$T$2,IF(Saisie!G7<=0.71,IF((Saisie!G7+Saisie!D7)>=0.88,"OUI","NON"),"NON"),"NON") -> NON | Z8: =IF(Saisie!G7<>"",IF(Saisie!G7<0.21,"OUI","NON"),"NON") -> NON | AA8: =IF(Saisie!AD7>=0.33,IF(Frais!D8=data!$T$2,IF(X8=data!$T$2,IF(Y8=data!$T$2,IF(Z8=data!$T$2,"OUI","NON"),"NON"),"NON"),"NON"),"NON") -> NON | AB8: =IF(Saisie!G7<>"",IF(Saisie!G7<=0.084,"OUI","NON"),"NON") -> NON | AC8: =IF(Saisie!G7<>"",IF((Saisie!G7+(Saisie!AD7-(Frais!F8-Frais!E8)))>=1.04,"OUI","NON"),"NON") -> NON
A9: =A8+1 -> 43803 | B9: =Saisie!B8 | C9: =IF(Saisie!G8<>"",IF(data!AC11=data!$T$3,IF(data!AD11=data!$T$3,IF(data!AE11=data!$T$3,"OUI","NON"),"NON"),"NON"),"") | D9: =IF(Saisie!E8<>"",Saisie!E8,"") | X9: =IF(D9=data!$T$2,IF(Saisie!G8<=0.42,IF((Saisie!G8+Saisie!D8)>=0.58,"OUI","NON"),"NON"),"NON") -> NON | Y9: =IF(D9=data!$T$2,IF(Saisie!G8<=0.71,IF((Saisie!G8+Saisie!D8)>=0.88,"OUI","NON"),"NON"),"NON") -> NON | Z9: =IF(Saisie!G8<>"",IF(Saisie!G8<0.21,"OUI","NON"),"NON") -> NON | AA9: =IF(Saisie!AD8>=0.33,IF(Frais!D9=data!$T$2,IF(X9=data!$T$2,IF(Y9=data!$T$2,IF(Z9=data!$T$2,"OUI","NON"),"NON"),"NON"),"NON"),"NON") -> NON | AB9: =IF(Saisie!G8<>"",IF(Saisie!G8<=0.084,"OUI","NON"),"NON") -> NON | AC9: =IF(Saisie!G8<>"",IF((Saisie!G8+(Saisie!AD8-(Frais!F9-Frais!E9)))>=1.04,"OUI","NON"),"NON") -> NON
A10: =A9+1 -> 43804 | B10: =Saisie!B9 | C10: =IF(Saisie!G9<>"",IF(data!AC12=data!$T$3,IF(data!AD12=data!$T$3,IF(data!AE12=data!$T$3,"OUI","NON"),"NON"),"NON"),"") | D10: =IF(Saisie!E9<>"",Saisie!E9,"") | X10: =IF(D10=data!$T$2,IF(Saisie!G9<=0.42,IF((Saisie!G9+Saisie!D9)>=0.58,"OUI","NON"),"NON"),"NON") -> NON | Y10: =IF(D10=data!$T$2,IF(Saisie!G9<=0.71,IF((Saisie!G9+Saisie!D9)>=0.88,"OUI","NON"),"NON"),"NON") -> NON | Z10: =IF(Saisie!G9<>"",IF(Saisie!G9<0.21,"OUI","NON"),"NON") -> NON | AA10: =IF(Saisie!AD9>=0.33,IF(Frais!D10=data!$T$2,IF(X10=data!$T$2,IF(Y10=data!$T$2,IF(Z10=data!$T$2,"OUI","NON"),"NON"),"NON"),"NON"),"NON") -> NON | AB10: =IF(Saisie!G9<>"",IF(Saisie!G9<=0.084,"OUI","NON"),"NON") -> NON | AC10: =IF(Saisie!G9<>"",IF((Saisie!G9+(Saisie!AD9-(Frais!F10-Frais!E10)))>=1.04,"OUI","NON"),"NON") -> NON
A11: =A10+1 -> 43805 | B11: =Saisie!B10 | C11: =IF(Saisie!G10<>"",IF(data!AC13=data!$T$3,IF(data!AD13=data!$T$3,IF(data!AE13=data!$T$3,"OUI","NON"),"NON"),"NON"),"") | D11: =IF(Saisie!E10<>"",Saisie!E10,"") | X11: =IF(D11=data!$T$2,IF(Saisie!G10<=0.42,IF((Saisie!G10+Saisie!D10)>=0.58,"OUI","NON"),"NON"),"NON") -> NON | Y11: =IF(D11=data!$T$2,IF(Saisie!G10<=0.71,IF((Saisie!G10+Saisie!D10)>=0.88,"OUI","NON"),"NON"),"NON") -> NON | Z11: =IF(Saisie!G10<>"",IF(Saisie!G10<0.21,"OUI","NON"),"NON") -> NON | AA11: =IF(Saisie!AD10>=0.33,IF(Frais!D11=data!$T$2,IF(X11=data!$T$2,IF(Y11=data!$T$2,IF(Z11=data!$T$2,"OUI","NON"),"NON"),"NON"),"NON"),"NON") -> NON | AB11: =IF(Saisie!G10<>"",IF(Saisie!G10<=0.084,"OUI","NON"),"NON") -> NON | AC11: =IF(Saisie!G10<>"",IF((Saisie!G10+(Saisie!AD10-(Frais!F11-Frais!E11)))>=1.04,"OUI","NON"),"NON") -> NON
A12: =A11+1 -> 43806 | B12: =Saisie!B11 | C12: =IF(Saisie!G11<>"",IF(data!AC14=data!$T$3,IF(data!AD14=data!$T$3,IF(data!AE14=data!$T$3,"OUI","NON"),"NON"),"NON"),"") | D12: =IF(Saisie!E11<>"",Saisie!E11,"") | X12: =IF(D12=data!$T$2,IF(Saisie!G11<=0.42,IF((Saisie!G11+Saisie!D11)>=0.58,"OUI","NON"),"NON"),"NON") -> NON | Y12: =IF(D12=data!$T$2,IF(Saisie!G11<=0.71,IF((Saisie!G11+Saisie!D11)>=0.88,"OUI","NON"),"NON"),"NON") -> NON | Z12: =IF(Saisie!G11<>"",IF(Saisie!G11<0.21,"OUI","NON"),"NON") -> NON | AA12: =IF(Saisie!AD11>=0.33,IF(Frais!D12=data!$T$2,IF(X12=data!$T$2,IF(Y12=data!$T$2,IF(Z12=data!$T$2,"OUI","NON"),"NON"),"NON"),"NON"),"NON") -> NON | AB12: =IF(Saisie!G11<>"",IF(Saisie!G11<=0.084,"OUI","NON"),"NON") -> NON | AC12: =IF(Saisie!G11<>"",IF((Saisie!G11+(Saisie!AD11-(Frais!F12-Frais!E12)))>=1.04,"OUI","NON"),"NON") -> NON
A13: =A12+1 -> 43807 | B13: =Saisie!B12 | C13: =IF(Saisie!G12<>"",IF(data!AC15=data!$T$3,IF(data!AD15=data!$T$3,IF(data!AE15=data!$T$3,"OUI","NON"),"NON"),"NON"),"") | D13: =IF(Saisie!E12<>"",Saisie!E12,"") | X13: =IF(D13=data!$T$2,IF(Saisie!G12<=0.42,IF((Saisie!G12+Saisie!D12)>=0.58,"OUI","NON"),"NON"),"NON") -> NON | Y13: =IF(D13=data!$T$2,IF(Saisie!G12<=0.71,IF((Saisie!G12+Saisie!D12)>=0.88,"OUI","NON"),"NON"),"NON") -> NON | Z13: =IF(Saisie!G12<>"",IF(Saisie!G12<0.21,"OUI","NON"),"NON") -> NON | AA13: =IF(Saisie!AD12>=0.33,IF(Frais!D13=data!$T$2,IF(X13=data!$T$2,IF(Y13=data!$T$2,IF(Z13=data!$T$2,"OUI","NON"),"NON"),"NON"),"NON"),"NON") -> NON | AB13: =IF(Saisie!G12<>"",IF(Saisie!G12<=0.084,"OUI","NON"),"NON") -> NON | AC13: =IF(Saisie!G12<>"",IF((Saisie!G12+(Saisie!AD12-(Frais!F13-Frais!E13)))>=1.04,"OUI","NON"),"NON") -> NON
A14: =A13+1 -> 43808 | B14: =Saisie!B13 | C14: =IF(Saisie!G13<>"",IF(data!AC16=data!$T$3,IF(data!AD16=data!$T$3,IF(data!AE16=data!$T$3,"OUI","NON"),"NON"),"NON"),"") | D14: =IF(Saisie!E13<>"",Saisie!E13,"") | X14: =IF(D14=data!$T$2,IF(Saisie!G13<=0.42,IF((Saisie!G13+Saisie!D13)>=0.58,"OUI","NON"),"NON"),"NON") -> NON | Y14: =IF(D14=data!$T$2,IF(Saisie!G13<=0.71,IF((Saisie!G13+Saisie!D13)>=0.88,"OUI","NON"),"NON"),"NON") -> NON | Z14: =IF(Saisie!G13<>"",IF(Saisie!G13<0.21,"OUI","NON"),"NON") -> NON | AA14: =IF(Saisie!AD13>=0.33,IF(Frais!D14=data!$T$2,IF(X14=data!$T$2,IF(Y14=data!$T$2,IF(Z14=data!$T$2,"OUI","NON"),"NON"),"NON"),"NON"),"NON") -> NON | AB14: =IF(Saisie!G13<>"",IF(Saisie!G13<=0.084,"OUI","NON"),"NON") -> NON | AC14: =IF(Saisie!G13<>"",IF((Saisie!G13+(Saisie!AD13-(Frais!F14-Frais!E14)))>=1.04,"OUI","NON"),"NON") -> NON
A15: =A14+1 -> 43809 | B15: =Saisie!B14 | C15: =IF(Saisie!G14<>"",IF(data!AC17=data!$T$3,IF(data!AD17=data!$T$3,IF(data!AE17=data!$T$3,"OUI","NON"),"NON"),"NON"),"") | D15: =IF(Saisie!E14<>"",Saisie!E14,"") | X15: =IF(D15=data!$T$2,IF(Saisie!G14<=0.42,IF((Saisie!G14+Saisie!D14)>=0.58,"OUI","NON"),"NON"),"NON") -> NON | Y15: =IF(D15=data!$T$2,IF(Saisie!G14<=0.71,IF((Saisie!G14+Saisie!D14)>=0.88,"OUI","NON"),"NON"),"NON") -> NON | Z15: =IF(Saisie!G14<>"",IF(Saisie!G14<0.21,"OUI","NON"),"NON") -> NON | AA15: =IF(Saisie!AD14>=0.33,IF(Frais!D15=data!$T$2,IF(X15=data!$T$2,IF(Y15=data!$T$2,IF(Z15=data!$T$2,"OUI","NON"),"NON"),"NON"),"NON"),"NON") -> NON | AB15: =IF(Saisie!G14<>"",IF(Saisie!G14<=0.084,"OUI","NON"),"NON") -> NON | AC15: =IF(Saisie!G14<>"",IF((Saisie!G14+(Saisie!AD14-(Frais!F15-Frais!E15)))>=1.04,"OUI","NON"),"NON") -> NON
A16: =A15+1 -> 43810 | B16: =Saisie!B15 | C16: =IF(Saisie!G15<>"",IF(data!AC18=data!$T$3,IF(data!AD18=data!$T$3,IF(data!AE18=data!$T$3,"OUI","NON"),"NON"),"NON"),"") | D16: =IF(Saisie!E15<>"",Saisie!E15,"") | X16: =IF(D16=data!$T$2,IF(Saisie!G15<=0.42,IF((Saisie!G15+Saisie!D15)>=0.58,"OUI","NON"),"NON"),"NON") -> NON | Y16: =IF(D16=data!$T$2,IF(Saisie!G15<=0.71,IF((Saisie!G15+Saisie!D15)>=0.88,"OUI","NON"),"NON"),"NON") -> NON | Z16: =IF(Saisie!G15<>"",IF(Saisie!G15<0.21,"OUI","NON"),"NON") -> NON | AA16: =IF(Saisie!AD15>=0.33,IF(Frais!D16=data!$T$2,IF(X16=data!$T$2,IF(Y16=data!$T$2,IF(Z16=data!$T$2,"OUI","NON"),"NON"),"NON"),"NON"),"NON") -> NON | AB16: =IF(Saisie!G15<>"",IF(Saisie!G15<=0.084,"OUI","NON"),"NON") -> NON | AC16: =IF(Saisie!G15<>"",IF((Saisie!G15+(Saisie!AD15-(Frais!F16-Frais!E16)))>=1.04,"OUI","NON"),"NON") -> NON
A17: =A16+1 -> 43811 | B17: =Saisie!B16 | C17: =IF(Saisie!G16<>"",IF(data!AC19=data!$T$3,IF(data!AD19=data!$T$3,IF(data!AE19=data!$T$3,"OUI","NON"),"NON"),"NON"),"") | D17: =IF(Saisie!E16<>"",Saisie!E16,"") | X17: =IF(D17=data!$T$2,IF(Saisie!G16<=0.42,IF((Saisie!G16+Saisie!D16)>=0.58,"OUI","NON"),"NON"),"NON") -> NON | Y17: =IF(D17=data!$T$2,IF(Saisie!G16<=0.71,IF((Saisie!G16+Saisie!D16)>=0.88,"OUI","NON"),"NON"),"NON") -> NON | Z17: =IF(Saisie!G16<>"",IF(Saisie!G16<0.21,"OUI","NON"),"NON") -> NON | AA17: =IF(Saisie!AD16>=0.33,IF(Frais!D17=data!$T$2,IF(X17=data!$T$2,IF(Y17=data!$T$2,IF(Z17=data!$T$2,"OUI","NON"),"NON"),"NON"),"NON"),"NON") -> NON | AB17: =IF(Saisie!G16<>"",IF(Saisie!G16<=0.084,"OUI","NON"),"NON") -> NON | AC17: =IF(Saisie!G16<>"",IF((Saisie!G16+(Saisie!AD16-(Frais!F17-Frais!E17)))>=1.04,"OUI","NON"),"NON") -> NON
A18: =A17+1 -> 43812 | B18: =Saisie!B17 | C18: =IF(Saisie!G17<>"",IF(data!AC20=data!$T$3,IF(data!AD20=data!$T$3,IF(data!AE20=data!$T$3,"OUI","NON"),"NON"),"NON"),"") | D18: =IF(Saisie!E17<>"",Saisie!E17,"") | X18: =IF(D18=data!$T$2,IF(Saisie!G17<=0.42,IF((Saisie!G17+Saisie!D17)>=0.58,"OUI","NON"),"NON"),"NON") -> NON | Y18: =IF(D18=data!$T$2,IF(Saisie!G17<=0.71,IF((Saisie!G17+Saisie!D17)>=0.88,"OUI","NON"),"NON"),"NON") -> NON | Z18: =IF(Saisie!G17<>"",IF(Saisie!G17<0.21,"OUI","NON"),"NON") -> NON | AA18: =IF(Saisie!AD17>=0.33,IF(Frais!D18=data!$T$2,IF(X18=data!$T$2,IF(Y18=data!$T$2,IF(Z18=data!$T$2,"OUI","NON"),"NON"),"NON"),"NON"),"NON") -> NON | AB18: =IF(Saisie!G17<>"",IF(Saisie!G17<=0.084,"OUI","NON"),"NON") -> NON | AC18: =IF(Saisie!G17<>"",IF((Saisie!G17+(Saisie!AD17-(Frais!F18-Frais!E18)))>=1.04,"OUI","NON"),"NON") -> NON
A19: =A18+1 -> 43813 | B19: =Saisie!B18 | C19: =IF(Saisie!G18<>"",IF(data!AC21=data!$T$3,IF(data!AD21=data!$T$3,IF(data!AE21=data!$T$3,"OUI","NON"),"NON"),"NON"),"") | D19: =IF(Saisie!E18<>"",Saisie!E18,"") | X19: =IF(D19=data!$T$2,IF(Saisie!G18<=0.42,IF((Saisie!G18+Saisie!D18)>=0.58,"OUI","NON"),"NON"),"NON") -> NON | Y19: =IF(D19=data!$T$2,IF(Saisie!G18<=0.71,IF((Saisie!G18+Saisie!D18)>=0.88,"OUI","NON"),"NON"),"NON") -> NON | Z19: =IF(Saisie!G18<>"",IF(Saisie!G18<0.21,"OUI","NON"),"NON") -> NON | AA19: =IF(Saisie!AD18>=0.33,IF(Frais!D19=data!$T$2,IF(X19=data!$T$2,IF(Y19=data!$T$2,IF(Z19=data!$T$2,"OUI","NON"),"NON"),"NON"),"NON"),"NON") -> NON | AB19: =IF(Saisie!G18<>"",IF(Saisie!G18<=0.084,"OUI","NON"),"NON") -> NON | AC19: =IF(Saisie!G18<>"",IF((Saisie!G18+(Saisie!AD18-(Frais!F19-Frais!E19)))>=1.04,"OUI","NON"),"NON") -> NON
... A33: =A32+1 -> 43827 | B33: =Saisie!B32 | C33: =IF(Saisie!G32<>"",IF(data!AC35=data!$T$3,IF(data!AD35=data!$T$3,IF(data!AE35=data!$T$3,"OUI","NON"),"NON"),"NON"),"") | D33: =IF(Saisie!E32<>"",Saisie!E32,"") | X33: =IF(D33=data!$T$2,IF(Saisie!G32<=0.42,IF((Saisie!G32+Saisie!D32)>=0.58,"OUI","NON"),"NON"),"NON") -> NON | Y33: =IF(D33=data!$T$2,IF(Saisie!G32<=0.71,IF((Saisie!G32+Saisie!D32)>=0.88,"OUI","NON"),"NON"),"NON") -> NON | Z33: =IF(Saisie!G32<>"",IF(Saisie!G32<0.21,"OUI","NON"),"NON") -> NON | AA33: =IF(Saisie!AD32>=0.33,IF(Frais!D33=data!$T$2,IF(X33=data!$T$2,IF(Y33=data!$T$2,IF(Z33=data!$T$2,"OUI","NON"),"NON"),"NON"),"NON"),"NON") -> NON | AB33: =IF(Saisie!G32<>"",IF(Saisie!G32<=0.084,"OUI","NON"),"NON") -> NON | AC33: =IF(Saisie!G32<>"",IF((Saisie!G32+(Saisie!AD32-(Frais!F33-Frais!E33)))>=1.04,"OUI","NON"),"NON") -> NON
A34: =IF(Saisie!$B$1=data!$Q$2,"",A33+1) -> 43828 | B34: =Saisie!B33 | C34: =IF(Saisie!G33<>"",IF(data!AC36=data!$T$3,IF(data!AD36=data!$T$3,IF(data!AE36=data!$T$3,"OUI","NON"),"NON"),"NON"),"") | D34: =IF(Saisie!E33<>"",Saisie!E33,"") | X34: =IF(D34=data!$T$2,IF(Saisie!G33<=0.42,IF((Saisie!G33+Saisie!D33)>=0.58,"OUI","NON"),"NON"),"NON") -> NON | Y34: =IF(D34=data!$T$2,IF(Saisie!G33<=0.71,IF((Saisie!G33+Saisie!D33)>=0.88,"OUI","NON"),"NON"),"NON") -> NON | Z34: =IF(Saisie!G33<>"",IF(Saisie!G33<0.21,"OUI","NON"),"NON") -> NON | AA34: =IF(Saisie!AD33>=0.33,IF(Frais!D34=data!$T$2,IF(X34=data!$T$2,IF(Y34=data!$T$2,IF(Z34=data!$T$2,"OUI","NON"),"NON"),"NON"),"NON"),"NON") -> NON | AB34: =IF(Saisie!G33<>"",IF(Saisie!G33<=0.084,"OUI","NON"),"NON") -> NON | AC34: =IF(Saisie!G33<>"",IF((Saisie!G33+(Saisie!AD33-(Frais!F34-Frais!E34)))>=1.04,"OUI","NON"),"NON") -> NON
A35: =IF(A34=data!$Q$4,"",A34+1) -> 43829 | B35: =Saisie!B34 | C35: =IF(Saisie!G34<>"",IF(data!AC37=data!$T$3,IF(data!AD37=data!$T$3,IF(data!AE37=data!$T$3,"OUI","NON"),"NON"),"NON"),"") | D35: =IF(Saisie!E34<>"",Saisie!E34,"") | X35: =IF(D35=data!$T$2,IF(Saisie!G34<=0.42,IF((Saisie!G34+Saisie!D34)>=0.58,"OUI","NON"),"NON"),"NON") -> NON | Y35: =IF(D35=data!$T$2,IF(Saisie!G34<=0.71,IF((Saisie!G34+Saisie!D34)>=0.88,"OUI","NON"),"NON"),"NON") -> NON | Z35: =IF(Saisie!G34<>"",IF(Saisie!G34<0.21,"OUI","NON"),"NON") -> NON | AA35: =IF(Saisie!AD34>=0.33,IF(Frais!D35=data!$T$2,IF(X35=data!$T$2,IF(Y35=data!$T$2,IF(Z35=data!$T$2,"OUI","NON"),"NON"),"NON"),"NON"),"NON") -> NON | AB35: =IF(Saisie!G34<>"",IF(Saisie!G34<=0.084,"OUI","NON"),"NON") -> NON | AC35: =IF(Saisie!G34<>"",IF((Saisie!G34+(Saisie!AD34-(Frais!F35-Frais!E35)))>=1.04,"OUI","NON"),"NON") -> NON
A36: =IF(A35=data!$Q$4,"",IF(Saisie!B1=data!$O$2,"",IF(Saisie!B1=data!$O$3,"",IF(Saisie!B1=data!$O$4,"",IF(Saisie!B1=data!$O$5,"",A35+1))))) -> 43830 | B36: =Saisie!B35 | C36: =IF(Saisie!G35<>"",IF(data!AC38=data!$T$3,IF(data!AD38=data!$T$3,IF(data!AE38=data!$T$3,"OUI","NON"),"NON"),"NON"),"") | D36: =IF(Saisie!E35<>"",Saisie!E35,"") | X36: =IF(D36=data!$T$2,IF(Saisie!G35<=0.42,IF((Saisie!G35+Saisie!D35)>=0.58,"OUI","NON"),"NON"),"NON") -> NON | Y36: =IF(D36=data!$T$2,IF(Saisie!G35<=0.71,IF((Saisie!G35+Saisie!D35)>=0.88,"OUI","NON"),"NON"),"NON") -> NON | Z36: =IF(Saisie!G35<>"",IF(Saisie!G35<0.21,"OUI","NON"),"NON") -> NON | AA36: =IF(Saisie!AD35>=0.33,IF(Frais!D36=data!$T$2,IF(X36=data!$T$2,IF(Y36=data!$T$2,IF(Z36=data!$T$2,"OUI","NON"),"NON"),"NON"),"NON"),"NON") -> NON | AB36: =IF(Saisie!G35<>"",IF(Saisie!G35<=0.084,"OUI","NON"),"NON") -> NON | AC36: =IF(Saisie!G35<>"",IF((Saisie!G35+(Saisie!AD35-(Frais!F36-Frais!E36)))>=1.04,"OUI","NON"),"NON") -> NON
W37: Total : | X37: =COUNTIF(X6:Y36,"OUI") -> 0 | Z37: =COUNTIF(Z6:Z36,"OUI") -> 0 | AA37: =COUNTIF(AA6:AA36,"OUI") -> 0 | AB37: =COUNTIF(AB6:AC36,"OUI") -> 0

Sheet Extraction
H3: Activitées | AI3: Frais de repas | AM3: Frais kilometrique (hors circuit) | AQ3: Frais kilometrique ASSAINISSEMENT | AX3: Autres | BA3: Primes
A4: Agent | B4: Immatricule | C4: Date | D4: SAISIE COMPLÈTE | E4: Validation de saisie des FRAIS | F4: Validation de saisie des MISSIONS | G4: Temps de travail | H4: Heure début d'activité (hh:mm) | I4: Heure fin d'activité (hh:mm) | J4: Nature de la mission | K4: Temps consacré (hh:mm) | L4: LIEU | M4: Nombre d'exploitations | N4: Nombre de prélèvements | O4: Nature de la mission | P4: Temps consacré (hh:mm) | Q4: LIEU | R4: Nombre d'exploitations | S4: Nombre de prélèvements | T4: Nature de la mission | U4: Temps consacré (hh:mm) | V4: LIEU | W4: Nombre d'exploitations | X4: Nombre de prélèvements | Y4: Nature de la mission | Z4: Temps consacré (hh:mm) | AA4: LIEU | AB4: Nombre d'exploitations | AC4: Nombre de prélèvements | AD4: Nature de la mission | AE4: Temps consacré (hh:mm) | AF4: LIEU | AG4: Nombre d'exploitations | AH4: Nombre de prélèvements | AI4: Repas (oui/non) | AJ4: Heure début (hh:mm) | AK4: Heure fin (hh:mm) | AL4: Montant (€) | AM4: Kilometrage voiture (en début OU fin de journée) | AN4: Ajout d'essence (oui/non) | AO4: Si OUI : Volumes (L) | AP4: Si OUI : Montant (€) | AQ4: Kilometrage voiture (FIN de journée) | AR4: Ajout d'essence (oui/non) | AS4: Si OUI : Volumes (L) | AT4: Si OUI : Montant (€) | AU4: Ajout d'essence MOTEUR Bernard (oui/non) | AV4: Si OUI : Volumes (L) | AW4: Si OUI : Montant (€) | AX4: Nature des frais | AY4: lieux | AZ4: Montant (€) | BA4: Panier Pour tout retour après 14h ou apres 21h sans repas au restaurant | BC4: Petit Dejeuner | BD4: 8h consecutive | BE4: 4 heures de nuit
A5: =Bilan!$G$9 -> 0 | B5: =Bilan!$F$11 -> 0 | C5: =Saisie!A1 -> 43800 | D5: =Saisie!B5 | E5: =Frais!C6 | F5: =Saisie!C5 -> Incomplet | G5: =Saisie!D5 -> 0 | H5: =Saisie!G5 -> 0 | I5: =Saisie!H5 -> 0 | J5: =Saisie!I5 -> 0 | K5: =Saisie!J5 -> 0 | L5: =Saisie!K5 -> 0 | M5: =Saisie!L5 -> 0 | N5: =Saisie!M5 -> 0 | O5: =Saisie!N5 -> 0 | ... AH5: =Saisie!AG5 -> 0 | AI5: =Frais!D6 | AJ5: =Frais!E6 -> 0 | AK5: =Frais!F6 -> 0 | AL5: =Frais!G6 -> 0 | AM5: =Frais!I6 -> 0 | AN5: =Frais!J6 -> 0 | AO5: =Frais!K6 -> 0 | AP5: =Frais!L6 -> 0 | AQ5: =Frais!M6 -> 0 | AR5: =Frais!N6 -> 0 | AS5: =Frais!O6 -> 0 | AT5: =Frais!P6 -> 0 | ... AW5: =Frais!S6 -> 0 | AX5: =Frais!U6 -> 0 | AY5: =Frais!V6 -> 0 | AZ5: =Frais!W6 -> 0 | BA5: =Frais!X6 -> NON | BB5: =Frais!Y6 -> NON | BC5: =Frais!Z6 -> NON | BD5: =Frais!AA6 -> NON | BE5: =Frais!AB6 -> NON | BF5: =Frais!AC6 -> NON
A6: =Bilan!$G$9 -> 0 | B6: =Bilan!$F$11 -> 0 | C6: =C5+1 -> 43801 | D6: =Saisie!B6 | E6: =Frais!C7 | F6: =Saisie!C6 -> Incomplet | G6: =Saisie!D6 -> 0 | H6: =Saisie!G6 -> 0 | I6: =Saisie!H6 -> 0 | J6: =Saisie!I6 -> 0 | K6: =Saisie!J6 -> 0 | L6: =Saisie!K6 -> 0 | M6: =Saisie!L6 -> 0 | N6: =Saisie!M6 -> 0 | O6: =Saisie!N6 -> 0 | ... AH6: =Saisie!AG6 -> 0 | AI6: =Frais!D7 | AJ6: =Frais!E7 -> 0 | AK6: =Frais!F7 -> 0 | AL6: =Frais!G7 -> 0 | AM6: =Frais!I7 -> 0 | AN6: =Frais!J7 -> 0 | AO6: =Frais!K7 -> 0 | AP6: =Frais!L7 -> 0 | AQ6: =Frais!M7 -> 0 | AR6: =Frais!N7 -> 0 | AS6: =Frais!O7 -> 0 | AT6: =Frais!P7 -> 0 | ... AW6: =Frais!S7 -> 0 | AX6: =Frais!U7 -> 0 | AY6: =Frais!V7 -> 0 | AZ6: =Frais!W7 -> 0 | BA6: =Frais!X7 -> NON | BB6: =Frais!Y7 -> NON | BC6: =Frais!Z7 -> NON | BD6: =Frais!AA7 -> NON | BE6: =Frais!AB7 -> NON | BF6: =Frais!AC7 -> NON
A7: =Bilan!$G$9 -> 0 | B7: =Bilan!$F$11 -> 0 | C7: =C6+1 -> 43802 | D7: =Saisie!B7 | E7: =Frais!C8 | F7: =Saisie!C7 -> Incomplet | G7: =Saisie!D7 -> 0 | H7: =Saisie!G7 -> 0 | I7: =Saisie!H7 -> 0 | J7: =Saisie!I7 -> 0 | K7: =Saisie!J7 -> 0 | L7: =Saisie!K7 -> 0 | M7: =Saisie!L7 -> 0 | N7: =Saisie!M7 -> 0 | O7: =Saisie!N7 -> 0 | ... AH7: =Saisie!AG7 -> 0 | AI7: =Frais!D8 | AJ7: =Frais!E8 -> 0 | AK7: =Frais!F8 -> 0 | AL7: =Frais!G8 -> 0 | AM7: =Frais!I8 -> 0 | AN7: =Frais!J8 -> 0 | AO7: =Frais!K8 -> 0 | AP7: =Frais!L8 -> 0 | AQ7: =Frais!M8 -> 0 | AR7: =Frais!N8 -> 0 | AS7: =Frais!O8 -> 0 | AT7: =Frais!P8 -> 0 | ... AW7: =Frais!S8 -> 0 | AX7: =Frais!U8 -> 0 | AY7: =Frais!V8 -> 0 | AZ7: =Frais!W8 -> 0 | BA7: =Frais!X8 -> NON | BB7: =Frais!Y8 -> NON | BC7: =Frais!Z8 -> NON | BD7: =Frais!AA8 -> NON | BE7: =Frais!AB8 -> NON | BF7: =Frais!AC8 -> NON
A8: =Bilan!$G$9 -> 0 | B8: =Bilan!$F$11 -> 0 | C8: =C7+1 -> 43803 | D8: =Saisie!B8 | E8: =Frais!C9 | F8: =Saisie!C8 -> Incomplet | G8: =Saisie!D8 -> 0 | H8: =Saisie!G8 -> 0 | I8: =Saisie!H8 -> 0 | J8: =Saisie!I8 -> 0 | K8: =Saisie!J8 -> 0 | L8: =Saisie!K8 -> 0 | M8: =Saisie!L8 -> 0 | N8: =Saisie!M8 -> 0 | O8: =Saisie!N8 -> 0 | ... AH8: =Saisie!AG8 -> 0 | AI8: =Frais!D9 | AJ8: =Frais!E9 -> 0 | AK8: =Frais!F9 -> 0 | AL8: =Frais!G9 -> 0 | AM8: =Frais!I9 -> 0 | AN8: =Frais!J9 -> 0 | AO8: =Frais!K9 -> 0 | AP8: =Frais!L9 -> 0 | AQ8: =Frais!M9 -> 0 | AR8: =Frais!N9 -> 0 | AS8: =Frais!O9 -> 0 | AT8: =Frais!P9 -> 0 | ... AW8: =Frais!S9 -> 0 | AX8: =Frais!U9 -> 0 | AY8: =Frais!V9 -> 0 | AZ8: =Frais!W9 -> 0 | BA8: =Frais!X9 -> NON | BB8: =Frais!Y9 -> NON | BC8: =Frais!Z9 -> NON | BD8: =Frais!AA9 -> NON | BE8: =Frais!AB9 -> NON | BF8: =Frais!AC9 -> NON
A9: =Bilan!$G$9 -> 0 | B9: =Bilan!$F$11 -> 0 | C9: =C8+1 -> 43804 | D9: =Saisie!B9 | E9: =Frais!C10 | F9: =Saisie!C9 -> Incomplet | G9: =Saisie!D9 -> 0 | H9: =Saisie!G9 -> 0 | I9: =Saisie!H9 -> 0 | J9: =Saisie!I9 -> 0 | K9: =Saisie!J9 -> 0 | L9: =Saisie!K9 -> 0 | M9: =Saisie!L9 -> 0 | N9: =Saisie!M9 -> 0 | O9: =Saisie!N9 -> 0 | ... AH9: =Saisie!AG9 -> 0 | AI9: =Frais!D10 | AJ9: =Frais!E10 -> 0 | AK9: =Frais!F10 -> 0 | AL9: =Frais!G10 -> 0 | AM9: =Frais!I10 -> 0 | AN9: =Frais!J10 -> 0 | AO9: =Frais!K10 -> 0 | AP9: =Frais!L10 -> 0 | AQ9: =Frais!M10 -> 0 | AR9: =Frais!N10 -> 0 | AS9: =Frais!O10 -> 0 | AT9: =Frais!P10 -> 0 | ... AW9: =Frais!S10 -> 0 | AX9: =Frais!U10 -> 0 | AY9: =Frais!V10 -> 0 | AZ9: =Frais!W10 -> 0 | BA9: =Frais!X10 -> NON | BB9: =Frais!Y10 -> NON | BC9: =Frais!Z10 -> NON | BD9: =Frais!AA10 -> NON | BE9: =Frais!AB10 -> NON | BF9: =Frais!AC10 -> NON
A10: =Bilan!$G$9 -> 0 | B10: =Bilan!$F$11 -> 0 | C10: =C9+1 -> 43805 | D10: =Saisie!B10 | E10: =Frais!C11 | F10: =Saisie!C10 -> Incomplet | G10: =Saisie!D10 -> 0 | H10: =Saisie!G10 -> 0 | I10: =Saisie!H10 -> 0 | J10: =Saisie!I10 -> 0 | K10: =Saisie!J10 -> 0 | L10: =Saisie!K10 -> 0 | M10: =Saisie!L10 -> 0 | N10: =Saisie!M10 -> 0 | O10: =Saisie!N10 -> 0 | ... AH10: =Saisie!AG10 -> 0 | AI10: =Frais!D11 | AJ10: =Frais!E11 -> 0 | AK10: =Frais!F11 -> 0 | AL10: =Frais!G11 -> 0 | AM10: =Frais!I11 -> 0 | AN10: =Frais!J11 -> 0 | AO10: =Frais!K11 -> 0 | AP10: =Frais!L11 -> 0 | AQ10: =Frais!M11 -> 0 | AR10: =Frais!N11 -> 0 | AS10: =Frais!O11 -> 0 | AT10: =Frais!P11 -> 0 | ... AW10: =Frais!S11 -> 0 | AX10: =Frais!U11 -> 0 | AY10: =Frais!V11 -> 0 | AZ10: =Frais!W11 -> 0 | BA10: =Frais!X11 -> NON | BB10: =Frais!Y11 -> NON | BC10: =Frais!Z11 -> NON | BD10: =Frais!AA11 -> NON | BE10: =Frais!AB11 -> NON | BF10: =Frais!AC11 -> NON
A11: =Bilan!$G$9 -> 0 | B11: =Bilan!$F$11 -> 0 | C11: =C10+1 -> 43806 | D11: =Saisie!B11 | E11: =Frais!C12 | F11: =Saisie!C11 -> Incomplet | G11: =Saisie!D11 -> 0 | H11: =Saisie!G11 -> 0 | I11: =Saisie!H11 -> 0 | J11: =Saisie!I11 -> 0 | K11: =Saisie!J11 -> 0 | L11: =Saisie!K11 -> 0 | M11: =Saisie!L11 -> 0 | N11: =Saisie!M11 -> 0 | O11: =Saisie!N11 -> 0 | ... AH11: =Saisie!AG11 -> 0 | AI11: =Frais!D12 | AJ11: =Frais!E12 -> 0 | AK11: =Frais!F12 -> 0 | AL11: =Frais!G12 -> 0 | AM11: =Frais!I12 -> 0 | AN11: =Frais!J12 -> 0 | AO11: =Frais!K12 -> 0 | AP11: =Frais!L12 -> 0 | AQ11: =Frais!M12 -> 0 | AR11: =Frais!N12 -> 0 | AS11: =Frais!O12 -> 0 | AT11: =Frais!P12 -> 0 | ... AW11: =Frais!S12 -> 0 | AX11: =Frais!U12 -> 0 | AY11: =Frais!V12 -> 0 | AZ11: =Frais!W12 -> 0 | BA11: =Frais!X12 -> NON | BB11: =Frais!Y12 -> NON | BC11: =Frais!Z12 -> NON | BD11: =Frais!AA12 -> NON | BE11: =Frais!AB12 -> NON | BF11: =Frais!AC12 -> NON
A12: =Bilan!$G$9 -> 0 | B12: =Bilan!$F$11 -> 0 | C12: =C11+1 -> 43807 | D12: =Saisie!B12 | E12: =Frais!C13 | F12: =Saisie!C12 -> Incomplet | G12: =Saisie!D12 -> 0 | H12: =Saisie!G12 -> 0 | I12: =Saisie!H12 -> 0 | J12: =Saisie!I12 -> 0 | K12: =Saisie!J12 -> 0 | L12: =Saisie!K12 -> 0 | M12: =Saisie!L12 -> 0 | N12: =Saisie!M12 -> 0 | O12: =Saisie!N12 -> 0 | ... AH12: =Saisie!AG12 -> 0 | AI12: =Frais!D13 | AJ12: =Frais!E13 -> 0 | AK12: =Frais!F13 -> 0 | AL12: =Frais!G13 -> 0 | AM12: =Frais!I13 -> 0 | AN12: =Frais!J13 -> 0 | AO12: =Frais!K13 -> 0 | AP12: =Frais!L13 -> 0 | AQ12: =Frais!M13 -> 0 | AR12: =Frais!N13 -> 0 | AS12: =Frais!O13 -> 0 | AT12: =Frais!P13 -> 0 | ... AW12: =Frais!S13 -> 0 | AX12: =Frais!U13 -> 0 | AY12: =Frais!V13 -> 0 | AZ12: =Frais!W13 -> 0 | BA12: =Frais!X13 -> NON | BB12: =Frais!Y13 -> NON | BC12: =Frais!Z13 -> NON | BD12: =Frais!AA13 -> NON | BE12: =Frais!AB13 -> NON | BF12: =Frais!AC13 -> NON
A13: =Bilan!$G$9 -> 0 | B13: =Bilan!$F$11 -> 0 | C13: =C12+1 -> 43808 | D13: =Saisie!B13 | E13: =Frais!C14 | F13: =Saisie!C13 -> Incomplet | G13: =Saisie!D13 -> 0 | H13: =Saisie!G13 -> 0 | I13: =Saisie!H13 -> 0 | J13: =Saisie!I13 -> 0 | K13: =Saisie!J13 -> 0 | L13: =Saisie!K13 -> 0 | M13: =Saisie!L13 -> 0 | N13: =Saisie!M13 -> 0 | O13: =Saisie!N13 -> 0 | ... AH13: =Saisie!AG13 -> 0 | AI13: =Frais!D14 | AJ13: =Frais!E14 -> 0 | AK13: =Frais!F14 -> 0 | AL13: =Frais!G14 -> 0 | AM13: =Frais!I14 -> 0 | AN13: =Frais!J14 -> 0 | AO13: =Frais!K14 -> 0 | AP13: =Frais!L14 -> 0 | AQ13: =Frais!M14 -> 0 | AR13: =Frais!N14 -> 0 | AS13: =Frais!O14 -> 0 | AT13: =Frais!P14 -> 0 | ... AW13: =Frais!S14 -> 0 | AX13: =Frais!U14 -> 0 | AY13: =Frais!V14 -> 0 | AZ13: =Frais!W14 -> 0 | BA13: =Frais!X14 -> NON | BB13: =Frais!Y14 -> NON | BC13: =Frais!Z14 -> NON | BD13: =Frais!AA14 -> NON | BE13: =Frais!AB14 -> NON | BF13: =Frais!AC14 -> NON
A14: =Bilan!$G$9 -> 0 | B14: =Bilan!$F$11 -> 0 | C14: =C13+1 -> 43809 | D14: =Saisie!B14 | E14: =Frais!C15 | F14: =Saisie!C14 -> Incomplet | G14: =Saisie!D14 -> 0 | H14: =Saisie!G14 -> 0 | I14: =Saisie!H14 -> 0 | J14: =Saisie!I14 -> 0 | K14: =Saisie!J14 -> 0 | L14: =Saisie!K14 -> 0 | M14: =Saisie!L14 -> 0 | N14: =Saisie!M14 -> 0 | O14: =Saisie!N14 -> 0 | ... AH14: =Saisie!AG14 -> 0 | AI14: =Frais!D15 | AJ14: =Frais!E15 -> 0 | AK14: =Frais!F15 -> 0 | AL14: =Frais!G15 -> 0 | AM14: =Frais!I15 -> 0 | AN14: =Frais!J15 -> 0 | AO14: =Frais!K15 -> 0 | AP14: =Frais!L15 -> 0 | AQ14: =Frais!M15 -> 0 | AR14: =Frais!N15 -> 0 | AS14: =Frais!O15 -> 0 | AT14: =Frais!P15 -> 0 | ... AW14: =Frais!S15 -> 0 | AX14: =Frais!U15 -> 0 | AY14: =Frais!V15 -> 0 | AZ14: =Frais!W15 -> 0 | BA14: =Frais!X15 -> NON | BB14: =Frais!Y15 -> NON | BC14: =Frais!Z15 -> NON | BD14: =Frais!AA15 -> NON | BE14: =Frais!AB15 -> NON | BF14: =Frais!AC15 -> NON
A15: =Bilan!$G$9 -> 0 | B15: =Bilan!$F$11 -> 0 | C15: =C14+1 -> 43810 | D15: =Saisie!B15 | E15: =Frais!C16 | F15: =Saisie!C15 -> Incomplet | G15: =Saisie!D15 -> 0 | H15: =Saisie!G15 -> 0 | I15: =Saisie!H15 -> 0 | J15: =Saisie!I15 -> 0 | K15: =Saisie!J15 -> 0 | L15: =Saisie!K15 -> 0 | M15: =Saisie!L15 -> 0 | N15: =Saisie!M15 -> 0 | O15: =Saisie!N15 -> 0 | ... AH15: =Saisie!AG15 -> 0 | AI15: =Frais!D16 | AJ15: =Frais!E16 -> 0 | AK15: =Frais!F16 -> 0 | AL15: =Frais!G16 -> 0 | AM15: =Frais!I16 -> 0 | AN15: =Frais!J16 -> 0 | AO15: =Frais!K16 -> 0 | AP15: =Frais!L16 -> 0 | AQ15: =Frais!M16 -> 0 | AR15: =Frais!N16 -> 0 | AS15: =Frais!O16 -> 0 | AT15: =Frais!P16 -> 0 | ... AW15: =Frais!S16 -> 0 | AX15: =Frais!U16 -> 0 | AY15: =Frais!V16 -> 0 | AZ15: =Frais!W16 -> 0 | BA15: =Frais!X16 -> NON | BB15: =Frais!Y16 -> NON | BC15: =Frais!Z16 -> NON | BD15: =Frais!AA16 -> NON | BE15: =Frais!AB16 -> NON | BF15: =Frais!AC16 -> NON
A16: =Bilan!$G$9 -> 0 | B16: =Bilan!$F$11 -> 0 | C16: =C15+1 -> 43811 | D16: =Saisie!B16 | E16: =Frais!C17 | F16: =Saisie!C16 -> Incomplet | G16: =Saisie!D16 -> 0 | H16: =Saisie!G16 -> 0 | I16: =Saisie!H16 -> 0 | J16: =Saisie!I16 -> 0 | K16: =Saisie!J16 -> 0 | L16: =Saisie!K16 -> 0 | M16: =Saisie!L16 -> 0 | N16: =Saisie!M16 -> 0 | O16: =Saisie!N16 -> 0 | ... AH16: =Saisie!AG16 -> 0 | AI16: =Frais!D17 | AJ16: =Frais!E17 -> 0 | AK16: =Frais!F17 -> 0 | AL16: =Frais!G17 -> 0 | AM16: =Frais!I17 -> 0 | AN16: =Frais!J17 -> 0 | AO16: =Frais!K17 -> 0 | AP16: =Frais!L17 -> 0 | AQ16: =Frais!M17 -> 0 | AR16: =Frais!N17 -> 0 | AS16: =Frais!O17 -> 0 | AT16: =Frais!P17 -> 0 | ... AW16: =Frais!S17 -> 0 | AX16: =Frais!U17 -> 0 | AY16: =Frais!V17 -> 0 | AZ16: =Frais!W17 -> 0 | BA16: =Frais!X17 -> NON | BB16: =Frais!Y17 -> NON | BC16: =Frais!Z17 -> NON | BD16: =Frais!AA17 -> NON | BE16: =Frais!AB17 -> NON | BF16: =Frais!AC17 -> NON
A17: =Bilan!$G$9 -> 0 | B17: =Bilan!$F$11 -> 0 | C17: =C16+1 -> 43812 | D17: =Saisie!B17 | E17: =Frais!C18 | F17: =Saisie!C17 -> Incomplet | G17: =Saisie!D17 -> 0 | H17: =Saisie!G17 -> 0 | I17: =Saisie!H17 -> 0 | J17: =Saisie!I17 -> 0 | K17: =Saisie!J17 -> 0 | L17: =Saisie!K17 -> 0 | M17: =Saisie!L17 -> 0 | N17: =Saisie!M17 -> 0 | O17: =Saisie!N17 -> 0 | ... AH17: =Saisie!AG17 -> 0 | AI17: =Frais!D18 | AJ17: =Frais!E18 -> 0 | AK17: =Frais!F18 -> 0 | AL17: =Frais!G18 -> 0 | AM17: =Frais!I18 -> 0 | AN17: =Frais!J18 -> 0 | AO17: =Frais!K18 -> 0 | AP17: =Frais!L18 -> 0 | AQ17: =Frais!M18 -> 0 | AR17: =Frais!N18 -> 0 | AS17: =Frais!O18 -> 0 | AT17: =Frais!P18 -> 0 | ... AW17: =Frais!S18 -> 0 | AX17: =Frais!U18 -> 0 | AY17: =Frais!V18 -> 0 | AZ17: =Frais!W18 -> 0 | BA17: =Frais!X18 -> NON | BB17: =Frais!Y18 -> NON | BC17: =Frais!Z18 -> NON | BD17: =Frais!AA18 -> NON | BE17: =Frais!AB18 -> NON | BF17: =Frais!AC18 -> NON
... A32: =Bilan!$G$9 -> 0 | B32: =Bilan!$F$11 -> 0 | C32: =C31+1 -> 43827 | D32: =Saisie!B32 | E32: =Frais!C33 | F32: =Saisie!C32 -> Incomplet | G32: =Saisie!D32 -> 0 | H32: =Saisie!G32 -> 0 | I32: =Saisie!H32 -> 0 | J32: =Saisie!I32 -> 0 | K32: =Saisie!J32 -> 0 | L32: =Saisie!K32 -> 0 | M32: =Saisie!L32 -> 0 | N32: =Saisie!M32 -> 0 | O32: =Saisie!N32 -> 0 | ... AH32: =Saisie!AG32 -> 0 | AI32: =Frais!D33 | AJ32: =Frais!E33 -> 0 | AK32: =Frais!F33 -> 0 | AL32: =Frais!G33 -> 0 | AM32: =Frais!I33 -> 0 | AN32: =Frais!J33 -> 0 | AO32: =Frais!K33 -> 0 | AP32: =Frais!L33 -> 0 | AQ32: =Frais!M33 -> 0 | AR32: =Frais!N33 -> 0 | AS32: =Frais!O33 -> 0 | AT32: =Frais!P33 -> 0 | ... AW32: =Frais!S33 -> 0 | AX32: =Frais!U33 -> 0 | AY32: =Frais!V33 -> 0 | AZ32: =Frais!W33 -> 0 | BA32: =Frais!X33 -> NON | BB32: =Frais!Y33 -> NON | BC32: =Frais!Z33 -> NON | BD32: =Frais!AA33 -> NON | BE32: =Frais!AB33 -> NON | BF32: =Frais!AC33 -> NON
A33: =Bilan!$G$9 -> 0 | B33: =Bilan!$F$11 -> 0 | C33: =IF(Saisie!$B$1=data!$Q$2,"",C32+1) -> 43828 | D33: =Saisie!B33 | E33: =Frais!C34 | F33: =Saisie!C33 -> Incomplet | G33: =Saisie!D33 -> 0 | H33: =Saisie!G33 -> 0 | I33: =Saisie!H33 -> 0 | J33: =Saisie!I33 -> 0 | K33: =Saisie!J33 -> 0 | L33: =Saisie!K33 -> 0 | M33: =Saisie!L33 -> 0 | N33: =Saisie!M33 -> 0 | O33: =Saisie!N33 -> 0 | ... AH33: =Saisie!AG33 -> 0 | AI33: =Frais!D34 | AJ33: =Frais!E34 -> 0 | AK33: =Frais!F34 -> 0 | AL33: =Frais!G34 -> 0 | AM33: =Frais!I34 -> 0 | AN33: =Frais!J34 -> 0 | AO33: =Frais!K34 -> 0 | AP33: =Frais!L34 -> 0 | AQ33: =Frais!M34 -> 0 | AR33: =Frais!N34 -> 0 | AS33: =Frais!O34 -> 0 | AT33: =Frais!P34 -> 0 | ... AW33: =Frais!S34 -> 0 | AX33: =Frais!U34 -> 0 | AY33: =Frais!V34 -> 0 | AZ33: =Frais!W34 -> 0 | BA33: =Frais!X34 -> NON | BB33: =Frais!Y34 -> NON | BC33: =Frais!Z34 -> NON | BD33: =Frais!AA34 -> NON | BE33: =Frais!AB34 -> NON | BF33: =Frais!AC34 -> NON
A34: =Bilan!$G$9 -> 0 | B34: =Bilan!$F$11 -> 0 | C34: =IF(C33=data!$Q$4,"",C33+1) -> 43829 | D34: =Saisie!B34 | E34: =Frais!C35 | F34: =Saisie!C34 -> Incomplet | G34: =Saisie!D34 -> 0 | H34: =Saisie!G34 -> 0 | I34: =Saisie!H34 -> 0 | J34: =Saisie!I34 -> 0 | K34: =Saisie!J34 -> 0 | L34: =Saisie!K34 -> 0 | M34: =Saisie!L34 -> 0 | N34: =Saisie!M34 -> 0 | O34: =Saisie!N34 -> 0 | ... AH34: =Saisie!AG34 -> 0 | AI34: =Frais!D35 | AJ34: =Frais!E35 -> 0 | AK34: =Frais!F35 -> 0 | AL34: =Frais!G35 -> 0 | AM34: =Frais!I35 -> 0 | AN34: =Frais!J35 -> 0 | AO34: =Frais!K35 -> 0 | AP34: =Frais!L35 -> 0 | AQ34: =Frais!M35 -> 0 | AR34: =Frais!N35 -> 0 | AS34: =Frais!O35 -> 0 | AT34: =Frais!P35 -> 0 | ... AW34: =Frais!S35 -> 0 | AX34: =Frais!U35 -> 0 | AY34: =Frais!V35 -> 0 | AZ34: =Frais!W35 -> 0 | BA34: =Frais!X35 -> NON | BB34: =Frais!Y35 -> NON | BC34: =Frais!Z35 -> NON | BD34: =Frais!AA35 -> NON | BE34: =Frais!AB35 -> NON | BF34: =Frais!AC35 -> NON
A35: =Bilan!$G$9 -> 0 | B35: =Bilan!$F$11 -> 0 | C35: =IF(C34=data!$Q$4,"",IF(Saisie!B1=data!$O$2,"",IF(Saisie!B1=data!$O$3,"",IF(Saisie!B1=data!$O$4,"",IF(Saisie!B1=data!$O$5,"",C34+1))))) -> 43830 | D35: =Saisie!B35 | E35: =Frais!C36 | F35: =Saisie!C35 -> Incomplet | G35: =Saisie!D35 -> 0 | H35: =Saisie!G35 -> 0 | I35: =Saisie!H35 -> 0 | J35: =Saisie!I35 -> 0 | K35: =Saisie!J35 -> 0 | L35: =Saisie!K35 -> 0 | M35: =Saisie!L35 -> 0 | N35: =Saisie!M35 -> 0 | O35: =Saisie!N35 -> 0 | ... AH35: =Saisie!AG35 -> 0 | AI35: =Frais!D36 | AJ35: =Frais!E36 -> 0 | AK35: =Frais!F36 -> 0 | AL35: =Frais!G36 -> 0 | AM35: =Frais!I36 -> 0 | AN35: =Frais!J36 -> 0 | AO35: =Frais!K36 -> 0 | AP35: =Frais!L36 -> 0 | AQ35: =Frais!M36 -> 0 | AR35: =Frais!N36 -> 0 | AS35: =Frais!O36 -> 0 | AT35: =Frais!P36 -> 0 | ... AW35: =Frais!S36 -> 0 | AX35: =Frais!U36 -> 0 | AY35: =Frais!V36 -> 0 | AZ35: =Frais!W36 -> 0 | BA35: =Frais!X36 -> NON | BB35: =Frais!Y36 -> NON | BC35: =Frais!Z36 -> NON | BD35: =Frais!AA36 -> NON | BE35: =Frais!AB36 -> NON | BF35: =Frais!AC36 -> NON

Sheet data
A1: janvier | B1: 9 | D1: Année | E1: =Saisie!$Z$1+2019 -> 2019 | G1: 0 | I1: Mission | L1: 31 | N1: 30 | P1: 28
A2: février | B2: 2019 | G2: 1 | H2: Agent 1 | I2: M1 | K2: Plaque 1 | L2: janvier | M2: 1 | N2: avril | O2: 4 | P2: fevrier | Q2: 2 | S2: Bureau | T2: NON | U2: OUI | V2: Desinf.Vehi.1 | W2: 0.16666667 | X2: 0.45833333 | Y2: 0.39583333 | Z2: 0
A3: mars | B3: 2020 | D3: 1er Janvier | E3: =F3 -> 43466 | F3: =DATE($E$1,1,1) -> 43466 | G3: 2 | H3: Agent 2 | I3: M2 | K3: Plaque 2 | L3: mars | M3: 3 | N3: juin | O3: 6 | S3: Circuit A | T3: OK | U3: Incomplet | V3: Desinf.Vehi.2 | W3: 0.17708333 | X3: 0.46875 | Y3: 0.40625 | Z3: 0.010416667 | AA3: Tableau de saisie pour onglet SAISIE (original = version 1)
A4: avril | B4: 2021 | D4: Pâques | E4: =F4 -> 43569 | F4: =ROUND(DATE($E$1,4,MOD(234-11*MOD(Saisie!$Z$1+117,19),30))/7,)*7-6 -> 43569 | G4: 3 | H4: Agent 3 | I4: M3 | K4: Plaque 3 | L4: mai | M4: 5 | N4: septembre | O4: 9 | S4: Circuit R | T4: OUI | W4: 0.1875 | X4: 0.47916667 | Y4: 0.41666667 | Z4: 0.020833333
A5: mai | B5: 2022 | D5: Lundi de Pâques | E5: =F5 -> 43570 | F5: =E4+1 -> 43570 | G5: 4 | H5: Agent 4 | I5: M4 | K5: Plaque 4 | L5: juillet | M5: 7 | N5: novembre | O5: 11 | S5: Circuit S | W5: 0.19791667 | X5: 0.48958333 | Y5: 0.42708333 | Z5: 0.03125 | AC5: Frais de repas | AD5: Frais kilometrique | AE5: Autres
A6: juin | B6: 2023 | D6: 1er Mai | E6: =F6 -> 43586 | F6: =DATE($E$1,5,1) -> 43586 | G6: 5 | H6: Agent 5 | I6: M5 | K6: Plaque 5 | L6: aout | M6: 8 | S6: Journée Technique | W6: 0.20833333 | X6: 0.5 | Y6: 0.4375 | Z6: 0.041666667 | AC6: =IF(Frais!#REF!=data!$T$2,"OK",IF(Frais!#REF!<>"",IF(Frais!#REF!<>"",IF(Frais!#REF!<>"","OK","Incomplet"),"Incomplet"),"Incomplet")) -> #REF! | AD6: =IF(Saisie!#REF!=data!$V$2,IF(Frais!#REF!<>"",IF(Frais!#REF!<>"",IF(Frais!#REF!=data!$T$2,IF(Frais!#REF!=data!$T$2,"OK",IF(Frais!#REF!<>"",IF(Frais!#REF!<>"","OK","Incomplet"),"Incomplet")),IF(Frais!#REF!<>"",IF(Frais!#REF!<>"",IF(Frais!#REF!=data!$T$2,"OK",IF(Frais!#REF!<>"",IF(Frais!#REF!<>"","OK","Incomplet"),"Incomplet")),"Incomplet"),"Incomplet")),IF(Frais!#REF!<>"",IF(Frais!#REF!<>"","OK","Incomplet"),"Incomplet")),"Incomplet"),IF(Saisie!#REF!=data!$V$3,IF(Frais!#REF!<>"",IF(Frais!#REF!<>"",IF(Frais!#REF!=data!$T$2,IF(Frais!#REF!=data!$T$2,"OK",IF(Frais!#REF!<>"",IF(Frais!#REF!<>"","OK","Incomplet"),"Incomplet")),IF(Frais!#REF!<>"",IF(Frais!#REF!<>"",IF(Frais!#REF!=data!$T$2,"OK",IF(Frais!#REF!<>"",IF(Frais!#REF!<>"","OK","Incomplet"),"Incomplet")),"Incomplet"),"Incomplet")),IF(Frais!#REF!<>"",IF(Frais!#REF!<>"","OK","Incomplet"),"Incomplet")),"Incomplet"),IF(Frais!#REF!<>"",IF(Frais!#REF!<>"",IF(Frais!#REF!=data!$T$2,"OK",IF(Frais!#REF!<>"",IF(Frais!#REF!<>"",IF(Frais!#REF!<>"","OK","Incomplet"),"Incomplet"),"Incomplet")),"Incomplet"),"Incomplet"))) -> #REF! | AE6: =IF(Frais!#REF!<>"",IF(Frais!#REF!<>"",IF(Frais!#REF!<>"","OK","Incomplet"),"Incomplet"),"OK") -> #REF!
A7: juillet | B7: 2024 | D7: 8 Mai | E7: =F7 -> 43593 | F7: =DATE($E$1,5,8) -> 43593 | G7: 6 | H7: Agent 6 | I7: M6 | K7: Plaque 6 | L7: octobre | M7: 10 | S7: Réunion de Service | W7: 0.21875 | X7: 0.51041667 | Y7: 0.44791667 | Z7: 0.052083333 | AC7: =IF(Frais!#REF!=data!$T$2,"OK",IF(Frais!#REF!<>"",IF(Frais!#REF!<>"",IF(Frais!#REF!<>"","OK","Incomplet"),"Incomplet"),"Incomplet")) -> #REF! | AD7: =IF(Saisie!#REF!=data!$V$2,IF(Frais!#REF!<>"",IF(Frais!#REF!<>"",IF(Frais!#REF!=data!$T$2,IF(Frais!#REF!=data!$T$2,"OK",IF(Frais!#REF!<>"",IF(Frais!#REF!<>"","OK","Incomplet"),"Incomplet")),IF(Frais!#REF!<>"",IF(Frais!#REF!<>"",IF(Frais!#REF!=data!$T$2,"OK",IF(Frais!#REF!<>"",IF(Frais!#REF!<>"","OK","Incomplet"),"Incomplet")),"Incomplet"),"Incomplet")),IF(Frais!#REF!<>"",IF(Frais!#REF!<>"","OK","Incomplet"),"Incomplet")),"Incomplet"),IF(Saisie!#REF!=data!$V$3,IF(Frais!#REF!<>"",IF(Frais!#REF!<>"",IF(Frais!#REF!=data!$T$2,IF(Frais!#REF!=data!$T$2,"OK",IF(Frais!#REF!<>"",IF(Frais!#REF!<>"","OK","Incomplet"),"Incomplet")),IF(Frais!#REF!<>"",IF(Frais!#REF!<>"",IF(Frais!#REF!=data!$T$2,"OK",IF(Frais!#REF!<>"",IF(Frais!#REF!<>"","OK","Incomplet"),"Incomplet")),"Incomplet"),"Incomplet")),IF(Frais!#REF!<>"",IF(Frais!#REF!<>"","OK","Incomplet"),"Incomplet")),"Incomplet"),IF(Frais!#REF!<>"",IF(Frais!#REF!<>"",IF(Frais!#REF!=data!$T$2,"OK",IF(Frais!#REF!<>"",IF(Frais!#REF!<>"",IF(Frais!#REF!<>"","OK","Incomplet"),"Incomplet"),"Incomplet")),"Incomplet"),"Incomplet"))) -> #REF! | AE7: =IF(Frais!#REF!<>"",IF(Frais!#REF!<>"",IF(Frais!#REF!<>"","OK","Incomplet"),"Incomplet"),"OK") -> #REF!
A8: août | B8: 2025 | D8: Ascenscion | E8: =F8 -> 43608 | F8: =E4+39 -> 43608 | G8: 7 | H8: Agent 7 | I8: M7 | K8: Plaque 7 | L8: decembre | M8: 12 | P8: tps min avant pause 20min | S8: Comission | W8: 0.22916667 | X8: 0.52083333 | Y8: 0.45833333 | Z8: 0.0625 | AC8: =IF(Frais!D6=data!$T$2,"OK",IF(Frais!E6<>"",IF(Frais!F6<>"",IF(Frais!G6<>"","OK","Incomplet"),"Incomplet"),"Incomplet")) -> Incomplet | AD8: =IF(Saisie!I5=data!$V$2,IF(Frais!M6<>"",IF(Frais!N6<>"",IF(Frais!N6=data!$T$2,IF(Frais!Q6=data!$T$2,"OK",IF(Frais!R6<>"",IF(Frais!S6<>"","OK","Incomplet"),"Incomplet")),IF(Frais!O6<>"",IF(Frais!P6<>"",IF(Frais!Q6=data!$T$2,"OK",IF(Frais!R6<>"",IF(Frais!S6<>"","OK","Incomplet"),"Incomplet")),"Incomplet"),"Incomplet")),IF(Frais!O6<>"",IF(Frais!P6<>"","OK","Incomplet"),"Incomplet")),"Incomplet"),IF(Saisie!I5=data!$V$3,IF(Frais!M6<>"",IF(Frais!N6<>"",IF(Frais!N6=data!$T$2,IF(Frais!Q6=data!$T$2,"OK",IF(Frais!R6<>"",IF(Frais!S6<>"","OK","Incomplet"),"Incomplet")),IF(Frais!O6<>"",IF(Frais!P6<>"",IF(Frais!Q6=data!$T$2,"OK",IF(Frais!R6<>"",IF(Frais!S6<>"","OK","Incomplet"),"Incomplet")),"Incomplet"),"Incomplet")),IF(Frais!O6<>"",IF(Frais!P6<>"","OK","Incomplet"),"Incomplet")),"Incomplet"),IF(Frais!I6<>"",IF(Frais!J6<>"",IF(Frais!J6=data!$T$2,"OK",IF(Frais!J6<>"",IF(Frais!K6<>"",IF(Frais!L6<>"","OK","Incomplet"),"Incomplet"),"Incomplet")),"Incomplet"),"Incomplet"))) -> Incomplet | AE8: =IF(Frais!U6<>"",IF(Frais!V6<>"",IF(Frais!W6<>"","OK","Incomplet"),"Incomplet"),"OK") -> OK
A9: septembre | B9: 2026 | D9: Pentecôte | E9: =F9 -> 43618 | F9: =E4+49 -> 43618 | G9: 8 | H9: Agent 8 | I9: M8 | K9: Plaque 8 | P9: 0.25 | S9: Circuit semaine | W9: 0.23958333 | X9: 0.53125 | Y9: 0.46875 | Z9: 0.072916667 | AC9: =IF(Frais!D7=data!$T$2,"OK",IF(Frais!E7<>"",IF(Frais!F7<>"",IF(Frais!G7<>"","OK","Incomplet"),"Incomplet"),"Incomplet")) -> Incomplet | AD9: =IF(Saisie!I6=data!$V$2,IF(Frais!M7<>"",IF(Frais!N7<>"",IF(Frais!N7=data!$T$2,IF(Frais!Q7=data!$T$2,"OK",IF(Frais!R7<>"",IF(Frais!S7<>"","OK","Incomplet"),"Incomplet")),IF(Frais!O7<>"",IF(Frais!P7<>"",IF(Frais!Q7=data!$T$2,"OK",IF(Frais!R7<>"",IF(Frais!S7<>"","OK","Incomplet"),"Incomplet")),"Incomplet"),"Incomplet")),IF(Frais!O7<>"",IF(Frais!P7<>"","OK","Incomplet"),"Incomplet")),"Incomplet"),IF(Saisie!I6=data!$V$3,IF(Frais!M7<>"",IF(Frais!N7<>"",IF(Frais!N7=data!$T$2,IF(Frais!Q7=data!$T$2,"OK",IF(Frais!R7<>"",IF(Frais!S7<>"","OK","Incomplet"),"Incomplet")),IF(Frais!O7<>"",IF(Frais!P7<>"",IF(Frais!Q7=data!$T$2,"OK",IF(Frais!R7<>"",IF(Frais!S7<>"","OK","Incomplet"),"Incomplet")),"Incomplet"),"Incomplet")),IF(Frais!O7<>"",IF(Frais!P7<>"","OK","Incomplet"),"Incomplet")),"Incomplet"),IF(Frais!I7<>"",IF(Frais!J7<>"",IF(Frais!J7=data!$T$2,"OK",IF(Frais!J7<>"",IF(Frais!K7<>"",IF(Frais!L7<>"","OK","Incomplet"),"Incomplet"),"Incomplet")),"Incomplet"),"Incomplet"))) -> Incomplet | AE9: =IF(Frais!U7<>"",IF(Frais!V7<>"",IF(Frais!W7<>"","OK","Incomplet"),"Incomplet"),"OK") -> OK
A10: octobre | B10: 2027 | D10: Lundi de la Pentecôte | E10: =F10 -> 43619 | F10: =E4+50 -> 43619 | G10: 9 | H10: Agent 9 | I10: M9 | K10: Plaque 9 | P10: temps pause repas | S10: Inter labo | W10: 0.25 | X10: 0.54166667 | Y10: 0.47916667 | Z10: 0.083333333 | AC10: =IF(Frais!D8=data!$T$2,"OK",IF(Frais!E8<>"",IF(Frais!F8<>"",IF(Frais!G8<>"","OK","Incomplet"),"Incomplet"),"Incomplet")) -> Incomplet | AD10: =IF(Saisie!I7=data!$V$2,IF(Frais!M8<>"",IF(Frais!N8<>"",IF(Frais!N8=data!$T$2,IF(Frais!Q8=data!$T$2,"OK",IF(Frais!R8<>"",IF(Frais!S8<>"","OK","Incomplet"),"Incomplet")),IF(Frais!O8<>"",IF(Frais!P8<>"",IF(Frais!Q8=data!$T$2,"OK",IF(Frais!R8<>"",IF(Frais!S8<>"","OK","Incomplet"),"Incomplet")),"Incomplet"),"Incomplet")),IF(Frais!O8<>"",IF(Frais!P8<>"","OK","Incomplet"),"Incomplet")),"Incomplet"),IF(Saisie!I7=data!$V$3,IF(Frais!M8<>"",IF(Frais!N8<>"",IF(Frais!N8=data!$T$2,IF(Frais!Q8=data!$T$2,"OK",IF(Frais!R8<>"",IF(Frais!S8<>"","OK","Incomplet"),"Incomplet")),IF(Frais!O8<>"",IF(Frais!P8<>"",IF(Frais!Q8=data!$T$2,"OK",IF(Frais!R8<>"",IF(Frais!S8<>"","OK","Incomplet"),"Incomplet")),"Incomplet"),"Incomplet")),IF(Frais!O8<>"",IF(Frais!P8<>"","OK","Incomplet"),"Incomplet")),"Incomplet"),IF(Frais!I8<>"",IF(Frais!J8<>"",IF(Frais!J8=data!$T$2,"OK",IF(Frais!J8<>"",IF(Frais!K8<>"",IF(Frais!L8<>"","OK","Incomplet"),"Incomplet"),"Incomplet")),"Incomplet"),"Incomplet"))) -> Incomplet | AE10: =IF(Frais!U8<>"",IF(Frais!V8<>"",IF(Frais!W8<>"","OK","Incomplet"),"Incomplet"),"OK") -> OK
A11: novembre | B11: 2028 | D11: 14 Juillet | E11: =F11 -> 43660 | F11: =DATE($E$1,7,14) -> 43660 | G11: 10 | H11: Agent 10 | I11: M10 | M11: panier | N11: 7.24 | P11: 0.013888889 | S11: Mis en bouillon | W11: 0.26041667 | X11: 0.55208333 | Y11: 0.48958333 | Z11: 0.09375 | AC11: =IF(Frais!D9=data!$T$2,"OK",IF(Frais!E9<>"",IF(Frais!F9<>"",IF(Frais!G9<>"","OK","Incomplet"),"Incomplet"),"Incomplet")) -> Incomplet | AD11: =IF(Saisie!I8=data!$V$2,IF(Frais!M9<>"",IF(Frais!N9<>"",IF(Frais!N9=data!$T$2,IF(Frais!Q9=data!$T$2,"OK",IF(Frais!R9<>"",IF(Frais!S9<>"","OK","Incomplet"),"Incomplet")),IF(Frais!O9<>"",IF(Frais!P9<>"",IF(Frais!Q9=data!$T$2,"OK",IF(Frais!R9<>"",IF(Frais!S9<>"","OK","Incomplet"),"Incomplet")),"Incomplet"),"Incomplet")),IF(Frais!O9<>"",IF(Frais!P9<>"","OK","Incomplet"),"Incomplet")),"Incomplet"),IF(Saisie!I8=data!$V$3,IF(Frais!M9<>"",IF(Frais!N9<>"",IF(Frais!N9=data!$T$2,IF(Frais!Q9=data!$T$2,"OK",IF(Frais!R9<>"",IF(Frais!S9<>"","OK","Incomplet"),"Incomplet")),IF(Frais!O9<>"",IF(Frais!P9<>"",IF(Frais!Q9=data!$T$2,"OK",IF(Frais!R9<>"",IF(Frais!S9<>"","OK","Incomplet"),"Incomplet")),"Incomplet"),"Incomplet")),IF(Frais!O9<>"",IF(Frais!P9<>"","OK","Incomplet"),"Incomplet")),"Incomplet"),IF(Frais!I9<>"",IF(Frais!J9<>"",IF(Frais!J9=data!$T$2,"OK",IF(Frais!J9<>"",IF(Frais!K9<>"",IF(Frais!L9<>"","OK","Incomplet"),"Incomplet"),"Incomplet")),"Incomplet"),"Incomplet"))) -> Incomplet | AE11: =IF(Frais!U9<>"",IF(Frais!V9<>"",IF(Frais!W9<>"","OK","Incomplet"),"Incomplet"),"OK") -> OK
A12: décembre | B12: 2029 | D12: 15 Août | E12: =F12 -> 43692 | F12: =DATE($E$1,8,15) -> 43692 | G12: 11 | H12: Agent 11 | I12: M11 | M12: petit dej | N12: 3.62 | S12: Prép. Echantillons | W12: 0.27083333 | X12: 0.5625 | Y12: 0.5 | Z12: 0.10416667 | AC12: =IF(Frais!D10=data!$T$2,"OK",IF(Frais!E10<>"",IF(Frais!F10<>"",IF(Frais!G10<>"","OK","Incomplet"),"Incomplet"),"Incomplet")) -> Incomplet | AD12: =IF(Saisie!I9=data!$V$2,IF(Frais!M10<>"",IF(Frais!N10<>"",IF(Frais!N10=data!$T$2,IF(Frais!Q10=data!$T$2,"OK",IF(Frais!R10<>"",IF(Frais!S10<>"","OK","Incomplet"),"Incomplet")),IF(Frais!O10<>"",IF(Frais!P10<>"",IF(Frais!Q10=data!$T$2,"OK",IF(Frais!R10<>"",IF(Frais!S10<>"","OK","Incomplet"),"Incomplet")),"Incomplet"),"Incomplet")),IF(Frais!O10<>"",IF(Frais!P10<>"","OK","Incomplet"),"Incomplet")),"Incomplet"),IF(Saisie!I9=data!$V$3,IF(Frais!M10<>"",IF(Frais!N10<>"",IF(Frais!N10=data!$T$2,IF(Frais!Q10=data!$T$2,"OK",IF(Frais!R10<>"",IF(Frais!S10<>"","OK","Incomplet"),"Incomplet")),IF(Frais!O10<>"",IF(Frais!P10<>"",IF(Frais!Q10=data!$T$2,"OK",IF(Frais!R10<>"",IF(Frais!S10<>"","OK","Incomplet"),"Incomplet")),"Incomplet"),"Incomplet")),IF(Frais!O10<>"",IF(Frais!P10<>"","OK","Incomplet"),"Incomplet")),"Incomplet"),IF(Frais!I10<>"",IF(Frais!J10<>"",IF(Frais!J10=data!$T$2,"OK",IF(Frais!J10<>"",IF(Frais!K10<>"",IF(Frais!L10<>"","OK","Incomplet"),"Incomplet"),"Incomplet")),"Incomplet"),"Incomplet"))) -> Incomplet | AE12: =IF(Frais!U10<>"",IF(Frais!V10<>"",IF(Frais!W10<>"","OK","Incomplet"),"Incomplet"),"OK") -> OK
D13: 1er Novembre | E13: =F13 -> 43770 | F13: =DATE($E$1,11,1) -> 43770 | G13: 12 | H13: Agent 12 | I13: M12 | M13: 8h | N13: 3.62 | P13: 0.20833333 | Q13: 0.083333333 | R13: 1.0416667 | S13: Lavage V.service | W13: 0.28125 | X13: 0.57291667 | Y13: 0.51041667 | Z13: 0.11458333 | AC13: =IF(Frais!D11=data!$T$2,"OK",IF(Frais!E11<>"",IF(Frais!F11<>"",IF(Frais!G11<>"","OK","Incomplet"),"Incomplet"),"Incomplet")) -> Incomplet | AD13: =IF(Saisie!I10=data!$V$2,IF(Frais!M11<>"",IF(Frais!N11<>"",IF(Frais!N11=data!$T$2,IF(Frais!Q11=data!$T$2,"OK",IF(Frais!R11<>"",IF(Frais!S11<>"","OK","Incomplet"),"Incomplet")),IF(Frais!O11<>"",IF(Frais!P11<>"",IF(Frais!Q11=data!$T$2,"OK",IF(Frais!R11<>"",IF(Frais!S11<>"","OK","Incomplet"),"Incomplet")),"Incomplet"),"Incomplet")),IF(Frais!O11<>"",IF(Frais!P11<>"","OK","Incomplet"),"Incomplet")),"Incomplet"),IF(Saisie!I10=data!$V$3,IF(Frais!M11<>"",IF(Frais!N11<>"",IF(Frais!N11=data!$T$2,IF(Frais!Q11=data!$T$2,"OK",IF(Frais!R11<>"",IF(Frais!S11<>"","OK","Incomplet"),"Incomplet")),IF(Frais!O11<>"",IF(Frais!P11<>"",IF(Frais!Q11=data!$T$2,"OK",IF(Frais!R11<>"",IF(Frais!S11<>"","OK","Incomplet"),"Incomplet")),"Incomplet"),"Incomplet")),IF(Frais!O11<>"",IF(Frais!P11<>"","OK","Incomplet"),"Incomplet")),"Incomplet"),IF(Frais!I11<>"",IF(Frais!J11<>"",IF(Frais!J11=data!$T$2,"OK",IF(Frais!J11<>"",IF(Frais!K11<>"",IF(Frais!L11<>"","OK","Incomplet"),"Incomplet"),"Incomplet")),"Incomplet"),"Incomplet"))) -> Incomplet | AE13: =IF(Frais!U11<>"",IF(Frais!V11<>"",IF(Frais!W11<>"","OK","Incomplet"),"Incomplet"),"OK") -> OK
D14: 11 Novembre | E14: =F14 -> 43780 | F14: =DATE($E$1,11,11) -> 43780 | G14: 13 | I14: M13 | M14: h nuit | N14: 1 | S14: Lavage V.désinfection | W14: 0.29166667 | X14: 0.58333333 | Y14: 0.52083333 | Z14: 0.125 | AC14: =IF(Frais!D12=data!$T$2,"OK",IF(Frais!E12<>"",IF(Frais!F12<>"",IF(Frais!G12<>"","OK","Incomplet"),"Incomplet"),"Incomplet")) -> Incomplet | AD14: =IF(Saisie!I11=data!$V$2,IF(Frais!M12<>"",IF(Frais!N12<>"",IF(Frais!N12=data!$T$2,IF(Frais!Q12=data!$T$2,"OK",IF(Frais!R12<>"",IF(Frais!S12<>"","OK","Incomplet"),"Incomplet")),IF(Frais!O12<>"",IF(Frais!P12<>"",IF(Frais!Q12=data!$T$2,"OK",IF(Frais!R12<>"",IF(Frais!S12<>"","OK","Incomplet"),"Incomplet")),"Incomplet"),"Incomplet")),IF(Frais!O12<>"",IF(Frais!P12<>"","OK","Incomplet"),"Incomplet")),"Incomplet"),IF(Saisie!I11=data!$V$3,IF(Frais!M12<>"",IF(Frais!N12<>"",IF(Frais!N12=data!$T$2,IF(Frais!Q12=data!$T$2,"OK",IF(Frais!R12<>"",IF(Frais!S12<>"","OK","Incomplet"),"Incomplet")),IF(Frais!O12<>"",IF(Frais!P12<>"",IF(Frais!Q12=data!$T$2,"OK",IF(Frais!R12<>"",IF(Frais!S12<>"","OK","Incomplet"),"Incomplet")),"Incomplet"),"Incomplet")),IF(Frais!O12<>"",IF(Frais!P12<>"","OK","Incomplet"),"Incomplet")),"Incomplet"),IF(Frais!I12<>"",IF(Frais!J12<>"",IF(Frais!J12=data!$T$2,"OK",IF(Frais!J12<>"",IF(Frais!K12<>"",IF(Frais!L12<>"","OK","Incomplet"),"Incomplet"),"Incomplet")),"Incomplet"),"Incomplet"))) -> Incomplet | AE14: =IF(Frais!U12<>"",IF(Frais!V12<>"",IF(Frais!W12<>"","OK","Incomplet"),"Incomplet"),"OK") -> OK
D15: 25 Décembre | E15: =F15 -> 43824 | F15: =DATE($E$1,12,25) -> 43824 | G15: 14 | I15: M14 | S15: Lavage local | W15: 0.30208333 | X15: 0.59375 | Y15: 0.53125 | Z15: 0.13541667 | AC15: =IF(Frais!D13=data!$T$2,"OK",IF(Frais!E13<>"",IF(Frais!F13<>"",IF(Frais!G13<>"","OK","Incomplet"),"Incomplet"),"Incomplet")) -> Incomplet | AD15: =IF(Saisie!I12=data!$V$2,IF(Frais!M13<>"",IF(Frais!N13<>"",IF(Frais!N13=data!$T$2,IF(Frais!Q13=data!$T$2,"OK",IF(Frais!R13<>"",IF(Frais!S13<>"","OK","Incomplet"),"Incomplet")),IF(Frais!O13<>"",IF(Frais!P13<>"",IF(Frais!Q13=data!$T$2,"OK",IF(Frais!R13<>"",IF(Frais!S13<>"","OK","Incomplet"),"Incomplet")),"Incomplet"),"Incomplet")),IF(Frais!O13<>"",IF(Frais!P13<>"","OK","Incomplet"),"Incomplet")),"Incomplet"),IF(Saisie!I12=data!$V$3,IF(Frais!M13<>"",IF(Frais!N13<>"",IF(Frais!N13=data!$T$2,IF(Frais!Q13=data!$T$2,"OK",IF(Frais!R13<>"",IF(Frais!S13<>"","OK","Incomplet"),"Incomplet")),IF(Frais!O13<>"",IF(Frais!P13<>"",IF(Frais!Q13=data!$T$2,"OK",IF(Frais!R13<>"",IF(Frais!S13<>"","OK","Incomplet"),"Incomplet")),"Incomplet"),"Incomplet")),IF(Frais!O13<>"",IF(Frais!P13<>"","OK","Incomplet"),"Incomplet")),"Incomplet"),IF(Frais!I13<>"",IF(Frais!J13<>"",IF(Frais!J13=data!$T$2,"OK",IF(Frais!J13<>"",IF(Frais!K13<>"",IF(Frais!L13<>"","OK","Incomplet"),"Incomplet"),"Incomplet")),"Incomplet"),"Incomplet"))) -> Incomplet | AE15: =IF(Frais!U13<>"",IF(Frais!V13<>"",IF(Frais!W13<>"","OK","Incomplet"),"Incomplet"),"OK") -> OK
G16: 15 | I16: M15 | S16: Lavage V.circuit A | W16: 0.3125 | X16: 0.60416667 | Y16: 0.54166667 | Z16: 0.14583333 | AC16: =IF(Frais!D14=data!$T$2,"OK",IF(Frais!E14<>"",IF(Frais!F14<>"",IF(Frais!G14<>"","OK","Incomplet"),"Incomplet"),"Incomplet")) -> Incomplet | AD16: =IF(Saisie!I13=data!$V$2,IF(Frais!M14<>"",IF(Frais!N14<>"",IF(Frais!N14=data!$T$2,IF(Frais!Q14=data!$T$2,"OK",IF(Frais!R14<>"",IF(Frais!S14<>"","OK","Incomplet"),"Incomplet")),IF(Frais!O14<>"",IF(Frais!P14<>"",IF(Frais!Q14=data!$T$2,"OK",IF(Frais!R14<>"",IF(Frais!S14<>"","OK","Incomplet"),"Incomplet")),"Incomplet"),"Incomplet")),IF(Frais!O14<>"",IF(Frais!P14<>"","OK","Incomplet"),"Incomplet")),"Incomplet"),IF(Saisie!I13=data!$V$3,IF(Frais!M14<>"",IF(Frais!N14<>"",IF(Frais!N14=data!$T$2,IF(Frais!Q14=data!$T$2,"OK",IF(Frais!R14<>"",IF(Frais!S14<>"","OK","Incomplet"),"Incomplet")),IF(Frais!O14<>"",IF(Frais!P14<>"",IF(Frais!Q14=data!$T$2,"OK",IF(Frais!R14<>"",IF(Frais!S14<>"","OK","Incomplet"),"Incomplet")),"Incomplet"),"Incomplet")),IF(Frais!O14<>"",IF(Frais!P14<>"","OK","Incomplet"),"Incomplet")),"Incomplet"),IF(Frais!I14<>"",IF(Frais!J14<>"",IF(Frais!J14=data!$T$2,"OK",IF(Frais!J14<>"",IF(Frais!K14<>"",IF(Frais!L14<>"","OK","Incomplet"),"Incomplet"),"Incomplet")),"Incomplet"),"Incomplet"))) -> Incomplet | AE16: =IF(Frais!U14<>"",IF(Frais!V14<>"",IF(Frais!W14<>"","OK","Incomplet"),"Incomplet"),"OK") -> OK
G17: 16 | I17: M16 | S17: lavage V.circuit R | W17: 0.32291667 | X17: 0.61458333 | Y17: 0.55208333 | Z17: 0.15625 | AC17: =IF(Frais!D15=data!$T$2,"OK",IF(Frais!E15<>"",IF(Frais!F15<>"",IF(Frais!G15<>"","OK","Incomplet"),"Incomplet"),"Incomplet")) -> Incomplet | AD17: =IF(Saisie!I14=data!$V$2,IF(Frais!M15<>"",IF(Frais!N15<>"",IF(Frais!N15=data!$T$2,IF(Frais!Q15=data!$T$2,"OK",IF(Frais!R15<>"",IF(Frais!S15<>"","OK","Incomplet"),"Incomplet")),IF(Frais!O15<>"",IF(Frais!P15<>"",IF(Frais!Q15=data!$T$2,"OK",IF(Frais!R15<>"",IF(Frais!S15<>"","OK","Incomplet"),"Incomplet")),"Incomplet"),"Incomplet")),IF(Frais!O15<>"",IF(Frais!P15<>"","OK","Incomplet"),"Incomplet")),"Incomplet"),IF(Saisie!I14=data!$V$3,IF(Frais!M15<>"",IF(Frais!N15<>"",IF(Frais!N15=data!$T$2,IF(Frais!Q15=data!$T$2,"OK",IF(Frais!R15<>"",IF(Frais!S15<>"","OK","Incomplet"),"Incomplet")),IF(Frais!O15<>"",IF(Frais!P15<>"",IF(Frais!Q15=data!$T$2,"OK",IF(Frais!R15<>"",IF(Frais!S15<>"","OK","Incomplet"),"Incomplet")),"Incomplet"),"Incomplet")),IF(Frais!O15<>"",IF(Frais!P15<>"","OK","Incomplet"),"Incomplet")),"Incomplet"),IF(Frais!I15<>"",IF(Frais!J15<>"",IF(Frais!J15=data!$T$2,"OK",IF(Frais!J15<>"",IF(Frais!K15<>"",IF(Frais!L15<>"","OK","Incomplet"),"Incomplet"),"Incomplet")),"Incomplet"),"Incomplet"))) -> Incomplet | AE17: =IF(Frais!U15<>"",IF(Frais!V15<>"",IF(Frais!W15<>"","OK","Incomplet"),"Incomplet"),"OK") -> OK
D18: 0.5 | E18: 0.58333333 | G18: 17 | I18: M17 | S18: Préparation traite | W18: 0.33333333 | X18: 0.625 | Y18: 0.5625 | Z18: 0.16666667 | AC18: =IF(Frais!D16=data!$T$2,"OK",IF(Frais!E16<>"",IF(Frais!F16<>"",IF(Frais!G16<>"","OK","Incomplet"),"Incomplet"),"Incomplet")) -> Incomplet | AD18: =IF(Saisie!I15=data!$V$2,IF(Frais!M16<>"",IF(Frais!N16<>"",IF(Frais!N16=data!$T$2,IF(Frais!Q16=data!$T$2,"OK",IF(Frais!R16<>"",IF(Frais!S16<>"","OK","Incomplet"),"Incomplet")),IF(Frais!O16<>"",IF(Frais!P16<>"",IF(Frais!Q16=data!$T$2,"OK",IF(Frais!R16<>"",IF(Frais!S16<>"","OK","Incomplet"),"Incomplet")),"Incomplet"),"Incomplet")),IF(Frais!O16<>"",IF(Frais!P16<>"","OK","Incomplet"),"Incomplet")),"Incomplet"),IF(Saisie!I15=data!$V$3,IF(Frais!M16<>"",IF(Frais!N16<>"",IF(Frais!N16=data!$T$2,IF(Frais!Q16=data!$T$2,"OK",IF(Frais!R16<>"",IF(Frais!S16<>"","OK","Incomplet"),"Incomplet")),IF(Frais!O16<>"",IF(Frais!P16<>"",IF(Frais!Q16=data!$T$2,"OK",IF(Frais!R16<>"",IF(Frais!S16<>"","OK","Incomplet"),"Incomplet")),"Incomplet"),"Incomplet")),IF(Frais!O16<>"",IF(Frais!P16<>"","OK","Incomplet"),"Incomplet")),"Incomplet"),IF(Frais!I16<>"",IF(Frais!J16<>"",IF(Frais!J16=data!$T$2,"OK",IF(Frais!J16<>"",IF(Frais!K16<>"",IF(Frais!L16<>"","OK","Incomplet"),"Incomplet"),"Incomplet")),"Incomplet"),"Incomplet"))) -> Incomplet | AE18: =IF(Frais!U16<>"",IF(Frais!V16<>"",IF(Frais!W16<>"","OK","Incomplet"),"Incomplet"),"OK") -> OK
D19: 0.54166667 | G19: 18 | I19: M18 | W19: 0.34375 | X19: 0.75 | Y19: 0.57291667 | Z19: 0.17708333 | AC19: =IF(Frais!D17=data!$T$2,"OK",IF(Frais!E17<>"",IF(Frais!F17<>"",IF(Frais!G17<>"","OK","Incomplet"),"Incomplet"),"Incomplet")) -> Incomplet | AD19: =IF(Saisie!I16=data!$V$2,IF(Frais!M17<>"",IF(Frais!N17<>"",IF(Frais!N17=data!$T$2,IF(Frais!Q17=data!$T$2,"OK",IF(Frais!R17<>"",IF(Frais!S17<>"","OK","Incomplet"),"Incomplet")),IF(Frais!O17<>"",IF(Frais!P17<>"",IF(Frais!Q17=data!$T$2,"OK",IF(Frais!R17<>"",IF(Frais!S17<>"","OK","Incomplet"),"Incomplet")),"Incomplet"),"Incomplet")),IF(Frais!O17<>"",IF(Frais!P17<>"","OK","Incomplet"),"Incomplet")),"Incomplet"),IF(Saisie!I16=data!$V$3,IF(Frais!M17<>"",IF(Frais!N17<>"",IF(Frais!N17=data!$T$2,IF(Frais!Q17=data!$T$2,"OK",IF(Frais!R17<>"",IF(Frais!S17<>"","OK","Incomplet"),"Incomplet")),IF(Frais!O17<>"",IF(Frais!P17<>"",IF(Frais!Q17=data!$T$2,"OK",IF(Frais!R17<>"",IF(Frais!S17<>"","OK","Incomplet"),"Incomplet")),"Incomplet"),"Incomplet")),IF(Frais!O17<>"",IF(Frais!P17<>"","OK","Incomplet"),"Incomplet")),"Incomplet"),IF(Frais!I17<>"",IF(Frais!J17<>"",IF(Frais!J17=data!$T$2,"OK",IF(Frais!J17<>"",IF(Frais!K17<>"",IF(Frais!L17<>"","OK","Incomplet"),"Incomplet"),"Incomplet")),"Incomplet"),"Incomplet"))) -> Incomplet | AE19: =IF(Frais!U17<>"",IF(Frais!V17<>"",IF(Frais!W17<>"","OK","Incomplet"),"Incomplet"),"OK") -> OK
G20: 19 | I20: M19 | W20: 0.35416667 | X20: 0.76041667 | Y20: 0.58333333 | Z20: 0.1875 | AC20: =IF(Frais!D18=data!$T$2,"OK",IF(Frais!E18<>"",IF(Frais!F18<>"",IF(Frais!G18<>"","OK","Incomplet"),"Incomplet"),"Incomplet")) -> Incomplet | AD20: =IF(Saisie!I17=data!$V$2,IF(Frais!M18<>"",IF(Frais!N18<>"",IF(Frais!N18=data!$T$2,IF(Frais!Q18=data!$T$2,"OK",IF(Frais!R18<>"",IF(Frais!S18<>"","OK","Incomplet"),"Incomplet")),IF(Frais!O18<>"",IF(Frais!P18<>"",IF(Frais!Q18=data!$T$2,"OK",IF(Frais!R18<>"",IF(Frais!S18<>"","OK","Incomplet"),"Incomplet")),"Incomplet"),"Incomplet")),IF(Frais!O18<>"",IF(Frais!P18<>"","OK","Incomplet"),"Incomplet")),"Incomplet"),IF(Saisie!I17=data!$V$3,IF(Frais!M18<>"",IF(Frais!N18<>"",IF(Frais!N18=data!$T$2,IF(Frais!Q18=data!$T$2,"OK",IF(Frais!R18<>"",IF(Frais!S18<>"","OK","Incomplet"),"Incomplet")),IF(Frais!O18<>"",IF(Frais!P18<>"",IF(Frais!Q18=data!$T$2,"OK",IF(Frais!R18<>"",IF(Frais!S18<>"","OK","Incomplet"),"Incomplet")),"Incomplet"),"Incomplet")),IF(Frais!O18<>"",IF(Frais!P18<>"","OK","Incomplet"),"Incomplet")),"Incomplet"),IF(Frais!I18<>"",IF(Frais!J18<>"",IF(Frais!J18=data!$T$2,"OK",IF(Frais!J18<>"",IF(Frais!K18<>"",IF(Frais!L18<>"","OK","Incomplet"),"Incomplet"),"Incomplet")),"Incomplet"),"Incomplet"))) -> Incomplet | AE20: =IF(Frais!U18<>"",IF(Frais!V18<>"",IF(Frais!W18<>"","OK","Incomplet"),"Incomplet"),"OK") -> OK
G21: 20 | I21: M20 | W21: 0.36458333 | X21: 0.77083333 | Y21: 0.59375 | Z21: 0.19791667 | AC21: =IF(Frais!D19=data!$T$2,"OK",IF(Frais!E19<>"",IF(Frais!F19<>"",IF(Frais!G19<>"","OK","Incomplet"),"Incomplet"),"Incomplet")) -> Incomplet | AD21: =IF(Saisie!I18=data!$V$2,IF(Frais!M19<>"",IF(Frais!N19<>"",IF(Frais!N19=data!$T$2,IF(Frais!Q19=data!$T$2,"OK",IF(Frais!R19<>"",IF(Frais!S19<>"","OK","Incomplet"),"Incomplet")),IF(Frais!O19<>"",IF(Frais!P19<>"",IF(Frais!Q19=data!$T$2,"OK",IF(Frais!R19<>"",IF(Frais!S19<>"","OK","Incomplet"),"Incomplet")),"Incomplet"),"Incomplet")),IF(Frais!O19<>"",IF(Frais!P19<>"","OK","Incomplet"),"Incomplet")),"Incomplet"),IF(Saisie!I18=data!$V$3,IF(Frais!M19<>"",IF(Frais!N19<>"",IF(Frais!N19=data!$T$2,IF(Frais!Q19=data!$T$2,"OK",IF(Frais!R19<>"",IF(Frais!S19<>"","OK","Incomplet"),"Incomplet")),IF(Frais!O19<>"",IF(Frais!P19<>"",IF(Frais!Q19=data!$T$2,"OK",IF(Frais!R19<>"",IF(Frais!S19<>"","OK","Incomplet"),"Incomplet")),"Incomplet"),"Incomplet")),IF(Frais!O19<>"",IF(Frais!P19<>"","OK","Incomplet"),"Incomplet")),"Incomplet"),IF(Frais!I19<>"",IF(Frais!J19<>"",IF(Frais!J19=data!$T$2,"OK",IF(Frais!J19<>"",IF(Frais!K19<>"",IF(Frais!L19<>"","OK","Incomplet"),"Incomplet"),"Incomplet")),"Incomplet"),"Incomplet"))) -> Incomplet | AE21: =IF(Frais!U19<>"",IF(Frais!V19<>"",IF(Frais!W19<>"","OK","Incomplet"),"Incomplet"),"OK") -> OK
G22: 21 | I22: M21 | W22: 0.375 | X22: 0.78125 | Y22: 0.60416667 | Z22: 0.20833333 | AC22: =IF(Frais!D20=data!$T$2,"OK",IF(Frais!E20<>"",IF(Frais!F20<>"",IF(Frais!G20<>"","OK","Incomplet"),"Incomplet"),"Incomplet")) -> Incomplet | AD22: =IF(Saisie!I19=data!$V$2,IF(Frais!M20<>"",IF(Frais!N20<>"",IF(Frais!N20=data!$T$2,IF(Frais!Q20=data!$T$2,"OK",IF(Frais!R20<>"",IF(Frais!S20<>"","OK","Incomplet"),"Incomplet")),IF(Frais!O20<>"",IF(Frais!P20<>"",IF(Frais!Q20=data!$T$2,"OK",IF(Frais!R20<>"",IF(Frais!S20<>"","OK","Incomplet"),"Incomplet")),"Incomplet"),"Incomplet")),IF(Frais!O20<>"",IF(Frais!P20<>"","OK","Incomplet"),"Incomplet")),"Incomplet"),IF(Saisie!I19=data!$V$3,IF(Frais!M20<>"",IF(Frais!N20<>"",IF(Frais!N20=data!$T$2,IF(Frais!Q20=data!$T$2,"OK",IF(Frais!R20<>"",IF(Frais!S20<>"","OK","Incomplet"),"Incomplet")),IF(Frais!O20<>"",IF(Frais!P20<>"",IF(Frais!Q20=data!$T$2,"OK",IF(Frais!R20<>"",IF(Frais!S20<>"","OK","Incomplet"),"Incomplet")),"Incomplet"),"Incomplet")),IF(Frais!O20<>"",IF(Frais!P20<>"","OK","Incomplet"),"Incomplet")),"Incomplet"),IF(Frais!I20<>"",IF(Frais!J20<>"",IF(Frais!J20=data!$T$2,"OK",IF(Frais!J20<>"",IF(Frais!K20<>"",IF(Frais!L20<>"","OK","Incomplet"),"Incomplet"),"Incomplet")),"Incomplet"),"Incomplet"))) -> Incomplet | AE22: =IF(Frais!U20<>"",IF(Frais!V20<>"",IF(Frais!W20<>"","OK","Incomplet"),"Incomplet"),"OK") -> OK
G23: 22 | I23: M22 | W23: 0.38541667 | X23: 0.79166667 | Y23: 0.61458333 | Z23: 0.21875 | AC23: =IF(Frais!D21=data!$T$2,"OK",IF(Frais!E21<>"",IF(Frais!F21<>"",IF(Frais!G21<>"","OK","Incomplet"),"Incomplet"),"Incomplet")) -> Incomplet | AD23: =IF(Saisie!I20=data!$V$2,IF(Frais!M21<>"",IF(Frais!N21<>"",IF(Frais!N21=data!$T$2,IF(Frais!Q21=data!$T$2,"OK",IF(Frais!R21<>"",IF(Frais!S21<>"","OK","Incomplet"),"Incomplet")),IF(Frais!O21<>"",IF(Frais!P21<>"",IF(Frais!Q21=data!$T$2,"OK",IF(Frais!R21<>"",IF(Frais!S21<>"","OK","Incomplet"),"Incomplet")),"Incomplet"),"Incomplet")),IF(Frais!O21<>"",IF(Frais!P21<>"","OK","Incomplet"),"Incomplet")),"Incomplet"),IF(Saisie!I20=data!$V$3,IF(Frais!M21<>"",IF(Frais!N21<>"",IF(Frais!N21=data!$T$2,IF(Frais!Q21=data!$T$2,"OK",IF(Frais!R21<>"",IF(Frais!S21<>"","OK","Incomplet"),"Incomplet")),IF(Frais!O21<>"",IF(Frais!P21<>"",IF(Frais!Q21=data!$T$2,"OK",IF(Frais!R21<>"",IF(Frais!S21<>"","OK","Incomplet"),"Incomplet")),"Incomplet"),"Incomplet")),IF(Frais!O21<>"",IF(Frais!P21<>"","OK","Incomplet"),"Incomplet")),"Incomplet"),IF(Frais!I21<>"",IF(Frais!J21<>"",IF(Frais!J21=data!$T$2,"OK",IF(Frais!J21<>"",IF(Frais!K21<>"",IF(Frais!L21<>"","OK","Incomplet"),"Incomplet"),"Incomplet")),"Incomplet"),"Incomplet"))) -> Incomplet | AE23: =IF(Frais!U21<>"",IF(Frais!V21<>"",IF(Frais!W21<>"","OK","Incomplet"),"Incomplet"),"OK") -> OK
G24: 23 | I24: M23 | W24: 0.39583333 | X24: 0.80208333 | Y24: 0.625 | Z24: 0.22916667 | AC24: =IF(Frais!D22=data!$T$2,"OK",IF(Frais!E22<>"",IF(Frais!F22<>"",IF(Frais!G22<>"","OK","Incomplet"),"Incomplet"),"Incomplet")) -> Incomplet | AD24: =IF(Saisie!I21=data!$V$2,IF(Frais!M22<>"",IF(Frais!N22<>"",IF(Frais!N22=data!$T$2,IF(Frais!Q22=data!$T$2,"OK",IF(Frais!R22<>"",IF(Frais!S22<>"","OK","Incomplet"),"Incomplet")),IF(Frais!O22<>"",IF(Frais!P22<>"",IF(Frais!Q22=data!$T$2,"OK",IF(Frais!R22<>"",IF(Frais!S22<>"","OK","Incomplet"),"Incomplet")),"Incomplet"),"Incomplet")),IF(Frais!O22<>"",IF(Frais!P22<>"","OK","Incomplet"),"Incomplet")),"Incomplet"),IF(Saisie!I21=data!$V$3,IF(Frais!M22<>"",IF(Frais!N22<>"",IF(Frais!N22=data!$T$2,IF(Frais!Q22=data!$T$2,"OK",IF(Frais!R22<>"",IF(Frais!S22<>"","OK","Incomplet"),"Incomplet")),IF(Frais!O22<>"",IF(Frais!P22<>"",IF(Frais!Q22=data!$T$2,"OK",IF(Frais!R22<>"",IF(Frais!S22<>"","OK","Incomplet"),"Incomplet")),"Incomplet"),"Incomplet")),IF(Frais!O22<>"",IF(Frais!P22<>"","OK","Incomplet"),"Incomplet")),"Incomplet"),IF(Frais!I22<>"",IF(Frais!J22<>"",IF(Frais!J22=data!$T$2,"OK",IF(Frais!J22<>"",IF(Frais!K22<>"",IF(Frais!L22<>"","OK","Incomplet"),"Incomplet"),"Incomplet")),"Incomplet"),"Incomplet"))) -> Incomplet | AE24: =IF(Frais!U22<>"",IF(Frais!V22<>"",IF(Frais!W22<>"","OK","Incomplet"),"Incomplet"),"OK") -> OK
G25: 24 | I25: M24 | W25: 0.40625 | X25: 0.8125 | Y25: 0.63541667 | Z25: 0.23958333 | AC25: =IF(Frais!D23=data!$T$2,"OK",IF(Frais!E23<>"",IF(Frais!F23<>"",IF(Frais!G23<>"","OK","Incomplet"),"Incomplet"),"Incomplet")) -> Incomplet | AD25: =IF(Saisie!I22=data!$V$2,IF(Frais!M23<>"",IF(Frais!N23<>"",IF(Frais!N23=data!$T$2,IF(Frais!Q23=data!$T$2,"OK",IF(Frais!R23<>"",IF(Frais!S23<>"","OK","Incomplet"),"Incomplet")),IF(Frais!O23<>"",IF(Frais!P23<>"",IF(Frais!Q23=data!$T$2,"OK",IF(Frais!R23<>"",IF(Frais!S23<>"","OK","Incomplet"),"Incomplet")),"Incomplet"),"Incomplet")),IF(Frais!O23<>"",IF(Frais!P23<>"","OK","Incomplet"),"Incomplet")),"Incomplet"),IF(Saisie!I22=data!$V$3,IF(Frais!M23<>"",IF(Frais!N23<>"",IF(Frais!N23=data!$T$2,IF(Frais!Q23=data!$T$2,"OK",IF(Frais!R23<>"",IF(Frais!S23<>"","OK","Incomplet"),"Incomplet")),IF(Frais!O23<>"",IF(Frais!P23<>"",IF(Frais!Q23=data!$T$2,"OK",IF(Frais!R23<>"",IF(Frais!S23<>"","OK","Incomplet"),"Incomplet")),"Incomplet"),"Incomplet")),IF(Frais!O23<>"",IF(Frais!P23<>"","OK","Incomplet"),"Incomplet")),"Incomplet"),IF(Frais!I23<>"",IF(Frais!J23<>"",IF(Frais!J23=data!$T$2,"OK",IF(Frais!J23<>"",IF(Frais!K23<>"",IF(Frais!L23<>"","OK","Incomplet"),"Incomplet"),"Incomplet")),"Incomplet"),"Incomplet"))) -> Incomplet | AE25: =IF(Frais!U23<>"",IF(Frais!V23<>"",IF(Frais!W23<>"","OK","Incomplet"),"Incomplet"),"OK") -> OK
G26: 25 | I26: M25 | W26: 0.41666667 | X26: 0.82291667 | Y26: 0.64583333 | Z26: 0.25 | AC26: =IF(Frais!D24=data!$T$2,"OK",IF(Frais!E24<>"",IF(Frais!F24<>"",IF(Frais!G24<>"","OK","Incomplet"),"Incomplet"),"Incomplet")) -> Incomplet | AD26: =IF(Saisie!I23=data!$V$2,IF(Frais!M24<>"",IF(Frais!N24<>"",IF(Frais!N24=data!$T$2,IF(Frais!Q24=data!$T$2,"OK",IF(Frais!R24<>"",IF(Frais!S24<>"","OK","Incomplet"),"Incomplet")),IF(Frais!O24<>"",IF(Frais!P24<>"",IF(Frais!Q24=data!$T$2,"OK",IF(Frais!R24<>"",IF(Frais!S24<>"","OK","Incomplet"),"Incomplet")),"Incomplet"),"Incomplet")),IF(Frais!O24<>"",IF(Frais!P24<>"","OK","Incomplet"),"Incomplet")),"Incomplet"),IF(Saisie!I23=data!$V$3,IF(Frais!M24<>"",IF(Frais!N24<>"",IF(Frais!N24=data!$T$2,IF(Frais!Q24=data!$T$2,"OK",IF(Frais!R24<>"",IF(Frais!S24<>"","OK","Incomplet"),"Incomplet")),IF(Frais!O24<>"",IF(Frais!P24<>"",IF(Frais!Q24=data!$T$2,"OK",IF(Frais!R24<>"",IF(Frais!S24<>"","OK","Incomplet"),"Incomplet")),"Incomplet"),"Incomplet")),IF(Frais!O24<>"",IF(Frais!P24<>"","OK","Incomplet"),"Incomplet")),"Incomplet"),IF(Frais!I24<>"",IF(Frais!J24<>"",IF(Frais!J24=data!$T$2,"OK",IF(Frais!J24<>"",IF(Frais!K24<>"",IF(Frais!L24<>"","OK","Incomplet"),"Incomplet"),"Incomplet")),"Incomplet"),"Incomplet"))) -> Incomplet | AE26: =IF(Frais!U24<>"",IF(Frais!V24<>"",IF(Frais!W24<>"","OK","Incomplet"),"Incomplet"),"OK") -> OK
G27: 26 | I27: M26 | W27: 0.42708333 | X27: 0.83333333 | Y27: 0.65625 | Z27: 0.26041667 | AC27: =IF(Frais!D25=data!$T$2,"OK",IF(Frais!E25<>"",IF(Frais!F25<>"",IF(Frais!G25<>"","OK","Incomplet"),"Incomplet"),"Incomplet")) -> Incomplet | AD27: =IF(Saisie!I24=data!$V$2,IF(Frais!M25<>"",IF(Frais!N25<>"",IF(Frais!N25=data!$T$2,IF(Frais!Q25=data!$T$2,"OK",IF(Frais!R25<>"",IF(Frais!S25<>"","OK","Incomplet"),"Incomplet")),IF(Frais!O25<>"",IF(Frais!P25<>"",IF(Frais!Q25=data!$T$2,"OK",IF(Frais!R25<>"",IF(Frais!S25<>"","OK","Incomplet"),"Incomplet")),"Incomplet"),"Incomplet")),IF(Frais!O25<>"",IF(Frais!P25<>"","OK","Incomplet"),"Incomplet")),"Incomplet"),IF(Saisie!I24=data!$V$3,IF(Frais!M25<>"",IF(Frais!N25<>"",IF(Frais!N25=data!$T$2,IF(Frais!Q25=data!$T$2,"OK",IF(Frais!R25<>"",IF(Frais!S25<>"","OK","Incomplet"),"Incomplet")),IF(Frais!O25<>"",IF(Frais!P25<>"",IF(Frais!Q25=data!$T$2,"OK",IF(Frais!R25<>"",IF(Frais!S25<>"","OK","Incomplet"),"Incomplet")),"Incomplet"),"Incomplet")),IF(Frais!O25<>"",IF(Frais!P25<>"","OK","Incomplet"),"Incomplet")),"Incomplet"),IF(Frais!I25<>"",IF(Frais!J25<>"",IF(Frais!J25=data!$T$2,"OK",IF(Frais!J25<>"",IF(Frais!K25<>"",IF(Frais!L25<>"","OK","Incomplet"),"Incomplet"),"Incomplet")),"Incomplet"),"Incomplet"))) -> Incomplet | AE27: =IF(Frais!U25<>"",IF(Frais!V25<>"",IF(Frais!W25<>"","OK","Incomplet"),"Incomplet"),"OK") -> OK
G28: 27 | I28: M27 | W28: 0.4375 | X28: 0.84375 | Y28: 0.66666667 | Z28: 0.27083333 | AC28: =IF(Frais!D26=data!$T$2,"OK",IF(Frais!E26<>"",IF(Frais!F26<>"",IF(Frais!G26<>"","OK","Incomplet"),"Incomplet"),"Incomplet")) -> Incomplet | AD28: =IF(Saisie!I25=data!$V$2,IF(Frais!M26<>"",IF(Frais!N26<>"",IF(Frais!N26=data!$T$2,IF(Frais!Q26=data!$T$2,"OK",IF(Frais!R26<>"",IF(Frais!S26<>"","OK","Incomplet"),"Incomplet")),IF(Frais!O26<>"",IF(Frais!P26<>"",IF(Frais!Q26=data!$T$2,"OK",IF(Frais!R26<>"",IF(Frais!S26<>"","OK","Incomplet"),"Incomplet")),"Incomplet"),"Incomplet")),IF(Frais!O26<>"",IF(Frais!P26<>"","OK","Incomplet"),"Incomplet")),"Incomplet"),IF(Saisie!I25=data!$V$3,IF(Frais!M26<>"",IF(Frais!N26<>"",IF(Frais!N26=data!$T$2,IF(Frais!Q26=data!$T$2,"OK",IF(Frais!R26<>"",IF(Frais!S26<>"","OK","Incomplet"),"Incomplet")),IF(Frais!O26<>"",IF(Frais!P26<>"",IF(Frais!Q26=data!$T$2,"OK",IF(Frais!R26<>"",IF(Frais!S26<>"","OK","Incomplet"),"Incomplet")),"Incomplet"),"Incomplet")),IF(Frais!O26<>"",IF(Frais!P26<>"","OK","Incomplet"),"Incomplet")),"Incomplet"),IF(Frais!I26<>"",IF(Frais!J26<>"",IF(Frais!J26=data!$T$2,"OK",IF(Frais!J26<>"",IF(Frais!K26<>"",IF(Frais!L26<>"","OK","Incomplet"),"Incomplet"),"Incomplet")),"Incomplet"),"Incomplet"))) -> Incomplet | AE28: =IF(Frais!U26<>"",IF(Frais!V26<>"",IF(Frais!W26<>"","OK","Incomplet"),"Incomplet"),"OK") -> OK
G29: 28 | I29: M28 | W29: 0.44791667 | X29: 0.85416667 | Y29: 0.67708333 | Z29: 0.28125 | AC29: =IF(Frais!D27=data!$T$2,"OK",IF(Frais!E27<>"",IF(Frais!F27<>"",IF(Frais!G27<>"","OK","Incomplet"),"Incomplet"),"Incomplet")) -> Incomplet | AD29: =IF(Saisie!I26=data!$V$2,IF(Frais!M27<>"",IF(Frais!N27<>"",IF(Frais!N27=data!$T$2,IF(Frais!Q27=data!$T$2,"OK",IF(Frais!R27<>"",IF(Frais!S27<>"","OK","Incomplet"),"Incomplet")),IF(Frais!O27<>"",IF(Frais!P27<>"",IF(Frais!Q27=data!$T$2,"OK",IF(Frais!R27<>"",IF(Frais!S27<>"","OK","Incomplet"),"Incomplet")),"Incomplet"),"Incomplet")),IF(Frais!O27<>"",IF(Frais!P27<>"","OK","Incomplet"),"Incomplet")),"Incomplet"),IF(Saisie!I26=data!$V$3,IF(Frais!M27<>"",IF(Frais!N27<>"",IF(Frais!N27=data!$T$2,IF(Frais!Q27=data!$T$2,"OK",IF(Frais!R27<>"",IF(Frais!S27<>"","OK","Incomplet"),"Incomplet")),IF(Frais!O27<>"",IF(Frais!P27<>"",IF(Frais!Q27=data!$T$2,"OK",IF(Frais!R27<>"",IF(Frais!S27<>"","OK","Incomplet"),"Incomplet")),"Incomplet"),"Incomplet")),IF(Frais!O27<>"",IF(Frais!P27<>"","OK","Incomplet"),"Incomplet")),"Incomplet"),IF(Frais!I27<>"",IF(Frais!J27<>"",IF(Frais!J27=data!$T$2,"OK",IF(Frais!J27<>"",IF(Frais!K27<>"",IF(Frais!L27<>"","OK","Incomplet"),"Incomplet"),"Incomplet")),"Incomplet"),"Incomplet"))) -> Incomplet | AE29: =IF(Frais!U27<>"",IF(Frais!V27<>"",IF(Frais!W27<>"","OK","Incomplet"),"Incomplet"),"OK") -> OK
G30: 29 | I30: M29 | W30: 0.45833333 | X30: 0.86458333 | Y30: 0.6875 | Z30: 0.29166667 | AC30: =IF(Frais!D28=data!$T$2,"OK",IF(Frais!E28<>"",IF(Frais!F28<>"",IF(Frais!G28<>"","OK","Incomplet"),"Incomplet"),"Incomplet")) -> Incomplet | AD30: =IF(Saisie!I27=data!$V$2,IF(Frais!M28<>"",IF(Frais!N28<>"",IF(Frais!N28=data!$T$2,IF(Frais!Q28=data!$T$2,"OK",IF(Frais!R28<>"",IF(Frais!S28<>"","OK","Incomplet"),"Incomplet")),IF(Frais!O28<>"",IF(Frais!P28<>"",IF(Frais!Q28=data!$T$2,"OK",IF(Frais!R28<>"",IF(Frais!S28<>"","OK","Incomplet"),"Incomplet")),"Incomplet"),"Incomplet")),IF(Frais!O28<>"",IF(Frais!P28<>"","OK","Incomplet"),"Incomplet")),"Incomplet"),IF(Saisie!I27=data!$V$3,IF(Frais!M28<>"",IF(Frais!N28<>"",IF(Frais!N28=data!$T$2,IF(Frais!Q28=data!$T$2,"OK",IF(Frais!R28<>"",IF(Frais!S28<>"","OK","Incomplet"),"Incomplet")),IF(Frais!O28<>"",IF(Frais!P28<>"",IF(Frais!Q28=data!$T$2,"OK",IF(Frais!R28<>"",IF(Frais!S28<>"","OK","Incomplet"),"Incomplet")),"Incomplet"),"Incomplet")),IF(Frais!O28<>"",IF(Frais!P28<>"","OK","Incomplet"),"Incomplet")),"Incomplet"),IF(Frais!I28<>"",IF(Frais!J28<>"",IF(Frais!J28=data!$T$2,"OK",IF(Frais!J28<>"",IF(Frais!K28<>"",IF(Frais!L28<>"","OK","Incomplet"),"Incomplet"),"Incomplet")),"Incomplet"),"Incomplet"))) -> Incomplet | AE30: =IF(Frais!U28<>"",IF(Frais!V28<>"",IF(Frais!W28<>"","OK","Incomplet"),"Incomplet"),"OK") -> OK
G31: 30 | I31: M30 | W31: 0.46875 | X31: 0.875 | Y31: 0.69791667 | Z31: 0.30208333 | AC31: =IF(Frais!D29=data!$T$2,"OK",IF(Frais!E29<>"",IF(Frais!F29<>"",IF(Frais!G29<>"","OK","Incomplet"),"Incomplet"),"Incomplet")) -> Incomplet | AD31: =IF(Saisie!I28=data!$V$2,IF(Frais!M29<>"",IF(Frais!N29<>"",IF(Frais!N29=data!$T$2,IF(Frais!Q29=data!$T$2,"OK",IF(Frais!R29<>"",IF(Frais!S29<>"","OK","Incomplet"),"Incomplet")),IF(Frais!O29<>"",IF(Frais!P29<>"",IF(Frais!Q29=data!$T$2,"OK",IF(Frais!R29<>"",IF(Frais!S29<>"","OK","Incomplet"),"Incomplet")),"Incomplet"),"Incomplet")),IF(Frais!O29<>"",IF(Frais!P29<>"","OK","Incomplet"),"Incomplet")),"Incomplet"),IF(Saisie!I28=data!$V$3,IF(Frais!M29<>"",IF(Frais!N29<>"",IF(Frais!N29=data!$T$2,IF(Frais!Q29=data!$T$2,"OK",IF(Frais!R29<>"",IF(Frais!S29<>"","OK","Incomplet"),"Incomplet")),IF(Frais!O29<>"",IF(Frais!P29<>"",IF(Frais!Q29=data!$T$2,"OK",IF(Frais!R29<>"",IF(Frais!S29<>"","OK","Incomplet"),"Incomplet")),"Incomplet"),"Incomplet")),IF(Frais!O29<>"",IF(Frais!P29<>"","OK","Incomplet"),"Incomplet")),"Incomplet"),IF(Frais!I29<>"",IF(Frais!J29<>"",IF(Frais!J29=data!$T$2,"OK",IF(Frais!J29<>"",IF(Frais!K29<>"",IF(Frais!L29<>"","OK","Incomplet"),"Incomplet"),"Incomplet")),"Incomplet"),"Incomplet"))) -> Incomplet | AE31: =IF(Frais!U29<>"",IF(Frais!V29<>"",IF(Frais!W29<>"","OK","Incomplet"),"Incomplet"),"OK") -> OK
... G35: 34 | I35: M34 | W35: 0.51041667 | X35: 0.91666667 | Y35: 0.73958333 | Z35: 0.34375 | AC35: =IF(Frais!D33=data!$T$2,"OK",IF(Frais!E33<>"",IF(Frais!F33<>"",IF(Frais!G33<>"","OK","Incomplet"),"Incomplet"),"Incomplet")) -> Incomplet | AD35: =IF(Saisie!I32=data!$V$2,IF(Frais!M33<>"",IF(Frais!N33<>"",IF(Frais!N33=data!$T$2,IF(Frais!Q33=data!$T$2,"OK",IF(Frais!R33<>"",IF(Frais!S33<>"","OK","Incomplet"),"Incomplet")),IF(Frais!O33<>"",IF(Frais!P33<>"",IF(Frais!Q33=data!$T$2,"OK",IF(Frais!R33<>"",IF(Frais!S33<>"","OK","Incomplet"),"Incomplet")),"Incomplet"),"Incomplet")),IF(Frais!O33<>"",IF(Frais!P33<>"","OK","Incomplet"),"Incomplet")),"Incomplet"),IF(Saisie!I32=data!$V$3,IF(Frais!M33<>"",IF(Frais!N33<>"",IF(Frais!N33=data!$T$2,IF(Frais!Q33=data!$T$2,"OK",IF(Frais!R33<>"",IF(Frais!S33<>"","OK","Incomplet"),"Incomplet")),IF(Frais!O33<>"",IF(Frais!P33<>"",IF(Frais!Q33=data!$T$2,"OK",IF(Frais!R33<>"",IF(Frais!S33<>"","OK","Incomplet"),"Incomplet")),"Incomplet"),"Incomplet")),IF(Frais!O33<>"",IF(Frais!P33<>"","OK","Incomplet"),"Incomplet")),"Incomplet"),IF(Frais!I33<>"",IF(Frais!J33<>"",IF(Frais!J33=data!$T$2,"OK",IF(Frais!J33<>"",IF(Frais!K33<>"",IF(Frais!L33<>"","OK","Incomplet"),"Incomplet"),"Incomplet")),"Incomplet"),"Incomplet"))) -> Incomplet | AE35: =IF(Frais!U33<>"",IF(Frais!V33<>"",IF(Frais!W33<>"","OK","Incomplet"),"Incomplet"),"OK") -> OK
G36: 35 | I36: M35 | W36: 0.52083333 | Y36: 0.75 | Z36: 0.35416667 | AC36: =IF(Frais!D34=data!$T$2,"OK",IF(Frais!E34<>"",IF(Frais!F34<>"",IF(Frais!G34<>"","OK","Incomplet"),"Incomplet"),"Incomplet")) -> Incomplet | AD36: =IF(Saisie!I33=data!$V$2,IF(Frais!M34<>"",IF(Frais!N34<>"",IF(Frais!N34=data!$T$2,IF(Frais!Q34=data!$T$2,"OK",IF(Frais!R34<>"",IF(Frais!S34<>"","OK","Incomplet"),"Incomplet")),IF(Frais!O34<>"",IF(Frais!P34<>"",IF(Frais!Q34=data!$T$2,"OK",IF(Frais!R34<>"",IF(Frais!S34<>"","OK","Incomplet"),"Incomplet")),"Incomplet"),"Incomplet")),IF(Frais!O34<>"",IF(Frais!P34<>"","OK","Incomplet"),"Incomplet")),"Incomplet"),IF(Saisie!I33=data!$V$3,IF(Frais!M34<>"",IF(Frais!N34<>"",IF(Frais!N34=data!$T$2,IF(Frais!Q34=data!$T$2,"OK",IF(Frais!R34<>"",IF(Frais!S34<>"","OK","Incomplet"),"Incomplet")),IF(Frais!O34<>"",IF(Frais!P34<>"",IF(Frais!Q34=data!$T$2,"OK",IF(Frais!R34<>"",IF(Frais!S34<>"","OK","Incomplet"),"Incomplet")),"Incomplet"),"Incomplet")),IF(Frais!O34<>"",IF(Frais!P34<>"","OK","Incomplet"),"Incomplet")),"Incomplet"),IF(Frais!I34<>"",IF(Frais!J34<>"",IF(Frais!J34=data!$T$2,"OK",IF(Frais!J34<>"",IF(Frais!K34<>"",IF(Frais!L34<>"","OK","Incomplet"),"Incomplet"),"Incomplet")),"Incomplet"),"Incomplet"))) -> Incomplet | AE36: =IF(Frais!U34<>"",IF(Frais!V34<>"",IF(Frais!W34<>"","OK","Incomplet"),"Incomplet"),"OK") -> OK
G37: 36 | I37: M36 | W37: 0.53125 | Y37: 0.76041667 | Z37: 0.36458333 | AC37: =IF(Frais!D35=data!$T$2,"OK",IF(Frais!E35<>"",IF(Frais!F35<>"",IF(Frais!G35<>"","OK","Incomplet"),"Incomplet"),"Incomplet")) -> Incomplet | AD37: =IF(Saisie!I34=data!$V$2,IF(Frais!M35<>"",IF(Frais!N35<>"",IF(Frais!N35=data!$T$2,IF(Frais!Q35=data!$T$2,"OK",IF(Frais!R35<>"",IF(Frais!S35<>"","OK","Incomplet"),"Incomplet")),IF(Frais!O35<>"",IF(Frais!P35<>"",IF(Frais!Q35=data!$T$2,"OK",IF(Frais!R35<>"",IF(Frais!S35<>"","OK","Incomplet"),"Incomplet")),"Incomplet"),"Incomplet")),IF(Frais!O35<>"",IF(Frais!P35<>"","OK","Incomplet"),"Incomplet")),"Incomplet"),IF(Saisie!I34=data!$V$3,IF(Frais!M35<>"",IF(Frais!N35<>"",IF(Frais!N35=data!$T$2,IF(Frais!Q35=data!$T$2,"OK",IF(Frais!R35<>"",IF(Frais!S35<>"","OK","Incomplet"),"Incomplet")),IF(Frais!O35<>"",IF(Frais!P35<>"",IF(Frais!Q35=data!$T$2,"OK",IF(Frais!R35<>"",IF(Frais!S35<>"","OK","Incomplet"),"Incomplet")),"Incomplet"),"Incomplet")),IF(Frais!O35<>"",IF(Frais!P35<>"","OK","Incomplet"),"Incomplet")),"Incomplet"),IF(Frais!I35<>"",IF(Frais!J35<>"",IF(Frais!J35=data!$T$2,"OK",IF(Frais!J35<>"",IF(Frais!K35<>"",IF(Frais!L35<>"","OK","Incomplet"),"Incomplet"),"Incomplet")),"Incomplet"),"Incomplet"))) -> Incomplet | AE37: =IF(Frais!U35<>"",IF(Frais!V35<>"",IF(Frais!W35<>"","OK","Incomplet"),"Incomplet"),"OK") -> OK
G38: 37 | I38: M37 | W38: 0.54166667 | Y38: 0.77083333 | Z38: 0.375 | AC38: =IF(Frais!D36=data!$T$2,"OK",IF(Frais!E36<>"",IF(Frais!F36<>"",IF(Frais!G36<>"","OK","Incomplet"),"Incomplet"),"Incomplet")) -> Incomplet | AD38: =IF(Saisie!I35=data!$V$2,IF(Frais!M36<>"",IF(Frais!N36<>"",IF(Frais!N36=data!$T$2,IF(Frais!Q36=data!$T$2,"OK",IF(Frais!R36<>"",IF(Frais!S36<>"","OK","Incomplet"),"Incomplet")),IF(Frais!O36<>"",IF(Frais!P36<>"",IF(Frais!Q36=data!$T$2,"OK",IF(Frais!R36<>"",IF(Frais!S36<>"","OK","Incomplet"),"Incomplet")),"Incomplet"),"Incomplet")),IF(Frais!O36<>"",IF(Frais!P36<>"","OK","Incomplet"),"Incomplet")),"Incomplet"),IF(Saisie!I35=data!$V$3,IF(Frais!M36<>"",IF(Frais!N36<>"",IF(Frais!N36=data!$T$2,IF(Frais!Q36=data!$T$2,"OK",IF(Frais!R36<>"",IF(Frais!S36<>"","OK","Incomplet"),"Incomplet")),IF(Frais!O36<>"",IF(Frais!P36<>"",IF(Frais!Q36=data!$T$2,"OK",IF(Frais!R36<>"",IF(Frais!S36<>"","OK","Incomplet"),"Incomplet")),"Incomplet"),"Incomplet")),IF(Frais!O36<>"",IF(Frais!P36<>"","OK","Incomplet"),"Incomplet")),"Incomplet"),IF(Frais!I36<>"",IF(Frais!J36<>"",IF(Frais!J36=data!$T$2,"OK",IF(Frais!J36<>"",IF(Frais!K36<>"",IF(Frais!L36<>"","OK","Incomplet"),"Incomplet"),"Incomplet")),"Incomplet"),"Incomplet"))) -> Incomplet | AE38: =IF(Frais!U36<>"",IF(Frais!V36<>"",IF(Frais!W36<>"","OK","Incomplet"),"Incomplet"),"OK") -> OK
G39: 38 | I39: M38 | W39: 0.55208333 | Y39: 0.78125 | Z39: 0.38541667 | AC39: =IF(Frais!D37=data!$T$2,"OK",IF(Frais!E37<>"",IF(Frais!F37<>"",IF(Frais!G37<>"","OK","Incomplet"),"Incomplet"),"Incomplet")) -> Incomplet | AD39: =IF(Saisie!I36=data!$V$2,IF(Frais!M37<>"",IF(Frais!N37<>"",IF(Frais!N37=data!$T$2,IF(Frais!Q37=data!$T$2,"OK",IF(Frais!R37<>"",IF(Frais!S37<>"","OK","Incomplet"),"Incomplet")),IF(Frais!O37<>"",IF(Frais!P37<>"",IF(Frais!Q37=data!$T$2,"OK",IF(Frais!R37<>"",IF(Frais!S37<>"","OK","Incomplet"),"Incomplet")),"Incomplet"),"Incomplet")),IF(Frais!O37<>"",IF(Frais!P37<>"","OK","Incomplet"),"Incomplet")),"Incomplet"),IF(Saisie!I36=data!$V$3,IF(Frais!M37<>"",IF(Frais!N37<>"",IF(Frais!N37=data!$T$2,IF(Frais!Q37=data!$T$2,"OK",IF(Frais!R37<>"",IF(Frais!S37<>"","OK","Incomplet"),"Incomplet")),IF(Frais!O37<>"",IF(Frais!P37<>"",IF(Frais!Q37=data!$T$2,"OK",IF(Frais!R37<>"",IF(Frais!S37<>"","OK","Incomplet"),"Incomplet")),"Incomplet"),"Incomplet")),IF(Frais!O37<>"",IF(Frais!P37<>"","OK","Incomplet"),"Incomplet")),"Incomplet"),IF(Frais!I37<>"",IF(Frais!J37<>"",IF(Frais!J37=data!$T$2,"OK",IF(Frais!J37<>"",IF(Frais!K37<>"",IF(Frais!L37<>"","OK","Incomplet"),"Incomplet"),"Incomplet")),"Incomplet"),"Incomplet"))) -> Incomplet | AE39: =IF(Frais!U37<>"",IF(Frais!V37<>"",IF(Frais!W37<>"","OK","Incomplet"),"Incomplet"),"OK") -> OK
G40: 39 | I40: M39 | W40: 0.5625 | Y40: 0.79166667 | Z40: 0.39583333 | AC40: =IF(Frais!D38=data!$T$2,"OK",IF(Frais!E38<>"",IF(Frais!F38<>"",IF(Frais!G38<>"","OK","Incomplet"),"Incomplet"),"Incomplet")) -> Incomplet | AD40: =IF(Saisie!I37=data!$V$2,IF(Frais!M38<>"",IF(Frais!N38<>"",IF(Frais!N38=data!$T$2,IF(Frais!Q38=data!$T$2,"OK",IF(Frais!R38<>"",IF(Frais!S38<>"","OK","Incomplet"),"Incomplet")),IF(Frais!O38<>"",IF(Frais!P38<>"",IF(Frais!Q38=data!$T$2,"OK",IF(Frais!R38<>"",IF(Frais!S38<>"","OK","Incomplet"),"Incomplet")),"Incomplet"),"Incomplet")),IF(Frais!O38<>"",IF(Frais!P38<>"","OK","Incomplet"),"Incomplet")),"Incomplet"),IF(Saisie!I37=data!$V$3,IF(Frais!M38<>"",IF(Frais!N38<>"",IF(Frais!N38=data!$T$2,IF(Frais!Q38=data!$T$2,"OK",IF(Frais!R38<>"",IF(Frais!S38<>"","OK","Incomplet"),"Incomplet")),IF(Frais!O38<>"",IF(Frais!P38<>"",IF(Frais!Q38=data!$T$2,"OK",IF(Frais!R38<>"",IF(Frais!S38<>"","OK","Incomplet"),"Incomplet")),"Incomplet"),"Incomplet")),IF(Frais!O38<>"",IF(Frais!P38<>"","OK","Incomplet"),"Incomplet")),"Incomplet"),IF(Frais!I38<>"",IF(Frais!J38<>"",IF(Frais!J38=data!$T$2,"OK",IF(Frais!J38<>"",IF(Frais!K38<>"",IF(Frais!L38<>"","OK","Incomplet"),"Incomplet"),"Incomplet")),"Incomplet"),"Incomplet"))) -> Incomplet | AE40: =IF(Frais!U38<>"",IF(Frais!V38<>"",IF(Frais!W38<>"","OK","Incomplet"),"Incomplet"),"OK") -> OK
G41: 40 | I41: M40 | W41: 0.57291667 | Y41: 0.80208333 | Z41: 0.40625 | AC41: =IF(Frais!D39=data!$T$2,"OK",IF(Frais!E39<>"",IF(Frais!F39<>"",IF(Frais!G39<>"","OK","Incomplet"),"Incomplet"),"Incomplet")) -> Incomplet | AD41: =IF(Saisie!I38=data!$V$2,IF(Frais!M39<>"",IF(Frais!N39<>"",IF(Frais!N39=data!$T$2,IF(Frais!Q39=data!$T$2,"OK",IF(Frais!R39<>"",IF(Frais!S39<>"","OK","Incomplet"),"Incomplet")),IF(Frais!O39<>"",IF(Frais!P39<>"",IF(Frais!Q39=data!$T$2,"OK",IF(Frais!R39<>"",IF(Frais!S39<>"","OK","Incomplet"),"Incomplet")),"Incomplet"),"Incomplet")),IF(Frais!O39<>"",IF(Frais!P39<>"","OK","Incomplet"),"Incomplet")),"Incomplet"),IF(Saisie!I38=data!$V$3,IF(Frais!M39<>"",IF(Frais!N39<>"",IF(Frais!N39=data!$T$2,IF(Frais!Q39=data!$T$2,"OK",IF(Frais!R39<>"",IF(Frais!S39<>"","OK","Incomplet"),"Incomplet")),IF(Frais!O39<>"",IF(Frais!P39<>"",IF(Frais!Q39=data!$T$2,"OK",IF(Frais!R39<>"",IF(Frais!S39<>"","OK","Incomplet"),"Incomplet")),"Incomplet"),"Incomplet")),IF(Frais!O39<>"",IF(Frais!P39<>"","OK","Incomplet"),"Incomplet")),"Incomplet"),IF(Frais!I39<>"",IF(Frais!J39<>"",IF(Frais!J39=data!$T$2,"OK",IF(Frais!J39<>"",IF(Frais!K39<>"",IF(Frais!L39<>"","OK","Incomplet"),"Incomplet"),"Incomplet")),"Incomplet"),"Incomplet"))) -> Incomplet | AE41: =IF(Frais!U39<>"",IF(Frais!V39<>"",IF(Frais!W39<>"","OK","Incomplet"),"Incomplet"),"OK") -> OK
G42: 41 | I42: M41 | W42: 0.58333333 | Y42: 0.8125 | Z42: 0.41666667
G43: 42 | I43: M42 | W43: 0.59375 | Y43: 0.82291667 | Z43: 0.42708333
G44: 43 | I44: M43 | W44: 0.60416667 | Y44: 0.83333333 | Z44: 0.4375
G45: 44 | I45: M44 | W45: 0.61458333 | Y45: 0.84375 | Z45: 0.44791667
G46: 45 | I46: M45 | W46: 0.625 | Y46: 0.85416667 | Z46: 0.45833333
G47: 46 | I47: M46 | W47: 0.63541667 | Y47: 0.86458333 | Z47: 0.46875
G48: 47 | I48: M47 | W48: 0.64583333 | Y48: 0.875 | Z48: 0.47916667
G49: 48 | I49: M48 | W49: 0.65625 | Y49: 0.88541667 | Z49: 0.48958333
G50: 49 | I50: M49 | W50: 0.66666667 | Y50: 0.89583333 | Z50: 0.5
G51: 50 | I51: M50 | W51: 0.67708333 | Y51: 0.90625 | Z51: 0.51041667
I52: M51 | W52: 0.6875 | Y52: 0.91666667 | Z52: 0.52083333
W53: 0.69791667 | Y53: 0.92708333 | Z53: 0.53125
W54: 0.70833333 | Y54: 0.9375 | Z54: 0.54166667
W55: 0.71875 | Y55: 0.94791667 | Z55: 0.55208333
W56: 0.72916667 | Y56: 0.95833333 | Z56: 0.5625
W57: 0.73958333 | Y57: 0.96875 | Z57: 0.57291667
W58: 0.75 | Y58: 0.97916667 | Z58: 0.58333333
W59: 0.76041667 | Y59: 0.98958333 | Z59: 0.59375
W60: 0.77083333 | Y60: 0 | Z60: 0.60416667
W61: 0.78125 | Y61: 0.010416667 | Z61: 0.61458333
W62: 0.79166667 | Y62: 0.020833333 | Z62: 0.625
W63: 0.80208333 | Y63: 0.03125 | Z63: 0.63541667
W64: 0.8125 | Y64: 0.041666667 | Z64: 0.64583333
... W97: 0.15625 | Y97: 0.38541667 | Z97: 0.98958333
