Workbook

Sheet resume
A1: Pack coulée | B1: Pack Rgbt | C1: no_of | D1: Masse de Travail | E1: Masse de réglage | F1: Type de coulée | G1: Délai de livraison impératif | H1: Alliage | I1: Délai de livraison | J1: Diamètre | K1: Gamme | L1: Nombre de barre | M1: Type de process
A2: 1 | B2: 10 | C2: 190490026 | D2: 2648.6406 | E2: 45.306259 | F2: 020x000FC | H2: 318 | I2: 43553 | J2: 2.7 | K2: F_E_2.70_JRG_01_A | L2: 1 | M2: Bobine
A3: 1 | B3: 11 | C3: 190490027 | D3: 1424.2347 | E3: 42.127887 | F3: 020x000FC | H3: 318 | I3: 43560 | J3: 2.8 | K3: F_E_2.80_JRG_01_A | L3: 1 | M3: Bobine
A4: 1 | B4: 12 | C4: 190490247 | D4: 517.21338 | E4: 0 | F4: 020x000FC | G4: 43521 | H4: 318 | I4: 43521 | J4: 4.6 | K4: F_RR_4.60_JRG_01_A | L4: 1 | M4: Barre
A5: 1 | B5: 4 | C5: 184890093 | D5: 1315.4915 | E5: 407.75634 | F5: 020x000FC | H5: 318 | I5: 43560 | J5: 0.9 | K5: F_E_0.90_JRG_01_A | L5: 1 | M5: Bobine
A6: 1 | B6: 5 | C6: 184890090 | D6: 853.45087 | E6: 407.75634 | F6: 020x000FC | H6: 318 | I6: 43553 | J6: 0.9 | K6: F_E_0.90_JRG_02_A | L6: 1 | M6: Bobine
A7: 1 | B7: 5 | C7: 184890091 | D7: 255.05428 | E7: 407.75634 | F7: 020x000FC | H7: 318 | I7: 43553 | J7: 0.9 | K7: F_E_0.90_JRG_02_A | L7: 1 | M7: Bobine
A8: 1 | B8: 5 | C8: 184890092 | D8: 1294.891 | E8: 407.75634 | F8: 020x000FC | H8: 318 | I8: 43560 | J8: 0.9 | K8: F_E_0.90_JRG_02_A | L8: 1 | M8: Bobine
A9: 1 | B9: 6 | C9: 184890095 | D9: 94.433546 | E9: 237.20384 | F9: 020x000FC | H9: 318 | I9: 43553 | J9: 1.18 | K9: F_E_1.18_JRG_01_A | L9: 1 | M9: Bobine
A10: 1 | B10: 7 | C10: 190590069 | D10: 204.37042 | E10: 146.79228 | F10: 020x000FC | H10: 318 | I10: 43525 | J10: 1.5 | K10: F_E_1.50_JRG_01_A | L10: 1 | M10: Bobine
A11: 1 | B11: 8 | C11: 190490149 | D11: 47.587243 | E11: 92.461754 | F11: 020x000FC | H11: 318 | I11: 43525 | J11: 1.89 | K11: F_E_1.89_JRG_01_A | L11: 1 | M11: Bobine
A12: 1 | B12: 9 | C12: 184790038 | D12: 128.18113 | E12: 74.894021 | F12: 020x000FC | H12: 318 | I12: 43525 | J12: 2.1 | K12: F_E_2.10_JRG_01_A | L12: 1 | M12: Bobine
A13: 2 | B13: 13 | C13: 184890166 | D13: 705.65198 | E13: 170.0555 | F13: 020x000FC | H13: 418 | I13: 43539 | J13: 1.4 | K13: F_E_1.40_JRG_01_A | L13: 1 | M13: Bobine
A14: 2 | B14: 14 | C14: 190390278 | D14: 777.65728 | E14: 102.87308 | F14: 020x000FC | H14: 418 | I14: 43553 | J14: 1.8 | K14: F_E_1.80_JRG_01_A | L14: 1 | M14: Bobine
A15: 2 | B15: 15 | C15: 185190032 | D15: 101.57548 | E15: 63.007331 | F15: 020x000FC | H15: 418 | I15: 43525 | J15: 2.3 | K15: F_E_2.30_JRG_01_A | L15: 1 | M15: Bobine
A16: 2 | B16: 16 | C16: 190390270 | D16: 4374.3222 | E16: 45.721369 | F16: 020x000FC | H16: 418 | I16: 43546 | J16: 2.7 | K16: F_E_2.70_JRG_01_A | L16: 1 | M16: Bobine
... A24: 3 | B24: 22 | C24: 190390269 | D24: 234.17328 | E24: 0 | F24: 020x000FC | H24: 500 | I24: 43532 | J24: 4 | K24: F_E_4.00_JRG_01_A | L24: 1 | M24: Barre
A25: 3 | B25: 23 | C25: 190490237 | D25: 127.82432 | E25: 0 | F25: 020x000FC | G25: 43521 | H25: 500 | I25: 43521 | J25: 4.6 | K25: F_E_4.60_JRG_01_A | L25: 1 | M25: Barre
A26: 3 | B26: 24 | C26: 190490239 | D26: 1568.6448 | E26: 0 | F26: 020x000FC | G26: 43521 | H26: 500 | I26: 43521 | J26: 6.1 | K26: F_E_6.10_JRG_01_A | L26: 2 | M26: Barre
A27: 3 | B27: 25 | C27: 190490253 | D27: 624.73263 | E27: 0 | F27: 020x000FC | G27: 43521 | H27: 500 | I27: 43521 | J27: 5.6 | K27: F_RR_5.60_JRG_01_A | L27: 1 | M27: Barre
A28: 4 | B28: 30q | C28: 183790170 | D28: 2109.9722 | E28: 51.185509 | F28: 020x000FC | H28: 5125 | I28: 43525 | J28: 2.5 | K28: F_E_2.50_JRG_01_A | L28: 1 | M28: Bobine
A29: 4 | B29: 30w | C29: 183790180 | D29: 6798.7992 | E29: 51.185509 | F29: 020x000FC | H29: 5125 | I29: 43525 | J29: 2.5 | K29: F_E_2.50_JRG_01_A | L29: 1 | M29: Bobine
A30: 4 | B30: 30e | C30: 183790180 | D30: 203.1825 | E30: 51.185509 | F30: 020x000FC | H30: 5125 | I30: 43525 | J30: 2.5 | K30: F_E_2.50_JRG_01_A | L30: 1 | M30: Bobine
A31: 4 | B31: 30r | C31: 183790185 | D31: 6798.7992 | E31: 51.185509 | F31: 020x000FC | H31: 5125 | I31: 43525 | J31: 2.5 | K31: F_E_2.50_JRG_01_A | L31: 1 | M31: Bobine
A32: 4 | B32: 31 | C32: 190490028 | D32: 1852.7244 | E32: 40.804775 | F32: 020x000FC | H32: 5125 | I32: 43539 | J32: 2.8 | K32: F_E_2.80_JRG_01_A | L32: 1 | M32: Bobine
A33: 4 | B33: 31 | C33: 183790172 | D33: 333.29433 | E33: 40.804775 | F33: 020x000FC | H33: 5125 | I33: 43525 | J33: 2.8 | K33: F_E_2.80_JRG_01_A | L33: 1 | M33: Bobine
A34: 4 | B34: 31 | C34: 184990183 | D34: 68.619421 | E34: 40.804775 | F34: 020x000FC | H34: 5125 | I34: 43525 | J34: 2.8 | K34: F_E_2.80_JRG_01_A | L34: 1 | M34: Bobine
A35: 4 | B35: 32 | C35: 184690182 | D35: 472.63377 | E35: 35.545493 | F35: 020x000FC | H35: 5125 | I35: 43525 | J35: 3 | K35: F_E_3.00_JRG_01_A | L35: 1 | M35: Bobine
A36: 4 | B36: 33 | C36: 190590141 | D36: 90.025479 | E36: 79.977358 | F36: 020x000FC | H36: 5125 | I36: 43525 | J36: 2 | K36: F_RR_2.00_JRG_01_A | L36: 1 | M36: Bobine
A37: 4 | B37: 34 | C37: 190490250 | D37: 88.246275 | E37: 0 | F37: 020x000FC | G37: 43521 | H37: 5125 | I37: 43521 | J37: 5.1 | K37: F_RR_5.10_JRG_01_A | L37: 1 | M37: Barre
A38: 4 | B38: 35 | C38: 190590143 | D38: 47.678651 | E38: 0 | F38: 020x000FC | H38: 5125 | I38: 43525 | J38: 6 | K38: F_RR_6.00_JRG_01_A | L38: 1 | M38: Barre
A39: (vide) | B39: (vide) | C39: (vide) | D39: (vide) | E39: (vide) | F39: (vide) | G39: (vide) | H39: (vide) | I39: (vide) | J39: (vide) | K39: (vide) | L39: (vide) | M39: (vide)
A40: 5 | B40: 1 | C40: 185190011 | D40: 244.41591 | E40: 81.827734 | F40: 020x000FC | H40: 218 | I40: 43525 | J40: 2 | K40: F_E_2.00_JRG_01_A | L40: 1 | M40: Bobine
A41: 5 | B41: 2 | C41: 185190288 | D41: 5226.2295 | E41: 0 | F41: 020x000FC | G41: 43521 | H41: 218 | I41: 43521 | J41: 3.5 | K41: F_E_3.50_JRG_01_A | L41: 17 | M41: Barre
A42: 5 | B42: 3 | C42: 190490248 | D42: 118.82873 | E42: 0 | F42: 020x000FC | G42: 43521 | H42: 218 | I42: 43521 | J42: 4.1 | K42: F_RR_4.10_JRG_01_A | L42: 1 | M42: Barre
A43: 4q | B43: 26 | C43: 184790122 | D43: 273.45239 | E43: 394.94992 | F43: 020x000FC | H43: 5125 | I43: 43532 | J43: 0.9 | K43: F_E_0.90_JRG_02_A | L43: 1 | M43: Bobine
A44: 6 | B44: 36 | C44: 190490260 | D44: 346.41844 | E44: 0 | F44: 020x000FC | G44: 43521 | H44: 5125T751 | I44: 43521 | J44: 4.1 | K44: F_E_4.10_JRG_01_A | L44: 1 | M44: Barre
A45: 7 | B45: 37 | C45: 184890001 | D45: 947.04881 | E45: 79.826931 | F45: 020x000FC | H45: 51306 | I45: 43525 | J45: 2 | K45: F_E_2.00_JRG_01_A | L45: 1 | M45: Bobine
A46: 8 | B46: 38 | C46: 190490045 | D46: 1938.3752 | E46: 143.62544 | F46: 020x000FC | H46: 51501 | I46: 43525 | J46: 1.5 | K46: F_E_1.50_JRG_02_A | L46: 1 | M46: Bobine
A47: 8 | B47: 39 | C47: 190490245 | D47: 79.713515 | E47: 80.789311 | F47: 020x000FC | G47: 43521 | H47: 51501 | I47: 43521 | J47: 2 | K47: F_E_2.00_JRG_01_A | L47: 1 | M47: Bobine
...

Sheet impression
A1: Semaine | C1: 2019/02 | E1: 43521 | G1: 318 | I1: 020x000FC
A3: N° OF | C3: Type de process | E3: N° Gamme | G3: Longueur Rgpt brut de coulée [mm] | I3: Masse Rgpt brut de coulée (g)
G4: =SUM(G5:G9) -> 0 | I4: =SUM(I5:I9) -> 2693.9469
A5: 190490026 | C5: Bobine | E5: F_E_2.70_JRG_01_A | I5: =SUM(resume!D2:E2) -> 2693.9469
G10: =SUM(G11:G15) -> 0 | I10: =SUM(I11:I15) -> 1466.3626
A11: 190490027 | C11: Bobine | E11: F_E_2.80_JRG_01_A | I11: =SUM(resume!D3:E3) -> 1466.3626
G16: =SUM(G17:G21) -> 0 | I16: =SUM(I17:I21) -> 517.21338
A17: 190490247 | C17: Barre | E17: F_RR_4.60_JRG_01_A | I17: =SUM(resume!D4:E4) -> 517.21338
G22: =SUM(G23:G27) -> 0 | I22: =SUM(I23:I27) -> 1723.2479
A23: 184890093 | C23: Bobine | E23: F_E_0.90_JRG_01_A | I23: =SUM(resume!D5:E5) -> 1723.2479
G28: =SUM(G29:G33) -> 0 | I28: =SUM(I29:I33) -> 3626.6651
A29: 184890090 | C29: Bobine | E29: F_E_0.90_JRG_02_A | I29: =SUM(resume!D6:E6) -> 1261.2072
A30: 184890091 | C30: Bobine | E30: F_E_0.90_JRG_02_A | I30: =SUM(resume!D7:E7) -> 662.81062
A31: 184890092 | C31: Bobine | E31: F_E_0.90_JRG_02_A | I31: =SUM(resume!D8:E8) -> 1702.6473
G34: =SUM(G35:G39) -> 0 | I34: =SUM(I35:I39) -> 331.63739
A35: 184890095 | C35: Bobine | E35: F_E_1.18_JRG_01_A | I35: =SUM(resume!D9:E9) -> 331.63739
G40: =SUM(G41:G45) -> 0 | I40: =SUM(I41:I45) -> 351.1627
A41: 190590069 | C41: Bobine | E41: F_E_1.50_JRG_01_A | I41: =SUM(resume!D10:E10) -> 351.1627
G46: =SUM(G47:G56) -> 0 | I46: =SUM(I47:I56) -> 546.19929
A47: 190490149 | C47: Bobine | E47: F_E_1.89_JRG_01_A | I47: =SUM(resume!D11:E11) -> 140.049
G52: =SUM(G53:G63) -> 0 | I52: =SUM(I53:I63) -> 203.07515
A53: 184790038 | C53: Bobine | E53: F_E_2.10_JRG_01_A | I53: =SUM(resume!D12:E12) -> 203.07515
A58: Commentaires
G60: Total
