Workbook
Name ListePersonnel: inscriptions!$B$2:$B$4

Sheet inscriptions
C1: Nom | E1: 43831 | F1: 43862 | G1: 43891 | H1: 43922 | I1: 43952 | J1: 43983 | K1: 44013 | L1: 44044
B2: Personne 1 | G2: 1 | H2: 1 | I2: 1 | J2: 1 | K2: 1
B3: Personne 2 | E3: 1 | H3: 1 | K3: 1
B4: Personne 3 | E4: 1 | F4: 1 | G4: 1 | L4: 1

Sheet Récap formations
B1: Formation D
B4: {=IFERROR(INDEX(ListePersonnel,SMALL(IF(OFFSET(ListePersonnel,,MATCH($B$1,inscriptions!$E$1:$L$1,0))>0,ROW(ListePersonnel),""),ROW(inscriptions!B1))-1),"")}
B5: {=IFERROR(INDEX(ListePersonnel,SMALL(IF(OFFSET(ListePersonnel,,MATCH($B$1,inscriptions!$E$1:$L$1,0))>0,ROW(ListePersonnel),""),ROW(inscriptions!#REF!))-1),"")}
B6: {=IFERROR(INDEX(ListePersonnel,SMALL(IF(OFFSET(ListePersonnel,,MATCH($B$1,inscriptions!$E$1:$L$1,0))>0,ROW(ListePersonnel),""),ROW(inscriptions!B2))-1),"")}
B7: {=IFERROR(INDEX(ListePersonnel,SMALL(IF(OFFSET(ListePersonnel,,MATCH($B$1,inscriptions!$E$1:$L$1,0))>0,ROW(ListePersonnel),""),ROW(inscriptions!B3))-1),"")}
B8: {=IFERROR(INDEX(ListePersonnel,SMALL(IF(OFFSET(ListePersonnel,,MATCH($B$1,inscriptions!$E$1:$L$1,0))>0,ROW(ListePersonnel),""),ROW(inscriptions!B4))-1),"")}
B9: {=IFERROR(INDEX(ListePersonnel,SMALL(IF(OFFSET(ListePersonnel,,MATCH($B$1,inscriptions!$E$1:$L$1,0))>0,ROW(ListePersonnel),""),ROW(inscriptions!#REF!))-1),"")}
B10: {=IFERROR(INDEX(ListePersonnel,SMALL(IF(OFFSET(ListePersonnel,,MATCH($B$1,inscriptions!$E$1:$L$1,0))>0,ROW(ListePersonnel),""),ROW(inscriptions!#REF!))-1),"")}
B11: {=IFERROR(INDEX(ListePersonnel,SMALL(IF(OFFSET(ListePersonnel,,MATCH($B$1,inscriptions!$E$1:$L$1,0))>0,ROW(ListePersonnel),""),ROW(inscriptions!#REF!))-1),"")}
B12: {=IFERROR(INDEX(ListePersonnel,SMALL(IF(OFFSET(ListePersonnel,,MATCH($B$1,inscriptions!$E$1:$L$1,0))>0,ROW(ListePersonnel),""),ROW(inscriptions!#REF!))-1),"")}
B13: {=IFERROR(INDEX(ListePersonnel,SMALL(IF(OFFSET(ListePersonnel,,MATCH($B$1,inscriptions!$E$1:$L$1,0))>0,ROW(ListePersonnel),""),ROW(inscriptions!#REF!))-1),"")}
B14: {=IFERROR(INDEX(ListePersonnel,SMALL(IF(OFFSET(ListePersonnel,,MATCH($B$1,inscriptions!$E$1:$L$1,0))>0,ROW(ListePersonnel),""),ROW(inscriptions!#REF!))-1),"")}
B15: {=IFERROR(INDEX(ListePersonnel,SMALL(IF(OFFSET(ListePersonnel,,MATCH($B$1,inscriptions!$E$1:$L$1,0))>0,ROW(ListePersonnel),""),ROW(inscriptions!#REF!))-1),"")}
B16: {=IFERROR(INDEX(ListePersonnel,SMALL(IF(OFFSET(ListePersonnel,,MATCH($B$1,inscriptions!$E$1:$L$1,0))>0,ROW(ListePersonnel),""),ROW(inscriptions!#REF!))-1),"")}
B17: {=IFERROR(INDEX(ListePersonnel,SMALL(IF(OFFSET(ListePersonnel,,MATCH($B$1,inscriptions!$E$1:$L$1,0))>0,ROW(ListePersonnel),""),ROW(inscriptions!#REF!))-1),"")}
B18: {=IFERROR(INDEX(ListePersonnel,SMALL(IF(OFFSET(ListePersonnel,,MATCH($B$1,inscriptions!$E$1:$L$1,0))>0,ROW(ListePersonnel),""),ROW(inscriptions!#REF!))-1),"")}
B19: {=IFERROR(INDEX(ListePersonnel,SMALL(IF(OFFSET(ListePersonnel,,MATCH($B$1,inscriptions!$E$1:$L$1,0))>0,ROW(ListePersonnel),""),ROW(inscriptions!#REF!))-1),"")}
B20: {=IFERROR(INDEX(ListePersonnel,SMALL(IF(OFFSET(ListePersonnel,,MATCH($B$1,inscriptions!$E$1:$L$1,0))>0,ROW(ListePersonnel),""),ROW(inscriptions!#REF!))-1),"")}
... B34: {=IFERROR(INDEX(ListePersonnel,SMALL(IF(OFFSET(ListePersonnel,,MATCH($B$1,inscriptions!$E$1:$L$1,0))>0,ROW(ListePersonnel),""),ROW(inscriptions!#REF!))-1),"")}
B35: {=IFERROR(INDEX(ListePersonnel,SMALL(IF(OFFSET(ListePersonnel,,MATCH($B$1,inscriptions!$E$1:$L$1,0))>0,ROW(ListePersonnel),""),ROW(inscriptions!B5))-1),"")}
B36: {=IFERROR(INDEX(ListePersonnel,SMALL(IF(OFFSET(ListePersonnel,,MATCH($B$1,inscriptions!$E$1:$L$1,0))>0,ROW(ListePersonnel),""),ROW(inscriptions!B6))-1),"")}
B37: {=IFERROR(INDEX(ListePersonnel,SMALL(IF(OFFSET(ListePersonnel,,MATCH($B$1,inscriptions!$E$1:$L$1,0))>0,ROW(ListePersonnel),""),ROW(inscriptions!B7))-1),"")}
B38: {=IFERROR(INDEX(ListePersonnel,SMALL(IF(OFFSET(ListePersonnel,,MATCH($B$1,inscriptions!$E$1:$L$1,0))>0,ROW(ListePersonnel),""),ROW(inscriptions!B8))-1),"")}
B39: {=IFERROR(INDEX(ListePersonnel,SMALL(IF(OFFSET(ListePersonnel,,MATCH($B$1,inscriptions!$E$1:$L$1,0))>0,ROW(ListePersonnel),""),ROW(inscriptions!B9))-1),"")}
B40: {=IFERROR(INDEX(ListePersonnel,SMALL(IF(OFFSET(ListePersonnel,,MATCH($B$1,inscriptions!$E$1:$L$1,0))>0,ROW(ListePersonnel),""),ROW(inscriptions!B10))-1),"")}
B41: {=IFERROR(INDEX(ListePersonnel,SMALL(IF(OFFSET(ListePersonnel,,MATCH($B$1,inscriptions!$E$1:$L$1,0))>0,ROW(ListePersonnel),""),ROW(inscriptions!B11))-1),"")}
B42: {=IFERROR(INDEX(ListePersonnel,SMALL(IF(OFFSET(ListePersonnel,,MATCH($B$1,inscriptions!$E$1:$L$1,0))>0,ROW(ListePersonnel),""),ROW(inscriptions!B12))-1),"")}
B43: {=IFERROR(INDEX(ListePersonnel,SMALL(IF(OFFSET(ListePersonnel,,MATCH($B$1,inscriptions!$E$1:$L$1,0))>0,ROW(ListePersonnel),""),ROW(inscriptions!B13))-1),"")}
B44: {=IFERROR(INDEX(ListePersonnel,SMALL(IF(OFFSET(ListePersonnel,,MATCH($B$1,inscriptions!$E$1:$L$1,0))>0,ROW(ListePersonnel),""),ROW(inscriptions!B14))-1),"")}
B45: {=IFERROR(INDEX(ListePersonnel,SMALL(IF(OFFSET(ListePersonnel,,MATCH($B$1,inscriptions!$E$1:$L$1,0))>0,ROW(ListePersonnel),""),ROW(inscriptions!B15))-1),"")}
B46: {=IFERROR(INDEX(ListePersonnel,SMALL(IF(OFFSET(ListePersonnel,,MATCH($B$1,inscriptions!$E$1:$L$1,0))>0,ROW(ListePersonnel),""),ROW(inscriptions!B16))-1),"")}
... B66: {=IFERROR(INDEX(ListePersonnel,SMALL(IF(OFFSET(ListePersonnel,,MATCH($B$1,inscriptions!$E$1:$L$1,0))>0,ROW(ListePersonnel),""),ROW(inscriptions!B36))-1),"")}

Sheet Par ligne
A1: Personne 2
D4: =IF(F4<>"",A$1,"") -> Personne 2 | F4: =IFERROR(INDEX(inscriptions!$E$1:$L$1,_xlfn.AGGREGATE(15,6,(1/((ListePersonnel=A$1)*(inscriptions!$E$2:$L$4<>"")))*COLUMN(inscriptions!$B$2:$L$4),ROW()-3)),"") -> 43862 | H4: Devrait afficher janvier
D5: =IF(F5<>"",A$1,"") -> Personne 2 | F5: =IFERROR(INDEX(inscriptions!$E$1:$L$1,_xlfn.AGGREGATE(15,6,(1/((ListePersonnel=A$1)*(inscriptions!$E$2:$L$4<>"")))*COLUMN(inscriptions!$B$2:$L$4),ROW()-3)),"") -> 43952
D6: =IF(F6<>"",A$1,"") -> Personne 2 | F6: =IFERROR(INDEX(inscriptions!$E$1:$L$1,_xlfn.AGGREGATE(15,6,(1/((ListePersonnel=A$1)*(inscriptions!$E$2:$L$4<>"")))*COLUMN(inscriptions!$B$2:$L$4),ROW()-3)),"") -> 44044
D7: =IF(F7<>"",A$1,"") | F7: =IFERROR(INDEX(inscriptions!$E$1:$L$1,_xlfn.AGGREGATE(15,6,(1/((ListePersonnel=A$1)*(inscriptions!$E$2:$L$4<>"")))*COLUMN(inscriptions!$B$2:$L$4),ROW()-3)),"")
D8: =IF(F8<>"",A$1,"") | F8: =IFERROR(INDEX(inscriptions!$E$1:$L$1,_xlfn.AGGREGATE(15,6,(1/((ListePersonnel=A$1)*(inscriptions!$E$2:$L$4<>"")))*COLUMN(inscriptions!$B$2:$L$4),ROW()-3)),"")
D9: =IF(F9<>"",A$1,"") | F9: =IFERROR(INDEX(inscriptions!$E$1:$L$1,_xlfn.AGGREGATE(15,6,(1/((ListePersonnel=A$1)*(inscriptions!$E$2:$L$4<>"")))*COLUMN(inscriptions!$B$2:$L$4),ROW()-3)),"")
