Workbook
Name ListePersonnel: 'Suivi formation'!$A$2:$A$31

Sheet Suivi formation
B1: Formation A | C1: Formation B | D1: Formation C | E1: Formation D | F1: Formation E | G1: Formation F | H1: Formation G | I1: Formation H
A2: Personne 1 | B2: 42892 | C2: 41659 | H2: 42149 | I2: 42192
A3: Personne 2 | D3: 41894 | E3: 41460 | F3: 43080 | G3: 42388 | H3: 41663
A4: Personne 3 | B4: 42887 | E4: 41914 | F4: 43080 | G4: 42388 | H4: 41656
A5: Personne 4 | B5: 42888 | C5: 42270 | D5: 41894
A6: Personne 5 | E6: 41817 | H6: 41656 | I6: 41015
A7: Personne 6 | B7: 42491
A8: Personne 7 | D8: 41894 | G8: 42388 | H8: 41656
A9: Personne 8 | E9: 41970 | H9: 41663
A10: Personne 9 | G10: 42388 | H10: 41663
A11: Personne 10 | B11: 41735 | C11: 41735 | D11: 41735
A12: Personne 11
A13: Personne 12 | B13: 41348 | E13: 42740 | G13: 42878 | H13: 41684 | I13: 41205
A14: Personne 13 | B14: 41255 | G14: 42878 | H14: 41656 | I14: 40457
A15: Personne 14 | D15: 41894
A16: Personne 15 | B16: 42138
A17: Personne 16 | C17: 42806 | E17: 41810 | F17: 43080 | G17: 42388 | H17: 41684
A18: Personne 17 | B18: 42392 | H18: 41656
A19: Personne 18 | D19: 41894 | E19: 42741 | G19: 42878 | H19: 41684 | I19: 40862
A20: Personne 19 | C20: 40283 | D20: 41894
A21: Personne 20 | I21: 42618
A22: Personne 21 | B22: 40760 | E22: 41320 | H22: 41684
A23: Personne 22 | C23: 42168 | I23: 42192
A24: Personne 23 | B24: 41840 | F24: 43080
A25: Personne 24 | D25: 41894 | H25: 41656
A26: Personne 25 | C26: 41970 | E26: 41739 | F26: 43080 | G26: 42388 | H26: 41656
A27: Personne 26 | B27: 41417 | H27: 41663 | I27: 41169
A28: Personne 27 | H28: 41663 | I28: 40564
A29: Personne 28 | C29: 42519 | D29: 41894 | G29: 42447
A30: Personne 29 | D30: 41894 | E30: 42159 | F30: 43080 | G30: 42426 | H30: 41684
A31: Personne 30

Sheet Récap formations
B1: Formation D
B4: {=IFERROR(INDEX(ListePersonnel,SMALL(IF(OFFSET(ListePersonnel,,MATCH($B$1,'Suivi formation'!$B$1:$I$1,0))>0,ROW(ListePersonnel),""),ROW('Suivi formation'!A1))-1),"")} -> Personne 2
B5: {=IFERROR(INDEX(ListePersonnel,SMALL(IF(OFFSET(ListePersonnel,,MATCH($B$1,'Suivi formation'!$B$1:$I$1,0))>0,ROW(ListePersonnel),""),ROW('Suivi formation'!A2))-1),"")} -> Personne 3
B6: {=IFERROR(INDEX(ListePersonnel,SMALL(IF(OFFSET(ListePersonnel,,MATCH($B$1,'Suivi formation'!$B$1:$I$1,0))>0,ROW(ListePersonnel),""),ROW('Suivi formation'!A3))-1),"")} -> Personne 5
B7: {=IFERROR(INDEX(ListePersonnel,SMALL(IF(OFFSET(ListePersonnel,,MATCH($B$1,'Suivi formation'!$B$1:$I$1,0))>0,ROW(ListePersonnel),""),ROW('Suivi formation'!A4))-1),"")} -> Personne 8
B8: {=IFERROR(INDEX(ListePersonnel,SMALL(IF(OFFSET(ListePersonnel,,MATCH($B$1,'Suivi formation'!$B$1:$I$1,0))>0,ROW(ListePersonnel),""),ROW('Suivi formation'!A5))-1),"")} -> Personne 12
B9: {=IFERROR(INDEX(ListePersonnel,SMALL(IF(OFFSET(ListePersonnel,,MATCH($B$1,'Suivi formation'!$B$1:$I$1,0))>0,ROW(ListePersonnel),""),ROW('Suivi formation'!A6))-1),"")} -> Personne 16
B10: {=IFERROR(INDEX(ListePersonnel,SMALL(IF(OFFSET(ListePersonnel,,MATCH($B$1,'Suivi formation'!$B$1:$I$1,0))>0,ROW(ListePersonnel),""),ROW('Suivi formation'!A7))-1),"")} -> Personne 18
B11: {=IFERROR(INDEX(ListePersonnel,SMALL(IF(OFFSET(ListePersonnel,,MATCH($B$1,'Suivi formation'!$B$1:$I$1,0))>0,ROW(ListePersonnel),""),ROW('Suivi formation'!A8))-1),"")} -> Personne 21
B12: {=IFERROR(INDEX(ListePersonnel,SMALL(IF(OFFSET(ListePersonnel,,MATCH($B$1,'Suivi formation'!$B$1:$I$1,0))>0,ROW(ListePersonnel),""),ROW('Suivi formation'!A9))-1),"")} -> Personne 25
B13: {=IFERROR(INDEX(ListePersonnel,SMALL(IF(OFFSET(ListePersonnel,,MATCH($B$1,'Suivi formation'!$B$1:$I$1,0))>0,ROW(ListePersonnel),""),ROW('Suivi formation'!A10))-1),"")} -> Personne 29
B14: {=IFERROR(INDEX(ListePersonnel,SMALL(IF(OFFSET(ListePersonnel,,MATCH($B$1,'Suivi formation'!$B$1:$I$1,0))>0,ROW(ListePersonnel),""),ROW('Suivi formation'!A11))-1),"")}
B15: {=IFERROR(INDEX(ListePersonnel,SMALL(IF(OFFSET(ListePersonnel,,MATCH($B$1,'Suivi formation'!$B$1:$I$1,0))>0,ROW(ListePersonnel),""),ROW('Suivi formation'!A12))-1),"")}
... B66: {=IFERROR(INDEX(ListePersonnel,SMALL(IF(OFFSET(ListePersonnel,,MATCH($B$1,'Suivi formation'!$B$1:$I$1,0))>0,ROW(ListePersonnel),""),ROW('Suivi formation'!A63))-1),"")}

Sheet Par ligne
B1: Personne 18
B4: Formation C
B5: Formation D
B6: Formation F
B7: Formation G
B8: Formation H
