Workbook

Sheet Juillet 2019
E3: Horaires de Travail CMEF/ESSAKANE
A4: Item | B4: Identité | C4: H/F | D4: Fonction | E4: 1 | F4: 2 | G4: 3 | H4: 4 | I4: 5 | J4: 6 | K4: 7 | L4: 8 | M4: 9 | N4: 10 | O4: 11 | P4: 12 | Q4: 13 | R4: 14 | S4: 15 | T4: 16 | U4: 17 | V4: 18 | W4: 19 | X4: 20 | Y4: 21 | Z4: 22 | AA4: 23 | AB4: 24 | AC4: 25 | AD4: 26 | AE4: 27 | AF4: 28 | AG4: 29 | AH4: 30 | AI4: 31 | AJ4: TOTAL D'HEURE /mois | AK4: Nombre de jour de travail/ Mois | AL4: Nombre d'heures suplementaires/mois
A5: 1 | B5: ROUMAR Boubacar | C5: H | D5: Conducteur des travaux | E5: 11 | F5: 15 | G5: 11 | H5: 11 | I5: 11 | J5: 11 | K5: 11 | L5: 11 | M5: 11 | N5: 11 | O5: 11 | P5: 11 | Q5: 11 | R5: 11 | S5: 11 | T5: 11 | U5: 11 | V5: 13 | W5: 13 | X5: 11 | Y5: 11 | Z5: 11 | AA5: 11 | AB5: 11 | AC5: 11 | AD5: 11 | AE5: 11 | AJ5: =SUM(E5:AI5) -> 305 | AK5: =COUNT(E5:AI5) -> 27 | AL5: =AJ5-AK5*10 -> 35
A6: 2 | B6: ZOUGOURI Daouda | C6: H | D6: Superviseur Chantiers | S6: 10 | T6: 11 | U6: 11 | V6: 13 | W6: 13 | X6: 11 | Y6: 11 | Z6: 11 | AA6: 11 | AB6: 11 | AC6: 11 | AD6: 11 | AE6: 11 | AF6: 11 | AG6: 11 | AH6: 11 | AI6: 11 | AJ6: =SUM(S6:AI6) -> 190 | AK6: =COUNT(E6:AI6) -> 17 | AL6: =AJ6-AK6*10 -> 20
A7: 3 | B7: YAGO Abdoul Nassion | C7: H | D7: Planificateur | E7: 11 | F7: 15 | G7: 11 | H7: 11 | I7: 11 | J7: 11 | K7: 11 | L7: 11 | M7: 13 | N7: 11 | O7: 12 | P7: 11 | Q7: 11 | R7: 11 | S7: 11 | T7: 11 | U7: 11 | V7: 13 | W7: 13 | X7: 11 | Y7: 11 | Z7: 11 | AA7: 11 | AB7: 11 | AC7: 13 | AD7: 11 | AE7: 11 | AF7: 11 | AG7: 11 | AH7: 11 | AI7: 11 | AJ7: =SUM(E7:AI7) -> 354 | AK7: =COUNT(E7:AI7) -> 31 | AL7: =AJ7-AK7*10 -> 44
A8: 4 | B8: NANA Armel | C8: H | D8: Contrôle Qualité | E8: 10 | F8: 14 | G8: 10 | H8: 10 | I8: 10 | J8: 12 | L8: 10 | M8: 13 | N8: 13 | O8: 13 | P8: 13 | Q8: 13 | R8: 13 | S8: 13 | T8: 12 | U8: 13 | V8: 13 | W8: 13 | X8: 10 | Y8: 10 | Z8: 10 | AA8: 10 | AB8: 10 | AJ8: =SUM(E8:AI8) -> 268 | AK8: =COUNT(E8:AI8) -> 23 | AL8: =AJ8-AK8*10 -> 38
A9: 5 | B9: KONE Aziz Moussa Francis | C9: H | D9: Chef Electricien | T9: 10 | U9: 10 | V9: 10 | W9: 10 | X9: 10 | Z9: 10 | AA9: 10 | AB9: 10 | AC9: 10 | AD9: 10 | AE9: 10 | AG9: 10 | AH9: 10 | AI9: 10 | AJ9: =SUM(E9:AI9) -> 140 | AK9: =COUNT(E9:AI9) -> 14 | AL9: =AJ9-AK9*10 -> 0
A10: 6 | B10: SAMPEBRE Sandaogo | C10: H | D10: Chef Ferrailleur | E10: 11 | F10: 14 | G10: 10 | H10: 10 | I10: 10 | J10: 11 | K10: 10 | L10: 10 | S10: 10 | T10: 12 | U10: 12 | V10: 13 | W10: 13 | X10: 10 | Y10: 10 | Z10: 10 | AA10: 10 | AB10: 10 | AC10: 10 | AD10: 10 | AE10: 10 | AF10: 10 | AG10: 10 | AH10: 10 | AI10: 10 | AJ10: =SUM(S10:AI10) -> 180 | AK10: =COUNT(S10:AI10) -> 17 | AL10: =AJ10-AK10*10 -> 10
A11: 7 | B11: BOUGMA Noaga | C11: H | D11: Chef Plombier | AJ11: =SUM(E11:AI11) -> 0 | AK11: =COUNT(E11:AI11) -> 0 | AL11: =AJ11-AK11*10 -> 0
A12: 8 | B12: NIKIEMA Benjamin | C12: H | D12: Chef Menuisier | E12: 10 | F12: 14 | G12: 10 | H12: 10 | I12: 10 | J12: 10 | L12: 10 | M12: 10 | N12: 10 | O12: 10 | P12: 10 | Q12: 10 | S12: 10 | T12: 10 | U12: 10 | V12: 13 | W12: 13 | X12: 10 | Y12: 10 | Z12: 10 | AA12: 10 | AB12: 10 | AC12: 10 | AD12: 10 | AJ12: =SUM(E12:AI12) -> 250 | AK12: =COUNT(E12:AI12) -> 24 | AL12: =AJ12-AK12*10 -> 10
A13: 9 | B13: ILBOUDO Jean-Pierre | C13: H | D13: Chef Maçon | E13: 10 | F13: 14 | G13: 10 | H13: 10 | I13: 10 | J13: 10 | L13: 10 | M13: 10 | N13: 10 | O13: 10 | P13: 10 | Q13: 10 | S13: 10 | T13: 10 | U13: 10 | V13: 15 | W13: 15 | X13: 10 | Z13: 10 | AA13: 10 | AB13: 10 | AC13: 10 | AD13: 10 | AE13: 10 | AG13: 10 | AJ13: =SUM(E13:AI13) -> 264 | AK13: =COUNT(E13:AI13) -> 25 | AL13: =AJ13-AK13*10 -> 14
A14: 10 | B14: SAVADOGO Harouna | C14: H | D14: Préventionniste | E14: 10 | F14: 14 | G14: 10 | H14: 10 | I14: 10 | J14: 10 | L14: 10 | M14: 10 | N14: 10 | O14: 10 | P14: 10 | Q14: 10 | S14: 10 | T14: 10 | U14: 10 | V14: 13 | W14: 13 | X14: 10 | Z14: 10 | AA14: 10 | AB14: 10 | AC14: 10 | AD14: 10 | AE14: 10 | AG14: 10 | AJ14: =SUM(E14:AI14) -> 260 | AK14: =COUNT(E14:AI14) -> 25 | AL14: =AJ14-AK14*10 -> 10
A15: 11 | B15: KALMOGO Patenema | C15: H | D15: Plombier | AJ15: =SUM(E15:AI15) -> 0 | AK15: =COUNT(E15:AI15) -> 0 | AL15: =AJ15-AK15*10 -> 0
A16: 12 | B16: KANGBEGA Abdoul Lamine | C16: H | D16: Plombier | AJ16: =SUM(E16:AI16) -> 0 | AK16: =COUNT(E16:AI16) -> 0 | AL16: =AJ16-AK16*10 -> 0
A17: 13 | B17: BIHOUN François | C17: H | D17: Menuisier | O17: 10 | P17: 10 | Q17: 10 | R17: 10 | S17: 13 | T17: 12 | U17: 13 | V17: 13 | W17: 13 | X17: 10 | Y17: 10 | Z17: 10 | AA17: 10 | AB17: 10 | AC17: 10 | AD17: 10 | AE17: 10 | AF17: 10 | AG17: 10 | AH17: 10 | AI17: 10 | AJ17: =SUM(E17:AI17) -> 224 | AK17: =COUNT(E17:AI17) -> 21 | AL17: =AJ17-AK17*10 -> 14
A18: 14 | B18: OUEDRAOGO B. Emanuel | C18: H | D18: Menuisier | E18: 10 | F18: 14 | G18: 10 | H18: 10 | I18: 10 | J18: 10 | L18: 10 | M18: 13 | N18: 10 | O18: 10 | P18: 10 | Q18: 10 | R18: 13 | S18: 13 | T18: 12 | U18: 13 | V18: 13 | W18: 13 | X18: 10 | Y18: 10 | Z18: 10 | AA18: 10 | AB18: 10 | AC18: 10 | AD18: 10 | AJ18: =SUM(E18:AI18) -> 274 | AK18: =COUNT(E18:AI18) -> 25 | AL18: =AJ18-AK18*10 -> 24
A19: 15 | B19: PALOGO R. Jonas | C19: H | D19: Menuisier | E19: 10 | F19: 14 | G19: 10 | H19: 10 | I19: 10 | J19: 10 | L19: 10 | M19: 13 | N19: 10 | O19: 10 | AD19: 10 | AE19: 10 | AF19: 10 | AG19: 10 | AH19: 10 | AI19: 10 | AJ19: =SUM(AD19:AI19) -> 60 | AK19: =COUNT(AD19:AI19) -> 6 | AL19: =AJ19-AK19*10 -> 0
A20: 16 | B20: DAMIBA Samuel | C20: H | D20: Menuisier | E20: 10 | F20: 14 | G20: 10 | H20: 10 | I20: 10 | J20: 10 | AJ20: =SUM(E20:AI20) -> 64 | AK20: =COUNT(E20:AI20) -> 6 | AL20: =AJ20-AK20*10 -> 4
A21: 17 | B21: HOUNTE Koffi | C21: H | D21: Menuisier | E21: 10 | F21: 14 | G21: 10 | H21: 10 | I21: 10 | J21: 10 | L21: 10 | M21: 10 | N21: 10 | O21: 10 | P21: 10 | Q21: 10 | S21: 10 | T21: 10 | U21: 5 | V21: 13 | AJ21: =SUM(E21:AI21) -> 162 | AK21: =COUNT(E21:AI21) -> 16 | AL21: =AJ21-AK21*10 -> 2
A22: 18 | B22: SALEMBERE Youssouf | C22: H | D22: Menuisier | AJ22: =SUM(E22:AI22) -> 0 | AK22: =COUNT(E22:AI22) -> 0 | AL22: =AJ22-AK22*10 -> 0
A23: 19 | B23: TIENDREBEOGO N Antoine | C23: H | D23: Menuisier | E23: 10 | F23: 14 | G23: 10 | H23: 10 | I23: 10 | J23: 10 | L23: 10 | M23: 10 | N23: 10 | O23: 10 | AJ23: =SUM(E23:AI23) -> 104 | AK23: =COUNT(E23:AI23) -> 10 | AL23: =AJ23-AK23*10 -> 4
A24: 20 | B24: SORE Narcisse | C24: H | D24: Menuisier | AJ24: =SUM(E24:AI24) -> 0 | AK24: =COUNT(E24:AI24) -> 0 | AL24: =AJ24-AK24*10 -> 0
A25: 21 | B25: SOULI Jean Pierre | C25: H | D25: Menuisier | E25: 10 | F25: 14 | G25: 10 | H25: 10 | I25: 10 | J25: 10 | L25: 10 | M25: 12 | N25: 10 | O25: 10 | P25: 10 | Q25: 13 | R25: 10 | S25: 13 | T25: 12 | U25: 10 | V25: 13 | W25: 13 | X25: 10 | Y25: 10 | Z25: 10 | AJ25: =SUM(E25:AI25) -> 230 | AK25: =COUNT(E25:AI25) -> 21 | AL25: =AJ25-AK25*10 -> 20
A26: 22 | B26: GANGO Moussa | C26: H | D26: Menuisier | AJ26: =SUM(E26:AI26) -> 0 | AK26: =COUNT(E26:AI26) -> 0 | AL26: =AJ26-AK26*10 -> 0
A27: 23 | B27: SORE Abdoul Aziz | D27: Menuisier | AJ27: =SUM(E27:AI27) -> 0 | AK27: =COUNT(E27:AI27) -> 0 | AL27: =AJ27-AK27*10 -> 0
A28: 24 | B28: ILBOUDO Edouard | C28: H | D28: Maçon | E28: 10 | F28: 16 | G28: 10 | H28: 10 | P28: 10 | Q28: 10 | S28: 10 | T28: 12 | U28: 13 | V28: 15 | W28: 15 | X28: 10 | Y28: 10 | Z28: 10 | AA28: 10 | AB28: 10 | AC28: 10 | AD28: 10 | AE28: 10 | AG28: 10 | AH28: 13 | AI28: 10 | AJ28: =SUM(P28:AI28) -> 198 | AK28: =COUNT(P28:AI28) -> 18 | AL28: =AJ28-AK28*10 -> 18
A29: 25 | B29: BELEMSOBGO Boureima | C29: H | D29: Maçon | AJ29: =SUM(E29:AI29) -> 0 | AK29: =COUNT(E29:AI29) -> 0 | AL29: =AJ29-AK29*10 -> 0
A30: 26 | B30: COMBARY Comboamama | C30: H | D30: Maçon | AJ30: =SUM(E30:AI30) -> 0 | AK30: =COUNT(E30:AI30) -> 0 | AL30: =AJ30-AK30*10 -> 0
A31: 27 | B31: SEDOGO Sayouba | C31: H | D31: Maçon | H31: 10 | I31: 10 | J31: 11 | L31: 10 | M31: 10 | N31: 10 | AJ31: =SUM(E31:AI31) -> 61 | AK31: =COUNT(E31:AI31) -> 6 | AL31: =AJ31-AK31*10 -> 1
A32: 28 | B32: TAPSOBA B Charles | C32: H | D32: Maçon | AJ32: =SUM(E32:AI32) -> 0 | AK32: =COUNT(E32:AI32) -> 0 | AL32: =AJ32-AK32*10 -> 0
A33: 29 | B33: KOALA Z. Raymond | C33: H | D33: Maçon | E33: 10 | F33: 16 | G33: 10 | H33: 10 | P33: 10 | Q33: 10 | S33: 13 | T33: 12 | U33: 13 | V33: 15 | W33: 15 | X33: 10 | Y33: 10 | Z33: 10 | AA33: 10 | AB33: 10 | AC33: 10 | AD33: 10 | AE33: 10 | AG33: 10 | AH33: 13 | AI33: 10 | AJ33: =SUM(P33:AI33) -> 201 | AK33: =COUNT(P33:AI33) -> 18 | AL33: =AJ33-AK33*10 -> 21
A34: 30 | B34: ASSY K. Patrick | C34: H | D34: Maçon | AJ34: =SUM(E34:AI34) -> 0 | AK34: =COUNT(E34:AI34) -> 0 | AL34: =AJ34-AK34*10 -> 0
A35: 31 | B35: ILBOUDO R. Grégoire | C35: H | D35: Maçon | AJ35: =SUM(E35:AI35) -> 0 | AK35: =COUNT(E35:AI35) -> 0 | AL35: =AJ35-AK35*10 -> 0
A36: 7 | B36: TRAORE Armand Laurent | C36: H | D36: Maçon | AJ36: =SUM(E36:AI36) -> 0 | AK36: =COUNT(E36:AI36) -> 0 | AL36: =AJ36-AK36*10 -> 0
A37: 33 | B37: OUEDRAOGO Mahamoudou | C37: H | D37: Chauffeur | E37: 11 | F37: 16 | G37: 12 | H37: 11 | I37: 11 | J37: 11 | K37: 11 | L37: 11 | M37: 11 | N37: 11 | O37: 13 | P37: 12 | Q37: 11 | R37: 11 | S37: 11 | T37: 11 | U37: 10 | V37: 13 | W37: 13 | X37: 11 | Y37: 11 | Z37: 11 | AA37: 10 | AB37: 10 | AC37: 10 | AD37: 10 | AJ37: =SUM(E37:AI37) -> 294 | AK37: =COUNT(E37:AI37) -> 26 | AL37: =AJ37-AK37*10 -> 34
A38: 34 | B38: TONDE W. Dieudonné | C38: H | D38: Chauffeur | O38: 10 | P38: 10 | Q38: 10 | R38: 11 | S38: 11 | T38: 11 | U38: 10 | V38: 13 | W38: 13 | X38: 10 | Y38: 10 | Z38: 11 | AA38: 10 | AB38: 10 | AC38: 10 | AD38: 10 | AE38: 10 | AF38: 10 | AG38: 11 | AH38: 10 | AI38: 10 | AJ38: =SUM(E38:AI38) -> 221 | AK38: =COUNT(E38:AI38) -> 21 | AL38: =AJ38-AK38*10 -> 11
A39: 35 | B39: TAPSOBA Halidou | C39: H | D39: Chauffeur | E39: 10 | F39: 14 | G39: 10 | H39: 11 | I39: 10 | J39: 10 | L39: 10 | M39: 10 | N39: 10 | O39: 10 | AD39: 10 | AE39: 11 | AF39: 10 | AG39: 11 | AH39: 11 | AI39: 11 | AJ39: =SUM(AD39:AI39) -> 64 | AK39: =COUNT(AD39:AI39) -> 6 | AL39: =AJ39-AK39*10 -> 4
A40: 36 | B40: ZONGO Romaric | C40: H | D40: Mecanicien | E40: 10 | F40: 14 | G40: 10 | H40: 10 | I40: 10 | J40: 10 | L40: 10 | M40: 13 | N40: 13 | O40: 13 | P40: 13 | Q40: 12 | R40: 13 | S40: 13 | T40: 10 | U40: 10 | V40: 13 | W40: 10 | AJ40: =SUM(E40:AI40) -> 207 | AK40: =COUNT(E40:AI40) -> 18 | AL40: =AJ40-AK40*10 -> 27
A41: 37 | B41: SAWADOGO Issouf Ledia | C41: H | D41: Electricien | AA41: 10 | AB41: 10 | AC41: 10 | AD41: 10 | AE41: 10 | AG41: 10 | AI41: 10 | AJ41: =SUM(AA41:AI41) -> 70 | AK41: =COUNT(E41:AI41) -> 7 | AL41: =AJ41-AK41*10 -> 0
A42: 38 | B42: DEMBELE Adama | C42: H | D42: Aide Electricien | AJ42: =SUM(AA42:AI42) -> 0 | AK42: =COUNT(E42:AI42) -> 0 | AL42: =AJ42-AK42*10 -> 0
...

Sheet Août 2019
E3: Horaires de Travail CMEF/ESSAKANE
A4: Item | B4: Identité | C4: H/F | D4: Fonction | E4: 1 JEU | F4: 2 VEN | G4: 3 SAM | H4: 4 DIM | I4: 5 LUN | J4: 6 MARD | K4: 7 MER | L4: 8 JEU | M4: 9 VEN | N4: 10 SAM | O4: 11 DIM | P4: 12 LUN | Q4: 13 MARD | R4: 14 MER | S4: 15 JEU | T4: 16 VEN | U4: 17 SAM | V4: 18 DIM | W4: 19 LUN | X4: 20 MARD | Y4: 21 MER | Z4: 22 JEU | AA4: 23 VEN | AB4: 24 SAM | AC4: 25 DIM | AD4: 26 LUN | AE4: 27 MARD | AF4: 28 MER | AG4: 29 JEU | AH4: 30 SAM | AI4: 31 DIM | AJ4: Total heures/mois | AK4: Nombre de jour de travail/mois | AL4: Nombres heures supplémentaires/mois
A5: 1 | B5: ROUMAR Boubacar | C5: H | D5: Conducteur des travaux | L5: 11 | M5: 11 | N5: 11 | O5: 11 | P5: 11 | Q5: 11 | R5: 11 | S5: 11 | T5: 11 | U5: 11 | V5: 11 | W5: 11 | X5: 11 | Y5: 11 | AJ5: =E5+F5+G5+H5+I5+J5+K5+L5+M5+N5+O5+P5+Q5+R5+S5+T5+U5+V5+W5+X5+Y5+Z5+AA5+AB5+AC5+AD5+AE5+AF5+AH5+AI5 -> 154 | AK5: =COUNT(E5:AI5) -> 14 | AL5: =AJ5-AK5*10 -> 14
A6: 2 | B6: ZOUGOURI Daouda | C6: H | D6: Superviseur Chantiers | E6: 11 | F6: 11 | G6: 11 | I6: 11 | J6: 11 | K6: 11 | L6: 10 | S6: 10 | T6: 11 | U6: 11 | V6: 11 | W6: 11 | X6: 11 | Y6: 11 | Z6: 11 | AA6: 11 | AB6: 10 | AC6: 11 | AD6: 11 | AJ6: =S6+T6+U6+V6+W6+X6+Y6+Z6+AA6+AB6+AC6+AD6+AE6+AF6+AH6+AI6 -> 130 | AK6: =COUNT(S6:AI6) -> 12 | AL6: =AJ6-AK6*10 -> 10
A7: 3 | B7: YAGO Abdoul Nassion | C7: H | D7: Planificateur | E7: 11 | F7: 10 | R7: 10 | S7: 11 | T7: 11 | U7: 11 | V7: 11 | W7: 11 | X7: 11 | Y7: 11 | AJ7: =R7+S7+T7+U7+V7+W7+X7+Y7+Z7+AA7+AB7+AC7+AD7+AE7+AF7+AH7+AI7 -> 87 | AK7: =COUNT(R7:AI7) -> 8 | AL7: =AJ7-AK7*10 -> 7
A8: 4 | B8: NANA Armel | C8: H | D8: Contrôle Qualité | L8: 10 | M8: 10 | N8: 12 | O8: 10 | P8: 10 | Q8: 10 | R8: 10 | S8: 10 | T8: 10 | U8: 10 | W8: 10 | X8: 10 | Y8: 10 | Z8: 10 | AA8: 11 | AB8: 10 | AC8: 10 | AD8: 12 | AJ8: =E8+F8+G8+H8+I8+J8+K8+L8+M8+N8+O8+P8+Q8+R8+S8+T8+U8+V8+W8+X8+Y8+Z8+AA8+AB8+AC8+AD8+AE8+AF8+AH8+AI8 -> 185 | AK8: =COUNT(E8:AI8) -> 18 | AL8: =AJ8-AK8*10 -> 5
A9: 5 | B9: KONE Aziz Moussa Francis | C9: H | D9: Chef Electricien | E9: 10 | F9: 10 | G9: 10 | I9: 10 | J9: 10 | K9: 10 | L9: 10 | M9: 10 | O9: 10 | P9: 10 | Q9: 10 | R9: 10 | S9: 10 | T9: 10 | U9: 10 | V9: 10 | W9: 10 | X9: 10 | Y9: 10 | Z9: 10 | AA9: 10 | AB9: 10 | AC9: 10 | AD9: 11 | AJ9: =E9+F9+G9+H9+I9+J9+K9+L9+M9+N9+O9+P9+Q9+R9+S9+T9+U9+V9+W9+X9+Y9+Z9+AA9+AB9+AC9+AD9+AE9+AF9+AH9+AI9 -> 241 | AK9: =COUNT(E9:AI9)+'Juillet 2019'!AK9 -> 38 | AL9: =AJ9-AK9*10 -> -139
A10: 6 | B10: SAMPEBRE Sandaogo | C10: H | D10: Chef Ferrailleur | E10: 10 | F10: 10 | G10: 10 | I10: 10 | J10: 10 | K10: 10 | L10: 10 | R10: 10 | S10: 10 | T10: 10 | U10: 10 | V10: 10 | W10: 10 | X10: 10 | Y10: 10 | Z10: 10 | AA10: 11 | AB10: 10 | AC10: 10 | AD10: 10 | AJ10: =R10+S10+T10+U10+V10+W10+X10+Y10+Z10+AA10+AB10+AC10+AD10+AE10+AF10+AG10+AH10+AI10 -> 131 | AK10: =COUNT(R10:AI10) -> 13 | AL10: =AJ10-AK10*10 -> 1
A11: 7 | B11: BOUGMA Noaga | C11: H | D11: Chef Plombier | AJ11: =E11+F11+G11+H11+I11+J11+K11+L11+M11+N11+O11+P11+Q11+R11+S11+T11+U11+V11+W11+X11+Y11+Z11+AA11+AB11+AC11+AD11+AE11+AF11+AH11+AI11 -> 0 | AK11: =COUNT(E11:AI11) -> 0 | AL11: =AJ11-AK11*10 -> 0
A12: 8 | B12: NANA MAHA | C12: H | D12: Chef Soudeur | AA12: 10 | AB12: 10 | AC12: 12 | AD12: 12 | AJ12: =E12+F12+G12+H12+I12+J12+K12+L12+M12+N12+O12+P12+Q12+R12+S12+T12+U12+V12+W12+X12+Y12+Z12+AA12+AB12+AC12+AD12+AE12+AF12+AH12+AI12 -> 44 | AK12: =COUNT(E12:AI12) -> 4 | AL12: =IF(SUM(E12:AI12)>10,SUM(E12:AI12)-10,"") -> 34
A13: 9 | B13: NIKIEMA Benjamin | C13: H | D13: Chef Menuisier | AJ13: =E13+F13+G13+H13+I13+J13+K13+L13+M13+N13+O13+P13+Q13+R13+S13+T13+U13+V13+W13+X13+Y13+Z13+AA13+AB13+AC13+AD13+AE13+AF13+AH13+AI13 -> 0 | AK13: =COUNT(E13:AI13) -> 0 | AL13: =AJ13-AK13*10 -> 0
A14: 10 | B14: ILBOUDO Jean-Pierre | C14: H | D14: Chef Maçon | W14: 10 | X14: 10 | Y14: 10 | Z14: 10 | AA14: 11 | AB14: 10 | AC14: 10 | AD14: 10 | AJ14: =E14+F14+G14+H14+I14+J14+K14+L14+M14+N14+O14+P14+Q14+R14+S14+T14+U14+V14+W14+X14+Y14+Z14+AA14+AB14+AC14+AD14+AE14+AF14+AH14+AI14 -> 81 | AK14: =COUNT(E14:AI14) -> 8 | AL14: =AJ14-AK14*10 -> 1
A15: 11 | B15: SAVADOGO Harouna | C15: H | D15: Préventionniste | Y15: 10 | Z15: 10 | AA15: 11 | AB15: 10 | AC15: 10 | AD15: 10 | AJ15: =E15+F15+G15+H15+I15+J15+K15+L15+M15+N15+O15+P15+Q15+R15+S15+T15+U15+V15+W15+X15+Y15+Z15+AA15+AB15+AC15+AD15+AE15+AF15+AH15+AI15 -> 61 | AK15: =COUNT(E15:AI15) -> 6 | AL15: =AJ15-AK15*10 -> 1
A16: 12 | B16: KALMOGO Patenema | C16: H | D16: Plombier | AJ16: =E16+F16+G16+H16+I16+J16+K16+L16+M16+N16+O16+P16+Q16+R16+S16+T16+U16+V16+W16+X16+Y16+Z16+AA16+AB16+AC16+AD16+AE16+AF16+AH16+AI16 -> 0 | AK16: =COUNT(E16:AI16) -> 0 | AL16: =AJ16-AK16*10 -> 0
A17: 13 | B17: KANGBEGA Abdoul Lamine | C17: H | D17: Plombier | AJ17: =E17+F17+G17+H17+I17+J17+K17+L17+M17+N17+O17+P17+Q17+R17+S17+T17+U17+V17+W17+X17+Y17+Z17+AA17+AB17+AC17+AD17+AE17+AF17+AH17+AI17 -> 0 | AK17: =COUNT(E17:AI17) -> 0 | AL17: =AJ17-AK17*10 -> 0
A18: 14 | B18: BIHOUN François | C18: H | D18: Menuisier | E18: 10 | F18: 10 | G18: 10 | I18: 10 | J18: 10 | K18: 10 | L18: 10 | M18: 10 | N18: 10 | O18: 10 | P18: 10 | Q18: 10 | R18: 10 | S18: 10 | T18: 10 | U18: 10 | V18: 10 | W18: 10 | AJ18: =E18+F18+G18+H18+I18+J18+K18+L18+M18+N18+O18+P18+Q18+R18+S18+T18+U18+V18+W18+X18+Y18+Z18+AA18+AB18+AC18+AD18+AE18+AF18+AH18+AI18 -> 180 | AK18: =COUNT(E18:AI18) -> 18 | AL18: =AJ18-AK18*10 -> 0
A19: 15 | B19: OUEDRAOGO B. Emanuel | C19: H | D19: Menuisier | AJ19: =E19+F19+G19+H19+I19+J19+K19+L19+M19+N19+O19+P19+Q19+R19+S19+T19+U19+V19+W19+X19+Y19+Z19+AA19+AB19+AC19+AD19+AE19+AF19+AH19+AI19 -> 0 | AK19: =COUNT(E19:AI19) -> 0 | AL19: =AJ19-AK19*10 -> 0
A20: 16 | B20: PALOGO R. Jonas | C20: H | D20: Menuisier | E20: 10 | F20: 10 | G20: 10 | I20: 10 | J20: 10 | K20: 10 | L20: 10 | M20: 10 | N20: 10 | O20: 10 | P20: 10 | Q20: 10 | R20: 10 | S20: 10 | T20: 10 | U20: 10 | W20: 10 | X20: 10 | Y20: 10 | Z20: 10 | AA20: 11 | AB20: 10 | AC20: 10 | AD20: 10 | AJ20: =E20+F20+G20+H20+I20+J20+K20+L20+M20+N20+O20+P20+Q20+R20+S20+T20+U20+V20+W20+X20+Y20+Z20+AA20+AB20+AC20+AD20+AE20+AF20+AH20+AI20 -> 241 | AK20: =COUNT(E20:AI20)+'Juillet 2019'!AK19 -> 30 | AL20: =AJ20-AK20*10 -> -59
A21: 17 | B21: DAMIBA Samuel | C21: H | D21: Menuisier | AJ21: =E21+F21+G21+H21+I21+J21+K21+L21+M21+N21+O21+P21+Q21+R21+S21+T21+U21+V21+W21+X21+Y21+Z21+AA21+AB21+AC21+AD21+AE21+AF21+AH21+AI21 -> 0 | AK21: =COUNT(E21:AI21) -> 0 | AL21: =AJ21-AK21*10 -> 0
A22: 18 | B22: HOUNTE Koffi | C22: H | D22: Menuisier | AJ22: =E22+F22+G22+H22+I22+J22+K22+L22+M22+N22+O22+P22+Q22+R22+S22+T22+U22+V22+W22+X22+Y22+Z22+AA22+AB22+AC22+AD22+AE22+AF22+AH22+AI22 -> 0 | AK22: =COUNT(E22:AI22) -> 0 | AL22: =AJ22-AK22*10 -> 0
A23: 19 | B23: SALEMBERE Youssouf | C23: H | D23: Menuisier | AJ23: =E23+F23+G23+H23+I23+J23+K23+L23+M23+N23+O23+P23+Q23+R23+S23+T23+U23+V23+W23+X23+Y23+Z23+AA23+AB23+AC23+AD23+AE23+AF23+AH23+AI23 -> 0 | AK23: =COUNT(E23:AI23) -> 0 | AL23: =AJ23-AK23*10 -> 0
A24: 20 | B24: TIENDREBEOGO N Antoine | C24: H | D24: Menuisier | W24: 10 | X24: 10 | Y24: 10 | Z24: 10 | AA24: 11 | AB24: 10 | AC24: 10 | AD24: 10 | AJ24: =E24+F24+G24+H24+I24+J24+K24+L24+M24+N24+O24+P24+Q24+R24+S24+T24+U24+V24+W24+X24+Y24+Z24+AA24+AB24+AC24+AD24+AE24+AF24+AH24+AI24 -> 81 | AK24: =COUNT(E24:AI24) -> 8 | AL24: =AJ24-AK24*10 -> 1
A25: 21 | B25: SORE Narcisse | C25: H | D25: Menuisier | AJ25: =E25+F25+G25+H25+I25+J25+K25+L25+M25+N25+O25+P25+Q25+R25+S25+T25+U25+V25+W25+X25+Y25+Z25+AA25+AB25+AC25+AD25+AE25+AF25+AH25+AI25 -> 0 | AK25: =COUNT(E25:AI25) -> 0 | AL25: =AJ25-AK25*10 -> 0
A26: 22 | B26: SOULI Jean Pierre | C26: H | D26: Menuisier | AJ26: =E26+F26+G26+H26+I26+J26+K26+L26+M26+N26+O26+P26+Q26+R26+S26+T26+U26+V26+W26+X26+Y26+Z26+AA26+AB26+AC26+AD26+AE26+AF26+AH26+AI26 -> 0 | AK26: =COUNT(E26:AI26) -> 0 | AL26: =AJ26-AK26*10 -> 0
A27: 23 | B27: GANGO Moussa | C27: H | D27: Menuisier | AJ27: =E27+F27+G27+H27+I27+J27+K27+L27+M27+N27+O27+P27+Q27+R27+S27+T27+U27+V27+W27+X27+Y27+Z27+AA27+AB27+AC27+AD27+AE27+AF27+AH27+AI27 -> 0 | AK27: =COUNT(E27:AI27) -> 0 | AL27: =AJ27-AK27*10 -> 0
A28: 24 | B28: SORE Abdoul Aziz | C28: H | D28: Menuisier | AJ28: =E28+F28+G28+H28+I28+J28+K28+L28+M28+N28+O28+P28+Q28+R28+S28+T28+U28+V28+W28+X28+Y28+Z28+AA28+AB28+AC28+AD28+AE28+AF28+AH28+AI28 -> 0 | AK28: =COUNT(E28:AI28) -> 0 | AL28: =AJ28-AK28*10 -> 0
A29: 25 | B29: ILBOUDO Edouard | C29: H | D29: Maçon | E29: 10 | F29: 10 | G29: 10 | I29: 10 | J29: 10 | K29: 10 | L29: 10 | M29: 10 | N29: 10 | O29: 10 | P29: 10 | Q29: 10 | R29: 10 | S29: 10 | T29: 10 | U29: 10 | W29: 10 | AJ29: =E29+F29+G29+H29+I29+J29+K29+L29+M29+N29+O29+P29+Q29+R29+S29+T29+U29+V29+W29+X29+Y29+Z29+AA29+AB29+AC29+AD29+AE29+AF29+AH29+AI29 -> 170 | AK29: =COUNT(E29:AI29) -> 17 | AL29: =AJ29-AK29*10 -> 0
A30: 26 | B30: BELEMSOBGO Boureima | C30: H | D30: Maçon | R30: 10 | S30: 10 | T30: 10 | U30: 10 | W30: 10 | X30: 10 | Y30: 10 | Z30: 10 | AA30: 11 | AB30: 10 | AC30: 10 | AD30: 10 | AJ30: =E30+F30+G30+H30+I30+J30+K30+L30+M30+N30+O30+P30+Q30+R30+S30+T30+U30+V30+W30+X30+Y30+Z30+AA30+AB30+AC30+AD30+AE30+AF30+AH30+AI30 -> 121 | AK30: =COUNT(E30:AI30) -> 12 | AL30: =AJ30-AK30*10 -> 1
A31: 27 | B31: COMBARY Comboamama | C31: H | D31: Maçon | AJ31: =E31+F31+G31+H31+I31+J31+K31+L31+M31+N31+O31+P31+Q31+R31+S31+T31+U31+V31+W31+X31+Y31+Z31+AA31+AB31+AC31+AD31+AE31+AF31+AH31+AI31 -> 0 | AK31: =COUNT(E31:AI31) -> 0 | AL31: =AJ31-AK31*10 -> 0
A32: 28 | B32: SEDOGO Sayouba | C32: H | D32: Maçon | AJ32: =E32+F32+G32+H32+I32+J32+K32+L32+M32+N32+O32+P32+Q32+R32+S32+T32+U32+V32+W32+X32+Y32+Z32+AA32+AB32+AC32+AD32+AE32+AF32+AH32+AI32 -> 0 | AK32: =COUNT(E32:AI32) -> 0 | AL32: =AJ32-AK32*10 -> 0
A33: 29 | B33: TAPSOBA B Charles | C33: H | D33: Maçon | AJ33: =E33+F33+G33+H33+I33+J33+K33+L33+M33+N33+O33+P33+Q33+R33+S33+T33+U33+V33+W33+X33+Y33+Z33+AA33+AB33+AC33+AD33+AE33+AF33+AH33+AI33 -> 0 | AK33: =COUNT(E33:AI33) -> 0 | AL33: =AJ33-AK33*10 -> 0
A34: 30 | B34: KOALA Z. Raymond | C34: H | D34: Maçon | E34: 10 | F34: 10 | G34: 10 | I34: 10 | J34: 10 | K34: 10 | L34: 10 | M34: 10 | N34: 10 | O34: 10 | P34: 10 | Q34: 10 | R34: 10 | S34: 10 | AJ34: =E34+F34+G34+H34+I34+J34+K34+L34+M34+N34+O34+P34+Q34+R34+S34+T34+U34+V34+W34+X34+Y34+Z34+AA34+AB34+AC34+AD34+AE34+AF34+AH34+AI34 -> 140 | AK34: =COUNT(E34:AI34) -> 14 | AL34: =AJ34-AK34*10 -> 0
A35: 31 | B35: ASSY K. Patrick | C35: H | D35: Maçon | AJ35: =E35+F35+G35+H35+I35+J35+K35+L35+M35+N35+O35+P35+Q35+R35+S35+T35+U35+V35+W35+X35+Y35+Z35+AA35+AB35+AC35+AD35+AE35+AF35+AH35+AI35 -> 0 | AK35: =COUNT(E35:AI35) -> 0 | AL35: =AJ35-AK35*10 -> 0
A36: 32 | B36: ILBOUDO R. Grégoire | C36: H | D36: Maçon | AJ36: =E36+F36+G36+H36+I36+J36+K36+L36+M36+N36+O36+P36+Q36+R36+S36+T36+U36+V36+W36+X36+Y36+Z36+AA36+AB36+AC36+AD36+AE36+AF36+AH36+AI36 -> 0 | AK36: =COUNT(E36:AI36) -> 0 | AL36: =AJ36-AK36*10 -> 0
A37: 33 | B37: TRAORE Armand Laurent | C37: H | D37: Maçon | AJ37: =E37+F37+G37+H37+I37+J37+K37+L37+M37+N37+O37+P37+Q37+R37+S37+T37+U37+V37+W37+X37+Y37+Z37+AA37+AB37+AC37+AD37+AE37+AF37+AH37+AI37 -> 0 | AK37: =COUNT(E37:AI37) -> 0 | AL37: =AJ37-AK37*10 -> 0
A38: 34 | B38: OUEDRAOGO Mahamoudou | C38: H | D38: Chauffeur | R38: 10 | S38: 11 | T38: 10 | U38: 10 | V38: 11 | W38: 10 | X38: 10 | Y38: 11 | Z38: 11 | AA38: 12 | AB38: 11 | AC38: 11 | AD38: 11 | AJ38: =E38+F38+G38+H38+I38+J38+K38+L38+M38+N38+O38+P38+Q38+R38+S38+T38+U38+V38+W38+X38+Y38+Z38+AA38+AB38+AC38+AD38+AE38+AF38+AH38+AI38 -> 139 | AK38: =COUNT(E38:AI38) -> 13 | AL38: =AJ38-AK38*10 -> 9
A39: 35 | B39: TONDE W. Dieudonné | C39: H | D39: Chauffeur | E39: 10 | F39: 10 | G39: 10 | I39: 10 | J39: 10 | K39: 10 | L39: 10 | M39: 10 | N39: 10 | O39: 10 | P39: 10 | Q39: 10 | R39: 10 | S39: 10 | AJ39: =E39+F39+G39+H39+I39+J39+K39+L39+M39+N39+O39+P39+Q39+R39+S39+T39+U39+V39+W39+X39+Y39+Z39+AA39+AB39+AC39+AD39+AE39+AF39+AH39+AI39 -> 140 | AK39: =COUNT(E39:AI39) -> 14 | AL39: =AJ39-AK39*10 -> 0
A40: 36 | B40: TAPSOBA Halidou | C40: H | D40: Chauffeur | E40: 10 | F40: 10 | G40: 10 | I40: 10 | J40: 10 | K40: 10 | L40: 10 | M40: 10 | N40: 10 | O40: 10 | P40: 10 | Q40: 10 | R40: 10 | S40: 10 | T40: 10 | U40: 10 | W40: 10 | X40: 11 | Y40: 11 | Z40: 11 | AA40: 12 | AB40: 11 | AC40: 11 | AD40: 11 | AJ40: =E40+F40+G40+H40+I40+J40+K40+L40+M40+N40+O40+P40+Q40+R40+S40+T40+U40+V40+W40+X40+Y40+Z40+AA40+AB40+AC40+AD40+AE40+AF40+AH40+AI40 -> 248 | AK40: =COUNT(E40:AI40)+'Juillet 2019'!AK39 -> 30 | AL40: =AJ40-AK40*10 -> -52
A41: 37 | B41: ZONGO Romaric | C41: H | D41: Mecanicien | AJ41: =E41+F41+G41+H41+I41+J41+K41+L41+M41+N41+O41+P41+Q41+R41+S41+T41+U41+V41+W41+X41+Y41+Z41+AA41+AB41+AC41+AD41+AE41+AF41+AH41+AI41 -> 0 | AK41: =COUNT(E41:AI41) -> 0 | AL41: =AJ41-AK41*10 -> 0
A42: 38 | B42: SAWADOGO Issouf Ledia | C42: H | D42: Electricien | E42: 10 | F42: 10 | G42: 10 | I42: 10 | K42: 10 | L42: 10 | M42: 10 | N42: 10 | O42: 10 | P42: 10 | AJ42: =SUM(E42:AI42) -> 100 | AK42: =COUNT(E42:AI42) -> 10 | AL42: =AJ42-AK42*10 -> 0
...

Sheet Feuil3
