Workbook

Sheet Juillet 2019
E3: Horaires de Travail CMEF/ESSAKANE
A4: Item | B4: Identité | C4: H/F | D4: Fonction | E4: 1 | F4: 2 | G4: 3 | H4: 4 | I4: 5 | J4: 6 | K4: 7 | L4: 8 | M4: 9 | N4: 10 | O4: 11 | P4: 12 | Q4: 13 | R4: 14 | S4: 15 | T4: 16 | U4: 17 | V4: 18 | W4: 19 | X4: 20 | Y4: 21 | Z4: 22 | AA4: 23 | AB4: 24 | AC4: 25 | AD4: 26 | AE4: 27 | AF4: 28 | AG4: 29 | AH4: 30 | AI4: 31 | AJ4: TOTAL D'HEURE /mois | AK4: Nombre de jour de travail/ Mois | AL4: Nombre d'heures suplementaires/mois
A5: 1 | B5: ROUMAR Boubacar | C5: H | D5: Conducteur des travaux | E5: 11 | F5: 15 | G5: 11 | H5: 11 | I5: 11 | J5: 11 | K5: 11 | L5: 11 | M5: 11 | N5: 11 | O5: 11 | P5: 11 | Q5: 11 | R5: 11 | S5: 11 | T5: 11 | U5: 11 | V5: 13 | W5: 13 | X5: 11 | Y5: 11 | Z5: 11 | AA5: 11 | AB5: 11 | AC5: 11 | AD5: 11 | AE5: 11 | AJ5: =SUM(E5:AI5) -> 305 | AK5: =COUNT(E5:AI5) -> 27 | AL5: =AJ5-AK5*10 -> 35
A6: 2 | B6: ZOUGOURI Daouda | C6: H | D6: Superviseur Chantiers | S6: 10 | T6: 11 | U6: 11 | V6: 13 | W6: 13 | X6: 11 | Y6: 11 | Z6: 11 | AA6: 11 | AB6: 11 | AC6: 11 | AD6: 11 | AE6: 11 | AF6: 11 | AG6: 11 | AH6: 11 | AI6: 11 | AJ6: =SUM(S6:AI6) -> 190 | AK6: =COUNT(E6:AI6) -> 17 | AL6: =AJ6-AK6*10 -> 20
A7: 3 | B7: YAGO Abdoul Nassion | C7: H | D7: Planificateur | E7: 11 | F7: 15 | G7: 11 | H7: 11 | I7: 11 | J7: 11 | K7: 11 | L7: 11 | M7: 13 | N7: 11 | O7: 12 | P7: 11 | Q7: 11 | R7: 11 | S7: 11 | T7: 11 | U7: 11 | V7: 13 | W7: 13 | X7: 11 | Y7: 11 | Z7: 11 | AA7: 11 | AB7: 11 | AC7: 13 | AD7: 11 | AE7: 11 | AF7: 11 | AG7: 11 | AH7: 11 | AI7: 11 | AJ7: =SUM(E7:AI7) -> 354 | AK7: =COUNT(E7:AI7) -> 31 | AL7: =AJ7-AK7*10 -> 44
A8: 4 | B8: NANA Armel | C8: H | D8: Contrôle Qualité | E8: 10 | F8: 14 | G8: 10 | H8: 10 | I8: 10 | J8: 12 | L8: 10 | M8: 13 | N8: 13 | O8: 13 | P8: 13 | Q8: 13 | R8: 13 | S8: 13 | T8: 12 | U8: 13 | V8: 13 | W8: 13 | X8: 10 | Y8: 10 | Z8: 10 | AA8: 10 | AB8: 10 | AJ8: =SUM(E8:AI8) -> 268 | AK8: =COUNT(E8:AI8) -> 23 | AL8: =AJ8-AK8*10 -> 38
A9: 5 | B9: KONE Aziz Moussa Francis | C9: H | D9: Chef Electricien | T9: 10 | U9: 10 | V9: 10 | W9: 10 | X9: 10 | Z9: 10 | AA9: 10 | AB9: 10 | AC9: 10 | AD9: 10 | AE9: 10 | AG9: 10 | AH9: 10 | AI9: 10 | AJ9: =SUM(E9:AI9) -> 140 | AK9: =COUNT(E9:AI9) -> 14 | AL9: =AJ9-AK9*10 -> 0
A10: 6 | B10: SAMPEBRE Sandaogo | C10: H | D10: Chef Ferrailleur | E10: 11 | F10: 14 | G10: 10 | H10: 10 | I10: 10 | J10: 11 | K10: 10 | L10: 10 | S10: 10 | T10: 12 | U10: 12 | V10: 13 | W10: 13 | X10: 10 | Y10: 10 | Z10: 10 | AA10: 10 | AB10: 10 | AC10: 10 | AD10: 10 | AE10: 10 | AF10: 10 | AG10: 10 | AH10: 10 | AI10: 10 | AJ10: =SUM(S10:AI10) -> 180 | AK10: =COUNT(S10:AI10) -> 17 | AL10: =AJ10-AK10*10 -> 10
A11: 7 | B11: BOUGMA Noaga | C11: H | D11: Chef Plombier | AJ11: =SUM(E11:AI11) -> 0 | AK11: =COUNT(E11:AI11) -> 0 | AL11: =AJ11-AK11*10 -> 0
A12: 8 | B12: NIKIEMA Benjamin | C12: H | D12: Chef Menuisier | E12: 10 | F12: 14 | G12: 10 | H12: 10 | I12: 10 | J12: 10 | L12: 10 | M12: 10 | N12: 10 | O12: 10 | P12: 10 | Q12: 10 | S12: 10 | T12: 10 | U12: 10 | V12: 13 | W12: 13 | X12: 10 | Y12: 10 | Z12: 10 | AA12: 10 | AB12: 10 | AC12: 10 | AD12: 10 | AJ12: =SUM(E12:AI12) -> 250 | AK12: =COUNT(E12:AI12) -> 24 | AL12: =AJ12-AK12*10 -> 10
A13: 9 | B13: ILBOUDO Jean-Pierre | C13: H | D13: Chef Maçon | E13: 10 | F13: 14 | G13: 10 | H13: 10 | I13: 10 | J13: 10 | L13: 10 | M13: 10 | N13: 10 | O13: 10 | P13: 10 | Q13: 10 | S13: 10 | T13: 10 | U13: 10 | V13: 15 | W13: 15 | X13: 10 | Z13: 10 | AA13: 10 | AB13: 10 | AC13: 10 | AD13: 10 | AE13: 10 | AG13: 10 | AJ13: =SUM(E13:AI13) -> 264 | AK13: =COUNT(E13:AI13) -> 25 | AL13: =AJ13-AK13*10 -> 14
A14: 10 | B14: SAVADOGO Harouna | C14: H | D14: Préventionniste | E14: 10 | F14: 14 | G14: 10 | H14: 10 | I14: 10 | J14: 10 | L14: 10 | M14: 10 | N14: 10 | O14: 10 | P14: 10 | Q14: 10 | S14: 10 | T14: 10 | U14: 10 | V14: 13 | W14: 13 | X14: 10 | Z14: 10 | AA14: 10 | AB14: 10 | AC14: 10 | AD14: 10 | AE14: 10 | AG14: 10 | AJ14: =SUM(E14:AI14) -> 260 | AK14: =COUNT(E14:AI14) -> 25 | AL14: =AJ14-AK14*10 -> 10
A15: 11 | B15: KALMOGO Patenema | C15: H | D15: Plombier | AJ15: =SUM(E15:AI15) -> 0 | AK15: =COUNT(E15:AI15) -> 0 | AL15: =AJ15-AK15*10 -> 0
A16: 12 | B16: KANGBEGA Abdoul Lamine | C16: H | D16: Plombier | AJ16: =SUM(E16:AI16) -> 0 | AK16: =COUNT(E16:AI16) -> 0 | AL16: =AJ16-AK16*10 -> 0
A17: 13 | B17: BIHOUN François | C17: H | D17: Menuisier | O17: 10 | P17: 10 | Q17: 10 | R17: 10 | S17: 13 | T17: 12 | U17: 13 | V17: 13 | W17: 13 | X17: 10 | Y17: 10 | Z17: 10 | AA17: 10 | AB17: 10 | AC17: 10 | AD17: 10 | AE17: 10 | AF17: 10 | AG17: 10 | AH17: 10 | AI17: 10 | AJ17: =SUM(E17:AI17) -> 224 | AK17: =COUNT(E17:AI17) -> 21 | AL17: =AJ17-AK17*10 -> 14
A18: 14 | B18: OUEDRAOGO B. Emanuel | C18: H | D18: Menuisier | E18: 10 | F18: 14 | G18: 10 | H18: 10 | I18: 10 | J18: 10 | L18: 10 | M18: 13 | N18: 10 | O18: 10 | P18: 10 | Q18: 10 | R18: 13 | S18: 13 | T18: 12 | U18: 13 | V18: 13 | W18: 13 | X18: 10 | Y18: 10 | Z18: 10 | AA18: 10 | AB18: 10 | AC18: 10 | AD18: 10 | AJ18: =SUM(E18:AI18) -> 274 | AK18: =COUNT(E18:AI18) -> 25 | AL18: =AJ18-AK18*10 -> 24
A19: 15 | B19: PALOGO R. Jonas | C19: H | D19: Menuisier | E19: 10 | F19: 14 | G19: 10 | H19: 10 | I19: 10 | J19: 10 | L19: 10 | M19: 13 | N19: 10 | O19: 10 | AD19: 10 | AE19: 10 | AF19: 10 | AG19: 10 | AH19: 10 | AI19: 10 | AJ19: =SUM(AD19:AI19) -> 60 | AK19: =COUNT(AD19:AI19) -> 6 | AL19: =AJ19-AK19*10 -> 0
A20: 16 | B20: DAMIBA Samuel | C20: H | D20: Menuisier | E20: 10 | F20: 14 | G20: 10 | H20: 10 | I20: 10 | J20: 10 | AJ20: =SUM(E20:AI20) -> 64 | AK20: =COUNT(E20:AI20) -> 6 | AL20: =AJ20-AK20*10 -> 4
A21: 17 | B21: HOUNTE Koffi | C21: H | D21: Menuisier | E21: 10 | F21: 14 | G21: 10 | H21: 10 | I21: 10 | J21: 10 | L21: 10 | M21: 10 | N21: 10 | O21: 10 | P21: 10 | Q21: 10 | S21: 10 | T21: 10 | U21: 5 | V21: 13 | AJ21: =SUM(E21:AI21) -> 162 | AK21: =COUNT(E21:AI21) -> 16 | AL21: =AJ21-AK21*10 -> 2
A22: 18 | B22: SALEMBERE Youssouf | C22: H | D22: Menuisier | AJ22: =SUM(E22:AI22) -> 0 | AK22: =COUNT(E22:AI22) -> 0 | AL22: =AJ22-AK22*10 -> 0
A23: 19 | B23: TIENDREBEOGO N Antoine | C23: H | D23: Menuisier | E23: 10 | F23: 14 | G23: 10 | H23: 10 | I23: 10 | J23: 10 | L23: 10 | M23: 10 | N23: 10 | O23: 10 | AJ23: =SUM(E23:AI23) -> 104 | AK23: =COUNT(E23:AI23) -> 10 | AL23: =AJ23-AK23*10 -> 4
A24: 20 | B24: SORE Narcisse | C24: H | D24: Menuisier | AJ24: =SUM(E24:AI24) -> 0 | AK24: =COUNT(E24:AI24) -> 0 | AL24: =AJ24-AK24*10 -> 0
A25: 21 | B25: SOULI Jean Pierre | C25: H | D25: Menuisier | E25: 10 | F25: 14 | G25: 10 | H25: 10 | I25: 10 | J25: 10 | L25: 10 | M25: 12 | N25: 10 | O25: 10 | P25: 10 | Q25: 13 | R25: 10 | S25: 13 | T25: 12 | U25: 10 | V25: 13 | W25: 13 | X25: 10 | Y25: 10 | Z25: 10 | AJ25: =SUM(E25:AI25) -> 230 | AK25: =COUNT(E25:AI25) -> 21 | AL25: =AJ25-AK25*10 -> 20
A26: 22 | B26: GANGO Moussa | C26: H | D26: Menuisier | AJ26: =SUM(E26:AI26) -> 0 | AK26: =COUNT(E26:AI26) -> 0 | AL26: =AJ26-AK26*10 -> 0
A27: 23 | B27: SORE Abdoul Aziz | D27: Menuisier | AJ27: =SUM(E27:AI27) -> 0 | AK27: =COUNT(E27:AI27) -> 0 | AL27: =AJ27-AK27*10 -> 0
A28: 24 | B28: ILBOUDO Edouard | C28: H | D28: Maçon | E28: 10 | F28: 16 | G28: 10 | H28: 10 | P28: 10 | Q28: 10 | S28: 10 | T28: 12 | U28: 13 | V28: 15 | W28: 15 | X28: 10 | Y28: 10 | Z28: 10 | AA28: 10 | AB28: 10 | AC28: 10 | AD28: 10 | AE28: 10 | AG28: 10 | AH28: 13 | AI28: 10 | AJ28: =SUM(P28:AI28) -> 198 | AK28: =COUNT(P28:AI28) -> 18 | AL28: =AJ28-AK28*10 -> 18
A29: 25 | B29: BELEMSOBGO Boureima | C29: H | D29: Maçon | AJ29: =SUM(E29:AI29) -> 0 | AK29: =COUNT(E29:AI29) -> 0 | AL29: =AJ29-AK29*10 -> 0
A30: 26 | B30: COMBARY Comboamama | C30: H | D30: Maçon | AJ30: =SUM(E30:AI30) -> 0 | AK30: =COUNT(E30:AI30) -> 0 | AL30: =AJ30-AK30*10 -> 0
A31: 27 | B31: SEDOGO Sayouba | C31: H | D31: Maçon | H31: 10 | I31: 10 | J31: 11 | L31: 10 | M31: 10 | N31: 10 | AJ31: =SUM(E31:AI31) -> 61 | AK31: =COUNT(E31:AI31) -> 6 | AL31: =AJ31-AK31*10 -> 1
A32: 28 | B32: TAPSOBA B Charles | C32: H | D32: Maçon | AJ32: =SUM(E32:AI32) -> 0 | AK32: =COUNT(E32:AI32) -> 0 | AL32: =AJ32-AK32*10 -> 0
A33: 29 | B33: KOALA Z. Raymond | C33: H | D33: Maçon | E33: 10 | F33: 16 | G33: 10 | H33: 10 | P33: 10 | Q33: 10 | S33: 13 | T33: 12 | U33: 13 | V33: 15 | W33: 15 | X33: 10 | Y33: 10 | Z33: 10 | AA33: 10 | AB33: 10 | AC33: 10 | AD33: 10 | AE33: 10 | AG33: 10 | AH33: 13 | AI33: 10 | AJ33: =SUM(P33:AI33) -> 201 | AK33: =COUNT(P33:AI33) -> 18 | AL33: =AJ33-AK33*10 -> 21
A34: 30 | B34: ASSY K. Patrick | C34: H | D34: Maçon | AJ34: =SUM(E34:AI34) -> 0 | AK34: =COUNT(E34:AI34) -> 0 | AL34: =AJ34-AK34*10 -> 0
A35: 31 | B35: ILBOUDO R. Grégoire | C35: H | D35: Maçon | AJ35: =SUM(E35:AI35) -> 0 | AK35: =COUNT(E35:AI35) -> 0 | AL35: =AJ35-AK35*10 -> 0
A36: 7 | B36: TRAORE Armand Laurent | C36: H | D36: Maçon | AJ36: =SUM(E36:AI36) -> 0 | AK36: =COUNT(E36:AI36) -> 0 | AL36: =AJ36-AK36*10 -> 0
A37: 33 | B37: OUEDRAOGO Mahamoudou | C37: H | D37: Chauffeur | E37: 11 | F37: 16 | G37: 12 | H37: 11 | I37: 11 | J37: 11 | K37: 11 | L37: 11 | M37: 11 | N37: 11 | O37: 13 | P37: 12 | Q37: 11 | R37: 11 | S37: 11 | T37: 11 | U37: 10 | V37: 13 | W37: 13 | X37: 11 | Y37: 11 | Z37: 11 | AA37: 10 | AB37: 10 | AC37: 10 | AD37: 10 | AJ37: =SUM(E37:AI37) -> 294 | AK37: =COUNT(E37:AI37) -> 26 | AL37: =AJ37-AK37*10 -> 34
A38: 34 | B38: TONDE W. Dieudonné | C38: H | D38: Chauffeur | O38: 10 | P38: 10 | Q38: 10 | R38: 11 | S38: 11 | T38: 11 | U38: 10 | V38: 13 | W38: 13 | X38: 10 | Y38: 10 | Z38: 11 | AA38: 10 | AB38: 10 | AC38: 10 | AD38: 10 | AE38: 10 | AF38: 10 | AG38: 11 | AH38: 10 | AI38: 10 | AJ38: =SUM(E38:AI38) -> 221 | AK38: =COUNT(E38:AI38) -> 21 | AL38: =AJ38-AK38*10 -> 11
A39: 35 | B39: TAPSOBA Halidou | C39: H | D39: Chauffeur | E39: 10 | F39: 14 | G39: 10 | H39: 11 | I39: 10 | J39: 10 | L39: 10 | M39: 10 | N39: 10 | O39: 10 | AD39: 10 | AE39: 11 | AF39: 10 | AG39: 11 | AH39: 11 | AI39: 11 | AJ39: =SUM(AD39:AI39) -> 64 | AK39: =COUNT(AD39:AI39) -> 6 | AL39: =AJ39-AK39*10 -> 4
A40: 36 | B40: ZONGO Romaric | C40: H | D40: Mecanicien | E40: 10 | F40: 14 | G40: 10 | H40: 10 | I40: 10 | J40: 10 | L40: 10 | M40: 13 | N40: 13 | O40: 13 | P40: 13 | Q40: 12 | R40: 13 | S40: 13 | T40: 10 | U40: 10 | V40: 13 | W40: 10 | AJ40: =SUM(E40:AI40) -> 207 | AK40: =COUNT(E40:AI40) -> 18 | AL40: =AJ40-AK40*10 -> 27
A41: 37 | B41: SAWADOGO Issouf Ledia | C41: H | D41: Electricien | AA41: 10 | AB41: 10 | AC41: 10 | AD41: 10 | AE41: 10 | AG41: 10 | AI41: 10 | AJ41: =SUM(AA41:AI41) -> 70 | AK41: =COUNT(E41:AI41) -> 7 | AL41: =AJ41-AK41*10 -> 0
A42: 38 | B42: DEMBELE Adama | C42: H | D42: Aide Electricien | AJ42: =SUM(AA42:AI42) -> 0 | AK42: =COUNT(E42:AI42) -> 0 | AL42: =AJ42-AK42*10 -> 0
A43: 39 | B43: OUEDRAOGO Mahamadi | C43: H | D43: Aide Electricien | L43: 10 | M43: 10 | N43: 10 | O43: 10 | P43: 10 | Q43: 10 | S43: 10 | T43: 10 | U43: 10 | V43: 13 | W43: 13 | X43: 10 | Z43: 10 | AA43: 10 | AB43: 10 | AC43: 10 | AD43: 10 | AE43: 10 | AG43: 10 | AH43: 10 | AI43: 10 | AJ43: =SUM(E43:AI43) -> 216 | AK43: =COUNT(E43:AI43) -> 21 | AL43: =AJ43-AK43*10 -> 6
A44: 40 | B44: KOALAGA W. Dimitri | C44: H | D44: Soudeur | AJ44: =SUM(E44:AI44) -> 0 | AK44: =COUNT(E44:AI44) -> 0 | AL44: =AJ44-AK44*10 -> 0
A45: 41 | B45: NACOULMA Rasmane | C45: H | D45: Soudeur | H45: 10 | I45: 10 | J45: 10 | L45: 10 | M45: 10 | N45: 13 | O45: 13 | P45: 13 | Q45: 13 | R45: 13 | S45: 13 | T45: 10 | U45: 10 | V45: 10 | W45: 10 | X45: 10 | Y45: 10 | Z45: 13 | AA45: 10 | AB45: 10 | AC45: 10 | AD45: 10 | AE45: 10 | AG45: 10 | AH45: 10 | AI45: 10 | AJ45: =SUM(E45:AI45) -> 281 | AK45: =COUNT(E45:AI45) -> 26 | AL45: =AJ45-AK45*10 -> 21
A46: 42 | B46: OUEDRAOGO Inoussa | C46: H | D46: Soudeur | L46: 10 | M46: 10 | N46: 13 | O46: 13 | P46: 13 | Q46: 13 | R46: 13 | S46: 13 | T46: 10 | U46: 10 | V46: 13 | W46: 13 | X46: 10 | Y46: 10 | Z46: 13 | AA46: 10 | AB46: 10 | AC46: 10 | AD46: 10 | AE46: 10 | AG46: 10 | AH46: 10 | AI46: 10 | AJ46: =SUM(E46:AI46) -> 257 | AK46: =COUNT(E46:AI46) -> 23 | AL46: =AJ46-AK46*10 -> 27
A47: 43 | B47: OUIYA Relwende | C47: H | D47: Soudeur | E47: 10 | F47: 14 | G47: 10 | H47: 10 | AJ47: =SUM(E47:AI47) -> 44 | AK47: =COUNT(E47:AI47) -> 4 | AL47: =AJ47-AK47*10 -> 4
A48: 44 | B48: COMPAORE Hamza | C48: H | D48: Soudeur | E48: 10 | F48: 10 | G48: 10 | H48: 10 | I48: 10 | J48: 10 | L48: 10 | M48: 10 | N48: 11 | O48: 13 | P48: 13 | Q48: 13 | R48: 13 | S48: 13 | T48: 10 | U48: 10 | V48: 13 | W48: 10 | AJ48: =SUM(E48:AI48) -> 199 | AK48: =COUNT(E48:AI48) -> 18 | AL48: =AJ48-AK48*10 -> 19
A49: 45 | B49: GONDE Ilassa | C49: H | D49: Soudeur | L49: 10 | M49: 10 | N49: 13 | O49: 13 | P49: 13 | Q49: 13 | R49: 13 | S49: 13 | T49: 10 | U49: 10 | V49: 10 | W49: 10 | X49: 10 | Y49: 10 | Z49: 13 | AA49: 10 | AB49: 10 | AC49: 10 | AD49: 10 | AE49: 10 | AF49: 10 | AG49: 10 | AH49: 10 | AI49: 10 | AJ49: =SUM(E49:AI49) -> 261 | AK49: =COUNT(E49:AI49) -> 24 | AL49: =AJ49-AK49*10 -> 21
A50: 46 | B50: BARRY Hamadou | C50: H | D50: Aide Soudeur | E50: 10 | F50: 10 | G50: 10 | H50: 10 | I50: 10 | J50: 10 | L50: 10 | M50: 10 | O50: 13 | P50: 13 | Q50: 13 | R50: 13 | S50: 13 | T50: 10 | U50: 10 | V50: 13 | W50: 13 | AG50: 10 | AH50: 10 | AI50: 10 | AJ50: =SUM(E50:AI50) -> 221 | AK50: =COUNT(AG50:AI50) -> 3 | AL50: =AJ50-AK50*10 -> 191
A51: 47 | B51: ALI Amadou | C51: H | D51: Aide Soudeur | O51: 10 | P51: 10 | Q51: 12 | R51: 13 | S51: 13 | T51: 10 | U51: 10 | V51: 13 | W51: 13 | X51: 10 | Y51: 10 | Z51: 10 | AA51: 10 | AB51: 10 | AC51: 10 | AD51: 10 | AE51: 10 | AG51: 10 | AH51: 10 | AI51: 10 | AJ51: =SUM(E51:AI51) -> 214 | AK51: =COUNT(E51:AI51) -> 20 | AL51: =AJ51-AK51*10 -> 14
A52: 48 | B52: DJIGUEMDE Adama | C52: H | D52: Peintre | AJ52: =SUM(E52:AI52) -> 0 | AK52: =COUNT(E52:AI52) -> 0 | AL52: =AJ52-AK52*10 -> 0
A53: 49 | B53: SAWADOGO Souhoudou | C53: H | D53: Peintre | J53: 10 | L53: 10 | M53: 10 | N53: 10 | O53: 10 | P53: 10 | Q53: 10 | S53: 10 | T53: 10 | U53: 10 | V53: 13 | W53: 13 | X53: 10 | Z53: 10 | AA53: 10 | AB53: 10 | AC53: 10 | AD53: 10 | AE53: 10 | AG53: 10 | AH53: 10 | AI53: 10 | AJ53: =SUM(E53:AI53) -> 226 | AK53: =COUNT(E53:AI53) -> 22 | AL53: =AJ53-AK53*10 -> 6
A54: 50 | B54: ROAMBA G Issaka | C54: H | D54: Peintre | AJ54: =SUM(E54:AI54) -> 0 | AK54: =COUNT(E54:AI54) -> 0 | AL54: =AJ54-AK54*10 -> 0
A55: 51 | B55: AZALEKO Koffi | C55: H | D55: Peintre | AJ55: =SUM(E55:AI55) -> 0 | AK55: =COUNT(E55:AI55) -> 0 | AL55: =AJ55-AK55*10 -> 0
A56: 52 | B56: SADOU Abdoul Aziz | C56: H | D56: Aide Peintre | E56: 10 | F56: 14 | G56: 10 | H56: 10 | I56: 10 | J56: 10 | L56: 10 | M56: 10 | N56: 10 | O56: 10 | P56: 10 | Q56: 10 | S56: 10 | T56: 10 | U56: 10 | V56: 13 | W56: 13 | X56: 10 | Z56: 10 | AA56: 10 | AB56: 10 | AC56: 10 | AD56: 10 | AJ56: =SUM(E56:AI56) -> 240 | AK56: =COUNT(E56:AI56) -> 23 | AL56: =AJ56-AK56*10 -> 10
A57: 53 | B57: OUEDRAOGO Soumaila | C57: H | D57: Aide Peintre | AJ57: =SUM(E57:AI57) -> 0 | AK57: =COUNT(E57:AI57) -> 0 | AL57: =AJ57-AK57*10 -> 0
A58: 54 | B58: OUEDRAOGO Aristide | C58: H | D58: Aide Peintre | AJ58: =SUM(E58:AI58) -> 0 | AK58: =COUNT(E58:AI58) -> 0 | AL58: =AJ58-AK58*10 -> 0
A59: 55 | B59: NIKIEMA Samuel | C59: H | D59: Ferrailleur | AJ59: =SUM(E59:AI59) -> 0 | AK59: =COUNT(E59:AI59) -> 0 | AL59: =AJ59-AK59*10 -> 0
A60: 56 | B60: CONGO Raphael | C60: H | D60: Ferrailleur | AJ60: =SUM(E60:AI60) -> 0 | AK60: =COUNT(E60:AI60) -> 0 | AL60: =AJ60-AK60*10 -> 0
A61: 57 | B61: KABRE Ismael Paul | C61: H | D61: Ferrailleur | AJ61: =SUM(E61:AI61) -> 0 | AK61: =COUNT(E61:AI61) -> 0 | AL61: =AJ61-AK61*10 -> 0
A62: 58 | B62: NIKIEMA K Bernard | C62: H | D62: Ferrailleur | AJ62: =SUM(E62:AI62) -> 0 | AK62: =COUNT(E62:AI62) -> 0 | AL62: =AJ62-AK62*10 -> 0
A63: 59 | B63: SOMDA kpenibar | C63: H | D63: Ferrailleur | L63: 10 | M63: 13 | N63: 10 | O63: 10 | P63: 10 | Q63: 10 | R63: 13 | S63: 13 | T63: 12 | U63: 12 | V63: 13 | W63: 13 | X63: 10 | Y63: 10 | Z63: 10 | AA63: 10 | AB63: 10 | AC63: 10 | AD63: 10 | AE63: 10 | AF63: 10 | AG63: 10 | AH63: 10 | AI63: 10 | AJ63: =SUM(E63:AI63) -> 259 | AK63: =COUNT(E63:AI63) -> 24 | AL63: =AJ63-AK63*10 -> 19
A64: 60 | B64: OUEDRAOGO Z. Andre | C64: H | D64: Ferrailleur | AJ64: =SUM(E64:AI64) -> 0 | AK64: =COUNT(E64:AI64) -> 0 | AL64: =AJ64-AK64*10 -> 0
A65: 61 | B65: OUEDRAOGO Issa | C65: H | D65: Ferrailleur | E65: 10 | F65: 14 | G65: 10 | H65: 10 | I65: 10 | J65: 10 | K65: 10 | L65: 11 | M65: 13 | N65: 10 | O65: 10 | P65: 10 | Q65: 10 | R65: 13 | S65: 13 | T65: 12 | U65: 10 | V65: 13 | W65: 10 | AJ65: =SUM(E65:AI65) -> 209 | AK65: =COUNT(E65:AI65) -> 19 | AL65: =AJ65-AK65*10 -> 19
A66: 62 | B66: SIMPORE Jules | C66: H | D66: Ferrailleur | E66: 10 | F66: 14 | G66: 10 | H66: 10 | I66: 10 | J66: 10 | K66: 10 | L66: 11 | M66: 13 | N66: 10 | O66: 10 | AJ66: =SUM(E66:AI66) -> 118 | AK66: =COUNT(E66:AI66) -> 11 | AL66: =AJ66-AK66*10 -> 8
A67: 63 | B67: WOANGO Rasmane | C67: H | D67: Ferrailleur | P67: 10 | Q67: 10 | R67: 13 | S67: 13 | T67: 12 | U67: 12 | V67: 13 | W67: 13 | X67: 10 | Y67: 10 | Z67: 10 | AA67: 10 | AB67: 10 | AC67: 10 | AD67: 10 | AE67: 10 | AF67: 10 | AG67: 10 | AH67: 10 | AI67: 10 | AJ67: =SUM(E67:AI67) -> 216 | AK67: =COUNT(E67:AI67) -> 20 | AL67: =AJ67-AK67*10 -> 16
A68: 64 | B68: CAMARA Y Julien | C68: H | D68: Aide Géneral | E68: 10 | F68: 14 | G68: 10 | H68: 10 | I68: 10 | J68: 12 | K68: 10 | L68: 10 | AA68: 10 | AB68: 10 | AC68: 10 | AD68: 10 | AE68: 10 | AG68: 10 | AH68: 12 | AI68: 10 | AJ68: =SUM(AA68:AI68) -> 82 | AK68: =COUNT(AA68:AI68) -> 8 | AL68: =AJ68-AK68*10 -> 2
A69: 65 | B69: HAMADOU Ag Rissa | C69: H | D69: Aide Géneral | E69: 10 | F69: 14 | G69: 10 | H69: 10 | I69: 10 | J69: 10 | L69: 10 | S69: 10 | AJ69: =SUM(E69:AI69) -> 84 | AK69: =COUNT(E69:AI69) -> 8 | AL69: =AJ69-AK69*10 -> 4
A70: 66 | B70: SANON Seydou | C70: H | D70: Aide Géneral | AJ70: =SUM(E70:AI70) -> 0 | AK70: =COUNT(E70:AI70) -> 0 | AL70: =AJ70-AK70*10 -> 0
A71: 67 | B71: OUEDRAOGO Cheick Oumar | C71: H | D71: Aide Géneral | L71: 10 | M71: 12 | N71: 13 | O71: 13 | P71: 13 | Q71: 13 | R71: 13 | S71: 13 | T71: 10 | U71: 10 | V71: 13 | W71: 13 | X71: 10 | Y71: 10 | Z71: 10 | AA71: 10 | AB71: 10 | AC71: 10 | AD71: 10 | AE71: 10 | AF71: 10 | AG71: 10 | AH71: 10 | AI71: 10 | AJ71: =SUM(E71:AI71) -> 266 | AK71: =COUNT(E71:AI71) -> 24 | AL71: =AJ71-AK71*10 -> 26
A72: 68 | B72: SISSAOGO Boukare | C72: H | D72: Aide Géneral | E72: 10 | F72: 14 | G72: 10 | H72: 10 | I72: 10 | J72: 12 | K72: 10 | L72: 12 | M72: 10 | N72: 10 | O72: 10 | AJ72: =SUM(E72:AI72) -> 118 | AK72: =COUNT(E72:AI72) -> 11 | AL72: =AJ72-AK72*10 -> 8
A73: 69 | B73: SORY Ousmane | C73: H | D73: Aide Géneral | E73: 10 | F73: 14 | G73: 10 | H73: 10 | I73: 10 | J73: 10 | L73: 10 | M73: 10 | N73: 10 | O73: 10 | P73: 10 | Q73: 10 | R73: 13 | S73: 10 | T73: 10 | U73: 10 | V73: 13 | W73: 13 | X73: 10 | Y73: 10 | Z73: 10 | AA73: 10 | AB73: 10 | AC73: 10 | AD73: 10 | AE73: 10 | AF73: 10 | AG73: 10 | AH73: 10 | AI73: 10 | AJ73: =SUM(E73:AI73) -> 313 | AK73: =COUNT(E73:AI73) -> 30 | AL73: =AJ73-AK73*10 -> 13
A74: 70 | B74: OUEDRAOGO Moussa | C74: H | D74: Aide Géneral | O74: 10 | P74: 13 | Q74: 13 | R74: 13 | S74: 13 | T74: 10 | U74: 10 | V74: 13 | W74: 13 | X74: 10 | Z74: 10 | AA74: 10 | AB74: 10 | AC74: 10 | AD74: 10 | AE74: 10 | AG74: 10 | AH74: 10 | AI74: 10 | AJ74: =SUM(E74:AI74) -> 208 | AK74: =COUNT(E74:AI74) -> 19 | AL74: =AJ74-AK74*10 -> 18
A75: 71 | B75: YANKINI Ibrahim Latif | C75: H | D75: Aide Géneral | H75: 10 | I75: 10 | J75: 10 | L75: 10 | M75: 10 | N75: 10 | O75: 10 | P75: 10 | Q75: 10 | S75: 10 | T75: 10 | U75: 10 | V75: 13 | W75: 13 | X75: 10 | Z75: 10 | AA75: 10 | AB75: 10 | AC75: 10 | AD75: 10 | AE75: 10 | AG75: 10 | AH75: 10 | AI75: 10 | AJ75: =SUM(E75:AI75) -> 246 | AK75: =COUNT(E75:AI75) -> 24 | AL75: =AJ75-AK75*10 -> 6
A76: 72 | B76: OUEDRAOGO Rasmane | C76: H | D76: Bétonnier | E76: 10 | F76: 14 | G76: 10 | H76: 10 | I76: 10 | J76: 10 | K76: 10 | L76: 11 | M76: 13 | N76: 10 | O76: 10 | P76: 10 | Q76: 10 | R76: 13 | S76: 13 | T76: 12 | U76: 10 | V76: 13 | W76: 10 | AJ76: =SUM(E76:AI76) -> 209 | AK76: =COUNT(E76:AI76) -> 19 | AL76: =AJ76-AK76*10 -> 19
A77: 73 | B77: SAWADOGO Kouka | C77: H | D77: Bétonnier | E77: 10 | F77: 14 | G77: 10 | H77: 10 | I77: 10 | J77: 10 | L77: 10 | M77: 10 | N77: 10 | O77: 10 | P77: 10 | Q77: 10 | S77: 10 | T77: 10 | U77: 11 | V77: 13 | W77: 13 | X77: 10 | Z77: 10 | AA77: 10 | AB77: 10 | AC77: 10 | AD77: 10 | AE77: 10 | AG77: 10 | AJ77: =SUM(E77:AI77) -> 261 | AK77: =COUNT(E77:AI77) -> 25 | AL77: =AJ77-AK77*10 -> 11
A78: 74 | B78: NIKIEMA Madi | C78: H | D78: Bétonnier | L78: 10 | M78: 13 | N78: 13 | O78: 13 | P78: 13 | Q78: 13 | R78: 13 | S78: 13 | T78: 12 | U78: 12 | V78: 13 | W78: 13 | X78: 10 | Y78: 10 | Z78: 10 | AA78: 10 | AB78: 10 | AC78: 10 | AD78: 10 | AE78: 10 | AG78: 10 | AH78: 12 | AI78: 11 | AJ78: =SUM(L78:AI78) -> 264 | AK78: =COUNT(L78:AI78) -> 23 | AL78: =AJ78-AK78*10 -> 34
A79: 75 | B79: KABORE Rasmane Maxime | C79: H | D79: Carreleur | AJ79: =SUM(E79:AI79) -> 0 | AK79: =COUNT(E79:AI79) -> 0 | AL79: =AJ79-AK79*10 -> 0
A80: 76 | B80: SAM Clément | C80: H | D80: Carreleur | AJ80: =SUM(E80:AI80) -> 0 | AK80: =COUNT(E80:AI80) -> 0 | AL80: =AJ80-AK80*10 -> 0
A81: 77 | B81: KABRE R. Michel | C81: H | D81: Carreleur | AJ81: =SUM(E81:AI81) -> 0 | AK81: =COUNT(E81:AI81) -> 0 | AL81: =AJ81-AK81*10 -> 0
A82: 78 | B82: ZONGO Philippe | C82: H | D82: Carreleur | AJ82: =SUM(E82:AI82) -> 0 | AK82: =COUNT(E82:AI82) -> 0 | AL82: =AJ82-AK82*10 -> 0
A83: 79 | B83: ZONGO Dieudonné | C83: H | D83: Carreleur | AJ83: =SUM(E83:AI83) -> 0 | AK83: =COUNT(E83:AI83) -> 0 | AL83: =AJ83-AK83*10 -> 0
A84: 80 | B84: YANOGO Soumaila | C84: H | D84: Carreleur | AJ84: =SUM(E84:AI84) -> 0 | AK84: =COUNT(E84:AI84) -> 0 | AL84: =AJ84-AK84*10 -> 0
A85: 81 | B85: ZONGO Ousmane | C85: H | D85: Carreleur | AJ85: =SUM(E85:AI85) -> 0 | AK85: =COUNT(E85:AI85) -> 0 | AL85: =AJ85-AK85*10 -> 0
A86: 82 | B86: Birba Pouitibzanga | C86: H | D86: Carreleur | AJ86: =SUM(E86:AI86) -> 0 | AK86: =COUNT(E86:AI86) -> 0 | AL86: =AJ86-AK86*10 -> 0
AJ87: =SUM(E87:AI87) -> 0 | AK87: =COUNT(E87:AI87) -> 0 | AL87: =AJ87-AK87*10 -> 0
B88: LEGENDES | C88: CUMUL D'HEURES/JOUR | E88: =SUM(E6:E87) -> 293 | F88: =SUM(F6:F87) -> 405 | G88: =SUM(G6:G87) -> 293 | H88: =SUM(H6:H87) -> 323 | I88: =SUM(I6:I87) -> 292 | J88: =SUM(J6:J87) -> 310 | K88: =SUM(K6:K87) -> 82 | L88: =SUM(L6:L87) -> 357 | ... P88: =SUM(P6:P87) -> 363 | Q88: =SUM(Q5:Q87) -> 377 | R88: =SUM(R5:R87) -> 285 | S88: =SUM(S6:S87) -> 420 | T88: =SUM(T6:T87) -> 388 | U88: =SUM(U6:U87) -> 381 | V88: =SUM(V6:V87) -> 465 | W88: =SUM(W6:W87) -> 440 | X88: =SUM(X6:X87) -> 303 | Y88: =SUM(Y6:Y87) -> 213 | Z88: =SUM(Z6:Z87) -> 313 | ... AI88: =SUM(AI6:AI87) -> 264 | AL88: =SUM(AL5:AL87) -> 887
C89: NOMBRE DE PRESENTS | E89: =COUNTA(E5:E87) -> 30 | F89: =COUNTA(F5:F87) -> 30 | G89: =COUNTA(G5:G87) -> 30 | H89: =COUNTA(H5:H87) -> 33 | I89: =COUNTA(I5:I87) -> 30 | J89: =COUNTA(J5:J87) -> 31 | K89: =COUNTA(K5:K87) -> 9 | L89: =COUNTA(L5:L87) -> 36 | ... AI89: =COUNTA(AI5:AI87) -> 26
C91: CULMUL D'HEURE/MOIS | E91: =SUM(E88:AI88) -> 9850
D93: Arrivée
D94: Depart pour repos
D95: SanctionS diverses

Sheet Août 2019
E3: Horaires de Travail CMEF/ESSAKANE
A4: Item | B4: Identité | C4: H/F | D4: Fonction | E4: 1 JEU | F4: 2 VEN | G4: 3 SAM | H4: 4 DIM | I4: 5 LUN | J4: 6 MARD | K4: 7 MER | L4: 8 JEU | M4: 9 VEN | N4: 10 SAM | O4: 11 DIM | P4: 12 LUN | Q4: 13 MARD | R4: 14 MER | S4: 15 JEU | T4: 16 VEN | U4: 17 SAM | V4: 18 DIM | W4: 19 LUN | X4: 20 MARD | Y4: 21 MER | Z4: 22 JEU | AA4: 23 VEN | AB4: 24 SAM | AC4: 25 DIM | AD4: 26 LUN | AE4: 27 MARD | AF4: 28 MER | AG4: 29 JEU | AH4: 30 SAM | AI4: 31 DIM | AJ4: Total heures/mois | AK4: Nombre de jour de travail/mois | AL4: Nombres heures supplémentaires/mois
A5: 1 | B5: ROUMAR Boubacar | C5: H | D5: Conducteur des travaux | L5: 11 | M5: 11 | N5: 11 | O5: 11 | P5: 11 | Q5: 11 | R5: 11 | S5: 11 | T5: 11 | U5: 11 | V5: 11 | W5: 11 | X5: 11 | Y5: 11 | AJ5: =E5+F5+G5+H5+I5+J5+K5+L5+M5+N5+O5+P5+Q5+R5+S5+T5+U5+V5+W5+X5+Y5+Z5+AA5+AB5+AC5+AD5+AE5+AF5+AH5+AI5 -> 154 | AK5: =COUNT(E5:AI5) -> 14 | AL5: =AJ5-AK5*10 -> 14
A6: 2 | B6: ZOUGOURI Daouda | C6: H | D6: Superviseur Chantiers | E6: 11 | F6: 11 | G6: 11 | I6: 11 | J6: 11 | K6: 11 | L6: 10 | S6: 10 | T6: 11 | U6: 11 | V6: 11 | W6: 11 | X6: 11 | Y6: 11 | Z6: 11 | AA6: 11 | AB6: 10 | AC6: 11 | AD6: 11 | AJ6: =S6+T6+U6+V6+W6+X6+Y6+Z6+AA6+AB6+AC6+AD6+AE6+AF6+AH6+AI6 -> 130 | AK6: =COUNT(S6:AI6) -> 12 | AL6: =AJ6-AK6*10 -> 10
A7: 3 | B7: YAGO Abdoul Nassion | C7: H | D7: Planificateur | E7: 11 | F7: 10 | R7: 10 | S7: 11 | T7: 11 | U7: 11 | V7: 11 | W7: 11 | X7: 11 | Y7: 11 | AJ7: =R7+S7+T7+U7+V7+W7+X7+Y7+Z7+AA7+AB7+AC7+AD7+AE7+AF7+AH7+AI7 -> 87 | AK7: =COUNT(R7:AI7) -> 8 | AL7: =AJ7-AK7*10 -> 7
A8: 4 | B8: NANA Armel | C8: H | D8: Contrôle Qualité | L8: 10 | M8: 10 | N8: 12 | O8: 10 | P8: 10 | Q8: 10 | R8: 10 | S8: 10 | T8: 10 | U8: 10 | W8: 10 | X8: 10 | Y8: 10 | Z8: 10 | AA8: 11 | AB8: 10 | AC8: 10 | AD8: 12 | AJ8: =E8+F8+G8+H8+I8+J8+K8+L8+M8+N8+O8+P8+Q8+R8+S8+T8+U8+V8+W8+X8+Y8+Z8+AA8+AB8+AC8+AD8+AE8+AF8+AH8+AI8 -> 185 | AK8: =COUNT(E8:AI8) -> 18 | AL8: =AJ8-AK8*10 -> 5
A9: 5 | B9: KONE Aziz Moussa Francis | C9: H | D9: Chef Electricien | E9: 10 | F9: 10 | G9: 10 | I9: 10 | J9: 10 | K9: 10 | L9: 10 | M9: 10 | O9: 10 | P9: 10 | Q9: 10 | R9: 10 | S9: 10 | T9: 10 | U9: 10 | V9: 10 | W9: 10 | X9: 10 | Y9: 10 | Z9: 10 | AA9: 10 | AB9: 10 | AC9: 10 | AD9: 11 | AJ9: =E9+F9+G9+H9+I9+J9+K9+L9+M9+N9+O9+P9+Q9+R9+S9+T9+U9+V9+W9+X9+Y9+Z9+AA9+AB9+AC9+AD9+AE9+AF9+AH9+AI9 -> 241 | AK9: =COUNT(E9:AI9)+'Juillet 2019'!AK9 -> 38 | AL9: =AJ9-AK9*10 -> -139
A10: 6 | B10: SAMPEBRE Sandaogo | C10: H | D10: Chef Ferrailleur | E10: 10 | F10: 10 | G10: 10 | I10: 10 | J10: 10 | K10: 10 | L10: 10 | R10: 10 | S10: 10 | T10: 10 | U10: 10 | V10: 10 | W10: 10 | X10: 10 | Y10: 10 | Z10: 10 | AA10: 11 | AB10: 10 | AC10: 10 | AD10: 10 | AJ10: =R10+S10+T10+U10+V10+W10+X10+Y10+Z10+AA10+AB10+AC10+AD10+AE10+AF10+AG10+AH10+AI10 -> 131 | AK10: =COUNT(R10:AI10) -> 13 | AL10: =AJ10-AK10*10 -> 1
A11: 7 | B11: BOUGMA Noaga | C11: H | D11: Chef Plombier | AJ11: =E11+F11+G11+H11+I11+J11+K11+L11+M11+N11+O11+P11+Q11+R11+S11+T11+U11+V11+W11+X11+Y11+Z11+AA11+AB11+AC11+AD11+AE11+AF11+AH11+AI11 -> 0 | AK11: =COUNT(E11:AI11) -> 0 | AL11: =AJ11-AK11*10 -> 0
A12: 8 | B12: NANA MAHA | C12: H | D12: Chef Soudeur | AA12: 10 | AB12: 10 | AC12: 12 | AD12: 12 | AJ12: =E12+F12+G12+H12+I12+J12+K12+L12+M12+N12+O12+P12+Q12+R12+S12+T12+U12+V12+W12+X12+Y12+Z12+AA12+AB12+AC12+AD12+AE12+AF12+AH12+AI12 -> 44 | AK12: =COUNT(E12:AI12) -> 4 | AL12: =IF(SUM(E12:AI12)>10,SUM(E12:AI12)-10,"") -> 34
A13: 9 | B13: NIKIEMA Benjamin | C13: H | D13: Chef Menuisier | AJ13: =E13+F13+G13+H13+I13+J13+K13+L13+M13+N13+O13+P13+Q13+R13+S13+T13+U13+V13+W13+X13+Y13+Z13+AA13+AB13+AC13+AD13+AE13+AF13+AH13+AI13 -> 0 | AK13: =COUNT(E13:AI13) -> 0 | AL13: =AJ13-AK13*10 -> 0
A14: 10 | B14: ILBOUDO Jean-Pierre | C14: H | D14: Chef Maçon | W14: 10 | X14: 10 | Y14: 10 | Z14: 10 | AA14: 11 | AB14: 10 | AC14: 10 | AD14: 10 | AJ14: =E14+F14+G14+H14+I14+J14+K14+L14+M14+N14+O14+P14+Q14+R14+S14+T14+U14+V14+W14+X14+Y14+Z14+AA14+AB14+AC14+AD14+AE14+AF14+AH14+AI14 -> 81 | AK14: =COUNT(E14:AI14) -> 8 | AL14: =AJ14-AK14*10 -> 1
A15: 11 | B15: SAVADOGO Harouna | C15: H | D15: Préventionniste | Y15: 10 | Z15: 10 | AA15: 11 | AB15: 10 | AC15: 10 | AD15: 10 | AJ15: =E15+F15+G15+H15+I15+J15+K15+L15+M15+N15+O15+P15+Q15+R15+S15+T15+U15+V15+W15+X15+Y15+Z15+AA15+AB15+AC15+AD15+AE15+AF15+AH15+AI15 -> 61 | AK15: =COUNT(E15:AI15) -> 6 | AL15: =AJ15-AK15*10 -> 1
A16: 12 | B16: KALMOGO Patenema | C16: H | D16: Plombier | AJ16: =E16+F16+G16+H16+I16+J16+K16+L16+M16+N16+O16+P16+Q16+R16+S16+T16+U16+V16+W16+X16+Y16+Z16+AA16+AB16+AC16+AD16+AE16+AF16+AH16+AI16 -> 0 | AK16: =COUNT(E16:AI16) -> 0 | AL16: =AJ16-AK16*10 -> 0
A17: 13 | B17: KANGBEGA Abdoul Lamine | C17: H | D17: Plombier | AJ17: =E17+F17+G17+H17+I17+J17+K17+L17+M17+N17+O17+P17+Q17+R17+S17+T17+U17+V17+W17+X17+Y17+Z17+AA17+AB17+AC17+AD17+AE17+AF17+AH17+AI17 -> 0 | AK17: =COUNT(E17:AI17) -> 0 | AL17: =AJ17-AK17*10 -> 0
A18: 14 | B18: BIHOUN François | C18: H | D18: Menuisier | E18: 10 | F18: 10 | G18: 10 | I18: 10 | J18: 10 | K18: 10 | L18: 10 | M18: 10 | N18: 10 | O18: 10 | P18: 10 | Q18: 10 | R18: 10 | S18: 10 | T18: 10 | U18: 10 | V18: 10 | W18: 10 | AJ18: =E18+F18+G18+H18+I18+J18+K18+L18+M18+N18+O18+P18+Q18+R18+S18+T18+U18+V18+W18+X18+Y18+Z18+AA18+AB18+AC18+AD18+AE18+AF18+AH18+AI18 -> 180 | AK18: =COUNT(E18:AI18) -> 18 | AL18: =AJ18-AK18*10 -> 0
A19: 15 | B19: OUEDRAOGO B. Emanuel | C19: H | D19: Menuisier | AJ19: =E19+F19+G19+H19+I19+J19+K19+L19+M19+N19+O19+P19+Q19+R19+S19+T19+U19+V19+W19+X19+Y19+Z19+AA19+AB19+AC19+AD19+AE19+AF19+AH19+AI19 -> 0 | AK19: =COUNT(E19:AI19) -> 0 | AL19: =AJ19-AK19*10 -> 0
A20: 16 | B20: PALOGO R. Jonas | C20: H | D20: Menuisier | E20: 10 | F20: 10 | G20: 10 | I20: 10 | J20: 10 | K20: 10 | L20: 10 | M20: 10 | N20: 10 | O20: 10 | P20: 10 | Q20: 10 | R20: 10 | S20: 10 | T20: 10 | U20: 10 | W20: 10 | X20: 10 | Y20: 10 | Z20: 10 | AA20: 11 | AB20: 10 | AC20: 10 | AD20: 10 | AJ20: =E20+F20+G20+H20+I20+J20+K20+L20+M20+N20+O20+P20+Q20+R20+S20+T20+U20+V20+W20+X20+Y20+Z20+AA20+AB20+AC20+AD20+AE20+AF20+AH20+AI20 -> 241 | AK20: =COUNT(E20:AI20)+'Juillet 2019'!AK19 -> 30 | AL20: =AJ20-AK20*10 -> -59
A21: 17 | B21: DAMIBA Samuel | C21: H | D21: Menuisier | AJ21: =E21+F21+G21+H21+I21+J21+K21+L21+M21+N21+O21+P21+Q21+R21+S21+T21+U21+V21+W21+X21+Y21+Z21+AA21+AB21+AC21+AD21+AE21+AF21+AH21+AI21 -> 0 | AK21: =COUNT(E21:AI21) -> 0 | AL21: =AJ21-AK21*10 -> 0
A22: 18 | B22: HOUNTE Koffi | C22: H | D22: Menuisier | AJ22: =E22+F22+G22+H22+I22+J22+K22+L22+M22+N22+O22+P22+Q22+R22+S22+T22+U22+V22+W22+X22+Y22+Z22+AA22+AB22+AC22+AD22+AE22+AF22+AH22+AI22 -> 0 | AK22: =COUNT(E22:AI22) -> 0 | AL22: =AJ22-AK22*10 -> 0
A23: 19 | B23: SALEMBERE Youssouf | C23: H | D23: Menuisier | AJ23: =E23+F23+G23+H23+I23+J23+K23+L23+M23+N23+O23+P23+Q23+R23+S23+T23+U23+V23+W23+X23+Y23+Z23+AA23+AB23+AC23+AD23+AE23+AF23+AH23+AI23 -> 0 | AK23: =COUNT(E23:AI23) -> 0 | AL23: =AJ23-AK23*10 -> 0
A24: 20 | B24: TIENDREBEOGO N Antoine | C24: H | D24: Menuisier | W24: 10 | X24: 10 | Y24: 10 | Z24: 10 | AA24: 11 | AB24: 10 | AC24: 10 | AD24: 10 | AJ24: =E24+F24+G24+H24+I24+J24+K24+L24+M24+N24+O24+P24+Q24+R24+S24+T24+U24+V24+W24+X24+Y24+Z24+AA24+AB24+AC24+AD24+AE24+AF24+AH24+AI24 -> 81 | AK24: =COUNT(E24:AI24) -> 8 | AL24: =AJ24-AK24*10 -> 1
A25: 21 | B25: SORE Narcisse | C25: H | D25: Menuisier | AJ25: =E25+F25+G25+H25+I25+J25+K25+L25+M25+N25+O25+P25+Q25+R25+S25+T25+U25+V25+W25+X25+Y25+Z25+AA25+AB25+AC25+AD25+AE25+AF25+AH25+AI25 -> 0 | AK25: =COUNT(E25:AI25) -> 0 | AL25: =AJ25-AK25*10 -> 0
A26: 22 | B26: SOULI Jean Pierre | C26: H | D26: Menuisier | AJ26: =E26+F26+G26+H26+I26+J26+K26+L26+M26+N26+O26+P26+Q26+R26+S26+T26+U26+V26+W26+X26+Y26+Z26+AA26+AB26+AC26+AD26+AE26+AF26+AH26+AI26 -> 0 | AK26: =COUNT(E26:AI26) -> 0 | AL26: =AJ26-AK26*10 -> 0
A27: 23 | B27: GANGO Moussa | C27: H | D27: Menuisier | AJ27: =E27+F27+G27+H27+I27+J27+K27+L27+M27+N27+O27+P27+Q27+R27+S27+T27+U27+V27+W27+X27+Y27+Z27+AA27+AB27+AC27+AD27+AE27+AF27+AH27+AI27 -> 0 | AK27: =COUNT(E27:AI27) -> 0 | AL27: =AJ27-AK27*10 -> 0
A28: 24 | B28: SORE Abdoul Aziz | C28: H | D28: Menuisier | AJ28: =E28+F28+G28+H28+I28+J28+K28+L28+M28+N28+O28+P28+Q28+R28+S28+T28+U28+V28+W28+X28+Y28+Z28+AA28+AB28+AC28+AD28+AE28+AF28+AH28+AI28 -> 0 | AK28: =COUNT(E28:AI28) -> 0 | AL28: =AJ28-AK28*10 -> 0
A29: 25 | B29: ILBOUDO Edouard | C29: H | D29: Maçon | E29: 10 | F29: 10 | G29: 10 | I29: 10 | J29: 10 | K29: 10 | L29: 10 | M29: 10 | N29: 10 | O29: 10 | P29: 10 | Q29: 10 | R29: 10 | S29: 10 | T29: 10 | U29: 10 | W29: 10 | AJ29: =E29+F29+G29+H29+I29+J29+K29+L29+M29+N29+O29+P29+Q29+R29+S29+T29+U29+V29+W29+X29+Y29+Z29+AA29+AB29+AC29+AD29+AE29+AF29+AH29+AI29 -> 170 | AK29: =COUNT(E29:AI29) -> 17 | AL29: =AJ29-AK29*10 -> 0
A30: 26 | B30: BELEMSOBGO Boureima | C30: H | D30: Maçon | R30: 10 | S30: 10 | T30: 10 | U30: 10 | W30: 10 | X30: 10 | Y30: 10 | Z30: 10 | AA30: 11 | AB30: 10 | AC30: 10 | AD30: 10 | AJ30: =E30+F30+G30+H30+I30+J30+K30+L30+M30+N30+O30+P30+Q30+R30+S30+T30+U30+V30+W30+X30+Y30+Z30+AA30+AB30+AC30+AD30+AE30+AF30+AH30+AI30 -> 121 | AK30: =COUNT(E30:AI30) -> 12 | AL30: =AJ30-AK30*10 -> 1
A31: 27 | B31: COMBARY Comboamama | C31: H | D31: Maçon | AJ31: =E31+F31+G31+H31+I31+J31+K31+L31+M31+N31+O31+P31+Q31+R31+S31+T31+U31+V31+W31+X31+Y31+Z31+AA31+AB31+AC31+AD31+AE31+AF31+AH31+AI31 -> 0 | AK31: =COUNT(E31:AI31) -> 0 | AL31: =AJ31-AK31*10 -> 0
A32: 28 | B32: SEDOGO Sayouba | C32: H | D32: Maçon | AJ32: =E32+F32+G32+H32+I32+J32+K32+L32+M32+N32+O32+P32+Q32+R32+S32+T32+U32+V32+W32+X32+Y32+Z32+AA32+AB32+AC32+AD32+AE32+AF32+AH32+AI32 -> 0 | AK32: =COUNT(E32:AI32) -> 0 | AL32: =AJ32-AK32*10 -> 0
A33: 29 | B33: TAPSOBA B Charles | C33: H | D33: Maçon | AJ33: =E33+F33+G33+H33+I33+J33+K33+L33+M33+N33+O33+P33+Q33+R33+S33+T33+U33+V33+W33+X33+Y33+Z33+AA33+AB33+AC33+AD33+AE33+AF33+AH33+AI33 -> 0 | AK33: =COUNT(E33:AI33) -> 0 | AL33: =AJ33-AK33*10 -> 0
A34: 30 | B34: KOALA Z. Raymond | C34: H | D34: Maçon | E34: 10 | F34: 10 | G34: 10 | I34: 10 | J34: 10 | K34: 10 | L34: 10 | M34: 10 | N34: 10 | O34: 10 | P34: 10 | Q34: 10 | R34: 10 | S34: 10 | AJ34: =E34+F34+G34+H34+I34+J34+K34+L34+M34+N34+O34+P34+Q34+R34+S34+T34+U34+V34+W34+X34+Y34+Z34+AA34+AB34+AC34+AD34+AE34+AF34+AH34+AI34 -> 140 | AK34: =COUNT(E34:AI34) -> 14 | AL34: =AJ34-AK34*10 -> 0
A35: 31 | B35: ASSY K. Patrick | C35: H | D35: Maçon | AJ35: =E35+F35+G35+H35+I35+J35+K35+L35+M35+N35+O35+P35+Q35+R35+S35+T35+U35+V35+W35+X35+Y35+Z35+AA35+AB35+AC35+AD35+AE35+AF35+AH35+AI35 -> 0 | AK35: =COUNT(E35:AI35) -> 0 | AL35: =AJ35-AK35*10 -> 0
A36: 32 | B36: ILBOUDO R. Grégoire | C36: H | D36: Maçon | AJ36: =E36+F36+G36+H36+I36+J36+K36+L36+M36+N36+O36+P36+Q36+R36+S36+T36+U36+V36+W36+X36+Y36+Z36+AA36+AB36+AC36+AD36+AE36+AF36+AH36+AI36 -> 0 | AK36: =COUNT(E36:AI36) -> 0 | AL36: =AJ36-AK36*10 -> 0
A37: 33 | B37: TRAORE Armand Laurent | C37: H | D37: Maçon | AJ37: =E37+F37+G37+H37+I37+J37+K37+L37+M37+N37+O37+P37+Q37+R37+S37+T37+U37+V37+W37+X37+Y37+Z37+AA37+AB37+AC37+AD37+AE37+AF37+AH37+AI37 -> 0 | AK37: =COUNT(E37:AI37) -> 0 | AL37: =AJ37-AK37*10 -> 0
A38: 34 | B38: OUEDRAOGO Mahamoudou | C38: H | D38: Chauffeur | R38: 10 | S38: 11 | T38: 10 | U38: 10 | V38: 11 | W38: 10 | X38: 10 | Y38: 11 | Z38: 11 | AA38: 12 | AB38: 11 | AC38: 11 | AD38: 11 | AJ38: =E38+F38+G38+H38+I38+J38+K38+L38+M38+N38+O38+P38+Q38+R38+S38+T38+U38+V38+W38+X38+Y38+Z38+AA38+AB38+AC38+AD38+AE38+AF38+AH38+AI38 -> 139 | AK38: =COUNT(E38:AI38) -> 13 | AL38: =AJ38-AK38*10 -> 9
A39: 35 | B39: TONDE W. Dieudonné | C39: H | D39: Chauffeur | E39: 10 | F39: 10 | G39: 10 | I39: 10 | J39: 10 | K39: 10 | L39: 10 | M39: 10 | N39: 10 | O39: 10 | P39: 10 | Q39: 10 | R39: 10 | S39: 10 | AJ39: =E39+F39+G39+H39+I39+J39+K39+L39+M39+N39+O39+P39+Q39+R39+S39+T39+U39+V39+W39+X39+Y39+Z39+AA39+AB39+AC39+AD39+AE39+AF39+AH39+AI39 -> 140 | AK39: =COUNT(E39:AI39) -> 14 | AL39: =AJ39-AK39*10 -> 0
A40: 36 | B40: TAPSOBA Halidou | C40: H | D40: Chauffeur | E40: 10 | F40: 10 | G40: 10 | I40: 10 | J40: 10 | K40: 10 | L40: 10 | M40: 10 | N40: 10 | O40: 10 | P40: 10 | Q40: 10 | R40: 10 | S40: 10 | T40: 10 | U40: 10 | W40: 10 | X40: 11 | Y40: 11 | Z40: 11 | AA40: 12 | AB40: 11 | AC40: 11 | AD40: 11 | AJ40: =E40+F40+G40+H40+I40+J40+K40+L40+M40+N40+O40+P40+Q40+R40+S40+T40+U40+V40+W40+X40+Y40+Z40+AA40+AB40+AC40+AD40+AE40+AF40+AH40+AI40 -> 248 | AK40: =COUNT(E40:AI40)+'Juillet 2019'!AK39 -> 30 | AL40: =AJ40-AK40*10 -> -52
A41: 37 | B41: ZONGO Romaric | C41: H | D41: Mecanicien | AJ41: =E41+F41+G41+H41+I41+J41+K41+L41+M41+N41+O41+P41+Q41+R41+S41+T41+U41+V41+W41+X41+Y41+Z41+AA41+AB41+AC41+AD41+AE41+AF41+AH41+AI41 -> 0 | AK41: =COUNT(E41:AI41) -> 0 | AL41: =AJ41-AK41*10 -> 0
A42: 38 | B42: SAWADOGO Issouf Ledia | C42: H | D42: Electricien | E42: 10 | F42: 10 | G42: 10 | I42: 10 | K42: 10 | L42: 10 | M42: 10 | N42: 10 | O42: 10 | P42: 10 | AJ42: =SUM(E42:AI42) -> 100 | AK42: =COUNT(E42:AI42) -> 10 | AL42: =AJ42-AK42*10 -> 0
A43: 39 | B43: DEMBELE Adama | C43: H | D43: Aide Electricien | AJ43: =E43+F43+G43+H43+I43+J43+K43+L43+M43+N43+O43+P43+Q43+R43+S43+T43+U43+V43+W43+X43+Y43+Z43+AA43+AB43+AC43+AD43+AE43+AF43+AH43+AI43 -> 0 | AK43: =COUNT(E43:AI43) -> 0 | AL43: =AJ43-AK43*10 -> 0
A44: 40 | B44: OUEDRAOGO Mahamadi | C44: H | D44: Aide Electricien | E44: 10 | F44: 10 | G44: 10 | I44: 10 | J44: 10 | K44: 10 | L44: 10 | AJ44: =E44+F44+G44+H44+I44+J44+K44+L44+M44+N44+O44+P44+Q44+R44+S44+T44+U44+V44+W44+X44+Y44+Z44+AA44+AB44+AC44+AD44+AE44+AF44+AH44+AI44 -> 70 | AK44: =COUNT(E44:AI44) -> 7 | AL44: =AJ44-AK44*10 -> 0
A45: 41 | B45: KOALAGA W. Dimitri | C45: H | D45: Soudeur | AJ45: =E45+F45+G45+H45+I45+J45+K45+L45+M45+N45+O45+P45+Q45+R45+S45+T45+U45+V45+W45+X45+Y45+Z45+AA45+AB45+AC45+AD45+AE45+AF45+AH45+AI45 -> 0 | AK45: =COUNT(E45:AI45) -> 0 | AL45: =AJ45-AK45*10 -> 0
A46: 42 | B46: NACOULMA Rasmane | C46: H | D46: Soudeur | E46: 10 | F46: 10 | G46: 10 | I46: 10 | J46: 10 | K46: 10 | L46: 10 | W46: 10 | X46: 10 | Y46: 10 | Z46: 10 | AA46: 11 | AB46: 10 | AC46: 12 | AJ46: =W46+X46+Y46+Z46+AA46+AB46+AC46+AD46+AE46+AF46+AH46+AI46 -> 73 | AK46: =COUNT(W46:AI46) -> 7 | AL46: =AJ46-AK46*10 -> 3
A47: 43 | B47: OUEDRAOGO Inoussa | C47: H | D47: Soudeur | E47: 10 | F47: 10 | G47: 10 | J47: 10 | K47: 10 | L47: 10 | W47: 10 | X47: 10 | Y47: 10 | Z47: 10 | AA47: 11 | AB47: 10 | AC47: 12 | AJ47: =W47+X47+Y47+Z47+AA47+AB47+AC47+AD47+AE47+AF47+AH47+AI47 -> 73 | AK47: =COUNT(W47:AI47) -> 7 | AL47: =AJ47-AK47*10 -> 3
A48: 44 | B48: OUIYA Relwende | C48: H | D48: Soudeur | P48: 10 | Q48: 10 | R48: 10 | S48: 10 | T48: 10 | U48: 10 | V48: 10 | W48: 10 | X48: 10 | Y48: 10 | Z48: 10 | AA48: 11 | AB48: 10 | AC48: 12 | AJ48: =E48+F48+G48+H48+I48+J48+K48+L48+M48+N48+O48+P48+Q48+R48+S48+T48+U48+V48+W48+X48+Y48+Z48+AA48+AB48+AC48+AD48+AE48+AF48+AH48+AI48 -> 143 | AK48: =COUNT(E48:AI48) -> 14 | AL48: =AJ48-AK48*10 -> 3
A49: 45 | B49: COMPAORE Hamza | C49: H | D49: Soudeur | AJ49: =E49+F49+G49+H49+I49+J49+K49+L49+M49+N49+O49+P49+Q49+R49+S49+T49+U49+V49+W49+X49+Y49+Z49+AA49+AB49+AC49+AD49+AE49+AF49+AH49+AI49 -> 0 | AK49: =COUNT(E49:AI49) -> 0 | AL49: =AJ49-AK49*10 -> 0
A50: 46 | B50: GONDE Ilassa | C50: H | D50: Soudeur | E50: 10 | F50: 10 | G50: 10 | I50: 10 | R50: 10 | S50: 10 | T50: 10 | U50: 10 | V50: 10 | W50: 10 | X50: 10 | Y50: 10 | Z50: 10 | AA50: 11 | AB50: 10 | AC50: 12 | AJ50: =R50+S50+T50+U50+V50+W50+X50+Y50+Z50+AA50+AB50+AC50+AD50+AE50+AF50+AH50+AI50 -> 123 | AK50: =COUNT(R50:AI50) -> 12 | AL50: =AJ50-AK50*10 -> 3
A51: 47 | B51: BARRY Hamadou | C51: H | D51: Soudeur | E51: 10 | F51: 10 | G51: 10 | I51: 10 | J51: 10 | K51: 10 | L51: 10 | M51: 10 | N51: 12 | O51: 10 | R51: 10 | S51: 10 | T51: 10 | U51: 10 | V51: 10 | W51: 10 | X51: 10 | Y51: 10 | Z51: 10 | AA51: 11 | AJ51: =E51+F51+G51+H51+I51+J51+K51+L51+M51+N51+O51+P51+Q51+R51+S51+T51+U51+V51+W51+X51+Y51+Z51+AA51+AB51+AC51+AD51+AE51+AF51+AH51+AI51 -> 203 | AK51: =COUNT(E51:AI51)+'Juillet 2019'!AK50 -> 23 | AL51: =AJ51-AK51*10 -> -27
A52: 48 | B52: ALI Amadou | C52: H | D52: Soudeur | E52: 10 | F52: 10 | G52: 10 | I52: 10 | J52: 10 | K52: 10 | M52: 10 | N52: 12 | P52: 10 | Q52: 5 | R52: 10 | S52: 10 | T52: 10 | U52: 10 | V52: 10 | W52: 10 | X52: 10 | Y52: 10 | Z52: 10 | AA52: 11 | AB52: 10 | AC52: 12 | AJ52: =E52+F52+G52+H52+I52+J52+K52+L52+M52+N52+O52+P52+Q52+R52+S52+T52+U52+V52+W52+X52+Y52+Z52+AA52+AB52+AC52+AD52+AE52+AF52+AH52+AI52 -> 220 | AK52: =COUNT(E52:AI52)+'Juillet 2019'!AL51 -> 36 | AL52: =AJ52-AK52*10 -> -140
A53: 49 | B53: DJIGUEMDE Adama | C53: H | D53: Peintre | AJ53: =E53+F53+G53+H53+I53+J53+K53+L53+M53+N53+O53+P53+Q53+R53+S53+T53+U53+V53+W53+X53+Y53+Z53+AA53+AB53+AC53+AD53+AE53+AF53+AH53+AI53 -> 0 | AK53: =COUNT(E53:AI53) -> 0 | AL53: =AJ53-AK53*10 -> 0
A54: 50 | B54: SAWADOGO Souhoudou | C54: H | D54: Peintre | E54: 10 | F54: 10 | G54: 10 | I54: 10 | J54: 10 | K54: 10 | L54: 10 | AJ54: =E54+F54+G54+H54+I54+J54+K54+L54+M54+N54+O54+P54+Q54+R54+S54+T54+U54+V54+W54+X54+Y54+Z54+AA54+AB54+AC54+AD54+AE54+AF54+AH54+AI54 -> 70 | AK54: =COUNT(E54:AI54) -> 7 | AL54: =AJ54-AK54*10 -> 0
A55: 51 | B55: ROAMBA G Issaka | C55: H | D55: Peintre | AJ55: =E55+F55+G55+H55+I55+J55+K55+L55+M55+N55+O55+P55+Q55+R55+S55+T55+U55+V55+W55+X55+Y55+Z55+AA55+AB55+AC55+AD55+AE55+AF55+AH55+AI55 -> 0 | AK55: =COUNT(E55:AI55) -> 0 | AL55: =AJ55-AK55*10 -> 0
A56: 52 | B56: AZALEKO Koffi | C56: H | D56: Peintre | L56: 10 | M56: 10 | N56: 10 | P56: 10 | Q56: 10 | R56: 10 | S56: 10 | T56: 10 | U56: 10 | W56: 10 | X56: 10 | Y56: 10 | Z56: 10 | AA56: 11 | AB56: 10 | AJ56: =E56+F56+G56+H56+I56+J56+K56+L56+M56+N56+O56+P56+Q56+R56+S56+T56+U56+V56+W56+X56+Y56+Z56+AA56+AB56+AC56+AD56+AE56+AF56+AH56+AI56 -> 151 | AK56: =COUNT(E56:AI56) -> 15 | AL56: =AJ56-AK56*10 -> 1
A57: 53 | B57: SADOU Abdoul Aziz | C57: H | D57: Aide Peintre | L57: 10 | M57: 10 | P57: 10 | Q57: 5 | R57: 10 | S57: 10 | T57: 10 | U57: 10 | V57: 10 | W57: 10 | X57: 10 | Y57: 10 | Z57: 10 | AA57: 11 | AB57: 10 | AJ57: =E57+F57+G57+H57+I57+J57+K57+L57+M57+N57+O57+P57+Q57+R57+S57+T57+U57+V57+W57+X57+Y57+Z57+AA57+AB57+AC57+AD57+AE57+AF57+AH57+AI57 -> 146 | AK57: =COUNT(E57:AI57) -> 15 | AL57: =AJ57-AK57*10 -> -4
A58: 54 | B58: OUEDRAOGO Soumaila | C58: H | D58: Aide Peintre | AJ58: =E58+F58+G58+H58+I58+J58+K58+L58+M58+N58+O58+P58+Q58+R58+S58+T58+U58+V58+W58+X58+Y58+Z58+AA58+AB58+AC58+AD58+AE58+AF58+AH58+AI58 -> 0 | AK58: =COUNT(E58:AI58) -> 0 | AL58: =AJ58-AK58*10 -> 0
A59: 55 | B59: OUEDRAOGO Aristide | C59: H | D59: Aide Peintre | AJ59: =E59+F59+G59+H59+I59+J59+K59+L59+M59+N59+O59+P59+Q59+R59+S59+T59+U59+V59+W59+X59+Y59+Z59+AA59+AB59+AC59+AD59+AE59+AF59+AH59+AI59 -> 0 | AK59: =COUNT(E59:AI59) -> 0 | AL59: =AJ59-AK59*10 -> 0
A60: 56 | B60: NIKIEMA Samuel | C60: H | D60: Ferrailleur | AJ60: =E60+F60+G60+H60+I60+J60+K60+L60+M60+N60+O60+P60+Q60+R60+S60+T60+U60+V60+W60+X60+Y60+Z60+AA60+AB60+AC60+AD60+AE60+AF60+AH60+AI60 -> 0 | AK60: =COUNT(E60:AI60) -> 0 | AL60: =AJ60-AK60*10 -> 0
A61: 57 | B61: CONGO Raphael | C61: H | D61: Ferrailleur | AJ61: =E61+F61+G61+H61+I61+J61+K61+L61+M61+N61+O61+P61+Q61+R61+S61+T61+U61+V61+W61+X61+Y61+Z61+AA61+AB61+AC61+AD61+AE61+AF61+AH61+AI61 -> 0 | AK61: =COUNT(E61:AI61) -> 0 | AL61: =AJ61-AK61*10 -> 0
A62: 58 | B62: KABRE Ismael Paul | C62: H | D62: Ferrailleur | AJ62: =E62+F62+G62+H62+I62+J62+K62+L62+M62+N62+O62+P62+Q62+R62+S62+T62+U62+V62+W62+X62+Y62+Z62+AA62+AB62+AC62+AD62+AE62+AF62+AH62+AI62 -> 0 | AK62: =COUNT(E62:AI62) -> 0 | AL62: =AJ62-AK62*10 -> 0
A63: 59 | B63: NIKIEMA K Bernard | C63: H | D63: Ferrailleur | AJ63: =E63+F63+G63+H63+I63+J63+K63+L63+M63+N63+O63+P63+Q63+R63+S63+T63+U63+V63+W63+X63+Y63+Z63+AA63+AB63+AC63+AD63+AE63+AF63+AH63+AI63 -> 0 | AK63: =COUNT(E63:AI63) -> 0 | AL63: =AJ63-AK63*10 -> 0
A64: 60 | B64: SOMDA kpenibar | C64: H | D64: Ferrailleur | E64: 10 | F64: 10 | G64: 10 | I64: 10 | J64: 10 | K64: 10 | L64: 10 | M64: 10 | N64: 10 | O64: 10 | P64: 10 | Q64: 10 | R64: 10 | S64: 10 | AJ64: =E64+F64+G64+H64+I64+J64+K64+L64+M64+N64+O64+P64+Q64+R64+S64+T64+U64+V64+W64+X64+Y64+Z64+AA64+AB64+AC64+AD64+AE64+AF64+AH64+AI64 -> 140 | AK64: =COUNT(E64:AI64) -> 14 | AL64: =AJ64-AK64*10 -> 0
A65: 61 | B65: OUEDRAOGO Z. Andre | C65: H | D65: Ferrailleur | AJ65: =E65+F65+G65+H65+I65+J65+K65+L65+M65+N65+O65+P65+Q65+R65+S65+T65+U65+V65+W65+X65+Y65+Z65+AA65+AB65+AC65+AD65+AE65+AF65+AH65+AI65 -> 0 | AK65: =COUNT(E65:AI65) -> 0 | AL65: =AJ65-AK65*10 -> 0
A66: 62 | B66: OUEDRAOGO Issa | C66: H | D66: Ferrailleur | AJ66: =E66+F66+G66+H66+I66+J66+K66+L66+M66+N66+O66+P66+Q66+R66+S66+T66+U66+V66+W66+X66+Y66+Z66+AA66+AB66+AC66+AD66+AE66+AF66+AH66+AI66 -> 0 | AK66: =COUNT(E66:AI66) -> 0 | AL66: =AJ66-AK66*10 -> 0
A67: 63 | B67: SIMPORE Jules | C67: H | D67: Ferrailleur | AJ67: =E67+F67+G67+H67+I67+J67+K67+L67+M67+N67+O67+P67+Q67+R67+S67+T67+U67+V67+W67+X67+Y67+Z67+AA67+AB67+AC67+AD67+AE67+AF67+AH67+AI67 -> 0 | AK67: =COUNT(E67:AI67) -> 0 | AL67: =AJ67-AK67*10 -> 0
A68: 64 | B68: WOANGO Rasmane | C68: H | D68: Ferrailleur | E68: 10 | F68: 10 | G68: 10 | I68: 10 | J68: 10 | K68: 10 | L68: 10 | AJ68: =E68+F68+G68+H68+I68+J68+K68+L68+M68+N68+O68+P68+Q68+R68+S68+T68+U68+V68+W68+X68+Y68+Z68+AA68+AB68+AC68+AD68+AE68+AF68+AH68+AI68 -> 70 | AK68: =COUNT(E68:AI68) -> 7 | AL68: =AJ68-AK68*10 -> 0
A69: 65 | B69: SORY Ousmane | C69: H | D69: Magasinier | E69: 10 | G69: 10 | I69: 10 | J69: 10 | K69: 10 | L69: 10 | W69: 10 | X69: 10 | Y69: 10 | Z69: 10 | AA69: 11 | AB69: 10 | AC69: 10 | AJ69: =W69+X69+Y69+Z69+AA69+AB69+AC69+AD69+AE69+AF69+AH69+AI69 -> 71 | AK69: =COUNT(W69:AI69) -> 7 | AL69: =AJ69-AK69*10 -> 1
A70: 66 | B70: YANKINI Ibrahim Latif | C70: H | D70: Magasinier | E70: 10 | F70: 10 | G70: 10 | I70: 10 | J70: 10 | K70: 10 | L70: 10 | M70: 10 | N70: 10 | O70: 10 | P70: 10 | AJ70: =E70+F70+G70+H70+I70+J70+K70+L70+M70+N70+O70+P70+Q70+R70+S70+T70+U70+V70+W70+X70+Y70+Z70+AA70+AB70+AC70+AD70+AE70+AF70+AH70+AI70 -> 110 | AK70: =COUNT(E70:AI70) -> 11 | AL70: =AJ70-AK70*10 -> 0
A71: 67 | B71: CAMARA Y Julien | C71: H | D71: Aide Géneral | E71: 10 | F71: 10 | G71: 10 | I71: 10 | J71: 10 | K71: 10 | L71: 10 | M71: 10 | N71: 10 | O71: 10 | P71: 10 | AJ71: =E71+F71+G71+H71+I71+J71+K71+L71+M71+N71+O71+P71+Q71+R71+S71+T71+U71+V71+W71+X71+Y71+Z71+AA71+AB71+AC71+AD71+AE71+AF71+AH71+AI71 -> 110 | AK71: =COUNT(E71:AI71) -> 11 | AL71: =AJ71-AK71*10 -> 0
A72: 68 | B72: HAMADOU Ag Rissa | C72: H | D72: Aide Géneral | AJ72: =E72+F72+G72+H72+I72+J72+K72+L72+M72+N72+O72+P72+Q72+R72+S72+T72+U72+V72+W72+X72+Y72+Z72+AA72+AB72+AC72+AD72+AE72+AF72+AH72+AI72 -> 0 | AK72: =COUNT(E72:AI72) -> 0 | AL72: =AJ72-AK72*10 -> 0
A73: 69 | B73: SANON Seydou | C73: H | D73: Aide Géneral | AJ73: =E73+F73+G73+H73+I73+J73+K73+L73+M73+N73+O73+P73+Q73+R73+S73+T73+U73+V73+W73+X73+Y73+Z73+AA73+AB73+AC73+AD73+AE73+AF73+AH73+AI73 -> 0 | AK73: =COUNT(E73:AI73) -> 0 | AL73: =AJ73-AK73*10 -> 0
A74: 70 | B74: OUEDRAOGO Cheick Oumar | C74: H | D74: Aide Géneral | E74: 10 | F74: 10 | G74: 10 | I74: 10 | J74: 10 | K74: 10 | AJ74: =E74+F74+G74+H74+I74+J74+K74+L74+M74+N74+O74+P74+Q74+R74+S74+T74+U74+V74+W74+X74+Y74+Z74+AA74+AB74+AC74+AD74+AE74+AF74+AH74+AI74 -> 60 | AK74: =COUNT(E74:AI74) -> 6 | AL74: =AJ74-AK74*10 -> 0
A75: 71 | B75: SISSAOGO Boukare | C75: H | D75: Aide Géneral | AJ75: =E75+F75+G75+H75+I75+J75+K75+L75+M75+N75+O75+P75+Q75+R75+S75+T75+U75+V75+W75+X75+Y75+Z75+AA75+AB75+AC75+AD75+AE75+AF75+AH75+AI75 -> 0 | AK75: =COUNT(E75:AI75) -> 0 | AL75: =AJ75-AK75*10 -> 0
A76: 72 | B76: OUEDRAOGO Moussa | C76: H | D76: Aide Géneral | E76: 10 | F76: 10 | G76: 10 | I76: 10 | J76: 10 | K76: 10 | L76: 10 | M76: 10 | N76: 10 | O76: 10 | P76: 10 | AJ76: =E76+F76+G76+H76+I76+J76+K76+L76+M76+N76+O76+P76+Q76+R76+S76+T76+U76+V76+W76+X76+Y76+Z76+AA76+AB76+AC76+AD76+AE76+AF76+AH76+AI76 -> 110 | AK76: =COUNT(E76:AI76) -> 11 | AL76: =AJ76-AK76*10 -> 0
A77: 73 | B77: OUEDRAOGO Rasmane | C77: H | D77: Bétonnier | L77: 10 | M77: 10 | N77: 12 | O77: 10 | P77: 10 | Q77: 10 | R77: 10 | S77: 10 | T77: 10 | U77: 10 | V77: 10 | W77: 10 | X77: 10 | Y77: 10 | Z77: 10 | AA77: 11 | AB77: 10 | AC77: 10 | AJ77: =E77+F77+G77+H77+I77+J77+K77+L77+M77+N77+O77+P77+Q77+R77+S77+T77+U77+V77+W77+X77+Y77+Z77+AA77+AB77+AC77+AD77+AE77+AF77+AH77+AI77 -> 183 | AK77: =COUNT(E77:AI77) -> 18 | AL77: =AJ77-AK77*10 -> 3
A78: 74 | B78: SAWADOGO Kouka | C78: H | D78: Bétonnier | AJ78: =E78+F78+G78+H78+I78+J78+K78+L78+M78+N78+O78+P78+Q78+R78+S78+T78+U78+V78+W78+X78+Y78+Z78+AA78+AB78+AC78+AD78+AE78+AF78+AH78+AI78 -> 0 | AK78: =COUNT(E78:AI78) -> 0 | AL78: =AJ78-AK78*10 -> 0
A79: 75 | B79: NIKIEMA Madi | C79: H | D79: Bétonnier | E79: 10 | F79: 10 | G79: 10 | I79: 10 | J79: 10 | K79: 10 | L79: 10 | M79: 10 | N79: 12 | O79: 10 | P79: 10 | AJ79: =E79+F79+G79+H79+I79+J79+K79+L79+M79+N79+O79+P79+Q79+R79+S79+T79+U79+V79+W79+X79+Y79+Z79+AA79+AB79+AC79+AD79+AE79+AF79+AH79+AI79 -> 112 | AK79: =COUNT(E79:AI79) -> 11 | AL79: =AJ79-AK79*10 -> 2
A80: 76 | B80: KABORE Rasmane Maxime | C80: H | D80: Carreleur | AJ80: =E80+F80+G80+H80+I80+J80+K80+L80+M80+N80+O80+P80+Q80+R80+S80+T80+U80+V80+W80+X80+Y80+Z80+AA80+AB80+AC80+AD80+AE80+AF80+AH80+AI80 -> 0 | AK80: =COUNT(E80:AI80) -> 0 | AL80: =AJ80-AK80*10 -> 0
A81: 77 | B81: SAM Clément | C81: H | D81: Carreleur | AJ81: =E81+F81+G81+H81+I81+J81+K81+L81+M81+N81+O81+P81+Q81+R81+S81+T81+U81+V81+W81+X81+Y81+Z81+AA81+AB81+AC81+AD81+AE81+AF81+AH81+AI81 -> 0 | AK81: =COUNT(E81:AI81) -> 0 | AL81: =AJ81-AK81*10 -> 0
A82: 78 | B82: KABRE R. Michel | C82: H | D82: Carreleur | AJ82: =E82+F82+G82+H82+I82+J82+K82+L82+M82+N82+O82+P82+Q82+R82+S82+T82+U82+V82+W82+X82+Y82+Z82+AA82+AB82+AC82+AD82+AE82+AF82+AH82+AI82 -> 0 | AK82: =COUNT(E82:AI82) -> 0 | AL82: =AJ82-AK82*10 -> 0
A83: 79 | B83: ZONGO Philippe | C83: H | D83: Carreleur | AJ83: =E83+F83+G83+H83+I83+J83+K83+L83+M83+N83+O83+P83+Q83+R83+S83+T83+U83+V83+W83+X83+Y83+Z83+AA83+AB83+AC83+AD83+AE83+AF83+AH83+AI83 -> 0 | AK83: =COUNT(E83:AI83) -> 0 | AL83: =AJ83-AK83*10 -> 0
A84: 80 | B84: ZONGO Dieudonné | C84: H | D84: Carreleur | AJ84: =E84+F84+G84+H84+I84+J84+K84+L84+M84+N84+O84+P84+Q84+R84+S84+T84+U84+V84+W84+X84+Y84+Z84+AA84+AB84+AC84+AD84+AE84+AF84+AH84+AI84 -> 0 | AK84: =COUNT(E84:AI84) -> 0 | AL84: =AJ84-AK84*10 -> 0
A85: 81 | B85: YANOGO Soumaila | C85: H | D85: Carreleur | AJ85: =E85+F85+G85+H85+I85+J85+K85+L85+M85+N85+O85+P85+Q85+R85+S85+T85+U85+V85+W85+X85+Y85+Z85+AA85+AB85+AC85+AD85+AE85+AF85+AH85+AI85 -> 0 | AK85: =COUNT(E85:AI85) -> 0 | AL85: =AJ85-AK85*10 -> 0
A86: 82 | B86: ZONGO Ousmane | C86: H | D86: Carreleur | AJ86: =E86+F86+G86+H86+I86+J86+K86+L86+M86+N86+O86+P86+Q86+R86+S86+T86+U86+V86+W86+X86+Y86+Z86+AA86+AB86+AC86+AD86+AE86+AF86+AH86+AI86 -> 0 | AK86: =COUNT(E86:AI86) -> 0 | AL86: =AJ86-AK86*10 -> 0
A87: 83 | B87: Birba Pouitibzanga | C87: H | D87: Carreleur | AJ87: =E87+F87+G87+H87+I87+J87+K87+L87+M87+N87+O87+P87+Q87+R87+S87+T87+U87+V87+W87+X87+Y87+Z87+AA87+AB87+AC87+AD87+AE87+AF87+AH87+AI87 -> 0 | AK87: =COUNT(E87:AI87) -> 0 | AL87: =AJ87-AK87*10 -> 0
B88: LEGENDES | C88: CUMUL D'HEURES/JOUR | E88: =SUM(E5:E87) -> 262 | F88: =SUM(F5:F87) -> 251 | G88: =SUM(G5:G87) -> 251 | H88: =SUM(H5:H87) -> 0 | I88: =SUM(I5:I87) -> 241 | J88: =SUM(J5:J87) -> 231 | K88: =SUM(K5:K87) -> 241 | L88: =SUM(L5:L87) -> 271 | ... AI88: =SUM(AI5:AI87) -> 0 | AL88: =SUM(AL5:AL87) -> -318
C89: NOMBRE DE PRESENTS | E89: =COUNTA(E5:E87) -> 26 | F89: =COUNTA(F5:F87) -> 25 | G89: =COUNTA(G5:G87) -> 25 | H89: =COUNTA(H5:H87) -> 0 | I89: =COUNTA(I5:I87) -> 24 | J89: =COUNTA(J5:J87) -> 24 | K89: =COUNTA(K5:K87) -> 24 | L89: =COUNTA(L5:L87) -> 27 | ... AI89: =COUNTA(AI5:AI87) -> 0
C91: CUMUL D'HEURES/MOIS | E91: =SUM(E88:AI88) -> 5309
D93: Arrivée
D94: Depart pour repos
D95: Sanctions diverses
D96: Si atteint 27 JOURS
D97: Si atteint 15 JOURS

Sheet Feuil3
