Workbook

Sheet Données
A1: Jégout, François <Francois.Jegout@afb-group.eu>
B7: Ref SCF | C7: =VLOOKUP(C8,'Export quotidien'!A1:D9999, 3,FALSE) -> 227786 - RE DOUCH USB MET ET PIED
B8: Log ID | C8: 205409920 | D8: < choisir le log ID ici
B10: Ref SCF | C10: =VLOOKUP(C7,produits!A7:E99,2) -> 227786 | D10: Ces champs se remplissent automatiquement
B11: EAN | C11: =VLOOKUP(C7,produits!A3:E99,4) -> 3561292277862
B12: Article | C12: =VLOOKUP(C7,produits!A3:D99,3) -> RE DOUCH USB ET PIED MET
B13: N° série | C13: =VLOOKUP(C8,'Export quotidien'!A2:D10000,2) -> 2R09482523
B14: N° commande | C14: 10919/6 | D14: Champs à renseigner manuellement à la finalisation de la palette
B15: N° de palette | C15: 890142
B16: Quantité | C16: 8

Sheet Etiquette indiv
B2: =Données!C12 -> RE DOUCH USB ET PIED MET
B3: Référence SCF | C3: =IMAGE(CONCATENATE("https://www.barcodesinc.com/generator/image.php?code=",Données!C10,"&style=68&type=C128B&width=550&height=100&xres=3&font=12")) -> #NAME?
C4: =Données!C10 -> 227786
B5: Code EAN de l'article | C5: =IMAGE(CONCATENATE("https://www.barcodesinc.com/generator/image.php?code=",Données!C11,"&style=68&type=C128B&width=550&height=100&xres=3&font=12")) -> #NAME?
C6: =Données!C11 -> 3561292277862
B7: Numéro de série | C7: =IMAGE(CONCATENATE("http://www.keepautomation.com/online_barcode_generator/linear.aspx?TYPE=4&DATA=",Données!C13,"&UOM=0&X=1&Y=60&ROTATE=0&RESOLUTION=72&FORMAT=gif&LEFT-MARGIN=0&RIGHT-MARGIN=0&SHOW-TEXT=false&TEXT-FONT=Arial%7c9%7cRegular")) -> #NAME?
B8: ="Log ID : "&Données!C8 -> Log ID : 205409920 | C8: =Données!C13 -> 2R09482523
B20: Autres tests :
B21: Code-39
B22: =IMAGE(CONCATENATE("http://www.barcode-generator.org/zint/api.php?bc_number=8&bc_data=",Données!C13)) -> #NAME?

Sheet Etiquette palette
A6: =Données!C12 -> RE DOUCH USB ET PIED MET
B15: Réf Article SCF | D15: Code EAN de l'article | M15: N° cde SCF
B16: =Données!C10 -> 227786 | D16: =IMAGE(CONCATENATE("https://www.barcodesinc.com/generator/image.php?code=",Données!C11,"&style=68&type=C128B&width=600&height=180&xres=3&font=12")) -> #NAME? | M16: =IMAGE(CONCATENATE("https://www.barcodesinc.com/generator/image.php?code=",Données!C14,"&style=68&type=C128B&width=600&height=180&xres=3&font=12")) -> #NAME?
D17: =Données!C11 -> 3561292277862 | M17: =Données!C14 -> 10919/6
F19: N° de palette
F20: =IMAGE(CONCATENATE("https://www.barcodesinc.com/generator/image.php?code=",Données!C15,"&style=68&type=C128B&width=800&height=100&xres=3&font=12")) -> #NAME?
F21: =Données!C15 -> 890142
F24: QUANTITE :
F25: =IMAGE(CONCATENATE("https://www.barcodesinc.com/generator/image.php?code=",Données!C16,"&style=68&type=C128B&width=820&height=150&xres=3&font=50")) -> #NAME?
F26: =Données!C16 -> 8
A37: AFB FRANCE

Sheet produits
A2: n° SCF / Description | B2: Article | C2: Description de l'article | D2: EAN14 | E2: Conditionnement par palette | F2: Description AfB
A3: =B3&" - "&C3 -> 219727 - RE DOUCH DS4208 MOT | B3: 219727 | C3: RE DOUCH DS4208 MOT | D3: 3561292197276 | E3: 36
A4: =B4&" - "&C4 -> 219730 - RE LCD 19P 5/4 | B4: 219730 | C4: RE LCD 19P 5/4 | D4: 3561292197306 | E4: 36
A5: =B5&" - "&C5 -> 219731 - RE LCD 21P5 16/10 | B5: 219731 | C5: RE LCD 21P5 16/10 | D5: 3561292197313 | E5: 36
A6: =B6&" - "&C6 -> 219735 - RE LCD 23P 16/9 | B6: 219735 | C6: RE LCD 23P 16/9 | D6: 3561292197351 | E6: 36
A7: =B7&" - "&C7 -> 219738 - RE LCD 24P 16/10 | B7: 219738 | C7: RE LCD 24P 16/10 | D7: 3561292197382 | E7: 36
A8: =B8&" - "&C8 -> 219743 - RE ECR CLIENT 10P NOTACT | B8: 219743 | C8: RE ECR CLIENT 10P NOTACT | D8: 3561292197436 | E8: 36
A9: =B9&" - "&C9 -> 219779 - RE IMP TMH6000 IV EPS | B9: 219779 | C9: RE IMP TMH6000 IV EPS | D9: 3561292197795 | E9: 36
A10: =B10&" - "&C10 -> 219780 - RE IMP BEV4D TOS | B10: 219780 | C10: RE IMP BEV4D TOS | D10: 3561292197801 | E10: 36
A11: =B11&" - "&C11 -> 219781 - RE LECT BADGE CARDMAN | B11: 219781 | C11: RE LECT BADGE CARDMAN | D11: 3561292197818 | E11: 36
A12: =B12&" - "&C12 -> 219782 - RE PDA MC 3190 MOT | B12: 219782 | C12: RE PDA MC 3190 MOT | D12: 3561292197825 | E12: 36
A13: =B13&" - "&C13 -> 219785 - RE SCANFRONT 220 CAN | B13: 219785 | C13: RE SCANFRONT 220 CAN | D13: 3561292197856 | E13: 36
A14: =B14&" - "&C14 -> 219786 - RE TAB GRAPH STU500 WAC | B14: 219786 | C14: RE TAB GRAPH STU500 WAC | D14: 3561292197863 | E14: 36
... A18: =B18&" - "&C18 -> 220166 - RE IMP TMH6000 III EPS | B18: 220166 | C18: RE IMP TMH6000 III EPS | D18: 3561292201669 | E18: 36
A19: =B19&" - "&C19 -> 220774 - RE R930 EBW7 TOS | B19: 220774 | C19: RE R930 EBW7 TOS | D19: 3561292207746 | E19: 36 | F19: Portege R930-1GF
A20: =B20&" - "&C20 -> 220930 - RE MINIPC DNA1120 MOD V3 | B20: 220930 | C20: RE MINIPC DNA1120 MOD V3 | D20: 3561292209306 | E20: 36
A21: =B21&" - "&C21 -> 221373 - RE SCANFRONT 300 CAN | B21: 221373 | C21: RE SCANFRONT 300 CAN | D21: 3561292213730 | E21: 36
A22: =B22&" - "&C22 -> 221442 - RE TPE IPP350 ET CABLE | B22: 221442 | C22: RE TPE IPP350 ET CABLE | D22: 3561292214423 | E22: 36
A23: =B23&" - "&C23 -> 221875 - RE 800MT EBW7 HP | B23: 221875 | C23: RE 800MT EBW7 HP | D23: 3561292218759 | E23: 36 | F23: EliteDesk 800 G1 TWR
A24: =B24&" - "&C24 -> 223397 - RE IMP B-SV4D TOS | B24: 223397 | C24: RE IMP B-SV4D TOS | D24: 3561292233974 | E24: 36
A25: =B25&" - "&C25 -> 223756 - RE ECR CL10P NOTAC SS PD | B25: 223756 | C25: RE ECR CL10P NOTAC SS PD | D25: 3561292237569 | E25: 36
A26: 223886 - ADAP SECT SP3 V0 MS | B26: 223886 | C26: ADAP SECT SP3 V0 MS | D26: 3561292238863
A27: =B27&" - "&C27 -> 224112 - RE TAB BUN SURF PRO3 MS | B27: 224112 | C27: RE TAB BUN SURF PRO3 MS | D27: 3561292241122 | E27: 36
A28: 224236 - STACC SURFACE PRO3 MS V1 | B28: 224236 | C28: STACC SURFACE PRO3 MS V1 | D28: 3561292242365
A29: 224237 - CLAV SURFACE PRO3 MS V1 | B29: 224237 | C29: CLAV SURFACE PRO3 MS V1 | D29: 3561292242372
A30: 224238 - STYLET SURFACE MS V1 | B30: 224238 | C30: STYLET SURFACE MS V1 | D30: 3561292242389
A31: 224273 - SOURIS SS FIL ARC MS V1 | B31: 224273 | C31: SOURIS SS FIL ARC MS V1 | D31: 3561292242730
A32: 224430 - CHARGEUR STACC SP3 MS V1 | B32: 224430 | C32: CHARGEUR STACC SP3 MS V1 | D32: 3561292244307
A33: =B33&" - "&C33 -> 224695 - RE TAB S-PRO 3 NU-CHG MS | B33: 224695 | C33: RE TAB S-PRO 3 NU-CHG MS | D33: 3561292246950 | E33: 36
A34: =B34&" - "&C34 -> 225090 - RE SCANFRONT 330 CAN | B34: 225090 | C34: RE SCANFRONT 330 CAN | D34: 3561292250902 | E34: 36
A35: =B35&" - "&C35 -> 225628 - RE TAB SPECTREX360 G2 HP | B35: 225628 | C35: RE TAB SPECTREX360 G2 HP | D35: 3561292256287 | E35: 36
A36: =B36&" - "&C36 -> 226002 - RE TAB BUN SP4 MS | B36: 226002 | C36: RE TAB BUN SP4 MS | D36: 3561292260024 | E36: 36
A37: =B37&" - "&C37 -> 226004 - RE TAB SP4 NU-CHG MS | B37: 226004 | C37: RE TAB SP4 NU-CHG MS | D37: 3561292260048 | E37: 36
A38: 226051 - ADAP SECT SP4 MS V0 | B38: 226051 | C38: ADAP SECT SP4 MS V0 | D38: 3561292260512
A39: 226052 - ADAP MINI DP HDMI MS V0 | B39: 226052 | C39: ADAP MINI DP HDMI MS V0 | D39: 3561292260529
A40: 226053 - CLAV SURFACE PRO 4 MS V0 | B40: 226053 | C40: CLAV SURFACE PRO 4 MS V0 | D40: 3561292260536
A41: 226349 - RE TAB SPECTREX360 G1 HP | B41: 226349 | C41: RE TAB SPECTREX360 G1 HP | D41: 3561292263490 | E41: 36
A42: =B42&" - "&C42 -> 226998 - RE TAB GRAPH STU530 WAC | B42: 226998 | C42: RE TAB GRAPH STU530 WAC | D42: 3561292269980 | E42: 36
A43: =B43&" - "&C43 -> 227786 - RE DOUCH USB ET PIED MET | B43: 227786 | C43: RE DOUCH USB ET PIED MET | D43: 3561292277862 | E43: 36
A44: =B44&" - "&C44 -> 227835 - RE TAB X360 1030 G2 HP | B44: 227835 | C44: RE TAB X360 1030 G2 HP | D44: 3561292278357 | E44: 36
A45: 227836 - RE X360 1030 WX G2 HP | B45: 227836 | C45: RE X360 1030 WX G2 HP | D45: 3561292278364
A46: =B46&" - "&C46 -> 227997 - RE PDA MC 3290 MOT | B46: 227997 | C46: RE PDA MC 3290 MOT | D46: 3561292279972 | E46: 36
A47: =B47&" - "&C47 -> 228078 - RE 5050 MFF EBW7 DELL | B47: 228078 | C47: RE 5050 MFF EBW7 DELL | D47: 3561292280787 | E47: 36
A48: 228317 - ADAP MINI DP VGA MS | B48: 228317 | C48: ADAP MINI DP VGA MS | D48: 3561292283177
A49: 229807 - RE 830 EBW10 G5 256 HP | B49: 229807 | C49: RE 830 EBW10 G5 256 HP | D49: 3561292298072
A50: 229808 - RE 850 EBW10 G5 256 HP | B50: 229808 | C50: RE 850 EBW10 G5 256 HP | D50: 3561292298089
A51: 230138 - RE 600 MINI G1 HP | B51: 230138 | C51: RE 600 MINI G1 HP | D51: 3561292301383
A52: 230139 - RE 600 MINI G2HP | B52: 230139 | C52: RE 600 MINI G2HP | D52: 3561292301390
A53: 230140 - RE 600 TWR G1HP | B53: 230140 | C53: RE 600 TWR G1HP | D53: 3561292301406
A54: 230141 - RE 600 TWR G2 HP | B54: 230141 | C54: RE 600 TWR G2 HP | D54: 3561292301413
A55: 230142 - RE 820 G1 HP | B55: 230142 | C55: RE 820 G1 HP | D55: 3561292301420
A56: 230143 - RE 820 G2 HP | B56: 230143 | C56: RE 820 G2 HP | D56: 3561292301437
A57: 230144 - RE 820 G3 HP | B57: 230144 | C57: RE 820 G3 HP | D57: 3561292301444
A58: 230145 - RE 840 G1 HP | B58: 230145 | C58: RE 840 G1 HP | D58: 3561292301451 | E58: 32
A59: 230146 - RE 840 G2 HP | B59: 230146 | C59: RE 840 G2 HP | D59: 3561292301468
A60: 230147 - RE 840 G3 HP | B60: 230147 | C60: RE 840 G3 HP | D60: 3561292301475
A61: 230148 - RE 850G1 HP | B61: 230148 | C61: RE 850G1 HP | D61: 3561292301482
A62: 230149 - RE 850 G2 HP | B62: 230149 | C62: RE 850 G2 HP | D62: 3561292301499 | E62: 32
A63: 230150 - RE 850 G3 HP | B63: 230150 | C63: RE 850 G3 HP | D63: 3561292301505 | E63: 36
A64: 230318-COUP DE POUCE PC PORT | B64: 230318 | C64: COUP DE POUCE PC PORT | D64: 3561292303189 | E64: 32
A65: =B65&" - "&C65 -> 230331 - RE 5050 MFF DELL | B65: 230331 | C65: RE 5050 MFF DELL | D65: 3561292303318
A66: =B66&" - "&C66 -> 230332 - RE Z30A | B66: 230332 | C66: RE Z30A | D66: 3561292303325
A67: =B67&" - "&C67 -> 230333 - RE Z30B | B67: 230333 | C67: RE Z30B | D67: 3561292303332
A68: =B68&" - "&C68 -> 230346 - RE ECR DESKTOP 1717L ELO | B68: 230346 | C68: RE ECR DESKTOP 1717L ELO | D68: 3561292303462
A69: =B69&" - "&C69 -> 231052 - RE SCANFRONT 400 CAN | B69: 231052 | C69: RE SCANFRONT 400 CAN | D69: 3561292310521 | E69: 36
A70: =B70&" - "&C70 -> 231341 - RE CRADLE PDA MOT V2 | B70: 231341 | C70: RE CRADLE PDA MOT V2 | D70: 3561292313416
A71: =B71&" - "&C71 -> 231342 - RE WYSE 5070 EBV DEL | B71: 231342 | C71: RE WYSE 5070 EBV DEL | D71: 3561292313423
A72: =B72&" - "&C72 -> 231343 - RE DOUCH DS4308 ZEB | B72: 231343 | C72: RE DOUCH DS4308 ZEB | D72: 3561292313430
A73: =B73&" - "&C73 -> 231344 - RE IMP TMH6000 V EPS | B73: 231344 | C73: RE IMP TMH6000 V EPS | D73: 3561292313447
A74: =B74&" - "&C74 -> 231372 - RE PIED ECR CLT 10P | B74: 231372 | C74: RE PIED ECR CLT 10P | D74: 3561292313720

Sheet Export quotidien
A1: LogID | B1: Numéro de série | C1: Désignation | D1: Numéro du stock
A2: 205326912 | B2: 41-XNXM6 | C2: 223756 - RE ECR CL10P NOTAC SS PD | D2: FR05
A3: 205326913 | B3: 41-YMAN2 | C3: 223756 - RE ECR CL10P NOTAC SS PD | D3: FR05
A4: 205327354 | B4: 14025PP80545889 | C4: 221442 - RE TPE IPP350 ET CABLE | D4: FR05
A5: 205327355 | B5: 8GT000621 | C5: 219786 - RE TAB GRAPH STU500 WAC | D5: FR05
A6: 205327425 | B6: 2308A100178 | C6: 219780 - RE IMP BEV4D TOS | D6: FR05
A7: 205409636 | B7: 9HT000273 | C7: 219786 - RE TAB GRAPH STU500 WAC | D7: FR05
A8: 205409638 | B8: 9DT001256 | C8: 219786 - RE TAB GRAPH STU500 WAC | D8: FR05
A9: 205409885 | B9: 14025PP80546632 | C9: 221442 - RE TPE IPP350 ET CABLE | D9: FR05
A10: 205409886 | B10: 14058PP80592438 | C10: 221442 - RE TPE IPP350 ET CABLE | D10: FR05
A11: 205409887 | B11: 13360PP80484520 | C11: 221442 - RE TPE IPP350 ET CABLE | D11: FR05
A12: 205409888 | B12: 14025PP80546506 | C12: 221442 - RE TPE IPP350 ET CABLE | D12: FR05
A13: 205409890 | B13: S12227521120965 | C13: 219782 - RE PDA MC 3190 MOT | D13: FR05
A14: 205409891 | B14: 12167521121499 | C14: 219782 - RE PDA MC 3190 MOT | D14: FR05
A15: 205409892 | B15: S12227521120996 | C15: 219782 - RE PDA MC 3190 MOT | D15: FR05
A16: 205409913 | B16: 2R11384314 | C16: 227786 - RE DOUCH USB MET ET PIED | D16: FR05
A17: 205409915 | B17: 5167-0734 000195 | C17: 219781 - RE LECT BADGE CARDMAN | D17: FR05
A18: 205409916 | B18: 12228000500346 | C18: 219727 - RE DOUCH DS4208 MOT | D18: FR05
A19: 205409917 | B19: 1222800050325 | C19: 219727 - RE DOUCH DS4208 MOT | D19: FR05
A20: 205409918 | B20: 122280005000374 | C20: 219727 - RE DOUCH DS4208 MOT | D20: FR05
A21: 205409919 | B21: 3C08243490 | C21: 227786 - RE DOUCH USB MET ET PIED | D21: FR05
A22: 205409920 | B22: 2R09482523 | C22: 227786 - RE DOUCH USB MET ET PIED | D22: FR05
A23: 205409921 | B23: 5167-0734-200 | C23: 219781 - RE LECT BADGE CARDMAN | D23: FR05
A24: 205409925 | B24: 2C08476327 | C24: 227786 - RE DOUCH USB MET ET PIED | D24: FR05
A25: 205409926 | B25: 2R13342396 | C25: 227786 - RE DOUCH USB MET ET PIED | D25: FR05
A26: 205409928 | B26: S12131000500530 | C26: 219727 - RE DOUCH DS4208 MOT | D26: FR05
A27: 205409930 | B27: N/A | C27: 227786 - RE DOUCH USB MET ET PIED | D27: FR05
A28: 205409934 | B28: HF402897 | C28: 231052 - RE SCANFRONT 400 CAN | D28: FR05
A29: 205409935 | B29: T1031211 | C29: 219785 - RE SCANFRONT 220 CAN | D29: FR05
A30: 205409937 | B30: T1030236 | C30: 219785 - RE SCANFRONT 220 CAN | D30: FR05
A31: 205409938 | B31: GP416411 | C31: 225090 - RE SCANFRONT 330 CAN | D31: FR05
A32: 205409939 | B32: 2303M002116 | C32: 223397 - RE IMP B-SV4D TOS | D32: FR05
... A227: 205561721 | B227: 14058PP80592362 | C227: 221442 - RE TPE IPP350 ET CABLE | D227: FR05
A228: 205561723 | B228: 12235000500260 | C228: 219727 - RE DOUCH DS4208 MOT | D228: FR05
A229: 205561731 | B229: HC-5167-0734-000265 | C229: 219781 - RE LECT BADGE CARDMAN | D229: FR05
A230: 205561732 | B230: HC-5167-0734-000421 | C230: 219781 - RE LECT BADGE CARDMAN | D230: FR05
A231: 205561733 | B231: HT-1039-1104981-05712 | C231: 219781 - RE LECT BADGE CARDMAN | D231: FR05
A232: 205561734 | B232: HC-5167-0734-000270 | C232: 219781 - RE LECT BADGE CARDMAN | D232: FR05
A233: 205561735 | B233: 9DT002017 | C233: 219786 - RE TAB GRAPH STU500 WAC | D233: FR05
A234: 205561736 | B234: 9DT002020 | C234: 219786 - RE TAB GRAPH STU500 WAC | D234: FR05
A235: 205561737 | B235: 9DT002018 | C235: 219786 - RE TAB GRAPH STU500 WAC | D235: FR05
A236: 205561738 | B236: 9DT002019 | C236: 219786 - RE TAB GRAPH STU500 WAC | D236: FR05
A237: 205561739 | B237: 9DT000475 | C237: 219786 - RE TAB GRAPH STU500 WAC | D237: FR05
A238: 205561740 | B238: 9DT000471 | C238: 219786 - RE TAB GRAPH STU500 WAC | D238: FR05
A239: 205561741 | B239: 9DT000472 | C239: 219786 - RE TAB GRAPH STU500 WAC | D239: FR05
A240: 205561742 | B240: 9DT000473 | C240: 219786 - RE TAB GRAPH STU500 WAC | D240: FR05
... A311: 205585081 | B311: 5CG5284K37 | C311: 230143 - RE 820 G2 HP | D311: FR05
A312: 205585140 | B312: 12228000500487 | C312: 219727 - RE DOUCH DS4208 MOT | D312: FR05
A313: 205585143 | B313: 9DT002342 | C313: 219786 - RE TAB GRAPH STU500 WAC | D313: FR05
A314: 205585144 | B314: 2181776 | C314: 219788 - RE TIR CAIS SL3000 NR GM | D314: FR05
A315: 205585148 | B315: T1030730 | C315: 219785 - RE SCANFRONT 220 CAN | D315: FR05
A316: 205585149 | B316: T1031176 | C316: 219785 - RE SCANFRONT 220 CAN | D316: FR05
A317: 205585150 | B317: T1030607 | C317: 219785 - RE SCANFRONT 220 CAN | D317: FR05
A318: 205585152 | B318: 14025PP80545717 | C318: 221442 - RE TPE IPP350 ET CABLE | D318: FR05
A319: 205585153 | B319: 14025PP80546702 | C319: 221442 - RE TPE IPP350 ET CABLE | D319: FR05
A320: 205590822 | B320: 5CG4500G80 | C320: 230145 - RE 840 G1 HP | D320: FR05
A321: 205590823 | B321: 5CG5399YG0 | C321: 230146 - RE 840 G2 HP | D321: FR05
A322: 205590825 | B322: 5CG609449Y | C322: 230146 - RE 840 G2 HP | D322: FR05
A323: 205590826 | B323: 5CG7076SRX | C323: 230147 - RE 840 G3 HP | D323: FR05
A324: 205590827 | B324: 5CG6181QV0 | C324: 230149 - RE 850 G2 HP | D324: FR05
A325: 205590828 | B325: 5CG64039Z6 | C325: 230144 - RE 820 G3 HP | D325: FR05
A326: 205592303 | B326: 5CG5092C64 | C326: 230148 - RE 850 G1 HP | D326: FR05
... A423: 205615533 | B423: 41-YLXC6 | C423: 223756 - RE ECR CL10P NOTAC SS PD | D423: FR05
A424: 205616423 | B424: 12209000501384 | C424: 219727 - RE DOUCH DS4208 MOT | D424: FR05
A425: 205616424 | B425: 12209000500978 | C425: 219727 - RE DOUCH DS4208 MOT | D425: FR05
A426: 205616425 | B426: 12235000500263 | C426: 219727 - RE DOUCH DS4208 MOT | D426: FR05
A427: 205617268 | B427: T1031082 | C427: 219785 - RE SCANFRONT 220 CAN | D427: FR05
A428: 205617269 | B428: T1031445 | C428: 219785 - RE SCANFRONT 220 CAN | D428: FR05
A429: 205617270 | B429: HF405015 | C429: 231052 - RE SCANFRONT 400 CAN | D429: FR05
A430: 205617305 | B430: 41LRXW1 | C430: 219790 - RE UC BE STAR SUREPOS | D430: FR05
A431: 205626087 | B431: 5CG5451FQD | C431: 230143 - RE 820 G2 HP | D431: FR05
A432: 205626088 | B432: 5CG50968Y | C432: 230142 - RE 820 G1 HP | D432: FR05
A433: 205626089 | B433: 5CG51804F1 | C433: 230142 - RE 820 G1 HP | D433: FR05
A434: 205626090 | B434: 5CG6020NS9 | C434: 230143 - RE 820 G2 HP | D434: FR05
A435: 205626092 | B435: 5CG602DGN4 | C435: 230146 - RE 840 G2 HP | D435: FR05
A436: 205626093 | B436: CNU422BR1V | C436: 230148 - RE 850 G1 HP | D436: FR05
A437: 205626094 | B437: CNU422BRNF | C437: 230148 - RE 850 G1 HP | D437: FR05
A438: 205626100 | B438: 5CG44251MM | C438: 230145 - RE 840 G1 HP | D438: FR05
... A521: 205648307 | B521: 5CG54850MT | C521: 230149 - RE 850 G2 HP | D521: FR05
A522: 205649942 | B522: 12209000501946 | C522: 219727 - RE DOUCH DS4208 MOT | D522: FR05
A523: 205649943 | B523: 12209000501854 | C523: 219727 - RE DOUCH DS4208 MOT | D523: FR05
A524: 205649991 | B524: 41-YLBB9 | C524: 223756 - RE ECR CL10P NOTAC SS PD | D524: FR05
A525: 205649993 | B525: 41-YLTP9 | C525: 223756 - RE ECR CL10P NOTAC SS PD | D525: FR05
A526: 205650082 | B526: 5CG6153905 | C526: 230146 - RE 840 G2 HP | D526: FR05
A527: 205650083 | B527: 5CG6363MGN | C527: 230147 - RE 840 G3 HP | D527: FR05
A528: 205650088 | B528: 5CG7053VF0 | C528: 230150 - RE 850 G3 HP | D528: FR05
A529: 205650105 | B529: 5CG44654G1 | C529: 230142 - RE 820 G1 HP | D529: FR05
A530: 205650113 | B530: 41-YHAH6 | C530: 223756 - RE ECR CL10P NOTAC SS PD | D530: FR05
A531: 205650114 | B531: 41-YLBB1 | C531: 223756 - RE ECR CL10P NOTAC SS PD | D531: FR05
A532: 205650121 | B532: 12209000500698 | C532: 219727 - RE DOUCH DS4208 MOT | D532: FR05
A533: 205650122 | B533: 12209000500375 | C533: 219727 - RE DOUCH DS4208 MOT | D533: FR05
A534: 205650125 | B534: 13360PP80484918 | C534: 221442 - RE TPE IPP350 ET CABLE | D534: FR05
A535: 205650126 | B535: 13360PP80484874 | C535: 221442 - RE TPE IPP350 ET CABLE | D535: FR05
A536: 205652285 | B536: S12210521122831 | C536: 219782 - RE PDA MC 3190 MOT | D536: FR05
A537: 205655345 | B537: 5CD62835JV | C537: 225628 - RE TAB SPECTREX360 G2 HP | D537: FR05
A538: 205655348 | B538: 5CD651364K | C538: 225628 - RE TAB SPECTREX360 G2 HP | D538: FR05
A539: 205655349 | B539: 5CD62835LC | C539: 225628 - RE TAB SPECTREX360 G2 HP | D539: FR05
A540: 205655350 | B540: 5CD6071CSC | C540: 225628 - RE TAB SPECTREX360 G2 HP | D540: FR05
A541: 205655362 | B541: 5CG539B0KW | C541: 230146 - RE 840 G2 HP | D541: FR05
A542: 205655479 | B542: 5CD6071CVL | C542: 225628 - RE TAB SPECTREX360 G2 HP | D542: FR05
...
