Workbook

Sheet Données
A1: Jégout, François <Francois.Jegout@afb-group.eu>
B7: Ref SCF | C7: =VLOOKUP(C8,'Export quotidien'!A1:D9999, 3,FALSE) -> 227786 - RE DOUCH USB MET ET PIED
B8: Log ID | C8: 205409920 | D8: < choisir le log ID ici
B10: Ref SCF | C10: =VLOOKUP(C7,produits!A7:E99,2) -> 227786 | D10: Ces champs se remplissent automatiquement
B11: EAN | C11: =VLOOKUP(C7,produits!A3:E99,4) -> 3561292277862
B12: Article | C12: =VLOOKUP(C7,produits!A3:D99,3) -> RE DOUCH USB ET PIED MET
B13: N° série | C13: =VLOOKUP(C8,'Export quotidien'!A2:D10000,2) -> 2R09482523
B14: N° commande | C14: 10919/6 | D14: Champs à renseigner manuellement à la finalisation de la palette
B15: N° de palette | C15: 890142
B16: Quantité | C16: 8

Sheet Etiquette indiv
B2: =Données!C12 -> RE DOUCH USB ET PIED MET
B3: Référence SCF | C3: =IMAGE(CONCATENATE("https://www.barcodesinc.com/generator/image.php?code=",Données!C10,"&style=68&type=C128B&width=550&height=100&xres=3&font=12")) -> #NAME?
C4: =Données!C10 -> 227786
B5: Code EAN de l'article | C5: =IMAGE(CONCATENATE("https://www.barcodesinc.com/generator/image.php?code=",Données!C11,"&style=68&type=C128B&width=550&height=100&xres=3&font=12")) -> #NAME?
C6: =Données!C11 -> 3561292277862
B7: Numéro de série | C7: =IMAGE(CONCATENATE("http://www.keepautomation.com/online_barcode_generator/linear.aspx?TYPE=4&DATA=",Données!C13,"&UOM=0&X=1&Y=60&ROTATE=0&RESOLUTION=72&FORMAT=gif&LEFT-MARGIN=0&RIGHT-MARGIN=0&SHOW-TEXT=false&TEXT-FONT=Arial%7c9%7cRegular")) -> #NAME?
B8: ="Log ID : "&Données!C8 -> Log ID : 205409920 | C8: =Données!C13 -> 2R09482523
B20: Autres tests :
B21: Code-39
B22: =IMAGE(CONCATENATE("http://www.barcode-generator.org/zint/api.php?bc_number=8&bc_data=",Données!C13)) -> #NAME?

Sheet Etiquette palette
A6: =Données!C12 -> RE DOUCH USB ET PIED MET
B15: Réf Article SCF | D15: Code EAN de l'article | M15: N° cde SCF
B16: =Données!C10 -> 227786 | D16: =IMAGE(CONCATENATE("https://www.barcodesinc.com/generator/image.php?code=",Données!C11,"&style=68&type=C128B&width=600&height=180&xres=3&font=12")) -> #NAME? | M16: =IMAGE(CONCATENATE("https://www.barcodesinc.com/generator/image.php?code=",Données!C14,"&style=68&type=C128B&width=600&height=180&xres=3&font=12")) -> #NAME?
D17: =Données!C11 -> 3561292277862 | M17: =Données!C14 -> 10919/6
F19: N° de palette
F20: =IMAGE(CONCATENATE("https://www.barcodesinc.com/generator/image.php?code=",Données!C15,"&style=68&type=C128B&width=800&height=100&xres=3&font=12")) -> #NAME?
F21: =Données!C15 -> 890142
F24: QUANTITE :
F25: =IMAGE(CONCATENATE("https://www.barcodesinc.com/generator/image.php?code=",Données!C16,"&style=68&type=C128B&width=820&height=150&xres=3&font=50")) -> #NAME?
F26: =Données!C16 -> 8
A37: AFB FRANCE

Sheet produits
A2: n° SCF / Description | B2: Article | C2: Description de l'article | D2: EAN14 | E2: Conditionnement par palette | F2: Description AfB
A3: =B3&" - "&C3 -> 219727 - RE DOUCH DS4208 MOT | B3: 219727 | C3: RE DOUCH DS4208 MOT | D3: 3561292197276 | E3: 36
A4: =B4&" - "&C4 -> 219730 - RE LCD 19P 5/4 | B4: 219730 | C4: RE LCD 19P 5/4 | D4: 3561292197306 | E4: 36
A5: =B5&" - "&C5 -> 219731 - RE LCD 21P5 16/10 | B5: 219731 | C5: RE LCD 21P5 16/10 | D5: 3561292197313 | E5: 36
A6: =B6&" - "&C6 -> 219735 - RE LCD 23P 16/9 | B6: 219735 | C6: RE LCD 23P 16/9 | D6: 3561292197351 | E6: 36
A7: =B7&" - "&C7 -> 219738 - RE LCD 24P 16/10 | B7: 219738 | C7: RE LCD 24P 16/10 | D7: 3561292197382 | E7: 36
A8: =B8&" - "&C8 -> 219743 - RE ECR CLIENT 10P NOTACT | B8: 219743 | C8: RE ECR CLIENT 10P NOTACT | D8: 3561292197436 | E8: 36
A9: =B9&" - "&C9 -> 219779 - RE IMP TMH6000 IV EPS | B9: 219779 | C9: RE IMP TMH6000 IV EPS | D9: 3561292197795 | E9: 36
A10: =B10&" - "&C10 -> 219780 - RE IMP BEV4D TOS | B10: 219780 | C10: RE IMP BEV4D TOS | D10: 3561292197801 | E10: 36
A11: =B11&" - "&C11 -> 219781 - RE LECT BADGE CARDMAN | B11: 219781 | C11: RE LECT BADGE CARDMAN | D11: 3561292197818 | E11: 36
A12: =B12&" - "&C12 -> 219782 - RE PDA MC 3190 MOT | B12: 219782 | C12: RE PDA MC 3190 MOT | D12: 3561292197825 | E12: 36
A13: =B13&" - "&C13 -> 219785 - RE SCANFRONT 220 CAN | B13: 219785 | C13: RE SCANFRONT 220 CAN | D13: 3561292197856 | E13: 36
A14: =B14&" - "&C14 -> 219786 - RE TAB GRAPH STU500 WAC | B14: 219786 | C14: RE TAB GRAPH STU500 WAC | D14: 3561292197863 | E14: 36
... A18: =B18&" - "&C18 -> 220166 - RE IMP TMH6000 III EPS | B18: 220166 | C18: RE IMP TMH6000 III EPS | D18: 3561292201669 | E18: 36
A19: =B19&" - "&C19 -> 220774 - RE R930 EBW7 TOS | B19: 220774 | C19: RE R930 EBW7 TOS | D19: 3561292207746 | E19: 36 | F19: Portege R930-1GF
A20: =B20&" - "&C20 -> 220930 - RE MINIPC DNA1120 MOD V3 | B20: 220930 | C20: RE MINIPC DNA1120 MOD V3 | D20: 3561292209306 | E20: 36
A21: =B21&" - "&C21 -> 221373 - RE SCANFRONT 300 CAN | B21: 221373 | C21: RE SCANFRONT 300 CAN | D21: 3561292213730 | E21: 36
A22: =B22&" - "&C22 -> 221442 - RE TPE IPP350 ET CABLE | B22: 221442 | C22: RE TPE IPP350 ET CABLE | D22: 3561292214423 | E22: 36
A23: =B23&" - "&C23 -> 221875 - RE 800MT EBW7 HP | B23: 221875 | C23: RE 800MT EBW7 HP | D23: 3561292218759 | E23: 36 | F23: EliteDesk 800 G1 TWR
A24: =B24&" - "&C24 -> 223397 - RE IMP B-SV4D TOS | B24: 223397 | C24: RE IMP B-SV4D TOS | D24: 3561292233974 | E24: 36
A25: =B25&" - "&C25 -> 223756 - RE ECR CL10P NOTAC SS PD | B25: 223756 | C25: RE ECR CL10P NOTAC SS PD | D25: 3561292237569 | E25: 36
A26: 223886 - ADAP SECT SP3 V0 MS | B26: 223886 | C26: ADAP SECT SP3 V0 MS | D26: 3561292238863
A27: =B27&" - "&C27 -> 224112 - RE TAB BUN SURF PRO3 MS | B27: 224112 | C27: RE TAB BUN SURF PRO3 MS | D27: 3561292241122 | E27: 36
A28: 224236 - STACC SURFACE PRO3 MS V1 | B28: 224236 | C28: STACC SURFACE PRO3 MS V1 | D28: 3561292242365
A29: 224237 - CLAV SURFACE PRO3 MS V1 | B29: 224237 | C29: CLAV SURFACE PRO3 MS V1 | D29: 3561292242372
A30: 224238 - STYLET SURFACE MS V1 | B30: 224238 | C30: STYLET SURFACE MS V1 | D30: 3561292242389
A31: 224273 - SOURIS SS FIL ARC MS V1 | B31: 224273 | C31: SOURIS SS FIL ARC MS V1 | D31: 3561292242730
A32: 224430 - CHARGEUR STACC SP3 MS V1 | B32: 224430 | C32: CHARGEUR STACC SP3 MS V1 | D32: 3561292244307
A33: =B33&" - "&C33 -> 224695 - RE TAB S-PRO 3 NU-CHG MS | B33: 224695 | C33: RE TAB S-PRO 3 NU-CHG MS | D33: 3561292246950 | E33: 36
A34: =B34&" - "&C34 -> 225090 - RE SCANFRONT 330 CAN | B34: 225090 | C34: RE SCANFRONT 330 CAN | D34: 3561292250902 | E34: 36
A35: =B35&" - "&C35 -> 225628 - RE TAB SPECTREX360 G2 HP | B35: 225628 | C35: RE TAB SPECTREX360 G2 HP | D35: 3561292256287 | E35: 36
A36: =B36&" - "&C36 -> 226002 - RE TAB BUN SP4 MS | B36: 226002 | C36: RE TAB BUN SP4 MS | D36: 3561292260024 | E36: 36
A37: =B37&" - "&C37 -> 226004 - RE TAB SP4 NU-CHG MS | B37: 226004 | C37: RE TAB SP4 NU-CHG MS | D37: 3561292260048 | E37: 36
A38: 226051 - ADAP SECT SP4 MS V0 | B38: 226051 | C38: ADAP SECT SP4 MS V0 | D38: 3561292260512
A39: 226052 - ADAP MINI DP HDMI MS V0 | B39: 226052 | C39: ADAP MINI DP HDMI MS V0 | D39: 3561292260529
A40: 226053 - CLAV SURFACE PRO 4 MS V0 | B40: 226053 | C40: CLAV SURFACE PRO 4 MS V0 | D40: 3561292260536
A41: 226349 - RE TAB SPECTREX360 G1 HP | B41: 226349 | C41: RE TAB SPECTREX360 G1 HP | D41: 3561292263490 | E41: 36
A42: =B42&" - "&C42 -> 226998 - RE TAB GRAPH STU530 WAC | B42: 226998 | C42: RE TAB GRAPH STU530 WAC | D42: 3561292269980 | E42: 36
A43: =B43&" - "&C43 -> 227786 - RE DOUCH USB ET PIED MET | B43: 227786 | C43: RE DOUCH USB ET PIED MET | D43: 3561292277862 | E43: 36
A44: =B44&" - "&C44 -> 227835 - RE TAB X360 1030 G2 HP | B44: 227835 | C44: RE TAB X360 1030 G2 HP | D44: 3561292278357 | E44: 36
...

Sheet Export quotidien
A1: LogID | B1: Numéro de série | C1: Désignation | D1: Numéro du stock
A2: 205326912 | B2: 41-XNXM6 | C2: 223756 - RE ECR CL10P NOTAC SS PD | D2: FR05
A3: 205326913 | B3: 41-YMAN2 | C3: 223756 - RE ECR CL10P NOTAC SS PD | D3: FR05
A4: 205327354 | B4: 14025PP80545889 | C4: 221442 - RE TPE IPP350 ET CABLE | D4: FR05
A5: 205327355 | B5: 8GT000621 | C5: 219786 - RE TAB GRAPH STU500 WAC | D5: FR05
A6: 205327425 | B6: 2308A100178 | C6: 219780 - RE IMP BEV4D TOS | D6: FR05
A7: 205409636 | B7: 9HT000273 | C7: 219786 - RE TAB GRAPH STU500 WAC | D7: FR05
A8: 205409638 | B8: 9DT001256 | C8: 219786 - RE TAB GRAPH STU500 WAC | D8: FR05
A9: 205409885 | B9: 14025PP80546632 | C9: 221442 - RE TPE IPP350 ET CABLE | D9: FR05
A10: 205409886 | B10: 14058PP80592438 | C10: 221442 - RE TPE IPP350 ET CABLE | D10: FR05
A11: 205409887 | B11: 13360PP80484520 | C11: 221442 - RE TPE IPP350 ET CABLE | D11: FR05
A12: 205409888 | B12: 14025PP80546506 | C12: 221442 - RE TPE IPP350 ET CABLE | D12: FR05
A13: 205409890 | B13: S12227521120965 | C13: 219782 - RE PDA MC 3190 MOT | D13: FR05
A14: 205409891 | B14: 12167521121499 | C14: 219782 - RE PDA MC 3190 MOT | D14: FR05
A15: 205409892 | B15: S12227521120996 | C15: 219782 - RE PDA MC 3190 MOT | D15: FR05
A16: 205409913 | B16: 2R11384314 | C16: 227786 - RE DOUCH USB MET ET PIED | D16: FR05
A17: 205409915 | B17: 5167-0734 000195 | C17: 219781 - RE LECT BADGE CARDMAN | D17: FR05
A18: 205409916 | B18: 12228000500346 | C18: 219727 - RE DOUCH DS4208 MOT | D18: FR05
A19: 205409917 | B19: 1222800050325 | C19: 219727 - RE DOUCH DS4208 MOT | D19: FR05
A20: 205409918 | B20: 122280005000374 | C20: 219727 - RE DOUCH DS4208 MOT | D20: FR05
A21: 205409919 | B21: 3C08243490 | C21: 227786 - RE DOUCH USB MET ET PIED | D21: FR05
A22: 205409920 | B22: 2R09482523 | C22: 227786 - RE DOUCH USB MET ET PIED | D22: FR05
A23: 205409921 | B23: 5167-0734-200 | C23: 219781 - RE LECT BADGE CARDMAN | D23: FR05
A24: 205409925 | B24: 2C08476327 | C24: 227786 - RE DOUCH USB MET ET PIED | D24: FR05
A25: 205409926 | B25: 2R13342396 | C25: 227786 - RE DOUCH USB MET ET PIED | D25: FR05
A26: 205409928 | B26: S12131000500530 | C26: 219727 - RE DOUCH DS4208 MOT | D26: FR05
A27: 205409930 | B27: N/A | C27: 227786 - RE DOUCH USB MET ET PIED | D27: FR05
A28: 205409934 | B28: HF402897 | C28: 231052 - RE SCANFRONT 400 CAN | D28: FR05
A29: 205409935 | B29: T1031211 | C29: 219785 - RE SCANFRONT 220 CAN | D29: FR05
A30: 205409937 | B30: T1030236 | C30: 219785 - RE SCANFRONT 220 CAN | D30: FR05
A31: 205409938 | B31: GP416411 | C31: 225090 - RE SCANFRONT 330 CAN | D31: FR05
A32: 205409939 | B32: 2303M002116 | C32: 223397 - RE IMP B-SV4D TOS | D32: FR05
... A227: 205561721 | B227: 14058PP80592362 | C227: 221442 - RE TPE IPP350 ET CABLE | D227: FR05
A228: 205561723 | B228: 12235000500260 | C228: 219727 - RE DOUCH DS4208 MOT | D228: FR05
A229: 205561731 | B229: HC-5167-0734-000265 | C229: 219781 - RE LECT BADGE CARDMAN | D229: FR05
A230: 205561732 | B230: HC-5167-0734-000421 | C230: 219781 - RE LECT BADGE CARDMAN | D230: FR05
A231: 205561733 | B231: HT-1039-1104981-05712 | C231: 219781 - RE LECT BADGE CARDMAN | D231: FR05
A232: 205561734 | B232: HC-5167-0734-000270 | C232: 219781 - RE LECT BADGE CARDMAN | D232: FR05
A233: 205561735 | B233: 9DT002017 | C233: 219786 - RE TAB GRAPH STU500 WAC | D233: FR05
A234: 205561736 | B234: 9DT002020 | C234: 219786 - RE TAB GRAPH STU500 WAC | D234: FR05
...
