Workbook

Sheet Gestion HP
D2: Gestion PV
B5: REF VALEURS PJ | I5: Attacker
C6: endu | D6: armure | E6: PV | F6: Lésions | G6: Blessures | I6: 1 | L6: Endurance cible | M6: =VLOOKUP(I6,A7:G11,3) -> 5
A7: 1 | B7: Sebastien | C7: 5 | D7: 4 | E7: 15 | F7: =2*C7 -> 10 | G7: =C7 -> 5 | I7: Dégat arme | J7: 18 | L7: Armure cible | M7: =VLOOKUP(I6,A7:G11,4) -> 4
A8: 2 | B8: Benjamin | C8: 6 | D8: 7 | E8: 24 | F8: =2*C8 -> 12 | G8: =C8 -> 6 | I8: Penetration | J8: 4 | L8: Pv Cible | M8: =VLOOKUP(I6,A7:G11,5) -> 15
A9: 3 | B9: Francois | C9: 4 | D9: 5 | E9: 20 | F9: =2*C9 -> 8 | G9: =C9 -> 4 | L9: Lésions Cible | M9: =VLOOKUP(I6,A7:G11,6) -> 10
A10: 4 | B10: Thomas | C10: 4 | D10: 17 | E10: 20 | F10: 8 | G10: 4 | I10: Dégats reçus | J10: =IF((M6+J11-J7)<=0,(-1*(M6+J11-J7)),0) -> 13 | L10: Blessures Cible | M10: =VLOOKUP(I6,A7:G11,7) -> 5
A11: 5 | B11: Yann | C11: 5 | D11: 80 | E11: 20 | F11: 8 | G11: 4 | I11: Armure effective | J11: =IF(M7-J8>=0,M7-J8,0) -> 0
C12: RESTE en combat
B13: Joueur | C13: 1 | D13: 2 | E13: 3 | F13: 4 | G13: 5
B14: PV | C14: 10 | D14: 17 | E14: 15 | F14: 20 | G14: 20
B15: Lésions | C15: 7 | D15: 6 | E15: 7 | F15: 8 | G15: 8
B16: Blessures | C16: 1 | D16: 5 | E16: 4 | F16: 4 | G16: 4
B18: Perte PV | C18: =(C20*15+C19*M6)-J10 -> -3 | E18: Calc lésion | F18: =MOD(MOD(J10,15),M6) -> 3
B19: Perte lésion | C19: =IF(J10>=M6,QUOTIENT(F19,M6),0) -> 2 | E19: Calc blessure | F19: =MOD(J10,15) -> 13
B20: Perte blessure | C20: =IF(J10>=15,QUOTIENT(J10,15),0) -> 0
D22: Gestion Psychique
B24: Remous | C24: 15 | E24: =IF(C24>10,IF(RANDBETWEEN(1,100)<C24*3,1,0),0) -> 0 | I24: paires | J24: triples | K24: quadruples | L24: quintuples | M24: Score total
H25: Overkill | I25: 2 | J25: 1 | K25: 0 | L25: 2 | M25: =I25*2+J25*3+K25*10+L25*20 -> 47
B27: valeur phénomène | C27: =IF(E24>0,RANDBETWEEN(1,100),0) -> 0 | D27: =IF(C27>0,VLOOKUP(C27,'Phénomènes psy'!A2:B75,2),0) -> 0 | H27: phénomène | I27: =M25+RANDBETWEEN(1,100) -> 138 | J27: =IF(AND(I27>0,I27<74),VLOOKUP(I27,'Phénomènes psy'!A2:B75,2),0) -> 0
B28: Valeur Péril | C28: =IF(C24>15,IF(C27>74,RANDBETWEEN(1,100),0),0) -> 0 | D28: =IF(C28>0,VLOOKUP(C28,'Phénomènes psy'!A77:B176,2),0) -> 0 | H28: Péril | I28: =IF(I27>100,RANDBETWEEN(1,100),0) -> 10 | J28: =IF(I28>0,VLOOKUP(I28,'Phénomènes psy'!A77:B176,2),0) -> Le psycker pris d'un sursaut tire une rafale sur la prmière cible à portée
B29: Si plus de 10 points de remous alors chaque tours on a une chance d'avoir des phénomènes, ces chances augmentent avec le nombre de point de remou. Si on dépasse les 15 points de remou alors on a une chance d'avoir un péril. | H29: Le sorceleur lorsqu'il overkill lance X D6 (X nb de pt de remous) et compte les double triples etc… ca augmente les chances d'avoir des phénomènes et des périls.

Sheet Sorts
G2: Base | H2: 40
A3: Windup | P3: Moyenne | Q3: Moyenne 2/t | R3: Moyenne 3/t
A4: 2/t | B4: 3/t | C4: Modif | D4: Power | E4: 0 | F4: 10 | G4: 20 | H4: 30 | I4: 40 | J4: 50 | K4: 60 | L4: 70 | M4: 80 | N4: 90 | O4: 100
A5: 2 | B5: 2 | C5: -12 | D5: sous puissance | E5: 14 | F5: 11 | G5: 8 | H5: 0 | I5: 0 | J5: 0 | K5: 0 | L5: 0 | M5: 0 | N5: 0 | O5: 0 | P5: =SUM(E5:O5)/11 -> 3 | Q5: =P5/A5 -> 1.5 | R5: =P5/B5 -> 1.5
A6: 4 | B6: 3 | C6: +5 | D6: normal | E6: 26 | F6: 21 | G6: 17 | H6: 14 | I6: 11 | J6: 8 | K6: 0 | L6: 0 | M6: 0 | N6: 0 | O6: 0 | P6: =SUM(E6:O6)/11 -> 8.8181818 | Q6: =P6/A6 -> 2.2045455 | R6: =P6/B6 -> 2.9393939
A7: 6 | B7: 4 | C7: +20 | D7: surpuissance | E7: 32 | F7: 26 | G7: 21 | H7: 17 | I7: 14 | J7: 11 | K7: 8 | L7: 0 | M7: 0 | N7: 0 | O7: 0 | P7: =SUM(E7:O7)/11 -> 11.727273 | Q7: =P7/A7 -> 1.9545455 | R7: =P7/B7 -> 2.9318182
A8: 4 | B8: 3 | C8: +15 | D8: overkill | E8: 32 | F8: 26 | G8: 21 | H8: 17 | I8: 14 | J8: 11 | K8: 8 | L8: 0 | M8: 0 | N8: 0 | O8: 0 | P8: =SUM(E8:O8)/11 -> 11.727273 | Q8: =P8/A8 -> 2.9318182 | R8: =P8/B8 -> 3.9090909
A9: 4 | B9: 3 | C9: +30 | D9: overkill | E9: 40 | F9: 32 | G9: 26 | H9: 21 | I9: 17 | J9: 14 | K9: 11 | L9: 8 | M9: 0 | N9: 0 | O9: 0 | P9: =SUM(E9:O9)/11 -> 15.363636 | Q9: =P9/A9 -> 3.8409091 | R9: =P9/B9 -> 5.1212121
A10: 6 | B10: 4 | C10: +40 | D10: overkill | E10: 48 | F10: 40 | G10: 32 | H10: 26 | I10: 21 | J10: 17 | K10: 14 | L10: 11 | M10: 8 | N10: 0 | O10: 0 | P10: =SUM(E10:O10)/11 -> 19.727273 | Q10: =P10/A10 -> 3.2878788 | R10: =P10/B10 -> 4.9318182
G13: Base | H13: 60
A14: Windup
A15: 2/t | B15: 3/t | C15: Modif | D15: Power | E15: 0 | F15: 10 | G15: 20 | H15: 30 | I15: 40 | J15: 50 | K15: 60 | L15: 70 | M15: 80 | N15: 90 | O15: 100
A16: 2 | B16: 2 | C16: -12 | D16: sous puissance | E16: 28 | F16: 23 | G16: 19 | H16: 16 | I16: 13 | J16: 10 | K16: 0 | L16: 0 | M16: 0 | N16: 0 | O16: 0 | P16: =SUM(E16:O16)/11 -> 9.9090909 | Q16: =P16/A16 -> 4.9545455 | R16: =P16/B16 -> 4.9545455
A17: 4 | B17: 3 | C17: +5 | D17: normal | E17: 42 | F17: 34 | G17: 28 | H17: 23 | I17: 19 | J17: 16 | K17: 13 | L17: 10 | M17: 0 | N17: 0 | O17: 0 | P17: =SUM(E17:O17)/11 -> 16.818182 | Q17: =P17/A17 -> 4.2045455 | R17: =P17/B17 -> 5.6060606
A18: 6 | B18: 4 | C18: +20 | D18: surpuissance | E18: 50 | F18: 42 | G18: 34 | H18: 28 | I18: 23 | J18: 19 | K18: 16 | L18: 13 | M18: 10 | N18: 0 | O18: 0 | P18: =SUM(E18:O18)/11 -> 21.363636 | Q18: =P18/A18 -> 3.5606061 | R18: =P18/B18 -> 5.3409091
A19: 4 | B19: 3 | C19: +15 | D19: overkill | E19: 50 | F19: 42 | G19: 34 | H19: 28 | I19: 23 | J19: 19 | K19: 16 | L19: 13 | M19: 10 | N19: 0 | O19: 0 | P19: =SUM(E19:O19)/11 -> 21.363636 | Q19: =P19/A19 -> 5.3409091 | R19: =P19/B19 -> 7.1212121
A20: 4 | B20: 3 | C20: +30 | D20: overkill | E20: 60 | F20: 50 | G20: 42 | H20: 34 | I20: 28 | J20: 23 | K20: 19 | L20: 16 | M20: 13 | N20: 10 | O20: 0 | P20: =SUM(E20:O20)/11 -> 26.818182 | Q20: =P20/A20 -> 6.7045455 | R20: =P20/B20 -> 8.9393939
A21: 6 | B21: 4 | C21: +40 | D21: overkill | E21: 72 | F21: 60 | G21: 50 | H21: 42 | I21: 34 | J21: 28 | K21: 23 | L21: 19 | M21: 16 | N21: 13 | O21: 10 | P21: =SUM(E21:O21)/11 -> 33.363636 | Q21: =P21/A21 -> 5.5606061 | R21: =P21/B21 -> 8.3409091
D25: 0 | E25: 4 | F25: =E25+3 -> 7 | G25: =E25+6 -> 10
D26: 1 | E26: 7 | F26: =E26+3 -> 10 | G26: =E26+6 -> 13
D27: 2 | E27: 10 | F27: =E27+3 -> 13 | G27: =E27+6 -> 16
D28: 3 | E28: 13 | F28: =E28+3 -> 16 | G28: =E28+6 -> 19
D29: 4 | E29: 17 | F29: =E29+3 -> 20 | G29: =E29+6 -> 23
D30: 5 | E30: 22 | F30: =E30+3 -> 25 | G30: =E30+6 -> 28
D31: 6 | E31: 28 | F31: =E31+3 -> 31 | G31: =E31+6 -> 34
D32: 7 | E32: 36 | F32: =E32+3 -> 39 | G32: =E32+6 -> 42
D33: 8 | E33: 44 | F33: =E33+3 -> 47 | G33: =E33+6 -> 50
D34: 9 | E34: 54 | F34: =E34+3 -> 57 | G34: =E34+6 -> 60
D35: 10 | E35: 66 | F35: =E35+3 -> 69 | G35: =E35+6 -> 72

Sheet Tir
B2: BASE CT | C2: 0.4 | E2: Base degats | F2: 13
D6: Base | E6: 40
D10: 0 | E10: 10 | F10: 20 | G10: 30 | H10: 40 | I10: 50 | J10: 60 | K10: 70 | L10: 80 | M10: 90 | N10: 100 | O10: Moy | P10: Moy par actions
A11: 1/2 action | B11: tir cc | C11: 50 | D11: 13 | E11: 13 | F11: 13 | G11: 13 | H11: 13 | I11: 13 | J11: 0 | K11: 0 | L11: 0 | M11: 0 | N11: 0 | O11: =SUM(D11:N11)/11 -> 7.0909091 | P11: =O11*2 -> 14.181818
B12: tir cc + V | C12: 60 | D12: 13 | E12: 13 | F12: 13 | G12: 13 | H12: 13 | I12: 13 | J12: 13 | K12: 0 | L12: 0 | M12: 0 | N12: 0 | O12: =SUM(D12:N12)/11 -> 8.2727273 | P12: =O12 -> 8.2727273
A13: 1 action | B13: tir rafale + V | C13: 50 | D13: 39 | E13: 39 | F13: 26 | G13: 26 | H13: 13 | I13: 13 | J13: 0 | K13: 0 | L13: 0 | M13: 0 | N13: 0 | O13: =SUM(D13:N13)/11 -> 14.181818 | P13: =O13 -> 14.181818
B14: tir rafale | C14: 40 | D14: 39 | E14: 26 | F14: 26 | G14: 13 | H14: 13 | I14: 0 | J14: 0 | K14: 0 | L14: 0 | M14: 0 | N14: 0 | O14: =SUM(D14:N14)/11 -> 10.636364 | P14: =O14 -> 10.636364
B15: tir full | C15: 30 | D15: 52 | E15: 39 | F15: 26 | G15: 13 | H15: 0 | I15: 0 | J15: 0 | K15: 0 | L15: 0 | M15: 0 | N15: 0 | O15: =SUM(D15:N15)/11 -> 11.818182 | P15: =O15 -> 11.818182
D18: Base | E18: 60
D22: 0 | E22: 10 | F22: 20 | G22: 30 | H22: 40 | I22: 50 | J22: 60 | K22: 70 | L22: 80 | M22: 90 | N22: 100 | O22: Moy | P22: Moy par actions
A23: 1/2 action | B23: tir cc | C23: 50 | D23: 13 | E23: 13 | F23: 13 | G23: 13 | H23: 13 | I23: 13 | J23: 13 | K23: 13 | L23: 0 | M23: 0 | N23: 0 | O23: =SUM(D23:N23)/11 -> 9.4545455 | P23: =O23*2 -> 18.909091
B24: tir cc + V | C24: 60 | D24: 13 | E24: 13 | F24: 13 | G24: 13 | H24: 13 | I24: 13 | J24: 13 | K24: 13 | L24: 13 | M24: 0 | N24: 0 | O24: =SUM(D24:N24)/11 -> 10.636364 | P24: =O24 -> 10.636364
A25: 1 action | B25: tir rafale + V | C25: 50 | D25: 39 | E25: 39 | F25: 39 | G25: 39 | H25: 26 | I25: 26 | J25: 13 | K25: 13 | L25: 0 | M25: 0 | N25: 0 | O25: =SUM(D25:N25)/11 -> 21.272727 | P25: =O25 -> 21.272727
B26: tir rafale | C26: 40 | D26: 39 | E26: 39 | F26: 39 | G26: 26 | H26: 26 | I26: 13 | J26: 13 | K26: 0 | L26: 0 | M26: 0 | N26: 0 | O26: =SUM(D26:N26)/11 -> 17.727273 | P26: =O26 -> 17.727273
B27: tir full | C27: 30 | D27: 78 | E27: 65 | F27: 52 | G27: 39 | H27: 26 | I27: 13 | J27: 0 | K27: 0 | L27: 0 | M27: 0 | N27: 0 | O27: =SUM(D27:N27)/11 -> 24.818182 | P27: =O27 -> 24.818182

Sheet Talents
B3: Les talents psychiques :
B4: Puits de pouvoir 2 diminue de 2 le resultat du dés de FM
B5: Conduit Warp 2 diminue de 4 le resultat du dés de FM mais ajoute un point de remou a chaque sort
B7: Les talents de Combat rapproché :
B9: Assaut acharné 3
B10: Assomment 2
B11: Attaque rapide 3
B12: Attaque éclair 3 Attaque rapide
B13: Charge de berzerker 2
B14: Combat à deux armes (Corps à corps) 2 CC 45
B15: Combat en aveugle 2 perception 40
B16: Combat de rue 2
... B157: Talentueux 5

Sheet Talents descr
B3: Les talents psychiques :
B5: Puits de pouvoir 2 XP (niveau psy II) : Vous bénéficiez d'un bonus de 1 aux jets de puissance. Vous pouvez prendre ce talent plusieurs fois, ses effets sont alors cumulatif. (max 2 par tranche de 1 0 XP)
B6: Conduit Warp 2 XP (niveau psy, Forte tête, FM 10) : Vous pouvez augmentez votre niveau psychique de 1, et donc lancer un dé de pouvoir en plus, lorsque vous utilisez un pouvoir. Cependant, vous causez automatiquement un phénomène psychique.
B8: Les talents de Combat rapproché :
B10: Assaut acharné 3 XP : Vous enchainez les coup et faites pleuvoir la mort sur vos ennemi. Lorsque vous touchez un adversaire pendant une action d'attaque outrance, vous pouvez lancer une attaque supplémentaire avec les mêmes modificateur que l'attaque originelle.
B11: Assomment 2 XP: vous avez le chic pour prendre vos adversaires vivant. Vous pouvez annoncez vouloir assommer votre adversaire au moyen d'une demi action. Si vous touchez et effectuez des dégâts, ceux si sont ignoré mais la cible doit effectuer un test d'END seuil 4 1 par dégâts qu'elle aurait du subir. Si elle echoue, elle est assomée pour 1 round 1 par tranche de 2 points d’échec.
B12: Attaque rapide 3 Xp : vous attaquez deux fois au corps à corps au moyen d'une action complète. SI vous vous battez à deux armes, vous attaquez deux fois avec l’arme principale, et une fois avec l'arme secondaire.
B13: Attaque éclair 3 XP (Attaque rapide) : Comme ci dessus, mais votre main principale fait 3 attaques.
B14: Charge de berzerker 2 XP : au terme d'une charge, vous bénéficiez d'un bonus de 2 en au lieu de 1.
B15: Combat à deux armes 2 XP ( agilité 45) : Vous pouvez vous battre avec deux armes de à une main. Vous pouvez entreprendre une action complète pour attaquer avec celles ci, mais chacun des tests d'attaque s'effectue avec un malus de -2.
B16: Combat en aveugle 2 Xp ( perception 45) : En raison des longues années à vous entrainer, vous n'avez plus besoin de voir vos adversaire pour les toucher. Vous diminuez de moitié les malus de combat basé sur la vue (fumée, obscurité . . .).
B17: Combat de rue 2 XP : vous êtes passé maitre dans l'art des coups vicieux. Lorsque vous infligez des dégâts à l'aide d'un couteau ou de vos mains nues, vous infligez 2 dégâts.
... B163: Talentueux 5 XP : Voter maitrise parfaite d'un domaine d'application ou de connaissance vous accorde un bonus spécial de 2 dans une compétence.

Sheet talents add
A1: Colonne1 | B1: Colonne2 | C1: Colonne3 | D1: Colonne4
A2: Air of Authority | B2: Fel 30 | C2: Affect more targets with Test. | D2: Core Rulebook
A3: Ambidextrous | B3: Ag 30 | C3: Use either hand equally well. | D3: Core Rulebook
A4: Armour of Contempt | B4: WP 40 | C4: You are resilient to Corruption. | D4: Core Rulebook
A5: Arms Master | B5: BS 30, Basic Weapon Training | C5: Use non-proficient weapons at –10 penalty. | D5: Core Rulebook
A6: Assassin Strike | B6: Ag 40, Acrobatic | C6: On a successful Acrobatics Test after making a melee attack, you may move as a Free Action. | D6: Core Rulebook
A7: Autosanguine | C7: Heal 2 Damage/day, always Lightly Wounded. | D7: Core Rulebook
A8: Basic Weapon Training | C8: Use weapon group without penalty. | D8: Core Rulebook
A9: Battle Rage | B9: Frenzy | C9: Parry while Frenzied. | D9: Core Rulebook
A10: Berserk Charge | C10: Gain +20 bonus when Charging. | D10: Core Rulebook
A11: Binary Chatter | C11: +10 bonus to control servitors. | D11: Core Rulebook
A12: Blademaster | B12: WS 30, Melee Weapon Training | C12: Re-roll a missed attack, once per Round. | D12: Core Rulebook
A13: Blind Fighting | B13: Per 30 | C13: Suffer half the usual penalties when vision is obscured. | D13: Core Rulebook
A14: Bulging Biceps | B14: S 45 | C14: Remove bracing requirement for certain weapons. | D14: Core Rulebook
A15: Catfall | B15: Ag 30 | C15: Reduce falling Damage. | D15: Core Rulebook
A16: Chem Geld | C16: Immune to seduction, resistant to charm. | D16: Core Rulebook
A17: Cleanse and Purify | B17: Basic Weapon Training | C17: Penalty to avoid being hit by your flamer attacks. | D17: Core Rulebook
A18: Combat Master | B18: WS 30 | C18: Opponents get no bonus for outnumbering you. | D18: Core Rulebook
A19: Concealed Cavity | C19: You have a secret compartment on you. | D19: Core Rulebook
A20: Corpus Conversion | B20: Psy Rating 2 | C20: Take Damage to improve Power Roll. | D20: Core Rulebook
A21: Counter-attack | B21: WS 40 | C21: Gain free attack with a successful Parry. | D21: Core Rulebook
A22: Crack Shot | B22: BS 40 | C22: Deal +2 Critical Damage with a ranged weapon. | D22: Core Rulebook
A23: Crippling Strike | B23: WS 50 | C23: Deal +1d5–1 Critical Damage with a melee weapon. | D23: Core Rulebook
A24: Crushing Blow | B24: S 40 | C24: Deal +2 Damage with a melee weapon. | D24: Core Rulebook
A25: Dark Soul | C25: Take half the penalty on Malignancy Tests. | D25: Core Rulebook
A26: Deadeye Shot | B26: BS 30 | C26: Called Shots are at –10 penalty. | D26: Core Rulebook
A27: Decadence | B27: T 30 | C27: Gain uncanny resistance to drugs and alcohol. | D27: Core Rulebook
A28: Deflect Shot | B28: Ag 50 | C28: You can Parry Primitive ranged attacks. | D28: Core Rulebook
A29: Die Hard | B29: WP 40 | C29: Re-roll death chance incurred by Blood Loss. | D29: Core Rulebook
A30: Disarm | B30: Ag 30 | C30: Force opponent to drop his weapon. | D30: Core Rulebook
A31: Discipline Focus | B31: Psy Rating 3 | C31: Gain +2 on Power Rolls to manifest discipline powers. | D31: Core Rulebook
A32: Disturbing Voice | C32: +10 bonus to Intimidate and Interrogation, –10 penalty to Fel. | D32: Core Rulebook
A33: Double Team | C33: Gain additional +10 bonus for ganging up. | D33: Core Rulebook
A34: Dual Shot | B34: Ag 40, Two-Weapon Wielder | C34: One Ballistic Skill Test hits target twice. | D34: Core Rulebook
A35: Dual Strike | B35: Ag 40, Two-Weapon Wielder | C35: One Weapon Skill Test hits target twice. | D35: Core Rulebook
A36: Electrical Succour | B36: Tech-Priest (Electoo inductor/Potentia coil) | C36: +10 bonus to Toughness Tests to remove Fatigue. | D36: Core Rulebook
A37: Electro Graft Use | C37: +10 bonus to Inquiry, Tech-Use, Common Lore. | D37: Core Rulebook
A38: Energy Cache | B38: Tech-Priest (Potentia coil) | C38: Luminen Blast, Charge and Shock are Fatigue free. | D38: Core Rulebook
A39: Exotic Weapon Training | C39: Use an exotic weapon without penalty. | D39: Core Rulebook
A40: Favoured by the Warp | B40: WP 35 | C40: Roll twice for Psychic Phenomena and take the better result. | D40: Core Rulebook
...

Sheet Phénomènes psy
A1: nb | B1: description phénomènes
A2: 1 | B2: Sombre pressentiment : une brise très légère souffle sur le psyker et ceux qui l’entourent, et tous ont l’intuition troublante que quelque chose de tragique vient de survenir quelque part dans la galaxie.
A3: 2 | B3: Everyone within 1d10 meters of the psyker (except the psyker) is healed by 1 wound.
A4: 3 | B4: Écho du Warp: quels que soient les environs, des voix et d’autres bruits provoquent comme un écho pendant quelques secondes.
A5: 4 | B5: Écho du Warp: quels que soient les environs, des voix et d’autres bruits provoquent comme un écho pendant quelques secondes.
A6: 5 | B6: A nearby object, wall, floor, ceiling or minor NPC turns irrevocably into an unidentified liquid.
A7: 6 | B7: Odeur éthérée : l’air autour du psyker s’emplit d’une odeur ténue pouvant être agréable ou nauséabonde.
A8: 7 | B8: Walls, ceilings and floors within 2d10 meters around the psyker become see-through for 1d10 rounds.
A9: 8 | B9: Walls, ceilings and floors within 2d10 meters around the psyker become see-through for 1d10 rounds.
A10: 9 | B10: Montée de paranoïa : le psyker ressent un frisson entre les omoplates pendant quelques instants.
A11: 10 | B11: Everyone within 1d10 meters of the psyker (including the psyker) take 1 wound. Saigne des yeux, du nez etc
A12: 11 | B12: Everyone within 1d10 meters of the psyker (including the psyker) take 1 wound. Saigne des yeux, du nez etc
A13: 12 | B13: Froid sépulcral : la température chute brutalement pendant quelques secondes, et une fine couche de givre recouvre tout dans un rayon de 3d10 mètres autour du psyker.
... A75: 74 | B75: Démence du Warp: une violente onde de discorde se propage. Toutes les créatures présentes dans un rayon de 2d10 mètres (à l’exception du psyker) sont prises de Frénésie pour 1 round et gagnent 1 point de Corruption.
A76: Nb | B76: Périls
A77: 1 | B77: Le psycker pris d'un sursaut tire une rafale sur la prmière cible à portée
A78: 2 | B78: Le psycker pris d'un sursaut tire une rafale sur la prmière cible à portée
A79: 3 | B79: le sol sous le psycker se met à vouloir le retenir il doit faire un jet à agi -10 puis au tour suivant -20 puis -30 etc. il souffre 1D10 dégats par tours
A80: 4 | B80: le sol sous le psycker se met à vouloir le retenir il doit faire un jet à agi -10 puis au tour suivant -20 puis -30 etc. il souffre 1D10 dégats par tours
A81: 5 | B81: le sol sous le psycker se met à vouloir le retenir il doit faire un jet à agi -10 puis au tour suivant -20 puis -30 etc. il souffre 1D10 dégats par tours
A82: 6 | B82: Le psycker pris d'un sursaut tire une rafale sur la prmière cible à portée
A83: 7 | B83: Psydéflagration : une explosion de puissance se produit et le psyker est projeté de 1d10 mètres en l’air avant de retomber au sol 1D10*m dégats de chute
A84: 8 | B84: Concussion psychique : dans un claquement d’énergie, le psyker est plongé dans l’inconscience pour 1d5 rounds et tous les personnages situés dans un rayon de 3d10 mètres doivent réussir un test de Force Mentale sous peine d’être assommés pendant 1 round.
A85: 9 | B85: Brûlure warp: une violente vague d’énergie du Warp s’écrase contre l’esprit du psyker et le fait vaciller. Il est assommé pendant 1d5 rounds.
A86: 10 | B86: Le psycker pris d'un sursaut tire une rafale sur la prmière cible à portée
A87: 11 | B87: le sol sous le psycker se met à vouloir le retenir il doit faire un jet à agi -10 puis au tour suivant -20 puis -30 etc. il souffre 1D10 dégats par tours
A88: 12 | B88: le sol sous le psycker se met à vouloir le retenir il doit faire un jet à agi -10 puis au tour suivant -20 puis -30 etc. il souffre 1D10 dégats par tours
... A176: 100 | B176: le psyker disparait d'un coup laissant en lieu et place une étincelle à 1m du sol qui grossit en taille et devient un petit soleil de 1m de rayon qui finit par exploser infligeant 3D20 a tous ceux à porté

Sheet Tableaux
D3: Mot de pouvoir | F3: Focalisation | H3: Element | J3: Puissance
D4: Creo | E4: Dizain | F4: Target | G4: lakshy | H4: Terre | I4: Gandagee | J4: Sous-puissance | K4: Kam
D5: Muto | E5: Parivartan | F5: Zone | G5: Kshetr | H5: Feu | I5: Faiu | J5: Normale | K5: Madhyam
D6: Perdo | E6: Nasht | F6: Plusieurs cibles | G6: Vibhinn | H6: Air | I6: Vaayu | J6: Surpuissance | K6: Prabal
D7: Rego | E7: Niyantran | F7: Cac | G7: Sparsh | H7: Eau | I7: Paanee
D8: Intelligo | E8: Samajhana | F8: Distance | G8: Renj | H8: Plantes | I8: Paudhon
O10: Gabarit | P10: CC | Q10: CT | R10: FO | S10: En | T10: Agi | U10: Per | V10: FM | W10: PV | X10: Blessures | Y10: Tier
O11: Minuscule | P11: 15 | Q11: 15 | R11: 5 | S11: 5 | T11: 60 | U11: 20 | V11: 30 | W11: 3 | X11: 0 | Y11: I | AA11: Particularité | AB11: Effet Tier I 0 Degré | AC11: Effet Tier II 1 Degré | AD11: Effet Tier III 3 Degrés
O12: Petit | P12: 30 | Q12: 30 | R12: 15 | S12: 20 | T12: 40 | U12: 35 | V12: 30 | W12: 8 | X12: 1 | Y12: I | AA12: Griffes | AB12: 1D6+fo | AC12: 1D10+fo | AD12: 2D10+fo
O13: Moyen | P13: 35 | Q13: 30 | R13: 30 | S13: 40 | T13: 30 | U13: 20 | V13: 30 | W13: 13 | X13: 2 | Y13: II | AA13: Dvpt Musculaire | AB13: +5 fo et en | AC13: +10 fo end | AD13: +30 fo end
AA14: Ailes | AB14: XXX | AC14: Ailes
AA15: Pouvoirs Psy | AB15: XXX | AC15: XXX | AD15: Pouvoirs basés sur émotions de l'endroit décrit par MJ
AE23: Porte n° | AF23: Contrecoups | AG23: Gain | AH23: Tier
AE24: Porte 1 "L'ouverture" | AF24: 1pv /tour | AG24: Prendre un aspect | AH24: I
AE25: Porte 2 "Le repos" | AF25: 1d3pv /t | AG25: Prendre 2 aspects | AH25: I
AE26: Porte 3 "La vie" | AF26: 1d6pv /t | AG26: Passage au tier 2 des aspects déjà acquis | AH26: II
AE27: Porte 4 "La douleur" | AF27: 1d6pv + 1 lésion /t | AG27: "On fire" (1d6 dégâts a ceux au contact) | AH27: II
AI30: Aspect | AJ30: Carac | AK30: Tier I | AL30: Tier II | AM30: Tier II
AI31: Taureau | AJ31: Fo | AK31: +10 | AL31: +20 | AM31: +30 +assomement
AP43: Sous-puissance | AQ43: Normale | AR43: Surpuissance | AS43: Overkill
AO44: Bonus | AP44: -15 | AQ44: +5 | AR44: +20 | AS44: +1D6 par jetons
AO45: PP | AP45: 4 | AQ45: 8 | AR45: 12 | AS45: 16
AO46: Remous | AP46: 0 | AQ46: 1 | AR46: 3 | AS46: 0
AU48: Focalisation | AV48: Bonus
AU49: Target | AV49: 5
AU50: Zone | AV50: -20 -> -X
AU51: Plusieurs cibles | AV51: -5*nb
AU52: Cac | AV52: 10
AU53: Distance | AV53: -5 -> -20
AW54: Armes
AW55: Nom
AW56: Dégats | AY56: Pén | BA56: Rech
AW57: Mode | AY57: Portée | BA57: AT
AW58: Attributs
BC60: Nom
BC61: Dégats | BE61: Pén
BC62: Attributs
BG64: Autres Armes
BN71: B | BO71: +10 | BP71: +20
BK72: Investigation:
...

Sheet Gestion HP backup
D2: Gestion PV
B6: REF VALEURS PJ | I6: Attacker
C7: endu | D7: armure | E7: PV | F7: Lésions | G7: Blessures | I7: 1 | L7: Endurance cible | M7: =VLOOKUP(I7,A8:G12,3) -> 5
A8: 1 | B8: Sebastien | C8: 5 | D8: 4 | E8: 15 | F8: =2*C8 -> 10 | G8: =C8 -> 5 | I8: Dégat arme | J8: 18 | L8: Armure cible | M8: =VLOOKUP(I7,A8:G12,4) -> 4
A9: 2 | B9: Benjamin | C9: 6 | D9: 7 | E9: 24 | F9: =2*C9 -> 12 | G9: =C9 -> 6 | I9: Penetration | J9: 4 | L9: Pv Cible | M9: =VLOOKUP(I7,A8:G12,5) -> 15
A10: 3 | B10: Francois | C10: 4 | D10: 5 | E10: 20 | F10: =2*C10 -> 8 | G10: =C10 -> 4 | L10: Lésions Cible | M10: =VLOOKUP(I7,A8:G12,6) -> 10
A11: 4 | B11: Thomas | C11: 4 | D11: 17 | E11: 20 | F11: 8 | G11: 4 | I11: Dégats reçus | J11: =IF((M7+J12-J8)<=0,(-1*(M7+J12-J8)),0) -> 13 | L11: Blessures Cible | M11: =VLOOKUP(I7,A8:G12,7) -> 5
A12: 5 | B12: Yann | C12: 5 | D12: 80 | E12: 20 | F12: 8 | G12: 4 | I12: Armure effective | J12: =IF(M8-J9>=0,M8-J9,0) -> 0
C13: RESTE en combat
B14: Joueur | C14: 1 | D14: 2 | E14: 3 | F14: 4 | G14: 5
B15: PV | C15: 10 | D15: 17 | E15: 15 | F15: 20 | G15: 20
B16: Lésions | C16: 7 | D16: 6 | E16: 7 | F16: 8 | G16: 8
B17: Blessures | C17: 1 | D17: 5 | E17: 4 | F17: 4 | G17: 4
B19: Perte PV | C19: =(C21*15+C20*M7)-J11 -> -3 | E19: Calc lésion | F19: =MOD(MOD(J11,15),M7) -> 3
B20: Perte lésion | C20: =IF(J11>=M7,QUOTIENT(F20,M7),0) -> 2 | E20: Calc blessure | F20: =MOD(J11,15) -> 13
B21: Perte blessure | C21: =IF(J11>=15,QUOTIENT(J11,15),0) -> 0
D23: Gestion Psychique
B25: Remous | C25: 58 | E25: =IF(C25>10,IF(RANDBETWEEN(1,100)<C25*3,1,0),0) -> 1 | I25: paires | J25: triples | K25: quadruples | L25: quintuples | M25: Score total
H26: Overkill | I26: 2 | J26: 1 | K26: 0 | L26: 0 | M26: =I26*2+J26*3+K26*10+L26*20 -> 7
B28: valeur phénomène | C28: =IF(E25>0,RANDBETWEEN(1,100),0) -> 67 | D28: =VLOOKUP(C28,'Phénomènes psy'!A2:B75,2) -> Aperçu du Warp: le temps d’une fraction de seconde, le décor change d’apparence et tous les individus présents dans un rayon de 1d100 mètres ont une vision du Warp. Tout personnage présent dans ce périmètre (y compris le psyker) doit réussir un test de Force Mentale sous peine de gagner 1d5 points de Folie. | H28: phénomène | I28: =M26+RANDBETWEEN(1,100) -> 13 | J28: =VLOOKUP(I28,'Phénomènes psy'!A2:B75,2) -> All doors within 4d10 meters of the psyker are opened if they are closed, or closed if they are open.
B29: Valeur Péril | C29: =IF(C28>74,RANDBETWEEN(1,100),0) -> 0 | D29: =VLOOKUP(C29,'Phénomènes psy'!A77:B176,2) -> #N/A | H29: Péril | I29: =IF(I28>100,RANDBETWEEN(1,100),0) -> 0 | J29: =VLOOKUP(I29,'Phénomènes psy'!A77:B176,2) -> #N/A

Sheet Feuil8
A1: 1d500 | B1: Biological Mutations
A2: 1 | B2: Grotesque. Distressingly deformed, scarred, or mangled. -20 Fellowship, then roll again on this table.
A3: 2 | B3: Corrupted Organs. Your guts writhe. Whenever you gain a Critical Wound, everyone in 20 meters must face a Fear (2) check.
A4: 3 | B4: Bat Wings. Huge, flappy. Fly speed equal to your Movement speed.
A5: 4 | B5: Burst of Speed. Once per day, can double movement for 10 minutes.
A6: 5 | B6: Barrel Chest. +5 to toughness, +1d5 to wounds
A7: 7 | B7: Hooved. 2 of your legs end in hooves. No effect.
A8: 8 | B8: Unstable. On death, parasitic limbs try to grapple nearby targets, fuse to them.
A9: 9 | B9: Crab Arm. One hand becomes a claw. You gain the Natural Weapon (pen 2) trait, but take -10 to hit with it.
A10: 10 | B10: Hook Fingers. Locked and bony, on one hand. You gain the Natural Weapon Trait, claw attack, but cannot hold weapons in that hand.
A11: 11 | B11: Patterned Skin. Stripes.
A12: 14 | B12: Poison Spot. Bright blue, the size of a coin, appears on a location at the GM's discretion. Anyone touching it must roll toughness check or take 2d10 toxic damage (ignored by armour).
A13: 17 | B13: Neck Frill. Can inflate to frighten beasts.
... A102: 494 | B102: Herbivore. Can only eat plants for sustenance.
B104: Tremblements. Le PJ souffre de plusieurs tics mineurs, de tremblements et de tressaillements n’ayant aucune cause
B106: médicale. Réduisez son Agilité de 1d10.
B118: 23–25 Sensibilité diurne. La lumière fait souffrir le PJ, et à moins qu’il ne protège ses yeux, il subit un malus de –10 à tous
B120: les tests quand il est dans une zone vivement éclairée.
B138: 46–50 Haine. Le PJ développe une haine implacable pour un groupe, un individu ou une classe sociale. Il ne fera équipe
B140: avec les membres de ce groupe et ne les aidera qu’en cas de nécessité absolue ou sur un ordre explicite, et encore,
B142: de mauvaise grâce.
B144: 51–55 Nausée irrationnelle. Le PJ est victime de nausées provoquées par la vue ou le son de quelque chose de tout
B146: à fait anodin comme les livres de prière et les objets sacrés, la peau nue, le rire humain, la nourriture fraîche, les
B148: crustacés, etc. Quand il est confronté à la cause de son dégoût, il doit effectuer un test d’Endurance pour éviter de
B150: subir un malus de –10 à tous les tests tant qu’il reste en sa présence.
B152: 56–60 Dessèchement. Le PJ devient d’une pâleur cadavérique et ses muscles s’atrophient. Réduisez sa Force de 1d10.
... B502: requisite number of souls, though, the daemon grows exponentially more powerful.
