Workbook

Sheet Feuil1
A1: ANNEE : | B1: 2019
A2: MOIS : | B2: JANVIER | E2: =IF(AND(B2<>"",B2<>"",B3<>""),"Signataire " & B2 & " " & B1 & " " & B3,"""""") -> Signataire JANVIER 2019 RH
A3: BUREAU : | B3: RH
E7: =IF($D$8<>"",Feuil2!K2,"") -> Nombre de document | F7: =IF($D$8<>"",Feuil2!L2,"") -> Visa CBJDC | G7: =IF($D$8<>"",Feuil2!M2,"") -> Visa chef Sec dir | H7: =IF($D$8<>"",Feuil2!N2,"") -> Commentaires
B8: 1 | C8: =DATE($B$1,VLOOKUP($B$2,Feuil2!$D$1:$E$13,2,FALSE),Feuil1!B8) -> 43466 | D8: =IF(AND($B$1<>"",$B$2<>""),TEXT(C8,"jjjj") & " " & TEXT(C8,"jj"),"") -> mardi 01
B9: 2 | C9: =DATE($B$1,VLOOKUP($B$2,Feuil2!$D$1:$E$13,2,FALSE),Feuil1!B9) -> 43467 | D9: =IF(AND($B$1<>"",$B$2<>""),IF(MONTH(C9)=MONTH($C$8),TEXT(C9,"jjjj") & " " & TEXT(C9,"jj"),""),"") -> mercredi 02
B10: 3 | C10: =DATE($B$1,VLOOKUP($B$2,Feuil2!$D$1:$E$13,2,FALSE),Feuil1!B10) -> 43468 | D10: =IF(AND($B$1<>"",$B$2<>""),IF(MONTH(C10)=MONTH($C$8),TEXT(C10,"jjjj") & " " & TEXT(C10,"jj"),""),"") -> jeudi 03
B11: 4 | C11: =DATE($B$1,VLOOKUP($B$2,Feuil2!$D$1:$E$13,2,FALSE),Feuil1!B11) -> 43469 | D11: =IF(AND($B$1<>"",$B$2<>""),IF(MONTH(C11)=MONTH($C$8),TEXT(C11,"jjjj") & " " & TEXT(C11,"jj"),""),"") -> vendredi 04
B12: 5 | C12: =DATE($B$1,VLOOKUP($B$2,Feuil2!$D$1:$E$13,2,FALSE),Feuil1!B12) -> 43470 | D12: =IF(AND($B$1<>"",$B$2<>""),IF(MONTH(C12)=MONTH($C$8),TEXT(C12,"jjjj") & " " & TEXT(C12,"jj"),""),"") -> samedi 05
B13: 6 | C13: =DATE($B$1,VLOOKUP($B$2,Feuil2!$D$1:$E$13,2,FALSE),Feuil1!B13) -> 43471 | D13: =IF(AND($B$1<>"",$B$2<>""),IF(MONTH(C13)=MONTH($C$8),TEXT(C13,"jjjj") & " " & TEXT(C13,"jj"),""),"") -> dimanche 06
B14: 7 | C14: =DATE($B$1,VLOOKUP($B$2,Feuil2!$D$1:$E$13,2,FALSE),Feuil1!B14) -> 43472 | D14: =IF(AND($B$1<>"",$B$2<>""),IF(MONTH(C14)=MONTH($C$8),TEXT(C14,"jjjj") & " " & TEXT(C14,"jj"),""),"") -> lundi 07
B15: 8 | C15: =DATE($B$1,VLOOKUP($B$2,Feuil2!$D$1:$E$13,2,FALSE),Feuil1!B15) -> 43473 | D15: =IF(AND($B$1<>"",$B$2<>""),IF(MONTH(C15)=MONTH($C$8),TEXT(C15,"jjjj") & " " & TEXT(C15,"jj"),""),"") -> mardi 08
B16: 9 | C16: =DATE($B$1,VLOOKUP($B$2,Feuil2!$D$1:$E$13,2,FALSE),Feuil1!B16) -> 43474 | D16: =IF(AND($B$1<>"",$B$2<>""),IF(MONTH(C16)=MONTH($C$8),TEXT(C16,"jjjj") & " " & TEXT(C16,"jj"),""),"") -> mercredi 09
B17: 10 | C17: =DATE($B$1,VLOOKUP($B$2,Feuil2!$D$1:$E$13,2,FALSE),Feuil1!B17) -> 43475 | D17: =IF(AND($B$1<>"",$B$2<>""),IF(MONTH(C17)=MONTH($C$8),TEXT(C17,"jjjj") & " " & TEXT(C17,"jj"),""),"") -> jeudi 10
B18: 11 | C18: =DATE($B$1,VLOOKUP($B$2,Feuil2!$D$1:$E$13,2,FALSE),Feuil1!B18) -> 43476 | D18: =IF(AND($B$1<>"",$B$2<>""),IF(MONTH(C18)=MONTH($C$8),TEXT(C18,"jjjj") & " " & TEXT(C18,"jj"),""),"") -> vendredi 11
B19: 12 | C19: =DATE($B$1,VLOOKUP($B$2,Feuil2!$D$1:$E$13,2,FALSE),Feuil1!B19) -> 43477 | D19: =IF(AND($B$1<>"",$B$2<>""),IF(MONTH(C19)=MONTH($C$8),TEXT(C19,"jjjj") & " " & TEXT(C19,"jj"),""),"") -> samedi 12
B20: 13 | C20: =DATE($B$1,VLOOKUP($B$2,Feuil2!$D$1:$E$13,2,FALSE),Feuil1!B20) -> 43478 | D20: =IF(AND($B$1<>"",$B$2<>""),IF(MONTH(C20)=MONTH($C$8),TEXT(C20,"jjjj") & " " & TEXT(C20,"jj"),""),"") -> dimanche 13
... B38: 31 | C38: =DATE($B$1,VLOOKUP($B$2,Feuil2!$D$1:$E$13,2,FALSE),Feuil1!B38) -> 43496 | D38: =IF(AND($B$1<>"",$B$2<>""),IF(MONTH(C38)=MONTH($C$8),TEXT(C38,"jjjj") & " " & TEXT(C38,"jj"),""),"") -> jeudi 31

Sheet Feuil2
D1: Mois | E1: Num | G1: Année | I1: Bureau | K1: En-tête
D2: JANVIER | E2: 1 | G2: 2019 | I2: SEC DIR | K2: Nombre de document | L2: Visa CBJDC | M2: Visa chef Sec dir | N2: Commentaires
D3: FÉVRIER | E3: 2 | G3: 2020 | I3: RH
D4: MARS | E4: 3 | G4: 2021 | I4: BUDGET
D5: AVRIL | E5: 4 | G5: 2022 | I5: PREV - INC
D6: MAI | E6: 5 | G6: 2023 | I6: SSI - CORSIC
D7: JUIN | E7: 6 | G7: 2024 | I7: BJDC 68
D8: JUILLET | E8: 7 | G8: 2025 | I8: BJDC67
D9: AOÛT | E9: 8 | G9: 2026 | I9: REF - METIER
D10: SEPTEMBRE | E10: 9 | G10: 2027 | I10: COORD
D11: OCTOBRE | E11: 10 | G11: 2028 | I11: COM
D12: NOVEMBRE | E12: 11 | G12: 2029 | I12: CBJDC
D13: DÉCEMBRE | E13: 12 | G13: 2030
