Workbook
Name Header: #REF!
Name Header: #REF!
Name RawData: #REF!
Name RawData: #REF!

Sheet Data
C1: 7 years | E1: 2023 | F1: =E1+1 -> 2024 | G1: =F1+1 -> 2025 | H1: =G1+1 -> 2026 | I1: 2027 | J1: 2028 | K1: 2029 | M1: Comments | R1: Adjust first year. Please keep 5-year time span.
E2: =COUNTIF($E$1:E$1,">0")*12 -> 12 | F2: =COUNTIF($E$1:F$1,">0")*12 -> 24 | G2: =COUNTIF($E$1:G$1,">0")*12 -> 36 | H2: =COUNTIF($E$1:H$1,">0")*12 -> 48 | I2: 60 | J2: 72 | K2: 84
A3: General assumptions | R3: State overall assumptions, from the business model, on which the benefits or costs of the project will depend. Typically: NTO growth, volumes of activity, FTEs, number of users, etc.
B4: Assumption #1
B5: Assumption #2
B6: Assumption #3
B7: Assumption #4
B8: Assumption #5
A10: Direct financial benefits | C10: =SUM(E10:K10) -> 1036 | E10: =SUM(E11:E15) -> 148 | F10: =SUM(F11:F15) -> 148 | G10: =SUM(G11:G15) -> 148 | H10: =SUM(H11:H15) -> 148 | I10: =SUM(I11:I15) -> 148 | J10: =SUM(J11:J15) -> 148 | K10: =SUM(K11:K15) -> 148 | R10: List direct financial upsides (if any) to the project. This can be cost savings or direct revenue (when system built is central to the business case).
B11: SAVING MEV | E11: 148 | F11: 148 | G11: 148 | H11: 148 | I11: 148 | J11: 148 | K11: 148
B12: Benefit #2
B13: Benefit #3
B14: Benefit #4
B15: Benefit #5
A17: Build costs (one shot), CAPEX, cash view | C17: =SUM(E17:K17) -> 600 | E17: =SUM(E18:E27) -> 600 | F17: =SUM(F18:F27) -> 0 | G17: =SUM(G18:G27) -> 0 | H17: =SUM(H18:H27) -> 0 | I17: =SUM(I18:I27) -> 0 | J17: =SUM(J18:J27) -> 0 | K17: =SUM(K18:K27) -> 0 | M17: Length | N17: Lag | R17: Detail the build costs for the project that will be amortized. Please state the cash view per year and, for each line item, over what period of time (Length, in months) it will be depreciated (in IT, 36 months is a frequent value).Please also specify (Lag, in months) how long the capitalized amount will remain in the balance sheet, before depreciation begins. This is usually the time spent to build the asset. For instance, if Lag=18, depreciation will start on the 7th month of the second year.
B18: Back-end solution | E18: 600 | M18: 60 | N18: 0
B19: Cost #2 | M19: 36 | N19: 6
B20: Cost #3 | M20: 36 | N20: 6
B21: Cost #4 | M21: 36 | N21: 6
B22: Cost #5 | M22: 36 | N22: 6
B23: Cost #6 | M23: 36 | N23: 6
B24: Cost #7 | M24: 36 | N24: 6
B25: Cost #8 | M25: 36 | N25: 6
B26: Cost #9 | M26: 36 | N26: 6
B27: Cost #10 | M27: 36 | N27: 6
A29: Build costs (one shot), CAPEX, P&L view | C29: =SUM(E29:K29)+M29 -> 600 | E29: =SUM(E30:E39) -> 120 | F29: =SUM(F30:F39) -> 120 | G29: =SUM(G30:G39) -> 120 | H29: =SUM(H30:H39) -> 120 | I29: =SUM(I30:I39) -> 120 | J29: =SUM(J30:J39) -> 0 | K29: =SUM(K30:K39) -> 0 | M29: =SUM(M30:M39) -> 0 | R29: This is an amortization estimate. Actual depreciation schedules are usually more complex that shown here, but this should provide a good estimate. Note: the rigthmost column sums the net book value of the asset at the end of the 5-year time-span. === Do not alter any of this, or at your own risk. You've been warned! ===
B30: =B18 -> Back-end solution | E30: =IF(SUM($E18:$K18)=0,0,MIN(IF(MAX(E$2-$N18)<0, 0,MAX(E$2-$N18)),$M18)*SUM($E18:$K18)/$M18) -> 120 | F30: =IF(SUM($E18:$K18)=0,0,(MIN(IF(MAX(F$2-$N18)<0, 0, MAX(F$2-$N18)),$M18)-MIN(IF(MAX(E$2-$N18)<0, 0, MAX(E$2-$N18)),$M18))*SUM($E18:$K18)/$M18) -> 120 | G30: =IF(SUM($E18:$K18)=0,0,(MIN(IF(MAX(G$2-$N18)<0, 0, MAX(G$2-$N18)),$M18)-MIN(IF(MAX(F$2-$N18)<0, 0, MAX(F$2-$N18)),$M18))*SUM($E18:$K18)/$M18) -> 120 | H30: =IF(SUM($E18:$K18)=0,0,(MIN(IF(MAX(H$2-$N18)<0, 0, MAX(H$2-$N18)),$M18)-MIN(IF(MAX(G$2-$N18)<0, 0, MAX(G$2-$N18)),$M18))*SUM($E18:$K18)/$M18) -> 120 | I30: =IF(SUM($E18:$K18)=0,0,(MIN(IF(MAX(I$2-$N18)<0, 0, MAX(I$2-$N18)),$M18)-MIN(IF(MAX(H$2-$N18)<0, 0, MAX(H$2-$N18)),$M18))*SUM($E18:$K18)/$M18) -> 120 | J30: =IF(SUM($E18:$K18)=0,0,(MIN(IF(MAX(J$2-$N18)<0, 0, MAX(J$2-$N18)),$M18)-MIN(IF(MAX(I$2-$N18)<0, 0, MAX(I$2-$N18)),$M18))*SUM($E18:$K18)/$M18) -> 0 | K30: =IF(SUM($E18:$K18)=0,0,(MIN(IF(MAX(K$2-$N18)<0, 0, MAX(K$2-$N18)),$M18)-MIN(IF(MAX(J$2-$N18)<0, 0, MAX(J$2-$N18)),$M18))*SUM($E18:$K18)/$M18) -> 0 | M30: =SUM(E18:K18)-SUM(E30:K30) -> 0
B31: =B19 -> Cost #2 | E31: =IF(SUM($E19:$K19)=0,0,MIN(IF(MAX(E$2-$N19)<0, 0,MAX(E$2-$N19)),$M19)*SUM($E19:$K19)/$M19) -> 0 | F31: =IF(SUM($E19:$K19)=0,0,(MIN(IF(MAX(F$2-$N19)<0, 0, MAX(F$2-$N19)),$M19)-MIN(IF(MAX(E$2-$N19)<0, 0, MAX(E$2-$N19)),$M19))*SUM($E19:$K19)/$M19) -> 0 | G31: =IF(SUM($E19:$K19)=0,0,(MIN(IF(MAX(G$2-$N19)<0, 0, MAX(G$2-$N19)),$M19)-MIN(IF(MAX(F$2-$N19)<0, 0, MAX(F$2-$N19)),$M19))*SUM($E19:$K19)/$M19) -> 0 | H31: =IF(SUM($E19:$K19)=0,0,(MIN(IF(MAX(H$2-$N19)<0, 0, MAX(H$2-$N19)),$M19)-MIN(IF(MAX(G$2-$N19)<0, 0, MAX(G$2-$N19)),$M19))*SUM($E19:$K19)/$M19) -> 0 | I31: =IF(SUM($E19:$K19)=0,0,(MIN(IF(MAX(I$2-$N19)<0, 0, MAX(I$2-$N19)),$M19)-MIN(IF(MAX(H$2-$N19)<0, 0, MAX(H$2-$N19)),$M19))*SUM($E19:$K19)/$M19) -> 0 | J31: =IF(SUM($E19:$K19)=0,0,(MIN(IF(MAX(J$2-$N19)<0, 0, MAX(J$2-$N19)),$M19)-MIN(IF(MAX(H$2-$N19)<0, 0, MAX(H$2-$N19)),$M19))*SUM($E19:$K19)/$M19) -> 0 | K31: =IF(SUM($E19:$K19)=0,0,(MIN(IF(MAX(K$2-$N19)<0, 0, MAX(K$2-$N19)),$M19)-MIN(IF(MAX(H$2-$N19)<0, 0, MAX(H$2-$N19)),$M19))*SUM($E19:$K19)/$M19) -> 0 | M31: =SUM(E19:K19)-SUM(E31:K31) -> 0
B32: =B20 -> Cost #3 | E32: =IF(SUM($E20:$K20)=0,0,MIN(IF(MAX(E$2-$N20)<0, 0,MAX(E$2-$N20)),$M20)*SUM($E20:$K20)/$M20) -> 0 | F32: =IF(SUM($E20:$K20)=0,0,(MIN(IF(MAX(F$2-$N20)<0, 0, MAX(F$2-$N20)),$M20)-MIN(IF(MAX(E$2-$N20)<0, 0, MAX(E$2-$N20)),$M20))*SUM($E20:$K20)/$M20) -> 0 | G32: =IF(SUM($E20:$K20)=0,0,(MIN(IF(MAX(G$2-$N20)<0, 0, MAX(G$2-$N20)),$M20)-MIN(IF(MAX(F$2-$N20)<0, 0, MAX(F$2-$N20)),$M20))*SUM($E20:$K20)/$M20) -> 0 | H32: =IF(SUM($E20:$K20)=0,0,(MIN(IF(MAX(H$2-$N20)<0, 0, MAX(H$2-$N20)),$M20)-MIN(IF(MAX(G$2-$N20)<0, 0, MAX(G$2-$N20)),$M20))*SUM($E20:$K20)/$M20) -> 0 | I32: =IF(SUM($E20:$K20)=0,0,(MIN(IF(MAX(I$2-$N20)<0, 0, MAX(I$2-$N20)),$M20)-MIN(IF(MAX(H$2-$N20)<0, 0, MAX(H$2-$N20)),$M20))*SUM($E20:$K20)/$M20) -> 0 | J32: =IF(SUM($E20:$K20)=0,0,(MIN(IF(MAX(J$2-$N20)<0, 0, MAX(J$2-$N20)),$M20)-MIN(IF(MAX(H$2-$N20)<0, 0, MAX(H$2-$N20)),$M20))*SUM($E20:$K20)/$M20) -> 0 | K32: =IF(SUM($E20:$K20)=0,0,(MIN(IF(MAX(K$2-$N20)<0, 0, MAX(K$2-$N20)),$M20)-MIN(IF(MAX(H$2-$N20)<0, 0, MAX(H$2-$N20)),$M20))*SUM($E20:$K20)/$M20) -> 0 | M32: =SUM(E20:K20)-SUM(E32:K32) -> 0
B33: =B21 -> Cost #4 | E33: =IF(SUM($E21:$K21)=0,0,MIN(IF(MAX(E$2-$N21)<0, 0,MAX(E$2-$N21)),$M21)*SUM($E21:$K21)/$M21) -> 0 | F33: =IF(SUM($E21:$K21)=0,0,(MIN(IF(MAX(F$2-$N21)<0, 0, MAX(F$2-$N21)),$M21)-MIN(IF(MAX(E$2-$N21)<0, 0, MAX(E$2-$N21)),$M21))*SUM($E21:$K21)/$M21) -> 0 | G33: =IF(SUM($E21:$K21)=0,0,(MIN(IF(MAX(G$2-$N21)<0, 0, MAX(G$2-$N21)),$M21)-MIN(IF(MAX(F$2-$N21)<0, 0, MAX(F$2-$N21)),$M21))*SUM($E21:$K21)/$M21) -> 0 | H33: =IF(SUM($E21:$K21)=0,0,(MIN(IF(MAX(H$2-$N21)<0, 0, MAX(H$2-$N21)),$M21)-MIN(IF(MAX(G$2-$N21)<0, 0, MAX(G$2-$N21)),$M21))*SUM($E21:$K21)/$M21) -> 0 | I33: =IF(SUM($E21:$K21)=0,0,(MIN(IF(MAX(I$2-$N21)<0, 0, MAX(I$2-$N21)),$M21)-MIN(IF(MAX(H$2-$N21)<0, 0, MAX(H$2-$N21)),$M21))*SUM($E21:$K21)/$M21) -> 0 | J33: =IF(SUM($E21:$K21)=0,0,(MIN(IF(MAX(J$2-$N21)<0, 0, MAX(J$2-$N21)),$M21)-MIN(IF(MAX(H$2-$N21)<0, 0, MAX(H$2-$N21)),$M21))*SUM($E21:$K21)/$M21) -> 0 | K33: =IF(SUM($E21:$K21)=0,0,(MIN(IF(MAX(K$2-$N21)<0, 0, MAX(K$2-$N21)),$M21)-MIN(IF(MAX(H$2-$N21)<0, 0, MAX(H$2-$N21)),$M21))*SUM($E21:$K21)/$M21) -> 0 | M33: =SUM(E21:K21)-SUM(E33:K33) -> 0
B34: =B22 -> Cost #5 | E34: =IF(SUM($E22:$K22)=0,0,MIN(IF(MAX(E$2-$N22)<0, 0,MAX(E$2-$N22)),$M22)*SUM($E22:$K22)/$M22) -> 0 | F34: =IF(SUM($E22:$K22)=0,0,(MIN(IF(MAX(F$2-$N22)<0, 0, MAX(F$2-$N22)),$M22)-MIN(IF(MAX(E$2-$N22)<0, 0, MAX(E$2-$N22)),$M22))*SUM($E22:$K22)/$M22) -> 0 | G34: =IF(SUM($E22:$K22)=0,0,(MIN(IF(MAX(G$2-$N22)<0, 0, MAX(G$2-$N22)),$M22)-MIN(IF(MAX(F$2-$N22)<0, 0, MAX(F$2-$N22)),$M22))*SUM($E22:$K22)/$M22) -> 0 | H34: =IF(SUM($E22:$K22)=0,0,(MIN(IF(MAX(H$2-$N22)<0, 0, MAX(H$2-$N22)),$M22)-MIN(IF(MAX(G$2-$N22)<0, 0, MAX(G$2-$N22)),$M22))*SUM($E22:$K22)/$M22) -> 0 | I34: =IF(SUM($E22:$K22)=0,0,(MIN(IF(MAX(I$2-$N22)<0, 0, MAX(I$2-$N22)),$M22)-MIN(IF(MAX(H$2-$N22)<0, 0, MAX(H$2-$N22)),$M22))*SUM($E22:$K22)/$M22) -> 0 | J34: =IF(SUM($E22:$K22)=0,0,(MIN(IF(MAX(J$2-$N22)<0, 0, MAX(J$2-$N22)),$M22)-MIN(IF(MAX(H$2-$N22)<0, 0, MAX(H$2-$N22)),$M22))*SUM($E22:$K22)/$M22) -> 0 | K34: =IF(SUM($E22:$K22)=0,0,(MIN(IF(MAX(K$2-$N22)<0, 0, MAX(K$2-$N22)),$M22)-MIN(IF(MAX(H$2-$N22)<0, 0, MAX(H$2-$N22)),$M22))*SUM($E22:$K22)/$M22) -> 0 | M34: =SUM(E22:K22)-SUM(E34:K34) -> 0
B35: =B23 -> Cost #6 | E35: =IF(SUM($E23:$K23)=0,0,MIN(IF(MAX(E$2-$N23)<0, 0,MAX(E$2-$N23)),$M23)*SUM($E23:$K23)/$M23) -> 0 | F35: =IF(SUM($E23:$K23)=0,0,(MIN(IF(MAX(F$2-$N23)<0, 0, MAX(F$2-$N23)),$M23)-MIN(IF(MAX(E$2-$N23)<0, 0, MAX(E$2-$N23)),$M23))*SUM($E23:$K23)/$M23) -> 0 | G35: =IF(SUM($E23:$K23)=0,0,(MIN(IF(MAX(G$2-$N23)<0, 0, MAX(G$2-$N23)),$M23)-MIN(IF(MAX(F$2-$N23)<0, 0, MAX(F$2-$N23)),$M23))*SUM($E23:$K23)/$M23) -> 0 | H35: =IF(SUM($E23:$K23)=0,0,(MIN(IF(MAX(H$2-$N23)<0, 0, MAX(H$2-$N23)),$M23)-MIN(IF(MAX(G$2-$N23)<0, 0, MAX(G$2-$N23)),$M23))*SUM($E23:$K23)/$M23) -> 0 | I35: =IF(SUM($E23:$K23)=0,0,(MIN(IF(MAX(I$2-$N23)<0, 0, MAX(I$2-$N23)),$M23)-MIN(IF(MAX(H$2-$N23)<0, 0, MAX(H$2-$N23)),$M23))*SUM($E23:$K23)/$M23) -> 0 | J35: =IF(SUM($E23:$K23)=0,0,(MIN(IF(MAX(J$2-$N23)<0, 0, MAX(J$2-$N23)),$M23)-MIN(IF(MAX(H$2-$N23)<0, 0, MAX(H$2-$N23)),$M23))*SUM($E23:$K23)/$M23) -> 0 | K35: =IF(SUM($E23:$K23)=0,0,(MIN(IF(MAX(K$2-$N23)<0, 0, MAX(K$2-$N23)),$M23)-MIN(IF(MAX(H$2-$N23)<0, 0, MAX(H$2-$N23)),$M23))*SUM($E23:$K23)/$M23) -> 0 | M35: =SUM(E23:K23)-SUM(E35:K35) -> 0
B36: =B24 -> Cost #7 | E36: =IF(SUM($E24:$K24)=0,0,MIN(IF(MAX(E$2-$N24)<0, 0,MAX(E$2-$N24)),$M24)*SUM($E24:$K24)/$M24) -> 0 | F36: =IF(SUM($E24:$K24)=0,0,(MIN(IF(MAX(F$2-$N24)<0, 0, MAX(F$2-$N24)),$M24)-MIN(IF(MAX(E$2-$N24)<0, 0, MAX(E$2-$N24)),$M24))*SUM($E24:$K24)/$M24) -> 0 | G36: =IF(SUM($E24:$K24)=0,0,(MIN(IF(MAX(G$2-$N24)<0, 0, MAX(G$2-$N24)),$M24)-MIN(IF(MAX(F$2-$N24)<0, 0, MAX(F$2-$N24)),$M24))*SUM($E24:$K24)/$M24) -> 0 | H36: =IF(SUM($E24:$K24)=0,0,(MIN(IF(MAX(H$2-$N24)<0, 0, MAX(H$2-$N24)),$M24)-MIN(IF(MAX(G$2-$N24)<0, 0, MAX(G$2-$N24)),$M24))*SUM($E24:$K24)/$M24) -> 0 | I36: =IF(SUM($E24:$K24)=0,0,(MIN(IF(MAX(I$2-$N24)<0, 0, MAX(I$2-$N24)),$M24)-MIN(IF(MAX(H$2-$N24)<0, 0, MAX(H$2-$N24)),$M24))*SUM($E24:$K24)/$M24) -> 0 | J36: =IF(SUM($E24:$K24)=0,0,(MIN(IF(MAX(J$2-$N24)<0, 0, MAX(J$2-$N24)),$M24)-MIN(IF(MAX(H$2-$N24)<0, 0, MAX(H$2-$N24)),$M24))*SUM($E24:$K24)/$M24) -> 0 | K36: =IF(SUM($E24:$K24)=0,0,(MIN(IF(MAX(K$2-$N24)<0, 0, MAX(K$2-$N24)),$M24)-MIN(IF(MAX(H$2-$N24)<0, 0, MAX(H$2-$N24)),$M24))*SUM($E24:$K24)/$M24) -> 0 | M36: =SUM(E24:K24)-SUM(E36:K36) -> 0
B37: =B25 -> Cost #8 | E37: =IF(SUM($E25:$K25)=0,0,MIN(IF(MAX(E$2-$N25)<0, 0,MAX(E$2-$N25)),$M25)*SUM($E25:$K25)/$M25) -> 0 | F37: =IF(SUM($E25:$K25)=0,0,(MIN(IF(MAX(F$2-$N25)<0, 0, MAX(F$2-$N25)),$M25)-MIN(IF(MAX(E$2-$N25)<0, 0, MAX(E$2-$N25)),$M25))*SUM($E25:$K25)/$M25) -> 0 | G37: =IF(SUM($E25:$K25)=0,0,(MIN(IF(MAX(G$2-$N25)<0, 0, MAX(G$2-$N25)),$M25)-MIN(IF(MAX(F$2-$N25)<0, 0, MAX(F$2-$N25)),$M25))*SUM($E25:$K25)/$M25) -> 0 | H37: =IF(SUM($E25:$K25)=0,0,(MIN(IF(MAX(H$2-$N25)<0, 0, MAX(H$2-$N25)),$M25)-MIN(IF(MAX(G$2-$N25)<0, 0, MAX(G$2-$N25)),$M25))*SUM($E25:$K25)/$M25) -> 0 | I37: =IF(SUM($E25:$K25)=0,0,(MIN(IF(MAX(I$2-$N25)<0, 0, MAX(I$2-$N25)),$M25)-MIN(IF(MAX(H$2-$N25)<0, 0, MAX(H$2-$N25)),$M25))*SUM($E25:$K25)/$M25) -> 0 | J37: =IF(SUM($E25:$K25)=0,0,(MIN(IF(MAX(J$2-$N25)<0, 0, MAX(J$2-$N25)),$M25)-MIN(IF(MAX(H$2-$N25)<0, 0, MAX(H$2-$N25)),$M25))*SUM($E25:$K25)/$M25) -> 0 | K37: =IF(SUM($E25:$K25)=0,0,(MIN(IF(MAX(K$2-$N25)<0, 0, MAX(K$2-$N25)),$M25)-MIN(IF(MAX(H$2-$N25)<0, 0, MAX(H$2-$N25)),$M25))*SUM($E25:$K25)/$M25) -> 0 | M37: =SUM(E25:K25)-SUM(E37:K37) -> 0
B38: =B26 -> Cost #9 | E38: =IF(SUM($E26:$K26)=0,0,MIN(IF(MAX(E$2-$N26)<0, 0,MAX(E$2-$N26)),$M26)*SUM($E26:$K26)/$M26) -> 0 | F38: =IF(SUM($E26:$K26)=0,0,(MIN(IF(MAX(F$2-$N26)<0, 0, MAX(F$2-$N26)),$M26)-MIN(IF(MAX(E$2-$N26)<0, 0, MAX(E$2-$N26)),$M26))*SUM($E26:$K26)/$M26) -> 0 | G38: =IF(SUM($E26:$K26)=0,0,(MIN(IF(MAX(G$2-$N26)<0, 0, MAX(G$2-$N26)),$M26)-MIN(IF(MAX(F$2-$N26)<0, 0, MAX(F$2-$N26)),$M26))*SUM($E26:$K26)/$M26) -> 0 | H38: =IF(SUM($E26:$K26)=0,0,(MIN(IF(MAX(H$2-$N26)<0, 0, MAX(H$2-$N26)),$M26)-MIN(IF(MAX(G$2-$N26)<0, 0, MAX(G$2-$N26)),$M26))*SUM($E26:$K26)/$M26) -> 0 | I38: =IF(SUM($E26:$K26)=0,0,(MIN(IF(MAX(I$2-$N26)<0, 0, MAX(I$2-$N26)),$M26)-MIN(IF(MAX(H$2-$N26)<0, 0, MAX(H$2-$N26)),$M26))*SUM($E26:$K26)/$M26) -> 0 | J38: =IF(SUM($E26:$K26)=0,0,(MIN(IF(MAX(J$2-$N26)<0, 0, MAX(J$2-$N26)),$M26)-MIN(IF(MAX(H$2-$N26)<0, 0, MAX(H$2-$N26)),$M26))*SUM($E26:$K26)/$M26) -> 0 | K38: =IF(SUM($E26:$K26)=0,0,(MIN(IF(MAX(K$2-$N26)<0, 0, MAX(K$2-$N26)),$M26)-MIN(IF(MAX(H$2-$N26)<0, 0, MAX(H$2-$N26)),$M26))*SUM($E26:$K26)/$M26) -> 0 | M38: =SUM(E26:K26)-SUM(E38:K38) -> 0
B39: =B27 -> Cost #10 | E39: =IF(SUM($E27:$K27)=0,0,MIN(IF(MAX(E$2-$N27)<0, 0,MAX(E$2-$N27)),$M27)*SUM($E27:$K27)/$M27) -> 0 | F39: =IF(SUM($E27:$K27)=0,0,(MIN(IF(MAX(F$2-$N27)<0, 0, MAX(F$2-$N27)),$M27)-MIN(IF(MAX(E$2-$N27)<0, 0, MAX(E$2-$N27)),$M27))*SUM($E27:$K27)/$M27) -> 0 | G39: =IF(SUM($E27:$K27)=0,0,(MIN(IF(MAX(G$2-$N27)<0, 0, MAX(G$2-$N27)),$M27)-MIN(IF(MAX(F$2-$N27)<0, 0, MAX(F$2-$N27)),$M27))*SUM($E27:$K27)/$M27) -> 0 | H39: =IF(SUM($E27:$K27)=0,0,(MIN(IF(MAX(H$2-$N27)<0, 0, MAX(H$2-$N27)),$M27)-MIN(IF(MAX(G$2-$N27)<0, 0, MAX(G$2-$N27)),$M27))*SUM($E27:$K27)/$M27) -> 0 | I39: =IF(SUM($E27:$K27)=0,0,(MIN(IF(MAX(I$2-$N27)<0, 0, MAX(I$2-$N27)),$M27)-MIN(IF(MAX(H$2-$N27)<0, 0, MAX(H$2-$N27)),$M27))*SUM($E27:$K27)/$M27) -> 0 | J39: =IF(SUM($E27:$K27)=0,0,(MIN(IF(MAX(J$2-$N27)<0, 0, MAX(J$2-$N27)),$M27)-MIN(IF(MAX(H$2-$N27)<0, 0, MAX(H$2-$N27)),$M27))*SUM($E27:$K27)/$M27) -> 0 | K39: =IF(SUM($E27:$K27)=0,0,(MIN(IF(MAX(K$2-$N27)<0, 0, MAX(K$2-$N27)),$M27)-MIN(IF(MAX(H$2-$N27)<0, 0, MAX(H$2-$N27)),$M27))*SUM($E27:$K27)/$M27) -> 0 | M39: =SUM(E27:K27)-SUM(E39:K39) -> 0
A41: Build costs (one shot), OPEX | C41: =SUM(E41:K41) -> 0 | E41: =SUM(E42:E51) -> 0 | F41: =SUM(F42:F51) -> 0 | G41: =SUM(G42:G51) -> 0 | H41: =SUM(H42:H51) -> 0 | I41: =SUM(I42:I51) -> 0 | J41: =SUM(J42:J51) -> 0 | K41: =SUM(K42:K51) -> 0 | R41: This section is for non-amortized build costs: one-shot, but either internal (in most geographies, internal costs may not be capitalized) or not resulting in the building of an asset (e.g. feasibility studies).
B42: Cost #1
B43: Cost #2
B44: Cost #3
...

Sheet Charts
L3: Copy/paste to the memo in the "Cash view" section.
C11: =Data!E1 -> 2023 | D11: =Data!F1 -> 2024 | E11: =Data!G1 -> 2025 | F11: =Data!H1 -> 2026 | G11: =Data!I1 -> 2027 | H11: =Data!J1 -> 2028 | I11: =Data!K1 -> 2029 | J11: Total
B12: Direct financial benefits | C12: =Data!E10 -> 148 | D12: =Data!F10 -> 148 | E12: =Data!G10 -> 148 | F12: =Data!H10 -> 148 | G12: =Data!I10 -> 148 | H12: =Data!J10 -> 148 | I12: =Data!K10 -> 148 | J12: =SUM(C12:G12) -> 740
B13: - Build costs, CAPEX | C13: =-Data!E17 -> -600 | D13: =-Data!F17 -> 0 | E13: =-Data!G17 -> 0 | F13: =-Data!H17 -> 0 | G13: =-Data!I17 -> 0 | H13: =-Data!J17 -> 0 | I13: =-Data!K17 -> 0 | J13: =SUM(C13:G13) -> -600
B14: - Build costs, OPEX | C14: =-Data!E41 -> 0 | D14: =-Data!F41 -> 0 | E14: =-Data!G41 -> 0 | F14: =-Data!H41 -> 0 | G14: =-Data!I41 -> 0 | H14: =-Data!J41 -> 0 | I14: =-Data!K41 -> 0 | J14: =SUM(C14:G14) -> 0
B15: - Run costs | C15: =-Data!E53 -> -30 | D15: =-Data!F53 -> -30 | E15: =-Data!G53 -> -30 | F15: =-Data!H53 -> -30 | G15: =-Data!I53 -> -30 | H15: =-Data!J53 -> -30 | I15: =-Data!K53 -> -30 | J15: =SUM(C15:G15) -> -150
B16: = cash flow | C16: =SUM(C12:C15) -> -482 | D16: =SUM(D12:D15) -> 118 | E16: =SUM(E12:E15) -> 118 | F16: =SUM(F12:F15) -> 118 | G16: =SUM(G12:G15) -> 118 | H16: =SUM(H12:H15) -> 118 | I16: =SUM(I12:I15) -> 118 | J16: =SUM(C16:G16) -> -10
B17: Cumulated cash flow | C17: =C16 -> -482 | D17: =C17+D16 -> -364 | E17: =D17+E16 -> -246 | F17: =E17+F16 -> -128 | G17: =F17+G16 -> -10 | H17: =G17+H16 -> 108 | I17: =H17+I16 -> 226
L28: Mae sure that you align the vertical axis boundaries with the cash view graph. Copy/paste to the memo in the "P&L impact" section.
C32: =Data!E1 -> 2023 | D32: =Data!F1 -> 2024 | E32: =Data!G1 -> 2025 | F32: =Data!H1 -> 2026 | G32: =Data!I1 -> 2027 | H32: =Data!J1 -> 2028 | I32: =Data!K1 -> 2029 | J32: Total
B33: Direct financial benefits | C33: =Data!E10 -> 148 | D33: =Data!F10 -> 148 | E33: =Data!G10 -> 148 | F33: =Data!H10 -> 148 | G33: =Data!I10 -> 148 | H33: =Data!J10 -> 148 | I33: =Data!K10 -> 148 | J33: =SUM(C33:G33) -> 740
B34: - Build costs, CAPEX, depreciation | C34: =-Data!E29 -> -120 | D34: =-Data!F29 -> -120 | E34: =-Data!G29 -> -120 | F34: =-Data!H29 -> -120 | G34: =-Data!I29 -> -120 | H34: =-Data!J29 -> 0 | I34: =-Data!K29 -> 0 | J34: =SUM(C34:G34) -> -600
B35: - Build costs, OPEX | C35: =-Data!E41 -> 0 | D35: =-Data!F41 -> 0 | E35: =-Data!G41 -> 0 | F35: =-Data!H41 -> 0 | G35: =-Data!I41 -> 0 | H35: =-Data!J41 -> 0 | I35: =-Data!K41 -> 0 | J35: =SUM(C35:G35) -> 0
B36: - Run costs | C36: =-Data!E53 -> -30 | D36: =-Data!F53 -> -30 | E36: =-Data!G53 -> -30 | F36: =-Data!H53 -> -30 | G36: =-Data!I53 -> -30 | H36: =-Data!J53 -> -30 | I36: =-Data!K53 -> -30 | J36: =SUM(C36:G36) -> -150
B37: = P&L impact | C37: =SUM(C33:C36) -> -2 | D37: =SUM(D33:D36) -> -2 | E37: =SUM(E33:E36) -> -2 | F37: =SUM(F33:F36) -> -2 | G37: =SUM(G33:G36) -> -2 | H37: =SUM(H33:H36) -> 118 | I37: =SUM(I33:I36) -> 118 | J37: =SUM(C37:G37) -> -10
B38: Cumulated P&L impact | C38: =C37 -> -2 | D38: =C38+D37 -> -4 | E38: =D38+E37 -> -6 | F38: =E38+F37 -> -8 | G38: =F38+G37 -> -10 | H38: =G38+H37 -> 108 | I38: =H38+I37 -> 226

Sheet Charge-back
A1: CHARGE-BACK SIMULATION
C3: Allocation keys | F3: Global | H3: France | J3: Italy | L3: Spain | N3: Belgium | P3: Germany | R3: USA | T3: CSA | V3: GMMI | X3: EAIB | Z3: Portugal | AB3: Czech Republic | AD3: Poland | AF3: Hungary | AH3: Russia | AJ3: Switzerland | AL3: Austria | AN3: South Africa | AP3: Brazil | AR3: Turkey | AT3: Greece | AV3: Allocated to BUs | AX3: Other | AZ3: Asia - Singapore | BB3: China | BD3: India | BF3: French Polynesia | BH3: Carelinx | BJ3: Ocealis | BL3: Argentina | BN3: Chile | BP3: EABS | BR3: Tripmate | BT3: Total
A4: Source | C4: Label | E4: Key | F4: Units | G4: % | H4: Units | I4: % | J4: Units | K4: % | L4: Units | M4: % | N4: Units | O4: % | P4: Units | Q4: % | R4: Units | S4: % | T4: Units | U4: % | V4: Units | W4: % | X4: Units | Y4: % | Z4: Units | AA4: % | AB4: Units | AC4: % | AD4: Units | AE4: % | AF4: Units | AG4: % | AH4: Units | AI4: % | AJ4: Units | AK4: % | AL4: Units | AM4: % | AN4: Units | AO4: % | AP4: Units | AQ4: % | AR4: Units | AS4: % | AT4: Units | AU4: % | AV4: Units | AW4: % | AX4: Units | AY4: % | AZ4: Units | BA4: % | BB4: Units | BC4: % | BD4: Units | BE4: % | BF4: Units | BG4: % | BH4: Units | BI4: % | BJ4: Units | BK4: % | BL4: Units | BM4: % | BN4: Units | BO4: % | BP4: Units | BQ4: % | BR4: Units | BS4: % | BT4: Total | BU4: %
B5: B 2019 | E5: 1 | G5: =F5/$BT5 -> #DIV/0! | I5: =H5/$BT5 -> #DIV/0! | K5: =J5/$BT5 -> #DIV/0! | M5: =L5/$BT5 -> #DIV/0! | O5: =N5/$BT5 -> #DIV/0! | Q5: =P5/$BT5 -> #DIV/0! | S5: =R5/$BT5 -> #DIV/0! | U5: =T5/$BT5 -> #DIV/0! | W5: =V5/$BT5 -> #DIV/0! | Y5: =X5/$BT5 -> #DIV/0! | AA5: =Z5/$BT5 -> #DIV/0! | AC5: =AB5/$BT5 -> #DIV/0! | AE5: =AD5/$BT5 -> #DIV/0! | AG5: =AF5/$BT5 -> #DIV/0! | AI5: =AH5/$BT5 -> #DIV/0! | AK5: =AJ5/$BT5 -> #DIV/0! | AM5: =AL5/$BT5 -> #DIV/0! | AO5: =AN5/$BT5 -> #DIV/0! | AQ5: =AP5/$BT5 -> #DIV/0! | AS5: =AR5/$BT5 -> #DIV/0! | AU5: =AT5/$BT5 -> #DIV/0! | AW5: =AV5/$BT5 -> #DIV/0! | AY5: =AX5/$BT5 -> #DIV/0! | BA5: =AZ5/$BT5 -> #DIV/0! | BC5: =BB5/$BT5 -> #DIV/0! | BE5: =BD5/$BT5 -> #DIV/0! | BG5: =BF5/$BT5 -> #DIV/0! | BI5: =BH5/$BT5 -> #DIV/0! | BK5: =BJ5/$BT5 -> #DIV/0! | BM5: =BL5/$BT5 -> #DIV/0! | BO5: =BN5/$BT5 -> #DIV/0! | BQ5: =BP5/$BT5 -> #DIV/0! | BS5: =BR5/$BT5 -> #DIV/0! | BT5: =F5+H5+J5+L5+N5+P5+R5+X5+AX5+Z5+AB5+AD5+AF5+AH5+AJ5+AL5+AN5+AP5+AR5+AT5+AV5+AZ5+BB5+BD5+BF5+BH5+BJ5+T5+V5+BL5+BN5+BP5+BR5 -> 0
B6: B 2020 | E6: 2 | G6: =F6/$BT6 -> #DIV/0! | I6: =H6/$BT6 -> #DIV/0! | K6: =J6/$BT6 -> #DIV/0! | M6: =L6/$BT6 -> #DIV/0! | O6: =N6/$BT6 -> #DIV/0! | Q6: =P6/$BT6 -> #DIV/0! | S6: =R6/$BT6 -> #DIV/0! | U6: =T6/$BT6 -> #DIV/0! | W6: =V6/$BT6 -> #DIV/0! | Y6: =X6/$BT6 -> #DIV/0! | AA6: =Z6/$BT6 -> #DIV/0! | AC6: =AB6/$BT6 -> #DIV/0! | AE6: =AD6/$BT6 -> #DIV/0! | AG6: =AF6/$BT6 -> #DIV/0! | AI6: =AH6/$BT6 -> #DIV/0! | AK6: =AJ6/$BT6 -> #DIV/0! | AM6: =AL6/$BT6 -> #DIV/0! | AO6: =AN6/$BT6 -> #DIV/0! | AQ6: =AP6/$BT6 -> #DIV/0! | AS6: =AR6/$BT6 -> #DIV/0! | AU6: =AT6/$BT6 -> #DIV/0! | AW6: =AV6/$BT6 -> #DIV/0! | AY6: =AX6/$BT6 -> #DIV/0! | BA6: =AZ6/$BT6 -> #DIV/0! | BC6: =BB6/$BT6 -> #DIV/0! | BE6: =BD6/$BT6 -> #DIV/0! | BG6: =BF6/$BT6 -> #DIV/0! | BI6: =BH6/$BT6 -> #DIV/0! | BK6: =BJ6/$BT6 -> #DIV/0! | BM6: =BL6/$BT6 -> #DIV/0! | BO6: =BN6/$BT6 -> #DIV/0! | BQ6: =BP6/$BT6 -> #DIV/0! | BS6: =BR6/$BT6 -> #DIV/0! | BT6: =F6+H6+J6+L6+N6+P6+R6+X6+AX6+Z6+AB6+AD6+AF6+AH6+AJ6+AL6+AN6+AP6+AR6+AT6+AV6+AZ6+BB6+BD6+BF6+BH6+BJ6+T6+V6+BL6+BN6+BP6+BR6 -> 0
B7: B 2021 | E7: 3 | G7: =F7/$BT7 -> #DIV/0! | I7: =H7/$BT7 -> #DIV/0! | K7: =J7/$BT7 -> #DIV/0! | M7: =L7/$BT7 -> #DIV/0! | O7: =N7/$BT7 -> #DIV/0! | Q7: =P7/$BT7 -> #DIV/0! | S7: =R7/$BT7 -> #DIV/0! | U7: =T7/$BT7 -> #DIV/0! | W7: =V7/$BT7 -> #DIV/0! | Y7: =X7/$BT7 -> #DIV/0! | AA7: =Z7/$BT7 -> #DIV/0! | AC7: =AB7/$BT7 -> #DIV/0! | AE7: =AD7/$BT7 -> #DIV/0! | AG7: =AF7/$BT7 -> #DIV/0! | AI7: =AH7/$BT7 -> #DIV/0! | AK7: =AJ7/$BT7 -> #DIV/0! | AM7: =AL7/$BT7 -> #DIV/0! | AO7: =AN7/$BT7 -> #DIV/0! | AQ7: =AP7/$BT7 -> #DIV/0! | AS7: =AR7/$BT7 -> #DIV/0! | AU7: =AT7/$BT7 -> #DIV/0! | AW7: =AV7/$BT7 -> #DIV/0! | AY7: =AX7/$BT7 -> #DIV/0! | BA7: =AZ7/$BT7 -> #DIV/0! | BC7: =BB7/$BT7 -> #DIV/0! | BE7: =BD7/$BT7 -> #DIV/0! | BG7: =BF7/$BT7 -> #DIV/0! | BI7: =BH7/$BT7 -> #DIV/0! | BK7: =BJ7/$BT7 -> #DIV/0! | BM7: =BL7/$BT7 -> #DIV/0! | BO7: =BN7/$BT7 -> #DIV/0! | BQ7: =BP7/$BT7 -> #DIV/0! | BS7: =BR7/$BT7 -> #DIV/0! | BT7: =F7+H7+J7+L7+N7+P7+R7+X7+AX7+Z7+AB7+AD7+AF7+AH7+AJ7+AL7+AN7+AP7+AR7+AT7+AV7+AZ7+BB7+BD7+BF7+BH7+BJ7+T7+V7+BL7+BN7+BP7+BR7 -> 0
B8: B 2022 | E8: 4 | G8: =F8/$BT8 -> #DIV/0! | I8: =H8/$BT8 -> #DIV/0! | K8: =J8/$BT8 -> #DIV/0! | M8: =L8/$BT8 -> #DIV/0! | O8: =N8/$BT8 -> #DIV/0! | Q8: =P8/$BT8 -> #DIV/0! | S8: =R8/$BT8 -> #DIV/0! | U8: =T8/$BT8 -> #DIV/0! | W8: =V8/$BT8 -> #DIV/0! | Y8: =X8/$BT8 -> #DIV/0! | AA8: =Z8/$BT8 -> #DIV/0! | AC8: =AB8/$BT8 -> #DIV/0! | AE8: =AD8/$BT8 -> #DIV/0! | AG8: =AF8/$BT8 -> #DIV/0! | AI8: =AH8/$BT8 -> #DIV/0! | AK8: =AJ8/$BT8 -> #DIV/0! | AM8: =AL8/$BT8 -> #DIV/0! | AO8: =AN8/$BT8 -> #DIV/0! | AQ8: =AP8/$BT8 -> #DIV/0! | AS8: =AR8/$BT8 -> #DIV/0! | AU8: =AT8/$BT8 -> #DIV/0! | AW8: =AV8/$BT8 -> #DIV/0! | AY8: =AX8/$BT8 -> #DIV/0! | BA8: =AZ8/$BT8 -> #DIV/0! | BC8: =BB8/$BT8 -> #DIV/0! | BE8: =BD8/$BT8 -> #DIV/0! | BG8: =BF8/$BT8 -> #DIV/0! | BI8: =BH8/$BT8 -> #DIV/0! | BK8: =BJ8/$BT8 -> #DIV/0! | BM8: =BL8/$BT8 -> #DIV/0! | BO8: =BN8/$BT8 -> #DIV/0! | BQ8: =BP8/$BT8 -> #DIV/0! | BS8: =BR8/$BT8 -> #DIV/0! | BT8: =F8+H8+J8+L8+N8+P8+R8+X8+AX8+Z8+AB8+AD8+AF8+AH8+AJ8+AL8+AN8+AP8+AR8+AT8+AV8+AZ8+BB8+BD8+BF8+BH8+BJ8+T8+V8+BL8+BN8+BP8+BR8 -> 0
E9: 5 | G9: =F9/$BT9 -> #DIV/0! | I9: =H9/$BT9 -> #DIV/0! | K9: =J9/$BT9 -> #DIV/0! | M9: =L9/$BT9 -> #DIV/0! | O9: =N9/$BT9 -> #DIV/0! | Q9: =P9/$BT9 -> #DIV/0! | S9: =R9/$BT9 -> #DIV/0! | U9: =T9/$BT9 -> #DIV/0! | W9: =V9/$BT9 -> #DIV/0! | Y9: =X9/$BT9 -> #DIV/0! | AA9: =Z9/$BT9 -> #DIV/0! | AC9: =AB9/$BT9 -> #DIV/0! | AE9: =AD9/$BT9 -> #DIV/0! | AG9: =AF9/$BT9 -> #DIV/0! | AI9: =AH9/$BT9 -> #DIV/0! | AK9: =AJ9/$BT9 -> #DIV/0! | AM9: =AL9/$BT9 -> #DIV/0! | AO9: =AN9/$BT9 -> #DIV/0! | AQ9: =AP9/$BT9 -> #DIV/0! | AS9: =AR9/$BT9 -> #DIV/0! | AU9: =AT9/$BT9 -> #DIV/0! | AW9: =AV9/$BT9 -> #DIV/0! | AY9: =AX9/$BT9 -> #DIV/0! | BA9: =AZ9/$BT9 -> #DIV/0! | BC9: =BB9/$BT9 -> #DIV/0! | BE9: =BD9/$BT9 -> #DIV/0! | BG9: =BF9/$BT9 -> #DIV/0! | BI9: =BH9/$BT9 -> #DIV/0! | BK9: =BJ9/$BT9 -> #DIV/0! | BM9: =BL9/$BT9 -> #DIV/0! | BO9: =BN9/$BT9 -> #DIV/0! | BQ9: =BP9/$BT9 -> #DIV/0! | BS9: =BR9/$BT9 -> #DIV/0! | BT9: =F9+H9+J9+L9+N9+P9+R9+X9+AX9+Z9+AB9+AD9+AF9+AH9+AJ9+AL9+AN9+AP9+AR9+AT9+AV9+AZ9+BB9+BD9+BF9+BH9+BJ9+T9+V9+BL9+BN9+BP9+BR9 -> 0
E10: 6 | G10: =F10/$BT10 -> #DIV/0! | I10: =H10/$BT10 -> #DIV/0! | K10: =J10/$BT10 -> #DIV/0! | M10: =L10/$BT10 -> #DIV/0! | O10: =N10/$BT10 -> #DIV/0! | Q10: =P10/$BT10 -> #DIV/0! | S10: =R10/$BT10 -> #DIV/0! | U10: =T10/$BT10 -> #DIV/0! | W10: =V10/$BT10 -> #DIV/0! | Y10: =X10/$BT10 -> #DIV/0! | AA10: =Z10/$BT10 -> #DIV/0! | AC10: =AB10/$BT10 -> #DIV/0! | AE10: =AD10/$BT10 -> #DIV/0! | AG10: =AF10/$BT10 -> #DIV/0! | AI10: =AH10/$BT10 -> #DIV/0! | AK10: =AJ10/$BT10 -> #DIV/0! | AM10: =AL10/$BT10 -> #DIV/0! | AO10: =AN10/$BT10 -> #DIV/0! | AQ10: =AP10/$BT10 -> #DIV/0! | AS10: =AR10/$BT10 -> #DIV/0! | AU10: =AT10/$BT10 -> #DIV/0! | AW10: =AV10/$BT10 -> #DIV/0! | AY10: =AX10/$BT10 -> #DIV/0! | BA10: =AZ10/$BT10 -> #DIV/0! | BC10: =BB10/$BT10 -> #DIV/0! | BE10: =BD10/$BT10 -> #DIV/0! | BG10: =BF10/$BT10 -> #DIV/0! | BI10: =BH10/$BT10 -> #DIV/0! | BK10: =BJ10/$BT10 -> #DIV/0! | BM10: =BL10/$BT10 -> #DIV/0! | BO10: =BN10/$BT10 -> #DIV/0! | BQ10: =BP10/$BT10 -> #DIV/0! | BS10: =BR10/$BT10 -> #DIV/0! | BT10: =F10+H10+J10+L10+N10+P10+R10+X10+AX10+Z10+AB10+AD10+AF10+AH10+AJ10+AL10+AN10+AP10+AR10+AT10+AV10+AZ10+BB10+BD10+BF10+BH10+BJ10+T10+V10+BL10+BN10+BP10+BR10 -> 0
G12: 3 | H12: 4 | I12: 5 | J12: 6 | K12: 7 | L12: 8 | M12: 9 | N12: 10 | O12: 11 | P12: 12 | Q12: 13 | R12: 14 | S12: 15 | T12: 16 | U12: 17 | V12: 18 | W12: 19 | X12: 20 | Y12: 21 | Z12: 22 | AA12: 23 | AB12: 24 | AC12: 25 | AD12: 26 | AE12: 27 | AF12: 28 | AG12: 29 | AH12: 30 | AI12: 31 | AJ12: 32 | AK12: 33 | AL12: 34 | AM12: 35 | AN12: 36 | AO12: 37 | AP12: 38 | AQ12: 39 | AR12: 40 | AS12: 41 | AT12: 42 | AU12: 43 | AV12: 44 | AW12: 45 | AX12: 46 | AY12: 47 | AZ12: 48 | BA12: 49 | BB12: 50 | BC12: 51 | BD12: 52 | BE12: 53 | BF12: 54 | BG12: 55 | BH12: 56 | BI12: 57 | BJ12: 58 | BK12: 59 | BL12: 60 | BM12: 61 | BN12: 62 | BO12: 63 | BP12: 64 | BQ12: 65 | BR12: 66 | BS12: 67
C13: Baseline | D13: =SUM(D14:D19) -> 0 | F13: =SUM(F14:F19) -> 0 | H13: =SUM(H14:H19) -> 0 | J13: =SUM(J14:J19) -> 0 | L13: =SUM(L14:L19) -> 0 | N13: =SUM(N14:N19) -> 0 | P13: =SUM(P14:P19) -> 0 | R13: =SUM(R14:R18) -> 0 | T13: =SUM(T14:T18) -> 0 | V13: =SUM(V14:V18) -> 0 | X13: =SUM(X14:X18) -> 0 | Z13: =SUM(Z14:Z19) -> 0 | AB13: =SUM(AB14:AB19) -> 0 | AD13: =SUM(AD14:AD19) -> 0 | AF13: =SUM(AF14:AF19) -> 0 | AH13: =SUM(AH14:AH19) -> 0 | AJ13: =SUM(AJ14:AJ19) -> 0 | AL13: =SUM(AL14:AL19) -> 0 | AN13: =SUM(AN14:AN19) -> 0 | AP13: =SUM(AP14:AP19) -> 0 | AR13: =SUM(AR14:AR19) -> 0 | AT13: =SUM(AT14:AT19) -> 0 | AV13: =SUM(AV14:AV18) -> 0 | AX13: =SUM(AX14:AX18) -> 0 | AZ13: =SUM(AZ14:AZ18) -> 0 | BB13: =SUM(BB14:BB18) -> 0 | BD13: =SUM(BD14:BD19) -> 0 | BF13: =SUM(BF14:BF19) -> 0 | BH13: =SUM(BH14:BH18) -> 0 | BJ13: =SUM(BJ14:BJ18) -> 0 | BL13: =SUM(BL14:BL19) -> 0 | BN13: =SUM(BN14:BN19) -> 0 | BP13: =SUM(BP14:BP19) -> 0 | BR13: =SUM(BR14:BR19) -> 0 | BT13: =SUM(BT14:BT19) -> 0 | BU13: =BT13/D13 -> #DIV/0! | BW13: Check
A14: Option 1 Licence Fee | B14: 2019 | D14: =BT14 -> 0 | E14: 2 | G14: =F14/$D14 -> #DIV/0! | I14: =H14/$D14 -> #DIV/0! | K14: =J14/$D14 -> #DIV/0! | L14: =$C14*L$5 -> 0 | M14: =L14/$D14 -> #DIV/0! | O14: =N14/$D14 -> #DIV/0! | Q14: =P14/$D14 -> #DIV/0! | S14: =R14/$D14 -> #DIV/0! | T14: =$C14*T$5 -> 0 | U14: =T14/$D14 -> #DIV/0! | W14: =V14/$D14 -> #DIV/0! | Y14: =X14/$D14 -> #DIV/0! | AA14: =Z14/$D14 -> #DIV/0! | AC14: =AB14/$D14 -> #DIV/0! | AE14: =AD14/$D14 -> #DIV/0! | AG14: =AF14/$D14 -> #DIV/0! | AI14: =AH14/$D14 -> #DIV/0! | AK14: =AJ14/$D14 -> #DIV/0! | AM14: =AL14/$D14 -> #DIV/0! | AO14: =AN14/$D14 -> #DIV/0! | AQ14: =AP14/$D14 -> #DIV/0! | AS14: =AR14/$D14 -> #DIV/0! | AU14: =AT14/$D14 -> #DIV/0! | AV14: =$C14*AV$5 -> 0 | AW14: =AV14/$D14 -> #DIV/0! | AX14: =$C14*AX$5 -> 0 | AY14: =AX14/$D14 -> #DIV/0! | AZ14: =$C14*AZ$5 -> 0 | BA14: =AZ14/$D14 -> #DIV/0! | BC14: =BB14/$D14 -> #DIV/0! | BE14: =BD14/$D14 -> #DIV/0! | BG14: =BF14/$D14 -> #DIV/0! | BI14: =BH14/$D14 -> #DIV/0! | BK14: =BJ14/$D14 -> #DIV/0! | BM14: =BL14/$D14 -> #DIV/0! | BO14: =BN14/$D14 -> #DIV/0! | BQ14: =BP14/$D14 -> #DIV/0! | BS14: =BR14/$D14 -> #DIV/0! | BT14: =F14+H14+J14+L14+N14+P14+R14+X14+AX14+Z14+AB14+AD14+AF14+AH14+AJ14+AL14+AN14+AP14+AR14+AT14+AV14+AZ14+BB14+BD14+BF14+BH14+BJ14+T14+V14+BL14+BN14+BP14+BR14 -> 0 | BU14: =BT14/D14 -> #DIV/0!
B15: 2020 | D15: =BT15 -> 0 | E15: 2 | G15: =F15/$D15 -> #DIV/0! | I15: =H15/$D15 -> #DIV/0! | K15: =J15/$D15 -> #DIV/0! | L15: =$C15*L$6 -> 0 | M15: =L15/$D15 -> #DIV/0! | O15: =N15/$D15 -> #DIV/0! | Q15: =P15/$D15 -> #DIV/0! | S15: =R15/$D15 -> #DIV/0! | T15: =$C15*T$6 -> 0 | U15: =T15/$D15 -> #DIV/0! | W15: =V15/$D15 -> #DIV/0! | Y15: =X15/$D15 -> #DIV/0! | AA15: =Z15/$D15 -> #DIV/0! | AC15: =AB15/$D15 -> #DIV/0! | AE15: =AD15/$D15 -> #DIV/0! | AG15: =AF15/$D15 -> #DIV/0! | AI15: =AH15/$D15 -> #DIV/0! | AJ15: =C15*AJ$6 -> 0 | AK15: =AJ15/$D15 -> #DIV/0! | AM15: =AL15/$D15 -> #DIV/0! | AO15: =AN15/$D15 -> #DIV/0! | AQ15: =AP15/$D15 -> #DIV/0! | AS15: =AR15/$D15 -> #DIV/0! | AU15: =AT15/$D15 -> #DIV/0! | AV15: =$C15*AV$5 -> 0 | AW15: =AV15/$D15 -> #DIV/0! | AX15: =$C15*AX$5 -> 0 | AY15: =AX15/$D15 -> #DIV/0! | AZ15: =$C15*AZ$5 -> 0 | BA15: =AZ15/$D15 -> #DIV/0! | BC15: =BB15/$D15 -> #DIV/0! | BE15: =BD15/$D15 -> #DIV/0! | BG15: =BF15/$D15 -> #DIV/0! | BI15: =BH15/$D15 -> #DIV/0! | BK15: =BJ15/$D15 -> #DIV/0! | BM15: =BL15/$D15 -> #DIV/0! | BO15: =BN15/$D15 -> #DIV/0! | BQ15: =BP15/$D15 -> #DIV/0! | BS15: =BR15/$D15 -> #DIV/0! | BT15: =F15+H15+J15+L15+N15+P15+R15+X15+AX15+Z15+AB15+AD15+AF15+AH15+AJ15+AL15+AN15+AP15+AR15+AT15+AV15+AZ15+BB15+BD15+BF15+BH15+BJ15+T15+V15+BL15+BN15+BP15+BR15 -> 0 | BU15: =BT15/D15 -> #DIV/0! | BW15: =BT15-D15 -> 0
B16: 2021 | D16: =BT16 -> 0 | E16: 3 | G16: =F16/$D16 -> #DIV/0! | I16: =H16/$D16 -> #DIV/0! | K16: =J16/$D16 -> #DIV/0! | L16: =$C16*L$7 -> 0 | M16: =L16/$D16 -> #DIV/0! | O16: =N16/$D16 -> #DIV/0! | Q16: =P16/$D16 -> #DIV/0! | S16: =R16/$D16 -> #DIV/0! | T16: =$C16*T$7 -> 0 | U16: =T16/$D16 -> #DIV/0! | W16: =V16/$D16 -> #DIV/0! | Y16: =X16/$D16 -> #DIV/0! | AA16: =Z16/$D16 -> #DIV/0! | AC16: =AB16/$D16 -> #DIV/0! | AE16: =AD16/$D16 -> #DIV/0! | AG16: =AF16/$D16 -> #DIV/0! | AI16: =AH16/$D16 -> #DIV/0! | AJ16: =C16*AJ$7 -> 0 | AK16: =AJ16/$D16 -> #DIV/0! | AM16: =AL16/$D16 -> #DIV/0! | AO16: =AN16/$D16 -> #DIV/0! | AQ16: =AP16/$D16 -> #DIV/0! | AS16: =AR16/$D16 -> #DIV/0! | AU16: =AT16/$D16 -> #DIV/0! | AV16: =$C16*AV$5 -> 0 | AW16: =AV16/$D16 -> #DIV/0! | AX16: =$C16*AX$5 -> 0 | AY16: =AX16/$D16 -> #DIV/0! | AZ16: =$C16*AZ$5 -> 0 | BA16: =AZ16/$D16 -> #DIV/0! | BC16: =BB16/$D16 -> #DIV/0! | BE16: =BD16/$D16 -> #DIV/0! | BG16: =BF16/$D16 -> #DIV/0! | BI16: =BH16/$D16 -> #DIV/0! | BK16: =BJ16/$D16 -> #DIV/0! | BM16: =BL16/$D16 -> #DIV/0! | BO16: =BN16/$D16 -> #DIV/0! | BQ16: =BP16/$D16 -> #DIV/0! | BS16: =BR16/$D16 -> #DIV/0! | BT16: =F16+H16+J16+L16+N16+P16+R16+X16+AX16+Z16+AB16+AD16+AF16+AH16+AJ16+AL16+AN16+AP16+AR16+AT16+AV16+AZ16+BB16+BD16+BF16+BH16+BJ16+T16+V16+BL16+BN16+BP16+BR16 -> 0 | BU16: =BT16/D16 -> #DIV/0! | BW16: =BT16-D16 -> 0
B17: 2022 | D17: =BT17 -> 0 | E17: 4 | G17: =F17/$D17 -> #DIV/0! | I17: =H17/$D17 -> #DIV/0! | K17: =J17/$D17 -> #DIV/0! | L17: =$C17*L$8 -> 0 | M17: =L17/$D17 -> #DIV/0! | O17: =N17/$D17 -> #DIV/0! | Q17: =P17/$D17 -> #DIV/0! | S17: =R17/$D17 -> #DIV/0! | T17: =$C17*T$8 -> 0 | U17: =T17/$D17 -> #DIV/0! | W17: =V17/$D17 -> #DIV/0! | Y17: =X17/$D17 -> #DIV/0! | AA17: =Z17/$D17 -> #DIV/0! | AC17: =AB17/$D17 -> #DIV/0! | AE17: =AD17/$D17 -> #DIV/0! | AG17: =AF17/$D17 -> #DIV/0! | AI17: =AH17/$D17 -> #DIV/0! | AJ17: =C17*AJ$8 -> 0 | AK17: =AJ17/$D17 -> #DIV/0! | AM17: =AL17/$D17 -> #DIV/0! | AO17: =AN17/$D17 -> #DIV/0! | AQ17: =AP17/$D17 -> #DIV/0! | AS17: =AR17/$D17 -> #DIV/0! | AU17: =AT17/$D17 -> #DIV/0! | AV17: =$C17*AV$5 -> 0 | AW17: =AV17/$D17 -> #DIV/0! | AX17: =$C17*AX$5 -> 0 | AY17: =AX17/$D17 -> #DIV/0! | AZ17: =$C17*AZ$5 -> 0 | BA17: =AZ17/$D17 -> #DIV/0! | BC17: =BB17/$D17 -> #DIV/0! | BE17: =BD17/$D17 -> #DIV/0! | BG17: =BF17/$D17 -> #DIV/0! | BI17: =BH17/$D17 -> #DIV/0! | BK17: =BJ17/$D17 -> #DIV/0! | BM17: =BL17/$D17 -> #DIV/0! | BO17: =BN17/$D17 -> #DIV/0! | BQ17: =BP17/$D17 -> #DIV/0! | BS17: =BR17/$D17 -> #DIV/0! | BT17: =F17+H17+J17+L17+N17+P17+R17+X17+AX17+Z17+AB17+AD17+AF17+AH17+AJ17+AL17+AN17+AP17+AR17+AT17+AV17+AZ17+BB17+BD17+BF17+BH17+BJ17+T17+V17+BL17+BN17+BP17+BR17 -> 0 | BU17: =BT17/D17 -> #DIV/0! | BW17: =BT17-D17 -> 0
B18: 2023 | D18: =BT18 -> 0 | E18: 5 | G18: =F18/$D18 -> #DIV/0! | I18: =H18/$D18 -> #DIV/0! | K18: =J18/$D18 -> #DIV/0! | L18: =$C18*L$9 -> 0 | M18: =L18/$D18 -> #DIV/0! | O18: =N18/$D18 -> #DIV/0! | Q18: =P18/$D18 -> #DIV/0! | S18: =R18/$D18 -> #DIV/0! | T18: =$C18*T$9 -> 0 | U18: =T18/$D18 -> #DIV/0! | W18: =V18/$D18 -> #DIV/0! | Y18: =X18/$D18 -> #DIV/0! | AA18: =Z18/$D18 -> #DIV/0! | AC18: =AB18/$D18 -> #DIV/0! | AE18: =AD18/$D18 -> #DIV/0! | AG18: =AF18/$D18 -> #DIV/0! | AI18: =AH18/$D18 -> #DIV/0! | AJ18: =$C18*AJ$9 -> 0 | AK18: =AJ18/$D18 -> #DIV/0! | AM18: =AL18/$D18 -> #DIV/0! | AO18: =AN18/$D18 -> #DIV/0! | AQ18: =AP18/$D18 -> #DIV/0! | AS18: =AR18/$D18 -> #DIV/0! | AU18: =AT18/$D18 -> #DIV/0! | AV18: =$C18*AV$5 -> 0 | AW18: =AV18/$D18 -> #DIV/0! | AX18: =$C18*AX$5 -> 0 | AY18: =AX18/$D18 -> #DIV/0! | AZ18: =$C18*AZ$5 -> 0 | BA18: =AZ18/$D18 -> #DIV/0! | BC18: =BB18/$D18 -> #DIV/0! | BE18: =BD18/$D18 -> #DIV/0! | BG18: =BF18/$D18 -> #DIV/0! | BI18: =BH18/$D18 -> #DIV/0! | BK18: =BJ18/$D18 -> #DIV/0! | BM18: =BL18/$D18 -> #DIV/0! | BO18: =BN18/$D18 -> #DIV/0! | BQ18: =BP18/$D18 -> #DIV/0! | BS18: =BR18/$D18 -> #DIV/0! | BT18: =F18+H18+J18+L18+N18+P18+R18+X18+AX18+Z18+AB18+AD18+AF18+AH18+AJ18+AL18+AN18+AP18+AR18+AT18+AV18+AZ18+BB18+BD18+BF18+BH18+BJ18+T18+V18+BL18+BN18+BP18+BR18 -> 0 | BU18: =BT18/D18 -> #DIV/0! | BW18: =BT18-D18 -> 0
B19: 2024 | D19: =BT19 -> 0 | E19: 6 | G19: =F19/$D19 -> #DIV/0! | I19: =H19/$D19 -> #DIV/0! | K19: =J19/$D19 -> #DIV/0! | L19: =$C19*L$10 -> 0 | M19: =L19/$D19 -> #DIV/0! | O19: =N19/$D19 -> #DIV/0! | Q19: =P19/$D19 -> #DIV/0! | S19: =R19/$D19 -> #DIV/0! | T19: =$C19*T$10 -> 0 | U19: =T19/$D19 -> #DIV/0! | W19: =V19/$D19 -> #DIV/0! | Y19: =X19/$D19 -> #DIV/0! | AA19: =Z19/$D19 -> #DIV/0! | AC19: =AB19/$D19 -> #DIV/0! | AE19: =AD19/$D19 -> #DIV/0! | AG19: =AF19/$D19 -> #DIV/0! | AI19: =AH19/$D19 -> #DIV/0! | AJ19: =$C19*AJ$10 -> 0 | AK19: =AJ19/$D19 -> #DIV/0! | AM19: =AL19/$D19 -> #DIV/0! | AO19: =AN19/$D19 -> #DIV/0! | AQ19: =AP19/$D19 -> #DIV/0! | AS19: =AR19/$D19 -> #DIV/0! | AU19: =AT19/$D19 -> #DIV/0! | AV19: =$C19*AV$5 -> 0 | AW19: =AV19/$D19 -> #DIV/0! | AX19: =$C19*AX$5 -> 0 | AY19: =AX19/$D19 -> #DIV/0! | AZ19: =$C19*AZ$5 -> 0 | BA19: =AZ19/$D19 -> #DIV/0! | BC19: =BB19/$D19 -> #DIV/0! | BE19: =BD19/$D19 -> #DIV/0! | BG19: =BF19/$D19 -> #DIV/0! | BI19: =BH19/$D19 -> #DIV/0! | BK19: =BJ19/$D19 -> #DIV/0! | BM19: =BL19/$D19 -> #DIV/0! | BO19: =BN19/$D19 -> #DIV/0! | BQ19: =BP19/$D19 -> #DIV/0! | BS19: =BR19/$D19 -> #DIV/0! | BT19: =F19+H19+J19+L19+N19+P19+R19+X19+AX19+Z19+AB19+AD19+AF19+AH19+AJ19+AL19+AN19+AP19+AR19+AT19+AV19+AZ19+BB19+BD19+BF19+BH19+BJ19+T19+V19+BL19+BN19+BP19+BR19 -> 0 | BU19: =BT19/D19 -> #DIV/0! | BW19: =BT19-D19 -> 0
C22: Baseline | D22: =SUM(D23:D28) -> 0 | F22: =SUM(F23:F28) -> #DIV/0! | H22: =SUM(H23:H28) -> #DIV/0! | J22: =SUM(J23:J28) -> #DIV/0! | L22: =SUM(L23:L28) -> #DIV/0! | N22: =SUM(N23:N28) -> #DIV/0! | P22: =SUM(P23:P28) -> #DIV/0! | R22: =SUM(R23:R27) -> #DIV/0! | T22: =SUM(T23:T27) -> #DIV/0! | V22: =SUM(V23:V27) -> #DIV/0! | X22: =SUM(X23:X27) -> #DIV/0! | Z22: =SUM(Z23:Z28) -> #DIV/0! | AB22: =SUM(AB23:AB28) -> #DIV/0! | AD22: =SUM(AD23:AD28) -> #DIV/0! | AF22: =SUM(AF23:AF28) -> #DIV/0! | AH22: =SUM(AH23:AH28) -> #DIV/0! | AJ22: =SUM(AJ23:AJ28) -> #DIV/0! | AL22: =SUM(AL23:AL28) -> #DIV/0! | AN22: =SUM(AN23:AN28) -> #DIV/0! | AP22: =SUM(AP23:AP28) -> #DIV/0! | AR22: =SUM(AR23:AR28) -> #DIV/0! | AT22: =SUM(AT23:AT28) -> #DIV/0! | AV22: =SUM(AV23:AV27) -> #DIV/0! | AX22: =SUM(AX23:AX27) -> #DIV/0! | AZ22: =SUM(AZ23:AZ27) -> #DIV/0! | BB22: =SUM(BB23:BB27) -> #DIV/0! | BD22: =SUM(BD23:BD28) -> #DIV/0! | BF22: =SUM(BF23:BF28) -> #DIV/0! | BH22: =SUM(BH23:BH27) -> #DIV/0! | BJ22: =SUM(BJ23:BJ27) -> #DIV/0! | BL22: =SUM(BL23:BL28) -> #DIV/0! | BN22: =SUM(BN23:BN28) -> #DIV/0! | BP22: =SUM(BP23:BP28) -> #DIV/0! | BR22: =SUM(BR23:BR28) -> #DIV/0! | BT22: =SUM(BT23:BT28) -> #DIV/0! | BU22: =BT22/D22 -> #DIV/0! | BW22: Check
A23: Option 2 | B23: 2019 | E23: 5 | F23: =$D23*G23 -> #DIV/0! | G23: =VLOOKUP($E23,$E$5:G$10,G$12) -> #DIV/0! | H23: =$D23*I23 -> #DIV/0! | I23: =VLOOKUP($E23,$E$5:I$10,I$12) -> #DIV/0! | J23: =$D23*K23 -> #DIV/0! | K23: =VLOOKUP($E23,$E$5:K$10,K$12) -> #DIV/0! | L23: =$D23*M23 -> #DIV/0! | M23: =VLOOKUP($E23,$E$5:M$10,M$12) -> #DIV/0! | N23: =$D23*O23 -> #DIV/0! | O23: =VLOOKUP($E23,$E$5:O$10,O$12) -> #DIV/0! | P23: =$D23*Q23 -> #DIV/0! | Q23: =VLOOKUP($E23,$E$5:Q$10,Q$12) -> #DIV/0! | R23: =$D23*S23 -> #DIV/0! | S23: =VLOOKUP($E23,$E$5:S$10,S$12) -> #DIV/0! | T23: =$D23*U23 -> #DIV/0! | U23: =VLOOKUP($E23,$E$5:U$10,U$12) -> #DIV/0! | V23: =$D23*W23 -> #DIV/0! | W23: =VLOOKUP($E23,$E$5:W$10,W$12) -> #DIV/0! | X23: =$D23*Y23 -> #DIV/0! | Y23: =VLOOKUP($E23,$E$5:Y$10,Y$12) -> #DIV/0! | Z23: =$D23*AA23 -> #DIV/0! | AA23: =VLOOKUP($E23,$E$5:AA$10,AA$12) -> #DIV/0! | AB23: =$D23*AC23 -> #DIV/0! | AC23: =VLOOKUP($E23,$E$5:AC$10,AC$12) -> #DIV/0! | AD23: =$D23*AE23 -> #DIV/0! | AE23: =VLOOKUP($E23,$E$5:AE$10,AE$12) -> #DIV/0! | AF23: =$D23*AG23 -> #DIV/0! | AG23: =VLOOKUP($E23,$E$5:AG$10,AG$12) -> #DIV/0! | AH23: =$D23*AI23 -> #DIV/0! | AI23: =VLOOKUP($E23,$E$5:AI$10,AI$12) -> #DIV/0! | AJ23: =$D23*AK23 -> #DIV/0! | AK23: =VLOOKUP($E23,$E$5:AK$10,AK$12) -> #DIV/0! | AL23: =$D23*AM23 -> #DIV/0! | AM23: =VLOOKUP($E23,$E$5:AM$10,AM$12) -> #DIV/0! | AN23: =$D23*AO23 -> #DIV/0! | AO23: =VLOOKUP($E23,$E$5:AO$10,AO$12) -> #DIV/0! | AP23: =$D23*AQ23 -> #DIV/0! | AQ23: =VLOOKUP($E23,$E$5:AQ$10,AQ$12) -> #DIV/0! | AR23: =$D23*AS23 -> #DIV/0! | AS23: =VLOOKUP($E23,$E$5:AS$10,AS$12) -> #DIV/0! | AT23: =$D23*AU23 -> #DIV/0! | AU23: =VLOOKUP($E23,$E$5:AU$10,AU$12) -> #DIV/0! | AV23: =$D23*AW23 -> #DIV/0! | AW23: =VLOOKUP($E23,$E$5:AW$10,AW$12) -> #DIV/0! | AX23: =$D23*AY23 -> #DIV/0! | AY23: =VLOOKUP($E23,$E$5:AY$10,AY$12) -> #DIV/0! | AZ23: =$D23*BA23 -> #DIV/0! | BA23: =VLOOKUP($E23,$E$5:BA$10,BA$12) -> #DIV/0! | BB23: =$D23*BC23 -> #DIV/0! | BC23: =VLOOKUP($E23,$E$5:BC$10,BC$12) -> #DIV/0! | BD23: =$D23*BE23 -> #DIV/0! | BE23: =VLOOKUP($E23,$E$5:BE$10,BE$12) -> #DIV/0! | BF23: =$D23*BG23 -> #DIV/0! | BG23: =VLOOKUP($E23,$E$5:BG$10,BG$12) -> #DIV/0! | BH23: =$D23*BI23 -> #DIV/0! | BI23: =VLOOKUP($E23,$E$5:BI$10,BI$12) -> #DIV/0! | BJ23: =$D23*BK23 -> #DIV/0! | BK23: =VLOOKUP($E23,$E$5:BK$10,BK$12) -> #DIV/0! | BL23: =$D23*BM23 -> #DIV/0! | BM23: =VLOOKUP($E23,$E$5:BM$10,BM$12) -> #DIV/0! | BN23: =$D23*BO23 -> #DIV/0! | BO23: =VLOOKUP($E23,$E$5:BO$10,BO$12) -> #DIV/0! | BP23: =$D23*BQ23 -> #DIV/0! | BQ23: =VLOOKUP($E23,$E$5:BQ$10,BQ$12) -> #DIV/0! | BR23: =$D23*BS23 -> #DIV/0! | BS23: =VLOOKUP($E23,$E$5:BS$10,BS$12) -> #DIV/0! | BT23: =F23+H23+J23+L23+N23+P23+R23+X23+AX23+Z23+AB23+AD23+AF23+AH23+AJ23+AL23+AN23+AP23+AR23+AT23+AV23+AZ23+BB23+BD23+BF23+BH23+BJ23+T23+V23+BL23+BN23+BP23+BR23 -> #DIV/0! | BU23: =BT23/D23 -> #DIV/0!
B24: 2020 | E24: 6 | F24: =$D24*G24 -> #DIV/0! | G24: =VLOOKUP($E24,$E$5:G$10,G$12) -> #DIV/0! | H24: =$D24*I24 -> #DIV/0! | I24: =VLOOKUP($E24,$E$5:I$10,I$12) -> #DIV/0! | J24: =$D24*K24 -> #DIV/0! | K24: =VLOOKUP($E24,$E$5:K$10,K$12) -> #DIV/0! | L24: =$D24*M24 -> #DIV/0! | M24: =VLOOKUP($E24,$E$5:M$10,M$12) -> #DIV/0! | N24: =$D24*O24 -> #DIV/0! | O24: =VLOOKUP($E24,$E$5:O$10,O$12) -> #DIV/0! | P24: =$D24*Q24 -> #DIV/0! | Q24: =VLOOKUP($E24,$E$5:Q$10,Q$12) -> #DIV/0! | R24: =$D24*S24 -> #DIV/0! | S24: =VLOOKUP($E24,$E$5:S$10,S$12) -> #DIV/0! | T24: =$D24*U24 -> #DIV/0! | U24: =VLOOKUP($E24,$E$5:U$10,U$12) -> #DIV/0! | V24: =$D24*W24 -> #DIV/0! | W24: =VLOOKUP($E24,$E$5:W$10,W$12) -> #DIV/0! | X24: =$D24*Y24 -> #DIV/0! | Y24: =VLOOKUP($E24,$E$5:Y$10,Y$12) -> #DIV/0! | Z24: =$D24*AA24 -> #DIV/0! | AA24: =VLOOKUP($E24,$E$5:AA$10,AA$12) -> #DIV/0! | AB24: =$D24*AC24 -> #DIV/0! | AC24: =VLOOKUP($E24,$E$5:AC$10,AC$12) -> #DIV/0! | AD24: =$D24*AE24 -> #DIV/0! | AE24: =VLOOKUP($E24,$E$5:AE$10,AE$12) -> #DIV/0! | AF24: =$D24*AG24 -> #DIV/0! | AG24: =VLOOKUP($E24,$E$5:AG$10,AG$12) -> #DIV/0! | AH24: =$D24*AI24 -> #DIV/0! | AI24: =VLOOKUP($E24,$E$5:AI$10,AI$12) -> #DIV/0! | AJ24: =$D24*AK24 -> #DIV/0! | AK24: =VLOOKUP($E24,$E$5:AK$10,AK$12) -> #DIV/0! | AL24: =$D24*AM24 -> #DIV/0! | AM24: =VLOOKUP($E24,$E$5:AM$10,AM$12) -> #DIV/0! | AN24: =$D24*AO24 -> #DIV/0! | AO24: =VLOOKUP($E24,$E$5:AO$10,AO$12) -> #DIV/0! | AP24: =$D24*AQ24 -> #DIV/0! | AQ24: =VLOOKUP($E24,$E$5:AQ$10,AQ$12) -> #DIV/0! | AR24: =$D24*AS24 -> #DIV/0! | AS24: =VLOOKUP($E24,$E$5:AS$10,AS$12) -> #DIV/0! | AT24: =$D24*AU24 -> #DIV/0! | AU24: =VLOOKUP($E24,$E$5:AU$10,AU$12) -> #DIV/0! | AV24: =$D24*AW24 -> #DIV/0! | AW24: =VLOOKUP($E24,$E$5:AW$10,AW$12) -> #DIV/0! | AX24: =$D24*AY24 -> #DIV/0! | AY24: =VLOOKUP($E24,$E$5:AY$10,AY$12) -> #DIV/0! | AZ24: =$D24*BA24 -> #DIV/0! | BA24: =VLOOKUP($E24,$E$5:BA$10,BA$12) -> #DIV/0! | BB24: =$D24*BC24 -> #DIV/0! | BC24: =VLOOKUP($E24,$E$5:BC$10,BC$12) -> #DIV/0! | BD24: =$D24*BE24 -> #DIV/0! | BE24: =VLOOKUP($E24,$E$5:BE$10,BE$12) -> #DIV/0! | BF24: =$D24*BG24 -> #DIV/0! | BG24: =VLOOKUP($E24,$E$5:BG$10,BG$12) -> #DIV/0! | BH24: =$D24*BI24 -> #DIV/0! | BI24: =VLOOKUP($E24,$E$5:BI$10,BI$12) -> #DIV/0! | BJ24: =$D24*BK24 -> #DIV/0! | BK24: =VLOOKUP($E24,$E$5:BK$10,BK$12) -> #DIV/0! | BL24: =$D24*BM24 -> #DIV/0! | BM24: =VLOOKUP($E24,$E$5:BM$10,BM$12) -> #DIV/0! | BN24: =$D24*BO24 -> #DIV/0! | BO24: =VLOOKUP($E24,$E$5:BO$10,BO$12) -> #DIV/0! | BP24: =$D24*BQ24 -> #DIV/0! | BQ24: =VLOOKUP($E24,$E$5:BQ$10,BQ$12) -> #DIV/0! | BR24: =$D24*BS24 -> #DIV/0! | BS24: =VLOOKUP($E24,$E$5:BS$10,BS$12) -> #DIV/0! | BT24: =F24+H24+J24+L24+N24+P24+R24+X24+AX24+Z24+AB24+AD24+AF24+AH24+AJ24+AL24+AN24+AP24+AR24+AT24+AV24+AZ24+BB24+BD24+BF24+BH24+BJ24+T24+V24+BL24+BN24+BP24+BR24 -> #DIV/0! | BU24: =BT24/D24 -> #DIV/0! | BW24: =BT24-D24 -> #DIV/0!
B25: 2021 | E25: 6 | F25: =$D25*G25 -> #DIV/0! | G25: =VLOOKUP($E25,$E$5:G$10,G$12) -> #DIV/0! | H25: =$D25*I25 -> #DIV/0! | I25: =VLOOKUP($E25,$E$5:I$10,I$12) -> #DIV/0! | J25: =$D25*K25 -> #DIV/0! | K25: =VLOOKUP($E25,$E$5:K$10,K$12) -> #DIV/0! | L25: =$D25*M25 -> #DIV/0! | M25: =VLOOKUP($E25,$E$5:M$10,M$12) -> #DIV/0! | N25: =$D25*O25 -> #DIV/0! | O25: =VLOOKUP($E25,$E$5:O$10,O$12) -> #DIV/0! | P25: =$D25*Q25 -> #DIV/0! | Q25: =VLOOKUP($E25,$E$5:Q$10,Q$12) -> #DIV/0! | R25: =$D25*S25 -> #DIV/0! | S25: =VLOOKUP($E25,$E$5:S$10,S$12) -> #DIV/0! | T25: =$D25*U25 -> #DIV/0! | U25: =VLOOKUP($E25,$E$5:U$10,U$12) -> #DIV/0! | V25: =$D25*W25 -> #DIV/0! | W25: =VLOOKUP($E25,$E$5:W$10,W$12) -> #DIV/0! | X25: =$D25*Y25 -> #DIV/0! | Y25: =VLOOKUP($E25,$E$5:Y$10,Y$12) -> #DIV/0! | Z25: =$D25*AA25 -> #DIV/0! | AA25: =VLOOKUP($E25,$E$5:AA$10,AA$12) -> #DIV/0! | AB25: =$D25*AC25 -> #DIV/0! | AC25: =VLOOKUP($E25,$E$5:AC$10,AC$12) -> #DIV/0! | AD25: =$D25*AE25 -> #DIV/0! | AE25: =VLOOKUP($E25,$E$5:AE$10,AE$12) -> #DIV/0! | AF25: =$D25*AG25 -> #DIV/0! | AG25: =VLOOKUP($E25,$E$5:AG$10,AG$12) -> #DIV/0! | AH25: =$D25*AI25 -> #DIV/0! | AI25: =VLOOKUP($E25,$E$5:AI$10,AI$12) -> #DIV/0! | AJ25: =$D25*AK25 -> #DIV/0! | AK25: =VLOOKUP($E25,$E$5:AK$10,AK$12) -> #DIV/0! | AL25: =$D25*AM25 -> #DIV/0! | AM25: =VLOOKUP($E25,$E$5:AM$10,AM$12) -> #DIV/0! | AN25: =$D25*AO25 -> #DIV/0! | AO25: =VLOOKUP($E25,$E$5:AO$10,AO$12) -> #DIV/0! | AP25: =$D25*AQ25 -> #DIV/0! | AQ25: =VLOOKUP($E25,$E$5:AQ$10,AQ$12) -> #DIV/0! | AR25: =$D25*AS25 -> #DIV/0! | AS25: =VLOOKUP($E25,$E$5:AS$10,AS$12) -> #DIV/0! | AT25: =$D25*AU25 -> #DIV/0! | AU25: =VLOOKUP($E25,$E$5:AU$10,AU$12) -> #DIV/0! | AV25: =$D25*AW25 -> #DIV/0! | AW25: =VLOOKUP($E25,$E$5:AW$10,AW$12) -> #DIV/0! | AX25: =$D25*AY25 -> #DIV/0! | AY25: =VLOOKUP($E25,$E$5:AY$10,AY$12) -> #DIV/0! | AZ25: =$D25*BA25 -> #DIV/0! | BA25: =VLOOKUP($E25,$E$5:BA$10,BA$12) -> #DIV/0! | BB25: =$D25*BC25 -> #DIV/0! | BC25: =VLOOKUP($E25,$E$5:BC$10,BC$12) -> #DIV/0! | BD25: =$D25*BE25 -> #DIV/0! | BE25: =VLOOKUP($E25,$E$5:BE$10,BE$12) -> #DIV/0! | BF25: =$D25*BG25 -> #DIV/0! | BG25: =VLOOKUP($E25,$E$5:BG$10,BG$12) -> #DIV/0! | BH25: =$D25*BI25 -> #DIV/0! | BI25: =VLOOKUP($E25,$E$5:BI$10,BI$12) -> #DIV/0! | BJ25: =$D25*BK25 -> #DIV/0! | BK25: =VLOOKUP($E25,$E$5:BK$10,BK$12) -> #DIV/0! | BL25: =$D25*BM25 -> #DIV/0! | BM25: =VLOOKUP($E25,$E$5:BM$10,BM$12) -> #DIV/0! | BN25: =$D25*BO25 -> #DIV/0! | BO25: =VLOOKUP($E25,$E$5:BO$10,BO$12) -> #DIV/0! | BP25: =$D25*BQ25 -> #DIV/0! | BQ25: =VLOOKUP($E25,$E$5:BQ$10,BQ$12) -> #DIV/0! | BR25: =$D25*BS25 -> #DIV/0! | BS25: =VLOOKUP($E25,$E$5:BS$10,BS$12) -> #DIV/0! | BT25: =F25+H25+J25+L25+N25+P25+R25+X25+AX25+Z25+AB25+AD25+AF25+AH25+AJ25+AL25+AN25+AP25+AR25+AT25+AV25+AZ25+BB25+BD25+BF25+BH25+BJ25+T25+V25+BL25+BN25+BP25+BR25 -> #DIV/0! | BU25: =BT25/D25 -> #DIV/0! | BW25: =BT25-D25 -> #DIV/0!
B26: 2022 | E26: 6 | F26: =$D26*G26 -> #DIV/0! | G26: =VLOOKUP($E26,$E$5:G$10,G$12) -> #DIV/0! | H26: =$D26*I26 -> #DIV/0! | I26: =VLOOKUP($E26,$E$5:I$10,I$12) -> #DIV/0! | J26: =$D26*K26 -> #DIV/0! | K26: =VLOOKUP($E26,$E$5:K$10,K$12) -> #DIV/0! | L26: =$D26*M26 -> #DIV/0! | M26: =VLOOKUP($E26,$E$5:M$10,M$12) -> #DIV/0! | N26: =$D26*O26 -> #DIV/0! | O26: =VLOOKUP($E26,$E$5:O$10,O$12) -> #DIV/0! | P26: =$D26*Q26 -> #DIV/0! | Q26: =VLOOKUP($E26,$E$5:Q$10,Q$12) -> #DIV/0! | R26: =$D26*S26 -> #DIV/0! | S26: =VLOOKUP($E26,$E$5:S$10,S$12) -> #DIV/0! | T26: =$D26*U26 -> #DIV/0! | U26: =VLOOKUP($E26,$E$5:U$10,U$12) -> #DIV/0! | V26: =$D26*W26 -> #DIV/0! | W26: =VLOOKUP($E26,$E$5:W$10,W$12) -> #DIV/0! | X26: =$D26*Y26 -> #DIV/0! | Y26: =VLOOKUP($E26,$E$5:Y$10,Y$12) -> #DIV/0! | Z26: =$D26*AA26 -> #DIV/0! | AA26: =VLOOKUP($E26,$E$5:AA$10,AA$12) -> #DIV/0! | AB26: =$D26*AC26 -> #DIV/0! | AC26: =VLOOKUP($E26,$E$5:AC$10,AC$12) -> #DIV/0! | AD26: =$D26*AE26 -> #DIV/0! | AE26: =VLOOKUP($E26,$E$5:AE$10,AE$12) -> #DIV/0! | AF26: =$D26*AG26 -> #DIV/0! | AG26: =VLOOKUP($E26,$E$5:AG$10,AG$12) -> #DIV/0! | AH26: =$D26*AI26 -> #DIV/0! | AI26: =VLOOKUP($E26,$E$5:AI$10,AI$12) -> #DIV/0! | AJ26: =$D26*AK26 -> #DIV/0! | AK26: =VLOOKUP($E26,$E$5:AK$10,AK$12) -> #DIV/0! | AL26: =$D26*AM26 -> #DIV/0! | AM26: =VLOOKUP($E26,$E$5:AM$10,AM$12) -> #DIV/0! | AN26: =$D26*AO26 -> #DIV/0! | AO26: =VLOOKUP($E26,$E$5:AO$10,AO$12) -> #DIV/0! | AP26: =$D26*AQ26 -> #DIV/0! | AQ26: =VLOOKUP($E26,$E$5:AQ$10,AQ$12) -> #DIV/0! | AR26: =$D26*AS26 -> #DIV/0! | AS26: =VLOOKUP($E26,$E$5:AS$10,AS$12) -> #DIV/0! | AT26: =$D26*AU26 -> #DIV/0! | AU26: =VLOOKUP($E26,$E$5:AU$10,AU$12) -> #DIV/0! | AV26: =$D26*AW26 -> #DIV/0! | AW26: =VLOOKUP($E26,$E$5:AW$10,AW$12) -> #DIV/0! | AX26: =$D26*AY26 -> #DIV/0! | AY26: =VLOOKUP($E26,$E$5:AY$10,AY$12) -> #DIV/0! | AZ26: =$D26*BA26 -> #DIV/0! | BA26: =VLOOKUP($E26,$E$5:BA$10,BA$12) -> #DIV/0! | BB26: =$D26*BC26 -> #DIV/0! | BC26: =VLOOKUP($E26,$E$5:BC$10,BC$12) -> #DIV/0! | BD26: =$D26*BE26 -> #DIV/0! | BE26: =VLOOKUP($E26,$E$5:BE$10,BE$12) -> #DIV/0! | BF26: =$D26*BG26 -> #DIV/0! | BG26: =VLOOKUP($E26,$E$5:BG$10,BG$12) -> #DIV/0! | BH26: =$D26*BI26 -> #DIV/0! | BI26: =VLOOKUP($E26,$E$5:BI$10,BI$12) -> #DIV/0! | BJ26: =$D26*BK26 -> #DIV/0! | BK26: =VLOOKUP($E26,$E$5:BK$10,BK$12) -> #DIV/0! | BL26: =$D26*BM26 -> #DIV/0! | BM26: =VLOOKUP($E26,$E$5:BM$10,BM$12) -> #DIV/0! | BN26: =$D26*BO26 -> #DIV/0! | BO26: =VLOOKUP($E26,$E$5:BO$10,BO$12) -> #DIV/0! | BP26: =$D26*BQ26 -> #DIV/0! | BQ26: =VLOOKUP($E26,$E$5:BQ$10,BQ$12) -> #DIV/0! | BR26: =$D26*BS26 -> #DIV/0! | BS26: =VLOOKUP($E26,$E$5:BS$10,BS$12) -> #DIV/0! | BT26: =F26+H26+J26+L26+N26+P26+R26+X26+AX26+Z26+AB26+AD26+AF26+AH26+AJ26+AL26+AN26+AP26+AR26+AT26+AV26+AZ26+BB26+BD26+BF26+BH26+BJ26+T26+V26+BL26+BN26+BP26+BR26 -> #DIV/0! | BU26: =BT26/D26 -> #DIV/0! | BW26: =BT26-D26 -> #DIV/0!
B27: 2023 | E27: 6 | F27: =$D27*G27 -> #DIV/0! | G27: =VLOOKUP($E27,$E$5:G$10,G$12) -> #DIV/0! | H27: =$D27*I27 -> #DIV/0! | I27: =VLOOKUP($E27,$E$5:I$10,I$12) -> #DIV/0! | J27: =$D27*K27 -> #DIV/0! | K27: =VLOOKUP($E27,$E$5:K$10,K$12) -> #DIV/0! | L27: =$D27*M27 -> #DIV/0! | M27: =VLOOKUP($E27,$E$5:M$10,M$12) -> #DIV/0! | N27: =$D27*O27 -> #DIV/0! | O27: =VLOOKUP($E27,$E$5:O$10,O$12) -> #DIV/0! | P27: =$D27*Q27 -> #DIV/0! | Q27: =VLOOKUP($E27,$E$5:Q$10,Q$12) -> #DIV/0! | R27: =$D27*S27 -> #DIV/0! | S27: =VLOOKUP($E27,$E$5:S$10,S$12) -> #DIV/0! | T27: =$D27*U27 -> #DIV/0! | U27: =VLOOKUP($E27,$E$5:U$10,U$12) -> #DIV/0! | V27: =$D27*W27 -> #DIV/0! | W27: =VLOOKUP($E27,$E$5:W$10,W$12) -> #DIV/0! | X27: =$D27*Y27 -> #DIV/0! | Y27: =VLOOKUP($E27,$E$5:Y$10,Y$12) -> #DIV/0! | Z27: =$D27*AA27 -> #DIV/0! | AA27: =VLOOKUP($E27,$E$5:AA$10,AA$12) -> #DIV/0! | AB27: =$D27*AC27 -> #DIV/0! | AC27: =VLOOKUP($E27,$E$5:AC$10,AC$12) -> #DIV/0! | AD27: =$D27*AE27 -> #DIV/0! | AE27: =VLOOKUP($E27,$E$5:AE$10,AE$12) -> #DIV/0! | AF27: =$D27*AG27 -> #DIV/0! | AG27: =VLOOKUP($E27,$E$5:AG$10,AG$12) -> #DIV/0! | AH27: =$D27*AI27 -> #DIV/0! | AI27: =VLOOKUP($E27,$E$5:AI$10,AI$12) -> #DIV/0! | AJ27: =$D27*AK27 -> #DIV/0! | AK27: =VLOOKUP($E27,$E$5:AK$10,AK$12) -> #DIV/0! | AL27: =$D27*AM27 -> #DIV/0! | AM27: =VLOOKUP($E27,$E$5:AM$10,AM$12) -> #DIV/0! | AN27: =$D27*AO27 -> #DIV/0! | AO27: =VLOOKUP($E27,$E$5:AO$10,AO$12) -> #DIV/0! | AP27: =$D27*AQ27 -> #DIV/0! | AQ27: =VLOOKUP($E27,$E$5:AQ$10,AQ$12) -> #DIV/0! | AR27: =$D27*AS27 -> #DIV/0! | AS27: =VLOOKUP($E27,$E$5:AS$10,AS$12) -> #DIV/0! | AT27: =$D27*AU27 -> #DIV/0! | AU27: =VLOOKUP($E27,$E$5:AU$10,AU$12) -> #DIV/0! | AV27: =$D27*AW27 -> #DIV/0! | AW27: =VLOOKUP($E27,$E$5:AW$10,AW$12) -> #DIV/0! | AX27: =$D27*AY27 -> #DIV/0! | AY27: =VLOOKUP($E27,$E$5:AY$10,AY$12) -> #DIV/0! | AZ27: =$D27*BA27 -> #DIV/0! | BA27: =VLOOKUP($E27,$E$5:BA$10,BA$12) -> #DIV/0! | BB27: =$D27*BC27 -> #DIV/0! | BC27: =VLOOKUP($E27,$E$5:BC$10,BC$12) -> #DIV/0! | BD27: =$D27*BE27 -> #DIV/0! | BE27: =VLOOKUP($E27,$E$5:BE$10,BE$12) -> #DIV/0! | BF27: =$D27*BG27 -> #DIV/0! | BG27: =VLOOKUP($E27,$E$5:BG$10,BG$12) -> #DIV/0! | BH27: =$D27*BI27 -> #DIV/0! | BI27: =VLOOKUP($E27,$E$5:BI$10,BI$12) -> #DIV/0! | BJ27: =$D27*BK27 -> #DIV/0! | BK27: =VLOOKUP($E27,$E$5:BK$10,BK$12) -> #DIV/0! | BL27: =$D27*BM27 -> #DIV/0! | BM27: =VLOOKUP($E27,$E$5:BM$10,BM$12) -> #DIV/0! | BN27: =$D27*BO27 -> #DIV/0! | BO27: =VLOOKUP($E27,$E$5:BO$10,BO$12) -> #DIV/0! | BP27: =$D27*BQ27 -> #DIV/0! | BQ27: =VLOOKUP($E27,$E$5:BQ$10,BQ$12) -> #DIV/0! | BR27: =$D27*BS27 -> #DIV/0! | BS27: =VLOOKUP($E27,$E$5:BS$10,BS$12) -> #DIV/0! | BT27: =F27+H27+J27+L27+N27+P27+R27+X27+AX27+Z27+AB27+AD27+AF27+AH27+AJ27+AL27+AN27+AP27+AR27+AT27+AV27+AZ27+BB27+BD27+BF27+BH27+BJ27+T27+V27+BL27+BN27+BP27+BR27 -> #DIV/0! | BU27: =BT27/D27 -> #DIV/0! | BW27: =BT27-D27 -> #DIV/0!
B28: 2024 | E28: 6 | F28: =$D28*G28 -> #DIV/0! | G28: =VLOOKUP($E28,$E$5:G$10,G$12) -> #DIV/0! | H28: =$D28*I28 -> #DIV/0! | I28: =VLOOKUP($E28,$E$5:I$10,I$12) -> #DIV/0! | J28: =$D28*K28 -> #DIV/0! | K28: =VLOOKUP($E28,$E$5:K$10,K$12) -> #DIV/0! | L28: =$D28*M28 -> #DIV/0! | M28: =VLOOKUP($E28,$E$5:M$10,M$12) -> #DIV/0! | N28: =$D28*O28 -> #DIV/0! | O28: =VLOOKUP($E28,$E$5:O$10,O$12) -> #DIV/0! | P28: =$D28*Q28 -> #DIV/0! | Q28: =VLOOKUP($E28,$E$5:Q$10,Q$12) -> #DIV/0! | R28: =$D28*S28 -> #DIV/0! | S28: =VLOOKUP($E28,$E$5:S$10,S$12) -> #DIV/0! | T28: =$D28*U28 -> #DIV/0! | U28: =VLOOKUP($E28,$E$5:U$10,U$12) -> #DIV/0! | V28: =$D28*W28 -> #DIV/0! | W28: =VLOOKUP($E28,$E$5:W$10,W$12) -> #DIV/0! | X28: =$D28*Y28 -> #DIV/0! | Y28: =VLOOKUP($E28,$E$5:Y$10,Y$12) -> #DIV/0! | Z28: =$D28*AA28 -> #DIV/0! | AA28: =VLOOKUP($E28,$E$5:AA$10,AA$12) -> #DIV/0! | AB28: =$D28*AC28 -> #DIV/0! | AC28: =VLOOKUP($E28,$E$5:AC$10,AC$12) -> #DIV/0! | AD28: =$D28*AE28 -> #DIV/0! | AE28: =VLOOKUP($E28,$E$5:AE$10,AE$12) -> #DIV/0! | AF28: =$D28*AG28 -> #DIV/0! | AG28: =VLOOKUP($E28,$E$5:AG$10,AG$12) -> #DIV/0! | AH28: =$D28*AI28 -> #DIV/0! | AI28: =VLOOKUP($E28,$E$5:AI$10,AI$12) -> #DIV/0! | AJ28: =$D28*AK28 -> #DIV/0! | AK28: =VLOOKUP($E28,$E$5:AK$10,AK$12) -> #DIV/0! | AL28: =$D28*AM28 -> #DIV/0! | AM28: =VLOOKUP($E28,$E$5:AM$10,AM$12) -> #DIV/0! | AN28: =$D28*AO28 -> #DIV/0! | AO28: =VLOOKUP($E28,$E$5:AO$10,AO$12) -> #DIV/0! | AP28: =$D28*AQ28 -> #DIV/0! | AQ28: =VLOOKUP($E28,$E$5:AQ$10,AQ$12) -> #DIV/0! | AR28: =$D28*AS28 -> #DIV/0! | AS28: =VLOOKUP($E28,$E$5:AS$10,AS$12) -> #DIV/0! | AT28: =$D28*AU28 -> #DIV/0! | AU28: =VLOOKUP($E28,$E$5:AU$10,AU$12) -> #DIV/0! | AV28: =$D28*AW28 -> #DIV/0! | AW28: =VLOOKUP($E28,$E$5:AW$10,AW$12) -> #DIV/0! | AX28: =$D28*AY28 -> #DIV/0! | AY28: =VLOOKUP($E28,$E$5:AY$10,AY$12) -> #DIV/0! | AZ28: =$D28*BA28 -> #DIV/0! | BA28: =VLOOKUP($E28,$E$5:BA$10,BA$12) -> #DIV/0! | BB28: =$D28*BC28 -> #DIV/0! | BC28: =VLOOKUP($E28,$E$5:BC$10,BC$12) -> #DIV/0! | BD28: =$D28*BE28 -> #DIV/0! | BE28: =VLOOKUP($E28,$E$5:BE$10,BE$12) -> #DIV/0! | BF28: =$D28*BG28 -> #DIV/0! | BG28: =VLOOKUP($E28,$E$5:BG$10,BG$12) -> #DIV/0! | BH28: =$D28*BI28 -> #DIV/0! | BI28: =VLOOKUP($E28,$E$5:BI$10,BI$12) -> #DIV/0! | BJ28: =$D28*BK28 -> #DIV/0! | BK28: =VLOOKUP($E28,$E$5:BK$10,BK$12) -> #DIV/0! | BL28: =$D28*BM28 -> #DIV/0! | BM28: =VLOOKUP($E28,$E$5:BM$10,BM$12) -> #DIV/0! | BN28: =$D28*BO28 -> #DIV/0! | BO28: =VLOOKUP($E28,$E$5:BO$10,BO$12) -> #DIV/0! | BP28: =$D28*BQ28 -> #DIV/0! | BQ28: =VLOOKUP($E28,$E$5:BQ$10,BQ$12) -> #DIV/0! | BR28: =$D28*BS28 -> #DIV/0! | BS28: =VLOOKUP($E28,$E$5:BS$10,BS$12) -> #DIV/0! | BT28: =F28+H28+J28+L28+N28+P28+R28+X28+AX28+Z28+AB28+AD28+AF28+AH28+AJ28+AL28+AN28+AP28+AR28+AT28+AV28+AZ28+BB28+BD28+BF28+BH28+BJ28+T28+V28+BL28+BN28+BP28+BR28 -> #DIV/0! | BU28: =BT28/D28 -> #DIV/0! | BW28: =BT28-D28 -> #DIV/0!
