Workbook

Sheet Feuil1
B1: Bourse aux vêtements - Accueil et Loisirs - St Fulgent
D3: Nom | E3: A
D4: Prénom
B5: Repris / Non repris | D5: Adresse
D6: Téléphone
D8: N° Client | E8: 100
A10: N° | B10: Age | C10: Désignation | D10: Marque | E10: sexe | F10: prix | G10: vendu
A11: 1 | B11: 38-40 | C11: chemise de nuit grossesse marron | D11: calinkalin | F11: 1
A12: =A11+1 -> 2 | B12: M | C12: tunique grossesse grise violette manche 3/4 | D12: piches | F12: 1
A13: =A12+1 -> 3 | B13: M | C13: pantacourts grossesse blanc | D13: cmp | F13: 1
A14: =A13+1 -> 4 | B14: M | C14: robe violette manche 3/4 | D14: only | F14: 2
A15: =A14+1 -> 5 | C15: débardeur grossesse noir | D15: endsky | F15: 1
A16: =A15+1 -> 6 | B16: 40 | C16: débardeur grossesse imprimé jaune gris bleu | D16: kiabi | F16: 2
A17: =A16+1 -> 7 | B17: s | C17: chemisier grossesse taupe | D17: only | F17: 2
A18: =A17+1 -> 8 | B18: 18 mois | C18: pyjama jaune orange vert | D18: orchestra | E18: G | F18: 1
A19: =A18+1 -> 9 | B19: 18 mois | C19: tee shirt ML bleu et blanc | D19: orchestra | E19: G | F19: 1
A20: =A19+1 -> 10 | B20: 18 mois | C20: chemise blanche ML | D20: orchestra | E20: G | F20: 1
A21: =A20+1 -> 11 | B21: 18 mois | C21: tee shirt blanc MC voiture | E21: G | F21: 1
A22: =A21+1 -> 12 | B22: 18 mois | C22: tee shirt MC blanc "use your imagination" | D22: timberland | E22: G | F22: 1
A23: =A22+1 -> 13 | B23: 18 mois | C23: tee shirt ML orange et blanc | D23: timberland | E23: G | F23: 1
A24: =A23+1 -> 14 | B24: 18 mois | C24: ensemble pantalon bordeau et tunique fleurs | D24: u tout petit | E24: F | F24: 2
A25: =A24+1 -> 15 | B25: 18 mois | C25: salopette longue jean noir | D25: orchestra | E25: G | F25: 1
A26: =A25+1 -> 16 | B26: 18 mois | C26: ensemble salopette short jean gris clair et tee shirt rayé | D26: terre de marins | E26: G | F26: 2
A27: =A26+1 -> 17 | B27: 18 mois | C27: tee shirt gris bateau | D27: timberland | E27: G | F27: 1
A28: =A27+1 -> 18 | B28: 18 mois | C28: ensemble pantalon marron et chemise jaune | D28: tom et kiddy | E28: G | F28: 1
A29: 19 | B29: 18 mois | C29: polo ML kaki | D29: kidkanai | E29: G | F29: 1
A30: =A29+1 -> 20 | B30: 18 mois | C30: tee shirt ML blanc "destination bisous" | D30: tape à l'œil | E30: G | F30: 1
A31: =A30+1 -> 21 | B31: 18 mois | C31: chemise ML blanche rayé marron | D31: orchestra | E31: G | F31: 1
A32: =A31+1 -> 22 | B32: 18 mois | C32: chemise ML à carreaux marron vert | D32: les p'tits babies | E32: G | F32: 1
A33: =A32+1 -> 23 | B33: 18 mois | C33: chemise ML rayé bleu clair | D33: jean bourget | E33: G | F33: 1
A34: =A33+1 -> 24 | B34: 3 mois | C34: Tee shirt ML blanc rayé beige | D34: kitchoun | E34: G | F34: 1
A35: =A34+1 -> 25 | B35: 3 mois | C35: tee shirt ML blanc manches bleues | D35: u collection | E35: G | F35: 1
A36: =A35+1 -> 26 | B36: 3 mois | C36: short beige | D36: kitiwatt | E36: G | F36: 1
A37: =A36+1 -> 27 | B37: 6 mois | C37: salopette short beige | D37: u collection | E37: G | F37: 1
A38: =A37+1 -> 28 | B38: 6 mois | C38: tee shirt marron | D38: kimbaloo | E38: G | F38: 1
A39: =A38+1 -> 29 | B39: 6 mois | C39: gilet bleu ciel | E39: G | F39: 1
A40: =A39+1 -> 30 | B40: 6 mois | C40: tee shirt bleu | D40: timberland | E40: G | F40: 1
A41: =A40+1 -> 31 | B41: 6 mois | C41: polo marine | D41: timberland | E41: G | F41: 1
A42: =A41+1 -> 32 | B42: 6 mois | C42: chemise ML à carreaux rouges | D42: hugo boss | E42: G | F42: 1.5
A43: =A42+1 -> 33 | B43: 6 mois | C43: tee shirt ML blanc | D43: petit pirate | E43: G | F43: 1
...

Sheet etiquettes
B2: =Feuil1!$E$8 -> 100 | D2: =Feuil1!$A$11 -> 1 | F2: =Feuil1!$E$8 -> 100 | H2: =Feuil1!$A$12 -> 2 | J2: =Feuil1!$E$8 -> 100 | L2: =Feuil1!$A$13 -> 3
B4: =Feuil1!$C$11& " "&Feuil1!$D$11 -> chemise de nuit grossesse marron calinkalin | F4: =Feuil1!$C$12& " "&Feuil1!$D$12 -> tunique grossesse grise violette manche 3/4 piches | J4: =Feuil1!$C$13& " "&Feuil1!$D$13 -> pantacourts grossesse blanc cmp
B6: =Feuil1!$B$11 -> 38-40 | D6: =Feuil1!$F$11 -> 1 | F6: =Feuil1!$B$12 -> M | H6: =Feuil1!$F$12 -> 1 | J6: =Feuil1!$B$13 -> M | L6: =Feuil1!$F$13 -> 1
C7: =Feuil1!$E$11 -> 0 | G7: =Feuil1!$E$12 -> 0 | K7: =Feuil1!$E$13 -> 0
B9: =Feuil1!$E$8 -> 100 | D9: =Feuil1!$A$14 -> 4 | F9: =Feuil1!$E$8 -> 100 | H9: =Feuil1!$A$15 -> 5 | J9: =Feuil1!$E$8 -> 100 | L9: =Feuil1!$A$16 -> 6
B11: =Feuil1!$C$14& " "&Feuil1!$D$14 -> robe violette manche 3/4 only | F11: =Feuil1!$C$15& " "&Feuil1!$D$15 -> débardeur grossesse noir endsky | J11: =Feuil1!$C$16& " "&Feuil1!$D$16 -> débardeur grossesse imprimé jaune gris bleu kiabi
B13: =Feuil1!$B$14 -> M | D13: =Feuil1!$F$14 -> 2 | F13: =Feuil1!$B$15 -> 0 | H13: =Feuil1!$F$15 -> 1 | J13: =Feuil1!$B$16 -> 40 | L13: =Feuil1!$F$16 -> 2
C14: =Feuil1!$E$14 -> 0 | G14: =Feuil1!$E$15 -> 0 | K14: =Feuil1!$E$16 -> 0
B16: =Feuil1!$E$8 -> 100 | D16: =Feuil1!$A$17 -> 7 | F16: =Feuil1!$E$8 -> 100 | H16: =Feuil1!$A$18 -> 8 | J16: =Feuil1!$E$8 -> 100 | L16: =Feuil1!$A$19 -> 9
B18: =Feuil1!$C$17& " "&Feuil1!$D$17 -> chemisier grossesse taupe only | F18: =Feuil1!$C$18& " "&Feuil1!$D$18 -> pyjama jaune orange vert orchestra | J18: =Feuil1!$C$19& " "&Feuil1!$D$19 -> tee shirt ML bleu et blanc orchestra
B20: =Feuil1!$B$17 -> s | D20: =Feuil1!$F$17 -> 2 | F20: =Feuil1!$B$18 -> 18 mois | H20: =Feuil1!$F$18 -> 1 | J20: =Feuil1!$B$19 -> 18 mois | L20: =Feuil1!$F$19 -> 1
C21: =Feuil1!$E$17 -> 0 | G21: =Feuil1!$E$18 -> G | K21: =Feuil1!$E$19 -> G
B23: =Feuil1!$E$8 -> 100 | D23: =Feuil1!$A$20 -> 10 | F23: =Feuil1!$E$8 -> 100 | H23: =Feuil1!$A$21 -> 11 | J23: =Feuil1!$E$8 -> 100 | L23: =Feuil1!$A$22 -> 12
B25: =Feuil1!$C$20& " "&Feuil1!$D$20 -> chemise blanche ML orchestra | F25: =Feuil1!$C$21& " "&Feuil1!$D$21 -> tee shirt blanc MC voiture | J25: =Feuil1!$C$22& " "&Feuil1!$D$22 -> tee shirt MC blanc "use your imagination" timberland
B27: =Feuil1!$B$20 -> 18 mois | D27: =Feuil1!$F$20 -> 1 | F27: =Feuil1!$B$21 -> 18 mois | H27: =Feuil1!$F$21 -> 1 | J27: =Feuil1!$B$22 -> 18 mois | L27: =Feuil1!$F$22 -> 1
C28: =Feuil1!$E$20 -> G | G28: =Feuil1!$E$21 -> G | K28: =Feuil1!$E$22 -> G
B30: =Feuil1!$E$8 -> 100 | D30: =Feuil1!$A$23 -> 13 | F30: =Feuil1!$E$8 -> 100 | H30: =Feuil1!$A$24 -> 14 | J30: =Feuil1!$E$8 -> 100 | L30: =Feuil1!$A$25 -> 15
B32: =Feuil1!$C$23& " "&Feuil1!$D$23 -> tee shirt ML orange et blanc timberland | F32: =Feuil1!$C$24& " "&Feuil1!$D$24 -> ensemble pantalon bordeau et tunique fleurs u tout petit | J32: =Feuil1!$C$25& " "&Feuil1!$D$25 -> salopette longue jean noir orchestra
B34: =Feuil1!$B$23 -> 18 mois | D34: =Feuil1!$F$23 -> 1 | F34: =Feuil1!$B$24 -> 18 mois | H34: =Feuil1!$F$24 -> 2 | J34: =Feuil1!$B$25 -> 18 mois | L34: =Feuil1!$F$25 -> 1
C35: =Feuil1!$E$23 -> G | G35: =Feuil1!$E$24 -> F | K35: =Feuil1!$E$25 -> G
B37: =Feuil1!$E$8 -> 100 | D37: =Feuil1!$A$26 -> 16 | F37: =Feuil1!$E$8 -> 100 | H37: =Feuil1!$A$27 -> 17 | J37: =Feuil1!$E$8 -> 100 | L37: =Feuil1!$A$28 -> 18
B39: =Feuil1!$C$26& " "&Feuil1!$D$26 -> ensemble salopette short jean gris clair et tee shirt rayé terre de marins | F39: =Feuil1!$C$27& " "&Feuil1!$D$27 -> tee shirt gris bateau timberland | J39: =Feuil1!$C$28& " "&Feuil1!$D$28 -> ensemble pantalon marron et chemise jaune tom et kiddy
B41: =Feuil1!$B$26 -> 18 mois | D41: =Feuil1!$F$26 -> 2 | F41: =Feuil1!$B$27 -> 18 mois | H41: =Feuil1!$F$27 -> 1 | J41: =Feuil1!$B$28 -> 18 mois | L41: =Feuil1!$F$28 -> 1
C42: =Feuil1!$E$26 -> G | G42: =Feuil1!$E$27 -> G | K42: =Feuil1!$E$28 -> G
B44: =Feuil1!$E$8 -> 100 | D44: =Feuil1!$A$29 -> 19 | F44: =Feuil1!$E$8 -> 100 | H44: =Feuil1!$A$30 -> 20 | J44: =Feuil1!$E$8 -> 100 | L44: =Feuil1!$A$31 -> 21
B46: =Feuil1!$C$29& " "&Feuil1!$D$29 -> polo ML kaki kidkanai | F46: =Feuil1!$C$30& " "&Feuil1!$D$30 -> tee shirt ML blanc "destination bisous" tape à l'œil | J46: =Feuil1!$C$31& " "&Feuil1!$D$31 -> chemise ML blanche rayé marron orchestra
B48: =Feuil1!$B$29 -> 18 mois | D48: =Feuil1!$F$29 -> 1 | F48: =Feuil1!$B$30 -> 18 mois | H48: =Feuil1!$F$30 -> 1 | J48: =Feuil1!$B$31 -> 18 mois | L48: =Feuil1!$F$31 -> 1
C49: =Feuil1!$E$29 -> G | G49: =Feuil1!$E$30 -> G | K49: =Feuil1!$E$31 -> G
B51: =Feuil1!$E$8 -> 100 | D51: =Feuil1!$A$32 -> 22 | F51: =Feuil1!$E$8 -> 100 | H51: =Feuil1!$A$33 -> 23 | J51: =Feuil1!$E$8 -> 100 | L51: =Feuil1!$A$34 -> 24
B53: =Feuil1!$C$32& " "&Feuil1!$D$32 -> chemise ML à carreaux marron vert les p'tits babies | F53: =Feuil1!$C$33& " "&Feuil1!$D$33 -> chemise ML rayé bleu clair jean bourget | J53: =Feuil1!$C$34& " "&Feuil1!$D$34 -> Tee shirt ML blanc rayé beige kitchoun
B55: =Feuil1!$B$32 -> 18 mois | D55: =Feuil1!$F$32 -> 1 | F55: =Feuil1!$B$33 -> 18 mois | H55: =Feuil1!$F$33 -> 1 | J55: =Feuil1!$B$34 -> 3 mois | L55: =Feuil1!$F$34 -> 1
C56: =Feuil1!$E$32 -> G | G56: =Feuil1!$E$33 -> G | K56: =Feuil1!$E$34 -> G
B58: =Feuil1!$E$8 -> 100 | D58: =Feuil1!$A$35 -> 25 | F58: =Feuil1!$E$8 -> 100 | H58: =Feuil1!$A$36 -> 26 | J58: =Feuil1!$E$8 -> 100 | L58: =Feuil1!$A$37 -> 27
B60: =Feuil1!$C$35& " "&Feuil1!$D$35 -> tee shirt ML blanc manches bleues u collection | F60: =Feuil1!$C$36& " "&Feuil1!$D$36 -> short beige kitiwatt | J60: =Feuil1!$C$37& " "&Feuil1!$D$37 -> salopette short beige u collection
B62: =Feuil1!$B$35 -> 3 mois | D62: =Feuil1!$F$35 -> 1 | F62: =Feuil1!$B$36 -> 3 mois | H62: =Feuil1!$F$36 -> 1 | J62: =Feuil1!$B$37 -> 6 mois | L62: =Feuil1!$F$37 -> 1
C63: =Feuil1!$E$35 -> G | G63: =Feuil1!$E$36 -> G | K63: =Feuil1!$E$37 -> G
B65: =Feuil1!$E$8 -> 100 | D65: =Feuil1!$A$38 -> 28 | F65: =Feuil1!$E$8 -> 100 | H65: =Feuil1!$A$39 -> 29 | J65: =Feuil1!$E$8 -> 100 | L65: =Feuil1!$A$40 -> 30
B67: =Feuil1!$C$38& " "&Feuil1!$D$38 -> tee shirt marron kimbaloo | F67: =Feuil1!$C$39& " "&Feuil1!$D$39 -> gilet bleu ciel | J67: =Feuil1!$C$40& " "&Feuil1!$D$40 -> tee shirt bleu timberland
B69: =Feuil1!$B$38 -> 6 mois | D69: =Feuil1!$F$38 -> 1 | F69: =Feuil1!$B$39 -> 6 mois | H69: =Feuil1!$F$39 -> 1 | J69: =Feuil1!$B$40 -> 6 mois | L69: =Feuil1!$F$40 -> 1
C70: =Feuil1!$E$38 -> G | G70: =Feuil1!$E$39 -> G | K70: =Feuil1!$E$40 -> G
...

Sheet Feuil3
