Workbook
Name horaires: Source!$J$6
Name JF: Tableau5[Date]
Name JF: Tableau5[Date]

Sheet Janvier
B1: =RIGHT(A2,LEN(A2)-FIND("]",A2,1)) -> Janvier | AA1: =Source!B1 -> 2019
A2: =CELL("filename",A1) -> C:\Users\p441\Desktop\[test_produc.xlsx]Janvier
B3: =Source!C6 -> 43466 | C3: =B3+1 -> 43467 | D3: =C3+1 -> 43468 | E3: =D3+1 -> 43469 | F3: =E3+1 -> 43470 | G3: =F3+1 -> 43471 | H3: =G3+1 -> 43472 | I3: =H3+1 -> 43473 | J3: =I3+1 -> 43474 | ... AC3: =AB3+1 -> 43493 | AD3: =IFERROR(IF(AC3+1>Source!D6,"",AC3+1),"") -> 43494 | AE3: =IFERROR(IF(AD3+1>Source!D6,"",AD3+1),"") -> 43495 | AF3: =IFERROR(IF(AE3+1>Source!D6,"",AE3+1),"") -> 43496
B4: =B3 -> 43466 | C4: =C3 -> 43467 | D4: =D3 -> 43468 | E4: =E3 -> 43469 | F4: =F3 -> 43470 | G4: =G3 -> 43471 | H4: =H3 -> 43472 | I4: =I3 -> 43473 | ... AF4: =AF3 -> 43496
A5: toto
A6: titi
A8: A - CA+RTT
A9: B - Maladie
A10: C - Mode Projet
A11: D - Présent
A12: Total Absent A+B
A13: Controle Total

Sheet Source
A1: Année | B1: 2019
A2: Date d'entrée | B2: 43466
F4: Jour fériés
B5: Colonne1 | C5: start | D5: stop | F5: Fête | G5: Date | I5: Type de jour | J5: Valeur
B6: Janvier | C6: =B2 -> 43466 | D6: =EOMONTH(B2,0) -> 43496 | F6: Jour de l'an | G6: =DATE($B$1,1,1) -> 43466 | I6: CA | J6: 1
B7: Février | C7: =EDATE(C6,1) -> 43497 | D7: =EOMONTH(C7,0) -> 43524 | F7: Pâque | G7: =FLOOR(DAY(MINUTE($B$1/38)/2+56)&"/5/"&$B$1,7)-34 -> 43576 | I7: CA 1/2 | J7: 0.5
B8: Mars | C8: =EDATE(C7,1) -> 43525 | D8: =EOMONTH(C8,0) -> 43555 | F8: Lundi de pâques | G8: =G7+1 -> 43577 | I8: RTT | J8: 1
B9: Avril | C9: =EDATE(C8,1) -> 43556 | D9: =EOMONTH(C9,0) -> 43585 | F9: Fête du travail | G9: =DATE($B$1,5,1) -> 43586 | I9: RTT 1/2 | J9: 0.5
B10: Mai | C10: =EDATE(C9,1) -> 43586 | D10: =EOMONTH(C10,0) -> 43616 | F10: 8 mai 1945 | G10: =DATE($B$1,5,8) -> 43593 | I10: Arrêt Mal. | J10: 1
B11: Juin | C11: =EDATE(C10,1) -> 43617 | D11: =EOMONTH(C11,0) -> 43646 | F11: Ascension | G11: =G7+39 -> 43615 | I11: Arrêt Mal. 1/2 | J11: 0.5
B12: Juillet | C12: =EDATE(C11,1) -> 43647 | D12: =EOMONTH(C12,0) -> 43677 | F12: Pentecôte | G12: =G8+49 -> 43626 | I12: Projet | J12: 1
B13: Août | C13: =EDATE(C12,1) -> 43678 | D13: =EOMONTH(C13,0) -> 43708 | F13: Lundi de pentecôte | G13: =G8+50 -> 43627 | I13: Projet 1/2 | J13: 0.5
B14: Septembre | C14: =EDATE(C13,1) -> 43709 | D14: =EOMONTH(C14,0) -> 43738 | F14: 14 Juillet | G14: =DATE($B$1,7,14) -> 43660 | J14: 1
B15: Octobre | C15: =EDATE(C14,1) -> 43739 | D15: =EOMONTH(C15,0) -> 43769 | F15: Assomption | G15: =DATE($B$1,8,15) -> 43692
B16: Novembre | C16: =EDATE(C15,1) -> 43770 | D16: =EOMONTH(C16,0) -> 43799 | F16: Toussaint | G16: =DATE($B$1,11,1) -> 43770
B17: Décembre | C17: =EDATE(C16,1) -> 43800 | D17: =EOMONTH(C17,0) -> 43830 | F17: Armistice | G17: =DATE($B$1,11,11) -> 43780
F18: Noël | G18: =DATE($B$1,12,25) -> 43824
