Workbook

Sheet Jérome
B2: Année : | C2: 2019 | F2: =IF(AND(C2<>"",C3<>"",C4<>""),"Théâtre : Planning horaire de " & C4 & " pour le mois de " & C3,"") -> Théâtre : Planning horaire de Jérôme Prétot pour le mois de Juillet
B3: Mois : | C3: Juillet
C4: Jérôme Prétot
D6: 1 | E6: 2 | F6: 3 | G6: 4 | H6: 5 | I6: 6 | J6: 7 | K6: 8 | L6: 9 | M6: 10 | N6: 11 | O6: 12 | P6: 13 | Q6: 14 | R6: 15 | S6: 16 | T6: 17 | U6: 18 | V6: 19 | W6: 20 | X6: 21 | Y6: 22 | Z6: 23 | AA6: 24 | AB6: 25 | AC6: 26 | AD6: 27 | AE6: 28 | AF6: 29 | AG6: 30 | AH6: 31
D7: =DATE($C$2,VLOOKUP($C$3,Sources!$C$2:$D$14,2,FALSE),Jérome!D6) -> 43647 | E7: =DATE($C$2,VLOOKUP($C$3,Sources!$C$2:$D$14,2,FALSE),Jérome!E6) -> 43648 | F7: =DATE($C$2,VLOOKUP($C$3,Sources!$C$2:$D$14,2,FALSE),Jérome!F6) -> 43649 | G7: =DATE($C$2,VLOOKUP($C$3,Sources!$C$2:$D$14,2,FALSE),Jérome!G6) -> 43650 | H7: =DATE($C$2,VLOOKUP($C$3,Sources!$C$2:$D$14,2,FALSE),Jérome!H6) -> 43651 | I7: =DATE($C$2,VLOOKUP($C$3,Sources!$C$2:$D$14,2,FALSE),Jérome!I6) -> 43652 | J7: =DATE($C$2,VLOOKUP($C$3,Sources!$C$2:$D$14,2,FALSE),Jérome!J6) -> 43653 | K7: =DATE($C$2,VLOOKUP($C$3,Sources!$C$2:$D$14,2,FALSE),Jérome!K6) -> 43654 | ... AH7: =DATE($C$2,VLOOKUP($C$3,Sources!$C$2:$D$14,2,FALSE),Jérome!AH6) -> 43677
C8: Horaires | D8: =IF(AND($C$2<>"",$C$3<>""),TEXT(D7,"jjjj")& " " &TEXT(D7,"jj"),"") -> lundi 01 | E8: =IF(AND($C$2<>"",$C$3<>""),IF(MONTH(E7)=MONTH($D$7),TEXT(E7,"jjjj")&" "&TEXT(E7,"jj"),"")) -> mardi 02 | F8: =IF(AND($C$2<>"",$C$3<>""),IF(MONTH(F7)=MONTH($D$7),TEXT(F7,"jjjj")&" "&TEXT(F7,"jj"),"")) -> mercredi 03 | G8: =IF(AND($C$2<>"",$C$3<>""),IF(MONTH(G7)=MONTH($D$7),TEXT(G7,"jjjj")&" "&TEXT(G7,"jj"),"")) -> jeudi 04 | H8: =IF(AND($C$2<>"",$C$3<>""),IF(MONTH(H7)=MONTH($D$7),TEXT(H7,"jjjj")&" "&TEXT(H7,"jj"),"")) -> vendredi 05 | I8: =IF(AND($C$2<>"",$C$3<>""),IF(MONTH(I7)=MONTH($D$7),TEXT(I7,"jjjj")&" "&TEXT(I7,"jj"),"")) -> samedi 06 | J8: =IF(AND($C$2<>"",$C$3<>""),IF(MONTH(J7)=MONTH($D$7),TEXT(J7,"jjjj")&" "&TEXT(J7,"jj"),"")) -> dimanche 07 | K8: =IF(AND($C$2<>"",$C$3<>""),IF(MONTH(K7)=MONTH($D$7),TEXT(K7,"jjjj")&" "&TEXT(K7,"jj"),"")) -> lundi 08 | L8: =IF(AND($C$2<>"",$C$3<>""),IF(MONTH(L7)=MONTH($D$7),TEXT(L7,"jjjj")&" "&TEXT(L7,"jj"),"")) -> mardi 09 | ... AH8: =IF(AND($C$2<>"",$C$3<>""),IF(MONTH(AH7)=MONTH($D$7),TEXT(AH7,"jjjj")&" "&TEXT(AH7,"jj"),"")) -> mercredi 31
C9: =IF($D$8<>"",Sources!I3,"") -> 0.25 | D9: X | E9: X | F9: X | G9: X | H9: X | I9: X | J9: X | K9: X | L9: X | M9: X | N9: X | O9: X | P9: X | Q9: X | R9: X | S9: X | T9: X | U9: X | V9: X | W9: X | X9: X | Y9: X | Z9: X | AA9: X | AB9: X | AC9: X | AD9: X | AE9: X | AF9: X | AG9: X | AH9: X
C10: =IF($D$8<>"",Sources!I4,"") -> 0.29166667 | D10: X | E10: X | F10: X | G10: X | H10: X | I10: X | J10: X | K10: X | L10: X | M10: X | N10: X | O10: X | P10: X | Q10: X | R10: X | S10: X | T10: X | U10: X | V10: X | W10: X | X10: X | Y10: X | Z10: X | AA10: X | AB10: X | AC10: X | AD10: X | AE10: X | AF10: X | AG10: X | AH10: X
C11: =IF($D$8<>"",Sources!I5,"") -> 0.33333333 | D11: X | E11: X | F11: X | G11: X | H11: X | I11: X | J11: X | K11: X | L11: X | M11: X | N11: X | O11: X | P11: X | Q11: X | R11: X | S11: X | T11: X | U11: X | V11: X | W11: X | X11: X | Y11: X | Z11: X | AA11: X | AB11: X | AC11: X | AD11: X | AE11: X | AF11: X | AG11: X | AH11: X
C12: =IF($D$8<>"",Sources!I6,"") -> 0.375 | D12: X | E12: X | F12: X | G12: X | H12: X | I12: X | J12: X | K12: X | L12: X | M12: X | N12: X | O12: X | P12: X | Q12: X | R12: X | S12: X | T12: X | U12: X | V12: X | W12: X | X12: X | Y12: X | Z12: X | AA12: X | AB12: X | AC12: X | AD12: X | AE12: X | AF12: X | AG12: X | AH12: X
C13: =IF($D$8<>"",Sources!I7,"") -> 0.41666667 | D13: X | E13: X | F13: X | G13: X | H13: X | I13: X | J13: X | K13: X | L13: X | M13: X | N13: X | O13: X | P13: X | Q13: X | R13: X | S13: X | T13: X | U13: X | V13: X | W13: X | X13: X | Y13: X | Z13: X | AA13: X | AB13: X | AC13: X | AD13: X | AE13: X | AF13: X | AG13: X | AH13: X
C14: =IF($D$8<>"",Sources!I8,"") -> 0.45833333 | D14: X | E14: X | F14: X | G14: X | H14: X | I14: X | J14: X | K14: X | L14: X | M14: X | N14: X | O14: X | P14: X | Q14: X | R14: X | S14: X | T14: X | U14: X | V14: X | W14: X | X14: X | Y14: X | Z14: X | AA14: X | AB14: X | AC14: X | AD14: X | AE14: X | AF14: X | AG14: X | AH14: X
C15: =IF($D$8<>"",Sources!I9,"") -> 0.5 | D15: X | E15: X | F15: X | G15: X | H15: X | I15: X | J15: X | K15: X | L15: X | M15: X | N15: X | O15: X | P15: X | Q15: X | R15: X | S15: X | T15: X | U15: X | V15: X | W15: X | X15: X | Y15: X | Z15: X | AA15: X | AB15: X | AC15: X | AD15: X | AE15: X | AF15: X | AG15: X | AH15: X
C16: =IF($D$8<>"",Sources!I10,"") -> 0.54166667 | D16: X | E16: X | F16: X | G16: X | H16: X | I16: X | J16: X | K16: X | L16: X | M16: X | N16: X | O16: X | P16: X | Q16: X | R16: X | S16: X | T16: X | U16: X | V16: X | W16: X | X16: X | Y16: X | Z16: X | AA16: X | AB16: X | AC16: X | AD16: X | AE16: X | AF16: X | AG16: X | AH16: X
C17: =IF($D$8<>"",Sources!I11,"") -> 0.58333333 | D17: X | E17: X | F17: X | G17: X | H17: X | I17: X | J17: X | K17: X | L17: X | M17: X | N17: X | O17: X | P17: X | Q17: X | R17: X | S17: X | T17: X | U17: X | V17: X | W17: X | X17: X | Y17: X | Z17: X | AA17: X | AB17: X | AC17: X | AD17: X | AE17: X | AF17: X | AG17: X | AH17: X
C18: =IF($D$8<>"",Sources!I12,"") -> 0.625 | D18: X | E18: X | F18: X | G18: X | H18: X | I18: X | J18: X | K18: X | L18: X | M18: X | N18: X | O18: X | P18: X | Q18: X | R18: X | S18: X | T18: X | U18: X | V18: X | W18: X | X18: X | Y18: X | Z18: X | AA18: X | AB18: X | AC18: X | AD18: X | AE18: X | AF18: X | AG18: X | AH18: X
C19: =IF($D$8<>"",Sources!I13,"") -> 0.66666667 | D19: X | E19: X | F19: X | G19: X | H19: X | I19: X | J19: X | K19: X | L19: X | M19: X | N19: X | O19: X | P19: X | Q19: X | R19: X | S19: X | T19: X | U19: X | V19: X | W19: X | X19: X | Y19: X | Z19: X | AA19: X | AB19: X | AC19: X | AD19: X | AE19: X | AF19: X | AG19: X | AH19: X
C20: =IF($D$8<>"",Sources!I14,"") -> 0.70833333 | D20: X | E20: X | F20: X | G20: X | H20: X | I20: X | J20: X | K20: X | L20: X | M20: X | N20: X | O20: X | P20: X | Q20: X | R20: X | S20: X | T20: X | U20: X | V20: X | W20: X | X20: X | Y20: X | Z20: X | AA20: X | AB20: X | AC20: X | AD20: X | AE20: X | AF20: X | AG20: X | AH20: X
... C32: =IF($D$8<>"",Sources!I26,"") -> 1.2083333 | D32: X | E32: X | F32: X | G32: X | H32: X | I32: X | J32: X | K32: X | L32: X | M32: X | N32: X | O32: X | P32: X | Q32: X | R32: X | S32: X | T32: X | U32: X | V32: X | W32: X | X32: X | Y32: X | Z32: X | AA32: X | AB32: X | AC32: X | AD32: X | AE32: X | AF32: X | AG32: X | AH32: X
C33: Total en poste | D33: =COUNTIF(D9:D32,"P") -> 0 | E33: =COUNTIF($E9:E$32,"P") -> 0 | F33: =COUNTIF($F9:F$32,"P") -> 0 | G33: =COUNTIF($G9:G$32,"P") -> 0 | H33: =COUNTIF($H9:H$32,"P") -> 0 | I33: =COUNTIF($I9:I$32,"P") -> 0 | J33: =COUNTIF($J9:J$32,"P") -> 0 | K33: =COUNTIF($K9:K$32,"P") -> 0 | L33: =COUNTIF($L9:L$32,"P") -> 0 | M33: =COUNTIF($M9:M$32,"P") -> 0 | N33: =COUNTIF($N9:N$32,"P") -> 0 | O33: =COUNTIF($O9:O$32,"P") -> 0 | P33: =COUNTIF($M9:P$32,"P") -> 0 | Q33: =COUNTIF($M9:Q$32,"P") -> 0 | R33: =COUNTIF($M9:R$32,"P") -> 0 | S33: =COUNTIF($M9:S$32,"P") -> 0 | T33: =COUNTIF($M9:T$32,"P") -> 0 | U33: =COUNTIF($M9:U$32,"P") -> 0 | V33: =COUNTIF($M9:V$32,"P") -> 0 | W33: =COUNTIF($M9:W$32,"P") -> 0 | ... AH33: =COUNTIF($M9:AH$32,"P") -> 0
C34: Total Congés | D34: =COUNTIF(D9:D32,"C") -> 0 | E34: =COUNTIF(E9:E32,"C") -> 0 | F34: =COUNTIF(F9:F32,"C") -> 0 | G34: =COUNTIF(G9:G32,"C") -> 0 | H34: =COUNTIF(H9:H32,"C") -> 0 | I34: =COUNTIF(I9:I32,"C") -> 0 | J34: =COUNTIF(J9:J32,"C") -> 0 | K34: =COUNTIF(K9:K32,"C") -> 0 | ... AH34: =COUNTIF(AH9:AH32,"C") -> 0
C35: Total Récupération | D35: =COUNTIF(D10:D32,"R") -> 0 | E35: =COUNTIF(E10:E32,"R") -> 0 | F35: =COUNTIF(F10:F32,"R") -> 0 | G35: =COUNTIF(G10:G32,"R") -> 0 | H35: =COUNTIF(H10:H32,"R") -> 0 | I35: =COUNTIF(I10:I32,"R") -> 0 | J35: =COUNTIF(J10:J32,"R") -> 0 | K35: =COUNTIF(K10:K32,"R") -> 0 | ... AH35: =COUNTIF(AH10:AH32,"R") -> 0
C36: Total Formation | D36: =COUNTIF(D11:D32,"F") -> 0 | E36: =COUNTIF(E11:E32,"F") -> 1 | F36: =COUNTIF(F11:F32,"F") -> 0 | G36: =COUNTIF(G11:G32,"F") -> 0 | H36: =COUNTIF(H11:H32,"F") -> 0 | I36: =COUNTIF(I11:I32,"F") -> 0 | J36: =COUNTIF(J11:J32,"F") -> 0 | K36: =COUNTIF(K11:K32,"F") -> 0 | ... AH36: =COUNTIF(AH11:AH32,"F") -> 0
C37: Total Maladie | D37: =COUNTIF(D12:D35,"M") -> 0 | E37: =COUNTIF(E12:E35,"M") -> 0 | F37: =COUNTIF(F12:F35,"M") -> 0 | G37: =COUNTIF(G12:G35,"M") -> 0 | H37: =COUNTIF(H12:H35,"M") -> 0 | I37: =COUNTIF(I12:I35,"M") -> 0 | J37: =COUNTIF(J12:J35,"M") -> 0 | K37: =COUNTIF(K12:K35,"M") -> 0 | ... AH37: =COUNTIF(AH12:AH35,"M") -> 0
C38: Total Exceptionnel | D38: =COUNTIF(D13:D32,"E") -> 0 | E38: =COUNTIF(E13:E32,"E") -> 0 | F38: =COUNTIF(F13:F32,"E") -> 0 | G38: =COUNTIF(G13:G32,"E") -> 0 | H38: =COUNTIF(H13:H32,"E") -> 0 | I38: =COUNTIF(I13:I32,"E") -> 0 | J38: =COUNTIF(J13:J32,"E") -> 0 | K38: =COUNTIF(K13:K32,"E") -> 0 | ... AH38: =COUNTIF(AH13:AH32,"E") -> 0
C39: Total Congé Syndical | D39: =COUNTIF(D14:D32,"CS") -> 0 | E39: =COUNTIF(E14:E32,"CS") -> 0 | F39: =COUNTIF(F14:F32,"CS") -> 0 | G39: =COUNTIF(G14:G32,"CS") -> 0 | H39: =COUNTIF(H14:H32,"CS") -> 0 | I39: =COUNTIF(I14:I32,"CS") -> 0 | J39: =COUNTIF(J14:J32,"CS") -> 0 | K39: =COUNTIF(K14:K32,"CS") -> 0 | ... AH39: =COUNTIF(AH14:AH32,"CS") -> 0
C40: Total Heures de nuit | D40: =COUNTIF(D15:D32,"N") -> 0 | E40: =COUNTIF(E15:E32,"N") -> 0 | F40: =COUNTIF(F15:F32,"N") -> 0 | G40: =COUNTIF(G15:G32,"N") -> 0 | H40: =COUNTIF(H15:H32,"N") -> 0 | I40: =COUNTIF(I15:I32,"N") -> 0 | J40: =COUNTIF(J15:J32,"N") -> 0 | K40: =COUNTIF(K15:K32,"N") -> 0 | ... AH40: =COUNTIF(AH15:AH32,"N") -> 0
C43: Type journée | D43: En Poste | E43: Congés | F43: Récupération | G43: Formation | H43: Maladie | I43: Exceptionnel | J43: Congé Syndical | K43: Heures de nuit 22h/5h | L43: Néant
C44: Code | D44: P | E44: C | F44: R | G44: F | H44: M | I44: E | J44: CS | K44: N | L44: X
C45: Total Heures mois | D45: =SUM(D33:AH33) -> 0 | E45: =SUM(D34:AH34) -> 0 | F45: =SUM(D35:AH35) -> 0 | G45: =SUM(D36:AH36) -> 1 | H45: =SUM(D37:AH37) -> 0 | I45: =SUM(D38:AH38) -> 0 | J45: =SUM(D39:AH39) -> 0 | K45: =SUM(D40:AH40) -> 0

Sheet Olivier
B2: Année : | C2: 2019 | F2: =IF(AND(C2<>"",C3<>"",C4<>""),"Théâtre : Planning horaire de " & C4 & " pour le mois de " & C3,"") -> Théâtre : Planning horaire de Olivier Driant pour le mois de Août
B3: Mois : | C3: Août
C4: Olivier Driant
D6: 1 | E6: 2 | F6: 3 | G6: 4 | H6: 5 | I6: 6 | J6: 7 | K6: 8 | L6: 9 | M6: 10 | N6: 11 | O6: 12 | P6: 13 | Q6: 14 | R6: 15 | S6: 16 | T6: 17 | U6: 18 | V6: 19 | W6: 20 | X6: 21 | Y6: 22 | Z6: 23 | AA6: 24 | AB6: 25 | AC6: 26 | AD6: 27 | AE6: 28 | AF6: 29 | AG6: 30 | AH6: 31
D7: =DATE($C$2,VLOOKUP($C$3,Sources!$C$2:$D$14,2,FALSE),Jérome!D6) -> 43678 | E7: =DATE($C$2,VLOOKUP($C$3,Sources!$C$2:$D$14,2,FALSE),Jérome!E6) -> 43679 | F7: =DATE($C$2,VLOOKUP($C$3,Sources!$C$2:$D$14,2,FALSE),Jérome!F6) -> 43680 | G7: =DATE($C$2,VLOOKUP($C$3,Sources!$C$2:$D$14,2,FALSE),Jérome!G6) -> 43681 | H7: =DATE($C$2,VLOOKUP($C$3,Sources!$C$2:$D$14,2,FALSE),Jérome!H6) -> 43682 | I7: =DATE($C$2,VLOOKUP($C$3,Sources!$C$2:$D$14,2,FALSE),Jérome!I6) -> 43683 | J7: =DATE($C$2,VLOOKUP($C$3,Sources!$C$2:$D$14,2,FALSE),Jérome!J6) -> 43684 | K7: =DATE($C$2,VLOOKUP($C$3,Sources!$C$2:$D$14,2,FALSE),Jérome!K6) -> 43685 | ... AH7: =DATE($C$2,VLOOKUP($C$3,Sources!$C$2:$D$14,2,FALSE),Jérome!AH6) -> 43708
C8: Horaires | D8: =IF(AND($C$2<>"",$C$3<>""),TEXT(D7,"jjjj")& " " &TEXT(D7,"jj"),"") -> jeudi 01 | E8: =IF(AND($C$2<>"",$C$3<>""),IF(MONTH(E7)=MONTH($D$7),TEXT(E7,"jjjj")&" "&TEXT(E7,"jj"),"")) -> vendredi 02 | F8: =IF(AND($C$2<>"",$C$3<>""),IF(MONTH(F7)=MONTH($D$7),TEXT(F7,"jjjj")&" "&TEXT(F7,"jj"),"")) -> samedi 03 | G8: =IF(AND($C$2<>"",$C$3<>""),IF(MONTH(G7)=MONTH($D$7),TEXT(G7,"jjjj")&" "&TEXT(G7,"jj"),"")) -> dimanche 04 | H8: =IF(AND($C$2<>"",$C$3<>""),IF(MONTH(H7)=MONTH($D$7),TEXT(H7,"jjjj")&" "&TEXT(H7,"jj"),"")) -> lundi 05 | I8: =IF(AND($C$2<>"",$C$3<>""),IF(MONTH(I7)=MONTH($D$7),TEXT(I7,"jjjj")&" "&TEXT(I7,"jj"),"")) -> mardi 06 | J8: =IF(AND($C$2<>"",$C$3<>""),IF(MONTH(J7)=MONTH($D$7),TEXT(J7,"jjjj")&" "&TEXT(J7,"jj"),"")) -> mercredi 07 | K8: =IF(AND($C$2<>"",$C$3<>""),IF(MONTH(K7)=MONTH($D$7),TEXT(K7,"jjjj")&" "&TEXT(K7,"jj"),"")) -> jeudi 08 | L8: =IF(AND($C$2<>"",$C$3<>""),IF(MONTH(L7)=MONTH($D$7),TEXT(L7,"jjjj")&" "&TEXT(L7,"jj"),"")) -> vendredi 09 | ... AH8: =IF(AND($C$2<>"",$C$3<>""),IF(MONTH(AH7)=MONTH($D$7),TEXT(AH7,"jjjj")&" "&TEXT(AH7,"jj"),"")) -> samedi 31
C9: =IF($D$8<>"",Sources!I3,"") -> 0.25 | D9: X | E9: x | F9: x | G9: x | H9: x | I9: x | J9: x | K9: x | L9: x | M9: x | N9: x | O9: x | P9: x | Q9: x | R9: x | S9: x | T9: x | U9: x | V9: x | W9: x | X9: x | Y9: x | Z9: x | AA9: x | AB9: x | AC9: x | AD9: x | AE9: x | AF9: x | AG9: x | AH9: x
C10: =IF($D$8<>"",Sources!I4,"") -> 0.29166667 | D10: p | E10: F | F10: X | G10: x | H10: x | I10: x | J10: x | K10: x | L10: x | M10: x | N10: x | O10: x | P10: x | Q10: x | R10: x | S10: x | T10: x | U10: x | V10: x | W10: x | X10: x | Y10: x | Z10: x | AA10: x | AB10: x | AC10: x | AD10: x | AE10: x | AF10: x | AG10: x | AH10: x
C11: =IF($D$8<>"",Sources!I5,"") -> 0.33333333 | D11: X | E11: x | F11: x | G11: x | H11: x | I11: x | J11: x | K11: x | L11: x | M11: x | N11: x | O11: x | P11: x | Q11: x | R11: x | S11: x | T11: x | U11: x | V11: x | W11: x | X11: x | Y11: x | Z11: x | AA11: x | AB11: x | AC11: x | AD11: x | AE11: x | AF11: x | AG11: x | AH11: x
C12: =IF($D$8<>"",Sources!I6,"") -> 0.375 | D12: x | E12: X | F12: x | G12: x | H12: x | I12: x | J12: x | K12: x | L12: x | M12: x | N12: x | O12: x | P12: x | Q12: x | R12: x | S12: x | T12: x | U12: x | V12: x | W12: x | X12: x | Y12: x | Z12: x | AA12: x | AB12: x | AC12: x | AD12: x | AE12: x | AF12: x | AG12: x | AH12: x
C13: =IF($D$8<>"",Sources!I7,"") -> 0.41666667 | D13: X | E13: X | F13: x | G13: x | H13: x | I13: x | J13: x | K13: x | L13: x | M13: x | N13: x | O13: x | P13: x | Q13: x | R13: x | S13: x | T13: x | U13: x | V13: x | W13: x | X13: x | Y13: x | Z13: x | AA13: x | AB13: x | AC13: x | AD13: x | AE13: x | AF13: x | AG13: x | AH13: x
C14: =IF($D$8<>"",Sources!I8,"") -> 0.45833333 | D14: x | E14: x | F14: x | G14: x | H14: x | I14: x | J14: x | K14: x | L14: x | M14: x | N14: x | O14: x | P14: x | Q14: x | R14: x | S14: x | T14: x | U14: x | V14: x | W14: x | X14: x | Y14: x | Z14: x | AA14: x | AB14: x | AC14: x | AD14: x | AE14: x | AF14: x | AG14: x | AH14: x
C15: =IF($D$8<>"",Sources!I9,"") -> 0.5 | D15: x | E15: x | F15: x | G15: x | H15: x | I15: x | J15: x | K15: x | L15: x | M15: x | N15: x | O15: x | P15: x | Q15: x | R15: x | S15: x | T15: x | U15: x | V15: x | W15: x | X15: x | Y15: x | Z15: x | AA15: x | AB15: x | AC15: x | AD15: x | AE15: x | AF15: x | AG15: x | AH15: x
C16: =IF($D$8<>"",Sources!I10,"") -> 0.54166667 | D16: x | E16: x | F16: x | G16: x | H16: x | I16: X | J16: x | K16: x | L16: x | M16: x | N16: x | O16: x | P16: x | Q16: x | R16: x | S16: x | T16: x | U16: x | V16: x | W16: x | X16: x | Y16: x | Z16: x | AA16: x | AB16: x | AC16: x | AD16: x | AE16: x | AF16: x | AG16: x | AH16: x
C17: =IF($D$8<>"",Sources!I11,"") -> 0.58333333 | D17: X | E17: x | F17: x | G17: x | H17: x | I17: x | J17: x | K17: x | L17: x | M17: x | N17: x | O17: x | P17: x | Q17: x | R17: x | S17: x | T17: x | U17: x | V17: x | W17: x | X17: x | Y17: x | Z17: x | AA17: x | AB17: x | AC17: x | AD17: x | AE17: x | AF17: x | AG17: x | AH17: x
C18: =IF($D$8<>"",Sources!I12,"") -> 0.625 | D18: x | E18: x | F18: x | G18: x | H18: x | I18: x | J18: x | K18: x | L18: x | M18: x | N18: x | O18: x | P18: x | Q18: x | R18: x | S18: x | T18: x | U18: x | V18: x | W18: x | X18: x | Y18: x | Z18: x | AA18: x | AB18: x | AC18: x | AD18: x | AE18: x | AF18: x | AG18: x | AH18: x
C19: =IF($D$8<>"",Sources!I13,"") -> 0.66666667 | D19: x | E19: x | F19: x | G19: x | H19: x | I19: x | J19: x | K19: x | L19: x | M19: x | N19: x | O19: x | P19: x | Q19: x | R19: x | S19: x | T19: x | U19: x | V19: x | W19: x | X19: x | Y19: x | Z19: x | AA19: x | AB19: x | AC19: x | AD19: x | AE19: x | AF19: x | AG19: x | AH19: x
C20: =IF($D$8<>"",Sources!I14,"") -> 0.70833333 | D20: x | E20: x | F20: x | G20: x | H20: x | I20: x | J20: x | K20: x | L20: x | M20: x | N20: x | O20: x | P20: x | Q20: x | R20: x | S20: x | T20: x | U20: x | V20: x | W20: x | X20: x | Y20: x | Z20: x | AA20: x | AB20: x | AC20: x | AD20: x | AE20: x | AF20: x | AG20: x | AH20: x
... C32: =IF($D$8<>"",Sources!I26,"") -> 1.2083333 | D32: x | E32: X | F32: x | G32: x | H32: x | I32: x | J32: x | K32: x | L32: x | M32: x | N32: x | O32: x | P32: x | Q32: x | R32: x | S32: x | T32: x | U32: x | V32: x | W32: x | X32: x | Y32: x | Z32: x | AA32: x | AB32: x | AC32: x | AD32: x | AE32: x | AF32: x | AG32: x | AH32: x
C33: Total en poste | D33: =COUNTIF(D9:D32,"P") -> 1 | E33: =COUNTIF($E9:E$32,"P") -> 0 | F33: =COUNTIF($F9:F$32,"P") -> 0 | G33: =COUNTIF($G9:G$32,"P") -> 0 | H33: =COUNTIF($H9:H$32,"P") -> 0 | I33: =COUNTIF($I9:I$32,"P") -> 0 | J33: =COUNTIF($J9:J$32,"P") -> 0 | K33: =COUNTIF($K9:K$32,"P") -> 0 | L33: =COUNTIF($L9:L$32,"P") -> 0 | M33: =COUNTIF($M9:M$32,"P") -> 0 | N33: =COUNTIF($N9:N$32,"P") -> 0 | O33: =COUNTIF($O9:O$32,"P") -> 0 | P33: =COUNTIF($M9:P$32,"P") -> 0 | Q33: =COUNTIF($M9:Q$32,"P") -> 0 | R33: =COUNTIF($M9:R$32,"P") -> 0 | S33: =COUNTIF($M9:S$32,"P") -> 0 | T33: =COUNTIF($M9:T$32,"P") -> 0 | U33: =COUNTIF($M9:U$32,"P") -> 0 | V33: =COUNTIF($M9:V$32,"P") -> 0 | W33: =COUNTIF($M9:W$32,"P") -> 0 | ... AH33: =COUNTIF($M9:AH$32,"P") -> 0
C34: Total Congés | D34: =COUNTIF(D9:D32,"C") -> 0 | E34: =COUNTIF(E9:E32,"C") -> 0 | F34: =COUNTIF(F9:F32,"C") -> 0 | G34: =COUNTIF(G9:G32,"C") -> 0 | H34: =COUNTIF(H9:H32,"C") -> 0 | I34: =COUNTIF(I9:I32,"C") -> 0 | J34: =COUNTIF(J9:J32,"C") -> 0 | K34: =COUNTIF(K9:K32,"C") -> 0 | ... AH34: =COUNTIF(AH9:AH32,"C") -> 0
C35: Total Récupération | D35: =COUNTIF(D10:D32,"R") -> 0 | E35: =COUNTIF(E10:E32,"R") -> 0 | F35: =COUNTIF(F10:F32,"R") -> 0 | G35: =COUNTIF(G10:G32,"R") -> 0 | H35: =COUNTIF(H10:H32,"R") -> 0 | I35: =COUNTIF(I10:I32,"R") -> 0 | J35: =COUNTIF(J10:J32,"R") -> 0 | K35: =COUNTIF(K10:K32,"R") -> 0 | ... AH35: =COUNTIF(AH10:AH32,"R") -> 0
C36: Total Formation | D36: =COUNTIF(D11:D32,"F") -> 0 | E36: =COUNTIF(E11:E32,"F") -> 0 | F36: =COUNTIF(F11:F32,"F") -> 0 | G36: =COUNTIF(G11:G32,"F") -> 0 | H36: =COUNTIF(H11:H32,"F") -> 0 | I36: =COUNTIF(I11:I32,"F") -> 0 | J36: =COUNTIF(J11:J32,"F") -> 0 | K36: =COUNTIF(K11:K32,"F") -> 0 | ... AH36: =COUNTIF(AH11:AH32,"F") -> 0
C37: Total Maladie | D37: =COUNTIF(D12:D35,"M") -> 0 | E37: =COUNTIF(E12:E35,"M") -> 0 | F37: =COUNTIF(F12:F35,"M") -> 0 | G37: =COUNTIF(G12:G35,"M") -> 0 | H37: =COUNTIF(H12:H35,"M") -> 0 | I37: =COUNTIF(I12:I35,"M") -> 0 | J37: =COUNTIF(J12:J35,"M") -> 0 | K37: =COUNTIF(K12:K35,"M") -> 0 | ... AH37: =COUNTIF(AH12:AH35,"M") -> 0
C38: Total Exceptionnel | D38: =COUNTIF(D13:D32,"E") -> 0 | E38: =COUNTIF(E13:E32,"E") -> 0 | F38: =COUNTIF(F13:F32,"E") -> 0 | G38: =COUNTIF(G13:G32,"E") -> 0 | H38: =COUNTIF(H13:H32,"E") -> 0 | I38: =COUNTIF(I13:I32,"E") -> 0 | J38: =COUNTIF(J13:J32,"E") -> 0 | K38: =COUNTIF(K13:K32,"E") -> 0 | ... AH38: =COUNTIF(AH13:AH32,"E") -> 0
C39: Total Congé Syndical | D39: =COUNTIF(D14:D32,"CS") -> 0 | E39: =COUNTIF(E14:E32,"CS") -> 0 | F39: =COUNTIF(F14:F32,"CS") -> 0 | G39: =COUNTIF(G14:G32,"CS") -> 0 | H39: =COUNTIF(H14:H32,"CS") -> 0 | I39: =COUNTIF(I14:I32,"CS") -> 0 | J39: =COUNTIF(J14:J32,"CS") -> 0 | K39: =COUNTIF(K14:K32,"CS") -> 0 | ... AH39: =COUNTIF(AH14:AH32,"CS") -> 0
C40: Total Heures de nuit | D40: =COUNTIF(D15:D32,"N") -> 0 | E40: =COUNTIF(E15:E32,"N") -> 0 | F40: =COUNTIF(F15:F32,"N") -> 0 | G40: =COUNTIF(G15:G32,"N") -> 0 | H40: =COUNTIF(H15:H32,"N") -> 0 | I40: =COUNTIF(I15:I32,"N") -> 0 | J40: =COUNTIF(J15:J32,"N") -> 0 | K40: =COUNTIF(K15:K32,"N") -> 0 | ... AH40: =COUNTIF(AH15:AH32,"N") -> 0
C43: Type journée | D43: En Poste | E43: Congés | F43: Récupération | G43: Formation | H43: Maladie | I43: Exceptionnel | J43: Congé Syndical | K43: Heures de nuit 22h/5h | L43: Néant
C44: Code | D44: P | E44: C | F44: R | G44: F | H44: M | I44: E | J44: CS | K44: N | L44: X
C45: Total Heures mois | D45: =SUM(D33:AH33) -> 1 | E45: =SUM(D34:AH34) -> 0 | F45: =SUM(D35:AH35) -> 0 | G45: =SUM(D36:AH36) -> 0 | H45: =SUM(D37:AH37) -> 0 | I45: =SUM(D38:AH38) -> 0 | J45: =SUM(D39:AH39) -> 0 | K45: =SUM(D40:AH40) -> 0

Sheet Sources
C2: Mois | D2: Num | F2: Années | I2: Horaires | K2: Type journée | L2: Code
C3: Janvier | D3: 1 | F3: 2018 | I3: 0.25 | K3: En Poste | L3: P
C4: Février | D4: 2 | F4: 2019 | I4: 0.29166667 | K4: Congés | L4: C
C5: Mars | D5: 3 | F5: 2020 | I5: 0.33333333 | K5: Récupération | L5: R
C6: Avril | D6: 4 | F6: 2021 | I6: 0.375 | K6: Formation | L6: F
C7: Mai | D7: 5 | F7: 2022 | I7: 0.41666667 | K7: Maladie | L7: M
C8: Juin | D8: 6 | F8: 2023 | I8: 0.45833333 | K8: Exceptionnel | L8: E
C9: Juillet | D9: 7 | F9: 2024 | I9: 0.5 | K9: Congé Syndical | L9: CS
C10: Août | D10: 8 | F10: 2025 | I10: 0.54166667 | K10: Heures de nuit 22h/5h | L10: N
C11: Septembre | D11: 9 | F11: 2026 | I11: 0.58333333 | K11: Néant | L11: X
C12: Octobre | D12: 10 | F12: 2027 | I12: 0.625
C13: Novembre | D13: 11 | F13: 2028 | I13: 0.66666667
C14: Décembre | D14: 12 | F14: 2029 | I14: 0.70833333
I15: 0.75
I16: 0.79166667
I17: 0.83333333
I18: 0.875
I19: 0.91666667
I20: 0.95833333
I21: 1
I22: 1.0416667
I23: 1.0833333
I24: 1.125
I25: 1.1666667
I26: 1.2083333
