Workbook
Name annéecolA: OFFSET(dept,,-1,)
Name dept: Encodage!$B$4:$B$52
Name identif: OFFSET(dept,,1,)
Name mois: data!$C$1:$C$13

Sheet Encodage
BN1: Mars
B2: Bénéficiaires | D2: 45292 | E2: =D2+1 -> 45293 | F2: =E2+1 -> 45294 | G2: =F2+1 -> 45295 | H2: =G2+1 -> 45296 | I2: =H2+1 -> 45297 | J2: =I2+1 -> 45298 | K2: =J2+1 -> 45299 | L2: =K2+1 -> 45300 | ... AH2: =AG2+1 -> 45322 | AJ2: =AH2+1 -> 45323 | AK2: =AJ2+1 -> 45324 | AL2: =AK2+1 -> 45325 | AM2: =AL2+1 -> 45326 | AN2: =AM2+1 -> 45327 | AO2: =AN2+1 -> 45328 | AP2: =AO2+1 -> 45329 | AQ2: =AP2+1 -> 45330 | AR2: =AQ2+1 -> 45331 | ... BL2: =BK2+1 -> 45351 | BN2: =BL2+1 -> 45352 | BO2: =BN2+1 -> 45353 | BP2: =BO2+1 -> 45354 | BQ2: =BP2+1 -> 45355 | BR2: =BQ2+1 -> 45356 | BS2: =BR2+1 -> 45357 | BT2: =BS2+1 -> 45358 | BU2: =BT2+1 -> 45359 | BV2: =BU2+1 -> 45360 | ... CR2: =CQ2+1 -> 45382
D3: 45292 | E3: =D3+1 -> 45293 | F3: =E3+1 -> 45294 | G3: =F3+1 -> 45295 | H3: =G3+1 -> 45296 | I3: =H3+1 -> 45297 | J3: =I3+1 -> 45298 | K3: =J3+1 -> 45299 | L3: =K3+1 -> 45300 | ... AH3: =AG3+1 -> 45322 | AJ3: =AH3+1 -> 45323 | AK3: =AJ3+1 -> 45324 | AL3: =AK3+1 -> 45325 | AM3: =AL3+1 -> 45326 | AN3: =AM3+1 -> 45327 | AO3: =AN3+1 -> 45328 | AP3: =AO3+1 -> 45329 | AQ3: =AP3+1 -> 45330 | AR3: =AQ3+1 -> 45331 | ... BL3: =BK3+1 -> 45351 | BN3: =BL3+1 -> 45352 | BO3: =BN3+1 -> 45353 | BP3: =BO3+1 -> 45354 | BQ3: =BP3+1 -> 45355 | BR3: =BQ3+1 -> 45356 | BS3: =BR3+1 -> 45357 | BT3: =BS3+1 -> 45358 | BU3: =BT3+1 -> 45359 | BV3: =BU3+1 -> 45360 | ... CR3: =CQ3+1 -> 45382
A4: 1 | B4: b1 | C4: dss | D4: a | E4: a | F4: a | G4: a | AJ4: a | AK4: b | BR4: a | BU4: b
A5: 2 | B5: d1 | E5: a | F5: b | AJ5: a | AK5: b
A6: 3 | B6: c1 | C6: N | D6: b | E6: a | F6: b | G6: a | AJ6: b | AK6: a
A7: 5 | B7: c2 | C7: N | D7: a | E7: a | G7: a | AJ7: b | AK7: a | BU7: b
A8: 6 | B8: c3 | C8: N | D8: b | E8: a | F8: b | G8: a | AJ8: b | AK8: a | BU8: b
A9: 7 | B9: zz | D9: a | E9: a | F9: b | AJ9: b | BU9: a
A10: 8 | B10: c4 | C10: VEG | D10: b | E10: a | F10: b | G10: a | AJ10: a | BR10: a | BU10: a
A11: 9 | B11: c5 | C11: N | D11: b | G11: b | BR11: a | BU11: b
A12: 10 | B12: ben | C12: dd | G12: a | AJ12: b | AK12: b
A13: 11 | B13: ame | C13: rf | G13: b
A14: 12 | B14: ben2 | C14: SV | D14: a | F14: a | G14: b | BU14: b
A15: 15 | B15: Alex
A16: 20 | B16: Tulipe_4 | G16: a
A17: 25 | B17: Maude
A18: 26 | B18: Maé
A19: 27 | B19: isabelle | AJ19: a | AK19: b
A20: 31 | B20: d6
A21: 32 | B21: Lucas | C21: SV | E21: a | G21: b | AJ21: a | AK21: a | BR21: b | BU21: a
B22: d9
B23: d10
B24: d11
B25: d12
B26: d13
B27: d14
B28: d15
B29: d16
B30: f1
B31: g1
B32: h1
B33: j1
... B80: v30

Sheet bénéf_jour
A1: 45293
A2: Bénéficiaire | B2: Choix | C2: info.
A3: {=IFERROR(INDEX(dept,SMALL(IF(OFFSET(dept,,MATCH($A$1,Encodage!$C$3:$AH$3,0),)<>"",ROW(dept)-3,""),ROW($A1))),"")} -> b1 | B3: {=IFERROR(INDEX(OFFSET(dept,,MATCH($A$1,Encodage!$C$3:$AH$3,0),),SMALL(IF(OFFSET(dept,,MATCH($A$1,Encodage!$C$3:$AH$3,0),)<>"",ROW(dept)-3,""),ROW($A1))),"")} -> a | C3: {=IFERROR(INDEX(identif,SMALL(IF(OFFSET(dept,,MATCH($A$1,Encodage!$C$3:$AH$3,0),)<>"",ROW(dept)-3,""),ROW($A1))),"")} -> dss | F3: Nombre lettre "A" | G3: =COUNTIF(B3:B20,"a") -> 8
A4: {=IFERROR(INDEX(dept,SMALL(IF(OFFSET(dept,,MATCH($A$1,Encodage!$C$3:$AH$3,0),)<>"",ROW(dept)-3,""),ROW($A2))),"")} -> d1 | B4: {=IFERROR(INDEX(OFFSET(dept,,MATCH($A$1,Encodage!$C$3:$AH$3,0),),SMALL(IF(OFFSET(dept,,MATCH($A$1,Encodage!$C$3:$AH$3,0),)<>"",ROW(dept)-3,""),ROW($A2))),"")} -> a | C4: {=IFERROR(INDEX(identif,SMALL(IF(OFFSET(dept,,MATCH($A$1,Encodage!$C$3:$AH$3,0),)<>"",ROW(dept)-3,""),ROW($A2))),"")} -> 0 | F4: Nombre lettre "B" | G4: =COUNTIF(B4:B21,"b") -> 0
A5: {=IFERROR(INDEX(dept,SMALL(IF(OFFSET(dept,,MATCH($A$1,Encodage!$C$3:$AH$3,0),)<>"",ROW(dept)-3,""),ROW($A3))),"")} -> c1 | B5: {=IFERROR(INDEX(OFFSET(dept,,MATCH($A$1,Encodage!$C$3:$AH$3,0),),SMALL(IF(OFFSET(dept,,MATCH($A$1,Encodage!$C$3:$AH$3,0),)<>"",ROW(dept)-3,""),ROW($A3))),"")} -> a | C5: {=IFERROR(INDEX(identif,SMALL(IF(OFFSET(dept,,MATCH($A$1,Encodage!$C$3:$AH$3,0),)<>"",ROW(dept)-3,""),ROW($A3))),"")} -> N | F5: total | G5: =SUM(G3:G4) -> 8
A6: {=IFERROR(INDEX(dept,SMALL(IF(OFFSET(dept,,MATCH($A$1,Encodage!$C$3:$AH$3,0),)<>"",ROW(dept)-3,""),ROW($A4))),"")} -> c2 | B6: {=IFERROR(INDEX(OFFSET(dept,,MATCH($A$1,Encodage!$C$3:$AH$3,0),),SMALL(IF(OFFSET(dept,,MATCH($A$1,Encodage!$C$3:$AH$3,0),)<>"",ROW(dept)-3,""),ROW($A4))),"")} -> a | C6: {=IFERROR(INDEX(identif,SMALL(IF(OFFSET(dept,,MATCH($A$1,Encodage!$C$3:$AH$3,0),)<>"",ROW(dept)-3,""),ROW($A4))),"")} -> N
A7: {=IFERROR(INDEX(dept,SMALL(IF(OFFSET(dept,,MATCH($A$1,Encodage!$C$3:$AH$3,0),)<>"",ROW(dept)-3,""),ROW($A5))),"")} -> c3 | B7: {=IFERROR(INDEX(OFFSET(dept,,MATCH($A$1,Encodage!$C$3:$AH$3,0),),SMALL(IF(OFFSET(dept,,MATCH($A$1,Encodage!$C$3:$AH$3,0),)<>"",ROW(dept)-3,""),ROW($A5))),"")} -> a | C7: {=IFERROR(INDEX(identif,SMALL(IF(OFFSET(dept,,MATCH($A$1,Encodage!$C$3:$AH$3,0),)<>"",ROW(dept)-3,""),ROW($A5))),"")} -> N
A8: {=IFERROR(INDEX(dept,SMALL(IF(OFFSET(dept,,MATCH($A$1,Encodage!$C$3:$AH$3,0),)<>"",ROW(dept)-3,""),ROW($A6))),"")} -> zz | B8: {=IFERROR(INDEX(OFFSET(dept,,MATCH($A$1,Encodage!$C$3:$AH$3,0),),SMALL(IF(OFFSET(dept,,MATCH($A$1,Encodage!$C$3:$AH$3,0),)<>"",ROW(dept)-3,""),ROW($A6))),"")} -> a | C8: {=IFERROR(INDEX(identif,SMALL(IF(OFFSET(dept,,MATCH($A$1,Encodage!$C$3:$AH$3,0),)<>"",ROW(dept)-3,""),ROW($A6))),"")} -> 0
A9: {=IFERROR(INDEX(dept,SMALL(IF(OFFSET(dept,,MATCH($A$1,Encodage!$C$3:$AH$3,0),)<>"",ROW(dept)-3,""),ROW($A7))),"")} -> c4 | B9: {=IFERROR(INDEX(OFFSET(dept,,MATCH($A$1,Encodage!$C$3:$AH$3,0),),SMALL(IF(OFFSET(dept,,MATCH($A$1,Encodage!$C$3:$AH$3,0),)<>"",ROW(dept)-3,""),ROW($A7))),"")} -> a | C9: {=IFERROR(INDEX(identif,SMALL(IF(OFFSET(dept,,MATCH($A$1,Encodage!$C$3:$AH$3,0),)<>"",ROW(dept)-3,""),ROW($A7))),"")} -> VEG
A10: {=IFERROR(INDEX(dept,SMALL(IF(OFFSET(dept,,MATCH($A$1,Encodage!$C$3:$AH$3,0),)<>"",ROW(dept)-3,""),ROW($A8))),"")} -> Lucas | B10: {=IFERROR(INDEX(OFFSET(dept,,MATCH($A$1,Encodage!$C$3:$AH$3,0),),SMALL(IF(OFFSET(dept,,MATCH($A$1,Encodage!$C$3:$AH$3,0),)<>"",ROW(dept)-3,""),ROW($A8))),"")} -> a | C10: {=IFERROR(INDEX(identif,SMALL(IF(OFFSET(dept,,MATCH($A$1,Encodage!$C$3:$AH$3,0),)<>"",ROW(dept)-3,""),ROW($A8))),"")} -> SV
A11: {=IFERROR(INDEX(dept,SMALL(IF(OFFSET(dept,,MATCH($A$1,Encodage!$C$3:$AH$3,0),)<>"",ROW(dept)-3,""),ROW($A9))),"")} | B11: {=IFERROR(INDEX(OFFSET(dept,,MATCH($A$1,Encodage!$C$3:$AH$3,0),),SMALL(IF(OFFSET(dept,,MATCH($A$1,Encodage!$C$3:$AH$3,0),)<>"",ROW(dept)-3,""),ROW($A9))),"")} | C11: {=IFERROR(INDEX(identif,SMALL(IF(OFFSET(dept,,MATCH($A$1,Encodage!$C$3:$AH$3,0),)<>"",ROW(dept)-3,""),ROW($A9))),"")}
A12: {=IFERROR(INDEX(dept,SMALL(IF(OFFSET(dept,,MATCH($A$1,Encodage!$C$3:$AH$3,0),)<>"",ROW(dept)-3,""),ROW($A10))),"")} | B12: {=IFERROR(INDEX(OFFSET(dept,,MATCH($A$1,Encodage!$C$3:$AH$3,0),),SMALL(IF(OFFSET(dept,,MATCH($A$1,Encodage!$C$3:$AH$3,0),)<>"",ROW(dept)-3,""),ROW($A10))),"")} | C12: {=IFERROR(INDEX(identif,SMALL(IF(OFFSET(dept,,MATCH($A$1,Encodage!$C$3:$AH$3,0),)<>"",ROW(dept)-3,""),ROW($A10))),"")}
A13: {=IFERROR(INDEX(dept,SMALL(IF(OFFSET(dept,,MATCH($A$1,Encodage!$C$3:$AH$3,0),)<>"",ROW(dept)-3,""),ROW($A11))),"")} | B13: {=IFERROR(INDEX(OFFSET(dept,,MATCH($A$1,Encodage!$C$3:$AH$3,0),),SMALL(IF(OFFSET(dept,,MATCH($A$1,Encodage!$C$3:$AH$3,0),)<>"",ROW(dept)-3,""),ROW($A11))),"")} | C13: {=IFERROR(INDEX(identif,SMALL(IF(OFFSET(dept,,MATCH($A$1,Encodage!$C$3:$AH$3,0),)<>"",ROW(dept)-3,""),ROW($A11))),"")}
A14: {=IFERROR(INDEX(dept,SMALL(IF(OFFSET(dept,,MATCH($A$1,Encodage!$C$3:$AH$3,0),)<>"",ROW(dept)-3,""),ROW($A12))),"")} | B14: {=IFERROR(INDEX(OFFSET(dept,,MATCH($A$1,Encodage!$C$3:$AH$3,0),),SMALL(IF(OFFSET(dept,,MATCH($A$1,Encodage!$C$3:$AH$3,0),)<>"",ROW(dept)-3,""),ROW($A12))),"")} | C14: {=IFERROR(INDEX(identif,SMALL(IF(OFFSET(dept,,MATCH($A$1,Encodage!$C$3:$AH$3,0),)<>"",ROW(dept)-3,""),ROW($A12))),"")}
A15: {=IFERROR(INDEX(dept,SMALL(IF(OFFSET(dept,,MATCH($A$1,Encodage!$C$3:$AH$3,0),)<>"",ROW(dept)-3,""),ROW($A13))),"")} | B15: {=IFERROR(INDEX(OFFSET(dept,,MATCH($A$1,Encodage!$C$3:$AH$3,0),),SMALL(IF(OFFSET(dept,,MATCH($A$1,Encodage!$C$3:$AH$3,0),)<>"",ROW(dept)-3,""),ROW($A13))),"")} | C15: {=IFERROR(INDEX(identif,SMALL(IF(OFFSET(dept,,MATCH($A$1,Encodage!$C$3:$AH$3,0),)<>"",ROW(dept)-3,""),ROW($A13))),"")}
A16: {=IFERROR(INDEX(dept,SMALL(IF(OFFSET(dept,,MATCH($A$1,Encodage!$C$3:$AH$3,0),)<>"",ROW(dept)-3,""),ROW($A14))),"")} | B16: {=IFERROR(INDEX(OFFSET(dept,,MATCH($A$1,Encodage!$C$3:$AH$3,0),),SMALL(IF(OFFSET(dept,,MATCH($A$1,Encodage!$C$3:$AH$3,0),)<>"",ROW(dept)-3,""),ROW($A14))),"")} | C16: {=IFERROR(INDEX(identif,SMALL(IF(OFFSET(dept,,MATCH($A$1,Encodage!$C$3:$AH$3,0),)<>"",ROW(dept)-3,""),ROW($A14))),"")}
A17: {=IFERROR(INDEX(dept,SMALL(IF(OFFSET(dept,,MATCH($A$1,Encodage!$C$3:$AH$3,0),)<>"",ROW(dept)-3,""),ROW($A15))),"")} | B17: {=IFERROR(INDEX(OFFSET(dept,,MATCH($A$1,Encodage!$C$3:$AH$3,0),),SMALL(IF(OFFSET(dept,,MATCH($A$1,Encodage!$C$3:$AH$3,0),)<>"",ROW(dept)-3,""),ROW($A15))),"")} | C17: {=IFERROR(INDEX(identif,SMALL(IF(OFFSET(dept,,MATCH($A$1,Encodage!$C$3:$AH$3,0),)<>"",ROW(dept)-3,""),ROW($A15))),"")}
... A30: {=IFERROR(INDEX(dept,SMALL(IF(OFFSET(dept,,MATCH($A$1,Encodage!$C$3:$AH$3,0),)<>"",ROW(dept)-3,""),ROW($A28))),"")} | B30: {=IFERROR(INDEX(OFFSET(dept,,MATCH($A$1,Encodage!$C$3:$AH$3,0),),SMALL(IF(OFFSET(dept,,MATCH($A$1,Encodage!$C$3:$AH$3,0),)<>"",ROW(dept)-3,""),ROW($A28))),"")} | C30: {=IFERROR(INDEX(identif,SMALL(IF(OFFSET(dept,,MATCH($A$1,Encodage!$C$3:$AH$3,0),)<>"",ROW(dept)-3,""),ROW($A28))),"")}

Sheet bénéf_mois
B1: 45292
B4: Bénéficiaires | C4: Nombre
B5: b1 | C5: 4
B6: d1 | C6: 2
B7: c1 | C7: 4
B8: c2 | C8: 3
B9: c3
B10: zz
B11: c4
B12: c5
B13: ben
B14: ame
B15: ben2
B16: tulipe_4
B17: Lucas

Sheet total_mois&année
A1: Bénéficiaires | B1: 45292 | C1: =DATE(YEAR(B1),MONTH(B1)+1,DAY(B1)) -> 45323 | D1: =DATE(YEAR(C1),MONTH(C1)+1,DAY(C1)) -> 45352 | E1: =DATE(YEAR(D1),MONTH(D1)+1,DAY(D1)) -> 45383 | F1: =DATE(YEAR(E1),MONTH(E1)+1,DAY(E1)) -> 45413 | G1: =DATE(YEAR(F1),MONTH(F1)+1,DAY(F1)) -> 45444 | H1: =DATE(YEAR(G1),MONTH(G1)+1,DAY(G1)) -> 45474 | I1: =DATE(YEAR(H1),MONTH(H1)+1,DAY(H1)) -> 45505 | J1: =DATE(YEAR(I1),MONTH(I1)+1,DAY(I1)) -> 45536 | ... M1: =DATE(YEAR(L1),MONTH(L1)+1,DAY(L1)) -> 45627
A2: =IFERROR(INDEX(dept,MATCH(SMALL(annéecolA,ROW(A1)),annéecolA,0)),"") -> b1 | B2: {=SUMPRODUCT(IFERROR((MONTH(Encodage!$D$3:$OE$3)=MONTH('total_mois&année'!B$1))*(dept=$A2)*(Encodage!$D$4:$OE$80<>""),""))} -> 4 | C2: {=SUMPRODUCT(IFERROR((MONTH(Encodage!$D$3:$OE$3)=MONTH('total_mois&année'!C$1))*(dept=$A2)*(Encodage!$D$4:$OE$80<>""),""))} -> 2 | D2: {=SUMPRODUCT(IFERROR((MONTH(Encodage!$D$3:$OE$3)=MONTH('total_mois&année'!D$1))*(dept=$A2)*(Encodage!$D$4:$OE$80<>""),""))} -> 2 | E2: {=SUMPRODUCT(IFERROR((MONTH(Encodage!$D$3:$OE$3)=MONTH('total_mois&année'!E$1))*(dept=$A2)*(Encodage!$D$4:$OE$80<>""),""))} -> 0 | F2: {=SUMPRODUCT(IFERROR((MONTH(Encodage!$D$3:$OE$3)=MONTH('total_mois&année'!F$1))*(dept=$A2)*(Encodage!$D$4:$OE$80<>""),""))} -> 0 | G2: {=SUMPRODUCT(IFERROR((MONTH(Encodage!$D$3:$OE$3)=MONTH('total_mois&année'!G$1))*(dept=$A2)*(Encodage!$D$4:$OE$80<>""),""))} -> 0 | H2: {=SUMPRODUCT(IFERROR((MONTH(Encodage!$D$3:$OE$3)=MONTH('total_mois&année'!H$1))*(dept=$A2)*(Encodage!$D$4:$OE$80<>""),""))} -> 0 | I2: {=SUMPRODUCT(IFERROR((MONTH(Encodage!$D$3:$OE$3)=MONTH('total_mois&année'!I$1))*(dept=$A2)*(Encodage!$D$4:$OE$80<>""),""))} -> 0 | ... M2: {=SUMPRODUCT(IFERROR((MONTH(Encodage!$D$3:$OE$3)=MONTH('total_mois&année'!M$1))*(dept=$A2)*(Encodage!$D$4:$OE$80<>""),""))} -> 0
A3: =IFERROR(INDEX(dept,MATCH(SMALL(annéecolA,ROW(A2)),annéecolA,0)),"") -> d1 | B3: {=SUMPRODUCT(IFERROR((MONTH(Encodage!$D$3:$OE$3)=MONTH('total_mois&année'!B$1))*(dept=$A3)*(Encodage!$D$4:$OE$80<>""),""))} -> 2 | C3: {=SUMPRODUCT(IFERROR((MONTH(Encodage!$D$3:$OE$3)=MONTH('total_mois&année'!C$1))*(dept=$A3)*(Encodage!$D$4:$OE$80<>""),""))} -> 2 | D3: {=SUMPRODUCT(IFERROR((MONTH(Encodage!$D$3:$OE$3)=MONTH('total_mois&année'!D$1))*(dept=$A3)*(Encodage!$D$4:$OE$80<>""),""))} -> 0 | E3: {=SUMPRODUCT(IFERROR((MONTH(Encodage!$D$3:$OE$3)=MONTH('total_mois&année'!E$1))*(dept=$A3)*(Encodage!$D$4:$OE$80<>""),""))} -> 0 | F3: {=SUMPRODUCT(IFERROR((MONTH(Encodage!$D$3:$OE$3)=MONTH('total_mois&année'!F$1))*(dept=$A3)*(Encodage!$D$4:$OE$80<>""),""))} -> 0 | G3: {=SUMPRODUCT(IFERROR((MONTH(Encodage!$D$3:$OE$3)=MONTH('total_mois&année'!G$1))*(dept=$A3)*(Encodage!$D$4:$OE$80<>""),""))} -> 0 | H3: {=SUMPRODUCT(IFERROR((MONTH(Encodage!$D$3:$OE$3)=MONTH('total_mois&année'!H$1))*(dept=$A3)*(Encodage!$D$4:$OE$80<>""),""))} -> 0 | I3: {=SUMPRODUCT(IFERROR((MONTH(Encodage!$D$3:$OE$3)=MONTH('total_mois&année'!I$1))*(dept=$A3)*(Encodage!$D$4:$OE$80<>""),""))} -> 0 | ... M3: {=SUMPRODUCT(IFERROR((MONTH(Encodage!$D$3:$OE$3)=MONTH('total_mois&année'!M$1))*(dept=$A3)*(Encodage!$D$4:$OE$80<>""),""))} -> 0
A4: =IFERROR(INDEX(dept,MATCH(SMALL(annéecolA,ROW(A3)),annéecolA,0)),"") -> c1 | B4: {=SUMPRODUCT(IFERROR((MONTH(Encodage!$D$3:$OE$3)=MONTH('total_mois&année'!B$1))*(dept=$A4)*(Encodage!$D$4:$OE$80<>""),""))} -> 4 | C4: {=SUMPRODUCT(IFERROR((MONTH(Encodage!$D$3:$OE$3)=MONTH('total_mois&année'!C$1))*(dept=$A4)*(Encodage!$D$4:$OE$80<>""),""))} -> 2 | D4: {=SUMPRODUCT(IFERROR((MONTH(Encodage!$D$3:$OE$3)=MONTH('total_mois&année'!D$1))*(dept=$A4)*(Encodage!$D$4:$OE$80<>""),""))} -> 0 | E4: {=SUMPRODUCT(IFERROR((MONTH(Encodage!$D$3:$OE$3)=MONTH('total_mois&année'!E$1))*(dept=$A4)*(Encodage!$D$4:$OE$80<>""),""))} -> 0 | F4: {=SUMPRODUCT(IFERROR((MONTH(Encodage!$D$3:$OE$3)=MONTH('total_mois&année'!F$1))*(dept=$A4)*(Encodage!$D$4:$OE$80<>""),""))} -> 0 | G4: {=SUMPRODUCT(IFERROR((MONTH(Encodage!$D$3:$OE$3)=MONTH('total_mois&année'!G$1))*(dept=$A4)*(Encodage!$D$4:$OE$80<>""),""))} -> 0 | H4: {=SUMPRODUCT(IFERROR((MONTH(Encodage!$D$3:$OE$3)=MONTH('total_mois&année'!H$1))*(dept=$A4)*(Encodage!$D$4:$OE$80<>""),""))} -> 0 | I4: {=SUMPRODUCT(IFERROR((MONTH(Encodage!$D$3:$OE$3)=MONTH('total_mois&année'!I$1))*(dept=$A4)*(Encodage!$D$4:$OE$80<>""),""))} -> 0 | ... M4: {=SUMPRODUCT(IFERROR((MONTH(Encodage!$D$3:$OE$3)=MONTH('total_mois&année'!M$1))*(dept=$A4)*(Encodage!$D$4:$OE$80<>""),""))} -> 0
A5: =IFERROR(INDEX(dept,MATCH(SMALL(annéecolA,ROW(A4)),annéecolA,0)),"") -> c2 | B5: {=SUMPRODUCT(IFERROR((MONTH(Encodage!$D$3:$OE$3)=MONTH('total_mois&année'!B$1))*(dept=$A5)*(Encodage!$D$4:$OE$80<>""),""))} -> 3 | C5: {=SUMPRODUCT(IFERROR((MONTH(Encodage!$D$3:$OE$3)=MONTH('total_mois&année'!C$1))*(dept=$A5)*(Encodage!$D$4:$OE$80<>""),""))} -> 2 | D5: {=SUMPRODUCT(IFERROR((MONTH(Encodage!$D$3:$OE$3)=MONTH('total_mois&année'!D$1))*(dept=$A5)*(Encodage!$D$4:$OE$80<>""),""))} -> 1 | E5: {=SUMPRODUCT(IFERROR((MONTH(Encodage!$D$3:$OE$3)=MONTH('total_mois&année'!E$1))*(dept=$A5)*(Encodage!$D$4:$OE$80<>""),""))} -> 0 | F5: {=SUMPRODUCT(IFERROR((MONTH(Encodage!$D$3:$OE$3)=MONTH('total_mois&année'!F$1))*(dept=$A5)*(Encodage!$D$4:$OE$80<>""),""))} -> 0 | G5: {=SUMPRODUCT(IFERROR((MONTH(Encodage!$D$3:$OE$3)=MONTH('total_mois&année'!G$1))*(dept=$A5)*(Encodage!$D$4:$OE$80<>""),""))} -> 0 | H5: {=SUMPRODUCT(IFERROR((MONTH(Encodage!$D$3:$OE$3)=MONTH('total_mois&année'!H$1))*(dept=$A5)*(Encodage!$D$4:$OE$80<>""),""))} -> 0 | I5: {=SUMPRODUCT(IFERROR((MONTH(Encodage!$D$3:$OE$3)=MONTH('total_mois&année'!I$1))*(dept=$A5)*(Encodage!$D$4:$OE$80<>""),""))} -> 0 | ... M5: {=SUMPRODUCT(IFERROR((MONTH(Encodage!$D$3:$OE$3)=MONTH('total_mois&année'!M$1))*(dept=$A5)*(Encodage!$D$4:$OE$80<>""),""))} -> 0
A6: =IFERROR(INDEX(dept,MATCH(SMALL(annéecolA,ROW(A5)),annéecolA,0)),"") -> c3 | B6: {=SUMPRODUCT(IFERROR((MONTH(Encodage!$D$3:$OE$3)=MONTH('total_mois&année'!B$1))*(dept=$A6)*(Encodage!$D$4:$OE$80<>""),""))} -> 4 | C6: {=SUMPRODUCT(IFERROR((MONTH(Encodage!$D$3:$OE$3)=MONTH('total_mois&année'!C$1))*(dept=$A6)*(Encodage!$D$4:$OE$80<>""),""))} -> 2 | D6: {=SUMPRODUCT(IFERROR((MONTH(Encodage!$D$3:$OE$3)=MONTH('total_mois&année'!D$1))*(dept=$A6)*(Encodage!$D$4:$OE$80<>""),""))} -> 1 | E6: {=SUMPRODUCT(IFERROR((MONTH(Encodage!$D$3:$OE$3)=MONTH('total_mois&année'!E$1))*(dept=$A6)*(Encodage!$D$4:$OE$80<>""),""))} -> 0 | F6: {=SUMPRODUCT(IFERROR((MONTH(Encodage!$D$3:$OE$3)=MONTH('total_mois&année'!F$1))*(dept=$A6)*(Encodage!$D$4:$OE$80<>""),""))} -> 0 | G6: {=SUMPRODUCT(IFERROR((MONTH(Encodage!$D$3:$OE$3)=MONTH('total_mois&année'!G$1))*(dept=$A6)*(Encodage!$D$4:$OE$80<>""),""))} -> 0 | H6: {=SUMPRODUCT(IFERROR((MONTH(Encodage!$D$3:$OE$3)=MONTH('total_mois&année'!H$1))*(dept=$A6)*(Encodage!$D$4:$OE$80<>""),""))} -> 0 | I6: {=SUMPRODUCT(IFERROR((MONTH(Encodage!$D$3:$OE$3)=MONTH('total_mois&année'!I$1))*(dept=$A6)*(Encodage!$D$4:$OE$80<>""),""))} -> 0 | ... M6: {=SUMPRODUCT(IFERROR((MONTH(Encodage!$D$3:$OE$3)=MONTH('total_mois&année'!M$1))*(dept=$A6)*(Encodage!$D$4:$OE$80<>""),""))} -> 0
A7: =IFERROR(INDEX(dept,MATCH(SMALL(annéecolA,ROW(A6)),annéecolA,0)),"") -> zz | B7: {=SUMPRODUCT(IFERROR((MONTH(Encodage!$D$3:$OE$3)=MONTH('total_mois&année'!B$1))*(dept=$A7)*(Encodage!$D$4:$OE$80<>""),""))} -> 3 | C7: {=SUMPRODUCT(IFERROR((MONTH(Encodage!$D$3:$OE$3)=MONTH('total_mois&année'!C$1))*(dept=$A7)*(Encodage!$D$4:$OE$80<>""),""))} -> 1 | D7: {=SUMPRODUCT(IFERROR((MONTH(Encodage!$D$3:$OE$3)=MONTH('total_mois&année'!D$1))*(dept=$A7)*(Encodage!$D$4:$OE$80<>""),""))} -> 1 | E7: {=SUMPRODUCT(IFERROR((MONTH(Encodage!$D$3:$OE$3)=MONTH('total_mois&année'!E$1))*(dept=$A7)*(Encodage!$D$4:$OE$80<>""),""))} -> 0 | F7: {=SUMPRODUCT(IFERROR((MONTH(Encodage!$D$3:$OE$3)=MONTH('total_mois&année'!F$1))*(dept=$A7)*(Encodage!$D$4:$OE$80<>""),""))} -> 0 | G7: {=SUMPRODUCT(IFERROR((MONTH(Encodage!$D$3:$OE$3)=MONTH('total_mois&année'!G$1))*(dept=$A7)*(Encodage!$D$4:$OE$80<>""),""))} -> 0 | H7: {=SUMPRODUCT(IFERROR((MONTH(Encodage!$D$3:$OE$3)=MONTH('total_mois&année'!H$1))*(dept=$A7)*(Encodage!$D$4:$OE$80<>""),""))} -> 0 | I7: {=SUMPRODUCT(IFERROR((MONTH(Encodage!$D$3:$OE$3)=MONTH('total_mois&année'!I$1))*(dept=$A7)*(Encodage!$D$4:$OE$80<>""),""))} -> 0 | ... M7: {=SUMPRODUCT(IFERROR((MONTH(Encodage!$D$3:$OE$3)=MONTH('total_mois&année'!M$1))*(dept=$A7)*(Encodage!$D$4:$OE$80<>""),""))} -> 0
A8: =IFERROR(INDEX(dept,MATCH(SMALL(annéecolA,ROW(A7)),annéecolA,0)),"") -> c4 | B8: {=SUMPRODUCT(IFERROR((MONTH(Encodage!$D$3:$OE$3)=MONTH('total_mois&année'!B$1))*(dept=$A8)*(Encodage!$D$4:$OE$80<>""),""))} -> 4 | C8: {=SUMPRODUCT(IFERROR((MONTH(Encodage!$D$3:$OE$3)=MONTH('total_mois&année'!C$1))*(dept=$A8)*(Encodage!$D$4:$OE$80<>""),""))} -> 1 | D8: {=SUMPRODUCT(IFERROR((MONTH(Encodage!$D$3:$OE$3)=MONTH('total_mois&année'!D$1))*(dept=$A8)*(Encodage!$D$4:$OE$80<>""),""))} -> 2 | E8: {=SUMPRODUCT(IFERROR((MONTH(Encodage!$D$3:$OE$3)=MONTH('total_mois&année'!E$1))*(dept=$A8)*(Encodage!$D$4:$OE$80<>""),""))} -> 0 | F8: {=SUMPRODUCT(IFERROR((MONTH(Encodage!$D$3:$OE$3)=MONTH('total_mois&année'!F$1))*(dept=$A8)*(Encodage!$D$4:$OE$80<>""),""))} -> 0 | G8: {=SUMPRODUCT(IFERROR((MONTH(Encodage!$D$3:$OE$3)=MONTH('total_mois&année'!G$1))*(dept=$A8)*(Encodage!$D$4:$OE$80<>""),""))} -> 0 | H8: {=SUMPRODUCT(IFERROR((MONTH(Encodage!$D$3:$OE$3)=MONTH('total_mois&année'!H$1))*(dept=$A8)*(Encodage!$D$4:$OE$80<>""),""))} -> 0 | I8: {=SUMPRODUCT(IFERROR((MONTH(Encodage!$D$3:$OE$3)=MONTH('total_mois&année'!I$1))*(dept=$A8)*(Encodage!$D$4:$OE$80<>""),""))} -> 0 | ... M8: {=SUMPRODUCT(IFERROR((MONTH(Encodage!$D$3:$OE$3)=MONTH('total_mois&année'!M$1))*(dept=$A8)*(Encodage!$D$4:$OE$80<>""),""))} -> 0
A9: =IFERROR(INDEX(dept,MATCH(SMALL(annéecolA,ROW(A8)),annéecolA,0)),"") -> c5 | B9: {=SUMPRODUCT(IFERROR((MONTH(Encodage!$D$3:$OE$3)=MONTH('total_mois&année'!B$1))*(dept=$A9)*(Encodage!$D$4:$OE$80<>""),""))} -> 2 | C9: {=SUMPRODUCT(IFERROR((MONTH(Encodage!$D$3:$OE$3)=MONTH('total_mois&année'!C$1))*(dept=$A9)*(Encodage!$D$4:$OE$80<>""),""))} -> 0 | D9: {=SUMPRODUCT(IFERROR((MONTH(Encodage!$D$3:$OE$3)=MONTH('total_mois&année'!D$1))*(dept=$A9)*(Encodage!$D$4:$OE$80<>""),""))} -> 2 | E9: {=SUMPRODUCT(IFERROR((MONTH(Encodage!$D$3:$OE$3)=MONTH('total_mois&année'!E$1))*(dept=$A9)*(Encodage!$D$4:$OE$80<>""),""))} -> 0 | F9: {=SUMPRODUCT(IFERROR((MONTH(Encodage!$D$3:$OE$3)=MONTH('total_mois&année'!F$1))*(dept=$A9)*(Encodage!$D$4:$OE$80<>""),""))} -> 0 | G9: {=SUMPRODUCT(IFERROR((MONTH(Encodage!$D$3:$OE$3)=MONTH('total_mois&année'!G$1))*(dept=$A9)*(Encodage!$D$4:$OE$80<>""),""))} -> 0 | H9: {=SUMPRODUCT(IFERROR((MONTH(Encodage!$D$3:$OE$3)=MONTH('total_mois&année'!H$1))*(dept=$A9)*(Encodage!$D$4:$OE$80<>""),""))} -> 0 | I9: {=SUMPRODUCT(IFERROR((MONTH(Encodage!$D$3:$OE$3)=MONTH('total_mois&année'!I$1))*(dept=$A9)*(Encodage!$D$4:$OE$80<>""),""))} -> 0 | ... M9: {=SUMPRODUCT(IFERROR((MONTH(Encodage!$D$3:$OE$3)=MONTH('total_mois&année'!M$1))*(dept=$A9)*(Encodage!$D$4:$OE$80<>""),""))} -> 0
A10: =IFERROR(INDEX(dept,MATCH(SMALL(annéecolA,ROW(A9)),annéecolA,0)),"") -> ben | B10: {=SUMPRODUCT(IFERROR((MONTH(Encodage!$D$3:$OE$3)=MONTH('total_mois&année'!B$1))*(dept=$A10)*(Encodage!$D$4:$OE$80<>""),""))} -> 1 | C10: {=SUMPRODUCT(IFERROR((MONTH(Encodage!$D$3:$OE$3)=MONTH('total_mois&année'!C$1))*(dept=$A10)*(Encodage!$D$4:$OE$80<>""),""))} -> 2 | D10: {=SUMPRODUCT(IFERROR((MONTH(Encodage!$D$3:$OE$3)=MONTH('total_mois&année'!D$1))*(dept=$A10)*(Encodage!$D$4:$OE$80<>""),""))} -> 0 | E10: {=SUMPRODUCT(IFERROR((MONTH(Encodage!$D$3:$OE$3)=MONTH('total_mois&année'!E$1))*(dept=$A10)*(Encodage!$D$4:$OE$80<>""),""))} -> 0 | F10: {=SUMPRODUCT(IFERROR((MONTH(Encodage!$D$3:$OE$3)=MONTH('total_mois&année'!F$1))*(dept=$A10)*(Encodage!$D$4:$OE$80<>""),""))} -> 0 | G10: {=SUMPRODUCT(IFERROR((MONTH(Encodage!$D$3:$OE$3)=MONTH('total_mois&année'!G$1))*(dept=$A10)*(Encodage!$D$4:$OE$80<>""),""))} -> 0 | H10: {=SUMPRODUCT(IFERROR((MONTH(Encodage!$D$3:$OE$3)=MONTH('total_mois&année'!H$1))*(dept=$A10)*(Encodage!$D$4:$OE$80<>""),""))} -> 0 | I10: {=SUMPRODUCT(IFERROR((MONTH(Encodage!$D$3:$OE$3)=MONTH('total_mois&année'!I$1))*(dept=$A10)*(Encodage!$D$4:$OE$80<>""),""))} -> 0 | ... M10: {=SUMPRODUCT(IFERROR((MONTH(Encodage!$D$3:$OE$3)=MONTH('total_mois&année'!M$1))*(dept=$A10)*(Encodage!$D$4:$OE$80<>""),""))} -> 0
A11: =IFERROR(INDEX(dept,MATCH(SMALL(annéecolA,ROW(A10)),annéecolA,0)),"") -> ame | B11: {=SUMPRODUCT(IFERROR((MONTH(Encodage!$D$3:$OE$3)=MONTH('total_mois&année'!B$1))*(dept=$A11)*(Encodage!$D$4:$OE$80<>""),""))} -> 1 | C11: {=SUMPRODUCT(IFERROR((MONTH(Encodage!$D$3:$OE$3)=MONTH('total_mois&année'!C$1))*(dept=$A11)*(Encodage!$D$4:$OE$80<>""),""))} -> 0 | D11: {=SUMPRODUCT(IFERROR((MONTH(Encodage!$D$3:$OE$3)=MONTH('total_mois&année'!D$1))*(dept=$A11)*(Encodage!$D$4:$OE$80<>""),""))} -> 0 | E11: {=SUMPRODUCT(IFERROR((MONTH(Encodage!$D$3:$OE$3)=MONTH('total_mois&année'!E$1))*(dept=$A11)*(Encodage!$D$4:$OE$80<>""),""))} -> 0 | F11: {=SUMPRODUCT(IFERROR((MONTH(Encodage!$D$3:$OE$3)=MONTH('total_mois&année'!F$1))*(dept=$A11)*(Encodage!$D$4:$OE$80<>""),""))} -> 0 | G11: {=SUMPRODUCT(IFERROR((MONTH(Encodage!$D$3:$OE$3)=MONTH('total_mois&année'!G$1))*(dept=$A11)*(Encodage!$D$4:$OE$80<>""),""))} -> 0 | H11: {=SUMPRODUCT(IFERROR((MONTH(Encodage!$D$3:$OE$3)=MONTH('total_mois&année'!H$1))*(dept=$A11)*(Encodage!$D$4:$OE$80<>""),""))} -> 0 | I11: {=SUMPRODUCT(IFERROR((MONTH(Encodage!$D$3:$OE$3)=MONTH('total_mois&année'!I$1))*(dept=$A11)*(Encodage!$D$4:$OE$80<>""),""))} -> 0 | ... M11: {=SUMPRODUCT(IFERROR((MONTH(Encodage!$D$3:$OE$3)=MONTH('total_mois&année'!M$1))*(dept=$A11)*(Encodage!$D$4:$OE$80<>""),""))} -> 0
A12: =IFERROR(INDEX(dept,MATCH(SMALL(annéecolA,ROW(A11)),annéecolA,0)),"") -> ben2 | B12: {=SUMPRODUCT(IFERROR((MONTH(Encodage!$D$3:$OE$3)=MONTH('total_mois&année'!B$1))*(dept=$A12)*(Encodage!$D$4:$OE$80<>""),""))} -> 3 | C12: {=SUMPRODUCT(IFERROR((MONTH(Encodage!$D$3:$OE$3)=MONTH('total_mois&année'!C$1))*(dept=$A12)*(Encodage!$D$4:$OE$80<>""),""))} -> 0 | D12: {=SUMPRODUCT(IFERROR((MONTH(Encodage!$D$3:$OE$3)=MONTH('total_mois&année'!D$1))*(dept=$A12)*(Encodage!$D$4:$OE$80<>""),""))} -> 1 | E12: {=SUMPRODUCT(IFERROR((MONTH(Encodage!$D$3:$OE$3)=MONTH('total_mois&année'!E$1))*(dept=$A12)*(Encodage!$D$4:$OE$80<>""),""))} -> 0 | F12: {=SUMPRODUCT(IFERROR((MONTH(Encodage!$D$3:$OE$3)=MONTH('total_mois&année'!F$1))*(dept=$A12)*(Encodage!$D$4:$OE$80<>""),""))} -> 0 | G12: {=SUMPRODUCT(IFERROR((MONTH(Encodage!$D$3:$OE$3)=MONTH('total_mois&année'!G$1))*(dept=$A12)*(Encodage!$D$4:$OE$80<>""),""))} -> 0 | H12: {=SUMPRODUCT(IFERROR((MONTH(Encodage!$D$3:$OE$3)=MONTH('total_mois&année'!H$1))*(dept=$A12)*(Encodage!$D$4:$OE$80<>""),""))} -> 0 | I12: {=SUMPRODUCT(IFERROR((MONTH(Encodage!$D$3:$OE$3)=MONTH('total_mois&année'!I$1))*(dept=$A12)*(Encodage!$D$4:$OE$80<>""),""))} -> 0 | ... M12: {=SUMPRODUCT(IFERROR((MONTH(Encodage!$D$3:$OE$3)=MONTH('total_mois&année'!M$1))*(dept=$A12)*(Encodage!$D$4:$OE$80<>""),""))} -> 0
A13: =IFERROR(INDEX(dept,MATCH(SMALL(annéecolA,ROW(A12)),annéecolA,0)),"") -> Alex | B13: {=SUMPRODUCT(IFERROR((MONTH(Encodage!$D$3:$OE$3)=MONTH('total_mois&année'!B$1))*(dept=$A13)*(Encodage!$D$4:$OE$80<>""),""))} -> 0 | C13: {=SUMPRODUCT(IFERROR((MONTH(Encodage!$D$3:$OE$3)=MONTH('total_mois&année'!C$1))*(dept=$A13)*(Encodage!$D$4:$OE$80<>""),""))} -> 0 | D13: {=SUMPRODUCT(IFERROR((MONTH(Encodage!$D$3:$OE$3)=MONTH('total_mois&année'!D$1))*(dept=$A13)*(Encodage!$D$4:$OE$80<>""),""))} -> 0 | E13: {=SUMPRODUCT(IFERROR((MONTH(Encodage!$D$3:$OE$3)=MONTH('total_mois&année'!E$1))*(dept=$A13)*(Encodage!$D$4:$OE$80<>""),""))} -> 0 | F13: {=SUMPRODUCT(IFERROR((MONTH(Encodage!$D$3:$OE$3)=MONTH('total_mois&année'!F$1))*(dept=$A13)*(Encodage!$D$4:$OE$80<>""),""))} -> 0 | G13: {=SUMPRODUCT(IFERROR((MONTH(Encodage!$D$3:$OE$3)=MONTH('total_mois&année'!G$1))*(dept=$A13)*(Encodage!$D$4:$OE$80<>""),""))} -> 0 | H13: {=SUMPRODUCT(IFERROR((MONTH(Encodage!$D$3:$OE$3)=MONTH('total_mois&année'!H$1))*(dept=$A13)*(Encodage!$D$4:$OE$80<>""),""))} -> 0 | I13: {=SUMPRODUCT(IFERROR((MONTH(Encodage!$D$3:$OE$3)=MONTH('total_mois&année'!I$1))*(dept=$A13)*(Encodage!$D$4:$OE$80<>""),""))} -> 0 | ... M13: {=SUMPRODUCT(IFERROR((MONTH(Encodage!$D$3:$OE$3)=MONTH('total_mois&année'!M$1))*(dept=$A13)*(Encodage!$D$4:$OE$80<>""),""))} -> 0
... A80: =IFERROR(INDEX(dept,MATCH(SMALL(annéecolA,ROW(A79)),annéecolA,0)),"") | B80: {=SUMPRODUCT(IFERROR((MONTH(Encodage!$D$3:$OE$3)=MONTH('total_mois&année'!B$1))*(dept=$A80)*(Encodage!$D$4:$OE$80<>""),""))} -> 0 | C80: {=SUMPRODUCT(IFERROR((MONTH(Encodage!$D$3:$OE$3)=MONTH('total_mois&année'!C$1))*(dept=$A80)*(Encodage!$D$4:$OE$80<>""),""))} -> 0 | D80: {=SUMPRODUCT(IFERROR((MONTH(Encodage!$D$3:$OE$3)=MONTH('total_mois&année'!D$1))*(dept=$A80)*(Encodage!$D$4:$OE$80<>""),""))} -> 0 | E80: {=SUMPRODUCT(IFERROR((MONTH(Encodage!$D$3:$OE$3)=MONTH('total_mois&année'!E$1))*(dept=$A80)*(Encodage!$D$4:$OE$80<>""),""))} -> 0 | F80: {=SUMPRODUCT(IFERROR((MONTH(Encodage!$D$3:$OE$3)=MONTH('total_mois&année'!F$1))*(dept=$A80)*(Encodage!$D$4:$OE$80<>""),""))} -> 0 | G80: {=SUMPRODUCT(IFERROR((MONTH(Encodage!$D$3:$OE$3)=MONTH('total_mois&année'!G$1))*(dept=$A80)*(Encodage!$D$4:$OE$80<>""),""))} -> 0 | H80: {=SUMPRODUCT(IFERROR((MONTH(Encodage!$D$3:$OE$3)=MONTH('total_mois&année'!H$1))*(dept=$A80)*(Encodage!$D$4:$OE$80<>""),""))} -> 0 | I80: {=SUMPRODUCT(IFERROR((MONTH(Encodage!$D$3:$OE$3)=MONTH('total_mois&année'!I$1))*(dept=$A80)*(Encodage!$D$4:$OE$80<>""),""))} -> 0 | ... M80: {=SUMPRODUCT(IFERROR((MONTH(Encodage!$D$3:$OE$3)=MONTH('total_mois&année'!M$1))*(dept=$A80)*(Encodage!$D$4:$OE$80<>""),""))} -> 0

Sheet data
C1: 45292
C2: =DATE(YEAR(C1),MONTH(C1)+1,DAY(C1)) -> 45323
C3: =DATE(YEAR(C2),MONTH(C2)+1,DAY(C2)) -> 45352
C4: =DATE(YEAR(C3),MONTH(C3)+1,DAY(C3)) -> 45383
C5: =DATE(YEAR(C4),MONTH(C4)+1,DAY(C4)) -> 45413
C6: =DATE(YEAR(C5),MONTH(C5)+1,DAY(C5)) -> 45444
C7: =DATE(YEAR(C6),MONTH(C6)+1,DAY(C6)) -> 45474
C8: =DATE(YEAR(C7),MONTH(C7)+1,DAY(C7)) -> 45505
C9: =DATE(YEAR(C8),MONTH(C8)+1,DAY(C8)) -> 45536
C10: =DATE(YEAR(C9),MONTH(C9)+1,DAY(C9)) -> 45566
C11: =DATE(YEAR(C10),MONTH(C10)+1,DAY(C10)) -> 45597
C12: =DATE(YEAR(C11),MONTH(C11)+1,DAY(C11)) -> 45627
C13: =DATE(YEAR(C12),MONTH(C12)+1,DAY(C12)) -> 45658
