Workbook

Sheet Feuil1
I2: 44326 | M2: =IF(I2="","",_xlfn.MINIFS(Feuil2!$B$2:$B$15,Feuil2!$B$2:$B$15,">"&I2)) -> 44347
I3: 44341 | M3: =IF(I3="","",_xlfn.MINIFS(Feuil2!$B$2:$B$15,Feuil2!$B$2:$B$15,">"&I3)) -> 44347
I4: 44337 | M4: =IF(I4="","",_xlfn.MINIFS(Feuil2!$B$2:$B$15,Feuil2!$B$2:$B$15,">"&I4)) -> 44347
I5: 44319 | M5: =IF(I5="","",_xlfn.MINIFS(Feuil2!$B$2:$B$15,Feuil2!$B$2:$B$15,">"&I5)) -> 44347
I6: 44341 | M6: =IF(I6="","",_xlfn.MINIFS(Feuil2!$B$2:$B$15,Feuil2!$B$2:$B$15,">"&I6)) -> 44347
I7: 44333 | M7: =IF(I7="","",_xlfn.MINIFS(Feuil2!$B$2:$B$15,Feuil2!$B$2:$B$15,">"&I7)) -> 44347
I8: 44341 | M8: =IF(I8="","",_xlfn.MINIFS(Feuil2!$B$2:$B$15,Feuil2!$B$2:$B$15,">"&I8)) -> 44347
I9: 44350 | M9: =IF(I9="","",_xlfn.MINIFS(Feuil2!$B$2:$B$15,Feuil2!$B$2:$B$15,">"&I9)) -> 44375
I10: 44333 | M10: =IF(I10="","",_xlfn.MINIFS(Feuil2!$B$2:$B$15,Feuil2!$B$2:$B$15,">"&I10)) -> 44347
I11: 44333 | M11: =IF(I11="","",_xlfn.MINIFS(Feuil2!$B$2:$B$15,Feuil2!$B$2:$B$15,">"&I11)) -> 44347
I12: 44355 | M12: =IF(I12="","",_xlfn.MINIFS(Feuil2!$B$2:$B$15,Feuil2!$B$2:$B$15,">"&I12)) -> 44375
I13: 44355 | M13: =IF(I13="","",_xlfn.MINIFS(Feuil2!$B$2:$B$15,Feuil2!$B$2:$B$15,">"&I13)) -> 44375
... I23: 44396 | M23: =IF(I23="","",_xlfn.MINIFS(Feuil2!$B$2:$B$15,Feuil2!$B$2:$B$15,">"&I23)) -> 44410
M24: =IF(I24="","",_xlfn.MINIFS(Feuil2!$B$2:$B$15,Feuil2!$B$2:$B$15,">"&I24))
M25: =IF(I25="","",_xlfn.MINIFS(Feuil2!$B$2:$B$15,Feuil2!$B$2:$B$15,">"&I25))
M26: =IF(I26="","",_xlfn.MINIFS(Feuil2!$B$2:$B$15,Feuil2!$B$2:$B$15,">"&I26))
M27: =IF(I27="","",_xlfn.MINIFS(Feuil2!$B$2:$B$15,Feuil2!$B$2:$B$15,">"&I27))
M28: =IF(I28="","",_xlfn.MINIFS(Feuil2!$B$2:$B$15,Feuil2!$B$2:$B$15,">"&I28))
M29: =IF(I29="","",_xlfn.MINIFS(Feuil2!$B$2:$B$15,Feuil2!$B$2:$B$15,">"&I29))
M30: =IF(I30="","",_xlfn.MINIFS(Feuil2!$B$2:$B$15,Feuil2!$B$2:$B$15,">"&I30))
M31: =IF(I31="","",_xlfn.MINIFS(Feuil2!$B$2:$B$15,Feuil2!$B$2:$B$15,">"&I31))

Sheet Feuil2
B2: 44207
B3: 44235
B4: 44263
B5: 44292
B6: 44319
B7: 44347
B8: 44375
B9: 44410
B10: 44431
B11: 44459
B12: 44487
B13: 44516
... B15: 44571
