Workbook

Sheet encodage
B4: Riz 1123
B5: Lait demi-écrémé UHT 0910
B6: Sardines huile d'olive 2210
B7: Petits pois 2126
B8: Farine de Blé 1007
B9: Pois chiche 2127

Sheet feuil1
C2: Riz 1123 | D2: Lait demi-écrémé UHT 0910 | E2: Sardines huile d'olive 2210 | F2: Petits pois 2126 | G2: Farine de Blé 1007 | H2: Pois chiche 2127

Sheet Feuil2
B14: =OFFSET(feuil1!$C$2,,ROWS($1:1)-1) -> Riz 1123
B15: =OFFSET(feuil1!$C$2,,ROWS($1:2)-1) -> Lait demi-écrémé UHT 0910
B16: =OFFSET(feuil1!$C$2,,ROWS($1:3)-1) -> Sardines huile d'olive 2210
B17: =OFFSET(feuil1!$C$2,,ROWS($1:4)-1) -> Petits pois 2126
B18: =OFFSET(feuil1!$C$2,,ROWS($1:5)-1) -> Farine de Blé 1007
B19: =OFFSET(feuil1!$C$2,,ROWS($1:6)-1) -> Pois chiche 2127
B20: =OFFSET(feuil1!$C$2,,ROWS($1:7)-1) -> 0
B21: =OFFSET(feuil1!$C$2,,ROWS($1:8)-1) -> 0
B22: =OFFSET(feuil1!$C$2,,ROWS($1:9)-1) -> 0
B23: =OFFSET(feuil1!$C$2,,ROWS($1:10)-1) -> 0
B24: =OFFSET(feuil1!$C$2,,ROWS($1:11)-1) -> 0
B25: =OFFSET(feuil1!$C$2,,ROWS($1:12)-1) -> 0
B26: =OFFSET(feuil1!$C$2,,ROWS($1:13)-1) -> 0
B27: =OFFSET(feuil1!$C$2,,ROWS($1:14)-1) -> 0
B28: =OFFSET(feuil1!$C$2,,ROWS($1:15)-1) -> 0
B29: =OFFSET(feuil1!$C$2,,ROWS($1:16)-1) -> 0
B30: =OFFSET(feuil1!$C$2,,ROWS($1:17)-1) -> 0
B31: =OFFSET(feuil1!$C$2,,ROWS($1:18)-1) -> 0
B32: =OFFSET(feuil1!$C$2,,ROWS($1:19)-1) -> 0
B33: =OFFSET(feuil1!$C$2,,ROWS($1:20)-1) -> 0
B34: =OFFSET(feuil1!$C$2,,ROWS($1:21)-1) -> 0
B35: =OFFSET(feuil1!$C$2,,ROWS($1:22)-1) -> 0
B36: =OFFSET(feuil1!$C$2,,ROWS($1:23)-1) -> 0
B37: =OFFSET(feuil1!$C$2,,ROWS($1:24)-1) -> 0
B38: =OFFSET(feuil1!$C$2,,ROWS($1:25)-1) -> 0
B39: =OFFSET(feuil1!$C$2,,ROWS($1:26)-1) -> 0
