Workbook
Name période: calculateur!$I$2+calculateur!$E$2:$E$26

Sheet humidity.air
A1: Date | B1: Heures | C1: humidité
A2: 43544 | B2: 0.29166667 | C2: 88.15
A3: 43544 | B3: 0.33333333 | C3: 87.725
A4: 43544 | B4: 0.375 | C4: 85.5
A5: 43544 | B5: 0.41666667 | C5: 79.725
A6: 43544 | B6: 0.45833333 | C6: 74.475
A7: 43544 | B7: 0.5 | C7: 70
A8: 43544 | B8: 0.54166667 | C8: 67.4
A9: 43544 | B9: 0.58333333 | C9: 65.85
A10: 43544 | B10: 0.625 | C10: 66.575
A11: 43544 | B11: 0.66666667 | C11: 71.575
A12: 43544 | B12: 0.70833333 | C12: 75.825
A13: 43544 | B13: 0.75 | C13: 78.475
... A2668: 43655 | B2668: 0.375 | C2668: 54.2

Sheet temperature.air
A1: Date | B1: Heures | C1: température
A2: 43544 | B2: 0.29166667 | C2: 11.8
A3: 43544 | B3: 0.33333333 | C3: 11.9
A4: 43544 | B4: 0.375 | C4: 13.175
A5: 43544 | B5: 0.41666667 | C5: 14.35
A6: 43544 | B6: 0.45833333 | C6: 14.95
A7: 43544 | B7: 0.5 | C7: 16
A8: 43544 | B8: 0.54166667 | C8: 16.65
A9: 43544 | B9: 0.58333333 | C9: 16.8
A10: 43544 | B10: 0.625 | C10: 16.65
A11: 43544 | B11: 0.66666667 | C11: 15.6
A12: 43544 | B12: 0.70833333 | C12: 14.925
A13: 43544 | B13: 0.75 | C13: 14.375
... A2668: 43655 | B2668: 0.375 | C2668: 23.2

Sheet calculateur
A1: Date | B1: Heures | C1: température | D1: humidité | E1: THI horaire | F1: naissance | G1: 1 mois | H1: 1 mois et + | L1: veaux à la naissance | P1: THI correspondant à 50% d'humidité | R1: quantité | S1: pourcentage | U1: Référence THI pour 50% d'humidité
A2: 43544 | B2: 0.29166667 | C2: 11.8 | D2: 88.15 | E2: =(1.8*temperature.air!C2+32)-((0.55-0.0055*humidity.air!C2)*(1.8*temperature.air!C2-26)) -> 53.550233 | I2: date dep | J2: date fin | N2: T° min | O2: T°max | P2: min | Q2: max | U2: Température | V2: THI
A3: 43544 | B3: 0.33333333 | C3: 11.9 | D3: 87.725 | E3: =(1.8*temperature.air!C3+32)-((0.55-0.0055*humidity.air!C3)*(1.8*temperature.air!C3-26)) -> 53.729207 | I3: 43544 | J3: 43655 | L3: extrêmement froid | O3: 0 | Q3: =LOOKUP(O3,$U$3:$V$68) -> 39.15 | R3: =COUNTIFS(E2:E2668,"<="&Q3,$A$2:$A$2668,">="&$I$3,$A$2:$A$2668,"<="&$J$3) -> 0 | S3: =(R3/R$10) -> 0 | U3: -20 | V3: 13.05
A4: 43544 | B4: 0.375 | C4: 13.175 | D4: 85.5 | E4: =(1.8*temperature.air!C4+32)-((0.55-0.0055*humidity.air!C4)*(1.8*temperature.air!C4-26)) -> 55.897229 | L4: froid | N4: 0 | O4: 10 | P4: =LOOKUP(N4,$U$3:$V$68) -> 39.15 | Q4: =LOOKUP(O4,$U$3:$V$68) -> 52.2 | R4: =COUNTIFS(E2:E2668,">"&P4,E2:E2668,"<="&Q4,$A$2:$A$2668,">="&$I$3,$A$2:$A$2668,"<="&$J$3) -> 547 | S4: =(R4/R$10) -> 0.20509936 | U4: -19 | V4: 14.355
A5: 43544 | B5: 0.41666667 | C5: 14.35 | D5: 79.725 | E5: =(1.8*temperature.air!C5+32)-((0.55-0.0055*humidity.air!C5)*(1.8*temperature.air!C5-26)) -> 57.848957 | L5: acceptable | N5: 10 | O5: 18 | P5: =LOOKUP(N5,$U$3:$V$68) -> 52.2 | Q5: =LOOKUP(O5,$U$3:$V$68) -> 62.64 | R5: =COUNTIFS(E2:E2668,">"&P5,E2:E2668,"<="&Q5,$A$2:$A$2668,">="&$I$3,$A$2:$A$2668,"<="&$J$3) -> 1349 | S5: =(R5/R$10) -> 0.50581177 | U5: -18 | V5: 15.66
A6: 43544 | B6: 0.45833333 | C6: 14.95 | D6: 74.475 | E6: =(1.8*temperature.air!C6+32)-((0.55-0.0055*humidity.air!C6)*(1.8*temperature.air!C6-26)) -> 58.782247 | L6: zone neutre | N6: 18 | O6: 21 | P6: =LOOKUP(N6,$U$3:$V$68) -> 62.64 | Q6: =LOOKUP(O6,$U$3:$V$68) -> 66.555 | R6: =COUNTIFS(E2:E2668,">"&P6,E2:E2668,"<="&Q6,$A$2:$A$2668,">="&$I$3,$A$2:$A$2668,"<="&$J$3) -> 408 | S6: =(R6/R$10) -> 0.15298088 | U6: -17 | V6: 16.965
A7: 43544 | B7: 0.5 | C7: 16 | D7: 70 | E7: =(1.8*temperature.air!C7+32)-((0.55-0.0055*humidity.air!C7)*(1.8*temperature.air!C7-26)) -> 60.338 | L7: acceptable | N7: 21 | O7: 25 | P7: =LOOKUP(N7,$U$3:$V$68) -> 66.555 | Q7: =LOOKUP(O7,$U$3:$V$68) -> 71.775 | R7: =COUNTIFS(E2:E2668,">"&P7,E2:E2668,"<="&Q7,$A$2:$A$2668,">="&$I$3,$A$2:$A$2668,"<="&$J$3) -> 254 | S7: =(R7/R$10) -> 0.095238095 | U7: -16 | V7: 18.27
A8: 43544 | B8: 0.54166667 | C8: 16.65 | D8: 67.4 | E8: =(1.8*temperature.air!C8+32)-((0.55-0.0055*humidity.air!C8)*(1.8*temperature.air!C8-26)) -> 61.258179 | L8: chaud | N8: 25 | O8: 32 | P8: =LOOKUP(N8,$U$3:$V$68) -> 71.775 | Q8: =LOOKUP(O8,$U$3:$V$68) -> 80.91 | R8: =COUNTIFS(E2:E2668,">"&P8,E2:E2668,"<="&Q8,$A$2:$A$2668,">="&$I$3,$A$2:$A$2668,"<="&$J$3) -> 103 | S8: =(R8/R$10) -> 0.038620172 | U8: -15 | V8: 19.575
A9: 43544 | B9: 0.58333333 | C9: 16.8 | D9: 65.85 | E9: =(1.8*temperature.air!C9+32)-((0.55-0.0055*humidity.air!C9)*(1.8*temperature.air!C9-26)) -> 61.443622 | L9: extrêmement chaud | N9: 32 | P9: =LOOKUP(N9,$U$3:$V$68) -> 80.91 | R9: =COUNTIFS(E2:E2668,">"&P9,$A$2:$A$2668,">="&$I$3,$A$2:$A$2668,"<="&$J$3) -> 6 | S9: =(R9/R$10) -> 0.0022497188 | U9: -14 | V9: 20.88
A10: 43544 | B10: 0.625 | C10: 16.65 | D10: 66.575 | E10: =(1.8*temperature.air!C10+32)-((0.55-0.0055*humidity.air!C10)*(1.8*temperature.air!C10-26)) -> 61.240165 | R10: =SUM(R3:R9) -> 2667 | U10: -13 | V10: 22.185
A11: 43544 | B11: 0.66666667 | C11: 15.6 | D11: 71.575 | E11: =(1.8*temperature.air!C11+32)-((0.55-0.0055*humidity.air!C11)*(1.8*temperature.air!C11-26)) -> 59.754818 | U11: -12 | V11: 23.49
A12: 43544 | B12: 0.70833333 | C12: 14.925 | D12: 75.825 | E12: =(1.8*temperature.air!C12+32)-((0.55-0.0055*humidity.air!C12)*(1.8*temperature.air!C12-26)) -> 58.749987 | U12: -11 | V12: 24.795
A13: 43544 | B13: 0.75 | C13: 14.375 | D13: 78.475 | E13: =(1.8*temperature.air!C13+32)-((0.55-0.0055*humidity.air!C13)*(1.8*temperature.air!C13-26)) -> 57.889798 | U13: -10 | V13: 26.1
A14: 43544 | B14: 0.79166667 | C14: 14 | D14: 79.125 | E14: =(1.8*temperature.air!C14+32)-((0.55-0.0055*humidity.air!C14)*(1.8*temperature.air!C14-26)) -> 57.29185 | L14: Veaux de moins d'1 mois | P14: THI correspondant à 50% d'humidité | R14: quantité | S14: pourcentage | U14: -9 | V14: 27.405
A15: 43544 | B15: 0.83333333 | C15: 12.95 | D15: 81.475 | E15: =(1.8*temperature.air!C15+32)-((0.55-0.0055*humidity.air!C15)*(1.8*temperature.air!C15-26)) -> 55.584077 | N15: min | O15: max | P15: min | Q15: max | U15: -8 | V15: 28.71
A16: 43544 | B16: 0.875 | C16: 13.1 | D16: 82.95 | E16: =(1.8*temperature.air!C16+32)-((0.55-0.0055*humidity.air!C16)*(1.8*temperature.air!C16-26)) -> 55.806936 | L16: extrêmement froid | O16: 0 | Q16: =LOOKUP(O16,$U$3:$V$68) -> 39.15 | R16: =COUNTIFS($E$2:$E$2668,"<="&Q16,$A$2:$A$2668,">="&$I$3,$A$2:$A$2668,"<="&$J$3) -> 0 | S16: =R16/R$21 -> 0 | U16: -7 | V16: 30.015
A17: 43544 | B17: 0.91666667 | C17: 13.275 | D17: 83.4 | E17: =(1.8*temperature.air!C17+32)-((0.55-0.0055*humidity.air!C17)*(1.8*temperature.air!C17-26)) -> 56.087186 | L17: froid | N17: 0 | O17: 10 | P17: =LOOKUP(N17,$U$3:$V$68) -> 39.15 | Q17: =LOOKUP(O17,$U$3:$V$68) -> 52.2 | R17: =COUNTIFS(E2:E2668,">"&P17,E2:E2668,"<="&Q17,$A$2:$A$2668,">="&$I$3,$A$2:$A$2668,"<="&$J$3) -> 547 | S17: =R17/R$21 -> 0.20509936 | U17: -6 | V17: 31.32
A18: 43544 | B18: 0.95833333 | C18: 13.35 | D18: 83.3 | E18: =(1.8*temperature.air!C18+32)-((0.55-0.0055*humidity.air!C18)*(1.8*temperature.air!C18-26)) -> 56.210945 | L18: zone neutre | N18: 10 | O18: 25 | P18: =LOOKUP(N18,$U$3:$V$68) -> 52.2 | Q18: =LOOKUP(O18,$U$3:$V$68) -> 71.775 | R18: =COUNTIFS(E2:E2668,">"&P18,E2:E2668,"<="&Q18,$A$2:$A$2668,">="&$I$3,$A$2:$A$2668,"<="&$J$3) -> 2011 | S18: =R18/R$21 -> 0.75403075 | U18: -5 | V18: 32.625
A19: 43545 | B19: 0 | C19: 12.45 | D19: 83.775 | E19: =(1.8*temperature.air!C19+32)-((0.55-0.0055*humidity.air!C19)*(1.8*temperature.air!C19-26)) -> 54.730363 | L19: chaud | N19: 25 | O19: 32 | P19: =LOOKUP(N19,$U$3:$V$68) -> 71.775 | Q19: =LOOKUP(O19,$U$3:$V$68) -> 80.91 | R19: =COUNTIFS(E2:E2668,">"&P19,E2:E2668,"<="&Q19,$A$2:$A$2668,">="&$I$3,$A$2:$A$2668,"<="&$J$3) -> 103 | S19: =R19/R$21 -> 0.038620172 | U19: -4 | V19: 33.93
A20: 43545 | B20: 0.041666667 | C20: 13.05 | D20: 85.025 | E20: =(1.8*temperature.air!C20+32)-((0.55-0.0055*humidity.air!C20)*(1.8*temperature.air!C20-26)) -> 55.69673 | L20: extrêmement chaud | N20: 32 | P20: =LOOKUP(N20,$U$3:$V$68) -> 80.91 | R20: =COUNTIFS(E2:E2668,">"&P20,$A$2:$A$2668,">="&$I$3,$A$2:$A$2668,"<="&$J$3) -> 6 | S20: =R20/R$21 -> 0.0022497188 | U20: -3 | V20: 35.235
A21: 43545 | B21: 0.083333333 | C21: 13.025 | D21: 85.525 | E21: =(1.8*temperature.air!C21+32)-((0.55-0.0055*humidity.air!C21)*(1.8*temperature.air!C21-26)) -> 55.64841 | R21: =SUM(R16:R20) -> 2667 | U21: -2 | V21: 36.54
A22: 43545 | B22: 0.125 | C22: 12.825 | D22: 86.15 | E22: =(1.8*temperature.air!C22+32)-((0.55-0.0055*humidity.air!C22)*(1.8*temperature.air!C22-26)) -> 55.30705 | U22: -1 | V22: 37.845
A23: 43545 | B23: 0.16666667 | C23: 12.725 | D23: 86.125 | E23: =(1.8*temperature.air!C23+32)-((0.55-0.0055*humidity.air!C23)*(1.8*temperature.air!C23-26)) -> 55.141187 | U23: 0 | V23: 39.15
A24: 43545 | B24: 0.20833333 | C24: 12.55 | D24: 85.7 | E24: =(1.8*temperature.air!C24+32)-((0.55-0.0055*humidity.air!C24)*(1.8*temperature.air!C24-26)) -> 54.858197 | U24: 1 | V24: 40.455
A25: 43545 | B25: 0.25 | C25: 12.725 | D25: 88.025 | E25: =(1.8*temperature.air!C25+32)-((0.55-0.0055*humidity.air!C25)*(1.8*temperature.air!C25-26)) -> 55.108844 | L25: Veaux de plus d'1 mois | P25: THI correspondant à 50% d'humidité | R25: quantité | S25: pourcentage | U25: 2 | V25: 41.76
A26: 43545 | B26: 0.29166667 | C26: 13.425 | D26: 87.25 | E26: =(1.8*temperature.air!C26+32)-((0.55-0.0055*humidity.air!C26)*(1.8*temperature.air!C26-26)) -> 56.293679 | N26: min | O26: max | P26: min | Q26: max | U26: 3 | V26: 43.065
A27: 43545 | B27: 0.33333333 | C27: 14.05 | D27: 84.375 | E27: =(1.8*temperature.air!C27+32)-((0.55-0.0055*humidity.air!C27)*(1.8*temperature.air!C27-26)) -> 57.351016 | L27: extrêmement froid | O27: -10 | Q27: =LOOKUP(O27,$U$3:$V$68) -> 26.1 | R27: =COUNTIFS(E2:E2668,"<="&Q27,$A$2:$A$2668,">="&$I$3,$A$2:$A$2668,"<="&$J$3) -> 0 | S27: =R27/R$32 -> 0 | U27: 4 | V27: 44.37
A28: 43545 | B28: 0.375 | C28: 14.775 | D28: 82.025 | E28: =(1.8*temperature.air!C28+32)-((0.55-0.0055*humidity.air!C28)*(1.8*temperature.air!C28-26)) -> 58.536177 | L28: froid | N28: -10 | O28: 3 | P28: =LOOKUP(N28,$U$3:$V$68) -> 26.1 | Q28: =LOOKUP(O28,$U$3:$V$68) -> 43.065 | R28: =COUNTIFS(E2:E2668,">"&P28,E2:E2668,"<="&Q28,$A$2:$A$2668,">="&$I$3,$A$2:$A$2668,"<="&$J$3) -> 22 | S28: =R28/R$32 -> 0.0082489689 | U28: 5 | V28: 45.675
A29: 43545 | B29: 0.41666667 | C29: 15.5 | D29: 79.275 | E29: =(1.8*temperature.air!C29+32)-((0.55-0.0055*humidity.air!C29)*(1.8*temperature.air!C29-26)) -> 59.683424 | L29: zone neutre | N29: 3 | O29: 25 | P29: =LOOKUP(N29,$U$3:$V$68) -> 43.065 | Q29: =LOOKUP(O29,$U$3:$V$68) -> 71.775 | R29: =COUNTIFS(E2:E2668,">"&P29,E2:E2668,"<="&Q29,$A$2:$A$2668,">="&$I$3,$A$2:$A$2668,"<="&$J$3) -> 2536 | S29: =R29/R$32 -> 0.95088114 | U29: 6 | V29: 46.98
A30: 43545 | B30: 0.45833333 | C30: 16.075 | D30: 76.55 | E30: =(1.8*temperature.air!C30+32)-((0.55-0.0055*humidity.air!C30)*(1.8*temperature.air!C30-26)) -> 60.556458 | L30: chaud | N30: 25 | O30: 32 | P30: =LOOKUP(N30,$U$3:$V$68) -> 71.775 | Q30: =LOOKUP(O30,$U$3:$V$68) -> 80.91 | R30: =COUNTIFS(E2:E2668,">"&P30,E2:E2668,"<="&Q30,$A$2:$A$2668,">="&$I$3,$A$2:$A$2668,"<="&$J$3) -> 103 | S30: =R30/R$32 -> 0.038620172 | U30: 7 | V30: 48.285
A31: 43545 | B31: 0.5 | C31: 16.025 | D31: 76.175 | E31: =(1.8*temperature.air!C31+32)-((0.55-0.0055*humidity.air!C31)*(1.8*temperature.air!C31-26)) -> 60.472198 | L31: extrêmement chaud | N31: 32 | P31: =LOOKUP(N31,$U$3:$V$68) -> 80.91 | R31: =COUNTIFS(E2:E2668,">"&P31,$A$2:$A$2668,">="&$I$3,$A$2:$A$2668,"<="&$J$3) -> 6 | S31: =R31/R$32 -> 0.0022497188 | U31: 8 | V31: 49.59
A32: 43545 | B32: 0.54166667 | C32: 15.26 | D32: 74.86 | E32: =(1.8*temperature.air!C32+32)-((0.55-0.0055*humidity.air!C32)*(1.8*temperature.air!C32-26)) -> 59.26502 | R32: =SUM(R27:R31) -> 2667 | U32: 9 | V32: 50.895
A33: 43545 | B33: 0.58333333 | C33: 14.8 | D33: 77.975 | E33: =(1.8*temperature.air!C33+32)-((0.55-0.0055*humidity.air!C33)*(1.8*temperature.air!C33-26)) -> 58.562472 | U33: 10 | V33: 52.2
A34: 43545 | B34: 0.625 | C34: 15.3 | D34: 79.2 | E34: =(1.8*temperature.air!C34+32)-((0.55-0.0055*humidity.air!C34)*(1.8*temperature.air!C34-26)) -> 59.363824 | U34: 11 | V34: 53.505
A35: 43545 | B35: 0.66666667 | C35: 15.375 | D35: 78.9 | E35: =(1.8*temperature.air!C35+32)-((0.55-0.0055*humidity.air!C35)*(1.8*temperature.air!C35-26)) -> 59.480616 | U35: 12 | V35: 54.81
A36: 43545 | B36: 0.70833333 | C36: 14.575 | D36: 80.425 | E36: =(1.8*temperature.air!C36+32)-((0.55-0.0055*humidity.air!C36)*(1.8*temperature.air!C36-26)) -> 58.209699 | U36: 13 | V36: 56.115
A37: 43545 | B37: 0.75 | C37: 13.95 | D37: 82.625 | E37: =(1.8*temperature.air!C37+32)-((0.55-0.0055*humidity.air!C37)*(1.8*temperature.air!C37-26)) -> 57.195051 | U37: 14 | V37: 57.42
A38: 43545 | B38: 0.79166667 | C38: 13.85 | D38: 83.55 | E38: =(1.8*temperature.air!C38+32)-((0.55-0.0055*humidity.air!C38)*(1.8*temperature.air!C38-26)) -> 57.026808 | U38: 15 | V38: 58.725
A39: 43545 | B39: 0.83333333 | C39: 13.325 | D39: 84.3 | E39: =(1.8*temperature.air!C39+32)-((0.55-0.0055*humidity.air!C39)*(1.8*temperature.air!C39-26)) -> 56.158995 | U39: 16 | V39: 60.03
A40: 43545 | B40: 0.875 | C40: 12.8 | D40: 84.85 | E40: =(1.8*temperature.air!C40+32)-((0.55-0.0055*humidity.air!C40)*(1.8*temperature.air!C40-26)) -> 55.286642 | U40: 17 | V40: 61.335
...

Sheet THI
A1: température
A2: humidité relative | E2: Formule THI utilisée : (1,8*T+32)-(0,55-0,0055*H)*(1,8*T-26)
B4: =(1.8*B1+32)-((0.55-0.0055*B2)*(1.8*B1-26)) -> 46.3 | C4: 0 | D4: 1 | E4: 2 | F4: 3 | G4: 4 | H4: 5 | I4: 6 | J4: 7 | K4: 8 | L4: 9 | M4: 10 | N4: 11 | O4: 12 | P4: 13 | Q4: 14 | R4: 15 | S4: 16 | T4: 17 | U4: 18 | V4: 19 | W4: 20 | X4: 21 | Y4: 22 | Z4: 23 | AA4: 24 | AB4: 25 | AC4: 26 | AD4: 27 | AE4: 28 | AF4: 29 | AG4: 30 | AH4: 31 | AI4: 32 | AJ4: 33 | AK4: 34 | AL4: 35 | AM4: 36 | AN4: 37 | AO4: 38 | AP4: 39 | AQ4: 40 | AR4: 41 | AS4: 42 | AT4: 43 | AU4: 44 | AV4: 45 | AW4: 46 | AX4: 47 | AY4: 48 | AZ4: 49 | BA4: 50 | BB4: 51 | BC4: 52 | BD4: 53 | BE4: 54 | BF4: 55 | BG4: 56 | BH4: 57 | BI4: 58 | BJ4: 59 | BK4: 60 | BL4: 61 | BM4: 62 | BN4: 63 | BO4: 64 | BP4: 65 | BQ4: 66 | BR4: 67 | BS4: 68 | BT4: 69 | BU4: 70 | BV4: 71 | BW4: 72 | BX4: 73 | BY4: 74 | BZ4: 75 | CA4: 76 | CB4: 77 | CC4: 78 | CD4: 79 | CE4: 80 | CF4: 81 | CG4: 82 | CH4: 83 | CI4: 84 | CJ4: 85 | CK4: 86 | CL4: 87 | CM4: 88 | CN4: 89 | CO4: 90 | CP4: 91 | CQ4: 92 | CR4: 93 | CS4: 94 | CT4: 95 | CU4: 96 | CV4: 97 | CW4: 98 | CX4: 99 | CY4: 100
B5: -20 | C5: 30.1 | D5: 29.759 | E5: 29.418 | F5: 29.077 | G5: 28.736 | H5: 28.395 | I5: 28.054 | J5: 27.713 | K5: 27.372 | L5: 27.031 | M5: 26.69 | N5: 26.349 | O5: 26.008 | P5: 25.667 | Q5: 25.326 | R5: 24.985 | S5: 24.644 | T5: 24.303 | U5: 23.962 | V5: 23.621 | W5: 23.28 | X5: 22.939 | Y5: 22.598 | Z5: 22.257 | AA5: 21.916 | AB5: 21.575 | AC5: 21.234 | AD5: 20.893 | AE5: 20.552 | AF5: 20.211 | AG5: 19.87 | AH5: 19.529 | AI5: 19.188 | AJ5: 18.847 | AK5: 18.506 | AL5: 18.165 | AM5: 17.824 | AN5: 17.483 | AO5: 17.142 | AP5: 16.801 | AQ5: 16.46 | AR5: 16.119 | AS5: 15.778 | AT5: 15.437 | AU5: 15.096 | AV5: 14.755 | AW5: 14.414 | AX5: 14.073 | AY5: 13.732 | AZ5: 13.391 | BA5: 13.05 | BB5: 12.709 | BC5: 12.368 | BD5: 12.027 | BE5: 11.686 | BF5: 11.345 | BG5: 11.004 | BH5: 10.663 | BI5: 10.322 | BJ5: 9.981 | BK5: 9.64 | BL5: 9.299 | BM5: 8.958 | BN5: 8.617 | BO5: 8.276 | BP5: 7.935 | BQ5: 7.594 | BR5: 7.253 | BS5: 6.912 | BT5: 6.571 | BU5: 6.23 | BV5: 5.889 | BW5: 5.548 | BX5: 5.207 | BY5: 4.866 | BZ5: 4.525 | CA5: 4.184 | CB5: 3.843 | CC5: 3.502 | CD5: 3.161 | CE5: 2.82 | CF5: 2.479 | CG5: 2.138 | CH5: 1.797 | CI5: 1.456 | CJ5: 1.115 | CK5: 0.774 | CL5: 0.433 | CM5: 0.092 | CN5: -0.249 | CO5: -0.59 | CP5: -0.931 | CQ5: -1.272 | CR5: -1.613 | CS5: -1.954 | CT5: -2.295 | CU5: -2.636 | CV5: -2.977 | CW5: -3.318 | CX5: -3.659 | CY5: -4
B6: -19 | C6: 30.91 | D6: 30.5789 | E6: 30.2478 | F6: 29.9167 | G6: 29.5856 | H6: 29.2545 | I6: 28.9234 | J6: 28.5923 | K6: 28.2612 | L6: 27.9301 | M6: 27.599 | N6: 27.2679 | O6: 26.9368 | P6: 26.6057 | Q6: 26.2746 | R6: 25.9435 | S6: 25.6124 | T6: 25.2813 | U6: 24.9502 | V6: 24.6191 | W6: 24.288 | X6: 23.9569 | Y6: 23.6258 | Z6: 23.2947 | AA6: 22.9636 | AB6: 22.6325 | AC6: 22.3014 | AD6: 21.9703 | AE6: 21.6392 | AF6: 21.3081 | AG6: 20.977 | AH6: 20.6459 | AI6: 20.3148 | AJ6: 19.9837 | AK6: 19.6526 | AL6: 19.3215 | AM6: 18.9904 | AN6: 18.6593 | AO6: 18.3282 | AP6: 17.9971 | AQ6: 17.666 | AR6: 17.3349 | AS6: 17.0038 | AT6: 16.6727 | AU6: 16.3416 | AV6: 16.0105 | AW6: 15.6794 | AX6: 15.3483 | AY6: 15.0172 | AZ6: 14.6861 | BA6: 14.355 | BB6: 14.0239 | BC6: 13.6928 | BD6: 13.3617 | BE6: 13.0306 | BF6: 12.6995 | BG6: 12.3684 | BH6: 12.0373 | BI6: 11.7062 | BJ6: 11.3751 | BK6: 11.044 | BL6: 10.7129 | BM6: 10.3818 | BN6: 10.0507 | BO6: 9.7196 | BP6: 9.3885 | BQ6: 9.0574 | BR6: 8.7263 | BS6: 8.3952 | BT6: 8.0641 | BU6: 7.733 | BV6: 7.4019 | BW6: 7.0708 | BX6: 6.7397 | BY6: 6.4086 | BZ6: 6.0775 | CA6: 5.7464 | CB6: 5.4153 | CC6: 5.0842 | CD6: 4.7531 | CE6: 4.422 | CF6: 4.0909 | CG6: 3.7598 | CH6: 3.4287 | CI6: 3.0976 | CJ6: 2.7665 | CK6: 2.4354 | CL6: 2.1043 | CM6: 1.7732 | CN6: 1.4421 | CO6: 1.111 | CP6: 0.7799 | CQ6: 0.4488 | CR6: 0.1177 | CS6: -0.2134 | CT6: -0.5445 | CU6: -0.8756 | CV6: -1.2067 | CW6: -1.5378 | CX6: -1.8689 | CY6: -2.2
B7: -18 | C7: 31.72 | D7: 31.3988 | E7: 31.0776 | F7: 30.7564 | G7: 30.4352 | H7: 30.114 | I7: 29.7928 | J7: 29.4716 | K7: 29.1504 | L7: 28.8292 | M7: 28.508 | N7: 28.1868 | O7: 27.8656 | P7: 27.5444 | Q7: 27.2232 | R7: 26.902 | S7: 26.5808 | T7: 26.2596 | U7: 25.9384 | V7: 25.6172 | W7: 25.296 | X7: 24.9748 | Y7: 24.6536 | Z7: 24.3324 | AA7: 24.0112 | AB7: 23.69 | AC7: 23.3688 | AD7: 23.0476 | AE7: 22.7264 | AF7: 22.4052 | AG7: 22.084 | AH7: 21.7628 | AI7: 21.4416 | AJ7: 21.1204 | AK7: 20.7992 | AL7: 20.478 | AM7: 20.1568 | AN7: 19.8356 | AO7: 19.5144 | AP7: 19.1932 | AQ7: 18.872 | AR7: 18.5508 | AS7: 18.2296 | AT7: 17.9084 | AU7: 17.5872 | AV7: 17.266 | AW7: 16.9448 | AX7: 16.6236 | AY7: 16.3024 | AZ7: 15.9812 | BA7: 15.66 | BB7: 15.3388 | BC7: 15.0176 | BD7: 14.6964 | BE7: 14.3752 | BF7: 14.054 | BG7: 13.7328 | BH7: 13.4116 | BI7: 13.0904 | BJ7: 12.7692 | BK7: 12.448 | BL7: 12.1268 | BM7: 11.8056 | BN7: 11.4844 | BO7: 11.1632 | BP7: 10.842 | BQ7: 10.5208 | BR7: 10.1996 | BS7: 9.8784 | BT7: 9.5572 | BU7: 9.236 | BV7: 8.9148 | BW7: 8.5936 | BX7: 8.2724 | BY7: 7.9512 | BZ7: 7.63 | CA7: 7.3088 | CB7: 6.9876 | CC7: 6.6664 | CD7: 6.3452 | CE7: 6.024 | CF7: 5.7028 | CG7: 5.3816 | CH7: 5.0604 | CI7: 4.7392 | CJ7: 4.418 | CK7: 4.0968 | CL7: 3.7756 | CM7: 3.4544 | CN7: 3.1332 | CO7: 2.812 | CP7: 2.4908 | CQ7: 2.1696 | CR7: 1.8484 | CS7: 1.5272 | CT7: 1.206 | CU7: 0.8848 | CV7: 0.5636 | CW7: 0.2424 | CX7: -0.0788 | CY7: -0.4
B8: -17 | C8: 32.53 | D8: 32.2187 | E8: 31.9074 | F8: 31.5961 | G8: 31.2848 | H8: 30.9735 | I8: 30.6622 | J8: 30.3509 | K8: 30.0396 | L8: 29.7283 | M8: 29.417 | N8: 29.1057 | O8: 28.7944 | P8: 28.4831 | Q8: 28.1718 | R8: 27.8605 | S8: 27.5492 | T8: 27.2379 | U8: 26.9266 | V8: 26.6153 | W8: 26.304 | X8: 25.9927 | Y8: 25.6814 | Z8: 25.3701 | AA8: 25.0588 | AB8: 24.7475 | AC8: 24.4362 | AD8: 24.1249 | AE8: 23.8136 | AF8: 23.5023 | AG8: 23.191 | AH8: 22.8797 | AI8: 22.5684 | AJ8: 22.2571 | AK8: 21.9458 | AL8: 21.6345 | AM8: 21.3232 | AN8: 21.0119 | AO8: 20.7006 | AP8: 20.3893 | AQ8: 20.078 | AR8: 19.7667 | AS8: 19.4554 | AT8: 19.1441 | AU8: 18.8328 | AV8: 18.5215 | AW8: 18.2102 | AX8: 17.8989 | AY8: 17.5876 | AZ8: 17.2763 | BA8: 16.965 | BB8: 16.6537 | BC8: 16.3424 | BD8: 16.0311 | BE8: 15.7198 | BF8: 15.4085 | BG8: 15.0972 | BH8: 14.7859 | BI8: 14.4746 | BJ8: 14.1633 | BK8: 13.852 | BL8: 13.5407 | BM8: 13.2294 | BN8: 12.9181 | BO8: 12.6068 | BP8: 12.2955 | BQ8: 11.9842 | BR8: 11.6729 | BS8: 11.3616 | BT8: 11.0503 | BU8: 10.739 | BV8: 10.4277 | BW8: 10.1164 | BX8: 9.8051 | BY8: 9.4938 | BZ8: 9.1825 | CA8: 8.8712 | CB8: 8.5599 | CC8: 8.2486 | CD8: 7.9373 | CE8: 7.626 | CF8: 7.3147 | CG8: 7.0034 | CH8: 6.6921 | CI8: 6.3808 | CJ8: 6.0695 | CK8: 5.7582 | CL8: 5.4469 | CM8: 5.1356 | CN8: 4.8243 | CO8: 4.513 | CP8: 4.2017 | CQ8: 3.8904 | CR8: 3.5791 | CS8: 3.2678 | CT8: 2.9565 | CU8: 2.6452 | CV8: 2.3339 | CW8: 2.0226 | CX8: 1.7113 | CY8: 1.4
B9: -16 | C9: 33.34 | D9: 33.0386 | E9: 32.7372 | F9: 32.4358 | G9: 32.1344 | H9: 31.833 | I9: 31.5316 | J9: 31.2302 | K9: 30.9288 | L9: 30.6274 | M9: 30.326 | N9: 30.0246 | O9: 29.7232 | P9: 29.4218 | Q9: 29.1204 | R9: 28.819 | S9: 28.5176 | T9: 28.2162 | U9: 27.9148 | V9: 27.6134 | W9: 27.312 | X9: 27.0106 | Y9: 26.7092 | Z9: 26.4078 | AA9: 26.1064 | AB9: 25.805 | AC9: 25.5036 | AD9: 25.2022 | AE9: 24.9008 | AF9: 24.5994 | AG9: 24.298 | AH9: 23.9966 | AI9: 23.6952 | AJ9: 23.3938 | AK9: 23.0924 | AL9: 22.791 | AM9: 22.4896 | AN9: 22.1882 | AO9: 21.8868 | AP9: 21.5854 | AQ9: 21.284 | AR9: 20.9826 | AS9: 20.6812 | AT9: 20.3798 | AU9: 20.0784 | AV9: 19.777 | AW9: 19.4756 | AX9: 19.1742 | AY9: 18.8728 | AZ9: 18.5714 | BA9: 18.27 | BB9: 17.9686 | BC9: 17.6672 | BD9: 17.3658 | BE9: 17.0644 | BF9: 16.763 | BG9: 16.4616 | BH9: 16.1602 | BI9: 15.8588 | BJ9: 15.5574 | BK9: 15.256 | BL9: 14.9546 | BM9: 14.6532 | BN9: 14.3518 | BO9: 14.0504 | BP9: 13.749 | BQ9: 13.4476 | BR9: 13.1462 | BS9: 12.8448 | BT9: 12.5434 | BU9: 12.242 | BV9: 11.9406 | BW9: 11.6392 | BX9: 11.3378 | BY9: 11.0364 | BZ9: 10.735 | CA9: 10.4336 | CB9: 10.1322 | CC9: 9.8308 | CD9: 9.5294 | CE9: 9.228 | CF9: 8.9266 | CG9: 8.6252 | CH9: 8.3238 | CI9: 8.0224 | CJ9: 7.721 | CK9: 7.4196 | CL9: 7.1182 | CM9: 6.8168 | CN9: 6.5154 | CO9: 6.214 | CP9: 5.9126 | CQ9: 5.6112 | CR9: 5.3098 | CS9: 5.0084 | CT9: 4.707 | CU9: 4.4056 | CV9: 4.1042 | CW9: 3.8028 | CX9: 3.5014 | CY9: 3.2
B10: -15 | C10: 34.15 | D10: 33.8585 | E10: 33.567 | F10: 33.2755 | G10: 32.984 | H10: 32.6925 | I10: 32.401 | J10: 32.1095 | K10: 31.818 | L10: 31.5265 | M10: 31.235 | N10: 30.9435 | O10: 30.652 | P10: 30.3605 | Q10: 30.069 | R10: 29.7775 | S10: 29.486 | T10: 29.1945 | U10: 28.903 | V10: 28.6115 | W10: 28.32 | X10: 28.0285 | Y10: 27.737 | Z10: 27.4455 | AA10: 27.154 | AB10: 26.8625 | AC10: 26.571 | AD10: 26.2795 | AE10: 25.988 | AF10: 25.6965 | AG10: 25.405 | AH10: 25.1135 | AI10: 24.822 | AJ10: 24.5305 | AK10: 24.239 | AL10: 23.9475 | AM10: 23.656 | AN10: 23.3645 | AO10: 23.073 | AP10: 22.7815 | AQ10: 22.49 | AR10: 22.1985 | AS10: 21.907 | AT10: 21.6155 | AU10: 21.324 | AV10: 21.0325 | AW10: 20.741 | AX10: 20.4495 | AY10: 20.158 | AZ10: 19.8665 | BA10: 19.575 | BB10: 19.2835 | BC10: 18.992 | BD10: 18.7005 | BE10: 18.409 | BF10: 18.1175 | BG10: 17.826 | BH10: 17.5345 | BI10: 17.243 | BJ10: 16.9515 | BK10: 16.66 | BL10: 16.3685 | BM10: 16.077 | BN10: 15.7855 | BO10: 15.494 | BP10: 15.2025 | BQ10: 14.911 | BR10: 14.6195 | BS10: 14.328 | BT10: 14.0365 | BU10: 13.745 | BV10: 13.4535 | BW10: 13.162 | BX10: 12.8705 | BY10: 12.579 | BZ10: 12.2875 | CA10: 11.996 | CB10: 11.7045 | CC10: 11.413 | CD10: 11.1215 | CE10: 10.83 | CF10: 10.5385 | CG10: 10.247 | CH10: 9.9555 | CI10: 9.664 | CJ10: 9.3725 | CK10: 9.081 | CL10: 8.7895 | CM10: 8.498 | CN10: 8.2065 | CO10: 7.915 | CP10: 7.6235 | CQ10: 7.332 | CR10: 7.0405 | CS10: 6.749 | CT10: 6.4575 | CU10: 6.166 | CV10: 5.8745 | CW10: 5.583 | CX10: 5.2915 | CY10: 5
B11: -14 | C11: 34.96 | D11: 34.6784 | E11: 34.3968 | F11: 34.1152 | G11: 33.8336 | H11: 33.552 | I11: 33.2704 | J11: 32.9888 | K11: 32.7072 | L11: 32.4256 | M11: 32.144 | N11: 31.8624 | O11: 31.5808 | P11: 31.2992 | Q11: 31.0176 | R11: 30.736 | S11: 30.4544 | T11: 30.1728 | U11: 29.8912 | V11: 29.6096 | W11: 29.328 | X11: 29.0464 | Y11: 28.7648 | Z11: 28.4832 | AA11: 28.2016 | AB11: 27.92 | AC11: 27.6384 | AD11: 27.3568 | AE11: 27.0752 | AF11: 26.7936 | AG11: 26.512 | AH11: 26.2304 | AI11: 25.9488 | AJ11: 25.6672 | AK11: 25.3856 | AL11: 25.104 | AM11: 24.8224 | AN11: 24.5408 | AO11: 24.2592 | AP11: 23.9776 | AQ11: 23.696 | AR11: 23.4144 | AS11: 23.1328 | AT11: 22.8512 | AU11: 22.5696 | AV11: 22.288 | AW11: 22.0064 | AX11: 21.7248 | AY11: 21.4432 | AZ11: 21.1616 | BA11: 20.88 | BB11: 20.5984 | BC11: 20.3168 | BD11: 20.0352 | BE11: 19.7536 | BF11: 19.472 | BG11: 19.1904 | BH11: 18.9088 | BI11: 18.6272 | BJ11: 18.3456 | BK11: 18.064 | BL11: 17.7824 | BM11: 17.5008 | BN11: 17.2192 | BO11: 16.9376 | BP11: 16.656 | BQ11: 16.3744 | BR11: 16.0928 | BS11: 15.8112 | BT11: 15.5296 | BU11: 15.248 | BV11: 14.9664 | BW11: 14.6848 | BX11: 14.4032 | BY11: 14.1216 | BZ11: 13.84 | CA11: 13.5584 | CB11: 13.2768 | CC11: 12.9952 | CD11: 12.7136 | CE11: 12.432 | CF11: 12.1504 | CG11: 11.8688 | CH11: 11.5872 | CI11: 11.3056 | CJ11: 11.024 | CK11: 10.7424 | CL11: 10.4608 | CM11: 10.1792 | CN11: 9.8976 | CO11: 9.616 | CP11: 9.3344 | CQ11: 9.0528 | CR11: 8.7712 | CS11: 8.4896 | CT11: 8.208 | CU11: 7.9264 | CV11: 7.6448 | CW11: 7.3632 | CX11: 7.0816 | CY11: 6.8
B12: -13 | C12: 35.77 | D12: 35.4983 | E12: 35.2266 | F12: 34.9549 | G12: 34.6832 | H12: 34.4115 | I12: 34.1398 | J12: 33.8681 | K12: 33.5964 | L12: 33.3247 | M12: 33.053 | N12: 32.7813 | O12: 32.5096 | P12: 32.2379 | Q12: 31.9662 | R12: 31.6945 | S12: 31.4228 | T12: 31.1511 | U12: 30.8794 | V12: 30.6077 | W12: 30.336 | X12: 30.0643 | Y12: 29.7926 | Z12: 29.5209 | AA12: 29.2492 | AB12: 28.9775 | AC12: 28.7058 | AD12: 28.4341 | AE12: 28.1624 | AF12: 27.8907 | AG12: 27.619 | AH12: 27.3473 | AI12: 27.0756 | AJ12: 26.8039 | AK12: 26.5322 | AL12: 26.2605 | AM12: 25.9888 | AN12: 25.7171 | AO12: 25.4454 | AP12: 25.1737 | AQ12: 24.902 | AR12: 24.6303 | AS12: 24.3586 | AT12: 24.0869 | AU12: 23.8152 | AV12: 23.5435 | AW12: 23.2718 | AX12: 23.0001 | AY12: 22.7284 | AZ12: 22.4567 | BA12: 22.185 | BB12: 21.9133 | BC12: 21.6416 | BD12: 21.3699 | BE12: 21.0982 | BF12: 20.8265 | BG12: 20.5548 | BH12: 20.2831 | BI12: 20.0114 | BJ12: 19.7397 | BK12: 19.468 | BL12: 19.1963 | BM12: 18.9246 | BN12: 18.6529 | BO12: 18.3812 | BP12: 18.1095 | BQ12: 17.8378 | BR12: 17.5661 | BS12: 17.2944 | BT12: 17.0227 | BU12: 16.751 | BV12: 16.4793 | BW12: 16.2076 | BX12: 15.9359 | BY12: 15.6642 | BZ12: 15.3925 | CA12: 15.1208 | CB12: 14.8491 | CC12: 14.5774 | CD12: 14.3057 | CE12: 14.034 | CF12: 13.7623 | CG12: 13.4906 | CH12: 13.2189 | CI12: 12.9472 | CJ12: 12.6755 | CK12: 12.4038 | CL12: 12.1321 | CM12: 11.8604 | CN12: 11.5887 | CO12: 11.317 | CP12: 11.0453 | CQ12: 10.7736 | CR12: 10.5019 | CS12: 10.2302 | CT12: 9.9585 | CU12: 9.6868 | CV12: 9.4151 | CW12: 9.1434 | CX12: 8.8717 | CY12: 8.6
B13: -12 | C13: 36.58 | D13: 36.3182 | E13: 36.0564 | F13: 35.7946 | G13: 35.5328 | H13: 35.271 | I13: 35.0092 | J13: 34.7474 | K13: 34.4856 | L13: 34.2238 | M13: 33.962 | N13: 33.7002 | O13: 33.4384 | P13: 33.1766 | Q13: 32.9148 | R13: 32.653 | S13: 32.3912 | T13: 32.1294 | U13: 31.8676 | V13: 31.6058 | W13: 31.344 | X13: 31.0822 | Y13: 30.8204 | Z13: 30.5586 | AA13: 30.2968 | AB13: 30.035 | AC13: 29.7732 | AD13: 29.5114 | AE13: 29.2496 | AF13: 28.9878 | AG13: 28.726 | AH13: 28.4642 | AI13: 28.2024 | AJ13: 27.9406 | AK13: 27.6788 | AL13: 27.417 | AM13: 27.1552 | AN13: 26.8934 | AO13: 26.6316 | AP13: 26.3698 | AQ13: 26.108 | AR13: 25.8462 | AS13: 25.5844 | AT13: 25.3226 | AU13: 25.0608 | AV13: 24.799 | AW13: 24.5372 | AX13: 24.2754 | AY13: 24.0136 | AZ13: 23.7518 | BA13: 23.49 | BB13: 23.2282 | BC13: 22.9664 | BD13: 22.7046 | BE13: 22.4428 | BF13: 22.181 | BG13: 21.9192 | BH13: 21.6574 | BI13: 21.3956 | BJ13: 21.1338 | BK13: 20.872 | BL13: 20.6102 | BM13: 20.3484 | BN13: 20.0866 | BO13: 19.8248 | BP13: 19.563 | BQ13: 19.3012 | BR13: 19.0394 | BS13: 18.7776 | BT13: 18.5158 | BU13: 18.254 | BV13: 17.9922 | BW13: 17.7304 | BX13: 17.4686 | BY13: 17.2068 | BZ13: 16.945 | CA13: 16.6832 | CB13: 16.4214 | CC13: 16.1596 | CD13: 15.8978 | CE13: 15.636 | CF13: 15.3742 | CG13: 15.1124 | CH13: 14.8506 | CI13: 14.5888 | CJ13: 14.327 | CK13: 14.0652 | CL13: 13.8034 | CM13: 13.5416 | CN13: 13.2798 | CO13: 13.018 | CP13: 12.7562 | CQ13: 12.4944 | CR13: 12.2326 | CS13: 11.9708 | CT13: 11.709 | CU13: 11.4472 | CV13: 11.1854 | CW13: 10.9236 | CX13: 10.6618 | CY13: 10.4
B14: -11 | C14: 37.39 | D14: 37.1381 | E14: 36.8862 | F14: 36.6343 | G14: 36.3824 | H14: 36.1305 | I14: 35.8786 | J14: 35.6267 | K14: 35.3748 | L14: 35.1229 | M14: 34.871 | N14: 34.6191 | O14: 34.3672 | P14: 34.1153 | Q14: 33.8634 | R14: 33.6115 | S14: 33.3596 | T14: 33.1077 | U14: 32.8558 | V14: 32.6039 | W14: 32.352 | X14: 32.1001 | Y14: 31.8482 | Z14: 31.5963 | AA14: 31.3444 | AB14: 31.0925 | AC14: 30.8406 | AD14: 30.5887 | AE14: 30.3368 | AF14: 30.0849 | AG14: 29.833 | AH14: 29.5811 | AI14: 29.3292 | AJ14: 29.0773 | AK14: 28.8254 | AL14: 28.5735 | AM14: 28.3216 | AN14: 28.0697 | AO14: 27.8178 | AP14: 27.5659 | AQ14: 27.314 | AR14: 27.0621 | AS14: 26.8102 | AT14: 26.5583 | AU14: 26.3064 | AV14: 26.0545 | AW14: 25.8026 | AX14: 25.5507 | AY14: 25.2988 | AZ14: 25.0469 | BA14: 24.795 | BB14: 24.5431 | BC14: 24.2912 | BD14: 24.0393 | BE14: 23.7874 | BF14: 23.5355 | BG14: 23.2836 | BH14: 23.0317 | BI14: 22.7798 | BJ14: 22.5279 | BK14: 22.276 | BL14: 22.0241 | BM14: 21.7722 | BN14: 21.5203 | BO14: 21.2684 | BP14: 21.0165 | BQ14: 20.7646 | BR14: 20.5127 | BS14: 20.2608 | BT14: 20.0089 | BU14: 19.757 | BV14: 19.5051 | BW14: 19.2532 | BX14: 19.0013 | BY14: 18.7494 | BZ14: 18.4975 | CA14: 18.2456 | CB14: 17.9937 | CC14: 17.7418 | CD14: 17.4899 | CE14: 17.238 | CF14: 16.9861 | CG14: 16.7342 | CH14: 16.4823 | CI14: 16.2304 | CJ14: 15.9785 | CK14: 15.7266 | CL14: 15.4747 | CM14: 15.2228 | CN14: 14.9709 | CO14: 14.719 | CP14: 14.4671 | CQ14: 14.2152 | CR14: 13.9633 | CS14: 13.7114 | CT14: 13.4595 | CU14: 13.2076 | CV14: 12.9557 | CW14: 12.7038 | CX14: 12.4519 | CY14: 12.2
B15: -10 | C15: 38.2 | D15: 37.958 | E15: 37.716 | F15: 37.474 | G15: 37.232 | H15: 36.99 | I15: 36.748 | J15: 36.506 | K15: 36.264 | L15: 36.022 | M15: 35.78 | N15: 35.538 | O15: 35.296 | P15: 35.054 | Q15: 34.812 | R15: 34.57 | S15: 34.328 | T15: 34.086 | U15: 33.844 | V15: 33.602 | W15: 33.36 | X15: 33.118 | Y15: 32.876 | Z15: 32.634 | AA15: 32.392 | AB15: 32.15 | AC15: 31.908 | AD15: 31.666 | AE15: 31.424 | AF15: 31.182 | AG15: 30.94 | AH15: 30.698 | AI15: 30.456 | AJ15: 30.214 | AK15: 29.972 | AL15: 29.73 | AM15: 29.488 | AN15: 29.246 | AO15: 29.004 | AP15: 28.762 | AQ15: 28.52 | AR15: 28.278 | AS15: 28.036 | AT15: 27.794 | AU15: 27.552 | AV15: 27.31 | AW15: 27.068 | AX15: 26.826 | AY15: 26.584 | AZ15: 26.342 | BA15: 26.1 | BB15: 25.858 | BC15: 25.616 | BD15: 25.374 | BE15: 25.132 | BF15: 24.89 | BG15: 24.648 | BH15: 24.406 | BI15: 24.164 | BJ15: 23.922 | BK15: 23.68 | BL15: 23.438 | BM15: 23.196 | BN15: 22.954 | BO15: 22.712 | BP15: 22.47 | BQ15: 22.228 | BR15: 21.986 | BS15: 21.744 | BT15: 21.502 | BU15: 21.26 | BV15: 21.018 | BW15: 20.776 | BX15: 20.534 | BY15: 20.292 | BZ15: 20.05 | CA15: 19.808 | CB15: 19.566 | CC15: 19.324 | CD15: 19.082 | CE15: 18.84 | CF15: 18.598 | CG15: 18.356 | CH15: 18.114 | CI15: 17.872 | CJ15: 17.63 | CK15: 17.388 | CL15: 17.146 | CM15: 16.904 | CN15: 16.662 | CO15: 16.42 | CP15: 16.178 | CQ15: 15.936 | CR15: 15.694 | CS15: 15.452 | CT15: 15.21 | CU15: 14.968 | CV15: 14.726 | CW15: 14.484 | CX15: 14.242 | CY15: 14
B16: -9 | C16: 39.01 | D16: 38.7779 | E16: 38.5458 | F16: 38.3137 | G16: 38.0816 | H16: 37.8495 | I16: 37.6174 | J16: 37.3853 | K16: 37.1532 | L16: 36.9211 | M16: 36.689 | N16: 36.4569 | O16: 36.2248 | P16: 35.9927 | Q16: 35.7606 | R16: 35.5285 | S16: 35.2964 | T16: 35.0643 | U16: 34.8322 | V16: 34.6001 | W16: 34.368 | X16: 34.1359 | Y16: 33.9038 | Z16: 33.6717 | AA16: 33.4396 | AB16: 33.2075 | AC16: 32.9754 | AD16: 32.7433 | AE16: 32.5112 | AF16: 32.2791 | AG16: 32.047 | AH16: 31.8149 | AI16: 31.5828 | AJ16: 31.3507 | AK16: 31.1186 | AL16: 30.8865 | AM16: 30.6544 | AN16: 30.4223 | AO16: 30.1902 | AP16: 29.9581 | AQ16: 29.726 | AR16: 29.4939 | AS16: 29.2618 | AT16: 29.0297 | AU16: 28.7976 | AV16: 28.5655 | AW16: 28.3334 | AX16: 28.1013 | AY16: 27.8692 | AZ16: 27.6371 | BA16: 27.405 | BB16: 27.1729 | BC16: 26.9408 | BD16: 26.7087 | BE16: 26.4766 | BF16: 26.2445 | BG16: 26.0124 | BH16: 25.7803 | BI16: 25.5482 | BJ16: 25.3161 | BK16: 25.084 | BL16: 24.8519 | BM16: 24.6198 | BN16: 24.3877 | BO16: 24.1556 | BP16: 23.9235 | BQ16: 23.6914 | BR16: 23.4593 | BS16: 23.2272 | BT16: 22.9951 | BU16: 22.763 | BV16: 22.5309 | BW16: 22.2988 | BX16: 22.0667 | BY16: 21.8346 | BZ16: 21.6025 | CA16: 21.3704 | CB16: 21.1383 | CC16: 20.9062 | CD16: 20.6741 | CE16: 20.442 | CF16: 20.2099 | CG16: 19.9778 | CH16: 19.7457 | CI16: 19.5136 | CJ16: 19.2815 | CK16: 19.0494 | CL16: 18.8173 | CM16: 18.5852 | CN16: 18.3531 | CO16: 18.121 | CP16: 17.8889 | CQ16: 17.6568 | CR16: 17.4247 | CS16: 17.1926 | CT16: 16.9605 | CU16: 16.7284 | CV16: 16.4963 | CW16: 16.2642 | CX16: 16.0321 | CY16: 15.8
... B70: 45 | C70: 82.75 | D70: 83.0525 | E70: 83.355 | F70: 83.6575 | G70: 83.96 | H70: 84.2625 | I70: 84.565 | J70: 84.8675 | K70: 85.17 | L70: 85.4725 | M70: 85.775 | N70: 86.0775 | O70: 86.38 | P70: 86.6825 | Q70: 86.985 | R70: 87.2875 | S70: 87.59 | T70: 87.8925 | U70: 88.195 | V70: 88.4975 | W70: 88.8 | X70: 89.1025 | Y70: 89.405 | Z70: 89.7075 | AA70: 90.01 | AB70: 90.3125 | AC70: 90.615 | AD70: 90.9175 | AE70: 91.22 | AF70: 91.5225 | AG70: 91.825 | AH70: 92.1275 | AI70: 92.43 | AJ70: 92.7325 | AK70: 93.035 | AL70: 93.3375 | AM70: 93.64 | AN70: 93.9425 | AO70: 94.245 | AP70: 94.5475 | AQ70: 94.85 | AR70: 95.1525 | AS70: 95.455 | AT70: 95.7575 | AU70: 96.06 | AV70: 96.3625 | AW70: 96.665 | AX70: 96.9675 | AY70: 97.27 | AZ70: 97.5725 | BA70: 97.875 | BB70: 98.1775 | BC70: 98.48 | BD70: 98.7825 | BE70: 99.085 | BF70: 99.3875 | BG70: 99.69 | BH70: 99.9925 | BI70: 100.295 | BJ70: 100.5975 | BK70: 100.9 | BL70: 101.2025 | BM70: 101.505 | BN70: 101.8075 | BO70: 102.11 | BP70: 102.4125 | BQ70: 102.715 | BR70: 103.0175 | BS70: 103.32 | BT70: 103.6225 | BU70: 103.925 | BV70: 104.2275 | BW70: 104.53 | BX70: 104.8325 | BY70: 105.135 | BZ70: 105.4375 | CA70: 105.74 | CB70: 106.0425 | CC70: 106.345 | CD70: 106.6475 | CE70: 106.95 | CF70: 107.2525 | CG70: 107.555 | CH70: 107.8575 | CI70: 108.16 | CJ70: 108.4625 | CK70: 108.765 | CL70: 109.0675 | CM70: 109.37 | CN70: 109.6725 | CO70: 109.975 | CP70: 110.2775 | CQ70: 110.58 | CR70: 110.8825 | CS70: 111.185 | CT70: 111.4875 | CU70: 111.79 | CV70: 112.0925 | CW70: 112.395 | CX70: 112.6975 | CY70: 113
