Workbook

Sheet ALBARANS
A2: Nº ALBARAN | B2: Provincia | C2: Kilos | D2: Precio Antiguo | E2: Precio Nuevo | K2: Destino
A3: 1908631 | B3: Ciudad Real | C3: 42 | D3: 12.05 | E3: =IFERROR(INDEX(TARIFAS!$F$1:$L$31,MATCH(C3,TARIFAS!$E:$E,1),INDEX(TARIFAS!$B:$B,MATCH(B3,TARIFAS!$A:$A,0))),"") -> 10.283 | K3: =VLOOKUP(B3,TARIFAS!$A$1:$B$48,2,FALSE) -> 5
A4: 1908629 | B4: Huesca | C4: 420 | D4: 80 | E4: =IFERROR(INDEX(TARIFAS!$F$1:$L$31,MATCH(C4,TARIFAS!$E:$E,1),INDEX(TARIFAS!$B:$B,MATCH(B4,TARIFAS!$A:$A,0))),"") -> 43.953 | K4: =VLOOKUP(B4,TARIFAS!$A$1:$B$48,2,FALSE) -> 3
A5: 1908630 | B5: Logroño | C5: 1219 | D5: 48 | E5: =IFERROR(INDEX(TARIFAS!$F$1:$L$31,MATCH(C5,TARIFAS!$E:$E,1),INDEX(TARIFAS!$B:$B,MATCH(B5,TARIFAS!$A:$A,0))),"") -> 87.348 | K5: =VLOOKUP(B5,TARIFAS!$A$1:$B$48,2,FALSE) -> 3
A6: 1908585 | B6: Logroño | C6: 50 | D6: 12.05 | E6: =IFERROR(INDEX(TARIFAS!$F$1:$L$31,MATCH(C6,TARIFAS!$E:$E,1),INDEX(TARIFAS!$B:$B,MATCH(B6,TARIFAS!$A:$A,0))),"") -> 10.179 | K6: =VLOOKUP(B6,TARIFAS!$A$1:$B$48,2,FALSE) -> 3
A7: 1908586 | B7: Logroño | C7: 15 | D7: 7.5 | E7: =IFERROR(INDEX(TARIFAS!$F$1:$L$31,MATCH(C7,TARIFAS!$E:$E,1),INDEX(TARIFAS!$B:$B,MATCH(B7,TARIFAS!$A:$A,0))),"") -> 4.966 | K7: =VLOOKUP(B7,TARIFAS!$A$1:$B$48,2,FALSE) -> 3
A8: 1908680 | B8: Madrid | C8: 253 | D8: 40 | E8: =IFERROR(INDEX(TARIFAS!$F$1:$L$31,MATCH(C8,TARIFAS!$E:$E,1),INDEX(TARIFAS!$B:$B,MATCH(B8,TARIFAS!$A:$A,0))),"") -> 30.979 | K8: =VLOOKUP(B8,TARIFAS!$A$1:$B$48,2,FALSE) -> 3
A9: 1908387 | B9: Toledo | C9: 944 | D9: 80 | E9: =IFERROR(INDEX(TARIFAS!$F$1:$L$31,MATCH(C9,TARIFAS!$E:$E,1),INDEX(TARIFAS!$B:$B,MATCH(B9,TARIFAS!$A:$A,0))),"") -> 98.748 | F9: Devrait être | G9: 109.068 | K9: =VLOOKUP(B9,TARIFAS!$A$1:$B$48,2,FALSE) -> 5
A10: . | B10: Caceres | C10: 178 | D10: 40 | E10: =IFERROR(INDEX(TARIFAS!$F$1:$L$31,MATCH(C10,TARIFAS!$E:$E,1),INDEX(TARIFAS!$B:$B,MATCH(B10,TARIFAS!$A:$A,0))),"") -> 29.601 | K10: =VLOOKUP(B10,TARIFAS!$A$1:$B$48,2,FALSE) -> 5
A11: 1908759 | B11: Lleida | C11: 452 | D11: 40 | E11: =IFERROR(INDEX(TARIFAS!$F$1:$L$31,MATCH(C11,TARIFAS!$E:$E,1),INDEX(TARIFAS!$B:$B,MATCH(B11,TARIFAS!$A:$A,0))),"") -> 27.976 | K11: =VLOOKUP(B11,TARIFAS!$A$1:$B$48,2,FALSE) -> 1
A12: 1908784 | B12: Logroño | C12: 708 | D12: 40 | E12: =IFERROR(INDEX(TARIFAS!$F$1:$L$31,MATCH(C12,TARIFAS!$E:$E,1),INDEX(TARIFAS!$B:$B,MATCH(B12,TARIFAS!$A:$A,0))),"") -> 64.176 | K12: =VLOOKUP(B12,TARIFAS!$A$1:$B$48,2,FALSE) -> 3
A13: 1908760 | B13: Toledo | C13: 254 | D13: 40 | E13: =IFERROR(INDEX(TARIFAS!$F$1:$L$31,MATCH(C13,TARIFAS!$E:$E,1),INDEX(TARIFAS!$B:$B,MATCH(B13,TARIFAS!$A:$A,0))),"") -> 36.855 | K13: =VLOOKUP(B13,TARIFAS!$A$1:$B$48,2,FALSE) -> 5
A14: 1908805 | B14: Madrid | C14: 144 | D14: 40 | E14: =IFERROR(INDEX(TARIFAS!$F$1:$L$31,MATCH(C14,TARIFAS!$E:$E,1),INDEX(TARIFAS!$B:$B,MATCH(B14,TARIFAS!$A:$A,0))),"") -> 22.126 | K14: =VLOOKUP(B14,TARIFAS!$A$1:$B$48,2,FALSE) -> 3
A15: . | B15: Lleida | D15: 120 | E15: =IFERROR(INDEX(TARIFAS!$F$1:$L$31,MATCH(C15,TARIFAS!$E:$E,1),INDEX(TARIFAS!$B:$B,MATCH(B15,TARIFAS!$A:$A,0))),"") | K15: =VLOOKUP(B15,TARIFAS!$A$1:$B$48,2,FALSE) -> 1
A16: 1908881 | B16: Lleida | C16: 424 | D16: 40 | E16: =IFERROR(INDEX(TARIFAS!$F$1:$L$31,MATCH(C16,TARIFAS!$E:$E,1),INDEX(TARIFAS!$B:$B,MATCH(B16,TARIFAS!$A:$A,0))),"") -> 24.687 | K16: =VLOOKUP(B16,TARIFAS!$A$1:$B$48,2,FALSE) -> 1
A17: 1908827 | B17: Lleida | C17: 18 | D17: 7.5 | E17: =IFERROR(INDEX(TARIFAS!$F$1:$L$31,MATCH(C17,TARIFAS!$E:$E,1),INDEX(TARIFAS!$B:$B,MATCH(B17,TARIFAS!$A:$A,0))),"") -> 4.94 | K17: =VLOOKUP(B17,TARIFAS!$A$1:$B$48,2,FALSE) -> 1
A18: 1908533 | B18: Lleida | C18: 78 | D18: 14.5 | E18: =IFERROR(INDEX(TARIFAS!$F$1:$L$31,MATCH(C18,TARIFAS!$E:$E,1),INDEX(TARIFAS!$B:$B,MATCH(B18,TARIFAS!$A:$A,0))),"") -> 9.178 | K18: =VLOOKUP(B18,TARIFAS!$A$1:$B$48,2,FALSE) -> 1
A19: 1908856 | B19: Logroño | C19: 168 | D19: 40 | E19: =IFERROR(INDEX(TARIFAS!$F$1:$L$31,MATCH(C19,TARIFAS!$E:$E,1),INDEX(TARIFAS!$B:$B,MATCH(B19,TARIFAS!$A:$A,0))),"") -> 25.48 | K19: =VLOOKUP(B19,TARIFAS!$A$1:$B$48,2,FALSE) -> 3
A20: 1908864 | B20: Pamplona | C20: 22 | D20: 7.5 | E20: =IFERROR(INDEX(TARIFAS!$F$1:$L$31,MATCH(C20,TARIFAS!$E:$E,1),INDEX(TARIFAS!$B:$B,MATCH(B20,TARIFAS!$A:$A,0))),"") -> 6.409 | K20: =VLOOKUP(B20,TARIFAS!$A$1:$B$48,2,FALSE) -> 3
A21: 1908914 | B21: Valencia | C21: 680 | D21: 40 | E21: =IFERROR(INDEX(TARIFAS!$F$1:$L$31,MATCH(C21,TARIFAS!$E:$E,1),INDEX(TARIFAS!$B:$B,MATCH(B21,TARIFAS!$A:$A,0))),"") -> 56.892 | K21: =VLOOKUP(B21,TARIFAS!$A$1:$B$48,2,FALSE) -> 3
A22: 1908915 | B22: Valencia | C22: 1360 | D22: 80 | E22: =IFERROR(INDEX(TARIFAS!$F$1:$L$31,MATCH(C22,TARIFAS!$E:$E,1),INDEX(TARIFAS!$B:$B,MATCH(B22,TARIFAS!$A:$A,0))),"") -> 87.348 | K22: =VLOOKUP(B22,TARIFAS!$A$1:$B$48,2,FALSE) -> 3
A23: 1908926 | B23: Madrid | C23: 66 | D23: 14.5 | E23: =IFERROR(INDEX(TARIFAS!$F$1:$L$31,MATCH(C23,TARIFAS!$E:$E,1),INDEX(TARIFAS!$B:$B,MATCH(B23,TARIFAS!$A:$A,0))),"") -> 11.128 | K23: =VLOOKUP(B23,TARIFAS!$A$1:$B$48,2,FALSE) -> 3
B24: Madrid | C24: 852 | D24: 80 | E24: =IFERROR(INDEX(TARIFAS!$F$1:$L$31,MATCH(C24,TARIFAS!$E:$E,1),INDEX(TARIFAS!$B:$B,MATCH(B24,TARIFAS!$A:$A,0))),"") -> 71.508 | K24: =VLOOKUP(B24,TARIFAS!$A$1:$B$48,2,FALSE) -> 3
A25: 1909005 | B25: Huesca | C25: 144 | D25: 40 | E25: =IFERROR(INDEX(TARIFAS!$F$1:$L$31,MATCH(C25,TARIFAS!$E:$E,1),INDEX(TARIFAS!$B:$B,MATCH(B25,TARIFAS!$A:$A,0))),"") -> 22.126 | K25: =VLOOKUP(B25,TARIFAS!$A$1:$B$48,2,FALSE) -> 3
A26: 1908984 | B26: Logroño | C26: 208 | D26: 40 | E26: =IFERROR(INDEX(TARIFAS!$F$1:$L$31,MATCH(C26,TARIFAS!$E:$E,1),INDEX(TARIFAS!$B:$B,MATCH(B26,TARIFAS!$A:$A,0))),"") -> 27.183 | K26: =VLOOKUP(B26,TARIFAS!$A$1:$B$48,2,FALSE) -> 3
B27: Teruel | C27: 555 | D27: 40 | E27: =IFERROR(INDEX(TARIFAS!$F$1:$L$31,MATCH(C27,TARIFAS!$E:$E,1),INDEX(TARIFAS!$B:$B,MATCH(B27,TARIFAS!$A:$A,0))),"") -> 66.521 | K27: =VLOOKUP(B27,TARIFAS!$A$1:$B$48,2,FALSE) -> 5
A28: 1909006 | B28: Madrid | C28: 76 | D28: 14.5 | E28: =IFERROR(INDEX(TARIFAS!$F$1:$L$31,MATCH(C28,TARIFAS!$E:$E,1),INDEX(TARIFAS!$B:$B,MATCH(B28,TARIFAS!$A:$A,0))),"") -> 12.493 | K28: =VLOOKUP(B28,TARIFAS!$A$1:$B$48,2,FALSE) -> 3
A29: 1909096 | B29: Vitoria | C29: 593 | D29: 40 | E29: =IFERROR(INDEX(TARIFAS!$F$1:$L$31,MATCH(C29,TARIFAS!$E:$E,1),INDEX(TARIFAS!$B:$B,MATCH(B29,TARIFAS!$A:$A,0))),"") -> 54.769 | K29: =VLOOKUP(B29,TARIFAS!$A$1:$B$48,2,FALSE) -> 3
A30: 1909045 | B30: Lleida | C30: 1737 | D30: 80 | E30: =IFERROR(INDEX(TARIFAS!$F$1:$L$31,MATCH(C30,TARIFAS!$E:$E,1),INDEX(TARIFAS!$B:$B,MATCH(B30,TARIFAS!$A:$A,0))),"") -> 43.992 | K30: =VLOOKUP(B30,TARIFAS!$A$1:$B$48,2,FALSE) -> 1
A31: 1909093 | B31: Lleida | C31: 611 | D31: 80 | E31: =IFERROR(INDEX(TARIFAS!$F$1:$L$31,MATCH(C31,TARIFAS!$E:$E,1),INDEX(TARIFAS!$B:$B,MATCH(B31,TARIFAS!$A:$A,0))),"") -> 30.156 | K31: =VLOOKUP(B31,TARIFAS!$A$1:$B$48,2,FALSE) -> 1
A32: 1909105 | B32: Lleida | C32: 72 | D32: 14.5 | E32: =IFERROR(INDEX(TARIFAS!$F$1:$L$31,MATCH(C32,TARIFAS!$E:$E,1),INDEX(TARIFAS!$B:$B,MATCH(B32,TARIFAS!$A:$A,0))),"") -> 9.178 | K32: =VLOOKUP(B32,TARIFAS!$A$1:$B$48,2,FALSE) -> 1
A33: 1909125 | B33: Logroño | C33: 782 | D33: 40 | E33: =IFERROR(INDEX(TARIFAS!$F$1:$L$31,MATCH(C33,TARIFAS!$E:$E,1),INDEX(TARIFAS!$B:$B,MATCH(B33,TARIFAS!$A:$A,0))),"") -> 64.176 | K33: =VLOOKUP(B33,TARIFAS!$A$1:$B$48,2,FALSE) -> 3
A34: 1909099 | B34: Santander | C34: 180 | D34: 40 | E34: =IFERROR(INDEX(TARIFAS!$F$1:$L$31,MATCH(C34,TARIFAS!$E:$E,1),INDEX(TARIFAS!$B:$B,MATCH(B34,TARIFAS!$A:$A,0))),"") -> 29.601 | K34: =VLOOKUP(B34,TARIFAS!$A$1:$B$48,2,FALSE) -> 5
A35: 1909055 | B35: Tarragona | C35: 9 | D35: 7.5 | E35: 5.86 | K35: =VLOOKUP(B35,TARIFAS!$A$1:$B$48,2,FALSE) -> 2
A36: 1909008 | B36: Teruel | C36: 1219 | D36: 48 | E36: =IFERROR(INDEX(TARIFAS!$F$1:$L$31,MATCH(C36,TARIFAS!$E:$E,1),INDEX(TARIFAS!$B:$B,MATCH(B36,TARIFAS!$A:$A,0))),"") -> 109.068 | K36: =VLOOKUP(B36,TARIFAS!$A$1:$B$48,2,FALSE) -> 5
A37: 1908846 | B37: Madrid | C37: 756 | D37: 80 | E37: =IFERROR(INDEX(TARIFAS!$F$1:$L$31,MATCH(C37,TARIFAS!$E:$E,1),INDEX(TARIFAS!$B:$B,MATCH(B37,TARIFAS!$A:$A,0))),"") -> 64.176 | K37: =VLOOKUP(B37,TARIFAS!$A$1:$B$48,2,FALSE) -> 3
A38: 1909124 | B38: Madrid | C38: 1564 | D38: 80 | E38: =IFERROR(INDEX(TARIFAS!$F$1:$L$31,MATCH(C38,TARIFAS!$E:$E,1),INDEX(TARIFAS!$B:$B,MATCH(B38,TARIFAS!$A:$A,0))),"") -> 87.348 | K38: =VLOOKUP(B38,TARIFAS!$A$1:$B$48,2,FALSE) -> 3
A39: 1909208 | B39: Alicante | C39: 16 | D39: 7.5 | E39: =IFERROR(INDEX(TARIFAS!$F$1:$L$31,MATCH(C39,TARIFAS!$E:$E,1),INDEX(TARIFAS!$B:$B,MATCH(B39,TARIFAS!$A:$A,0))),"") -> 4.966 | K39: =VLOOKUP(B39,TARIFAS!$A$1:$B$48,2,FALSE) -> 3
A40: 1909231 | B40: Badajoz | C40: 226 | D40: 40 | E40: =IFERROR(INDEX(TARIFAS!$F$1:$L$31,MATCH(C40,TARIFAS!$E:$E,1),INDEX(TARIFAS!$B:$B,MATCH(B40,TARIFAS!$A:$A,0))),"") -> 31.876 | K40: =VLOOKUP(B40,TARIFAS!$A$1:$B$48,2,FALSE) -> 5
A41: 1909209 | B41: Ciudad Real | C41: 17 | D41: 7.5 | E41: =IFERROR(INDEX(TARIFAS!$F$1:$L$31,MATCH(C41,TARIFAS!$E:$E,1),INDEX(TARIFAS!$B:$B,MATCH(B41,TARIFAS!$A:$A,0))),"") -> 6.058 | K41: =VLOOKUP(B41,TARIFAS!$A$1:$B$48,2,FALSE) -> 5
A42: 1909235 | B42: Girona | C42: 15 | D42: 7.5 | E42: =IFERROR(INDEX(TARIFAS!$F$1:$L$31,MATCH(C42,TARIFAS!$E:$E,1),INDEX(TARIFAS!$B:$B,MATCH(B42,TARIFAS!$A:$A,0))),"") -> 5.863 | K42: =VLOOKUP(B42,TARIFAS!$A$1:$B$48,2,FALSE) -> 2
A43: 1909233 | B43: Pamplona | C43: 19 | D43: 7.5 | E43: =IFERROR(INDEX(TARIFAS!$F$1:$L$31,MATCH(C43,TARIFAS!$E:$E,1),INDEX(TARIFAS!$B:$B,MATCH(B43,TARIFAS!$A:$A,0))),"") -> 4.966 | K43: =VLOOKUP(B43,TARIFAS!$A$1:$B$48,2,FALSE) -> 3
B44: Logroño | C44: 22 | D44: 7.5 | E44: =IFERROR(INDEX(TARIFAS!$F$1:$L$31,MATCH(C44,TARIFAS!$E:$E,1),INDEX(TARIFAS!$B:$B,MATCH(B44,TARIFAS!$A:$A,0))),"") -> 6.409 | K44: =VLOOKUP(B44,TARIFAS!$A$1:$B$48,2,FALSE) -> 3
A45: 1909270 | B45: Valencia | C45: 307 | D45: 40 | E45: =IFERROR(INDEX(TARIFAS!$F$1:$L$31,MATCH(C45,TARIFAS!$E:$E,1),INDEX(TARIFAS!$B:$B,MATCH(B45,TARIFAS!$A:$A,0))),"") -> 34.008 | K45: =VLOOKUP(B45,TARIFAS!$A$1:$B$48,2,FALSE) -> 3
A46: 1909212 | B46: Zaragoza | C46: 10 | D46: 7.5 | E46: =IFERROR(INDEX(TARIFAS!$F$1:$L$31,MATCH(C46,TARIFAS!$E:$E,1),INDEX(TARIFAS!$B:$B,MATCH(B46,TARIFAS!$A:$A,0))),"") -> 5.863 | K46: =VLOOKUP(B46,TARIFAS!$A$1:$B$48,2,FALSE) -> 2
B47: Zaragoza | C47: 12 | D47: 7.5 | E47: =IFERROR(INDEX(TARIFAS!$F$1:$L$31,MATCH(C47,TARIFAS!$E:$E,1),INDEX(TARIFAS!$B:$B,MATCH(B47,TARIFAS!$A:$A,0))),"") -> 5.863 | K47: =VLOOKUP(B47,TARIFAS!$A$1:$B$48,2,FALSE) -> 2
A48: 1909390 | B48: Oviedo | C48: 6 | D48: 7.5 | E48: =IFERROR(INDEX(TARIFAS!$F$1:$L$31,MATCH(C48,TARIFAS!$E:$E,1),INDEX(TARIFAS!$B:$B,MATCH(B48,TARIFAS!$A:$A,0))),"") -> 0 | K48: =VLOOKUP(B48,TARIFAS!$A$1:$B$48,2,FALSE) -> 4
A49: 1909398 | B49: Burgos | C49: 72 | D49: 14.5 | E49: =IFERROR(INDEX(TARIFAS!$F$1:$L$31,MATCH(C49,TARIFAS!$E:$E,1),INDEX(TARIFAS!$B:$B,MATCH(B49,TARIFAS!$A:$A,0))),"") -> 12.493 | K49: =VLOOKUP(B49,TARIFAS!$A$1:$B$48,2,FALSE) -> 3
A50: 1909197 | B50: Logroño | C50: 58 | D50: 14.5 | E50: =IFERROR(INDEX(TARIFAS!$F$1:$L$31,MATCH(C50,TARIFAS!$E:$E,1),INDEX(TARIFAS!$B:$B,MATCH(B50,TARIFAS!$A:$A,0))),"") -> 10.179 | K50: =VLOOKUP(B50,TARIFAS!$A$1:$B$48,2,FALSE) -> 3
A51: 1909310 | B51: Tarragona | C51: 20 | D51: 7.5 | E51: =IFERROR(INDEX(TARIFAS!$F$1:$L$31,MATCH(C51,TARIFAS!$E:$E,1),INDEX(TARIFAS!$B:$B,MATCH(B51,TARIFAS!$A:$A,0))),"") -> 6.175 | K51: =VLOOKUP(B51,TARIFAS!$A$1:$B$48,2,FALSE) -> 2
A52: 1909196 | B52: Zaragoza | C52: 12 | D52: 7.5 | E52: =IFERROR(INDEX(TARIFAS!$F$1:$L$31,MATCH(C52,TARIFAS!$E:$E,1),INDEX(TARIFAS!$B:$B,MATCH(B52,TARIFAS!$A:$A,0))),"") -> 5.863 | K52: =VLOOKUP(B52,TARIFAS!$A$1:$B$48,2,FALSE) -> 2
A53: 1909484 | B53: Lleida | C53: 43 | D53: 12.05 | E53: =IFERROR(INDEX(TARIFAS!$F$1:$L$31,MATCH(C53,TARIFAS!$E:$E,1),INDEX(TARIFAS!$B:$B,MATCH(B53,TARIFAS!$A:$A,0))),"") -> 7.072 | K53: =VLOOKUP(B53,TARIFAS!$A$1:$B$48,2,FALSE) -> 1
A54: 1909481 | B54: Logroño | C54: 260 | D54: 40 | E54: =IFERROR(INDEX(TARIFAS!$F$1:$L$31,MATCH(C54,TARIFAS!$E:$E,1),INDEX(TARIFAS!$B:$B,MATCH(B54,TARIFAS!$A:$A,0))),"") -> 30.979 | K54: =VLOOKUP(B54,TARIFAS!$A$1:$B$48,2,FALSE) -> 3
A55: 1909495 | B55: Tarragona | C55: 542 | D55: 40 | E55: =IFERROR(INDEX(TARIFAS!$F$1:$L$31,MATCH(C55,TARIFAS!$E:$E,1),INDEX(TARIFAS!$B:$B,MATCH(B55,TARIFAS!$A:$A,0))),"") -> 41.444 | K55: =VLOOKUP(B55,TARIFAS!$A$1:$B$48,2,FALSE) -> 2
A56: 1909622 | B56: Huesca | C56: 688 | D56: 120 | E56: =IFERROR(INDEX(TARIFAS!$F$1:$L$31,MATCH(C56,TARIFAS!$E:$E,1),INDEX(TARIFAS!$B:$B,MATCH(B56,TARIFAS!$A:$A,0))),"") -> 56.892 | K56: =VLOOKUP(B56,TARIFAS!$A$1:$B$48,2,FALSE) -> 3
A57: 1909551 | B57: Logroño | C57: 50 | D57: 12.05 | E57: =IFERROR(INDEX(TARIFAS!$F$1:$L$31,MATCH(C57,TARIFAS!$E:$E,1),INDEX(TARIFAS!$B:$B,MATCH(B57,TARIFAS!$A:$A,0))),"") -> 10.179 | K57: =VLOOKUP(B57,TARIFAS!$A$1:$B$48,2,FALSE) -> 3
A58: 1909575 | B58: Logroño | C58: 1310 | D58: 80 | E58: =IFERROR(INDEX(TARIFAS!$F$1:$L$31,MATCH(C58,TARIFAS!$E:$E,1),INDEX(TARIFAS!$B:$B,MATCH(B58,TARIFAS!$A:$A,0))),"") -> 87.348 | K58: =VLOOKUP(B58,TARIFAS!$A$1:$B$48,2,FALSE) -> 3
A59: 1909549 | B59: Madrid | C59: 226 | D59: 40 | E59: =IFERROR(INDEX(TARIFAS!$F$1:$L$31,MATCH(C59,TARIFAS!$E:$E,1),INDEX(TARIFAS!$B:$B,MATCH(B59,TARIFAS!$A:$A,0))),"") -> 27.183 | K59: =VLOOKUP(B59,TARIFAS!$A$1:$B$48,2,FALSE) -> 3
... A80: 1910033 | B80: Huesca | C80: 883 | D80: 80 | E80: =IFERROR(INDEX(TARIFAS!$F$1:$L$31,MATCH(C80,TARIFAS!$E:$E,1),INDEX(TARIFAS!$B:$B,MATCH(B80,TARIFAS!$A:$A,0))),"") -> 71.508 | K80: =VLOOKUP(B80,TARIFAS!$A$1:$B$48,2,FALSE) -> 3
A81: 1910068 | B81: Lleida | C81: 7 | D81: 7.5 | E81: 4.94 | K81: =VLOOKUP(B81,TARIFAS!$A$1:$B$48,2,FALSE) -> 1
A82: 1910081 | B82: Logroño | C82: 634 | D82: 40 | E82: =IFERROR(INDEX(TARIFAS!$F$1:$L$31,MATCH(C82,TARIFAS!$E:$E,1),INDEX(TARIFAS!$B:$B,MATCH(B82,TARIFAS!$A:$A,0))),"") -> 56.892 | K82: =VLOOKUP(B82,TARIFAS!$A$1:$B$48,2,FALSE) -> 3
A83: 1910008 | B83: Logroño | C83: 782 | D83: 40 | E83: =IFERROR(INDEX(TARIFAS!$F$1:$L$31,MATCH(C83,TARIFAS!$E:$E,1),INDEX(TARIFAS!$B:$B,MATCH(B83,TARIFAS!$A:$A,0))),"") -> 64.176 | K83: =VLOOKUP(B83,TARIFAS!$A$1:$B$48,2,FALSE) -> 3
A84: 1910086 | B84: Madrid | C84: 280 | D84: 40 | E84: =IFERROR(INDEX(TARIFAS!$F$1:$L$31,MATCH(C84,TARIFAS!$E:$E,1),INDEX(TARIFAS!$B:$B,MATCH(B84,TARIFAS!$A:$A,0))),"") -> 30.979 | K84: =VLOOKUP(B84,TARIFAS!$A$1:$B$48,2,FALSE) -> 3
A85: 1910073 | B85: Madrid | C85: 1108 | D85: 80 | E85: =IFERROR(INDEX(TARIFAS!$F$1:$L$31,MATCH(C85,TARIFAS!$E:$E,1),INDEX(TARIFAS!$B:$B,MATCH(B85,TARIFAS!$A:$A,0))),"") -> 87.348 | K85: =VLOOKUP(B85,TARIFAS!$A$1:$B$48,2,FALSE) -> 3
A86: 1910140 | B86: Almeria | C86: 378 | D86: 40 | E86: =IFERROR(INDEX(TARIFAS!$F$1:$L$31,MATCH(C86,TARIFAS!$E:$E,1),INDEX(TARIFAS!$B:$B,MATCH(B86,TARIFAS!$A:$A,0))),"") -> 47.866 | K86: =VLOOKUP(B86,TARIFAS!$A$1:$B$48,2,FALSE) -> 5
A87: 1910066 | B87: Castellón | C87: 64 | D87: 14.5 | E87: =IFERROR(INDEX(TARIFAS!$F$1:$L$31,MATCH(C87,TARIFAS!$E:$E,1),INDEX(TARIFAS!$B:$B,MATCH(B87,TARIFAS!$A:$A,0))),"") -> 11.128 | K87: =VLOOKUP(B87,TARIFAS!$A$1:$B$48,2,FALSE) -> 3
A88: 1909884 | B88: Castellón | C88: 203 | D88: 40 | E88: =IFERROR(INDEX(TARIFAS!$F$1:$L$31,MATCH(C88,TARIFAS!$E:$E,1),INDEX(TARIFAS!$B:$B,MATCH(B88,TARIFAS!$A:$A,0))),"") -> 27.183 | K88: =VLOOKUP(B88,TARIFAS!$A$1:$B$48,2,FALSE) -> 3
A89: 1910191 | B89: Huesca | C89: 421 | D89: 80 | E89: =IFERROR(INDEX(TARIFAS!$F$1:$L$31,MATCH(C89,TARIFAS!$E:$E,1),INDEX(TARIFAS!$B:$B,MATCH(B89,TARIFAS!$A:$A,0))),"") -> 43.953 | K89: =VLOOKUP(B89,TARIFAS!$A$1:$B$48,2,FALSE) -> 3
A90: 1910130 | B90: Huesca | C90: 115 | D90: 19.66 | E90: =IFERROR(INDEX(TARIFAS!$F$1:$L$31,MATCH(C90,TARIFAS!$E:$E,1),INDEX(TARIFAS!$B:$B,MATCH(B90,TARIFAS!$A:$A,0))),"") -> 16.965 | K90: =VLOOKUP(B90,TARIFAS!$A$1:$B$48,2,FALSE) -> 3
A91: 1910194 | B91: Lleida | C91: 119 | D91: 19.66 | E91: =IFERROR(INDEX(TARIFAS!$F$1:$L$31,MATCH(C91,TARIFAS!$E:$E,1),INDEX(TARIFAS!$B:$B,MATCH(B91,TARIFAS!$A:$A,0))),"") -> 13.026 | K91: =VLOOKUP(B91,TARIFAS!$A$1:$B$48,2,FALSE) -> 1
A92: 1910204 | B92: Lleida | C92: 319 | D92: 40 | E92: =IFERROR(INDEX(TARIFAS!$F$1:$L$31,MATCH(C92,TARIFAS!$E:$E,1),INDEX(TARIFAS!$B:$B,MATCH(B92,TARIFAS!$A:$A,0))),"") -> 20.761 | K92: =VLOOKUP(B92,TARIFAS!$A$1:$B$48,2,FALSE) -> 1
A93: 1910126 | B93: Santander | C93: 1076 | D93: 48 | E93: =IFERROR(INDEX(TARIFAS!$F$1:$L$31,MATCH(C93,TARIFAS!$E:$E,1),INDEX(TARIFAS!$B:$B,MATCH(B93,TARIFAS!$A:$A,0))),"") -> 109.068 | K93: =VLOOKUP(B93,TARIFAS!$A$1:$B$48,2,FALSE) -> 5
... A95: 1910195 | B95: Zaragoza | C95: 14 | D95: 7.5 | E95: =IFERROR(INDEX(TARIFAS!$F$1:$L$31,MATCH(C95,TARIFAS!$E:$E,1),INDEX(TARIFAS!$B:$B,MATCH(B95,TARIFAS!$A:$A,0))),"") -> 5.863 | K95: =VLOOKUP(B95,TARIFAS!$A$1:$B$48,2,FALSE) -> 2
A96: 1910235 | B96: Lleida | C96: 7 | D96: 7.5 | E96: 4.94 | K96: =VLOOKUP(B96,TARIFAS!$A$1:$B$48,2,FALSE) -> 1
A97: 1910317 | B97: Lleida | C97: 30 | D97: 12.05 | E97: =IFERROR(INDEX(TARIFAS!$F$1:$L$31,MATCH(C97,TARIFAS!$E:$E,1),INDEX(TARIFAS!$B:$B,MATCH(B97,TARIFAS!$A:$A,0))),"") -> 6.747 | K97: =VLOOKUP(B97,TARIFAS!$A$1:$B$48,2,FALSE) -> 1
A98: 1910320 | B98: Logroño | C98: 680 | D98: 40 | E98: =IFERROR(INDEX(TARIFAS!$F$1:$L$31,MATCH(C98,TARIFAS!$E:$E,1),INDEX(TARIFAS!$B:$B,MATCH(B98,TARIFAS!$A:$A,0))),"") -> 56.892 | K98: =VLOOKUP(B98,TARIFAS!$A$1:$B$48,2,FALSE) -> 3
A99: 1910313 | B99: Logroño | C99: 1989 | D99: 160 | E99: =IFERROR(INDEX(TARIFAS!$F$1:$L$31,MATCH(C99,TARIFAS!$E:$E,1),INDEX(TARIFAS!$B:$B,MATCH(B99,TARIFAS!$A:$A,0))),"") -> 87.348 | K99: =VLOOKUP(B99,TARIFAS!$A$1:$B$48,2,FALSE) -> 3
A100: 1910323 | B100: Murcia | C100: 1 | D100: 7.5 | E100: =IFERROR(INDEX(TARIFAS!$F$1:$L$31,MATCH(C100,TARIFAS!$E:$E,1),INDEX(TARIFAS!$B:$B,MATCH(B100,TARIFAS!$A:$A,0))),"") | K100: =VLOOKUP(B100,TARIFAS!$A$1:$B$48,2,FALSE) -> 4
B101: Madrid | C101: 752 | D101: 40 | E101: =IFERROR(INDEX(TARIFAS!$F$1:$L$31,MATCH(C101,TARIFAS!$E:$E,1),INDEX(TARIFAS!$B:$B,MATCH(B101,TARIFAS!$A:$A,0))),"") -> 64.176 | K101: =VLOOKUP(B101,TARIFAS!$A$1:$B$48,2,FALSE) -> 3
A102: 1910485 | B102: Huesca | C102: 963 | D102: 160 | E102: =IFERROR(INDEX(TARIFAS!$F$1:$L$31,MATCH(C102,TARIFAS!$E:$E,1),INDEX(TARIFAS!$B:$B,MATCH(B102,TARIFAS!$A:$A,0))),"") -> 79.212 | K102: =VLOOKUP(B102,TARIFAS!$A$1:$B$48,2,FALSE) -> 3
A103: 1910498 | B103: Huesca | C103: 97 | D103: 14.5 | E103: =IFERROR(INDEX(TARIFAS!$F$1:$L$31,MATCH(C103,TARIFAS!$E:$E,1),INDEX(TARIFAS!$B:$B,MATCH(B103,TARIFAS!$A:$A,0))),"") -> 16.666 | K103: =VLOOKUP(B103,TARIFAS!$A$1:$B$48,2,FALSE) -> 3
A104: 1910157 | B104: Logroño | C104: 440 | D104: 40 | E104: =IFERROR(INDEX(TARIFAS!$F$1:$L$31,MATCH(C104,TARIFAS!$E:$E,1),INDEX(TARIFAS!$B:$B,MATCH(B104,TARIFAS!$A:$A,0))),"") -> 43.953 | K104: =VLOOKUP(B104,TARIFAS!$A$1:$B$48,2,FALSE) -> 3
A105: 1910339 | B105: Logroño | C105: 7 | D105: 7.5 | E105: 4.97 | K105: =VLOOKUP(B105,TARIFAS!$A$1:$B$48,2,FALSE) -> 3
A106: 1910493 | B106: Logroño | C106: 782 | D106: 40 | E106: =IFERROR(INDEX(TARIFAS!$F$1:$L$31,MATCH(C106,TARIFAS!$E:$E,1),INDEX(TARIFAS!$B:$B,MATCH(B106,TARIFAS!$A:$A,0))),"") -> 64.176 | K106: =VLOOKUP(B106,TARIFAS!$A$1:$B$48,2,FALSE) -> 3
A107: 1910490 | B107: Teruel | C107: 552 | D107: 40 | E107: =IFERROR(INDEX(TARIFAS!$F$1:$L$31,MATCH(C107,TARIFAS!$E:$E,1),INDEX(TARIFAS!$B:$B,MATCH(B107,TARIFAS!$A:$A,0))),"") -> 66.521 | K107: =VLOOKUP(B107,TARIFAS!$A$1:$B$48,2,FALSE) -> 5
A108: 1910492 | B108: Valencia | C108: 382 | D108: 40 | E108: =IFERROR(INDEX(TARIFAS!$F$1:$L$31,MATCH(C108,TARIFAS!$E:$E,1),INDEX(TARIFAS!$B:$B,MATCH(B108,TARIFAS!$A:$A,0))),"") -> 39.624 | K108: =VLOOKUP(B108,TARIFAS!$A$1:$B$48,2,FALSE) -> 3
A109: 1910314 | B109: Madrid | C109: 1018 | D109: 48 | E109: =IFERROR(INDEX(TARIFAS!$F$1:$L$31,MATCH(C109,TARIFAS!$E:$E,1),INDEX(TARIFAS!$B:$B,MATCH(B109,TARIFAS!$A:$A,0))),"") -> 87.348 | K109: =VLOOKUP(B109,TARIFAS!$A$1:$B$48,2,FALSE) -> 3
A110: 1910488 | B110: Leon | C110: 670 | D110: 40 | E110: =IFERROR(INDEX(TARIFAS!$F$1:$L$31,MATCH(C110,TARIFAS!$E:$E,1),INDEX(TARIFAS!$B:$B,MATCH(B110,TARIFAS!$A:$A,0))),"") -> 69.924 | K110: =VLOOKUP(B110,TARIFAS!$A$1:$B$48,2,FALSE) -> 5
A111: 1910601 | B111: Barcelona | C111: 157 | D111: 40 | E111: =IFERROR(INDEX(TARIFAS!$F$1:$L$31,MATCH(C111,TARIFAS!$E:$E,1),INDEX(TARIFAS!$B:$B,MATCH(B111,TARIFAS!$A:$A,0))),"") -> 18.135 | K111: =VLOOKUP(B111,TARIFAS!$A$1:$B$48,2,FALSE) -> 2
A112: 1910587 | B112: Logroño | C112: 70 | D112: 14.5 | E112: =IFERROR(INDEX(TARIFAS!$F$1:$L$31,MATCH(C112,TARIFAS!$E:$E,1),INDEX(TARIFAS!$B:$B,MATCH(B112,TARIFAS!$A:$A,0))),"") -> 12.493 | K112: =VLOOKUP(B112,TARIFAS!$A$1:$B$48,2,FALSE) -> 3
A113: 1910594 | B113: Logroño | C113: 208 | D113: 40 | E113: =IFERROR(INDEX(TARIFAS!$F$1:$L$31,MATCH(C113,TARIFAS!$E:$E,1),INDEX(TARIFAS!$B:$B,MATCH(B113,TARIFAS!$A:$A,0))),"") -> 27.183 | K113: =VLOOKUP(B113,TARIFAS!$A$1:$B$48,2,FALSE) -> 3
A114: 1910604 | B114: Barcelona | C114: 57 | D114: 14.5 | E114: =IFERROR(INDEX(TARIFAS!$F$1:$L$31,MATCH(C114,TARIFAS!$E:$E,1),INDEX(TARIFAS!$B:$B,MATCH(B114,TARIFAS!$A:$A,0))),"") -> 8.84 | K114: =VLOOKUP(B114,TARIFAS!$A$1:$B$48,2,FALSE) -> 2
A115: 1910064 | B115: Toledo | C115: 1564 | D115: 80 | E115: =IFERROR(INDEX(TARIFAS!$F$1:$L$31,MATCH(C115,TARIFAS!$E:$E,1),INDEX(TARIFAS!$B:$B,MATCH(B115,TARIFAS!$A:$A,0))),"") -> 109.068 | K115: =VLOOKUP(B115,TARIFAS!$A$1:$B$48,2,FALSE) -> 5
A116: 1910591 | B116: Madrid | C116: 782 | D116: 40 | E116: =IFERROR(INDEX(TARIFAS!$F$1:$L$31,MATCH(C116,TARIFAS!$E:$E,1),INDEX(TARIFAS!$B:$B,MATCH(B116,TARIFAS!$A:$A,0))),"") -> 64.176 | K116: =VLOOKUP(B116,TARIFAS!$A$1:$B$48,2,FALSE) -> 3
A117: 1910602 | B117: Madrid | C117: 36 | D117: 12.05 | E117: =IFERROR(INDEX(TARIFAS!$F$1:$L$31,MATCH(C117,TARIFAS!$E:$E,1),INDEX(TARIFAS!$B:$B,MATCH(B117,TARIFAS!$A:$A,0))),"") -> 7.982 | K117: =VLOOKUP(B117,TARIFAS!$A$1:$B$48,2,FALSE) -> 3
... A119: 1910692 | B119: Lleida | C119: 632 | D119: 40 | E119: =IFERROR(INDEX(TARIFAS!$F$1:$L$31,MATCH(C119,TARIFAS!$E:$E,1),INDEX(TARIFAS!$B:$B,MATCH(B119,TARIFAS!$A:$A,0))),"") -> 30.156 | K119: =VLOOKUP(B119,TARIFAS!$A$1:$B$48,2,FALSE) -> 1
B120: Lleida | C120: 252 | D120: 40 | E120: =IFERROR(INDEX(TARIFAS!$F$1:$L$31,MATCH(C120,TARIFAS!$E:$E,1),INDEX(TARIFAS!$B:$B,MATCH(B120,TARIFAS!$A:$A,0))),"") -> 17.81 | K120: =VLOOKUP(B120,TARIFAS!$A$1:$B$48,2,FALSE) -> 1
A121: 1910680 | B121: Logroño | C121: 270 | D121: 40 | E121: =IFERROR(INDEX(TARIFAS!$F$1:$L$31,MATCH(C121,TARIFAS!$E:$E,1),INDEX(TARIFAS!$B:$B,MATCH(B121,TARIFAS!$A:$A,0))),"") -> 30.979 | K121: =VLOOKUP(B121,TARIFAS!$A$1:$B$48,2,FALSE) -> 3
A122: 1910707 | B122: Logroño | C122: 180 | D122: 40 | E122: =IFERROR(INDEX(TARIFAS!$F$1:$L$31,MATCH(C122,TARIFAS!$E:$E,1),INDEX(TARIFAS!$B:$B,MATCH(B122,TARIFAS!$A:$A,0))),"") -> 25.48 | K122: =VLOOKUP(B122,TARIFAS!$A$1:$B$48,2,FALSE) -> 3
A123: 1910706 | B123: Pamplona | C123: 60 | D123: 14.5 | E123: =IFERROR(INDEX(TARIFAS!$F$1:$L$31,MATCH(C123,TARIFAS!$E:$E,1),INDEX(TARIFAS!$B:$B,MATCH(B123,TARIFAS!$A:$A,0))),"") -> 11.128 | K123: =VLOOKUP(B123,TARIFAS!$A$1:$B$48,2,FALSE) -> 3
...

Sheet TARIFAS
A1: ALBACETE | B1: 5 | E1: KILOS | F1: 1 | G1: 2 | H1: 3 | I1: 4 | J1: 5 | K1: 6 | L1: 7
A2: ALICANTE | B2: 3 | E2: 5
A3: ALMERIA | B3: 5 | E3: 10 | F3: 4.94 | G3: 5.863 | H3: 4.966 | I3: 5.005 | J3: 6.058 | K3: 6.656 | L3: 9.828
A4: AVILA | B4: 4 | E4: 20 | F4: 5.941 | G4: 6.175 | H4: 6.409 | I4: 6.526 | J4: 6.877 | K4: 7.566 | L4: 10.998
A5: BADAJOZ | B5: 5 | E5: 30 | F5: 6.747 | G5: 7.176 | H5: 7.982 | I5: 8.125 | J5: 8.684 | K5: 9.542 | L5: 12.597
A6: BARCELONA | B6: 2 | E6: 40 | F6: 7.072 | G6: 8.268 | H6: 9.334 | I6: 9.542 | J6: 10.283 | K6: 11.31 | L6: 13.832
A7: BILBAO | B7: 3 | E7: 50 | F7: 7.501 | G7: 8.84 | H7: 10.179 | I7: 10.452 | J7: 11.349 | K7: 12.48 | L7: 16.926
A8: BURGOS | B8: 3 | E8: 60 | F8: 8.307 | G8: 9.542 | H8: 11.128 | I8: 11.453 | J8: 12.545 | K8: 13.793 | L8: 18.655
A9: CACERES | B9: 5 | E9: 70 | F9: 9.178 | G9: 10.621 | H9: 12.493 | I9: 12.987 | J9: 14.144 | K9: 15.561 | L9: 21.242
A10: CADIZ | B10: 5 | E10: 80 | F10: 9.919 | G10: 11.804 | H10: 13.923 | I10: 14.313 | J10: 15.821 | K10: 17.394 | L10: 23.595
A11: CASTELLÓN | B11: 3 | E11: 90 | F11: 11.05 | G11: 13.143 | H11: 16.666 | I11: 17.147 | J11: 18.772 | K11: 20.644 | L11: 0
A12: CIUDAD REAL | B12: 5 | E12: 100 | F12: 13.026 | G12: 14.326 | H12: 16.965 | I12: 17.485 | J12: 19.305 | K12: 21.229 | L12: 0
A13: A CORUÑA | B13: 5 | E13: 120 | F13: 13.572 | G13: 16.965 | H13: 20.293 | I13: 20.956 | J13: 23.244 | K13: 25.584 | L13: 0
A14: CUENCA | B14: 5 | E14: 140 | F14: 15.535 | G14: 18.135 | H14: 22.126 | I14: 22.945 | J14: 25.649 | K14: 28.21 | L14: 0
... A30: PALENCIA | B30: 4 | E30: 3000 | F30: 31.4588 | G30: 43.6836 | H30: 71.095 | I30: 75.6498 | J30: 90.5178 | K30: 99.5684 | L30: 11.918
A31: PAMPLONA | B31: 3 | E31: >3000 | F31: 29.5665 | G31: 41.814 | H31: 68.1375 | I31: 72.4615 | J31: 87.055 | K31: 95.7605 | L31: 11.4425
A32: SALAMANCA | B32: 4
A33: S.SEBASTIAN | B33: 3
A34: SANTIAGO | B34: 5
A35: SANTANDER | B35: 5
A36: SEGOVIA | B36: 4
A37: TARRAGONA | B37: 2
A38: TERUEL | B38: 5
A39: TOLEDO | B39: 5
A40: VALENCIA | B40: 3
A41: VALLADOLID | B41: 4
A42: VIGO | B42: 5
A43: VITORIA | B43: 3
... A48: MADRID | B48: 3
