Workbook

Sheet ALBARANS
A2: Nº ALBARAN | B2: Provincia | C2: Kilos | D2: Precio Antiguo | E2: Precio Nuevo | K2: Destino
A3: 1908631 | B3: Ciudad Real | C3: 42 | D3: 12.05 | E3: =IFERROR(INDEX(TARIFAS!$F$1:$L$31,MATCH(C3,TARIFAS!$E:$E,1),INDEX(TARIFAS!$B:$B,MATCH(B3,TARIFAS!$A:$A,0))),"") -> 10.283 | K3: =VLOOKUP(B3,TARIFAS!$A$1:$B$48,2,FALSE) -> 5
A4: 1908629 | B4: Huesca | C4: 420 | D4: 80 | E4: =IFERROR(INDEX(TARIFAS!$F$1:$L$31,MATCH(C4,TARIFAS!$E:$E,1),INDEX(TARIFAS!$B:$B,MATCH(B4,TARIFAS!$A:$A,0))),"") -> 43.953 | K4: =VLOOKUP(B4,TARIFAS!$A$1:$B$48,2,FALSE) -> 3
A5: 1908630 | B5: Logroño | C5: 1219 | D5: 48 | E5: =IFERROR(INDEX(TARIFAS!$F$1:$L$31,MATCH(C5,TARIFAS!$E:$E,1),INDEX(TARIFAS!$B:$B,MATCH(B5,TARIFAS!$A:$A,0))),"") -> 87.348 | K5: =VLOOKUP(B5,TARIFAS!$A$1:$B$48,2,FALSE) -> 3
A6: 1908585 | B6: Logroño | C6: 50 | D6: 12.05 | E6: =IFERROR(INDEX(TARIFAS!$F$1:$L$31,MATCH(C6,TARIFAS!$E:$E,1),INDEX(TARIFAS!$B:$B,MATCH(B6,TARIFAS!$A:$A,0))),"") -> 10.179 | K6: =VLOOKUP(B6,TARIFAS!$A$1:$B$48,2,FALSE) -> 3
A7: 1908586 | B7: Logroño | C7: 15 | D7: 7.5 | E7: =IFERROR(INDEX(TARIFAS!$F$1:$L$31,MATCH(C7,TARIFAS!$E:$E,1),INDEX(TARIFAS!$B:$B,MATCH(B7,TARIFAS!$A:$A,0))),"") -> 4.966 | K7: =VLOOKUP(B7,TARIFAS!$A$1:$B$48,2,FALSE) -> 3
A8: 1908680 | B8: Madrid | C8: 253 | D8: 40 | E8: =IFERROR(INDEX(TARIFAS!$F$1:$L$31,MATCH(C8,TARIFAS!$E:$E,1),INDEX(TARIFAS!$B:$B,MATCH(B8,TARIFAS!$A:$A,0))),"") -> 30.979 | K8: =VLOOKUP(B8,TARIFAS!$A$1:$B$48,2,FALSE) -> 3
A9: 1908387 | B9: Toledo | C9: 944 | D9: 80 | E9: =IFERROR(INDEX(TARIFAS!$F$1:$L$31,MATCH(C9,TARIFAS!$E:$E,1),INDEX(TARIFAS!$B:$B,MATCH(B9,TARIFAS!$A:$A,0))),"") -> 98.748 | F9: Devrait être | G9: 109.068 | K9: =VLOOKUP(B9,TARIFAS!$A$1:$B$48,2,FALSE) -> 5
A10: . | B10: Caceres | C10: 178 | D10: 40 | E10: =IFERROR(INDEX(TARIFAS!$F$1:$L$31,MATCH(C10,TARIFAS!$E:$E,1),INDEX(TARIFAS!$B:$B,MATCH(B10,TARIFAS!$A:$A,0))),"") -> 29.601 | K10: =VLOOKUP(B10,TARIFAS!$A$1:$B$48,2,FALSE) -> 5
A11: 1908759 | B11: Lleida | C11: 452 | D11: 40 | E11: =IFERROR(INDEX(TARIFAS!$F$1:$L$31,MATCH(C11,TARIFAS!$E:$E,1),INDEX(TARIFAS!$B:$B,MATCH(B11,TARIFAS!$A:$A,0))),"") -> 27.976 | K11: =VLOOKUP(B11,TARIFAS!$A$1:$B$48,2,FALSE) -> 1
A12: 1908784 | B12: Logroño | C12: 708 | D12: 40 | E12: =IFERROR(INDEX(TARIFAS!$F$1:$L$31,MATCH(C12,TARIFAS!$E:$E,1),INDEX(TARIFAS!$B:$B,MATCH(B12,TARIFAS!$A:$A,0))),"") -> 64.176 | K12: =VLOOKUP(B12,TARIFAS!$A$1:$B$48,2,FALSE) -> 3
A13: 1908760 | B13: Toledo | C13: 254 | D13: 40 | E13: =IFERROR(INDEX(TARIFAS!$F$1:$L$31,MATCH(C13,TARIFAS!$E:$E,1),INDEX(TARIFAS!$B:$B,MATCH(B13,TARIFAS!$A:$A,0))),"") -> 36.855 | K13: =VLOOKUP(B13,TARIFAS!$A$1:$B$48,2,FALSE) -> 5
A14: 1908805 | B14: Madrid | C14: 144 | D14: 40 | E14: =IFERROR(INDEX(TARIFAS!$F$1:$L$31,MATCH(C14,TARIFAS!$E:$E,1),INDEX(TARIFAS!$B:$B,MATCH(B14,TARIFAS!$A:$A,0))),"") -> 22.126 | K14: =VLOOKUP(B14,TARIFAS!$A$1:$B$48,2,FALSE) -> 3
A15: . | B15: Lleida | D15: 120 | E15: =IFERROR(INDEX(TARIFAS!$F$1:$L$31,MATCH(C15,TARIFAS!$E:$E,1),INDEX(TARIFAS!$B:$B,MATCH(B15,TARIFAS!$A:$A,0))),"") | K15: =VLOOKUP(B15,TARIFAS!$A$1:$B$48,2,FALSE) -> 1
A16: 1908881 | B16: Lleida | C16: 424 | D16: 40 | E16: =IFERROR(INDEX(TARIFAS!$F$1:$L$31,MATCH(C16,TARIFAS!$E:$E,1),INDEX(TARIFAS!$B:$B,MATCH(B16,TARIFAS!$A:$A,0))),"") -> 24.687 | K16: =VLOOKUP(B16,TARIFAS!$A$1:$B$48,2,FALSE) -> 1
A17: 1908827 | B17: Lleida | C17: 18 | D17: 7.5 | E17: =IFERROR(INDEX(TARIFAS!$F$1:$L$31,MATCH(C17,TARIFAS!$E:$E,1),INDEX(TARIFAS!$B:$B,MATCH(B17,TARIFAS!$A:$A,0))),"") -> 4.94 | K17: =VLOOKUP(B17,TARIFAS!$A$1:$B$48,2,FALSE) -> 1
A18: 1908533 | B18: Lleida | C18: 78 | D18: 14.5 | E18: =IFERROR(INDEX(TARIFAS!$F$1:$L$31,MATCH(C18,TARIFAS!$E:$E,1),INDEX(TARIFAS!$B:$B,MATCH(B18,TARIFAS!$A:$A,0))),"") -> 9.178 | K18: =VLOOKUP(B18,TARIFAS!$A$1:$B$48,2,FALSE) -> 1
A19: 1908856 | B19: Logroño | C19: 168 | D19: 40 | E19: =IFERROR(INDEX(TARIFAS!$F$1:$L$31,MATCH(C19,TARIFAS!$E:$E,1),INDEX(TARIFAS!$B:$B,MATCH(B19,TARIFAS!$A:$A,0))),"") -> 25.48 | K19: =VLOOKUP(B19,TARIFAS!$A$1:$B$48,2,FALSE) -> 3
A20: 1908864 | B20: Pamplona | C20: 22 | D20: 7.5 | E20: =IFERROR(INDEX(TARIFAS!$F$1:$L$31,MATCH(C20,TARIFAS!$E:$E,1),INDEX(TARIFAS!$B:$B,MATCH(B20,TARIFAS!$A:$A,0))),"") -> 6.409 | K20: =VLOOKUP(B20,TARIFAS!$A$1:$B$48,2,FALSE) -> 3
A21: 1908914 | B21: Valencia | C21: 680 | D21: 40 | E21: =IFERROR(INDEX(TARIFAS!$F$1:$L$31,MATCH(C21,TARIFAS!$E:$E,1),INDEX(TARIFAS!$B:$B,MATCH(B21,TARIFAS!$A:$A,0))),"") -> 56.892 | K21: =VLOOKUP(B21,TARIFAS!$A$1:$B$48,2,FALSE) -> 3
A22: 1908915 | B22: Valencia | C22: 1360 | D22: 80 | E22: =IFERROR(INDEX(TARIFAS!$F$1:$L$31,MATCH(C22,TARIFAS!$E:$E,1),INDEX(TARIFAS!$B:$B,MATCH(B22,TARIFAS!$A:$A,0))),"") -> 87.348 | K22: =VLOOKUP(B22,TARIFAS!$A$1:$B$48,2,FALSE) -> 3
A23: 1908926 | B23: Madrid | C23: 66 | D23: 14.5 | E23: =IFERROR(INDEX(TARIFAS!$F$1:$L$31,MATCH(C23,TARIFAS!$E:$E,1),INDEX(TARIFAS!$B:$B,MATCH(B23,TARIFAS!$A:$A,0))),"") -> 11.128 | K23: =VLOOKUP(B23,TARIFAS!$A$1:$B$48,2,FALSE) -> 3
B24: Madrid | C24: 852 | D24: 80 | E24: =IFERROR(INDEX(TARIFAS!$F$1:$L$31,MATCH(C24,TARIFAS!$E:$E,1),INDEX(TARIFAS!$B:$B,MATCH(B24,TARIFAS!$A:$A,0))),"") -> 71.508 | K24: =VLOOKUP(B24,TARIFAS!$A$1:$B$48,2,FALSE) -> 3
A25: 1909005 | B25: Huesca | C25: 144 | D25: 40 | E25: =IFERROR(INDEX(TARIFAS!$F$1:$L$31,MATCH(C25,TARIFAS!$E:$E,1),INDEX(TARIFAS!$B:$B,MATCH(B25,TARIFAS!$A:$A,0))),"") -> 22.126 | K25: =VLOOKUP(B25,TARIFAS!$A$1:$B$48,2,FALSE) -> 3
A26: 1908984 | B26: Logroño | C26: 208 | D26: 40 | E26: =IFERROR(INDEX(TARIFAS!$F$1:$L$31,MATCH(C26,TARIFAS!$E:$E,1),INDEX(TARIFAS!$B:$B,MATCH(B26,TARIFAS!$A:$A,0))),"") -> 27.183 | K26: =VLOOKUP(B26,TARIFAS!$A$1:$B$48,2,FALSE) -> 3
B27: Teruel | C27: 555 | D27: 40 | E27: =IFERROR(INDEX(TARIFAS!$F$1:$L$31,MATCH(C27,TARIFAS!$E:$E,1),INDEX(TARIFAS!$B:$B,MATCH(B27,TARIFAS!$A:$A,0))),"") -> 66.521 | K27: =VLOOKUP(B27,TARIFAS!$A$1:$B$48,2,FALSE) -> 5
A28: 1909006 | B28: Madrid | C28: 76 | D28: 14.5 | E28: =IFERROR(INDEX(TARIFAS!$F$1:$L$31,MATCH(C28,TARIFAS!$E:$E,1),INDEX(TARIFAS!$B:$B,MATCH(B28,TARIFAS!$A:$A,0))),"") -> 12.493 | K28: =VLOOKUP(B28,TARIFAS!$A$1:$B$48,2,FALSE) -> 3
A29: 1909096 | B29: Vitoria | C29: 593 | D29: 40 | E29: =IFERROR(INDEX(TARIFAS!$F$1:$L$31,MATCH(C29,TARIFAS!$E:$E,1),INDEX(TARIFAS!$B:$B,MATCH(B29,TARIFAS!$A:$A,0))),"") -> 54.769 | K29: =VLOOKUP(B29,TARIFAS!$A$1:$B$48,2,FALSE) -> 3
A30: 1909045 | B30: Lleida | C30: 1737 | D30: 80 | E30: =IFERROR(INDEX(TARIFAS!$F$1:$L$31,MATCH(C30,TARIFAS!$E:$E,1),INDEX(TARIFAS!$B:$B,MATCH(B30,TARIFAS!$A:$A,0))),"") -> 43.992 | K30: =VLOOKUP(B30,TARIFAS!$A$1:$B$48,2,FALSE) -> 1
A31: 1909093 | B31: Lleida | C31: 611 | D31: 80 | E31: =IFERROR(INDEX(TARIFAS!$F$1:$L$31,MATCH(C31,TARIFAS!$E:$E,1),INDEX(TARIFAS!$B:$B,MATCH(B31,TARIFAS!$A:$A,0))),"") -> 30.156 | K31: =VLOOKUP(B31,TARIFAS!$A$1:$B$48,2,FALSE) -> 1
A32: 1909105 | B32: Lleida | C32: 72 | D32: 14.5 | E32: =IFERROR(INDEX(TARIFAS!$F$1:$L$31,MATCH(C32,TARIFAS!$E:$E,1),INDEX(TARIFAS!$B:$B,MATCH(B32,TARIFAS!$A:$A,0))),"") -> 9.178 | K32: =VLOOKUP(B32,TARIFAS!$A$1:$B$48,2,FALSE) -> 1
A33: 1909125 | B33: Logroño | C33: 782 | D33: 40 | E33: =IFERROR(INDEX(TARIFAS!$F$1:$L$31,MATCH(C33,TARIFAS!$E:$E,1),INDEX(TARIFAS!$B:$B,MATCH(B33,TARIFAS!$A:$A,0))),"") -> 64.176 | K33: =VLOOKUP(B33,TARIFAS!$A$1:$B$48,2,FALSE) -> 3
A34: 1909099 | B34: Santander | C34: 180 | D34: 40 | E34: =IFERROR(INDEX(TARIFAS!$F$1:$L$31,MATCH(C34,TARIFAS!$E:$E,1),INDEX(TARIFAS!$B:$B,MATCH(B34,TARIFAS!$A:$A,0))),"") -> 29.601 | K34: =VLOOKUP(B34,TARIFAS!$A$1:$B$48,2,FALSE) -> 5
A35: 1909055 | B35: Tarragona | C35: 9 | D35: 7.5 | E35: 5.86 | K35: =VLOOKUP(B35,TARIFAS!$A$1:$B$48,2,FALSE) -> 2
A36: 1909008 | B36: Teruel | C36: 1219 | D36: 48 | E36: =IFERROR(INDEX(TARIFAS!$F$1:$L$31,MATCH(C36,TARIFAS!$E:$E,1),INDEX(TARIFAS!$B:$B,MATCH(B36,TARIFAS!$A:$A,0))),"") -> 109.068 | K36: =VLOOKUP(B36,TARIFAS!$A$1:$B$48,2,FALSE) -> 5
A37: 1908846 | B37: Madrid | C37: 756 | D37: 80 | E37: =IFERROR(INDEX(TARIFAS!$F$1:$L$31,MATCH(C37,TARIFAS!$E:$E,1),INDEX(TARIFAS!$B:$B,MATCH(B37,TARIFAS!$A:$A,0))),"") -> 64.176 | K37: =VLOOKUP(B37,TARIFAS!$A$1:$B$48,2,FALSE) -> 3
A38: 1909124 | B38: Madrid | C38: 1564 | D38: 80 | E38: =IFERROR(INDEX(TARIFAS!$F$1:$L$31,MATCH(C38,TARIFAS!$E:$E,1),INDEX(TARIFAS!$B:$B,MATCH(B38,TARIFAS!$A:$A,0))),"") -> 87.348 | K38: =VLOOKUP(B38,TARIFAS!$A$1:$B$48,2,FALSE) -> 3
A39: 1909208 | B39: Alicante | C39: 16 | D39: 7.5 | E39: =IFERROR(INDEX(TARIFAS!$F$1:$L$31,MATCH(C39,TARIFAS!$E:$E,1),INDEX(TARIFAS!$B:$B,MATCH(B39,TARIFAS!$A:$A,0))),"") -> 4.966 | K39: =VLOOKUP(B39,TARIFAS!$A$1:$B$48,2,FALSE) -> 3
A40: 1909231 | B40: Badajoz | C40: 226 | D40: 40 | E40: =IFERROR(INDEX(TARIFAS!$F$1:$L$31,MATCH(C40,TARIFAS!$E:$E,1),INDEX(TARIFAS!$B:$B,MATCH(B40,TARIFAS!$A:$A,0))),"") -> 31.876 | K40: =VLOOKUP(B40,TARIFAS!$A$1:$B$48,2,FALSE) -> 5
A41: 1909209 | B41: Ciudad Real | C41: 17 | D41: 7.5 | E41: =IFERROR(INDEX(TARIFAS!$F$1:$L$31,MATCH(C41,TARIFAS!$E:$E,1),INDEX(TARIFAS!$B:$B,MATCH(B41,TARIFAS!$A:$A,0))),"") -> 6.058 | K41: =VLOOKUP(B41,TARIFAS!$A$1:$B$48,2,FALSE) -> 5
...

Sheet TARIFAS
A1: ALBACETE | B1: 5 | E1: KILOS | F1: 1 | G1: 2 | H1: 3 | I1: 4 | J1: 5 | K1: 6 | L1: 7
A2: ALICANTE | B2: 3 | E2: 5
A3: ALMERIA | B3: 5 | E3: 10 | F3: 4.94 | G3: 5.863 | H3: 4.966 | I3: 5.005 | J3: 6.058 | K3: 6.656 | L3: 9.828
A4: AVILA | B4: 4 | E4: 20 | F4: 5.941 | G4: 6.175 | H4: 6.409 | I4: 6.526 | J4: 6.877 | K4: 7.566 | L4: 10.998
A5: BADAJOZ | B5: 5 | E5: 30 | F5: 6.747 | G5: 7.176 | H5: 7.982 | I5: 8.125 | J5: 8.684 | K5: 9.542 | L5: 12.597
A6: BARCELONA | B6: 2 | E6: 40 | F6: 7.072 | G6: 8.268 | H6: 9.334 | I6: 9.542 | J6: 10.283 | K6: 11.31 | L6: 13.832
A7: BILBAO | B7: 3 | E7: 50 | F7: 7.501 | G7: 8.84 | H7: 10.179 | I7: 10.452 | J7: 11.349 | K7: 12.48 | L7: 16.926
A8: BURGOS | B8: 3 | E8: 60 | F8: 8.307 | G8: 9.542 | H8: 11.128 | I8: 11.453 | J8: 12.545 | K8: 13.793 | L8: 18.655
A9: CACERES | B9: 5 | E9: 70 | F9: 9.178 | G9: 10.621 | H9: 12.493 | I9: 12.987 | J9: 14.144 | K9: 15.561 | L9: 21.242
A10: CADIZ | B10: 5 | E10: 80 | F10: 9.919 | G10: 11.804 | H10: 13.923 | I10: 14.313 | J10: 15.821 | K10: 17.394 | L10: 23.595
A11: CASTELLÓN | B11: 3 | E11: 90 | F11: 11.05 | G11: 13.143 | H11: 16.666 | I11: 17.147 | J11: 18.772 | K11: 20.644 | L11: 0
A12: CIUDAD REAL | B12: 5 | E12: 100 | F12: 13.026 | G12: 14.326 | H12: 16.965 | I12: 17.485 | J12: 19.305 | K12: 21.229 | L12: 0
A13: A CORUÑA | B13: 5 | E13: 120 | F13: 13.572 | G13: 16.965 | H13: 20.293 | I13: 20.956 | J13: 23.244 | K13: 25.584 | L13: 0
A14: CUENCA | B14: 5 | E14: 140 | F14: 15.535 | G14: 18.135 | H14: 22.126 | I14: 22.945 | J14: 25.649 | K14: 28.21 | L14: 0
... A30: PALENCIA | B30: 4 | E30: 3000 | F30: 31.4588 | G30: 43.6836 | H30: 71.095 | I30: 75.6498 | J30: 90.5178 | K30: 99.5684 | L30: 11.918
A31: PAMPLONA | B31: 3 | E31: >3000 | F31: 29.5665 | G31: 41.814 | H31: 68.1375 | I31: 72.4615 | J31: 87.055 | K31: 95.7605 | L31: 11.4425
A32: SALAMANCA | B32: 4
A33: S.SEBASTIAN | B33: 3
A34: SANTIAGO | B34: 5
A35: SANTANDER | B35: 5
A36: SEGOVIA | B36: 4
A37: TARRAGONA | B37: 2
A38: TERUEL | B38: 5
A39: TOLEDO | B39: 5
A40: VALENCIA | B40: 3
A41: VALLADOLID | B41: 4
A42: VIGO | B42: 5
A43: VITORIA | B43: 3
... A48: MADRID | B48: 3
