Workbook

Sheet METHODE 1
E15: REUNION | F15: COURSE | G15: CHEVAL | H15: CHEVAL | I15: CHEVAL | K15: N° PMU | L15: D4
E16: 4 | F16: 2 | G16: 12 | H16: 10
E18: 4 | F18: 3 | G18: 1 | H18: 2
E19: 4 | F19: 3 | G19: 2
E20: 4 | F20: 3 | G20: 6 | H20: 2
E21: 4 | F21: 3 | G21: 9 | H21: 2
E23: 4 | F23: 4 | G23: 7 | H23: 4
E24: 4 | F24: 4 | G24: 11 | H24: 4
E25: 4 | F25: 4 | G25: 16 | H25: 4
E27: 4 | F27: 5 | G27: 3 | H27: 6
E29: 4 | F29: 6 | G29: 5 | H29: 8
E30: 4 | F30: 6 | G30: 6 | H30: 8
E31: 4 | F31: 6 | G31: 8 | H31: 9
E32: 4 | F32: 6 | G32: 10 | H32: 8

Sheet METHODE 2
D15: REUNION | F15: Course | G15: 1 | H15: 2 | I15: 3 | J15: 4 | K15: 5 | L15: 6 | M15: 7 | N15: 8 | O15: 9
D16: 4 | F16: Cheval | G16: 5 | H16: 10 | I16: 6 | J16: 2 | K16: 6 | L16: 8 | M16: 1 | N16: 12
F17: Cote | G17: 2.9 | H17: 3.6 | I17: 3.1 | J17: 3.4 | K17: 2.7 | L17: 3.8 | M17: 3.3 | N17: 2.9
G20: 1 | H20: 2 | I20: 3 | J20: 4 | K20: 5 | L20: 6 | M20: 7 | N20: 8 | O20: 9
F21: Course | G21: =IFERROR(40.32/G17-1,"") -> 12.903448 | H21: =IFERROR(40.32/H17-1,"") -> 10.2 | I21: =IFERROR(40.32/I17-1,"") -> 12.006452 | J21: =IFERROR(40.32/J17-1,"") -> 10.858824 | K21: =IFERROR(40.32/K17-1,"") -> 13.933333 | L21: =IFERROR(40.32/L17-1,"") -> 9.6105263 | M21: =IFERROR(40.32/M17-1,"") -> 11.218182 | N21: =IFERROR(40.32/N17-1,"") -> 12.903448 | O21: =IFERROR(40.32/O17-1,"")
I23: REUNION | J23: COURSE | K23: CHEVAL
I24: 4 | J24: 1 | K24: 5
I25: 4 | J25: 3 | K25: 6
I26: 4 | J26: 8 | K26: 12
D28: REUNION | F28: Course | G28: 1 | H28: 2 | I28: 3 | J28: 4 | K28: 5 | L28: 6 | M28: 7 | N28: 8 | O28: 9
D29: 2 | F29: Cheval | G29: 1 | H29: 2 | I29: 2 | J29: 1 | K29: 8 | L29: 13 | M29: 3 | N29: 4
F30: Cote | G30: 2.1 | H30: 2.3 | I30: 2.6 | J30: 3.2 | K30: 3.2 | L30: 3.4 | M30: 3.7 | N30: 2.4
G33: 1 | H33: 2 | I33: 3 | J33: 4 | K33: 5 | L33: 6 | M33: 7 | N33: 8 | O33: 9
F34: Course | G34: =IFERROR(40.32/G30-1,"") -> 18.2 | H34: =IFERROR(40.32/H30-1,"") -> 16.530435 | I34: =IFERROR(40.32/I30-1,"") -> 14.507692 | J34: =IFERROR(40.32/J30-1,"") -> 11.6 | K34: =IFERROR(40.32/K30-1,"") -> 11.6 | L34: =IFERROR(40.32/L30-1,"") -> 10.858824 | M34: =IFERROR(40.32/M30-1,"") -> 9.8972973 | N34: =IFERROR(40.32/N30-1,"") -> 15.8 | O34: =IFERROR(40.32/O30-1,"")
I37: REUNION | J37: COURSE | K37: CHEVAL
I38: 2 | J38: 1 | K38: 1
I39: 2 | J39: 2 | K39: 2
I40: 2 | J40: 8 | K40: 4

Sheet METHODE 3
J20: REUNION | K20: COURSE | L20: VALEUR | M20: CHEVAL | N20: CHEVAL
J21: 1 | K21: 1 | L21: 45 | M21: 1 | O21: 0
J22: 1 | K22: 2 | L22: 46 | M22: 2 | O22: 0
J23: 1 | K23: 3 | L23: 43 | M23: 3 | O23: 1.5
J24: 1 | K24: 4
J25: 1 | K25: 5 | L25: 34.5 | M25: 1 | N25: 2
J26: 1 | K26: 6 | L26: 35 | M26: 9
J27: 1 | K27: 7 | L27: 36 | M27: 3
J28: 1 | K28: 8 | L28: 42 | M28: 1
J29: 1 | K29: 9
I31: N°PMU | J31: REUNION | K31: COURSE | L31: POIDS | M31: VALEUR | N31: TOTAL | O31: CHEVAL
I32: 1 | L32: =Feuil5!E2 -> 69 | M32: =Feuil5!J2 -> 62 | N32: =L32-M32 -> 7
I33: 2 | L33: =Feuil5!E3 -> 68 | M33: =Feuil5!J3 -> - | N33: =L33-M33 -> #VALUE!
I34: 3 | L34: =Feuil5!E4 -> 68 | M34: =Feuil5!J4 -> - | N34: =L34-M34 -> #VALUE!
I35: 4 | L35: =Feuil5!E5 -> 67 | M35: =Feuil5!J5 -> 59.5 | N35: =L35-M35 -> 7.5
I36: 5 | L36: =Feuil5!E6 -> 67 | M36: =Feuil5!J6 -> 60 | N36: =L36-M36 -> 7
I37: 6 | L37: =Feuil5!E7 -> 67 | M37: =Feuil5!J7 -> 59.5 | N37: =L37-M37 -> 7.5
I38: 7 | L38: =Feuil5!E8 -> 67 | M38: =Feuil5!J8 -> 58 | N38: =L38-M38 -> 9
I39: 8 | L39: =Feuil5!E9 -> 66 | M39: =Feuil5!J9 -> - | N39: =L39-M39 -> #VALUE!
I40: 9 | L40: =Feuil5!E10 -> 66 | M40: =Feuil5!J10 -> - | N40: =L40-M40 -> #VALUE!
I41: 10 | L41: =Feuil5!E11 -> 0 | M41: =Feuil5!J11 -> 0 | N41: =L41-M41 -> 0
I42: 11 | L42: =Feuil5!E12 -> 0 | M42: =Feuil5!J12 -> 0 | N42: =L42-M42 -> 0
I43: 12 | L43: =Feuil5!E13 -> 0 | M43: =Feuil5!J13 -> 0 | N43: =L43-M43 -> 0
... I50: 19 | L50: =Feuil5!E20 -> 0 | M50: =Feuil5!J20 -> 0 | N50: =L50-M50 -> 0

Sheet Feuil5
E1: poids | J1: valeur
B2: 1 | C2: Gardahia | D2: F3 | E2: 69 | F2: - | G2: P. Dubourg | H2: A. Chaillé-Chaillé | I2: 3h1h | J2: 62 | K2: 3.9 | L2: 4.6
B3: 2 | C3: Fleche Rouge | D3: F3 | E3: 68 | F3: 64 | G3: B. Berenguer | H3: D. Bressou | I3: 7h2h6p | J3: - | K3: 9.9 | L3: 9.4
B4: 3 | C4: Vale Quainthe | D4: F3 | E4: 68 | F4: - | G4: F. de Giles | H4: M. Seror | I4: 1h8p9p2p7p | J4: - | K4: 7 | L4: 7.7
B5: 4 | C5: La Bondue | D5: F3 | E5: 67 | F5: - | G5: C. Lefebvre | H5: G. Leenders | I5: 4h4h | J5: 59.5 | K5: 12 | L5: 7.4
B6: 5 | C6: All Gold | D6: F3 | E6: 67 | F6: - | G6: T. Chevillard | H6: F. Nicolle | I6: 6s1s3s5h1h | J6: 60 | K6: 9.9 | L6: 11.3
B7: 6 | C7: Gift of Fortune | D7: F3 | E7: 67 | F7: - | G7: G. Masure | H7: F. Nicolle | I7: 2h2h | J7: 59.5 | K7: 2.6 | L7: 2.6
B8: 7 | C8: Hell Dream | D8: F3 | E8: 67 | F8: - | G8: D. Mescam | H8: F.-M. Cottin | I8: Ah4h5h7h0h | J8: 58 | K8: 19 | L8: 27
B9: 8 | C9: Kadence d'Authie | D9: F3 | E9: 66 | F9: - | G9: A. Merienne | H9: Mme P. Butel/J.-L. Beaunez | I9: Th | J9: - | K9: 28 | L9: 53.3
B10: 9 | C10: Auréole | D10: F3 | E10: 66 | F10: 64 | G10: T. Stromboni | H10: Y. Fouin | I10: 3h | J10: - | K10: 23 | L10: 16.3
