Workbook

Sheet Base de donnée
F3: diamètre
A4: référence | B4: désignation | F4: 2.7 | G4: 3.9 | H4: 4.9 | I4: 5.9 | J4: 7 | K4: 8
A6: 7430199810 | B6: carottes | H6: x | K6: x
A8: 74301931 | B8: poireaux | H8: x | K8: x
A10: 7330048320 | B10: concombres | H10: x | K10: x
A12: 7330048310 | B12: tomates | K12: x
A14: 7330065310 | B14: voiture | G14: x | K14: x
A16: 7110002 | B16: bois | F16: x | J16: x
A18: 72300008 | B18: vélo | G18: x | I18: x | K18: x

Sheet essai1
A3: essai 1
H4: diamètre
A5: référence | B5: désignation | F5: quantité | H5: 2.7 | I5: 3.9 | J5: 4.9 | K5: 5.9 | L5: 7 | M5: 8
A6: 7430199810 | B6: =IF(ISNA(IF(VLOOKUP(A6,'Base de donnée'!A:K,2,FALSE)=0,"",VLOOKUP(A6,'Base de donnée'!A:K,2,FALSE)))=FALSE,IF(VLOOKUP(A6,'Base de donnée'!A:K,2,FALSE)=0,"",VLOOKUP(A6,'Base de donnée'!A:K,2,FALSE)),"") -> carottes | F6: 100 | H6: =IF(ISNA(IF(VLOOKUP(A6,'Base de donnée'!A:K,6,FALSE)=0,"",VLOOKUP(A6,'Base de donnée'!A:K,6,FALSE)))=FALSE,IF(VLOOKUP(A6,'Base de donnée'!A:K,6,FALSE)=0,"",VLOOKUP(A6,'Base de donnée'!A:K,6,FALSE)),"") | I6: =IF(ISNA(IF(VLOOKUP(A6,'Base de donnée'!A:K,7,FALSE)=0,"",VLOOKUP(A6,'Base de donnée'!A:K,7,FALSE)))=FALSE,IF(VLOOKUP(A6,'Base de donnée'!A:K,7,FALSE)=0,"",VLOOKUP(A6,'Base de donnée'!A:K,7,FALSE)),"") | J6: =IF(ISNA(IF(VLOOKUP(A6,'Base de donnée'!A:K,8,FALSE)=0,"",VLOOKUP(A6,'Base de donnée'!A:K,8,FALSE)))=FALSE,IF(VLOOKUP(A6,'Base de donnée'!A:K,8,FALSE)=0,"",VLOOKUP(A6,'Base de donnée'!A:K,8,FALSE)),"") -> x | K6: =IF(ISNA(IF(VLOOKUP(A6,'Base de donnée'!A:K,9,FALSE)=0,"",VLOOKUP(A6,'Base de donnée'!A:K,9,FALSE)))=FALSE,IF(VLOOKUP(A6,'Base de donnée'!A:K,9,FALSE)=0,"",VLOOKUP(A6,'Base de donnée'!A:K,9,FALSE)),"") | L6: =IF(ISNA(IF(VLOOKUP(A6,'Base de donnée'!A:K,10,FALSE)=0,"",VLOOKUP(A6,'Base de donnée'!A:K,10,FALSE)))=FALSE,IF(VLOOKUP(A6,'Base de donnée'!A:K,10,FALSE)=0,"",VLOOKUP(A6,'Base de donnée'!A:K,10,FALSE)),"") | M6: =IF(ISNA(IF(VLOOKUP(A6,'Base de donnée'!A:K,11,FALSE)=0,"",VLOOKUP(A6,'Base de donnée'!A:K,11,FALSE)))=FALSE,IF(VLOOKUP(A6,'Base de donnée'!A:K,11,FALSE)=0,"",VLOOKUP(A6,'Base de donnée'!A:K,11,FALSE)),"") -> x
A7: 74301931 | B7: =IF(ISNA(IF(VLOOKUP(A7,'Base de donnée'!A:K,2,FALSE)=0,"",VLOOKUP(A7,'Base de donnée'!A:K,2,FALSE)))=FALSE,IF(VLOOKUP(A7,'Base de donnée'!A:K,2,FALSE)=0,"",VLOOKUP(A7,'Base de donnée'!A:K,2,FALSE)),"") -> poireaux | H7: =IF(ISNA(IF(VLOOKUP(A7,'Base de donnée'!A:K,6,FALSE)=0,"",VLOOKUP(A7,'Base de donnée'!A:K,6,FALSE)))=FALSE,IF(VLOOKUP(A7,'Base de donnée'!A:K,6,FALSE)=0,"",VLOOKUP(A7,'Base de donnée'!A:K,6,FALSE)),"") | I7: =IF(ISNA(IF(VLOOKUP(A7,'Base de donnée'!A:K,7,FALSE)=0,"",VLOOKUP(A7,'Base de donnée'!A:K,7,FALSE)))=FALSE,IF(VLOOKUP(A7,'Base de donnée'!A:K,7,FALSE)=0,"",VLOOKUP(A7,'Base de donnée'!A:K,7,FALSE)),"") | J7: =IF(ISNA(IF(VLOOKUP(A7,'Base de donnée'!A:K,8,FALSE)=0,"",VLOOKUP(A7,'Base de donnée'!A:K,8,FALSE)))=FALSE,IF(VLOOKUP(A7,'Base de donnée'!A:K,8,FALSE)=0,"",VLOOKUP(A7,'Base de donnée'!A:K,8,FALSE)),"") -> x | K7: =IF(ISNA(IF(VLOOKUP(A7,'Base de donnée'!A:K,9,FALSE)=0,"",VLOOKUP(A7,'Base de donnée'!A:K,9,FALSE)))=FALSE,IF(VLOOKUP(A7,'Base de donnée'!A:K,9,FALSE)=0,"",VLOOKUP(A7,'Base de donnée'!A:K,9,FALSE)),"") | L7: =IF(ISNA(IF(VLOOKUP(A7,'Base de donnée'!A:K,10,FALSE)=0,"",VLOOKUP(A7,'Base de donnée'!A:K,10,FALSE)))=FALSE,IF(VLOOKUP(A7,'Base de donnée'!A:K,10,FALSE)=0,"",VLOOKUP(A7,'Base de donnée'!A:K,10,FALSE)),"") | M7: =IF(ISNA(IF(VLOOKUP(A7,'Base de donnée'!A:K,11,FALSE)=0,"",VLOOKUP(A7,'Base de donnée'!A:K,11,FALSE)))=FALSE,IF(VLOOKUP(A7,'Base de donnée'!A:K,11,FALSE)=0,"",VLOOKUP(A7,'Base de donnée'!A:K,11,FALSE)),"") -> x
A8: 7330048320 | B8: =IF(ISNA(IF(VLOOKUP(A8,'Base de donnée'!A:K,2,FALSE)=0,"",VLOOKUP(A8,'Base de donnée'!A:K,2,FALSE)))=FALSE,IF(VLOOKUP(A8,'Base de donnée'!A:K,2,FALSE)=0,"",VLOOKUP(A8,'Base de donnée'!A:K,2,FALSE)),"") -> concombres | H8: =IF(ISNA(IF(VLOOKUP(A8,'Base de donnée'!A:K,6,FALSE)=0,"",VLOOKUP(A8,'Base de donnée'!A:K,6,FALSE)))=FALSE,IF(VLOOKUP(A8,'Base de donnée'!A:K,6,FALSE)=0,"",VLOOKUP(A8,'Base de donnée'!A:K,6,FALSE)),"") | I8: =IF(ISNA(IF(VLOOKUP(A8,'Base de donnée'!A:K,7,FALSE)=0,"",VLOOKUP(A8,'Base de donnée'!A:K,7,FALSE)))=FALSE,IF(VLOOKUP(A8,'Base de donnée'!A:K,7,FALSE)=0,"",VLOOKUP(A8,'Base de donnée'!A:K,7,FALSE)),"") | J8: =IF(ISNA(IF(VLOOKUP(A8,'Base de donnée'!A:K,8,FALSE)=0,"",VLOOKUP(A8,'Base de donnée'!A:K,8,FALSE)))=FALSE,IF(VLOOKUP(A8,'Base de donnée'!A:K,8,FALSE)=0,"",VLOOKUP(A8,'Base de donnée'!A:K,8,FALSE)),"") -> x | K8: =IF(ISNA(IF(VLOOKUP(A8,'Base de donnée'!A:K,9,FALSE)=0,"",VLOOKUP(A8,'Base de donnée'!A:K,9,FALSE)))=FALSE,IF(VLOOKUP(A8,'Base de donnée'!A:K,9,FALSE)=0,"",VLOOKUP(A8,'Base de donnée'!A:K,9,FALSE)),"") | L8: =IF(ISNA(IF(VLOOKUP(A8,'Base de donnée'!A:K,10,FALSE)=0,"",VLOOKUP(A8,'Base de donnée'!A:K,10,FALSE)))=FALSE,IF(VLOOKUP(A8,'Base de donnée'!A:K,10,FALSE)=0,"",VLOOKUP(A8,'Base de donnée'!A:K,10,FALSE)),"") | M8: =IF(ISNA(IF(VLOOKUP(A8,'Base de donnée'!A:K,11,FALSE)=0,"",VLOOKUP(A8,'Base de donnée'!A:K,11,FALSE)))=FALSE,IF(VLOOKUP(A8,'Base de donnée'!A:K,11,FALSE)=0,"",VLOOKUP(A8,'Base de donnée'!A:K,11,FALSE)),"") -> x
A9: 7330048310 | B9: =IF(ISNA(IF(VLOOKUP(A9,'Base de donnée'!A:K,2,FALSE)=0,"",VLOOKUP(A9,'Base de donnée'!A:K,2,FALSE)))=FALSE,IF(VLOOKUP(A9,'Base de donnée'!A:K,2,FALSE)=0,"",VLOOKUP(A9,'Base de donnée'!A:K,2,FALSE)),"") -> tomates | H9: =IF(ISNA(IF(VLOOKUP(A9,'Base de donnée'!A:K,6,FALSE)=0,"",VLOOKUP(A9,'Base de donnée'!A:K,6,FALSE)))=FALSE,IF(VLOOKUP(A9,'Base de donnée'!A:K,6,FALSE)=0,"",VLOOKUP(A9,'Base de donnée'!A:K,6,FALSE)),"") | I9: =IF(ISNA(IF(VLOOKUP(A9,'Base de donnée'!A:K,7,FALSE)=0,"",VLOOKUP(A9,'Base de donnée'!A:K,7,FALSE)))=FALSE,IF(VLOOKUP(A9,'Base de donnée'!A:K,7,FALSE)=0,"",VLOOKUP(A9,'Base de donnée'!A:K,7,FALSE)),"") | J9: =IF(ISNA(IF(VLOOKUP(A9,'Base de donnée'!A:K,8,FALSE)=0,"",VLOOKUP(A9,'Base de donnée'!A:K,8,FALSE)))=FALSE,IF(VLOOKUP(A9,'Base de donnée'!A:K,8,FALSE)=0,"",VLOOKUP(A9,'Base de donnée'!A:K,8,FALSE)),"") | K9: =IF(ISNA(IF(VLOOKUP(A9,'Base de donnée'!A:K,9,FALSE)=0,"",VLOOKUP(A9,'Base de donnée'!A:K,9,FALSE)))=FALSE,IF(VLOOKUP(A9,'Base de donnée'!A:K,9,FALSE)=0,"",VLOOKUP(A9,'Base de donnée'!A:K,9,FALSE)),"") | L9: =IF(ISNA(IF(VLOOKUP(A9,'Base de donnée'!A:K,10,FALSE)=0,"",VLOOKUP(A9,'Base de donnée'!A:K,10,FALSE)))=FALSE,IF(VLOOKUP(A9,'Base de donnée'!A:K,10,FALSE)=0,"",VLOOKUP(A9,'Base de donnée'!A:K,10,FALSE)),"") | M9: =IF(ISNA(IF(VLOOKUP(A9,'Base de donnée'!A:K,11,FALSE)=0,"",VLOOKUP(A9,'Base de donnée'!A:K,11,FALSE)))=FALSE,IF(VLOOKUP(A9,'Base de donnée'!A:K,11,FALSE)=0,"",VLOOKUP(A9,'Base de donnée'!A:K,11,FALSE)),"") -> x
A10: 74301931 | B10: =IF(ISNA(IF(VLOOKUP(A10,'Base de donnée'!A:K,2,FALSE)=0,"",VLOOKUP(A10,'Base de donnée'!A:K,2,FALSE)))=FALSE,IF(VLOOKUP(A10,'Base de donnée'!A:K,2,FALSE)=0,"",VLOOKUP(A10,'Base de donnée'!A:K,2,FALSE)),"") -> poireaux | H10: =IF(ISNA(IF(VLOOKUP(A10,'Base de donnée'!A:K,6,FALSE)=0,"",VLOOKUP(A10,'Base de donnée'!A:K,6,FALSE)))=FALSE,IF(VLOOKUP(A10,'Base de donnée'!A:K,6,FALSE)=0,"",VLOOKUP(A10,'Base de donnée'!A:K,6,FALSE)),"") | I10: =IF(ISNA(IF(VLOOKUP(A10,'Base de donnée'!A:K,7,FALSE)=0,"",VLOOKUP(A10,'Base de donnée'!A:K,7,FALSE)))=FALSE,IF(VLOOKUP(A10,'Base de donnée'!A:K,7,FALSE)=0,"",VLOOKUP(A10,'Base de donnée'!A:K,7,FALSE)),"") | J10: =IF(ISNA(IF(VLOOKUP(A10,'Base de donnée'!A:K,8,FALSE)=0,"",VLOOKUP(A10,'Base de donnée'!A:K,8,FALSE)))=FALSE,IF(VLOOKUP(A10,'Base de donnée'!A:K,8,FALSE)=0,"",VLOOKUP(A10,'Base de donnée'!A:K,8,FALSE)),"") -> x | K10: =IF(ISNA(IF(VLOOKUP(A10,'Base de donnée'!A:K,9,FALSE)=0,"",VLOOKUP(A10,'Base de donnée'!A:K,9,FALSE)))=FALSE,IF(VLOOKUP(A10,'Base de donnée'!A:K,9,FALSE)=0,"",VLOOKUP(A10,'Base de donnée'!A:K,9,FALSE)),"") | L10: =IF(ISNA(IF(VLOOKUP(A10,'Base de donnée'!A:K,10,FALSE)=0,"",VLOOKUP(A10,'Base de donnée'!A:K,10,FALSE)))=FALSE,IF(VLOOKUP(A10,'Base de donnée'!A:K,10,FALSE)=0,"",VLOOKUP(A10,'Base de donnée'!A:K,10,FALSE)),"") | M10: =IF(ISNA(IF(VLOOKUP(A10,'Base de donnée'!A:K,11,FALSE)=0,"",VLOOKUP(A10,'Base de donnée'!A:K,11,FALSE)))=FALSE,IF(VLOOKUP(A10,'Base de donnée'!A:K,11,FALSE)=0,"",VLOOKUP(A10,'Base de donnée'!A:K,11,FALSE)),"") -> x
A11: 7330065310 | B11: =IF(ISNA(IF(VLOOKUP(A11,'Base de donnée'!A:K,2,FALSE)=0,"",VLOOKUP(A11,'Base de donnée'!A:K,2,FALSE)))=FALSE,IF(VLOOKUP(A11,'Base de donnée'!A:K,2,FALSE)=0,"",VLOOKUP(A11,'Base de donnée'!A:K,2,FALSE)),"") -> voiture | H11: =IF(ISNA(IF(VLOOKUP(A11,'Base de donnée'!A:K,6,FALSE)=0,"",VLOOKUP(A11,'Base de donnée'!A:K,6,FALSE)))=FALSE,IF(VLOOKUP(A11,'Base de donnée'!A:K,6,FALSE)=0,"",VLOOKUP(A11,'Base de donnée'!A:K,6,FALSE)),"") | I11: =IF(ISNA(IF(VLOOKUP(A11,'Base de donnée'!A:K,7,FALSE)=0,"",VLOOKUP(A11,'Base de donnée'!A:K,7,FALSE)))=FALSE,IF(VLOOKUP(A11,'Base de donnée'!A:K,7,FALSE)=0,"",VLOOKUP(A11,'Base de donnée'!A:K,7,FALSE)),"") -> x | J11: =IF(ISNA(IF(VLOOKUP(A11,'Base de donnée'!A:K,8,FALSE)=0,"",VLOOKUP(A11,'Base de donnée'!A:K,8,FALSE)))=FALSE,IF(VLOOKUP(A11,'Base de donnée'!A:K,8,FALSE)=0,"",VLOOKUP(A11,'Base de donnée'!A:K,8,FALSE)),"") | K11: =IF(ISNA(IF(VLOOKUP(A11,'Base de donnée'!A:K,9,FALSE)=0,"",VLOOKUP(A11,'Base de donnée'!A:K,9,FALSE)))=FALSE,IF(VLOOKUP(A11,'Base de donnée'!A:K,9,FALSE)=0,"",VLOOKUP(A11,'Base de donnée'!A:K,9,FALSE)),"") | L11: =IF(ISNA(IF(VLOOKUP(A11,'Base de donnée'!A:K,10,FALSE)=0,"",VLOOKUP(A11,'Base de donnée'!A:K,10,FALSE)))=FALSE,IF(VLOOKUP(A11,'Base de donnée'!A:K,10,FALSE)=0,"",VLOOKUP(A11,'Base de donnée'!A:K,10,FALSE)),"") | M11: =IF(ISNA(IF(VLOOKUP(A11,'Base de donnée'!A:K,11,FALSE)=0,"",VLOOKUP(A11,'Base de donnée'!A:K,11,FALSE)))=FALSE,IF(VLOOKUP(A11,'Base de donnée'!A:K,11,FALSE)=0,"",VLOOKUP(A11,'Base de donnée'!A:K,11,FALSE)),"") -> x
A12: 7110002 | B12: =IF(ISNA(IF(VLOOKUP(A12,'Base de donnée'!A:K,2,FALSE)=0,"",VLOOKUP(A12,'Base de donnée'!A:K,2,FALSE)))=FALSE,IF(VLOOKUP(A12,'Base de donnée'!A:K,2,FALSE)=0,"",VLOOKUP(A12,'Base de donnée'!A:K,2,FALSE)),"") -> bois | F12: 300 | H12: =IF(ISNA(IF(VLOOKUP(A12,'Base de donnée'!A:K,6,FALSE)=0,"",VLOOKUP(A12,'Base de donnée'!A:K,6,FALSE)))=FALSE,IF(VLOOKUP(A12,'Base de donnée'!A:K,6,FALSE)=0,"",VLOOKUP(A12,'Base de donnée'!A:K,6,FALSE)),"") -> x | I12: =IF(ISNA(IF(VLOOKUP(A12,'Base de donnée'!A:K,7,FALSE)=0,"",VLOOKUP(A12,'Base de donnée'!A:K,7,FALSE)))=FALSE,IF(VLOOKUP(A12,'Base de donnée'!A:K,7,FALSE)=0,"",VLOOKUP(A12,'Base de donnée'!A:K,7,FALSE)),"") | J12: =IF(ISNA(IF(VLOOKUP(A12,'Base de donnée'!A:K,8,FALSE)=0,"",VLOOKUP(A12,'Base de donnée'!A:K,8,FALSE)))=FALSE,IF(VLOOKUP(A12,'Base de donnée'!A:K,8,FALSE)=0,"",VLOOKUP(A12,'Base de donnée'!A:K,8,FALSE)),"") | K12: =IF(ISNA(IF(VLOOKUP(A12,'Base de donnée'!A:K,9,FALSE)=0,"",VLOOKUP(A12,'Base de donnée'!A:K,9,FALSE)))=FALSE,IF(VLOOKUP(A12,'Base de donnée'!A:K,9,FALSE)=0,"",VLOOKUP(A12,'Base de donnée'!A:K,9,FALSE)),"") | L12: =IF(ISNA(IF(VLOOKUP(A12,'Base de donnée'!A:K,10,FALSE)=0,"",VLOOKUP(A12,'Base de donnée'!A:K,10,FALSE)))=FALSE,IF(VLOOKUP(A12,'Base de donnée'!A:K,10,FALSE)=0,"",VLOOKUP(A12,'Base de donnée'!A:K,10,FALSE)),"") -> x | M12: =IF(ISNA(IF(VLOOKUP(A12,'Base de donnée'!A:K,11,FALSE)=0,"",VLOOKUP(A12,'Base de donnée'!A:K,11,FALSE)))=FALSE,IF(VLOOKUP(A12,'Base de donnée'!A:K,11,FALSE)=0,"",VLOOKUP(A12,'Base de donnée'!A:K,11,FALSE)),"")
A13: 72300008 | B13: =IF(ISNA(IF(VLOOKUP(A13,'Base de donnée'!A:K,2,FALSE)=0,"",VLOOKUP(A13,'Base de donnée'!A:K,2,FALSE)))=FALSE,IF(VLOOKUP(A13,'Base de donnée'!A:K,2,FALSE)=0,"",VLOOKUP(A13,'Base de donnée'!A:K,2,FALSE)),"") -> vélo | H13: =IF(ISNA(IF(VLOOKUP(A13,'Base de donnée'!A:K,6,FALSE)=0,"",VLOOKUP(A13,'Base de donnée'!A:K,6,FALSE)))=FALSE,IF(VLOOKUP(A13,'Base de donnée'!A:K,6,FALSE)=0,"",VLOOKUP(A13,'Base de donnée'!A:K,6,FALSE)),"") | I13: =IF(ISNA(IF(VLOOKUP(A13,'Base de donnée'!A:K,7,FALSE)=0,"",VLOOKUP(A13,'Base de donnée'!A:K,7,FALSE)))=FALSE,IF(VLOOKUP(A13,'Base de donnée'!A:K,7,FALSE)=0,"",VLOOKUP(A13,'Base de donnée'!A:K,7,FALSE)),"") -> x | J13: =IF(ISNA(IF(VLOOKUP(A13,'Base de donnée'!A:K,8,FALSE)=0,"",VLOOKUP(A13,'Base de donnée'!A:K,8,FALSE)))=FALSE,IF(VLOOKUP(A13,'Base de donnée'!A:K,8,FALSE)=0,"",VLOOKUP(A13,'Base de donnée'!A:K,8,FALSE)),"") | K13: =IF(ISNA(IF(VLOOKUP(A13,'Base de donnée'!A:K,9,FALSE)=0,"",VLOOKUP(A13,'Base de donnée'!A:K,9,FALSE)))=FALSE,IF(VLOOKUP(A13,'Base de donnée'!A:K,9,FALSE)=0,"",VLOOKUP(A13,'Base de donnée'!A:K,9,FALSE)),"") -> x | L13: =IF(ISNA(IF(VLOOKUP(A13,'Base de donnée'!A:K,10,FALSE)=0,"",VLOOKUP(A13,'Base de donnée'!A:K,10,FALSE)))=FALSE,IF(VLOOKUP(A13,'Base de donnée'!A:K,10,FALSE)=0,"",VLOOKUP(A13,'Base de donnée'!A:K,10,FALSE)),"") | M13: =IF(ISNA(IF(VLOOKUP(A13,'Base de donnée'!A:K,11,FALSE)=0,"",VLOOKUP(A13,'Base de donnée'!A:K,11,FALSE)))=FALSE,IF(VLOOKUP(A13,'Base de donnée'!A:K,11,FALSE)=0,"",VLOOKUP(A13,'Base de donnée'!A:K,11,FALSE)),"") -> x

Sheet essai2
A3: essai 2
H4: diamètre
A5: référence | B5: désignation | F5: quantité | H5: 2.7 | I5: 3.9 | J5: 4.9 | K5: 5.9 | L5: 7 | M5: 8
A6: 7430199810 | B6: =IF(ISNA(IF(VLOOKUP(A6,'Base de donnée'!A:K,2,FALSE)=0,"",VLOOKUP(A6,'Base de donnée'!A:K,2,FALSE)))=FALSE,IF(VLOOKUP(A6,'Base de donnée'!A:K,2,FALSE)=0,"",VLOOKUP(A6,'Base de donnée'!A:K,2,FALSE)),"") -> carottes | F6: 100 | H6: =IF(ISNA(IF(VLOOKUP(A6,'Base de donnée'!A:K,6,FALSE)=0,"",VLOOKUP(A6,'Base de donnée'!A:K,6,FALSE)))=FALSE,IF(VLOOKUP(A6,'Base de donnée'!A:K,6,FALSE)=0,"",VLOOKUP(A6,'Base de donnée'!A:K,6,FALSE)),"") | I6: =IF(ISNA(IF(VLOOKUP(A6,'Base de donnée'!A:K,7,FALSE)=0,"",VLOOKUP(A6,'Base de donnée'!A:K,7,FALSE)))=FALSE,IF(VLOOKUP(A6,'Base de donnée'!A:K,7,FALSE)=0,"",VLOOKUP(A6,'Base de donnée'!A:K,7,FALSE)),"") | J6: =IF(ISNA(IF(VLOOKUP(A6,'Base de donnée'!A:K,8,FALSE)=0,"",VLOOKUP(A6,'Base de donnée'!A:K,8,FALSE)))=FALSE,IF(VLOOKUP(A6,'Base de donnée'!A:K,8,FALSE)=0,"",VLOOKUP(A6,'Base de donnée'!A:K,8,FALSE)),"") -> x | K6: =IF(ISNA(IF(VLOOKUP(A6,'Base de donnée'!A:K,9,FALSE)=0,"",VLOOKUP(A6,'Base de donnée'!A:K,9,FALSE)))=FALSE,IF(VLOOKUP(A6,'Base de donnée'!A:K,9,FALSE)=0,"",VLOOKUP(A6,'Base de donnée'!A:K,9,FALSE)),"") | L6: =IF(ISNA(IF(VLOOKUP(A6,'Base de donnée'!A:K,10,FALSE)=0,"",VLOOKUP(A6,'Base de donnée'!A:K,10,FALSE)))=FALSE,IF(VLOOKUP(A6,'Base de donnée'!A:K,10,FALSE)=0,"",VLOOKUP(A6,'Base de donnée'!A:K,10,FALSE)),"") | M6: =IF(ISNA(IF(VLOOKUP(A6,'Base de donnée'!A:K,11,FALSE)=0,"",VLOOKUP(A6,'Base de donnée'!A:K,11,FALSE)))=FALSE,IF(VLOOKUP(A6,'Base de donnée'!A:K,11,FALSE)=0,"",VLOOKUP(A6,'Base de donnée'!A:K,11,FALSE)),"") -> x
A7: 74301931 | B7: =IF(ISNA(IF(VLOOKUP(A7,'Base de donnée'!A:K,2,FALSE)=0,"",VLOOKUP(A7,'Base de donnée'!A:K,2,FALSE)))=FALSE,IF(VLOOKUP(A7,'Base de donnée'!A:K,2,FALSE)=0,"",VLOOKUP(A7,'Base de donnée'!A:K,2,FALSE)),"") -> poireaux | H7: =IF(ISNA(IF(VLOOKUP(A7,'Base de donnée'!A:K,6,FALSE)=0,"",VLOOKUP(A7,'Base de donnée'!A:K,6,FALSE)))=FALSE,IF(VLOOKUP(A7,'Base de donnée'!A:K,6,FALSE)=0,"",VLOOKUP(A7,'Base de donnée'!A:K,6,FALSE)),"") | I7: =IF(ISNA(IF(VLOOKUP(A7,'Base de donnée'!A:K,7,FALSE)=0,"",VLOOKUP(A7,'Base de donnée'!A:K,7,FALSE)))=FALSE,IF(VLOOKUP(A7,'Base de donnée'!A:K,7,FALSE)=0,"",VLOOKUP(A7,'Base de donnée'!A:K,7,FALSE)),"") | J7: =IF(ISNA(IF(VLOOKUP(A7,'Base de donnée'!A:K,8,FALSE)=0,"",VLOOKUP(A7,'Base de donnée'!A:K,8,FALSE)))=FALSE,IF(VLOOKUP(A7,'Base de donnée'!A:K,8,FALSE)=0,"",VLOOKUP(A7,'Base de donnée'!A:K,8,FALSE)),"") -> x | K7: =IF(ISNA(IF(VLOOKUP(A7,'Base de donnée'!A:K,9,FALSE)=0,"",VLOOKUP(A7,'Base de donnée'!A:K,9,FALSE)))=FALSE,IF(VLOOKUP(A7,'Base de donnée'!A:K,9,FALSE)=0,"",VLOOKUP(A7,'Base de donnée'!A:K,9,FALSE)),"") | L7: =IF(ISNA(IF(VLOOKUP(A7,'Base de donnée'!A:K,10,FALSE)=0,"",VLOOKUP(A7,'Base de donnée'!A:K,10,FALSE)))=FALSE,IF(VLOOKUP(A7,'Base de donnée'!A:K,10,FALSE)=0,"",VLOOKUP(A7,'Base de donnée'!A:K,10,FALSE)),"") | M7: =IF(ISNA(IF(VLOOKUP(A7,'Base de donnée'!A:K,11,FALSE)=0,"",VLOOKUP(A7,'Base de donnée'!A:K,11,FALSE)))=FALSE,IF(VLOOKUP(A7,'Base de donnée'!A:K,11,FALSE)=0,"",VLOOKUP(A7,'Base de donnée'!A:K,11,FALSE)),"") -> x
A8: 7330048320 | B8: =IF(ISNA(IF(VLOOKUP(A8,'Base de donnée'!A:K,2,FALSE)=0,"",VLOOKUP(A8,'Base de donnée'!A:K,2,FALSE)))=FALSE,IF(VLOOKUP(A8,'Base de donnée'!A:K,2,FALSE)=0,"",VLOOKUP(A8,'Base de donnée'!A:K,2,FALSE)),"") -> concombres | H8: =IF(ISNA(IF(VLOOKUP(A8,'Base de donnée'!A:K,6,FALSE)=0,"",VLOOKUP(A8,'Base de donnée'!A:K,6,FALSE)))=FALSE,IF(VLOOKUP(A8,'Base de donnée'!A:K,6,FALSE)=0,"",VLOOKUP(A8,'Base de donnée'!A:K,6,FALSE)),"") | I8: =IF(ISNA(IF(VLOOKUP(A8,'Base de donnée'!A:K,7,FALSE)=0,"",VLOOKUP(A8,'Base de donnée'!A:K,7,FALSE)))=FALSE,IF(VLOOKUP(A8,'Base de donnée'!A:K,7,FALSE)=0,"",VLOOKUP(A8,'Base de donnée'!A:K,7,FALSE)),"") | J8: =IF(ISNA(IF(VLOOKUP(A8,'Base de donnée'!A:K,8,FALSE)=0,"",VLOOKUP(A8,'Base de donnée'!A:K,8,FALSE)))=FALSE,IF(VLOOKUP(A8,'Base de donnée'!A:K,8,FALSE)=0,"",VLOOKUP(A8,'Base de donnée'!A:K,8,FALSE)),"") -> x | K8: =IF(ISNA(IF(VLOOKUP(A8,'Base de donnée'!A:K,9,FALSE)=0,"",VLOOKUP(A8,'Base de donnée'!A:K,9,FALSE)))=FALSE,IF(VLOOKUP(A8,'Base de donnée'!A:K,9,FALSE)=0,"",VLOOKUP(A8,'Base de donnée'!A:K,9,FALSE)),"") | L8: =IF(ISNA(IF(VLOOKUP(A8,'Base de donnée'!A:K,10,FALSE)=0,"",VLOOKUP(A8,'Base de donnée'!A:K,10,FALSE)))=FALSE,IF(VLOOKUP(A8,'Base de donnée'!A:K,10,FALSE)=0,"",VLOOKUP(A8,'Base de donnée'!A:K,10,FALSE)),"") | M8: =IF(ISNA(IF(VLOOKUP(A8,'Base de donnée'!A:K,11,FALSE)=0,"",VLOOKUP(A8,'Base de donnée'!A:K,11,FALSE)))=FALSE,IF(VLOOKUP(A8,'Base de donnée'!A:K,11,FALSE)=0,"",VLOOKUP(A8,'Base de donnée'!A:K,11,FALSE)),"") -> x
A9: 7330048310 | B9: =IF(ISNA(IF(VLOOKUP(A9,'Base de donnée'!A:K,2,FALSE)=0,"",VLOOKUP(A9,'Base de donnée'!A:K,2,FALSE)))=FALSE,IF(VLOOKUP(A9,'Base de donnée'!A:K,2,FALSE)=0,"",VLOOKUP(A9,'Base de donnée'!A:K,2,FALSE)),"") -> tomates | H9: =IF(ISNA(IF(VLOOKUP(A9,'Base de donnée'!A:K,6,FALSE)=0,"",VLOOKUP(A9,'Base de donnée'!A:K,6,FALSE)))=FALSE,IF(VLOOKUP(A9,'Base de donnée'!A:K,6,FALSE)=0,"",VLOOKUP(A9,'Base de donnée'!A:K,6,FALSE)),"") | I9: =IF(ISNA(IF(VLOOKUP(A9,'Base de donnée'!A:K,7,FALSE)=0,"",VLOOKUP(A9,'Base de donnée'!A:K,7,FALSE)))=FALSE,IF(VLOOKUP(A9,'Base de donnée'!A:K,7,FALSE)=0,"",VLOOKUP(A9,'Base de donnée'!A:K,7,FALSE)),"") | J9: =IF(ISNA(IF(VLOOKUP(A9,'Base de donnée'!A:K,8,FALSE)=0,"",VLOOKUP(A9,'Base de donnée'!A:K,8,FALSE)))=FALSE,IF(VLOOKUP(A9,'Base de donnée'!A:K,8,FALSE)=0,"",VLOOKUP(A9,'Base de donnée'!A:K,8,FALSE)),"") | K9: =IF(ISNA(IF(VLOOKUP(A9,'Base de donnée'!A:K,9,FALSE)=0,"",VLOOKUP(A9,'Base de donnée'!A:K,9,FALSE)))=FALSE,IF(VLOOKUP(A9,'Base de donnée'!A:K,9,FALSE)=0,"",VLOOKUP(A9,'Base de donnée'!A:K,9,FALSE)),"") | L9: =IF(ISNA(IF(VLOOKUP(A9,'Base de donnée'!A:K,10,FALSE)=0,"",VLOOKUP(A9,'Base de donnée'!A:K,10,FALSE)))=FALSE,IF(VLOOKUP(A9,'Base de donnée'!A:K,10,FALSE)=0,"",VLOOKUP(A9,'Base de donnée'!A:K,10,FALSE)),"") | M9: =IF(ISNA(IF(VLOOKUP(A9,'Base de donnée'!A:K,11,FALSE)=0,"",VLOOKUP(A9,'Base de donnée'!A:K,11,FALSE)))=FALSE,IF(VLOOKUP(A9,'Base de donnée'!A:K,11,FALSE)=0,"",VLOOKUP(A9,'Base de donnée'!A:K,11,FALSE)),"") -> x
A10: 74301931 | B10: =IF(ISNA(IF(VLOOKUP(A10,'Base de donnée'!A:K,2,FALSE)=0,"",VLOOKUP(A10,'Base de donnée'!A:K,2,FALSE)))=FALSE,IF(VLOOKUP(A10,'Base de donnée'!A:K,2,FALSE)=0,"",VLOOKUP(A10,'Base de donnée'!A:K,2,FALSE)),"") -> poireaux | H10: =IF(ISNA(IF(VLOOKUP(A10,'Base de donnée'!A:K,6,FALSE)=0,"",VLOOKUP(A10,'Base de donnée'!A:K,6,FALSE)))=FALSE,IF(VLOOKUP(A10,'Base de donnée'!A:K,6,FALSE)=0,"",VLOOKUP(A10,'Base de donnée'!A:K,6,FALSE)),"") | I10: =IF(ISNA(IF(VLOOKUP(A10,'Base de donnée'!A:K,7,FALSE)=0,"",VLOOKUP(A10,'Base de donnée'!A:K,7,FALSE)))=FALSE,IF(VLOOKUP(A10,'Base de donnée'!A:K,7,FALSE)=0,"",VLOOKUP(A10,'Base de donnée'!A:K,7,FALSE)),"") | J10: =IF(ISNA(IF(VLOOKUP(A10,'Base de donnée'!A:K,8,FALSE)=0,"",VLOOKUP(A10,'Base de donnée'!A:K,8,FALSE)))=FALSE,IF(VLOOKUP(A10,'Base de donnée'!A:K,8,FALSE)=0,"",VLOOKUP(A10,'Base de donnée'!A:K,8,FALSE)),"") -> x | K10: =IF(ISNA(IF(VLOOKUP(A10,'Base de donnée'!A:K,9,FALSE)=0,"",VLOOKUP(A10,'Base de donnée'!A:K,9,FALSE)))=FALSE,IF(VLOOKUP(A10,'Base de donnée'!A:K,9,FALSE)=0,"",VLOOKUP(A10,'Base de donnée'!A:K,9,FALSE)),"") | L10: =IF(ISNA(IF(VLOOKUP(A10,'Base de donnée'!A:K,10,FALSE)=0,"",VLOOKUP(A10,'Base de donnée'!A:K,10,FALSE)))=FALSE,IF(VLOOKUP(A10,'Base de donnée'!A:K,10,FALSE)=0,"",VLOOKUP(A10,'Base de donnée'!A:K,10,FALSE)),"") | M10: =IF(ISNA(IF(VLOOKUP(A10,'Base de donnée'!A:K,11,FALSE)=0,"",VLOOKUP(A10,'Base de donnée'!A:K,11,FALSE)))=FALSE,IF(VLOOKUP(A10,'Base de donnée'!A:K,11,FALSE)=0,"",VLOOKUP(A10,'Base de donnée'!A:K,11,FALSE)),"") -> x
A11: 7330065310 | B11: =IF(ISNA(IF(VLOOKUP(A11,'Base de donnée'!A:K,2,FALSE)=0,"",VLOOKUP(A11,'Base de donnée'!A:K,2,FALSE)))=FALSE,IF(VLOOKUP(A11,'Base de donnée'!A:K,2,FALSE)=0,"",VLOOKUP(A11,'Base de donnée'!A:K,2,FALSE)),"") -> voiture | H11: =IF(ISNA(IF(VLOOKUP(A11,'Base de donnée'!A:K,6,FALSE)=0,"",VLOOKUP(A11,'Base de donnée'!A:K,6,FALSE)))=FALSE,IF(VLOOKUP(A11,'Base de donnée'!A:K,6,FALSE)=0,"",VLOOKUP(A11,'Base de donnée'!A:K,6,FALSE)),"") | I11: =IF(ISNA(IF(VLOOKUP(A11,'Base de donnée'!A:K,7,FALSE)=0,"",VLOOKUP(A11,'Base de donnée'!A:K,7,FALSE)))=FALSE,IF(VLOOKUP(A11,'Base de donnée'!A:K,7,FALSE)=0,"",VLOOKUP(A11,'Base de donnée'!A:K,7,FALSE)),"") -> x | J11: =IF(ISNA(IF(VLOOKUP(A11,'Base de donnée'!A:K,8,FALSE)=0,"",VLOOKUP(A11,'Base de donnée'!A:K,8,FALSE)))=FALSE,IF(VLOOKUP(A11,'Base de donnée'!A:K,8,FALSE)=0,"",VLOOKUP(A11,'Base de donnée'!A:K,8,FALSE)),"") | K11: =IF(ISNA(IF(VLOOKUP(A11,'Base de donnée'!A:K,9,FALSE)=0,"",VLOOKUP(A11,'Base de donnée'!A:K,9,FALSE)))=FALSE,IF(VLOOKUP(A11,'Base de donnée'!A:K,9,FALSE)=0,"",VLOOKUP(A11,'Base de donnée'!A:K,9,FALSE)),"") | L11: =IF(ISNA(IF(VLOOKUP(A11,'Base de donnée'!A:K,10,FALSE)=0,"",VLOOKUP(A11,'Base de donnée'!A:K,10,FALSE)))=FALSE,IF(VLOOKUP(A11,'Base de donnée'!A:K,10,FALSE)=0,"",VLOOKUP(A11,'Base de donnée'!A:K,10,FALSE)),"") | M11: =IF(ISNA(IF(VLOOKUP(A11,'Base de donnée'!A:K,11,FALSE)=0,"",VLOOKUP(A11,'Base de donnée'!A:K,11,FALSE)))=FALSE,IF(VLOOKUP(A11,'Base de donnée'!A:K,11,FALSE)=0,"",VLOOKUP(A11,'Base de donnée'!A:K,11,FALSE)),"") -> x
A12: 7110002 | B12: =IF(ISNA(IF(VLOOKUP(A12,'Base de donnée'!A:K,2,FALSE)=0,"",VLOOKUP(A12,'Base de donnée'!A:K,2,FALSE)))=FALSE,IF(VLOOKUP(A12,'Base de donnée'!A:K,2,FALSE)=0,"",VLOOKUP(A12,'Base de donnée'!A:K,2,FALSE)),"") -> bois | F12: 300 | H12: =IF(ISNA(IF(VLOOKUP(A12,'Base de donnée'!A:K,6,FALSE)=0,"",VLOOKUP(A12,'Base de donnée'!A:K,6,FALSE)))=FALSE,IF(VLOOKUP(A12,'Base de donnée'!A:K,6,FALSE)=0,"",VLOOKUP(A12,'Base de donnée'!A:K,6,FALSE)),"") -> x | I12: =IF(ISNA(IF(VLOOKUP(A12,'Base de donnée'!A:K,7,FALSE)=0,"",VLOOKUP(A12,'Base de donnée'!A:K,7,FALSE)))=FALSE,IF(VLOOKUP(A12,'Base de donnée'!A:K,7,FALSE)=0,"",VLOOKUP(A12,'Base de donnée'!A:K,7,FALSE)),"") | J12: =IF(ISNA(IF(VLOOKUP(A12,'Base de donnée'!A:K,8,FALSE)=0,"",VLOOKUP(A12,'Base de donnée'!A:K,8,FALSE)))=FALSE,IF(VLOOKUP(A12,'Base de donnée'!A:K,8,FALSE)=0,"",VLOOKUP(A12,'Base de donnée'!A:K,8,FALSE)),"") | K12: =IF(ISNA(IF(VLOOKUP(A12,'Base de donnée'!A:K,9,FALSE)=0,"",VLOOKUP(A12,'Base de donnée'!A:K,9,FALSE)))=FALSE,IF(VLOOKUP(A12,'Base de donnée'!A:K,9,FALSE)=0,"",VLOOKUP(A12,'Base de donnée'!A:K,9,FALSE)),"") | L12: =IF(ISNA(IF(VLOOKUP(A12,'Base de donnée'!A:K,10,FALSE)=0,"",VLOOKUP(A12,'Base de donnée'!A:K,10,FALSE)))=FALSE,IF(VLOOKUP(A12,'Base de donnée'!A:K,10,FALSE)=0,"",VLOOKUP(A12,'Base de donnée'!A:K,10,FALSE)),"") -> x | M12: =IF(ISNA(IF(VLOOKUP(A12,'Base de donnée'!A:K,11,FALSE)=0,"",VLOOKUP(A12,'Base de donnée'!A:K,11,FALSE)))=FALSE,IF(VLOOKUP(A12,'Base de donnée'!A:K,11,FALSE)=0,"",VLOOKUP(A12,'Base de donnée'!A:K,11,FALSE)),"")
A13: 72300008 | B13: =IF(ISNA(IF(VLOOKUP(A13,'Base de donnée'!A:K,2,FALSE)=0,"",VLOOKUP(A13,'Base de donnée'!A:K,2,FALSE)))=FALSE,IF(VLOOKUP(A13,'Base de donnée'!A:K,2,FALSE)=0,"",VLOOKUP(A13,'Base de donnée'!A:K,2,FALSE)),"") -> vélo | H13: =IF(ISNA(IF(VLOOKUP(A13,'Base de donnée'!A:K,6,FALSE)=0,"",VLOOKUP(A13,'Base de donnée'!A:K,6,FALSE)))=FALSE,IF(VLOOKUP(A13,'Base de donnée'!A:K,6,FALSE)=0,"",VLOOKUP(A13,'Base de donnée'!A:K,6,FALSE)),"") | I13: =IF(ISNA(IF(VLOOKUP(A13,'Base de donnée'!A:K,7,FALSE)=0,"",VLOOKUP(A13,'Base de donnée'!A:K,7,FALSE)))=FALSE,IF(VLOOKUP(A13,'Base de donnée'!A:K,7,FALSE)=0,"",VLOOKUP(A13,'Base de donnée'!A:K,7,FALSE)),"") -> x | J13: =IF(ISNA(IF(VLOOKUP(A13,'Base de donnée'!A:K,8,FALSE)=0,"",VLOOKUP(A13,'Base de donnée'!A:K,8,FALSE)))=FALSE,IF(VLOOKUP(A13,'Base de donnée'!A:K,8,FALSE)=0,"",VLOOKUP(A13,'Base de donnée'!A:K,8,FALSE)),"") | K13: =IF(ISNA(IF(VLOOKUP(A13,'Base de donnée'!A:K,9,FALSE)=0,"",VLOOKUP(A13,'Base de donnée'!A:K,9,FALSE)))=FALSE,IF(VLOOKUP(A13,'Base de donnée'!A:K,9,FALSE)=0,"",VLOOKUP(A13,'Base de donnée'!A:K,9,FALSE)),"") -> x | L13: =IF(ISNA(IF(VLOOKUP(A13,'Base de donnée'!A:K,10,FALSE)=0,"",VLOOKUP(A13,'Base de donnée'!A:K,10,FALSE)))=FALSE,IF(VLOOKUP(A13,'Base de donnée'!A:K,10,FALSE)=0,"",VLOOKUP(A13,'Base de donnée'!A:K,10,FALSE)),"") | M13: =IF(ISNA(IF(VLOOKUP(A13,'Base de donnée'!A:K,11,FALSE)=0,"",VLOOKUP(A13,'Base de donnée'!A:K,11,FALSE)))=FALSE,IF(VLOOKUP(A13,'Base de donnée'!A:K,11,FALSE)=0,"",VLOOKUP(A13,'Base de donnée'!A:K,11,FALSE)),"") -> x

Sheet planning
A4: essai 1
A5: référence | B5: désignation | F5: quantité
A6: 7430199810 | B6: =IF(ISNA(IF(VLOOKUP(A6,'Base de donnée'!A:K,2,FALSE)=0,"",VLOOKUP(A6,'Base de donnée'!A:K,2,FALSE)))=FALSE,IF(VLOOKUP(A6,'Base de donnée'!A:K,2,FALSE)=0,"",VLOOKUP(A6,'Base de donnée'!A:K,2,FALSE)),"") -> carottes | F6: 100
A7: 74301931 | B7: =IF(ISNA(IF(VLOOKUP(A7,'Base de donnée'!A:K,2,FALSE)=0,"",VLOOKUP(A7,'Base de donnée'!A:K,2,FALSE)))=FALSE,IF(VLOOKUP(A7,'Base de donnée'!A:K,2,FALSE)=0,"",VLOOKUP(A7,'Base de donnée'!A:K,2,FALSE)),"") -> poireaux
A8: 7330048320 | B8: =IF(ISNA(IF(VLOOKUP(A8,'Base de donnée'!A:K,2,FALSE)=0,"",VLOOKUP(A8,'Base de donnée'!A:K,2,FALSE)))=FALSE,IF(VLOOKUP(A8,'Base de donnée'!A:K,2,FALSE)=0,"",VLOOKUP(A8,'Base de donnée'!A:K,2,FALSE)),"") -> concombres
A9: 7330048310 | B9: =IF(ISNA(IF(VLOOKUP(A9,'Base de donnée'!A:K,2,FALSE)=0,"",VLOOKUP(A9,'Base de donnée'!A:K,2,FALSE)))=FALSE,IF(VLOOKUP(A9,'Base de donnée'!A:K,2,FALSE)=0,"",VLOOKUP(A9,'Base de donnée'!A:K,2,FALSE)),"") -> tomates
A10: 74301931 | B10: =IF(ISNA(IF(VLOOKUP(A10,'Base de donnée'!A:K,2,FALSE)=0,"",VLOOKUP(A10,'Base de donnée'!A:K,2,FALSE)))=FALSE,IF(VLOOKUP(A10,'Base de donnée'!A:K,2,FALSE)=0,"",VLOOKUP(A10,'Base de donnée'!A:K,2,FALSE)),"") -> poireaux
A11: 7330065310 | B11: =IF(ISNA(IF(VLOOKUP(A11,'Base de donnée'!A:K,2,FALSE)=0,"",VLOOKUP(A11,'Base de donnée'!A:K,2,FALSE)))=FALSE,IF(VLOOKUP(A11,'Base de donnée'!A:K,2,FALSE)=0,"",VLOOKUP(A11,'Base de donnée'!A:K,2,FALSE)),"") -> voiture
A12: 7110002 | B12: =IF(ISNA(IF(VLOOKUP(A12,'Base de donnée'!A:K,2,FALSE)=0,"",VLOOKUP(A12,'Base de donnée'!A:K,2,FALSE)))=FALSE,IF(VLOOKUP(A12,'Base de donnée'!A:K,2,FALSE)=0,"",VLOOKUP(A12,'Base de donnée'!A:K,2,FALSE)),"") -> bois | F12: 300
A13: 72300008 | B13: =IF(ISNA(IF(VLOOKUP(A13,'Base de donnée'!A:K,2,FALSE)=0,"",VLOOKUP(A13,'Base de donnée'!A:K,2,FALSE)))=FALSE,IF(VLOOKUP(A13,'Base de donnée'!A:K,2,FALSE)=0,"",VLOOKUP(A13,'Base de donnée'!A:K,2,FALSE)),"") -> vélo
A15: essai 2
A16: référence | B16: désignation | F16: quantité
A17: 74301931 | B17: =IF(ISNA(IF(VLOOKUP(A17,'Base de donnée'!A:K,2,FALSE)=0,"",VLOOKUP(A17,'Base de donnée'!A:K,2,FALSE)))=FALSE,IF(VLOOKUP(A17,'Base de donnée'!A:K,2,FALSE)=0,"",VLOOKUP(A17,'Base de donnée'!A:K,2,FALSE)),"") -> poireaux | F17: 100
A18: 7330065310 | B18: =IF(ISNA(IF(VLOOKUP(A18,'Base de donnée'!A:K,2,FALSE)=0,"",VLOOKUP(A18,'Base de donnée'!A:K,2,FALSE)))=FALSE,IF(VLOOKUP(A18,'Base de donnée'!A:K,2,FALSE)=0,"",VLOOKUP(A18,'Base de donnée'!A:K,2,FALSE)),"") -> voiture
A19: 7330048320 | B19: =IF(ISNA(IF(VLOOKUP(A19,'Base de donnée'!A:K,2,FALSE)=0,"",VLOOKUP(A19,'Base de donnée'!A:K,2,FALSE)))=FALSE,IF(VLOOKUP(A19,'Base de donnée'!A:K,2,FALSE)=0,"",VLOOKUP(A19,'Base de donnée'!A:K,2,FALSE)),"") -> concombres
A20: 72300008 | B20: =IF(ISNA(IF(VLOOKUP(A20,'Base de donnée'!A:K,2,FALSE)=0,"",VLOOKUP(A20,'Base de donnée'!A:K,2,FALSE)))=FALSE,IF(VLOOKUP(A20,'Base de donnée'!A:K,2,FALSE)=0,"",VLOOKUP(A20,'Base de donnée'!A:K,2,FALSE)),"") -> vélo
A21: 74301931 | B21: =IF(ISNA(IF(VLOOKUP(A21,'Base de donnée'!A:K,2,FALSE)=0,"",VLOOKUP(A21,'Base de donnée'!A:K,2,FALSE)))=FALSE,IF(VLOOKUP(A21,'Base de donnée'!A:K,2,FALSE)=0,"",VLOOKUP(A21,'Base de donnée'!A:K,2,FALSE)),"") -> poireaux
A22: 7330065310 | B22: =IF(ISNA(IF(VLOOKUP(A22,'Base de donnée'!A:K,2,FALSE)=0,"",VLOOKUP(A22,'Base de donnée'!A:K,2,FALSE)))=FALSE,IF(VLOOKUP(A22,'Base de donnée'!A:K,2,FALSE)=0,"",VLOOKUP(A22,'Base de donnée'!A:K,2,FALSE)),"") -> voiture
A23: 7110002 | B23: =IF(ISNA(IF(VLOOKUP(A23,'Base de donnée'!A:K,2,FALSE)=0,"",VLOOKUP(A23,'Base de donnée'!A:K,2,FALSE)))=FALSE,IF(VLOOKUP(A23,'Base de donnée'!A:K,2,FALSE)=0,"",VLOOKUP(A23,'Base de donnée'!A:K,2,FALSE)),"") -> bois | F23: 300
A24: 72300008 | B24: =IF(ISNA(IF(VLOOKUP(A24,'Base de donnée'!A:K,2,FALSE)=0,"",VLOOKUP(A24,'Base de donnée'!A:K,2,FALSE)))=FALSE,IF(VLOOKUP(A24,'Base de donnée'!A:K,2,FALSE)=0,"",VLOOKUP(A24,'Base de donnée'!A:K,2,FALSE)),"") -> vélo
